{"text_format":"1","workbook":"xlsx","n_sheets":11,"sheets":["Cover Sheet","Ticker List","Performance","Company Backtest","Years","Weekly Metrics","Weekly Metrics YoY","Glossary","Weekly Sales Data","Performance Validation","Validation"],"not_rendered":{"charts":0,"images":1,"macros":1,"external_links":0,"defined_names":21,"comments":0,"pivot_tables":0},"unopened":[],"bounds":{"document_bytes":16777216,"sheet_cells":100000,"rows_first":2000,"rows_last":500,"rows_between":2000,"halvings":0,"cell_chars":16384,"cell_head_chars":4096},"cells_cut":0,"cells_raw":0,"read":"whole","date_system":"1900"}

{"sheet":"Cover Sheet","index":0,"n_rows":37,"n_cols":3,"rows_kept":37,"cut":false,"hidden":false,"merged":[]}
[]
[]
[]
[]
[]
[]
[]
[null,"Version 2.0.11"]
[]
[null,"Please direct all questions to:"]
[null,"data@earnestresearch.com"]
[]
[null,"Ticker List"]
[null,null,"The Ticker List tab includes all public equities available. Reference this sheet for the ticker name and companies under coverage. Refresh for the latest."]
[]
[null,"Performance"]
[null,null,"The Performance tab allows you to configure a watchlist. This data is the same data that appears in our web platform, Earnest Dash, which includes quarterly estimates from our analysts."]
[null,null,"To add companies, select a ticker and method in Column A and B. Then click the refresh button at the top of the page. You can type in the name of the ticker rather than using the dropdown menu."]
[null,null,"Methods: we have four methods: agg_yoy (Aggregate), cs_yoy (Consistent Shopper), index_yoy (Blended Index) and subs_yoy (Consistent Subscriber). We recommend using agg_yoy for most companies and subs_yoy for subscription-based companies."]
[]
[null,"Company Backtest"]
[null,null,"The Company Backtest tab allows you to observe unadjusted historical and current data for a single company in a backtest format."]
[null,null,"To update the data, change the ticker in B12 and select the appropriate normalization method in B13. Then click the refresh button."]
[null,null,"We highly recommend using the data in the Performance tab for our current quarter estimates."]
[null,null,"Methods: we have three methods: Consistent Shopper, Blended Index, and Consistent Subscriber. Note the Aggregate Method is not available for historical data and is therefore not included in this data."]
[]
[null,"Weekly Metrics"]
[null,null,"The Weekly Metrics tab allows you to observe weekly data across a variety of metrics using the Consistent Shopper/Subscriber methods."]
[null,null,"To add companies, select a ticker and metric in columns A and B. Then click the refresh button at the top of the page. Note the Weekly Metrics YoY tab will update automatically based on your selections. "]
[]
[null,"Weekly Metrics YoY"]
[null,null,"The Weekly Metrics YoY tab displays data on a YoY basis based on your selections in the Weekly Metrics tab. "]
[]
[null,"Troubleshooting"]
[null,null,"If the query or connection hangs when you refresh the data, hit escape and restart your workbook."]
[null,null,"Do not insert rows or columns in the middle of the tables. It will break the queries."]
[null,null,"Do not build graphs or charts in the tabs as the script will clear formatting. Instead, use a new sheet or workbook."]

{"sheet":"Ticker List","index":1,"n_rows":218,"n_cols":3,"rows_kept":218,"cut":false,"hidden":false,"merged":[]}
["Last Refresh"]
["2023-05-04T13:55:48"]
[]
[]
["Ticker","Company Name","Reported Metrics"]
["AAP","Advance Auto Parts (AAP)","Sales ($MM)"]
["ACI","Albertsons (ACI)","Net Sales and Other Revenue ($MM)"]
["ADRNY","Ahold Delhaize (ADRNY)","US Net Sales ($MM)"]
["ADT","ADT (ADT)","Total Residential Customer Relationships (000s)"]
["AEO","American Eagle (AEO)","American Eagle + Aerie Revenue ($MM)"]
["ALL-AS","The Allstate Corporation: Allstate Brand (ALL-AS)","Allstate Brand Auto Premiums Written ($MM)"]
["AMC","AMC Entertainment (AMC)","Revenue from US Admissions, Food & Beverage"]
["AMZN","Amazon (AMZN)","North American Net Sales ($MM)"]
["AMZN-Ex WFM","Amazon (AMZN-Ex WFM)","North American Net Sales (excl. Physical Stores) ($MM)"]
["AMZN-Ex WFM-FP","Amazon (AMZN-Ex WFM-FP): First Party"]
["AMZN-FP","Amazon (AMZN-FP): First Party"]
["AMZN-TP","Amazon (AMZN-TP): Third Party"]
["ANF","Abercrombie & Fitch (ANF)","US Net Sales ($MM)"]
["APRN","Blue Apron (APRN)","Net Revenue  ($MM)"]
["ASO","Academy Sports & Outdoors (ASO)","Net Sales ($MM)"]
["ATUS-All","Altice USA (ATUS-All)","Altice USA Residential Customer Relationships (000s)"]
["AZO","AutoZone (AZO)","Total Auto Parts Sales excl. Domestic Commercial ($MM)"]
["BBBY","Bed Bath & Beyond (BBBY)","Net Sales ($MM)"]
["BBW","Build-A-Bear Workshop (BBW)","Net Retail Sales ($MM)"]
["BBWI","Bath & Body Works, Inc. (BBWI)","B&BW Store Sales + B&BW Direct Sales ($MM)"]
["BBY","Best Buy (BBY)","Domestic Net Sales ($MM)"]
["BGFV","Big 5 Sporting Goods (BGFV)","Net Sales ($MM)"]
["BIG","Big Lots (BIG)","Net Sales ($MM)"]
["BJ","BJ's Wholesale (BJ)","Total Revenue ($MM)"]
["BJRI","BJ's Restaurants (BJRI)","Net Sales ($MM)"]
["BKE","The Buckle (BKE)","Net Sales ($MM)"]
["BLMN-O","Bloomin' Brands: Outback (BLMN-O)","U.S. Outback Steakhouse Systemwide Sales ($MM)"]
["BOJA","Bojangles' (BOJA)","Systemwide Comparable Restaurant Sales"]
["BOOT","Boot Barn (BOOT)","Net Sales ($MM)"]
["BRK-GEICO","Berkshire Hathaway: GEICO (BRK-GEICO)","Premiums Written ($MM)"]
["BURL","Burlington Stores (BURL)","Net Sales (excl. Other Rev) ($MM)"]
["CAKE","Cheesecake Factory (CAKE)","Cheesecake Factory Restaurant Sales ($MM)"]
["CAL-FF","Caleres: Famous Footwear (CAL-FF)","Famous Footwear External Sales ($MM)"]
["CASY","Casey's General Store (CASY)","Total Revenue ($MM)"]
["CATO","Cato (CATO)","Retail Sales ($MM)"]
["CBRL","Cracker Barrel (CBRL)","Total Revenue ($MM)"]
["CHS","Chico's (CHS)","Total Net Sales ($MM)"]
["CHTR-All","Charter (CHTR-All)","Total Residential Customer Relationships (000s)"]
["CHUY","Chuy's (CHUY)","Total Revenue ($MM)"]
["CHWY","Chewy (CHWY)","Net Sales ($MM)"]
["CLUB","Town Sports International (CLUB)","EOP Members (000s)"]
["CMCSA","Comcast (CMCSA)","Residential Customer Relationships (000s)"]
["CMG","Chipotle (CMG)","Total Revenue ($MM)"]
["CNK","Cinemark (CNK)","Revenue from US Admissions & Concessions ($MM)"]
["COST","Costco Wholesale (COST)","US Total Revenue ($MM)"]
["CRI","Carter's (CRI)","US Retail Sales ($MM)"]
["CROX","Crocs (CROX)","Crocs Brand Direct-to-Consumer Revenue ($MM)"]
["CTRN","Citi Trends (CTRN)","Net Sales ($MM)"]
["CVS","CVS (CVS)","Front Store Net Revenue ($MM)"]
["DASH","DoorDash (DASH)","Marketplace GOV ($MM)"]
["DBI-DSW","Designer Brands Inc.: DSW (DBI-DSW)","US Retail Segment Net Sales ($MM)"]
["DDS","Dillard's (DDS)","Merchandise Sales ($MM)"]
["DENN","Denny's (DENN)","Domestic Systemwide Same-store Sales"]
["DG","Dollar General (DG)","Net Sales ($MM)"]
["DIN-AB","DineEquity: Applebee's (DIN-AB)","Applebee's Systemwide Sales Growth"]
["DIN-IHOP","DineEquity: IHOP (DIN-IHOP)","IHOP Systemwide Sales Growth"]
["DISH-All","DISH (DISH-All)","Pay-TV Subscribers at EOP (000s)"]
["DISH-DISH","DISH: DISH (DISH-DISH)"]
["DISH-SLINGTV","DISH: Sling TV (DISH-SLINGTV)"]
["DKS","Dick's Sporting Goods (DKS)","Net Sales ($MM)"]
["DLTR-All","Dollar Tree (DLTR-All)","Net Sales ($MM)"]
["DLTR-DLTR","Dollar Tree: Dollar Tree (DLTR-DLTR)","Net Sales ($MM)"]
["DLTR-FDO","Dollar Tree: Family Dollar (DLTR-FDO)","Net Sales ($MM)"]
["DPZ","Domino's Pizza (DPZ)","Domino's Domestic Retail Sales Growth"]
["DRI-All","Darden (DRI-All)","Total Sales ($MM)"]
["DRI-LH","Darden: Longhorn Steak House (DRI-LH)","Longhorn Total Sales ($MM)"]
["DRI-OG","Darden: Olive Garden (DRI-OG)","Olive Garden Total Sales ($MM)"]
["DXLG","Destination XL (DXLG)","Total Sales ($MM)"]
["EAT-C","Brinker International: Chili's (EAT-C)","Chili's Domestic Systemwide Comparable Restaurant Sales"]
["ETSY","Etsy (ETSY)","Domestic GMS ($MM)"]
["EXPR","Express (EXPR)","Net Sales ($MM)"]
["FIVE","Five Below (FIVE)","Net Sales ($MM)"]
["FL","Foot Locker (FL)","Sales Growth (Constant Currency)"]
["FLWS","1-800-Flowers (FLWS)","Consumer Floral & Gifts + Gourmet Foods & Gift Baskets Revenue ($MM)"]
["FND","Floor & Decor (FND)","Net Sales ($MM)"]
["FOSL","Fossil Group (FOSL)","Americas Net Sales ($MM)"]
["FRG-VSI","The Vitamin Shoppe (FRG-VSI)","Retail & Direct Sales ($MM)"]
["FRGI","Fiesta Restaurant Group (FRGI)","Pollo Tropical Total Revenues ($MM)"]
["FUN","Cedar Fair (FUN)","Total Net Revenue ($MM)"]
["FYBR","Frontier Communications Corp (FYBR)","Total Consumer Customers (000s)"]
["GCO-J","Genesco: Journeys Group (GCO-J)","Journeys Group Net Sales to External Customers ($MM)"]
["GDDY","GoDaddy (GDDY)","Total Customers (000s)"]
["GME","GameStop (GME)","Net Sales ($MM)"]
["GO","Grocery Outlet (GO)","Net Sales ($MM)"]
["GPS-All","The Gap (GPS-All)","Total US Net Sales ($MM)"]
["GPS-BR","The Gap: Banana Republic (GPS-BR)","Banana Republic US Net Sales ($MM)"]
["GPS-Gap","The Gap: Gap (GPS-Gap)","Gap US Net Sales ($MM)"]
["GPS-ON","The Gap: Old Navy (GPS-ON)","Old Navy US Net Sales ($MM)"]
["GRPN","Groupon (GRPN)","North American Gross Billings ($MM)"]
["HD","The Home Depot (HD)","Net Sales ($MM)"]
["HIBB","Hibbett (HIBB)","Net Sales ($MM)"]
["HLF","Herbalife (HLF)","North America Net Sales ($MM)"]
["HLFFF","Hello Fresh (HLFFF)","US Revenue Growth (Constant Currency)"]
["HNNMY","H&M (HNNMY)","US Net Sales (USD Growth) "]
["IMKTA","Ingles Markets (IMKTA)","Total Revenue ($MM)"]
["INTU-T","Intuit: TurboTax (INTU-T)","Consumer Revenue ($MM)"]
["JACK-JACK","Jack in the Box (JACK-JACK)","Jack in the Box Systemwide Same-Store Sales"]
["JILL","J.Jill (JILL)","Net Sales ($MM)"]
["JOAN","Jo-Ann Stores (JOAN)","Net Revenue ($MM)"]
["JWN-All","Nordstrom (JWN-All)","Net Sales (Excl. Credit Card Revenues) ($MM)"]
["JWN-Full","Nordstrom: Full-Price (JWN-Full)","Full-Price Net Sales ($MM)"]
["JWN-Off","Nordstrom: Off-Price (JWN-Off)","Off-Price Net Sales ($MM)"]
["KIRK","Kirkland's (KIRK)","Net Sales ($MM)"]
["KR","Kroger (KR)","Sales ($MM)"]
["KRUS","Kura Sushi USA (KRUS)","Net Sales ($MM)"]
["KSS","Kohl's (KSS)","Net Sales ($MM)"]
["LE","Lands' End (LE)","eCommerce Revenue + Third Party ($MM)"]
["LESL","Leslie's (LESL)","Sales ($MM)"]
["LOCO","El Pollo Loco (LOCO)","Systemwide Same Store Sales"]
["LOW","Lowe's (LOW)","U.S. Net Sales ($MM)"]
["LULU","Lululemon (LULU)","U.S. Net Sales"]
["LUV","Southwest Airlines (LUV)","Passenger Revenue ($MM)"]
["LYFT","Lyft (LYFT)","Bookings ($MM)"]
["M","Macy's (M)","Net Sales ($MM)"]
["MCD","McDonald's (MCD)","US Systemwide Sales ($MM)"]
["MTCH","Match Group (MTCH)","Americas Direct Revenue ($MM)"]
["MUSA","Murphy USA (MUSA)","Petroleum Product + Merchandise Sales ($MM)"]
["NDLS","Noodles (NDLS)","Total Revenue ($MM)"]
["NFLX","Netflix (NFLX)","United States & Canada (UCAN) - Streaming paid members at EOP (000s)"]
["NGVC","Natural Grocers by Vitamin Cottage (NGVC)","Total Sales ($MM)"]
["NYT","NY Times (NYT)","Subscription Revenues ($MM)"]
["NYT-DIGITAL","NY Times Digital (NYT-Digital)","Digital-Only News Product Subscriptions (000s)"]
["ODP","Office Depot (ODP)","Retail Division Sales ($MM)"]
["OLLI","Ollie's Bargain Outlet (OLLI)","Net Sales ($MM)"]
["ORLY","O'Reilly Automotive (ORLY)","Net Sales ($MM)"]
["OSTK","Overstock.com (OSTK)","Overstock.com Net Revenues ($MM)"]
["OXM-All","Oxford Industries (OXM-All)","Lilly Pulitzer Net Sales ex. Wholesale + Tommy Bahama Net Sales ex. Wholesale ($MM)"]
["OXM-LP","Oxford Industries: Lilly Pulitzer (OXM-LP)","Lilly Pulitzer Net Sales ex.Wholesale ($MM)"]
["OXM-TB","Oxford Industries: Tommy Bahama (OXM-TB)","Tommy Bahama Net Sales ex. Wholesale ($MM)"]
["PBPB","Potbelly (PBPB)","Total Revenues ($MM)"]
["PETS","PetMed Express (PETS)","Net Sales ($MM)"]
["PGR","The Progressive Corporation (PGR)","Total Personal Line Net Premiums Written ($MM)"]
["PLAY","Dave & Buster's (PLAY)","Total Revenue ($MM)"]
["PLCE","The Children's Place (PLCE)","US Net Sales (incl. wholesale) ($MM)"]
["PLNT","Planet Fitness (PLNT)","Planet Fitness Members (MM)"]
["PRTY","Party City (PRTY)","Comparable Retail Same-Store Sales"]
["PTON","Peloton (PTON)","Connected Fitness Subscribers (at Period End)"]
["PUBLIX","Publix (PUBLIX)","Sales ($MM)"]
["PYPL","Paypal (PYPL)","US TPV ($MM)"]
["PYPL-PYPL","Paypal: Paypal (PYPL-PYPL)","US TPV ex Venmo ($MM)"]
["PYPL-Venmo","Paypal: Venmo (PYPL-Venmo)","Venmo TPV ($MM)"]
["PZZA","Papa John's (PZZA)","North American Systemwide Comparable Sales"]
["QDOBA","Qdoba (QDOBA)","Qdoba Systemwide Same-Store Sales"]
["QRTEA-All","Qurate Retail (QRTEA-All)","Consolidated Qurate Retail Revenue excl. QVC International ($MM)"]
["QRTEA-CS","Qurate Retail: Cornerstone (QRTEA-CS)","Cornerstone Revenue ($MM)"]
["QRTEA-QXH","Qurate Retail: QXH (QRTEA-QXH)","QxH Revenue ($MM)"]
["QRTEA-ZU","Qurate Retail: Zulily (QRTEA-ZU)","Zulily Net Sales ($MM)"]
["QSR-BK","Restaurant Brands: Burger King (QSR-BK)","BK US Same Store Sales"]
["QSR-PLK","Restaurant Brands: Popeyes (QSR-PLK)","PLK US Same Store Sales"]
["QSR-TH","Restaurant Brands: Tim Hortons (QSR-TH)","TH US System-wide Sales"]
["RAD","Rite Aid (RAD)","Front-end Sales ($MM)"]
["RDI","Reading International (RDI)","US Cinema Exhibition Revenue ($MM)"]
["RH","Restoration Hardware (RH)","Net Revenues ($MM)"]
["ROST","Ross Stores (ROST)","Net Sales ($MM)"]
["RRGB","Red Robin (RRGB)","Total Revenue ($MM)"]
["RT","Ruby Tuesday (RT)","Company Owned Ruby Tuesday Same Restaurant Sales"]
["RUTH","Ruth's Hospitality Group (RUTH)","Restaurant Net Sales ($MM)"]
["RVLV","Revolve (RVLV)","Net Sales ($MM)"]
["SBH","Sally Beauty Holdings: Sally Beauty Supply (SBH)","Sally Beauty Supply Segment Net Sales ($MM)"]
["SBUX","Starbucks (SBUX)","North America Company-Operated Stores Net Revenues ($MM)"]
["SCVL","Shoe Carnival (SCVL)","Net Sales ($MM)"]
["SEAS","SeaWorld (SEAS)","Total Revenue ($MM)"]
["SFIX","Stitch Fix (SFIX)","Net Sales ($MM)"]
["SFM","Sprouts Farmers Market (SFM)","Net Sales ($MM)"]
["SG","sweetgreen (SG)","Revenue ($MM)"]
["SHAK","Shake Shack (SHAK)","Shack Sales ($MM)"]
["SHOO","Steve Madden (SHOO)","Retail Net Sales ($MM)"]
["SHW","The Sherwin-Williams Company (SHW)","The Americas Group Net Sales ($MM)"]
["SIG","Signet (SIG)","North America Net Sales ($MM)"]
["SIX","Six Flags (SIX)","Revenue from Admissions, Food & Merchandise ($MM)"]
["SPOT","Spotify (SPOT)","North America Premium Subscribers (MM)"]
["SPWH","Sportsman's Warehouse (SPWH)","Net Sales ($MM)"]
["SQ","Block, Inc. GPV (SQ)","GPV ($MM)"]
["TCS","The Container Store (TCS)","TCS Net Sales ($MM)"]
["TGT","Target (TGT)","Total Revenue ($MM)"]
["TJX-All","TJX Companies (TJX-All)","Marmaxx & HomeGoods Sales (domestic) ($MM)"]
["TJX-HG","TJX Companies: HomeGoods (TJX-HG)","HomeGoods Sales (domestic) ($MM)"]
["TJX-TJX","TJX Companies: Marmaxx (TJX-TJX)","Marmaxx Sales (domestic Marshalls and T.J. Maxx) ($MM)"]
["TLYS","Tilly's (TLYS)","Net Sales ($MM)"]
["TPR-COH","Tapestry: Coach (TPR-COH)","Coach Net Sales ($MM)"]
["TRUP","Trupanion (TRUP)","Total Subscription Pets Enrolled (at Period End)"]
["TSCO","Tractor Supply Company (TSCO)","Net Sales ($MM)"]
["TXRH","Texas Roadhouse (TXRH)","Restaurant Sales ($MM)"]
["UAA","Under Armour (UAA)","Direct to Consumer Net Revenues Growth"]
["UBER","Uber Technologies (UBER)","Gross Bookings ($MM)"]
["ULTA","ULTA Beauty (ULTA)","Net Sales ($MM)"]
["URBN-All","Urban Outfitters (URBN-All)","North American Retail Operations Net Sales (incl. FP int'l) ($MM)"]
["URBN-Anthro","Urban Outfitters: Anthropologie Group (URBN-Anthro)","Anthropologie Group North American Retail Net Sales ($MM)"]
["URBN-FP","Urban Outfitters: Free People (URBN-FP)","Free People Retail Net Sales ($MM)"]
["URBN-UO","Urban Outfitters: Urban Outfitters (URBN-UO)","Urban Outfitters North American Retail Net Sales ($MM)"]
["VFC","VF Corporation (VFC) ","Direct to Consumer Revenue "]
["VRA","Vera Bradley (VRA)","US Direct Net Sales ($MM)"]
["VSCO","Victoria's Secret & Co. (VSCO)","Store Sales + Direct Sales ($MM)"]
["VVV","Valvoline (VVV)","Net Revenues ($MM)"]
["VZ","Verizon Communications (VZ)","Total Wireless Retail Postpaid, Fios Video, and Broadband Connections  (000s)"]
["W","Wayfair (W)","U.S. Net Revenue ($MM)"]
["WBA","Walgreens (WBA)","Retail Pharmacy USA Retail Sales ($MM)"]
["WEN","Wendy's (WEN)","US Systemwide Sales Growth"]
["WING","Wingstop (WING)","Systemwide Sales ($MM)"]
["WIX","Wix.com (WIX)","Premium Subscriptions (000s)"]
["WMK","Weis Markets (WMK)","Net Sales ($MM)"]
["WMT-All","Walmart (WMT-All)","Walmart U.S. + Sam's Club Net Sales ($MM)"]
["WMT-SC","Walmart: Sam's Club (WMT-SC)","Sam's Club Net Sales ($MM)"]
["WMT-WMT","Walmart: Walmart U.S. (WMT-WMT)","Walmart U.S. Net Sales ($MM)"]
["WOOF","Petco (WOOF)","Net Sales ($MM)"]
["WRBY","Warby Parker (WRBY)","Net Sales ($MM)"]
["WSM","Williams-Sonoma (WSM)","Domestic Net Sales ($MM)"]
["WW","Weight Watchers (WW)","North America Revenue ($MM)"]
["WW-Subs","Weight Watchers Subscription (WW-Subs)","North America EOP Active Subscribers (000s)"]
["YUM-HABT","Yum! Brands: Habit (YUM-HABT)","Habit Division US Systemwide Sales"]
["YUM-KFC","Yum! Brands: KFC (YUM-KFC)","KFC Division US Systemwide Sales Growth"]
["YUM-PH","Yum! Brands: Pizza Hut (YUM-PH)","Pizza Hut Division US Systemwide Sales Growth"]
["YUM-TB","Yum! Brands: Taco Bell (YUM-TB)","Taco Bell Division Systemwide Sales Growth"]

{"sheet":"Performance","index":2,"n_rows":17,"n_cols":25,"rows_kept":17,"cut":false,"hidden":false,"merged":[[4,5,4,7],[4,8,4,10],[4,11,4,24]]}
["Last Refresh"]
["2023-05-04T13:55:56"]
[]
["Earnest Quarter Estimates"]
["Select a Ticker and Method,                                   then click Refresh. Data will appear on the right in alphabetical ticker order.",null,null,null,null,"                                                                      Company Reported                                                                     ",null,null,"                                 Consensus                                   ",null,null,"                                                                                                                                            Earnest Research                                                                                                                                                                  "]
[]
["Ticker","Method","Ticker","Method","Label","Days into Quarter","Total Days in Quarter","Reported Metric","Adjusted Consensus YoY","Unadjusted Consensus Name","Unadjusted Consensus YoY","Unadjusted Metric Point","Metric Low","Metric Point","Metric High","2 Year Unadjusted Metric Point","2 Year Metric Low","2 Year Metric Point","2 Year Metric High","3 Year Unadjusted Metric Point","3 Year Metric Low","3 Year Metric Point","3 Year Metric High","Probability to Beat","Has Active Coverage"]
["ADRNY","cs_yoy","ADRNY","cs_yoy","2023-Q1",91,91,"US Net Sales",null,"(VA) US Net Sales",null,1.0999999999999999E-2,5.6000000000000001E-2,7.0999999999999994E-2,8.5999999999999993E-2,2.8000000000000001E-2,0.11899999999999999,0.13400000000000001,0.14899999999999999,-2E-3,0.159,0.17399999999999999,0.189,null,true]
["LULU","agg_yoy","ADRNY","cs_yoy","Prelim2023-Q2",27,91,"US Net Sales",null,null,null,-0.01,3.5000000000000003E-2,0.05,6.5000000000000002E-2,4.2000000000000003E-2,0.11600000000000001,0.13100000000000001,0.14599999999999999,-6.2E-2,0.14699999999999999,0.16200000000000001,0.17699999999999999,null,true]
["YUM-KFC","index_yoy","AEO","cs_yoy","2023-Q1",91,91,"American Eagle + Aerie Revenue",2E-3,"(VA) American Eagle + Aerie Revenue",2E-3,-0.106,-1.4E-2,1.6E-2,4.5999999999999999E-2,-0.20200000000000001,-3.1E-2,-1E-3,2.9000000000000001E-2,0.29399999999999998,0.84799999999999998,0.878,0.90800000000000003,0.65,true]
["AEO","cs_yoy","AMZN","cs_yoy","Prelim2023-Q2",29,91,"North American Net Sales",8.7999999999999995E-2,"(VA) North American Net Sales",8.7999999999999995E-2,-5.0000000000000001E-3,0.09,0.10299999999999999,0.126,2.1000000000000001E-2,0.20200000000000001,0.215,0.23799999999999999,0.22600000000000001,0.46800000000000003,0.48099999999999998,0.504,0.65,true]
["JACK-JACK","cs_yoy","JACK-JACK","cs_yoy","2023-Q2",84,84,"US Systemwide Same Store Sales",6.5000000000000002E-2,"(VA) US Systemwide Same Store Sales",6.5000000000000002E-2,1.2999999999999999E-2,7.2999999999999995E-2,9.2999999999999999E-2,0.113,-6.0000000000000001E-3,6.4000000000000001E-2,8.4000000000000005E-2,0.104,0.223,0.28699999999999998,0.307,0.32700000000000001,0.75,true]
["AMZN","cs_yoy","JACK-JACK","cs_yoy","Prelim2023-Q3",13,84,"US Systemwide Same Store Sales",null,null,null,-2.8000000000000001E-2,3.2000000000000001E-2,5.1999999999999998E-2,7.1999999999999995E-2,-0.11,2.5999999999999999E-2,4.5999999999999999E-2,6.6000000000000003E-2,0.11799999999999999,0.13200000000000001,0.152,0.17199999999999999,null,true]
["NFLX","subs_yoy","LULU","agg_yoy","Prelim2023-Q1",90,91,"U.S. Net Sales",0.16400000000000001,"(VA) U.S. Net Sales",0.16400000000000001,8.3000000000000004E-2,0.155,0.185,0.215,null,0.502,0.53200000000000003,0.56200000000000006,null,1.8029999999999999,1.833,1.863,0.71,true]
[null,null,"NFLX","subs_yoy","Prelim2023-Q2",29,91,"United States & Canada (UCAN) - Streaming paid members at EOP",1.4E-2,"(VA) United States & Canada (UCAN) - Streaming paid members at EOP",1.4E-2,-0.04,null,5.0000000000000001E-3,0.01,null,null,null,null,null,null,null,null,0.35,true]
[null,null,"YUM-KFC","index_yoy","2023-Q1",84,84,"KFC Division US Systemwide Sales Growth",4.2000000000000003E-2,"SSS_BSEG_2",7.1999999999999995E-2,-4.9000000000000002E-2,-8.9999999999999993E-3,1.0999999999999999E-2,3.1E-2,1.4E-2,2E-3,2.1999999999999999E-2,4.2000000000000003E-2,0.253,0.13400000000000001,0.154,0.17399999999999999,0.2,true]
[null,null,"YUM-KFC","index_yoy","Prelim2023-Q2",40,84,"KFC Division US Systemwide Sales Growth",8.3000000000000004E-2,"(VA) KFC Division US Systemwide Sales Growth",0.113,-1E-3,2.9000000000000001E-2,5.3999999999999999E-2,7.9000000000000001E-2,-0.06,-3.5000000000000003E-2,-0.01,1.4999999999999999E-2,0.28899999999999998,6.4000000000000001E-2,8.8999999999999996E-2,0.114,0.23,true]

{"sheet":"Company Backtest","index":3,"n_rows":130,"n_cols":13,"rows_kept":130,"cut":false,"hidden":false,"merged":[]}
["Last Refresh"]
["2023-05-04T13:56:10"]
[]
["Select ticker to generate a new backtest:",null,"WSM","Select YoY Comparison:",null,"1 Year"]
[null,null,null,"  Click refresh to update the data:"]
[]
["Method(s):",{"$f":"IF(ISERROR(MATCH($C$4,'Performance Validation'!$A$2:$A$468,0)),Subs_Method,DefaultCs)","v":"Consistent Shopper"},{"$f":"IF(ISERROR(MATCH($C$4,'Performance Validation'!$A$2:$A$468,0)),\"\",DefaultBI)","v":"Blended Index"}]
[]
[]
[{"$f":"VLOOKUP(C4,TabPull[#All],1,FALSE)","v":"WSM"}]
["Reported Metric:",{"$f":"IF(VLOOKUP($C$4,TabPull[#All],3,FALSE)=0,\" \",VLOOKUP($C$4,TabPull[#All],3,FALSE))","v":"Domestic Net Sales ($MM)"}]
[]
["Consistent Shopper - Year over 1 Year"]
["Label","Report End Date","Days into Quarter","Unique Shoppers","Avg Trans per Shopper","Transactions","Avg Ticket","Payment Volume","Store Sales","Panel Sales","Reported Metric","Store Sales Difference","Panel Sales Difference"]
["2020-Q1","2020-05-03",91,-5.4917074000000003E-2,0.103663122,4.3053173E-2,5.4511869999999997E-3,null,null,4.8739050999999999E-2,2.2061753E-2,null,2.6677297999999999E-2]
["2020-Q2","2020-08-02",91,-4.4386584999999999E-2,0.16194460299999999,0.11036985000000001,9.3825599999999999E-3,null,null,0.120787962,0.10136511600000001,null,1.9422846000000001E-2]
["2020-Q3","2020-11-01",91,6.7621951E-2,0.106401988,0.18121904899999999,0.111367337,null,null,0.31276826899999999,0.23679910800000001,null,7.5969160999999993E-2]
["2020-Q4","2021-01-31",91,2.7648448999999999E-2,9.8971188000000002E-2,0.12935603700000001,0.19776426699999999,null,null,0.35270230600000002,0.24641096600000001,null,0.10629134]
["2021-Q1","2021-05-02",91,0.18444622399999999,-3.5732495000000003E-2,0.142123006,0.267797548,null,null,0.44798074599999999,0.39756339600000001,null,5.041735E-2]
["2021-Q2","2021-08-01",91,0.145831982,-0.117673864,1.0997504999999999E-2,0.30752490500000002,null,null,0.32190441800000003,0.296538933,null,2.5365485E-2]
["2021-Q3","2021-10-31",91,0.11057170600000001,-2.0912281000000001E-2,8.7347119000000001E-2,0.13922264500000001,null,null,0.238730461,0.16513476499999999,null,7.3595696000000002E-2]
["2021-Q4","2022-01-30",91,1.2546177E-2,-3.5930862000000001E-2,-2.3835479999999999E-2,9.8399253000000006E-2,null,null,7.2218378999999999E-2,9.9939405999999995E-2,null,-2.7721026999999999E-2]
["2022-Q1","2022-05-01",91,-0.13057912199999999,-3.5662974E-2,-0.16158525600000001,0.24001014600000001,null,null,3.9642788999999998E-2,8.9197388000000002E-2,null,-4.9554598999999998E-2]
["2022-Q2","2022-07-31",91,-0.15807054300000001,-5.7657079999999996E-3,-0.162924863,0.23125863699999999,null,null,3.0655992E-2,0.104788731,null,-7.4132739000000003E-2]
["2022-Q3","2022-10-30",91,-0.200308563,-6.7802501000000001E-2,-0.254529642,0.16709871200000001,null,null,-0.12996250500000001,7.3389345999999994E-2,null,-0.203351851]
["2022-Q4","2023-01-29",91,-0.18245336300000001,-4.6948866999999998E-2,-0.22083625100000001,6.9156284999999998E-2,null,null,-0.16695218100000001,-1.4789616E-2,null,-0.152162565]
["Prelim2023-Q1","2023-04-29",90,-0.18936853400000001,-3.9006864000000002E-2,-0.220988725,-1.8392583000000001E-2,null,null,-0.23531675399999999]
[]
[]
["Consistent Shopper - Quarter over Quarter"]
["Label","Report End Date","Days into Quarter","Unique Shoppers","Avg Trans per Shopper","Transactions","Avg Ticket","Payment Volume","Store Sales","Panel Sales","Reported Metric","Store Sales Difference","Panel Sales Difference"]
["2019-Q2","2019-08-04",91,0.110109421,-9.879255E-3,9.9142366999999995E-2,1.2347181E-2,null,null,0.112713677,0.11137153399999999,null,1.3421430000000001E-3]
["2019-Q3","2019-11-03",91,1.6675966E-2,3.0605481E-2,4.7791822999999997E-2,-2.2065330000000001E-2,null,null,2.4671951000000001E-2,5.7015978000000002E-2,null,-3.2344026999999997E-2]
["2019-Q4","2020-02-02",91,0.702560976,4.8032525E-2,0.78433927800000003,-0.23034607100000001,null,null,0.37332373699999999,0.28181515200000001,null,9.1508585000000003E-2]
["2020-Q1","2020-05-03",91,-0.50816560399999999,3.2003482E-2,-0.49242519099999998,0.31955099799999998,null,null,-0.33022915400000002,-0.321248325,null,-8.9808289999999992E-3]
["2020-Q2","2020-08-02",91,0.122478701,4.2406357999999998E-2,0.17007893399999999,1.6305516999999999E-2,null,null,0.189157677,0.197604582,null,-8.4469049999999993E-3]
["2020-Q3","2020-11-01",91,0.135841713,-1.8658936000000001E-2,0.11464811499999999,7.6742053000000005E-2,null,null,0.20018849999999999,0.18699639200000001,null,1.3192107999999999E-2]
["2020-Q4","2021-01-31",91,0.63881432400000004,4.0993744999999998E-2,0.70599546099999999,-0.17051370499999999,null,null,0.41509985500000002,0.291776855,null,0.123323]
["2021-Q1","2021-05-02",91,-0.43312190699999997,-9.4491799000000001E-2,-0.48668723800000002,0.39670514800000001,null,null,-0.28305342300000003,-0.238936015,null,-4.4117407999999997E-2]
["2021-Q2","2021-08-01",91,8.5884666999999998E-2,-4.6175081999999999E-2,3.5743853999999999E-2,4.8152189999999997E-2,null,null,8.5617187999999997E-2,0.11103436999999999,null,-2.5417182E-2]
["2021-Q3","2021-10-31",91,0.10088886399999999,8.8961263999999998E-2,0.198825328,-6.1854252999999998E-2,null,null,0.124672884,6.6694355999999996E-2,null,5.7978528000000001E-2]
["2021-Q4","2022-01-30",91,0.49416302400000001,2.5025565E-2,0.53155529800000001,-0.20023787200000001,null,null,0.22487992400000001,0.219495211,null,5.3847130000000002E-3]
["2022-Q1","2022-05-01",91,-0.51325118700000005,-9.4240184000000005E-2,-0.55912248499999995,0.57677506599999995,null,null,-0.30483532699999999,-0.24636857200000001,null,-5.8466755000000002E-2]
["2022-Q2","2022-07-31",91,5.1548578999999997E-2,-1.6603723000000001E-2,3.4088958000000003E-2,4.0754739999999998E-2,null,null,7.6232984000000004E-2,0.126938299,null,-5.0705315000000001E-2]
["2022-Q3","2022-10-30",91,4.5659337000000001E-2,2.1013835000000002E-2,6.7632650000000002E-2,-0.110740294,null,null,-5.0597304000000003E-2,3.6377657000000001E-2,null,-8.6974961000000003E-2]
["2022-Q4","2023-01-29",91,0.52752411600000004,4.79558E-2,0.60077775600000005,-0.26735356900000001,null,null,0.17280411000000001,0.11931364799999999,null,5.3490462000000003E-2]
[]
[]
["Consistent Shopper - Values"]
["Label","Report End Date","Days into Quarter","Unique Shoppers","Avg Trans per Shopper","Transactions","Avg Ticket","Payment Volume","Store Sales","Panel Sales","Reported Metric"]
["2019-Q1","2019-05-05",91,14531,1.6048448150000001,23320,175.55509819900001,null,null,4093944.89,1154.5319999999999]
["2019-Q2","2019-08-04",91,16131,1.588990143,25632,177.72270872300001,null,null,4555388.47,1283.114]
["2019-Q3","2019-11-03",91,16400,1.6376219510000001,26857,173.80119857,null,null,4667778.79,1356.2719999999999]
["2019-Q4","2020-02-02",91,27922,1.7162810690000001,47922,133.76677538499999,null,null,6410371.4100000001,1738.49]
["2020-Q1","2020-05-03",91,13733,1.771208039,24324,176.512081894,null,null,4293479.88,1180.0029999999999]
["2020-Q2","2020-08-02",91,15415,1.8463185209999999,28461,179.39020273400001,null,null,5105624.5599999996,1413.1769999999999]
["2020-Q3","2020-11-01",91,17509,1.811868182,31724,193.15697516099999,null,null,6127711.8799999999,1677.4359999999999]
["2020-Q4","2021-01-31",91,28694,1.8861434450000001,54121,160.22106372799999,null,null,8671324.1899999995,2166.873]
["2021-Q1","2021-05-02",91,16266,1.7079183570000001,27781,223.781584536,null,null,6216876.2000000002,1649.1289999999999]
["2021-Q2","2021-08-01",91,17663,1.629055087,28774,234.557157851,null,null,6749147.6600000001,1832.239]
["2021-Q3","2021-10-31",91,19445,1.7739778859999999,34495,220.048800116,null,null,7590583.3600000003,1954.4390000000001]
["2021-Q4","2022-01-30",91,29054,1.8183726849999999,52831,175.986696636,null,null,9297553.1699999999,2383.4290000000001]
["2022-Q1","2022-05-01",91,14142,1.64700891,23292,277.49143525699998,null,null,6463330.5099999998,1796.2270000000001]
["2022-Q2","2022-07-31",91,14871,1.61966243,24086,288.80052644699998,null,null,6956049.4800000004,2024.2370000000001]
["2022-Q3","2022-10-30",91,15550,1.653697749,25715,256.818671204,null,null,6604092.1299999999,2097.8739999999998]
["2022-Q4","2023-01-29",91,23753,1.7330021470000001,41164,188.15728282000001,null,null,7745306.3899999997,2348.1790000000001]
["Prelim2020-Q1","2020-05-02",90,13601,1.764355562,23997,176.925783223,null,null,4245688.0199999996]
["Prelim2021-Q1","2021-05-01",90,16125,1.705922481,27508,224.35465791799999,null,null,6171547.9299999997]
["Prelim2022-Q1","2022-04-30",90,14015,1.6453799499999999,23060,277.78494752799998,null,null,6405720.8899999997]
["Prelim2023-Q1","2023-04-29",90,11361,1.5811988379999999,17964,272.67576486299998,null,null,4898347.4400000004]
[]
[]
["Blended Index - Year over 1 Year"]
["Label","Report End Date","Days into Quarter","Transactions","Avg Ticket","Payment Volume","Store Sales","Panel Sales","Reported Metric","Store Sales Difference","Panel Sales Difference"]
["2020-Q1","2020-05-03",91,4.2255342000000001E-2,5.4511869999999997E-3,null,null,4.7936870999999999E-2,2.2061753E-2,null,2.5875117999999999E-2]
["2020-Q2","2020-08-02",91,0.107870841,9.3825599999999999E-3,null,null,0.11826550600000001,0.10136511600000001,null,1.6900390000000001E-2]
["2020-Q3","2020-11-01",91,0.178622319,0.111367337,null,null,0.30988234799999997,0.23679910800000001,null,7.3083239999999994E-2]
["2020-Q4","2021-01-31",91,0.12694592299999999,0.19776426699999999,null,null,0.34981555800000003,0.24641096600000001,null,0.103404592]
["2021-Q1","2021-05-02",91,0.134366596,0.267797548,null,null,0.43814718800000002,0.39756339600000001,null,4.0583792E-2]
["2021-Q2","2021-08-01",91,6.2095529999999996E-3,0.30752490500000002,null,null,0.31564405099999998,0.296538933,null,1.9105118000000001E-2]
["2021-Q3","2021-10-31",91,8.4163185000000001E-2,0.13922264500000001,null,null,0.23510325200000001,0.16513476499999999,null,6.9968486999999996E-2]
["2021-Q4","2022-01-30",91,-2.5254038999999999E-2,9.8399253000000006E-2,null,null,7.0660235000000002E-2,9.9939405999999995E-2,null,-2.9279171E-2]
["2022-Q1","2022-05-01",91,-0.16173211400000001,0.24001014600000001,null,null,3.9460684000000003E-2,8.9197388000000002E-2,null,-4.9736704E-2]
["2022-Q2","2022-07-31",91,-0.162075735,0.23125863699999999,null,null,3.1701488E-2,0.104788731,null,-7.3087242999999996E-2]
["2022-Q3","2022-10-30",91,-0.25406826100000002,0.16709871200000001,null,null,-0.129424028,7.3389345999999994E-2,null,-0.20281337399999999]
["2022-Q4","2023-01-29",91,-0.219987454,6.9156284999999998E-2,null,null,-0.166044684,-1.4789616E-2,null,-0.15125506799999999]
["Prelim2023-Q1","2023-04-29",90,-0.21561022199999999,-1.8392583000000001E-2,null,null,-0.23003717600000001]
[]
[]
["Blended Index - Quarter over Quarter"]
["Label","Report End Date","Days into Quarter","Transactions","Avg Ticket","Payment Volume","Store Sales","Panel Sales","Reported Metric","Store Sales Difference","Panel Sales Difference"]
["2019-Q2","2019-08-04",91,9.7241655999999996E-2,1.2347181E-2,null,null,0.110789497,0.11137153399999999,null,-5.8203699999999998E-4]
["2019-Q3","2019-11-03",91,4.6366706000000001E-2,-2.2065330000000001E-2,null,null,2.3278279999999998E-2,5.7015978000000002E-2,null,-3.3737698000000003E-2]
["2019-Q4","2020-02-02",91,0.78246104400000005,-0.23034607100000001,null,null,0.37187814600000002,0.28181515200000001,null,9.0062993999999993E-2]
["2020-Q1","2020-05-03",91,-0.49070679299999997,0.31955099799999998,null,null,-0.32796164100000003,-0.321248325,null,-6.7133160000000004E-3]
["2020-Q2","2020-08-02",91,0.166318835,1.6305516999999999E-2,null,null,0.185336267,0.197604582,null,-1.2268315E-2]
["2020-Q3","2020-11-01",91,0.113190372,7.6742053000000005E-2,null,null,0.19861888599999999,0.18699639200000001,null,1.1622494000000001E-2]
["2020-Q4","2021-01-31",91,0.70430949300000001,-0.17051370499999999,null,null,0.41370136800000001,0.291776855,null,0.121924513]
["2021-Q1","2021-05-02",91,-0.48735321799999998,0.39670514800000001,null,null,-0.28398360099999997,-0.238936015,null,-4.5047586000000001E-2]
["2021-Q2","2021-08-01",91,3.4551933E-2,4.8152189999999997E-2,null,null,8.4367872999999996E-2,0.11103436999999999,null,-2.6666497000000001E-2]
["2021-Q3","2021-10-31",91,0.19943208200000001,-6.1854252999999998E-2,null,null,0.12524210699999999,6.6694355999999996E-2,null,5.8547751000000002E-2]
["2021-Q4","2022-01-30",91,0.532305115,-0.20023787200000001,null,null,0.225479599,0.219495211,null,5.9843880000000002E-3]
["2022-Q1","2022-05-01",91,-0.55913094100000005,0.57677506599999995,null,null,-0.30484866100000002,-0.24636857200000001,null,-5.8480088999999999E-2]
["2022-Q2","2022-07-31",91,3.4127850000000001E-2,4.0754739999999998E-2,null,null,7.6273462E-2,0.126938299,null,-5.0664836999999997E-2]
["2022-Q3","2022-10-30",91,6.7750985E-2,-0.110740294,null,null,-5.0492072999999998E-2,3.6377657000000001E-2,null,-8.6869730000000006E-2]
["2022-Q4","2023-01-29",91,0.60231446200000005,-0.26735356900000001,null,null,0.17392997199999999,0.11931364799999999,null,5.4616324000000001E-2]
[]
[]
["Blended Index - Values"]
["Label","Report End Date","Days into Quarter","Transactions","Avg Ticket","Payment Volume","Store Sales","Panel Sales","Reported Metric"]
["2019-Q1","2019-05-05",91,1,175.55509819900001,null,null,1,1154.5319999999999]
["2019-Q2","2019-08-04",91,1.097241656,177.72270872300001,null,null,1.1107894970000001,1283.114]
["2019-Q3","2019-11-03",91,1.1481171370000001,173.80119857,null,null,1.1366467659999999,1356.2719999999999]
["2019-Q4","2020-02-02",91,2.046474071,133.76677538499999,null,null,1.5593408580000001,1738.49]
["2020-Q1","2020-05-03",91,1.042255342,176.512081894,null,null,1.0479368710000001,1180.0029999999999]
["2020-Q2","2020-08-02",91,1.215602037,179.39020273400001,null,null,1.2421575789999999,1413.1769999999999]
["2020-Q3","2020-11-01",91,1.3531964830000001,193.15697516099999,null,null,1.4888735340000001,1677.4359999999999]
["2020-Q4","2021-01-31",91,2.3062656119999998,160.22106372799999,null,null,2.1048225509999998,2166.873]
["2021-Q1","2021-05-02",91,1.182299644,223.781584536,null,null,1.507087464,1649.1289999999999]
["2021-Q2","2021-08-01",91,1.223150382,234.557157851,null,null,1.634237229,1832.239]
["2021-Q3","2021-10-31",91,1.4670858090000001,220.048800116,null,null,1.838912543,1954.4390000000001]
["2021-Q4","2022-01-30",91,2.2480230899999998,175.986696636,null,null,2.2535498060000001,2383.4290000000001]
["2022-Q1","2022-05-01",91,0.99108382399999995,277.49143525699998,null,null,1.5665581660000001,1796.2270000000001]
["2022-Q2","2022-07-31",91,1.024907384,288.80052644699998,null,null,1.6860449799999999,2024.2370000000001]
["2022-Q3","2022-10-30",91,1.0943458690000001,256.818671204,null,null,1.6009130739999999,2097.8739999999998]
["2022-Q4","2023-01-29",91,1.753486213,188.15728282000001,null,null,1.87935984,2348.1790000000001]
["Prelim2020-Q1","2020-05-02",90,1.0282653820000001,176.925783223,null,null,1.03629379]
["Prelim2021-Q1","2021-05-01",90,1.170712457,224.35465791799999,null,null,1.4961387930000001]
["Prelim2022-Q1","2022-04-30",90,0.98124721500000001,277.78494752799998,null,null,1.5526504729999999]
["Prelim2023-Q1","2023-04-29",90,0.76968028600000005,272.67576486299998,null,null,1.195483144]

{"sheet":"Years","index":4,"n_rows":3,"n_cols":1,"rows_kept":3,"cut":false,"hidden":true,"merged":[]}
["1 Year"]
["2 Year"]
["3 Year"]

{"sheet":"Weekly Metrics","index":5,"n_rows":11,"n_cols":228,"rows_kept":11,"cut":false,"hidden":false,"merged":[]}
["Last Refresh"]
["2023-05-04T13:56:16"]
["Method(s): Consistent Shopper, Consistent Subscriber",null,{"$f":"VLOOKUP('Weekly Metrics'!C5,Weekly_Data_Raw[[#All],[END_DATE]:[CHURNED_MEMBERS]],2,FALSE)","v":2019},{"$f":"VLOOKUP('Weekly Metrics'!D5,Weekly_Data_Raw[[#All],[END_DATE]:[CHURNED_MEMBERS]],2,FALSE)","v":2019},{"$f":"VLOOKUP('Weekly Metrics'!E5,Weekly_Data_Raw[[#All],[END_DATE]:[CHURNED_MEMBERS]],2,FALSE)","v":2019},{"$f":"VLOOKUP('Weekly Metrics'!F5,Weekly_Data_Raw[[#All],[END_DATE]:[CHURNED_MEMBERS]],2,FALSE)","v":2019},{"$f":"VLOOKUP('Weekly Metrics'!G5,Weekly_Data_Raw[[#All],[END_DATE]:[CHURNED_MEMBERS]],2,FALSE)","v":2019},{"$f":"VLOOKUP('Weekly Metrics'!H5,Weekly_Data_Raw[[#All],[END_DATE]:[CHURNED_MEMBERS]],2,FALSE)","v":2019},{"$f":"VLOOKUP('Weekly Metrics'!I5,Weekly_Data_Raw[[#All],[END_DATE]:[CHURNED_MEMBERS]],2,FALSE)","v":2019},{"$f":"VLOOKUP('Weekly Metrics'!J5,Weekly_Data_Raw[[#All],[END_DATE]:[CHURNED_MEMBERS]],2,FALSE)","v":2019},{"$f":"VLOOKUP('Weekly Metrics'!K5,Weekly_Data_Raw[[#All],[END_DATE]:[CHURNED_MEMBERS]],2,FALSE)","v":2019},{"$f":"VLOOKUP('Weekly Metrics'!L5,Weekly_Data_Raw[[#All],[END_DATE]:[CHURNED_MEMBERS]],2,FALSE)","v":2019},{"$f":"VLOOKUP('Weekly Metrics'!M5,Weekly_Data_Raw[[#All],[END_DATE]:[CHURNED_MEMBERS]],2,FALSE)","v":2019},{"$f":"VLOOKUP('Weekly Metrics'!N5,Weekly_Data_Raw[[#All],[END_DATE]:[CHURNED_MEMBERS]],2,FALSE)","v":2019},{"$f":"VLOOKUP('Weekly Metrics'!O5,Weekly_Data_Raw[[#All],[END_DATE]:[CHURNED_MEMBERS]],2,FALSE)","v":2019},{"$f":"VLOOKUP('Weekly Metrics'!P5,Weekly_Data_Raw[[#All],[END_DATE]:[CHURNED_MEMBERS]],2,FALSE)","v":2019},{"$f":"VLOOKUP('Weekly Metrics'!Q5,Weekly_Data_Raw[[#All],[END_DATE]:[CHURNED_MEMBERS]],2,FALSE)","v":2019},{"$f":"VLOOKUP('Weekly Metrics'!R5,Weekly_Data_Raw[[#All],[END_DATE]:[CHURNED_MEMBERS]],2,FALSE)","v":2019},{"$f":"VLOOKUP('Weekly Metrics'!S5,Weekly_Data_Raw[[#All],[END_DATE]:[CHURNED_MEMBERS]],2,FALSE)","v":2019},{"$f":"VLOOKUP('Weekly Metrics'!T5,Weekly_Data_Raw[[#All],[END_DATE]:[CHURNED_MEMBERS]],2,FALSE)","v":2019},{"$f":"VLOOKUP('Weekly Metrics'!U5,Weekly_Data_Raw[[#All],[END_DATE]:[CHURNED_MEMBERS]],2,FALSE)","v":2019},{"$f":"VLOOKUP('Weekly Metrics'!V5,Weekly_Data_Raw[[#All],[END_DATE]:[CHURNED_MEMBERS]],2,FALSE)","v":2019},{"$f":"VLOOKUP('Weekly Metrics'!W5,Weekly_Data_Raw[[#All],[END_DATE]:[CHURNED_MEMBERS]],2,FALSE)","v":2019},{"$f":"VLOOKUP('Weekly Metrics'!X5,Weekly_Data_Raw[[#All],[END_DATE]:[CHURNED_MEMBERS]],2,FALSE)","v":2019},{"$f":"VLOOKUP('Weekly Metrics'!Y5,Weekly_Data_Raw[[#All],[END_DATE]:[CHURNED_MEMBERS]],2,FALSE)","v":2019},{"$f":"VLOOKUP('Weekly Metrics'!Z5,Weekly_Data_Raw[[#All],[END_DATE]:[CHURNED_MEMBERS]],2,FALSE)","v":2019},{"$f":"VLOOKUP('Weekly Metrics'!AA5,Weekly_Data_Raw[[#All],[END_DATE]:[CHURNED_MEMBERS]],2,FALSE)","v":2019},{"$f":"VLOOKUP('Weekly Metrics'!AB5,Weekly_Data_Raw[[#All],[END_DATE]:[CHURNED_MEMBERS]],2,FALSE)","v":2019},{"$f":"VLOOKUP('Weekly Metrics'!AC5,Weekly_Data_Raw[[#All],[END_DATE]:[CHURNED_MEMBERS]],2,FALSE)","v":2019},{"$f":"VLOOKUP('Weekly Metrics'!AD5,Weekly_Data_Raw[[#All],[END_DATE]:[CHURNED_MEMBERS]],2,FALSE)","v":2019},{"$f":"VLOOKUP('Weekly Metrics'!AE5,Weekly_Data_Raw[[#All],[END_DATE]:[CHURNED_MEMBERS]],2,FALSE)","v":2019},{"$f":"VLOOKUP('Weekly Metrics'!AF5,Weekly_Data_Raw[[#All],[END_DATE]:[CHURNED_MEMBERS]],2,FALSE)","v":2019},{"$f":"VLOOKUP('Weekly Metrics'!AG5,Weekly_Data_Raw[[#All],[END_DATE]:[CHURNED_MEMBERS]],2,FALSE)","v":2019},{"$f":"VLOOKUP('Weekly Metrics'!AH5,Weekly_Data_Raw[[#All],[END_DATE]:[CHURNED_MEMBERS]],2,FALSE)","v":2019},{"$f":"VLOOKUP('Weekly Metrics'!AI5,Weekly_Data_Raw[[#All],[END_DATE]:[CHURNED_MEMBERS]],2,FALSE)","v":2019},{"$f":"VLOOKUP('Weekly Metrics'!AJ5,Weekly_Data_Raw[[#All],[END_DATE]:[CHURNED_MEMBERS]],2,FALSE)","v":2019},{"$f":"VLOOKUP('Weekly Metrics'!AK5,Weekly_Data_Raw[[#All],[END_DATE]:[CHURNED_MEMBERS]],2,FALSE)","v":2019},{"$f":"VLOOKUP('Weekly Metrics'!AL5,Weekly_Data_Raw[[#All],[END_DATE]:[CHURNED_MEMBERS]],2,FALSE)","v":2019},{"$f":"VLOOKUP('Weekly Metrics'!AM5,Weekly_Data_Raw[[#All],[END_DATE]:[CHURNED_MEMBERS]],2,FALSE)","v":2019},{"$f":"VLOOKUP('Weekly Metrics'!AN5,Weekly_Data_Raw[[#All],[END_DATE]:[CHURNED_MEMBERS]],2,FALSE)","v":2019},{"$f":"VLOOKUP('Weekly Metrics'!AO5,Weekly_Data_Raw[[#All],[END_DATE]:[CHURNED_MEMBERS]],2,FALSE)","v":2019},{"$f":"VLOOKUP('Weekly Metrics'!AP5,Weekly_Data_Raw[[#All],[END_DATE]:[CHURNED_MEMBERS]],2,FALSE)","v":2019},{"$f":"VLOOKUP('Weekly Metrics'!AQ5,Weekly_Data_Raw[[#All],[END_DATE]:[CHURNED_MEMBERS]],2,FALSE)","v":2019},{"$f":"VLOOKUP('Weekly Metrics'!AR5,Weekly_Data_Raw[[#All],[END_DATE]:[CHURNED_MEMBERS]],2,FALSE)","v":2019},{"$f":"VLOOKUP('Weekly Metrics'!AS5,Weekly_Data_Raw[[#All],[END_DATE]:[CHURNED_MEMBERS]],2,FALSE)","v":2019},{"$f":"VLOOKUP('Weekly Metrics'!AT5,Weekly_Data_Raw[[#All],[END_DATE]:[CHURNED_MEMBERS]],2,FALSE)","v":2019},{"$f":"VLOOKUP('Weekly Metrics'!AU5,Weekly_Data_Raw[[#All],[END_DATE]:[CHURNED_MEMBERS]],2,FALSE)","v":2019},{"$f":"VLOOKUP('Weekly Metrics'!AV5,Weekly_Data_Raw[[#All],[END_DATE]:[CHURNED_MEMBERS]],2,FALSE)","v":2019},{"$f":"VLOOKUP('Weekly Metrics'!AW5,Weekly_Data_Raw[[#All],[END_DATE]:[CHURNED_MEMBERS]],2,FALSE)","v":2019},{"$f":"VLOOKUP('Weekly Metrics'!AX5,Weekly_Data_Raw[[#All],[END_DATE]:[CHURNED_MEMBERS]],2,FALSE)","v":2019},{"$f":"VLOOKUP('Weekly Metrics'!AY5,Weekly_Data_Raw[[#All],[END_DATE]:[CHURNED_MEMBERS]],2,FALSE)","v":2019},{"$f":"VLOOKUP('Weekly Metrics'!AZ5,Weekly_Data_Raw[[#All],[END_DATE]:[CHURNED_MEMBERS]],2,FALSE)","v":2019},{"$f":"VLOOKUP('Weekly Metrics'!BA5,Weekly_Data_Raw[[#All],[END_DATE]:[CHURNED_MEMBERS]],2,FALSE)","v":2019},{"$f":"VLOOKUP('Weekly Metrics'!BB5,Weekly_Data_Raw[[#All],[END_DATE]:[CHURNED_MEMBERS]],2,FALSE)","v":2019},{"$f":"VLOOKUP('Weekly Metrics'!BC5,Weekly_Data_Raw[[#All],[END_DATE]:[CHURNED_MEMBERS]],2,FALSE)","v":2020},{"$f":"VLOOKUP('Weekly Metrics'!BD5,Weekly_Data_Raw[[#All],[END_DATE]:[CHURNED_MEMBERS]],2,FALSE)","v":2020},{"$f":"VLOOKUP('Weekly Metrics'!BE5,Weekly_Data_Raw[[#All],[END_DATE]:[CHURNED_MEMBERS]],2,FALSE)","v":2020},{"$f":"VLOOKUP('Weekly Metrics'!BF5,Weekly_Data_Raw[[#All],[END_DATE]:[CHURNED_MEMBERS]],2,FALSE)","v":2020},{"$f":"VLOOKUP('Weekly Metrics'!BG5,Weekly_Data_Raw[[#All],[END_DATE]:[CHURNED_MEMBERS]],2,FALSE)","v":2020},{"$f":"VLOOKUP('Weekly Metrics'!BH5,Weekly_Data_Raw[[#All],[END_DATE]:[CHURNED_MEMBERS]],2,FALSE)","v":2020},{"$f":"VLOOKUP('Weekly Metrics'!BI5,Weekly_Data_Raw[[#All],[END_DATE]:[CHURNED_MEMBERS]],2,FALSE)","v":2020},{"$f":"VLOOKUP('Weekly Metrics'!BJ5,Weekly_Data_Raw[[#All],[END_DATE]:[CHURNED_MEMBERS]],2,FALSE)","v":2020},{"$f":"VLOOKUP('Weekly Metrics'!BK5,Weekly_Data_Raw[[#All],[END_DATE]:[CHURNED_MEMBERS]],2,FALSE)","v":2020},{"$f":"VLOOKUP('Weekly Metrics'!BL5,Weekly_Data_Raw[[#All],[END_DATE]:[CHURNED_MEMBERS]],2,FALSE)","v":2020},{"$f":"VLOOKUP('Weekly Metrics'!BM5,Weekly_Data_Raw[[#All],[END_DATE]:[CHURNED_MEMBERS]],2,FALSE)","v":2020},{"$f":"VLOOKUP('Weekly Metrics'!BN5,Weekly_Data_Raw[[#All],[END_DATE]:[CHURNED_MEMBERS]],2,FALSE)","v":2020},{"$f":"VLOOKUP('Weekly Metrics'!BO5,Weekly_Data_Raw[[#All],[END_DATE]:[CHURNED_MEMBERS]],2,FALSE)","v":2020},{"$f":"VLOOKUP('Weekly Metrics'!BP5,Weekly_Data_Raw[[#All],[END_DATE]:[CHURNED_MEMBERS]],2,FALSE)","v":2020},{"$f":"VLOOKUP('Weekly Metrics'!BQ5,Weekly_Data_Raw[[#All],[END_DATE]:[CHURNED_MEMBERS]],2,FALSE)","v":2020},{"$f":"VLOOKUP('Weekly Metrics'!BR5,Weekly_Data_Raw[[#All],[END_DATE]:[CHURNED_MEMBERS]],2,FALSE)","v":2020},{"$f":"VLOOKUP('Weekly Metrics'!BS5,Weekly_Data_Raw[[#All],[END_DATE]:[CHURNED_MEMBERS]],2,FALSE)","v":2020},{"$f":"VLOOKUP('Weekly Metrics'!BT5,Weekly_Data_Raw[[#All],[END_DATE]:[CHURNED_MEMBERS]],2,FALSE)","v":2020},{"$f":"VLOOKUP('Weekly Metrics'!BU5,Weekly_Data_Raw[[#All],[END_DATE]:[CHURNED_MEMBERS]],2,FALSE)","v":2020},{"$f":"VLOOKUP('Weekly Metrics'!BV5,Weekly_Data_Raw[[#All],[END_DATE]:[CHURNED_MEMBERS]],2,FALSE)","v":2020},{"$f":"VLOOKUP('Weekly Metrics'!BW5,Weekly_Data_Raw[[#All],[END_DATE]:[CHURNED_MEMBERS]],2,FALSE)","v":2020},{"$f":"VLOOKUP('Weekly Metrics'!BX5,Weekly_Data_Raw[[#All],[END_DATE]:[CHURNED_MEMBERS]],2,FALSE)","v":2020},{"$f":"VLOOKUP('Weekly Metrics'!BY5,Weekly_Data_Raw[[#All],[END_DATE]:[CHURNED_MEMBERS]],2,FALSE)","v":2020},{"$f":"VLOOKUP('Weekly Metrics'!BZ5,Weekly_Data_Raw[[#All],[END_DATE]:[CHURNED_MEMBERS]],2,FALSE)","v":2020},{"$f":"VLOOKUP('Weekly Metrics'!CA5,Weekly_Data_Raw[[#All],[END_DATE]:[CHURNED_MEMBERS]],2,FALSE)","v":2020},{"$f":"VLOOKUP('Weekly Metrics'!CB5,Weekly_Data_Raw[[#All],[END_DATE]:[CHURNED_MEMBERS]],2,FALSE)","v":2020},{"$f":"VLOOKUP('Weekly Metrics'!CC5,Weekly_Data_Raw[[#All],[END_DATE]:[CHURNED_MEMBERS]],2,FALSE)","v":2020},{"$f":"VLOOKUP('Weekly Metrics'!CD5,Weekly_Data_Raw[[#All],[END_DATE]:[CHURNED_MEMBERS]],2,FALSE)","v":2020},{"$f":"VLOOKUP('Weekly Metrics'!CE5,Weekly_Data_Raw[[#All],[END_DATE]:[CHURNED_MEMBERS]],2,FALSE)","v":2020},{"$f":"VLOOKUP('Weekly Metrics'!CF5,Weekly_Data_Raw[[#All],[END_DATE]:[CHURNED_MEMBERS]],2,FALSE)","v":2020},{"$f":"VLOOKUP('Weekly Metrics'!CG5,Weekly_Data_Raw[[#All],[END_DATE]:[CHURNED_MEMBERS]],2,FALSE)","v":2020},{"$f":"VLOOKUP('Weekly Metrics'!CH5,Weekly_Data_Raw[[#All],[END_DATE]:[CHURNED_MEMBERS]],2,FALSE)","v":2020},{"$f":"VLOOKUP('Weekly Metrics'!CI5,Weekly_Data_Raw[[#All],[END_DATE]:[CHURNED_MEMBERS]],2,FALSE)","v":2020},{"$f":"VLOOKUP('Weekly Metrics'!CJ5,Weekly_Data_Raw[[#All],[END_DATE]:[CHURNED_MEMBERS]],2,FALSE)","v":2020},{"$f":"VLOOKUP('Weekly Metrics'!CK5,Weekly_Data_Raw[[#All],[END_DATE]:[CHURNED_MEMBERS]],2,FALSE)","v":2020},{"$f":"VLOOKUP('Weekly Metrics'!CL5,Weekly_Data_Raw[[#All],[END_DATE]:[CHURNED_MEMBERS]],2,FALSE)","v":2020},{"$f":"VLOOKUP('Weekly Metrics'!CM5,Weekly_Data_Raw[[#All],[END_DATE]:[CHURNED_MEMBERS]],2,FALSE)","v":2020},{"$f":"VLOOKUP('Weekly Metrics'!CN5,Weekly_Data_Raw[[#All],[END_DATE]:[CHURNED_MEMBERS]],2,FALSE)","v":2020},{"$f":"VLOOKUP('Weekly Metrics'!CO5,Weekly_Data_Raw[[#All],[END_DATE]:[CHURNED_MEMBERS]],2,FALSE)","v":2020},{"$f":"VLOOKUP('Weekly Metrics'!CP5,Weekly_Data_Raw[[#All],[END_DATE]:[CHURNED_MEMBERS]],2,FALSE)","v":2020},{"$f":"VLOOKUP('Weekly Metrics'!CQ5,Weekly_Data_Raw[[#All],[END_DATE]:[CHURNED_MEMBERS]],2,FALSE)","v":2020},{"$f":"VLOOKUP('Weekly Metrics'!CR5,Weekly_Data_Raw[[#All],[END_DATE]:[CHURNED_MEMBERS]],2,FALSE)","v":2020},{"$f":"VLOOKUP('Weekly Metrics'!CS5,Weekly_Data_Raw[[#All],[END_DATE]:[CHURNED_MEMBERS]],2,FALSE)","v":2020},{"$f":"VLOOKUP('Weekly Metrics'!CT5,Weekly_Data_Raw[[#All],[END_DATE]:[CHURNED_MEMBERS]],2,FALSE)","v":2020},{"$f":"VLOOKUP('Weekly Metrics'!CU5,Weekly_Data_Raw[[#All],[END_DATE]:[CHURNED_MEMBERS]],2,FALSE)","v":2020},{"$f":"VLOOKUP('Weekly Metrics'!CV5,Weekly_Data_Raw[[#All],[END_DATE]:[CHURNED_MEMBERS]],2,FALSE)","v":2020},{"$f":"VLOOKUP('Weekly Metrics'!CW5,Weekly_Data_Raw[[#All],[END_DATE]:[CHURNED_MEMBERS]],2,FALSE)","v":2020},{"$f":"VLOOKUP('Weekly Metrics'!CX5,Weekly_Data_Raw[[#All],[END_DATE]:[CHURNED_MEMBERS]],2,FALSE)","v":2020},{"$f":"VLOOKUP('Weekly Metrics'!CY5,Weekly_Data_Raw[[#All],[END_DATE]:[CHURNED_MEMBERS]],2,FALSE)","v":2020},{"$f":"VLOOKUP('Weekly Metrics'!CZ5,Weekly_Data_Raw[[#All],[END_DATE]:[CHURNED_MEMBERS]],2,FALSE)","v":2020},{"$f":"VLOOKUP('Weekly Metrics'!DA5,Weekly_Data_Raw[[#All],[END_DATE]:[CHURNED_MEMBERS]],2,FALSE)","v":2020},{"$f":"VLOOKUP('Weekly Metrics'!DB5,Weekly_Data_Raw[[#All],[END_DATE]:[CHURNED_MEMBERS]],2,FALSE)","v":2020},{"$f":"VLOOKUP('Weekly Metrics'!DC5,Weekly_Data_Raw[[#All],[END_DATE]:[CHURNED_MEMBERS]],2,FALSE)","v":2020},{"$f":"VLOOKUP('Weekly Metrics'!DD5,Weekly_Data_Raw[[#All],[END_DATE]:[CHURNED_MEMBERS]],2,FALSE)","v":2021},{"$f":"VLOOKUP('Weekly Metrics'!DE5,Weekly_Data_Raw[[#All],[END_DATE]:[CHURNED_MEMBERS]],2,FALSE)","v":2021},{"$f":"VLOOKUP('Weekly Metrics'!DF5,Weekly_Data_Raw[[#All],[END_DATE]:[CHURNED_MEMBERS]],2,FALSE)","v":2021},{"$f":"VLOOKUP('Weekly Metrics'!DG5,Weekly_Data_Raw[[#All],[END_DATE]:[CHURNED_MEMBERS]],2,FALSE)","v":2021},{"$f":"VLOOKUP('Weekly Metrics'!DH5,Weekly_Data_Raw[[#All],[END_DATE]:[CHURNED_MEMBERS]],2,FALSE)","v":2021},{"$f":"VLOOKUP('Weekly Metrics'!DI5,Weekly_Data_Raw[[#All],[END_DATE]:[CHURNED_MEMBERS]],2,FALSE)","v":2021},{"$f":"VLOOKUP('Weekly Metrics'!DJ5,Weekly_Data_Raw[[#All],[END_DATE]:[CHURNED_MEMBERS]],2,FALSE)","v":2021},{"$f":"VLOOKUP('Weekly Metrics'!DK5,Weekly_Data_Raw[[#All],[END_DATE]:[CHURNED_MEMBERS]],2,FALSE)","v":2021},{"$f":"VLOOKUP('Weekly Metrics'!DL5,Weekly_Data_Raw[[#All],[END_DATE]:[CHURNED_MEMBERS]],2,FALSE)","v":2021},{"$f":"VLOOKUP('Weekly Metrics'!DM5,Weekly_Data_Raw[[#All],[END_DATE]:[CHURNED_MEMBERS]],2,FALSE)","v":2021},{"$f":"VLOOKUP('Weekly Metrics'!DN5,Weekly_Data_Raw[[#All],[END_DATE]:[CHURNED_MEMBERS]],2,FALSE)","v":2021},{"$f":"VLOOKUP('Weekly Metrics'!DO5,Weekly_Data_Raw[[#All],[END_DATE]:[CHURNED_MEMBERS]],2,FALSE)","v":2021},{"$f":"VLOOKUP('Weekly Metrics'!DP5,Weekly_Data_Raw[[#All],[END_DATE]:[CHURNED_MEMBERS]],2,FALSE)","v":2021},{"$f":"VLOOKUP('Weekly Metrics'!DQ5,Weekly_Data_Raw[[#All],[END_DATE]:[CHURNED_MEMBERS]],2,FALSE)","v":2021},{"$f":"VLOOKUP('Weekly Metrics'!DR5,Weekly_Data_Raw[[#All],[END_DATE]:[CHURNED_MEMBERS]],2,FALSE)","v":2021},{"$f":"VLOOKUP('Weekly Metrics'!DS5,Weekly_Data_Raw[[#All],[END_DATE]:[CHURNED_MEMBERS]],2,FALSE)","v":2021},{"$f":"VLOOKUP('Weekly Metrics'!DT5,Weekly_Data_Raw[[#All],[END_DATE]:[CHURNED_MEMBERS]],2,FALSE)","v":2021},{"$f":"VLOOKUP('Weekly Metrics'!DU5,Weekly_Data_Raw[[#All],[END_DATE]:[CHURNED_MEMBERS]],2,FALSE)","v":2021},{"$f":"VLOOKUP('Weekly Metrics'!DV5,Weekly_Data_Raw[[#All],[END_DATE]:[CHURNED_MEMBERS]],2,FALSE)","v":2021},{"$f":"VLOOKUP('Weekly Metrics'!DW5,Weekly_Data_Raw[[#All],[END_DATE]:[CHURNED_MEMBERS]],2,FALSE)","v":2021},{"$f":"VLOOKUP('Weekly Metrics'!DX5,Weekly_Data_Raw[[#All],[END_DATE]:[CHURNED_MEMBERS]],2,FALSE)","v":2021},{"$f":"VLOOKUP('Weekly Metrics'!DY5,Weekly_Data_Raw[[#All],[END_DATE]:[CHURNED_MEMBERS]],2,FALSE)","v":2021},{"$f":"VLOOKUP('Weekly Metrics'!DZ5,Weekly_Data_Raw[[#All],[END_DATE]:[CHURNED_MEMBERS]],2,FALSE)","v":2021},{"$f":"VLOOKUP('Weekly Metrics'!EA5,Weekly_Data_Raw[[#All],[END_DATE]:[CHURNED_MEMBERS]],2,FALSE)","v":2021},{"$f":"VLOOKUP('Weekly Metrics'!EB5,Weekly_Data_Raw[[#All],[END_DATE]:[CHURNED_MEMBERS]],2,FALSE)","v":2021},{"$f":"VLOOKUP('Weekly Metrics'!EC5,Weekly_Data_Raw[[#All],[END_DATE]:[CHURNED_MEMBERS]],2,FALSE)","v":2021},{"$f":"VLOOKUP('Weekly Metrics'!ED5,Weekly_Data_Raw[[#All],[END_DATE]:[CHURNED_MEMBERS]],2,FALSE)","v":2021},{"$f":"VLOOKUP('Weekly Metrics'!EE5,Weekly_Data_Raw[[#All],[END_DATE]:[CHURNED_MEMBERS]],2,FALSE)","v":2021},{"$f":"VLOOKUP('Weekly Metrics'!EF5,Weekly_Data_Raw[[#All],[END_DATE]:[CHURNED_MEMBERS]],2,FALSE)","v":2021},{"$f":"VLOOKUP('Weekly Metrics'!EG5,Weekly_Data_Raw[[#All],[END_DATE]:[CHURNED_MEMBERS]],2,FALSE)","v":2021},{"$f":"VLOOKUP('Weekly Metrics'!EH5,Weekly_Data_Raw[[#All],[END_DATE]:[CHURNED_MEMBERS]],2,FALSE)","v":2021},{"$f":"VLOOKUP('Weekly Metrics'!EI5,Weekly_Data_Raw[[#All],[END_DATE]:[CHURNED_MEMBERS]],2,FALSE)","v":2021},{"$f":"VLOOKUP('Weekly Metrics'!EJ5,Weekly_Data_Raw[[#All],[END_DATE]:[CHURNED_MEMBERS]],2,FALSE)","v":2021},{"$f":"VLOOKUP('Weekly Metrics'!EK5,Weekly_Data_Raw[[#All],[END_DATE]:[CHURNED_MEMBERS]],2,FALSE)","v":2021},{"$f":"VLOOKUP('Weekly Metrics'!EL5,Weekly_Data_Raw[[#All],[END_DATE]:[CHURNED_MEMBERS]],2,FALSE)","v":2021},{"$f":"VLOOKUP('Weekly Metrics'!EM5,Weekly_Data_Raw[[#All],[END_DATE]:[CHURNED_MEMBERS]],2,FALSE)","v":2021},{"$f":"VLOOKUP('Weekly Metrics'!EN5,Weekly_Data_Raw[[#All],[END_DATE]:[CHURNED_MEMBERS]],2,FALSE)","v":2021},{"$f":"VLOOKUP('Weekly Metrics'!EO5,Weekly_Data_Raw[[#All],[END_DATE]:[CHURNED_MEMBERS]],2,FALSE)","v":2021},{"$f":"VLOOKUP('Weekly Metrics'!EP5,Weekly_Data_Raw[[#All],[END_DATE]:[CHURNED_MEMBERS]],2,FALSE)","v":2021},{"$f":"VLOOKUP('Weekly Metrics'!EQ5,Weekly_Data_Raw[[#All],[END_DATE]:[CHURNED_MEMBERS]],2,FALSE)","v":2021},{"$f":"VLOOKUP('Weekly Metrics'!ER5,Weekly_Data_Raw[[#All],[END_DATE]:[CHURNED_MEMBERS]],2,FALSE)","v":2021},{"$f":"VLOOKUP('Weekly Metrics'!ES5,Weekly_Data_Raw[[#All],[END_DATE]:[CHURNED_MEMBERS]],2,FALSE)","v":2021},{"$f":"VLOOKUP('Weekly Metrics'!ET5,Weekly_Data_Raw[[#All],[END_DATE]:[CHURNED_MEMBERS]],2,FALSE)","v":2021},{"$f":"VLOOKUP('Weekly Metrics'!EU5,Weekly_Data_Raw[[#All],[END_DATE]:[CHURNED_MEMBERS]],2,FALSE)","v":2021},{"$f":"VLOOKUP('Weekly Metrics'!EV5,Weekly_Data_Raw[[#All],[END_DATE]:[CHURNED_MEMBERS]],2,FALSE)","v":2021},{"$f":"VLOOKUP('Weekly Metrics'!EW5,Weekly_Data_Raw[[#All],[END_DATE]:[CHURNED_MEMBERS]],2,FALSE)","v":2021},{"$f":"VLOOKUP('Weekly Metrics'!EX5,Weekly_Data_Raw[[#All],[END_DATE]:[CHURNED_MEMBERS]],2,FALSE)","v":2021},{"$f":"VLOOKUP('Weekly Metrics'!EY5,Weekly_Data_Raw[[#All],[END_DATE]:[CHURNED_MEMBERS]],2,FALSE)","v":2021},{"$f":"VLOOKUP('Weekly Metrics'!EZ5,Weekly_Data_Raw[[#All],[END_DATE]:[CHURNED_MEMBERS]],2,FALSE)","v":2021},{"$f":"VLOOKUP('Weekly Metrics'!FA5,Weekly_Data_Raw[[#All],[END_DATE]:[CHURNED_MEMBERS]],2,FALSE)","v":2021},{"$f":"VLOOKUP('Weekly Metrics'!FB5,Weekly_Data_Raw[[#All],[END_DATE]:[CHURNED_MEMBERS]],2,FALSE)","v":2021},{"$f":"VLOOKUP('Weekly Metrics'!FC5,Weekly_Data_Raw[[#All],[END_DATE]:[CHURNED_MEMBERS]],2,FALSE)","v":2021},{"$f":"VLOOKUP('Weekly Metrics'!FD5,Weekly_Data_Raw[[#All],[END_DATE]:[CHURNED_MEMBERS]],2,FALSE)","v":2022},{"$f":"VLOOKUP('Weekly Metrics'!FE5,Weekly_Data_Raw[[#All],[END_DATE]:[CHURNED_MEMBERS]],2,FALSE)","v":2022},{"$f":"VLOOKUP('Weekly Metrics'!FF5,Weekly_Data_Raw[[#All],[END_DATE]:[CHURNED_MEMBERS]],2,FALSE)","v":2022},{"$f":"VLOOKUP('Weekly Metrics'!FG5,Weekly_Data_Raw[[#All],[END_DATE]:[CHURNED_MEMBERS]],2,FALSE)","v":2022},{"$f":"VLOOKUP('Weekly Metrics'!FH5,Weekly_Data_Raw[[#All],[END_DATE]:[CHURNED_MEMBERS]],2,FALSE)","v":2022},{"$f":"VLOOKUP('Weekly Metrics'!FI5,Weekly_Data_Raw[[#All],[END_DATE]:[CHURNED_MEMBERS]],2,FALSE)","v":2022},{"$f":"VLOOKUP('Weekly Metrics'!FJ5,Weekly_Data_Raw[[#All],[END_DATE]:[CHURNED_MEMBERS]],2,FALSE)","v":2022},{"$f":"VLOOKUP('Weekly Metrics'!FK5,Weekly_Data_Raw[[#All],[END_DATE]:[CHURNED_MEMBERS]],2,FALSE)","v":2022},{"$f":"VLOOKUP('Weekly Metrics'!FL5,Weekly_Data_Raw[[#All],[END_DATE]:[CHURNED_MEMBERS]],2,FALSE)","v":2022},{"$f":"VLOOKUP('Weekly Metrics'!FM5,Weekly_Data_Raw[[#All],[END_DATE]:[CHURNED_MEMBERS]],2,FALSE)","v":2022},{"$f":"VLOOKUP('Weekly Metrics'!FN5,Weekly_Data_Raw[[#All],[END_DATE]:[CHURNED_MEMBERS]],2,FALSE)","v":2022},{"$f":"VLOOKUP('Weekly Metrics'!FO5,Weekly_Data_Raw[[#All],[END_DATE]:[CHURNED_MEMBERS]],2,FALSE)","v":2022},{"$f":"VLOOKUP('Weekly Metrics'!FP5,Weekly_Data_Raw[[#All],[END_DATE]:[CHURNED_MEMBERS]],2,FALSE)","v":2022},{"$f":"VLOOKUP('Weekly Metrics'!FQ5,Weekly_Data_Raw[[#All],[END_DATE]:[CHURNED_MEMBERS]],2,FALSE)","v":2022},{"$f":"VLOOKUP('Weekly Metrics'!FR5,Weekly_Data_Raw[[#All],[END_DATE]:[CHURNED_MEMBERS]],2,FALSE)","v":2022},{"$f":"VLOOKUP('Weekly Metrics'!FS5,Weekly_Data_Raw[[#All],[END_DATE]:[CHURNED_MEMBERS]],2,FALSE)","v":2022},{"$f":"VLOOKUP('Weekly Metrics'!FT5,Weekly_Data_Raw[[#All],[END_DATE]:[CHURNED_MEMBERS]],2,FALSE)","v":2022},{"$f":"VLOOKUP('Weekly Metrics'!FU5,Weekly_Data_Raw[[#All],[END_DATE]:[CHURNED_MEMBERS]],2,FALSE)","v":2022},{"$f":"VLOOKUP('Weekly Metrics'!FV5,Weekly_Data_Raw[[#All],[END_DATE]:[CHURNED_MEMBERS]],2,FALSE)","v":2022},{"$f":"VLOOKUP('Weekly Metrics'!FW5,Weekly_Data_Raw[[#All],[END_DATE]:[CHURNED_MEMBERS]],2,FALSE)","v":2022},{"$f":"VLOOKUP('Weekly Metrics'!FX5,Weekly_Data_Raw[[#All],[END_DATE]:[CHURNED_MEMBERS]],2,FALSE)","v":2022},{"$f":"VLOOKUP('Weekly Metrics'!FY5,Weekly_Data_Raw[[#All],[END_DATE]:[CHURNED_MEMBERS]],2,FALSE)","v":2022},{"$f":"VLOOKUP('Weekly Metrics'!FZ5,Weekly_Data_Raw[[#All],[END_DATE]:[CHURNED_MEMBERS]],2,FALSE)","v":2022},{"$f":"VLOOKUP('Weekly Metrics'!GA5,Weekly_Data_Raw[[#All],[END_DATE]:[CHURNED_MEMBERS]],2,FALSE)","v":2022},{"$f":"VLOOKUP('Weekly Metrics'!GB5,Weekly_Data_Raw[[#All],[END_DATE]:[CHURNED_MEMBERS]],2,FALSE)","v":2022},{"$f":"VLOOKUP('Weekly Metrics'!GC5,Weekly_Data_Raw[[#All],[END_DATE]:[CHURNED_MEMBERS]],2,FALSE)","v":2022},{"$f":"VLOOKUP('Weekly Metrics'!GD5,Weekly_Data_Raw[[#All],[END_DATE]:[CHURNED_MEMBERS]],2,FALSE)","v":2022},{"$f":"VLOOKUP('Weekly Metrics'!GE5,Weekly_Data_Raw[[#All],[END_DATE]:[CHURNED_MEMBERS]],2,FALSE)","v":2022},{"$f":"VLOOKUP('Weekly Metrics'!GF5,Weekly_Data_Raw[[#All],[END_DATE]:[CHURNED_MEMBERS]],2,FALSE)","v":2022},{"$f":"VLOOKUP('Weekly Metrics'!GG5,Weekly_Data_Raw[[#All],[END_DATE]:[CHURNED_MEMBERS]],2,FALSE)","v":2022},{"$f":"VLOOKUP('Weekly Metrics'!GH5,Weekly_Data_Raw[[#All],[END_DATE]:[CHURNED_MEMBERS]],2,FALSE)","v":2022},{"$f":"VLOOKUP('Weekly Metrics'!GI5,Weekly_Data_Raw[[#All],[END_DATE]:[CHURNED_MEMBERS]],2,FALSE)","v":2022},{"$f":"VLOOKUP('Weekly Metrics'!GJ5,Weekly_Data_Raw[[#All],[END_DATE]:[CHURNED_MEMBERS]],2,FALSE)","v":2022},{"$f":"VLOOKUP('Weekly Metrics'!GK5,Weekly_Data_Raw[[#All],[END_DATE]:[CHURNED_MEMBERS]],2,FALSE)","v":2022},{"$f":"VLOOKUP('Weekly Metrics'!GL5,Weekly_Data_Raw[[#All],[END_DATE]:[CHURNED_MEMBERS]],2,FALSE)","v":2022},{"$f":"VLOOKUP('Weekly Metrics'!GM5,Weekly_Data_Raw[[#All],[END_DATE]:[CHURNED_MEMBERS]],2,FALSE)","v":2022},{"$f":"VLOOKUP('Weekly Metrics'!GN5,Weekly_Data_Raw[[#All],[END_DATE]:[CHURNED_MEMBERS]],2,FALSE)","v":2022},{"$f":"VLOOKUP('Weekly Metrics'!GO5,Weekly_Data_Raw[[#All],[END_DATE]:[CHURNED_MEMBERS]],2,FALSE)","v":2022},{"$f":"VLOOKUP('Weekly Metrics'!GP5,Weekly_Data_Raw[[#All],[END_DATE]:[CHURNED_MEMBERS]],2,FALSE)","v":2022},{"$f":"VLOOKUP('Weekly Metrics'!GQ5,Weekly_Data_Raw[[#All],[END_DATE]:[CHURNED_MEMBERS]],2,FALSE)","v":2022},{"$f":"VLOOKUP('Weekly Metrics'!GR5,Weekly_Data_Raw[[#All],[END_DATE]:[CHURNED_MEMBERS]],2,FALSE)","v":2022},{"$f":"VLOOKUP('Weekly Metrics'!GS5,Weekly_Data_Raw[[#All],[END_DATE]:[CHURNED_MEMBERS]],2,FALSE)","v":2022},{"$f":"VLOOKUP('Weekly Metrics'!GT5,Weekly_Data_Raw[[#All],[END_DATE]:[CHURNED_MEMBERS]],2,FALSE)","v":2022},{"$f":"VLOOKUP('Weekly Metrics'!GU5,Weekly_Data_Raw[[#All],[END_DATE]:[CHURNED_MEMBERS]],2,FALSE)","v":2022},{"$f":"VLOOKUP('Weekly Metrics'!GV5,Weekly_Data_Raw[[#All],[END_DATE]:[CHURNED_MEMBERS]],2,FALSE)","v":2022},{"$f":"VLOOKUP('Weekly Metrics'!GW5,Weekly_Data_Raw[[#All],[END_DATE]:[CHURNED_MEMBERS]],2,FALSE)","v":2022},{"$f":"VLOOKUP('Weekly Metrics'!GX5,Weekly_Data_Raw[[#All],[END_DATE]:[CHURNED_MEMBERS]],2,FALSE)","v":2022},{"$f":"VLOOKUP('Weekly Metrics'!GY5,Weekly_Data_Raw[[#All],[END_DATE]:[CHURNED_MEMBERS]],2,FALSE)","v":2022},{"$f":"VLOOKUP('Weekly Metrics'!GZ5,Weekly_Data_Raw[[#All],[END_DATE]:[CHURNED_MEMBERS]],2,FALSE)","v":2022},{"$f":"VLOOKUP('Weekly Metrics'!HA5,Weekly_Data_Raw[[#All],[END_DATE]:[CHURNED_MEMBERS]],2,FALSE)","v":2022},{"$f":"VLOOKUP('Weekly Metrics'!HB5,Weekly_Data_Raw[[#All],[END_DATE]:[CHURNED_MEMBERS]],2,FALSE)","v":2022},{"$f":"VLOOKUP('Weekly Metrics'!HC5,Weekly_Data_Raw[[#All],[END_DATE]:[CHURNED_MEMBERS]],2,FALSE)","v":2022},{"$f":"VLOOKUP('Weekly Metrics'!HD5,Weekly_Data_Raw[[#All],[END_DATE]:[CHURNED_MEMBERS]],2,FALSE)","v":2023},{"$f":"VLOOKUP('Weekly Metrics'!HE5,Weekly_Data_Raw[[#All],[END_DATE]:[CHURNED_MEMBERS]],2,FALSE)","v":2023},{"$f":"VLOOKUP('Weekly Metrics'!HF5,Weekly_Data_Raw[[#All],[END_DATE]:[CHURNED_MEMBERS]],2,FALSE)","v":2023},{"$f":"VLOOKUP('Weekly Metrics'!HG5,Weekly_Data_Raw[[#All],[END_DATE]:[CHURNED_MEMBERS]],2,FALSE)","v":2023},{"$f":"VLOOKUP('Weekly Metrics'!HH5,Weekly_Data_Raw[[#All],[END_DATE]:[CHURNED_MEMBERS]],2,FALSE)","v":2023},{"$f":"VLOOKUP('Weekly Metrics'!HI5,Weekly_Data_Raw[[#All],[END_DATE]:[CHURNED_MEMBERS]],2,FALSE)","v":2023},{"$f":"VLOOKUP('Weekly Metrics'!HJ5,Weekly_Data_Raw[[#All],[END_DATE]:[CHURNED_MEMBERS]],2,FALSE)","v":2023},{"$f":"VLOOKUP('Weekly Metrics'!HK5,Weekly_Data_Raw[[#All],[END_DATE]:[CHURNED_MEMBERS]],2,FALSE)","v":2023},{"$f":"VLOOKUP('Weekly Metrics'!HL5,Weekly_Data_Raw[[#All],[END_DATE]:[CHURNED_MEMBERS]],2,FALSE)","v":2023},{"$f":"VLOOKUP('Weekly Metrics'!HM5,Weekly_Data_Raw[[#All],[END_DATE]:[CHURNED_MEMBERS]],2,FALSE)","v":2023},{"$f":"VLOOKUP('Weekly Metrics'!HN5,Weekly_Data_Raw[[#All],[END_DATE]:[CHURNED_MEMBERS]],2,FALSE)","v":2023},{"$f":"VLOOKUP('Weekly Metrics'!HO5,Weekly_Data_Raw[[#All],[END_DATE]:[CHURNED_MEMBERS]],2,FALSE)","v":2023},{"$f":"VLOOKUP('Weekly Metrics'!HP5,Weekly_Data_Raw[[#All],[END_DATE]:[CHURNED_MEMBERS]],2,FALSE)","v":2023},{"$f":"VLOOKUP('Weekly Metrics'!HQ5,Weekly_Data_Raw[[#All],[END_DATE]:[CHURNED_MEMBERS]],2,FALSE)","v":2023},{"$f":"VLOOKUP('Weekly Metrics'!HR5,Weekly_Data_Raw[[#All],[END_DATE]:[CHURNED_MEMBERS]],2,FALSE)","v":2023},{"$f":"VLOOKUP('Weekly Metrics'!HS5,Weekly_Data_Raw[[#All],[END_DATE]:[CHURNED_MEMBERS]],2,FALSE)","v":2023},{"$f":"VLOOKUP('Weekly Metrics'!HT5,Weekly_Data_Raw[[#All],[END_DATE]:[CHURNED_MEMBERS]],2,FALSE)","v":2023}]
[null,null,{"$f":"VLOOKUP('Weekly Metrics'!C5,Weekly_Data_Raw[[#All],[END_DATE]:[CHURNED_MEMBERS]],3,FALSE)","v":"Week 1"},{"$f":"VLOOKUP('Weekly Metrics'!D5,Weekly_Data_Raw[[#All],[END_DATE]:[CHURNED_MEMBERS]],3,FALSE)","v":"Week 2"},{"$f":"VLOOKUP('Weekly Metrics'!E5,Weekly_Data_Raw[[#All],[END_DATE]:[CHURNED_MEMBERS]],3,FALSE)","v":"Week 3"},{"$f":"VLOOKUP('Weekly Metrics'!F5,Weekly_Data_Raw[[#All],[END_DATE]:[CHURNED_MEMBERS]],3,FALSE)","v":"Week 4"},{"$f":"VLOOKUP('Weekly Metrics'!G5,Weekly_Data_Raw[[#All],[END_DATE]:[CHURNED_MEMBERS]],3,FALSE)","v":"Week 5"},{"$f":"VLOOKUP('Weekly Metrics'!H5,Weekly_Data_Raw[[#All],[END_DATE]:[CHURNED_MEMBERS]],3,FALSE)","v":"Week 6"},{"$f":"VLOOKUP('Weekly Metrics'!I5,Weekly_Data_Raw[[#All],[END_DATE]:[CHURNED_MEMBERS]],3,FALSE)","v":"Week 7"},{"$f":"VLOOKUP('Weekly Metrics'!J5,Weekly_Data_Raw[[#All],[END_DATE]:[CHURNED_MEMBERS]],3,FALSE)","v":"Week 8"},{"$f":"VLOOKUP('Weekly Metrics'!K5,Weekly_Data_Raw[[#All],[END_DATE]:[CHURNED_MEMBERS]],3,FALSE)","v":"Week 9"},{"$f":"VLOOKUP('Weekly Metrics'!L5,Weekly_Data_Raw[[#All],[END_DATE]:[CHURNED_MEMBERS]],3,FALSE)","v":"Week 10"},{"$f":"VLOOKUP('Weekly Metrics'!M5,Weekly_Data_Raw[[#All],[END_DATE]:[CHURNED_MEMBERS]],3,FALSE)","v":"Week 11"},{"$f":"VLOOKUP('Weekly Metrics'!N5,Weekly_Data_Raw[[#All],[END_DATE]:[CHURNED_MEMBERS]],3,FALSE)","v":"Week 12"},{"$f":"VLOOKUP('Weekly Metrics'!O5,Weekly_Data_Raw[[#All],[END_DATE]:[CHURNED_MEMBERS]],3,FALSE)","v":"Week 13"},{"$f":"VLOOKUP('Weekly Metrics'!P5,Weekly_Data_Raw[[#All],[END_DATE]:[CHURNED_MEMBERS]],3,FALSE)","v":"Week 14"},{"$f":"VLOOKUP('Weekly Metrics'!Q5,Weekly_Data_Raw[[#All],[END_DATE]:[CHURNED_MEMBERS]],3,FALSE)","v":"Week 15"},{"$f":"VLOOKUP('Weekly Metrics'!R5,Weekly_Data_Raw[[#All],[END_DATE]:[CHURNED_MEMBERS]],3,FALSE)","v":"Week 16"},{"$f":"VLOOKUP('Weekly Metrics'!S5,Weekly_Data_Raw[[#All],[END_DATE]:[CHURNED_MEMBERS]],3,FALSE)","v":"Week 17"},{"$f":"VLOOKUP('Weekly Metrics'!T5,Weekly_Data_Raw[[#All],[END_DATE]:[CHURNED_MEMBERS]],3,FALSE)","v":"Week 18"},{"$f":"VLOOKUP('Weekly Metrics'!U5,Weekly_Data_Raw[[#All],[END_DATE]:[CHURNED_MEMBERS]],3,FALSE)","v":"Week 19"},{"$f":"VLOOKUP('Weekly Metrics'!V5,Weekly_Data_Raw[[#All],[END_DATE]:[CHURNED_MEMBERS]],3,FALSE)","v":"Week 20"},{"$f":"VLOOKUP('Weekly Metrics'!W5,Weekly_Data_Raw[[#All],[END_DATE]:[CHURNED_MEMBERS]],3,FALSE)","v":"Week 21"},{"$f":"VLOOKUP('Weekly Metrics'!X5,Weekly_Data_Raw[[#All],[END_DATE]:[CHURNED_MEMBERS]],3,FALSE)","v":"Week 22"},{"$f":"VLOOKUP('Weekly Metrics'!Y5,Weekly_Data_Raw[[#All],[END_DATE]:[CHURNED_MEMBERS]],3,FALSE)","v":"Week 23"},{"$f":"VLOOKUP('Weekly Metrics'!Z5,Weekly_Data_Raw[[#All],[END_DATE]:[CHURNED_MEMBERS]],3,FALSE)","v":"Week 24"},{"$f":"VLOOKUP('Weekly Metrics'!AA5,Weekly_Data_Raw[[#All],[END_DATE]:[CHURNED_MEMBERS]],3,FALSE)","v":"Week 25"},{"$f":"VLOOKUP('Weekly Metrics'!AB5,Weekly_Data_Raw[[#All],[END_DATE]:[CHURNED_MEMBERS]],3,FALSE)","v":"Week 26"},{"$f":"VLOOKUP('Weekly Metrics'!AC5,Weekly_Data_Raw[[#All],[END_DATE]:[CHURNED_MEMBERS]],3,FALSE)","v":"Week 27"},{"$f":"VLOOKUP('Weekly Metrics'!AD5,Weekly_Data_Raw[[#All],[END_DATE]:[CHURNED_MEMBERS]],3,FALSE)","v":"Week 28"},{"$f":"VLOOKUP('Weekly Metrics'!AE5,Weekly_Data_Raw[[#All],[END_DATE]:[CHURNED_MEMBERS]],3,FALSE)","v":"Week 29"},{"$f":"VLOOKUP('Weekly Metrics'!AF5,Weekly_Data_Raw[[#All],[END_DATE]:[CHURNED_MEMBERS]],3,FALSE)","v":"Week 30"},{"$f":"VLOOKUP('Weekly Metrics'!AG5,Weekly_Data_Raw[[#All],[END_DATE]:[CHURNED_MEMBERS]],3,FALSE)","v":"Week 31"},{"$f":"VLOOKUP('Weekly Metrics'!AH5,Weekly_Data_Raw[[#All],[END_DATE]:[CHURNED_MEMBERS]],3,FALSE)","v":"Week 32"},{"$f":"VLOOKUP('Weekly Metrics'!AI5,Weekly_Data_Raw[[#All],[END_DATE]:[CHURNED_MEMBERS]],3,FALSE)","v":"Week 33"},{"$f":"VLOOKUP('Weekly Metrics'!AJ5,Weekly_Data_Raw[[#All],[END_DATE]:[CHURNED_MEMBERS]],3,FALSE)","v":"Week 34"},{"$f":"VLOOKUP('Weekly Metrics'!AK5,Weekly_Data_Raw[[#All],[END_DATE]:[CHURNED_MEMBERS]],3,FALSE)","v":"Week 35"},{"$f":"VLOOKUP('Weekly Metrics'!AL5,Weekly_Data_Raw[[#All],[END_DATE]:[CHURNED_MEMBERS]],3,FALSE)","v":"Week 36"},{"$f":"VLOOKUP('Weekly Metrics'!AM5,Weekly_Data_Raw[[#All],[END_DATE]:[CHURNED_MEMBERS]],3,FALSE)","v":"Week 37"},{"$f":"VLOOKUP('Weekly Metrics'!AN5,Weekly_Data_Raw[[#All],[END_DATE]:[CHURNED_MEMBERS]],3,FALSE)","v":"Week 38"},{"$f":"VLOOKUP('Weekly Metrics'!AO5,Weekly_Data_Raw[[#All],[END_DATE]:[CHURNED_MEMBERS]],3,FALSE)","v":"Week 39"},{"$f":"VLOOKUP('Weekly Metrics'!AP5,Weekly_Data_Raw[[#All],[END_DATE]:[CHURNED_MEMBERS]],3,FALSE)","v":"Week 40"},{"$f":"VLOOKUP('Weekly Metrics'!AQ5,Weekly_Data_Raw[[#All],[END_DATE]:[CHURNED_MEMBERS]],3,FALSE)","v":"Week 41"},{"$f":"VLOOKUP('Weekly Metrics'!AR5,Weekly_Data_Raw[[#All],[END_DATE]:[CHURNED_MEMBERS]],3,FALSE)","v":"Week 42"},{"$f":"VLOOKUP('Weekly Metrics'!AS5,Weekly_Data_Raw[[#All],[END_DATE]:[CHURNED_MEMBERS]],3,FALSE)","v":"Week 43"},{"$f":"VLOOKUP('Weekly Metrics'!AT5,Weekly_Data_Raw[[#All],[END_DATE]:[CHURNED_MEMBERS]],3,FALSE)","v":"Week 44"},{"$f":"VLOOKUP('Weekly Metrics'!AU5,Weekly_Data_Raw[[#All],[END_DATE]:[CHURNED_MEMBERS]],3,FALSE)","v":"Week 45"},{"$f":"VLOOKUP('Weekly Metrics'!AV5,Weekly_Data_Raw[[#All],[END_DATE]:[CHURNED_MEMBERS]],3,FALSE)","v":"Week 46"},{"$f":"VLOOKUP('Weekly Metrics'!AW5,Weekly_Data_Raw[[#All],[END_DATE]:[CHURNED_MEMBERS]],3,FALSE)","v":"Week 47"},{"$f":"VLOOKUP('Weekly Metrics'!AX5,Weekly_Data_Raw[[#All],[END_DATE]:[CHURNED_MEMBERS]],3,FALSE)","v":"Week 48"},{"$f":"VLOOKUP('Weekly Metrics'!AY5,Weekly_Data_Raw[[#All],[END_DATE]:[CHURNED_MEMBERS]],3,FALSE)","v":"Week 49"},{"$f":"VLOOKUP('Weekly Metrics'!AZ5,Weekly_Data_Raw[[#All],[END_DATE]:[CHURNED_MEMBERS]],3,FALSE)","v":"Week 50"},{"$f":"VLOOKUP('Weekly Metrics'!BA5,Weekly_Data_Raw[[#All],[END_DATE]:[CHURNED_MEMBERS]],3,FALSE)","v":"Week 51"},{"$f":"VLOOKUP('Weekly Metrics'!BB5,Weekly_Data_Raw[[#All],[END_DATE]:[CHURNED_MEMBERS]],3,FALSE)","v":"Week 52"},{"$f":"VLOOKUP('Weekly Metrics'!BC5,Weekly_Data_Raw[[#All],[END_DATE]:[CHURNED_MEMBERS]],3,FALSE)","v":"Week 1"},{"$f":"VLOOKUP('Weekly Metrics'!BD5,Weekly_Data_Raw[[#All],[END_DATE]:[CHURNED_MEMBERS]],3,FALSE)","v":"Week 2"},{"$f":"VLOOKUP('Weekly Metrics'!BE5,Weekly_Data_Raw[[#All],[END_DATE]:[CHURNED_MEMBERS]],3,FALSE)","v":"Week 3"},{"$f":"VLOOKUP('Weekly Metrics'!BF5,Weekly_Data_Raw[[#All],[END_DATE]:[CHURNED_MEMBERS]],3,FALSE)","v":"Week 4"},{"$f":"VLOOKUP('Weekly Metrics'!BG5,Weekly_Data_Raw[[#All],[END_DATE]:[CHURNED_MEMBERS]],3,FALSE)","v":"Week 5"},{"$f":"VLOOKUP('Weekly Metrics'!BH5,Weekly_Data_Raw[[#All],[END_DATE]:[CHURNED_MEMBERS]],3,FALSE)","v":"Week 6"},{"$f":"VLOOKUP('Weekly Metrics'!BI5,Weekly_Data_Raw[[#All],[END_DATE]:[CHURNED_MEMBERS]],3,FALSE)","v":"Week 7"},{"$f":"VLOOKUP('Weekly Metrics'!BJ5,Weekly_Data_Raw[[#All],[END_DATE]:[CHURNED_MEMBERS]],3,FALSE)","v":"Week 8"},{"$f":"VLOOKUP('Weekly Metrics'!BK5,Weekly_Data_Raw[[#All],[END_DATE]:[CHURNED_MEMBERS]],3,FALSE)","v":"Week 9"},{"$f":"VLOOKUP('Weekly Metrics'!BL5,Weekly_Data_Raw[[#All],[END_DATE]:[CHURNED_MEMBERS]],3,FALSE)","v":"Week 10"},{"$f":"VLOOKUP('Weekly Metrics'!BM5,Weekly_Data_Raw[[#All],[END_DATE]:[CHURNED_MEMBERS]],3,FALSE)","v":"Week 11"},{"$f":"VLOOKUP('Weekly Metrics'!BN5,Weekly_Data_Raw[[#All],[END_DATE]:[CHURNED_MEMBERS]],3,FALSE)","v":"Week 12"},{"$f":"VLOOKUP('Weekly Metrics'!BO5,Weekly_Data_Raw[[#All],[END_DATE]:[CHURNED_MEMBERS]],3,FALSE)","v":"Week 13"},{"$f":"VLOOKUP('Weekly Metrics'!BP5,Weekly_Data_Raw[[#All],[END_DATE]:[CHURNED_MEMBERS]],3,FALSE)","v":"Week 14"},{"$f":"VLOOKUP('Weekly Metrics'!BQ5,Weekly_Data_Raw[[#All],[END_DATE]:[CHURNED_MEMBERS]],3,FALSE)","v":"Week 15"},{"$f":"VLOOKUP('Weekly Metrics'!BR5,Weekly_Data_Raw[[#All],[END_DATE]:[CHURNED_MEMBERS]],3,FALSE)","v":"Week 16"},{"$f":"VLOOKUP('Weekly Metrics'!BS5,Weekly_Data_Raw[[#All],[END_DATE]:[CHURNED_MEMBERS]],3,FALSE)","v":"Week 17"},{"$f":"VLOOKUP('Weekly Metrics'!BT5,Weekly_Data_Raw[[#All],[END_DATE]:[CHURNED_MEMBERS]],3,FALSE)","v":"Week 18"},{"$f":"VLOOKUP('Weekly Metrics'!BU5,Weekly_Data_Raw[[#All],[END_DATE]:[CHURNED_MEMBERS]],3,FALSE)","v":"Week 19"},{"$f":"VLOOKUP('Weekly Metrics'!BV5,Weekly_Data_Raw[[#All],[END_DATE]:[CHURNED_MEMBERS]],3,FALSE)","v":"Week 20"},{"$f":"VLOOKUP('Weekly Metrics'!BW5,Weekly_Data_Raw[[#All],[END_DATE]:[CHURNED_MEMBERS]],3,FALSE)","v":"Week 21"},{"$f":"VLOOKUP('Weekly Metrics'!BX5,Weekly_Data_Raw[[#All],[END_DATE]:[CHURNED_MEMBERS]],3,FALSE)","v":"Week 22"},{"$f":"VLOOKUP('Weekly Metrics'!BY5,Weekly_Data_Raw[[#All],[END_DATE]:[CHURNED_MEMBERS]],3,FALSE)","v":"Week 23"},{"$f":"VLOOKUP('Weekly Metrics'!BZ5,Weekly_Data_Raw[[#All],[END_DATE]:[CHURNED_MEMBERS]],3,FALSE)","v":"Week 24"},{"$f":"VLOOKUP('Weekly Metrics'!CA5,Weekly_Data_Raw[[#All],[END_DATE]:[CHURNED_MEMBERS]],3,FALSE)","v":"Week 25"},{"$f":"VLOOKUP('Weekly Metrics'!CB5,Weekly_Data_Raw[[#All],[END_DATE]:[CHURNED_MEMBERS]],3,FALSE)","v":"Week 26"},{"$f":"VLOOKUP('Weekly Metrics'!CC5,Weekly_Data_Raw[[#All],[END_DATE]:[CHURNED_MEMBERS]],3,FALSE)","v":"Week 27"},{"$f":"VLOOKUP('Weekly Metrics'!CD5,Weekly_Data_Raw[[#All],[END_DATE]:[CHURNED_MEMBERS]],3,FALSE)","v":"Week 28"},{"$f":"VLOOKUP('Weekly Metrics'!CE5,Weekly_Data_Raw[[#All],[END_DATE]:[CHURNED_MEMBERS]],3,FALSE)","v":"Week 29"},{"$f":"VLOOKUP('Weekly Metrics'!CF5,Weekly_Data_Raw[[#All],[END_DATE]:[CHURNED_MEMBERS]],3,FALSE)","v":"Week 30"},{"$f":"VLOOKUP('Weekly Metrics'!CG5,Weekly_Data_Raw[[#All],[END_DATE]:[CHURNED_MEMBERS]],3,FALSE)","v":"Week 31"},{"$f":"VLOOKUP('Weekly Metrics'!CH5,Weekly_Data_Raw[[#All],[END_DATE]:[CHURNED_MEMBERS]],3,FALSE)","v":"Week 32"},{"$f":"VLOOKUP('Weekly Metrics'!CI5,Weekly_Data_Raw[[#All],[END_DATE]:[CHURNED_MEMBERS]],3,FALSE)","v":"Week 33"},{"$f":"VLOOKUP('Weekly Metrics'!CJ5,Weekly_Data_Raw[[#All],[END_DATE]:[CHURNED_MEMBERS]],3,FALSE)","v":"Week 34"},{"$f":"VLOOKUP('Weekly Metrics'!CK5,Weekly_Data_Raw[[#All],[END_DATE]:[CHURNED_MEMBERS]],3,FALSE)","v":"Week 35"},{"$f":"VLOOKUP('Weekly Metrics'!CL5,Weekly_Data_Raw[[#All],[END_DATE]:[CHURNED_MEMBERS]],3,FALSE)","v":"Week 36"},{"$f":"VLOOKUP('Weekly Metrics'!CM5,Weekly_Data_Raw[[#All],[END_DATE]:[CHURNED_MEMBERS]],3,FALSE)","v":"Week 37"},{"$f":"VLOOKUP('Weekly Metrics'!CN5,Weekly_Data_Raw[[#All],[END_DATE]:[CHURNED_MEMBERS]],3,FALSE)","v":"Week 38"},{"$f":"VLOOKUP('Weekly Metrics'!CO5,Weekly_Data_Raw[[#All],[END_DATE]:[CHURNED_MEMBERS]],3,FALSE)","v":"Week 39"},{"$f":"VLOOKUP('Weekly Metrics'!CP5,Weekly_Data_Raw[[#All],[END_DATE]:[CHURNED_MEMBERS]],3,FALSE)","v":"Week 40"},{"$f":"VLOOKUP('Weekly Metrics'!CQ5,Weekly_Data_Raw[[#All],[END_DATE]:[CHURNED_MEMBERS]],3,FALSE)","v":"Week 41"},{"$f":"VLOOKUP('Weekly Metrics'!CR5,Weekly_Data_Raw[[#All],[END_DATE]:[CHURNED_MEMBERS]],3,FALSE)","v":"Week 42"},{"$f":"VLOOKUP('Weekly Metrics'!CS5,Weekly_Data_Raw[[#All],[END_DATE]:[CHURNED_MEMBERS]],3,FALSE)","v":"Week 43"},{"$f":"VLOOKUP('Weekly Metrics'!CT5,Weekly_Data_Raw[[#All],[END_DATE]:[CHURNED_MEMBERS]],3,FALSE)","v":"Week 44"},{"$f":"VLOOKUP('Weekly Metrics'!CU5,Weekly_Data_Raw[[#All],[END_DATE]:[CHURNED_MEMBERS]],3,FALSE)","v":"Week 45"},{"$f":"VLOOKUP('Weekly Metrics'!CV5,Weekly_Data_Raw[[#All],[END_DATE]:[CHURNED_MEMBERS]],3,FALSE)","v":"Week 46"},{"$f":"VLOOKUP('Weekly Metrics'!CW5,Weekly_Data_Raw[[#All],[END_DATE]:[CHURNED_MEMBERS]],3,FALSE)","v":"Week 47"},{"$f":"VLOOKUP('Weekly Metrics'!CX5,Weekly_Data_Raw[[#All],[END_DATE]:[CHURNED_MEMBERS]],3,FALSE)","v":"Week 48"},{"$f":"VLOOKUP('Weekly Metrics'!CY5,Weekly_Data_Raw[[#All],[END_DATE]:[CHURNED_MEMBERS]],3,FALSE)","v":"Week 49"},{"$f":"VLOOKUP('Weekly Metrics'!CZ5,Weekly_Data_Raw[[#All],[END_DATE]:[CHURNED_MEMBERS]],3,FALSE)","v":"Week 50"},{"$f":"VLOOKUP('Weekly Metrics'!DA5,Weekly_Data_Raw[[#All],[END_DATE]:[CHURNED_MEMBERS]],3,FALSE)","v":"Week 51"},{"$f":"VLOOKUP('Weekly Metrics'!DB5,Weekly_Data_Raw[[#All],[END_DATE]:[CHURNED_MEMBERS]],3,FALSE)","v":"Week 52"},{"$f":"VLOOKUP('Weekly Metrics'!DC5,Weekly_Data_Raw[[#All],[END_DATE]:[CHURNED_MEMBERS]],3,FALSE)","v":"Week 53"},{"$f":"VLOOKUP('Weekly Metrics'!DD5,Weekly_Data_Raw[[#All],[END_DATE]:[CHURNED_MEMBERS]],3,FALSE)","v":"Week 1"},{"$f":"VLOOKUP('Weekly Metrics'!DE5,Weekly_Data_Raw[[#All],[END_DATE]:[CHURNED_MEMBERS]],3,FALSE)","v":"Week 2"},{"$f":"VLOOKUP('Weekly Metrics'!DF5,Weekly_Data_Raw[[#All],[END_DATE]:[CHURNED_MEMBERS]],3,FALSE)","v":"Week 3"},{"$f":"VLOOKUP('Weekly Metrics'!DG5,Weekly_Data_Raw[[#All],[END_DATE]:[CHURNED_MEMBERS]],3,FALSE)","v":"Week 4"},{"$f":"VLOOKUP('Weekly Metrics'!DH5,Weekly_Data_Raw[[#All],[END_DATE]:[CHURNED_MEMBERS]],3,FALSE)","v":"Week 5"},{"$f":"VLOOKUP('Weekly Metrics'!DI5,Weekly_Data_Raw[[#All],[END_DATE]:[CHURNED_MEMBERS]],3,FALSE)","v":"Week 6"},{"$f":"VLOOKUP('Weekly Metrics'!DJ5,Weekly_Data_Raw[[#All],[END_DATE]:[CHURNED_MEMBERS]],3,FALSE)","v":"Week 7"},{"$f":"VLOOKUP('Weekly Metrics'!DK5,Weekly_Data_Raw[[#All],[END_DATE]:[CHURNED_MEMBERS]],3,FALSE)","v":"Week 8"},{"$f":"VLOOKUP('Weekly Metrics'!DL5,Weekly_Data_Raw[[#All],[END_DATE]:[CHURNED_MEMBERS]],3,FALSE)","v":"Week 9"},{"$f":"VLOOKUP('Weekly Metrics'!DM5,Weekly_Data_Raw[[#All],[END_DATE]:[CHURNED_MEMBERS]],3,FALSE)","v":"Week 10"},{"$f":"VLOOKUP('Weekly Metrics'!DN5,Weekly_Data_Raw[[#All],[END_DATE]:[CHURNED_MEMBERS]],3,FALSE)","v":"Week 11"},{"$f":"VLOOKUP('Weekly Metrics'!DO5,Weekly_Data_Raw[[#All],[END_DATE]:[CHURNED_MEMBERS]],3,FALSE)","v":"Week 12"},{"$f":"VLOOKUP('Weekly Metrics'!DP5,Weekly_Data_Raw[[#All],[END_DATE]:[CHURNED_MEMBERS]],3,FALSE)","v":"Week 13"},{"$f":"VLOOKUP('Weekly Metrics'!DQ5,Weekly_Data_Raw[[#All],[END_DATE]:[CHURNED_MEMBERS]],3,FALSE)","v":"Week 14"},{"$f":"VLOOKUP('Weekly Metrics'!DR5,Weekly_Data_Raw[[#All],[END_DATE]:[CHURNED_MEMBERS]],3,FALSE)","v":"Week 15"},{"$f":"VLOOKUP('Weekly Metrics'!DS5,Weekly_Data_Raw[[#All],[END_DATE]:[CHURNED_MEMBERS]],3,FALSE)","v":"Week 16"},{"$f":"VLOOKUP('Weekly Metrics'!DT5,Weekly_Data_Raw[[#All],[END_DATE]:[CHURNED_MEMBERS]],3,FALSE)","v":"Week 17"},{"$f":"VLOOKUP('Weekly Metrics'!DU5,Weekly_Data_Raw[[#All],[END_DATE]:[CHURNED_MEMBERS]],3,FALSE)","v":"Week 18"},{"$f":"VLOOKUP('Weekly Metrics'!DV5,Weekly_Data_Raw[[#All],[END_DATE]:[CHURNED_MEMBERS]],3,FALSE)","v":"Week 19"},{"$f":"VLOOKUP('Weekly Metrics'!DW5,Weekly_Data_Raw[[#All],[END_DATE]:[CHURNED_MEMBERS]],3,FALSE)","v":"Week 20"},{"$f":"VLOOKUP('Weekly Metrics'!DX5,Weekly_Data_Raw[[#All],[END_DATE]:[CHURNED_MEMBERS]],3,FALSE)","v":"Week 21"},{"$f":"VLOOKUP('Weekly Metrics'!DY5,Weekly_Data_Raw[[#All],[END_DATE]:[CHURNED_MEMBERS]],3,FALSE)","v":"Week 22"},{"$f":"VLOOKUP('Weekly Metrics'!DZ5,Weekly_Data_Raw[[#All],[END_DATE]:[CHURNED_MEMBERS]],3,FALSE)","v":"Week 23"},{"$f":"VLOOKUP('Weekly Metrics'!EA5,Weekly_Data_Raw[[#All],[END_DATE]:[CHURNED_MEMBERS]],3,FALSE)","v":"Week 24"},{"$f":"VLOOKUP('Weekly Metrics'!EB5,Weekly_Data_Raw[[#All],[END_DATE]:[CHURNED_MEMBERS]],3,FALSE)","v":"Week 25"},{"$f":"VLOOKUP('Weekly Metrics'!EC5,Weekly_Data_Raw[[#All],[END_DATE]:[CHURNED_MEMBERS]],3,FALSE)","v":"Week 26"},{"$f":"VLOOKUP('Weekly Metrics'!ED5,Weekly_Data_Raw[[#All],[END_DATE]:[CHURNED_MEMBERS]],3,FALSE)","v":"Week 27"},{"$f":"VLOOKUP('Weekly Metrics'!EE5,Weekly_Data_Raw[[#All],[END_DATE]:[CHURNED_MEMBERS]],3,FALSE)","v":"Week 28"},{"$f":"VLOOKUP('Weekly Metrics'!EF5,Weekly_Data_Raw[[#All],[END_DATE]:[CHURNED_MEMBERS]],3,FALSE)","v":"Week 29"},{"$f":"VLOOKUP('Weekly Metrics'!EG5,Weekly_Data_Raw[[#All],[END_DATE]:[CHURNED_MEMBERS]],3,FALSE)","v":"Week 30"},{"$f":"VLOOKUP('Weekly Metrics'!EH5,Weekly_Data_Raw[[#All],[END_DATE]:[CHURNED_MEMBERS]],3,FALSE)","v":"Week 31"},{"$f":"VLOOKUP('Weekly Metrics'!EI5,Weekly_Data_Raw[[#All],[END_DATE]:[CHURNED_MEMBERS]],3,FALSE)","v":"Week 32"},{"$f":"VLOOKUP('Weekly Metrics'!EJ5,Weekly_Data_Raw[[#All],[END_DATE]:[CHURNED_MEMBERS]],3,FALSE)","v":"Week 33"},{"$f":"VLOOKUP('Weekly Metrics'!EK5,Weekly_Data_Raw[[#All],[END_DATE]:[CHURNED_MEMBERS]],3,FALSE)","v":"Week 34"},{"$f":"VLOOKUP('Weekly Metrics'!EL5,Weekly_Data_Raw[[#All],[END_DATE]:[CHURNED_MEMBERS]],3,FALSE)","v":"Week 35"},{"$f":"VLOOKUP('Weekly Metrics'!EM5,Weekly_Data_Raw[[#All],[END_DATE]:[CHURNED_MEMBERS]],3,FALSE)","v":"Week 36"},{"$f":"VLOOKUP('Weekly Metrics'!EN5,Weekly_Data_Raw[[#All],[END_DATE]:[CHURNED_MEMBERS]],3,FALSE)","v":"Week 37"},{"$f":"VLOOKUP('Weekly Metrics'!EO5,Weekly_Data_Raw[[#All],[END_DATE]:[CHURNED_MEMBERS]],3,FALSE)","v":"Week 38"},{"$f":"VLOOKUP('Weekly Metrics'!EP5,Weekly_Data_Raw[[#All],[END_DATE]:[CHURNED_MEMBERS]],3,FALSE)","v":"Week 39"},{"$f":"VLOOKUP('Weekly Metrics'!EQ5,Weekly_Data_Raw[[#All],[END_DATE]:[CHURNED_MEMBERS]],3,FALSE)","v":"Week 40"},{"$f":"VLOOKUP('Weekly Metrics'!ER5,Weekly_Data_Raw[[#All],[END_DATE]:[CHURNED_MEMBERS]],3,FALSE)","v":"Week 41"},{"$f":"VLOOKUP('Weekly Metrics'!ES5,Weekly_Data_Raw[[#All],[END_DATE]:[CHURNED_MEMBERS]],3,FALSE)","v":"Week 42"},{"$f":"VLOOKUP('Weekly Metrics'!ET5,Weekly_Data_Raw[[#All],[END_DATE]:[CHURNED_MEMBERS]],3,FALSE)","v":"Week 43"},{"$f":"VLOOKUP('Weekly Metrics'!EU5,Weekly_Data_Raw[[#All],[END_DATE]:[CHURNED_MEMBERS]],3,FALSE)","v":"Week 44"},{"$f":"VLOOKUP('Weekly Metrics'!EV5,Weekly_Data_Raw[[#All],[END_DATE]:[CHURNED_MEMBERS]],3,FALSE)","v":"Week 45"},{"$f":"VLOOKUP('Weekly Metrics'!EW5,Weekly_Data_Raw[[#All],[END_DATE]:[CHURNED_MEMBERS]],3,FALSE)","v":"Week 46"},{"$f":"VLOOKUP('Weekly Metrics'!EX5,Weekly_Data_Raw[[#All],[END_DATE]:[CHURNED_MEMBERS]],3,FALSE)","v":"Week 47"},{"$f":"VLOOKUP('Weekly Metrics'!EY5,Weekly_Data_Raw[[#All],[END_DATE]:[CHURNED_MEMBERS]],3,FALSE)","v":"Week 48"},{"$f":"VLOOKUP('Weekly Metrics'!EZ5,Weekly_Data_Raw[[#All],[END_DATE]:[CHURNED_MEMBERS]],3,FALSE)","v":"Week 49"},{"$f":"VLOOKUP('Weekly Metrics'!FA5,Weekly_Data_Raw[[#All],[END_DATE]:[CHURNED_MEMBERS]],3,FALSE)","v":"Week 50"},{"$f":"VLOOKUP('Weekly Metrics'!FB5,Weekly_Data_Raw[[#All],[END_DATE]:[CHURNED_MEMBERS]],3,FALSE)","v":"Week 51"},{"$f":"VLOOKUP('Weekly Metrics'!FC5,Weekly_Data_Raw[[#All],[END_DATE]:[CHURNED_MEMBERS]],3,FALSE)","v":"Week 52"},{"$f":"VLOOKUP('Weekly Metrics'!FD5,Weekly_Data_Raw[[#All],[END_DATE]:[CHURNED_MEMBERS]],3,FALSE)","v":"Week 1"},{"$f":"VLOOKUP('Weekly Metrics'!FE5,Weekly_Data_Raw[[#All],[END_DATE]:[CHURNED_MEMBERS]],3,FALSE)","v":"Week 2"},{"$f":"VLOOKUP('Weekly Metrics'!FF5,Weekly_Data_Raw[[#All],[END_DATE]:[CHURNED_MEMBERS]],3,FALSE)","v":"Week 3"},{"$f":"VLOOKUP('Weekly Metrics'!FG5,Weekly_Data_Raw[[#All],[END_DATE]:[CHURNED_MEMBERS]],3,FALSE)","v":"Week 4"},{"$f":"VLOOKUP('Weekly Metrics'!FH5,Weekly_Data_Raw[[#All],[END_DATE]:[CHURNED_MEMBERS]],3,FALSE)","v":"Week 5"},{"$f":"VLOOKUP('Weekly Metrics'!FI5,Weekly_Data_Raw[[#All],[END_DATE]:[CHURNED_MEMBERS]],3,FALSE)","v":"Week 6"},{"$f":"VLOOKUP('Weekly Metrics'!FJ5,Weekly_Data_Raw[[#All],[END_DATE]:[CHURNED_MEMBERS]],3,FALSE)","v":"Week 7"},{"$f":"VLOOKUP('Weekly Metrics'!FK5,Weekly_Data_Raw[[#All],[END_DATE]:[CHURNED_MEMBERS]],3,FALSE)","v":"Week 8"},{"$f":"VLOOKUP('Weekly Metrics'!FL5,Weekly_Data_Raw[[#All],[END_DATE]:[CHURNED_MEMBERS]],3,FALSE)","v":"Week 9"},{"$f":"VLOOKUP('Weekly Metrics'!FM5,Weekly_Data_Raw[[#All],[END_DATE]:[CHURNED_MEMBERS]],3,FALSE)","v":"Week 10"},{"$f":"VLOOKUP('Weekly Metrics'!FN5,Weekly_Data_Raw[[#All],[END_DATE]:[CHURNED_MEMBERS]],3,FALSE)","v":"Week 11"},{"$f":"VLOOKUP('Weekly Metrics'!FO5,Weekly_Data_Raw[[#All],[END_DATE]:[CHURNED_MEMBERS]],3,FALSE)","v":"Week 12"},{"$f":"VLOOKUP('Weekly Metrics'!FP5,Weekly_Data_Raw[[#All],[END_DATE]:[CHURNED_MEMBERS]],3,FALSE)","v":"Week 13"},{"$f":"VLOOKUP('Weekly Metrics'!FQ5,Weekly_Data_Raw[[#All],[END_DATE]:[CHURNED_MEMBERS]],3,FALSE)","v":"Week 14"},{"$f":"VLOOKUP('Weekly Metrics'!FR5,Weekly_Data_Raw[[#All],[END_DATE]:[CHURNED_MEMBERS]],3,FALSE)","v":"Week 15"},{"$f":"VLOOKUP('Weekly Metrics'!FS5,Weekly_Data_Raw[[#All],[END_DATE]:[CHURNED_MEMBERS]],3,FALSE)","v":"Week 16"},{"$f":"VLOOKUP('Weekly Metrics'!FT5,Weekly_Data_Raw[[#All],[END_DATE]:[CHURNED_MEMBERS]],3,FALSE)","v":"Week 17"},{"$f":"VLOOKUP('Weekly Metrics'!FU5,Weekly_Data_Raw[[#All],[END_DATE]:[CHURNED_MEMBERS]],3,FALSE)","v":"Week 18"},{"$f":"VLOOKUP('Weekly Metrics'!FV5,Weekly_Data_Raw[[#All],[END_DATE]:[CHURNED_MEMBERS]],3,FALSE)","v":"Week 19"},{"$f":"VLOOKUP('Weekly Metrics'!FW5,Weekly_Data_Raw[[#All],[END_DATE]:[CHURNED_MEMBERS]],3,FALSE)","v":"Week 20"},{"$f":"VLOOKUP('Weekly Metrics'!FX5,Weekly_Data_Raw[[#All],[END_DATE]:[CHURNED_MEMBERS]],3,FALSE)","v":"Week 21"},{"$f":"VLOOKUP('Weekly Metrics'!FY5,Weekly_Data_Raw[[#All],[END_DATE]:[CHURNED_MEMBERS]],3,FALSE)","v":"Week 22"},{"$f":"VLOOKUP('Weekly Metrics'!FZ5,Weekly_Data_Raw[[#All],[END_DATE]:[CHURNED_MEMBERS]],3,FALSE)","v":"Week 23"},{"$f":"VLOOKUP('Weekly Metrics'!GA5,Weekly_Data_Raw[[#All],[END_DATE]:[CHURNED_MEMBERS]],3,FALSE)","v":"Week 24"},{"$f":"VLOOKUP('Weekly Metrics'!GB5,Weekly_Data_Raw[[#All],[END_DATE]:[CHURNED_MEMBERS]],3,FALSE)","v":"Week 25"},{"$f":"VLOOKUP('Weekly Metrics'!GC5,Weekly_Data_Raw[[#All],[END_DATE]:[CHURNED_MEMBERS]],3,FALSE)","v":"Week 26"},{"$f":"VLOOKUP('Weekly Metrics'!GD5,Weekly_Data_Raw[[#All],[END_DATE]:[CHURNED_MEMBERS]],3,FALSE)","v":"Week 27"},{"$f":"VLOOKUP('Weekly Metrics'!GE5,Weekly_Data_Raw[[#All],[END_DATE]:[CHURNED_MEMBERS]],3,FALSE)","v":"Week 28"},{"$f":"VLOOKUP('Weekly Metrics'!GF5,Weekly_Data_Raw[[#All],[END_DATE]:[CHURNED_MEMBERS]],3,FALSE)","v":"Week 29"},{"$f":"VLOOKUP('Weekly Metrics'!GG5,Weekly_Data_Raw[[#All],[END_DATE]:[CHURNED_MEMBERS]],3,FALSE)","v":"Week 30"},{"$f":"VLOOKUP('Weekly Metrics'!GH5,Weekly_Data_Raw[[#All],[END_DATE]:[CHURNED_MEMBERS]],3,FALSE)","v":"Week 31"},{"$f":"VLOOKUP('Weekly Metrics'!GI5,Weekly_Data_Raw[[#All],[END_DATE]:[CHURNED_MEMBERS]],3,FALSE)","v":"Week 32"},{"$f":"VLOOKUP('Weekly Metrics'!GJ5,Weekly_Data_Raw[[#All],[END_DATE]:[CHURNED_MEMBERS]],3,FALSE)","v":"Week 33"},{"$f":"VLOOKUP('Weekly Metrics'!GK5,Weekly_Data_Raw[[#All],[END_DATE]:[CHURNED_MEMBERS]],3,FALSE)","v":"Week 34"},{"$f":"VLOOKUP('Weekly Metrics'!GL5,Weekly_Data_Raw[[#All],[END_DATE]:[CHURNED_MEMBERS]],3,FALSE)","v":"Week 35"},{"$f":"VLOOKUP('Weekly Metrics'!GM5,Weekly_Data_Raw[[#All],[END_DATE]:[CHURNED_MEMBERS]],3,FALSE)","v":"Week 36"},{"$f":"VLOOKUP('Weekly Metrics'!GN5,Weekly_Data_Raw[[#All],[END_DATE]:[CHURNED_MEMBERS]],3,FALSE)","v":"Week 37"},{"$f":"VLOOKUP('Weekly Metrics'!GO5,Weekly_Data_Raw[[#All],[END_DATE]:[CHURNED_MEMBERS]],3,FALSE)","v":"Week 38"},{"$f":"VLOOKUP('Weekly Metrics'!GP5,Weekly_Data_Raw[[#All],[END_DATE]:[CHURNED_MEMBERS]],3,FALSE)","v":"Week 39"},{"$f":"VLOOKUP('Weekly Metrics'!GQ5,Weekly_Data_Raw[[#All],[END_DATE]:[CHURNED_MEMBERS]],3,FALSE)","v":"Week 40"},{"$f":"VLOOKUP('Weekly Metrics'!GR5,Weekly_Data_Raw[[#All],[END_DATE]:[CHURNED_MEMBERS]],3,FALSE)","v":"Week 41"},{"$f":"VLOOKUP('Weekly Metrics'!GS5,Weekly_Data_Raw[[#All],[END_DATE]:[CHURNED_MEMBERS]],3,FALSE)","v":"Week 42"},{"$f":"VLOOKUP('Weekly Metrics'!GT5,Weekly_Data_Raw[[#All],[END_DATE]:[CHURNED_MEMBERS]],3,FALSE)","v":"Week 43"},{"$f":"VLOOKUP('Weekly Metrics'!GU5,Weekly_Data_Raw[[#All],[END_DATE]:[CHURNED_MEMBERS]],3,FALSE)","v":"Week 44"},{"$f":"VLOOKUP('Weekly Metrics'!GV5,Weekly_Data_Raw[[#All],[END_DATE]:[CHURNED_MEMBERS]],3,FALSE)","v":"Week 45"},{"$f":"VLOOKUP('Weekly Metrics'!GW5,Weekly_Data_Raw[[#All],[END_DATE]:[CHURNED_MEMBERS]],3,FALSE)","v":"Week 46"},{"$f":"VLOOKUP('Weekly Metrics'!GX5,Weekly_Data_Raw[[#All],[END_DATE]:[CHURNED_MEMBERS]],3,FALSE)","v":"Week 47"},{"$f":"VLOOKUP('Weekly Metrics'!GY5,Weekly_Data_Raw[[#All],[END_DATE]:[CHURNED_MEMBERS]],3,FALSE)","v":"Week 48"},{"$f":"VLOOKUP('Weekly Metrics'!GZ5,Weekly_Data_Raw[[#All],[END_DATE]:[CHURNED_MEMBERS]],3,FALSE)","v":"Week 49"},{"$f":"VLOOKUP('Weekly Metrics'!HA5,Weekly_Data_Raw[[#All],[END_DATE]:[CHURNED_MEMBERS]],3,FALSE)","v":"Week 50"},{"$f":"VLOOKUP('Weekly Metrics'!HB5,Weekly_Data_Raw[[#All],[END_DATE]:[CHURNED_MEMBERS]],3,FALSE)","v":"Week 51"},{"$f":"VLOOKUP('Weekly Metrics'!HC5,Weekly_Data_Raw[[#All],[END_DATE]:[CHURNED_MEMBERS]],3,FALSE)","v":"Week 52"},{"$f":"VLOOKUP('Weekly Metrics'!HD5,Weekly_Data_Raw[[#All],[END_DATE]:[CHURNED_MEMBERS]],3,FALSE)","v":"Week 1"},{"$f":"VLOOKUP('Weekly Metrics'!HE5,Weekly_Data_Raw[[#All],[END_DATE]:[CHURNED_MEMBERS]],3,FALSE)","v":"Week 2"},{"$f":"VLOOKUP('Weekly Metrics'!HF5,Weekly_Data_Raw[[#All],[END_DATE]:[CHURNED_MEMBERS]],3,FALSE)","v":"Week 3"},{"$f":"VLOOKUP('Weekly Metrics'!HG5,Weekly_Data_Raw[[#All],[END_DATE]:[CHURNED_MEMBERS]],3,FALSE)","v":"Week 4"},{"$f":"VLOOKUP('Weekly Metrics'!HH5,Weekly_Data_Raw[[#All],[END_DATE]:[CHURNED_MEMBERS]],3,FALSE)","v":"Week 5"},{"$f":"VLOOKUP('Weekly Metrics'!HI5,Weekly_Data_Raw[[#All],[END_DATE]:[CHURNED_MEMBERS]],3,FALSE)","v":"Week 6"},{"$f":"VLOOKUP('Weekly Metrics'!HJ5,Weekly_Data_Raw[[#All],[END_DATE]:[CHURNED_MEMBERS]],3,FALSE)","v":"Week 7"},{"$f":"VLOOKUP('Weekly Metrics'!HK5,Weekly_Data_Raw[[#All],[END_DATE]:[CHURNED_MEMBERS]],3,FALSE)","v":"Week 8"},{"$f":"VLOOKUP('Weekly Metrics'!HL5,Weekly_Data_Raw[[#All],[END_DATE]:[CHURNED_MEMBERS]],3,FALSE)","v":"Week 9"},{"$f":"VLOOKUP('Weekly Metrics'!HM5,Weekly_Data_Raw[[#All],[END_DATE]:[CHURNED_MEMBERS]],3,FALSE)","v":"Week 10"},{"$f":"VLOOKUP('Weekly Metrics'!HN5,Weekly_Data_Raw[[#All],[END_DATE]:[CHURNED_MEMBERS]],3,FALSE)","v":"Week 11"},{"$f":"VLOOKUP('Weekly Metrics'!HO5,Weekly_Data_Raw[[#All],[END_DATE]:[CHURNED_MEMBERS]],3,FALSE)","v":"Week 12"},{"$f":"VLOOKUP('Weekly Metrics'!HP5,Weekly_Data_Raw[[#All],[END_DATE]:[CHURNED_MEMBERS]],3,FALSE)","v":"Week 13"},{"$f":"VLOOKUP('Weekly Metrics'!HQ5,Weekly_Data_Raw[[#All],[END_DATE]:[CHURNED_MEMBERS]],3,FALSE)","v":"Week 14"},{"$f":"VLOOKUP('Weekly Metrics'!HR5,Weekly_Data_Raw[[#All],[END_DATE]:[CHURNED_MEMBERS]],3,FALSE)","v":"Week 15"},{"$f":"VLOOKUP('Weekly Metrics'!HS5,Weekly_Data_Raw[[#All],[END_DATE]:[CHURNED_MEMBERS]],3,FALSE)","v":"Week 16"},{"$f":"VLOOKUP('Weekly Metrics'!HT5,Weekly_Data_Raw[[#All],[END_DATE]:[CHURNED_MEMBERS]],3,FALSE)","v":"Week 17"}]
["Ticker","Metric","2019-01-05","2019-01-12","2019-01-19","2019-01-26","2019-02-02","2019-02-09","2019-02-16","2019-02-23","2019-03-02","2019-03-09","2019-03-16","2019-03-23","2019-03-30","2019-04-06","2019-04-13","2019-04-20","2019-04-27","2019-05-04","2019-05-11","2019-05-18","2019-05-25","2019-06-01","2019-06-08","2019-06-15","2019-06-22","2019-06-29","2019-07-06","2019-07-13","2019-07-20","2019-07-27","2019-08-03","2019-08-10","2019-08-17","2019-08-24","2019-08-31","2019-09-07","2019-09-14","2019-09-21","2019-09-28","2019-10-05","2019-10-12","2019-10-19","2019-10-26","2019-11-02","2019-11-09","2019-11-16","2019-11-23","2019-11-30","2019-12-07","2019-12-14","2019-12-21","2019-12-28","2020-01-04","2020-01-11","2020-01-18","2020-01-25","2020-02-01","2020-02-08","2020-02-15","2020-02-22","2020-02-29","2020-03-07","2020-03-14","2020-03-21","2020-03-28","2020-04-04","2020-04-11","2020-04-18","2020-04-25","2020-05-02","2020-05-09","2020-05-16","2020-05-23","2020-05-30","2020-06-06","2020-06-13","2020-06-20","2020-06-27","2020-07-04","2020-07-11","2020-07-18","2020-07-25","2020-08-01","2020-08-08","2020-08-15","2020-08-22","2020-08-29","2020-09-05","2020-09-12","2020-09-19","2020-09-26","2020-10-03","2020-10-10","2020-10-17","2020-10-24","2020-10-31","2020-11-07","2020-11-14","2020-11-21","2020-11-28","2020-12-05","2020-12-12","2020-12-19","2020-12-26","2021-01-02","2021-01-09","2021-01-16","2021-01-23","2021-01-30","2021-02-06","2021-02-13","2021-02-20","2021-02-27","2021-03-06","2021-03-13","2021-03-20","2021-03-27","2021-04-03","2021-04-10","2021-04-17","2021-04-24","2021-05-01","2021-05-08","2021-05-15","2021-05-22","2021-05-29","2021-06-05","2021-06-12","2021-06-19","2021-06-26","2021-07-03","2021-07-10","2021-07-17","2021-07-24","2021-07-31","2021-08-07","2021-08-14","2021-08-21","2021-08-28","2021-09-04","2021-09-11","2021-09-18","2021-09-25","2021-10-02","2021-10-09","2021-10-16","2021-10-23","2021-10-30","2021-11-06","2021-11-13","2021-11-20","2021-11-27","2021-12-04","2021-12-11","2021-12-18","2021-12-25","2022-01-01","2022-01-08","2022-01-15","2022-01-22","2022-01-29","2022-02-05","2022-02-12","2022-02-19","2022-02-26","2022-03-05","2022-03-12","2022-03-19","2022-03-26","2022-04-02","2022-04-09","2022-04-16","2022-04-23","2022-04-30","2022-05-07","2022-05-14","2022-05-21","2022-05-28","2022-06-04","2022-06-11","2022-06-18","2022-06-25","2022-07-02","2022-07-09","2022-07-16","2022-07-23","2022-07-30","2022-08-06","2022-08-13","2022-08-20","2022-08-27","2022-09-03","2022-09-10","2022-09-17","2022-09-24","2022-10-01","2022-10-08","2022-10-15","2022-10-22","2022-10-29","2022-11-05","2022-11-12","2022-11-19","2022-11-26","2022-12-03","2022-12-10","2022-12-17","2022-12-24","2022-12-31","2023-01-07","2023-01-14","2023-01-21","2023-01-28","2023-02-04","2023-02-11","2023-02-18","2023-02-25","2023-03-04","2023-03-11","2023-03-18","2023-03-25","2023-04-01","2023-04-08","2023-04-15","2023-04-22","2023-04-29"]
["CMG","Transactions",{"$f":"IF($B6=\"Panel Sales\", SUMIFS(Weekly_Data_Raw[PANEL_AMOUNT],Weekly_Data_Raw[TICKER],'Weekly Metrics'!$A6,Weekly_Data_Raw[END_DATE],'Weekly Metrics'!C$5),IF($B6=\"Transactions\",SUMIFS(Weekly_Data_Raw[PANEL_TRANSACTIONS],Weekly_Data_Raw[TICKER],'Weekly Metrics'!$A6,Weekly_Data_Raw[END_DATE],'Weekly Metrics'!C$5), IF($B6=\"Avg Ticket\",SUMIFS(Weekly_Data_Raw[AVG_TICKET],Weekly_Data_Raw[TICKER],'Weekly Metrics'!$A6,Weekly_Data_Raw[END_DATE],'Weekly Metrics'!C$5), IF($B6=\"EOP Subscribers\",SUMIFS(Weekly_Data_Raw[EOP_SUBSCRIBERS],Weekly_Data_Raw[TICKER],'Weekly Metrics'!$A6,Weekly_Data_Raw[END_DATE],'Weekly Metrics'!C$5), IF($B6=\"Gross Adds\",SUMIFS(Weekly_Data_Raw[GROSS_ADDS],Weekly_Data_Raw[TICKER],'Weekly Metrics'!$A6,Weekly_Data_Raw[END_DATE],'Weekly Metrics'!C$5), IF($B6=\"Churn\",SUMIFS(Weekly_Data_Raw[CHURNED_MEMBERS],Weekly_Data_Raw[TICKER],'Weekly Metrics'!$A6,Weekly_Data_Raw[END_DATE],'Weekly Metrics'!C$5)))))))","v":0},{"$f":"IF($B6=\"Panel Sales\", SUMIFS(Weekly_Data_Raw[PANEL_AMOUNT],Weekly_Data_Raw[TICKER],'Weekly Metrics'!$A6,Weekly_Data_Raw[END_DATE],'Weekly Metrics'!D$5),IF($B6=\"Transactions\",SUMIFS(Weekly_Data_Raw[PANEL_TRANSACTIONS],Weekly_Data_Raw[TICKER],'Weekly Metrics'!$A6,Weekly_Data_Raw[END_DATE],'Weekly Metrics'!D$5), IF($B6=\"Avg Ticket\",SUMIFS(Weekly_Data_Raw[AVG_TICKET],Weekly_Data_Raw[TICKER],'Weekly Metrics'!$A6,Weekly_Data_Raw[END_DATE],'Weekly Metrics'!D$5), IF($B6=\"EOP Subscribers\",SUMIFS(Weekly_Data_Raw[EOP_SUBSCRIBERS],Weekly_Data_Raw[TICKER],'Weekly Metrics'!$A6,Weekly_Data_Raw[END_DATE],'Weekly Metrics'!D$5), IF($B6=\"Gross Adds\",SUMIFS(Weekly_Data_Raw[GROSS_ADDS],Weekly_Data_Raw[TICKER],'Weekly Metrics'!$A6,Weekly_Data_Raw[END_DATE],'Weekly Metrics'!D$5), IF($B6=\"Churn\",SUMIFS(Weekly_Data_Raw[CHURNED_MEMBERS],Weekly_Data_Raw[TICKER],'Weekly Metrics'!$A6,Weekly_Data_Raw[END_DATE],'Weekly Metrics'!D$5)))))))","v":36037},{"$f":"IF($B6=\"Panel Sales\", SUMIFS(Weekly_Data_Raw[PANEL_AMOUNT],Weekly_Data_Raw[TICKER],'Weekly Metrics'!$A6,Weekly_Data_Raw[END_DATE],'Weekly Metrics'!E$5),IF($B6=\"Transactions\",SUMIFS(Weekly_Data_Raw[PANEL_TRANSACTIONS],Weekly_Data_Raw[TICKER],'Weekly Metrics'!$A6,Weekly_Data_Raw[END_DATE],'Weekly Metrics'!E$5), IF($B6=\"Avg Ticket\",SUMIFS(Weekly_Data_Raw[AVG_TICKET],Weekly_Data_Raw[TICKER],'Weekly Metrics'!$A6,Weekly_Data_Raw[END_DATE],'Weekly Metrics'!E$5), IF($B6=\"EOP Subscribers\",SUMIFS(Weekly_Data_Raw[EOP_SUBSCRIBERS],Weekly_Data_Raw[TICKER],'Weekly Metrics'!$A6,Weekly_Data_Raw[END_DATE],'Weekly Metrics'!E$5), IF($B6=\"Gross Adds\",SUMIFS(Weekly_Data_Raw[GROSS_ADDS],Weekly_Data_Raw[TICKER],'Weekly Metrics'!$A6,Weekly_Data_Raw[END_DATE],'Weekly Metrics'!E$5), IF($B6=\"Churn\",SUMIFS(Weekly_Data_Raw[CHURNED_MEMBERS],Weekly_Data_Raw[TICKER],'Weekly Metrics'!$A6,Weekly_Data_Raw[END_DATE],'Weekly Metrics'!E$5)))))))","v":35243},{"$f":"IF($B6=\"Panel Sales\", SUMIFS(Weekly_Data_Raw[PANEL_AMOUNT],Weekly_Data_Raw[TICKER],'Weekly Metrics'!$A6,Weekly_Data_Raw[END_DATE],'Weekly Metrics'!F$5),IF($B6=\"Transactions\",SUMIFS(Weekly_Data_Raw[PANEL_TRANSACTIONS],Weekly_Data_Raw[TICKER],'Weekly Metrics'!$A6,Weekly_Data_Raw[END_DATE],'Weekly Metrics'!F$5), IF($B6=\"Avg Ticket\",SUMIFS(Weekly_Data_Raw[AVG_TICKET],Weekly_Data_Raw[TICKER],'Weekly Metrics'!$A6,Weekly_Data_Raw[END_DATE],'Weekly Metrics'!F$5), IF($B6=\"EOP Subscribers\",SUMIFS(Weekly_Data_Raw[EOP_SUBSCRIBERS],Weekly_Data_Raw[TICKER],'Weekly Metrics'!$A6,Weekly_Data_Raw[END_DATE],'Weekly Metrics'!F$5), IF($B6=\"Gross Adds\",SUMIFS(Weekly_Data_Raw[GROSS_ADDS],Weekly_Data_Raw[TICKER],'Weekly Metrics'!$A6,Weekly_Data_Raw[END_DATE],'Weekly Metrics'!F$5), IF($B6=\"Churn\",SUMIFS(Weekly_Data_Raw[CHURNED_MEMBERS],Weekly_Data_Raw[TICKER],'Weekly Metrics'!$A6,Weekly_Data_Raw[END_DATE],'Weekly Metrics'!F$5)))))))","v":35126},{"$f":"IF($B6=\"Panel Sales\", SUMIFS(Weekly_Data_Raw[PANEL_AMOUNT],Weekly_Data_Raw[TICKER],'Weekly Metrics'!$A6,Weekly_Data_Raw[END_DATE],'Weekly Metrics'!G$5),IF($B6=\"Transactions\",SUMIFS(Weekly_Data_Raw[PANEL_TRANSACTIONS],Weekly_Data_Raw[TICKER],'Weekly Metrics'!$A6,Weekly_Data_Raw[END_DATE],'Weekly Metrics'!G$5), IF($B6=\"Avg Ticket\",SUMIFS(Weekly_Data_Raw[AVG_TICKET],Weekly_Data_Raw[TICKER],'Weekly Metrics'!$A6,Weekly_Data_Raw[END_DATE],'Weekly Metrics'!G$5), IF($B6=\"EOP Subscribers\",SUMIFS(Weekly_Data_Raw[EOP_SUBSCRIBERS],Weekly_Data_Raw[TICKER],'Weekly Metrics'!$A6,Weekly_Data_Raw[END_DATE],'Weekly Metrics'!G$5), IF($B6=\"Gross Adds\",SUMIFS(Weekly_Data_Raw[GROSS_ADDS],Weekly_Data_Raw[TICKER],'Weekly Metrics'!$A6,Weekly_Data_Raw[END_DATE],'Weekly Metrics'!G$5), IF($B6=\"Churn\",SUMIFS(Weekly_Data_Raw[CHURNED_MEMBERS],Weekly_Data_Raw[TICKER],'Weekly Metrics'!$A6,Weekly_Data_Raw[END_DATE],'Weekly Metrics'!G$5)))))))","v":35406},{"$f":"IF($B6=\"Panel Sales\", SUMIFS(Weekly_Data_Raw[PANEL_AMOUNT],Weekly_Data_Raw[TICKER],'Weekly Metrics'!$A6,Weekly_Data_Raw[END_DATE],'Weekly Metrics'!H$5),IF($B6=\"Transactions\",SUMIFS(Weekly_Data_Raw[PANEL_TRANSACTIONS],Weekly_Data_Raw[TICKER],'Weekly Metrics'!$A6,Weekly_Data_Raw[END_DATE],'Weekly Metrics'!H$5), IF($B6=\"Avg Ticket\",SUMIFS(Weekly_Data_Raw[AVG_TICKET],Weekly_Data_Raw[TICKER],'Weekly Metrics'!$A6,Weekly_Data_Raw[END_DATE],'Weekly Metrics'!H$5), IF($B6=\"EOP Subscribers\",SUMIFS(Weekly_Data_Raw[EOP_SUBSCRIBERS],Weekly_Data_Raw[TICKER],'Weekly Metrics'!$A6,Weekly_Data_Raw[END_DATE],'Weekly Metrics'!H$5), IF($B6=\"Gross Adds\",SUMIFS(Weekly_Data_Raw[GROSS_ADDS],Weekly_Data_Raw[TICKER],'Weekly Metrics'!$A6,Weekly_Data_Raw[END_DATE],'Weekly Metrics'!H$5), IF($B6=\"Churn\",SUMIFS(Weekly_Data_Raw[CHURNED_MEMBERS],Weekly_Data_Raw[TICKER],'Weekly Metrics'!$A6,Weekly_Data_Raw[END_DATE],'Weekly Metrics'!H$5)))))))","v":36906},{"$f":"IF($B6=\"Panel Sales\", SUMIFS(Weekly_Data_Raw[PANEL_AMOUNT],Weekly_Data_Raw[TICKER],'Weekly Metrics'!$A6,Weekly_Data_Raw[END_DATE],'Weekly Metrics'!I$5),IF($B6=\"Transactions\",SUMIFS(Weekly_Data_Raw[PANEL_TRANSACTIONS],Weekly_Data_Raw[TICKER],'Weekly Metrics'!$A6,Weekly_Data_Raw[END_DATE],'Weekly Metrics'!I$5), IF($B6=\"Avg Ticket\",SUMIFS(Weekly_Data_Raw[AVG_TICKET],Weekly_Data_Raw[TICKER],'Weekly Metrics'!$A6,Weekly_Data_Raw[END_DATE],'Weekly Metrics'!I$5), IF($B6=\"EOP Subscribers\",SUMIFS(Weekly_Data_Raw[EOP_SUBSCRIBERS],Weekly_Data_Raw[TICKER],'Weekly Metrics'!$A6,Weekly_Data_Raw[END_DATE],'Weekly Metrics'!I$5), IF($B6=\"Gross Adds\",SUMIFS(Weekly_Data_Raw[GROSS_ADDS],Weekly_Data_Raw[TICKER],'Weekly Metrics'!$A6,Weekly_Data_Raw[END_DATE],'Weekly Metrics'!I$5), IF($B6=\"Churn\",SUMIFS(Weekly_Data_Raw[CHURNED_MEMBERS],Weekly_Data_Raw[TICKER],'Weekly Metrics'!$A6,Weekly_Data_Raw[END_DATE],'Weekly Metrics'!I$5)))))))","v":37122},{"$f":"IF($B6=\"Panel Sales\", SUMIFS(Weekly_Data_Raw[PANEL_AMOUNT],Weekly_Data_Raw[TICKER],'Weekly Metrics'!$A6,Weekly_Data_Raw[END_DATE],'Weekly Metrics'!J$5),IF($B6=\"Transactions\",SUMIFS(Weekly_Data_Raw[PANEL_TRANSACTIONS],Weekly_Data_Raw[TICKER],'Weekly Metrics'!$A6,Weekly_Data_Raw[END_DATE],'Weekly Metrics'!J$5), IF($B6=\"Avg Ticket\",SUMIFS(Weekly_Data_Raw[AVG_TICKET],Weekly_Data_Raw[TICKER],'Weekly Metrics'!$A6,Weekly_Data_Raw[END_DATE],'Weekly Metrics'!J$5), IF($B6=\"EOP Subscribers\",SUMIFS(Weekly_Data_Raw[EOP_SUBSCRIBERS],Weekly_Data_Raw[TICKER],'Weekly Metrics'!$A6,Weekly_Data_Raw[END_DATE],'Weekly Metrics'!J$5), IF($B6=\"Gross Adds\",SUMIFS(Weekly_Data_Raw[GROSS_ADDS],Weekly_Data_Raw[TICKER],'Weekly Metrics'!$A6,Weekly_Data_Raw[END_DATE],'Weekly Metrics'!J$5), IF($B6=\"Churn\",SUMIFS(Weekly_Data_Raw[CHURNED_MEMBERS],Weekly_Data_Raw[TICKER],'Weekly Metrics'!$A6,Weekly_Data_Raw[END_DATE],'Weekly Metrics'!J$5)))))))","v":37902},{"$f":"IF($B6=\"Panel Sales\", SUMIFS(Weekly_Data_Raw[PANEL_AMOUNT],Weekly_Data_Raw[TICKER],'Weekly Metrics'!$A6,Weekly_Data_Raw[END_DATE],'Weekly Metrics'!K$5),IF($B6=\"Transactions\",SUMIFS(Weekly_Data_Raw[PANEL_TRANSACTIONS],Weekly_Data_Raw[TICKER],'Weekly Metrics'!$A6,Weekly_Data_Raw[END_DATE],'Weekly Metrics'!K$5), IF($B6=\"Avg Ticket\",SUMIFS(Weekly_Data_Raw[AVG_TICKET],Weekly_Data_Raw[TICKER],'Weekly Metrics'!$A6,Weekly_Data_Raw[END_DATE],'Weekly Metrics'!K$5), IF($B6=\"EOP Subscribers\",SUMIFS(Weekly_Data_Raw[EOP_SUBSCRIBERS],Weekly_Data_Raw[TICKER],'Weekly Metrics'!$A6,Weekly_Data_Raw[END_DATE],'Weekly Metrics'!K$5), IF($B6=\"Gross Adds\",SUMIFS(Weekly_Data_Raw[GROSS_ADDS],Weekly_Data_Raw[TICKER],'Weekly Metrics'!$A6,Weekly_Data_Raw[END_DATE],'Weekly Metrics'!K$5), IF($B6=\"Churn\",SUMIFS(Weekly_Data_Raw[CHURNED_MEMBERS],Weekly_Data_Raw[TICKER],'Weekly Metrics'!$A6,Weekly_Data_Raw[END_DATE],'Weekly Metrics'!K$5)))))))","v":40244},{"$f":"IF($B6=\"Panel Sales\", SUMIFS(Weekly_Data_Raw[PANEL_AMOUNT],Weekly_Data_Raw[TICKER],'Weekly Metrics'!$A6,Weekly_Data_Raw[END_DATE],'Weekly Metrics'!L$5),IF($B6=\"Transactions\",SUMIFS(Weekly_Data_Raw[PANEL_TRANSACTIONS],Weekly_Data_Raw[TICKER],'Weekly Metrics'!$A6,Weekly_Data_Raw[END_DATE],'Weekly Metrics'!L$5), IF($B6=\"Avg Ticket\",SUMIFS(Weekly_Data_Raw[AVG_TICKET],Weekly_Data_Raw[TICKER],'Weekly Metrics'!$A6,Weekly_Data_Raw[END_DATE],'Weekly Metrics'!L$5), IF($B6=\"EOP Subscribers\",SUMIFS(Weekly_Data_Raw[EOP_SUBSCRIBERS],Weekly_Data_Raw[TICKER],'Weekly Metrics'!$A6,Weekly_Data_Raw[END_DATE],'Weekly Metrics'!L$5), IF($B6=\"Gross Adds\",SUMIFS(Weekly_Data_Raw[GROSS_ADDS],Weekly_Data_Raw[TICKER],'Weekly Metrics'!$A6,Weekly_Data_Raw[END_DATE],'Weekly Metrics'!L$5), IF($B6=\"Churn\",SUMIFS(Weekly_Data_Raw[CHURNED_MEMBERS],Weekly_Data_Raw[TICKER],'Weekly Metrics'!$A6,Weekly_Data_Raw[END_DATE],'Weekly Metrics'!L$5)))))))","v":38890},{"$f":"IF($B6=\"Panel Sales\", SUMIFS(Weekly_Data_Raw[PANEL_AMOUNT],Weekly_Data_Raw[TICKER],'Weekly Metrics'!$A6,Weekly_Data_Raw[END_DATE],'Weekly Metrics'!M$5),IF($B6=\"Transactions\",SUMIFS(Weekly_Data_Raw[PANEL_TRANSACTIONS],Weekly_Data_Raw[TICKER],'Weekly Metrics'!$A6,Weekly_Data_Raw[END_DATE],'Weekly Metrics'!M$5), IF($B6=\"Avg Ticket\",SUMIFS(Weekly_Data_Raw[AVG_TICKET],Weekly_Data_Raw[TICKER],'Weekly Metrics'!$A6,Weekly_Data_Raw[END_DATE],'Weekly Metrics'!M$5), IF($B6=\"EOP Subscribers\",SUMIFS(Weekly_Data_Raw[EOP_SUBSCRIBERS],Weekly_Data_Raw[TICKER],'Weekly Metrics'!$A6,Weekly_Data_Raw[END_DATE],'Weekly Metrics'!M$5), IF($B6=\"Gross Adds\",SUMIFS(Weekly_Data_Raw[GROSS_ADDS],Weekly_Data_Raw[TICKER],'Weekly Metrics'!$A6,Weekly_Data_Raw[END_DATE],'Weekly Metrics'!M$5), IF($B6=\"Churn\",SUMIFS(Weekly_Data_Raw[CHURNED_MEMBERS],Weekly_Data_Raw[TICKER],'Weekly Metrics'!$A6,Weekly_Data_Raw[END_DATE],'Weekly Metrics'!M$5)))))))","v":39359},{"$f":"IF($B6=\"Panel Sales\", SUMIFS(Weekly_Data_Raw[PANEL_AMOUNT],Weekly_Data_Raw[TICKER],'Weekly Metrics'!$A6,Weekly_Data_Raw[END_DATE],'Weekly Metrics'!N$5),IF($B6=\"Transactions\",SUMIFS(Weekly_Data_Raw[PANEL_TRANSACTIONS],Weekly_Data_Raw[TICKER],'Weekly Metrics'!$A6,Weekly_Data_Raw[END_DATE],'Weekly Metrics'!N$5), IF($B6=\"Avg Ticket\",SUMIFS(Weekly_Data_Raw[AVG_TICKET],Weekly_Data_Raw[TICKER],'Weekly Metrics'!$A6,Weekly_Data_Raw[END_DATE],'Weekly Metrics'!N$5), IF($B6=\"EOP Subscribers\",SUMIFS(Weekly_Data_Raw[EOP_SUBSCRIBERS],Weekly_Data_Raw[TICKER],'Weekly Metrics'!$A6,Weekly_Data_Raw[END_DATE],'Weekly Metrics'!N$5), IF($B6=\"Gross Adds\",SUMIFS(Weekly_Data_Raw[GROSS_ADDS],Weekly_Data_Raw[TICKER],'Weekly Metrics'!$A6,Weekly_Data_Raw[END_DATE],'Weekly Metrics'!N$5), IF($B6=\"Churn\",SUMIFS(Weekly_Data_Raw[CHURNED_MEMBERS],Weekly_Data_Raw[TICKER],'Weekly Metrics'!$A6,Weekly_Data_Raw[END_DATE],'Weekly Metrics'!N$5)))))))","v":40300},{"$f":"IF($B6=\"Panel Sales\", SUMIFS(Weekly_Data_Raw[PANEL_AMOUNT],Weekly_Data_Raw[TICKER],'Weekly Metrics'!$A6,Weekly_Data_Raw[END_DATE],'Weekly Metrics'!O$5),IF($B6=\"Transactions\",SUMIFS(Weekly_Data_Raw[PANEL_TRANSACTIONS],Weekly_Data_Raw[TICKER],'Weekly Metrics'!$A6,Weekly_Data_Raw[END_DATE],'Weekly Metrics'!O$5), IF($B6=\"Avg Ticket\",SUMIFS(Weekly_Data_Raw[AVG_TICKET],Weekly_Data_Raw[TICKER],'Weekly Metrics'!$A6,Weekly_Data_Raw[END_DATE],'Weekly Metrics'!O$5), IF($B6=\"EOP Subscribers\",SUMIFS(Weekly_Data_Raw[EOP_SUBSCRIBERS],Weekly_Data_Raw[TICKER],'Weekly Metrics'!$A6,Weekly_Data_Raw[END_DATE],'Weekly Metrics'!O$5), IF($B6=\"Gross Adds\",SUMIFS(Weekly_Data_Raw[GROSS_ADDS],Weekly_Data_Raw[TICKER],'Weekly Metrics'!$A6,Weekly_Data_Raw[END_DATE],'Weekly Metrics'!O$5), IF($B6=\"Churn\",SUMIFS(Weekly_Data_Raw[CHURNED_MEMBERS],Weekly_Data_Raw[TICKER],'Weekly Metrics'!$A6,Weekly_Data_Raw[END_DATE],'Weekly Metrics'!O$5)))))))","v":41239},{"$f":"IF($B6=\"Panel Sales\", SUMIFS(Weekly_Data_Raw[PANEL_AMOUNT],Weekly_Data_Raw[TICKER],'Weekly Metrics'!$A6,Weekly_Data_Raw[END_DATE],'Weekly Metrics'!P$5),IF($B6=\"Transactions\",SUMIFS(Weekly_Data_Raw[PANEL_TRANSACTIONS],Weekly_Data_Raw[TICKER],'Weekly Metrics'!$A6,Weekly_Data_Raw[END_DATE],'Weekly Metrics'!P$5), IF($B6=\"Avg Ticket\",SUMIFS(Weekly_Data_Raw[AVG_TICKET],Weekly_Data_Raw[TICKER],'Weekly Metrics'!$A6,Weekly_Data_Raw[END_DATE],'Weekly Metrics'!P$5), IF($B6=\"EOP Subscribers\",SUMIFS(Weekly_Data_Raw[EOP_SUBSCRIBERS],Weekly_Data_Raw[TICKER],'Weekly Metrics'!$A6,Weekly_Data_Raw[END_DATE],'Weekly Metrics'!P$5), IF($B6=\"Gross Adds\",SUMIFS(Weekly_Data_Raw[GROSS_ADDS],Weekly_Data_Raw[TICKER],'Weekly Metrics'!$A6,Weekly_Data_Raw[END_DATE],'Weekly Metrics'!P$5), IF($B6=\"Churn\",SUMIFS(Weekly_Data_Raw[CHURNED_MEMBERS],Weekly_Data_Raw[TICKER],'Weekly Metrics'!$A6,Weekly_Data_Raw[END_DATE],'Weekly Metrics'!P$5)))))))","v":42384},{"$f":"IF($B6=\"Panel Sales\", SUMIFS(Weekly_Data_Raw[PANEL_AMOUNT],Weekly_Data_Raw[TICKER],'Weekly Metrics'!$A6,Weekly_Data_Raw[END_DATE],'Weekly Metrics'!Q$5),IF($B6=\"Transactions\",SUMIFS(Weekly_Data_Raw[PANEL_TRANSACTIONS],Weekly_Data_Raw[TICKER],'Weekly Metrics'!$A6,Weekly_Data_Raw[END_DATE],'Weekly Metrics'!Q$5), IF($B6=\"Avg Ticket\",SUMIFS(Weekly_Data_Raw[AVG_TICKET],Weekly_Data_Raw[TICKER],'Weekly Metrics'!$A6,Weekly_Data_Raw[END_DATE],'Weekly Metrics'!Q$5), IF($B6=\"EOP Subscribers\",SUMIFS(Weekly_Data_Raw[EOP_SUBSCRIBERS],Weekly_Data_Raw[TICKER],'Weekly Metrics'!$A6,Weekly_Data_Raw[END_DATE],'Weekly Metrics'!Q$5), IF($B6=\"Gross Adds\",SUMIFS(Weekly_Data_Raw[GROSS_ADDS],Weekly_Data_Raw[TICKER],'Weekly Metrics'!$A6,Weekly_Data_Raw[END_DATE],'Weekly Metrics'!Q$5), IF($B6=\"Churn\",SUMIFS(Weekly_Data_Raw[CHURNED_MEMBERS],Weekly_Data_Raw[TICKER],'Weekly Metrics'!$A6,Weekly_Data_Raw[END_DATE],'Weekly Metrics'!Q$5)))))))","v":42737},{"$f":"IF($B6=\"Panel Sales\", SUMIFS(Weekly_Data_Raw[PANEL_AMOUNT],Weekly_Data_Raw[TICKER],'Weekly Metrics'!$A6,Weekly_Data_Raw[END_DATE],'Weekly Metrics'!R$5),IF($B6=\"Transactions\",SUMIFS(Weekly_Data_Raw[PANEL_TRANSACTIONS],Weekly_Data_Raw[TICKER],'Weekly Metrics'!$A6,Weekly_Data_Raw[END_DATE],'Weekly Metrics'!R$5), IF($B6=\"Avg Ticket\",SUMIFS(Weekly_Data_Raw[AVG_TICKET],Weekly_Data_Raw[TICKER],'Weekly Metrics'!$A6,Weekly_Data_Raw[END_DATE],'Weekly Metrics'!R$5), IF($B6=\"EOP Subscribers\",SUMIFS(Weekly_Data_Raw[EOP_SUBSCRIBERS],Weekly_Data_Raw[TICKER],'Weekly Metrics'!$A6,Weekly_Data_Raw[END_DATE],'Weekly Metrics'!R$5), IF($B6=\"Gross Adds\",SUMIFS(Weekly_Data_Raw[GROSS_ADDS],Weekly_Data_Raw[TICKER],'Weekly Metrics'!$A6,Weekly_Data_Raw[END_DATE],'Weekly Metrics'!R$5), IF($B6=\"Churn\",SUMIFS(Weekly_Data_Raw[CHURNED_MEMBERS],Weekly_Data_Raw[TICKER],'Weekly Metrics'!$A6,Weekly_Data_Raw[END_DATE],'Weekly Metrics'!R$5)))))))","v":41202},{"$f":"IF($B6=\"Panel Sales\", SUMIFS(Weekly_Data_Raw[PANEL_AMOUNT],Weekly_Data_Raw[TICKER],'Weekly Metrics'!$A6,Weekly_Data_Raw[END_DATE],'Weekly Metrics'!S$5),IF($B6=\"Transactions\",SUMIFS(Weekly_Data_Raw[PANEL_TRANSACTIONS],Weekly_Data_Raw[TICKER],'Weekly Metrics'!$A6,Weekly_Data_Raw[END_DATE],'Weekly Metrics'!S$5), IF($B6=\"Avg Ticket\",SUMIFS(Weekly_Data_Raw[AVG_TICKET],Weekly_Data_Raw[TICKER],'Weekly Metrics'!$A6,Weekly_Data_Raw[END_DATE],'Weekly Metrics'!S$5), IF($B6=\"EOP Subscribers\",SUMIFS(Weekly_Data_Raw[EOP_SUBSCRIBERS],Weekly_Data_Raw[TICKER],'Weekly Metrics'!$A6,Weekly_Data_Raw[END_DATE],'Weekly Metrics'!S$5), IF($B6=\"Gross Adds\",SUMIFS(Weekly_Data_Raw[GROSS_ADDS],Weekly_Data_Raw[TICKER],'Weekly Metrics'!$A6,Weekly_Data_Raw[END_DATE],'Weekly Metrics'!S$5), IF($B6=\"Churn\",SUMIFS(Weekly_Data_Raw[CHURNED_MEMBERS],Weekly_Data_Raw[TICKER],'Weekly Metrics'!$A6,Weekly_Data_Raw[END_DATE],'Weekly Metrics'!S$5)))))))","v":39885},{"$f":"IF($B6=\"Panel Sales\", SUMIFS(Weekly_Data_Raw[PANEL_AMOUNT],Weekly_Data_Raw[TICKER],'Weekly Metrics'!$A6,Weekly_Data_Raw[END_DATE],'Weekly Metrics'!T$5),IF($B6=\"Transactions\",SUMIFS(Weekly_Data_Raw[PANEL_TRANSACTIONS],Weekly_Data_Raw[TICKER],'Weekly Metrics'!$A6,Weekly_Data_Raw[END_DATE],'Weekly Metrics'!T$5), IF($B6=\"Avg Ticket\",SUMIFS(Weekly_Data_Raw[AVG_TICKET],Weekly_Data_Raw[TICKER],'Weekly Metrics'!$A6,Weekly_Data_Raw[END_DATE],'Weekly Metrics'!T$5), IF($B6=\"EOP Subscribers\",SUMIFS(Weekly_Data_Raw[EOP_SUBSCRIBERS],Weekly_Data_Raw[TICKER],'Weekly Metrics'!$A6,Weekly_Data_Raw[END_DATE],'Weekly Metrics'!T$5), IF($B6=\"Gross Adds\",SUMIFS(Weekly_Data_Raw[GROSS_ADDS],Weekly_Data_Raw[TICKER],'Weekly Metrics'!$A6,Weekly_Data_Raw[END_DATE],'Weekly Metrics'!T$5), IF($B6=\"Churn\",SUMIFS(Weekly_Data_Raw[CHURNED_MEMBERS],Weekly_Data_Raw[TICKER],'Weekly Metrics'!$A6,Weekly_Data_Raw[END_DATE],'Weekly Metrics'!T$5)))))))","v":43370},{"$f":"IF($B6=\"Panel Sales\", SUMIFS(Weekly_Data_Raw[PANEL_AMOUNT],Weekly_Data_Raw[TICKER],'Weekly Metrics'!$A6,Weekly_Data_Raw[END_DATE],'Weekly Metrics'!U$5),IF($B6=\"Transactions\",SUMIFS(Weekly_Data_Raw[PANEL_TRANSACTIONS],Weekly_Data_Raw[TICKER],'Weekly Metrics'!$A6,Weekly_Data_Raw[END_DATE],'Weekly Metrics'!U$5), IF($B6=\"Avg Ticket\",SUMIFS(Weekly_Data_Raw[AVG_TICKET],Weekly_Data_Raw[TICKER],'Weekly Metrics'!$A6,Weekly_Data_Raw[END_DATE],'Weekly Metrics'!U$5), IF($B6=\"EOP Subscribers\",SUMIFS(Weekly_Data_Raw[EOP_SUBSCRIBERS],Weekly_Data_Raw[TICKER],'Weekly Metrics'!$A6,Weekly_Data_Raw[END_DATE],'Weekly Metrics'!U$5), IF($B6=\"Gross Adds\",SUMIFS(Weekly_Data_Raw[GROSS_ADDS],Weekly_Data_Raw[TICKER],'Weekly Metrics'!$A6,Weekly_Data_Raw[END_DATE],'Weekly Metrics'!U$5), IF($B6=\"Churn\",SUMIFS(Weekly_Data_Raw[CHURNED_MEMBERS],Weekly_Data_Raw[TICKER],'Weekly Metrics'!$A6,Weekly_Data_Raw[END_DATE],'Weekly Metrics'!U$5)))))))","v":42836},{"$f":"IF($B6=\"Panel Sales\", SUMIFS(Weekly_Data_Raw[PANEL_AMOUNT],Weekly_Data_Raw[TICKER],'Weekly Metrics'!$A6,Weekly_Data_Raw[END_DATE],'Weekly Metrics'!V$5),IF($B6=\"Transactions\",SUMIFS(Weekly_Data_Raw[PANEL_TRANSACTIONS],Weekly_Data_Raw[TICKER],'Weekly Metrics'!$A6,Weekly_Data_Raw[END_DATE],'Weekly Metrics'!V$5), IF($B6=\"Avg Ticket\",SUMIFS(Weekly_Data_Raw[AVG_TICKET],Weekly_Data_Raw[TICKER],'Weekly Metrics'!$A6,Weekly_Data_Raw[END_DATE],'Weekly Metrics'!V$5), IF($B6=\"EOP Subscribers\",SUMIFS(Weekly_Data_Raw[EOP_SUBSCRIBERS],Weekly_Data_Raw[TICKER],'Weekly Metrics'!$A6,Weekly_Data_Raw[END_DATE],'Weekly Metrics'!V$5), IF($B6=\"Gross Adds\",SUMIFS(Weekly_Data_Raw[GROSS_ADDS],Weekly_Data_Raw[TICKER],'Weekly Metrics'!$A6,Weekly_Data_Raw[END_DATE],'Weekly Metrics'!V$5), IF($B6=\"Churn\",SUMIFS(Weekly_Data_Raw[CHURNED_MEMBERS],Weekly_Data_Raw[TICKER],'Weekly Metrics'!$A6,Weekly_Data_Raw[END_DATE],'Weekly Metrics'!V$5)))))))","v":40328},{"$f":"IF($B6=\"Panel Sales\", SUMIFS(Weekly_Data_Raw[PANEL_AMOUNT],Weekly_Data_Raw[TICKER],'Weekly Metrics'!$A6,Weekly_Data_Raw[END_DATE],'Weekly Metrics'!W$5),IF($B6=\"Transactions\",SUMIFS(Weekly_Data_Raw[PANEL_TRANSACTIONS],Weekly_Data_Raw[TICKER],'Weekly Metrics'!$A6,Weekly_Data_Raw[END_DATE],'Weekly Metrics'!W$5), IF($B6=\"Avg Ticket\",SUMIFS(Weekly_Data_Raw[AVG_TICKET],Weekly_Data_Raw[TICKER],'Weekly Metrics'!$A6,Weekly_Data_Raw[END_DATE],'Weekly Metrics'!W$5), IF($B6=\"EOP Subscribers\",SUMIFS(Weekly_Data_Raw[EOP_SUBSCRIBERS],Weekly_Data_Raw[TICKER],'Weekly Metrics'!$A6,Weekly_Data_Raw[END_DATE],'Weekly Metrics'!W$5), IF($B6=\"Gross Adds\",SUMIFS(Weekly_Data_Raw[GROSS_ADDS],Weekly_Data_Raw[TICKER],'Weekly Metrics'!$A6,Weekly_Data_Raw[END_DATE],'Weekly Metrics'!W$5), IF($B6=\"Churn\",SUMIFS(Weekly_Data_Raw[CHURNED_MEMBERS],Weekly_Data_Raw[TICKER],'Weekly Metrics'!$A6,Weekly_Data_Raw[END_DATE],'Weekly Metrics'!W$5)))))))","v":39984},{"$f":"IF($B6=\"Panel Sales\", SUMIFS(Weekly_Data_Raw[PANEL_AMOUNT],Weekly_Data_Raw[TICKER],'Weekly Metrics'!$A6,Weekly_Data_Raw[END_DATE],'Weekly Metrics'!X$5),IF($B6=\"Transactions\",SUMIFS(Weekly_Data_Raw[PANEL_TRANSACTIONS],Weekly_Data_Raw[TICKER],'Weekly Metrics'!$A6,Weekly_Data_Raw[END_DATE],'Weekly Metrics'!X$5), IF($B6=\"Avg Ticket\",SUMIFS(Weekly_Data_Raw[AVG_TICKET],Weekly_Data_Raw[TICKER],'Weekly Metrics'!$A6,Weekly_Data_Raw[END_DATE],'Weekly Metrics'!X$5), IF($B6=\"EOP Subscribers\",SUMIFS(Weekly_Data_Raw[EOP_SUBSCRIBERS],Weekly_Data_Raw[TICKER],'Weekly Metrics'!$A6,Weekly_Data_Raw[END_DATE],'Weekly Metrics'!X$5), IF($B6=\"Gross Adds\",SUMIFS(Weekly_Data_Raw[GROSS_ADDS],Weekly_Data_Raw[TICKER],'Weekly Metrics'!$A6,Weekly_Data_Raw[END_DATE],'Weekly Metrics'!X$5), IF($B6=\"Churn\",SUMIFS(Weekly_Data_Raw[CHURNED_MEMBERS],Weekly_Data_Raw[TICKER],'Weekly Metrics'!$A6,Weekly_Data_Raw[END_DATE],'Weekly Metrics'!X$5)))))))","v":37531},{"$f":"IF($B6=\"Panel Sales\", SUMIFS(Weekly_Data_Raw[PANEL_AMOUNT],Weekly_Data_Raw[TICKER],'Weekly Metrics'!$A6,Weekly_Data_Raw[END_DATE],'Weekly Metrics'!Y$5),IF($B6=\"Transactions\",SUMIFS(Weekly_Data_Raw[PANEL_TRANSACTIONS],Weekly_Data_Raw[TICKER],'Weekly Metrics'!$A6,Weekly_Data_Raw[END_DATE],'Weekly Metrics'!Y$5), IF($B6=\"Avg Ticket\",SUMIFS(Weekly_Data_Raw[AVG_TICKET],Weekly_Data_Raw[TICKER],'Weekly Metrics'!$A6,Weekly_Data_Raw[END_DATE],'Weekly Metrics'!Y$5), IF($B6=\"EOP Subscribers\",SUMIFS(Weekly_Data_Raw[EOP_SUBSCRIBERS],Weekly_Data_Raw[TICKER],'Weekly Metrics'!$A6,Weekly_Data_Raw[END_DATE],'Weekly Metrics'!Y$5), IF($B6=\"Gross Adds\",SUMIFS(Weekly_Data_Raw[GROSS_ADDS],Weekly_Data_Raw[TICKER],'Weekly Metrics'!$A6,Weekly_Data_Raw[END_DATE],'Weekly Metrics'!Y$5), IF($B6=\"Churn\",SUMIFS(Weekly_Data_Raw[CHURNED_MEMBERS],Weekly_Data_Raw[TICKER],'Weekly Metrics'!$A6,Weekly_Data_Raw[END_DATE],'Weekly Metrics'!Y$5)))))))","v":44043},{"$f":"IF($B6=\"Panel Sales\", SUMIFS(Weekly_Data_Raw[PANEL_AMOUNT],Weekly_Data_Raw[TICKER],'Weekly Metrics'!$A6,Weekly_Data_Raw[END_DATE],'Weekly Metrics'!Z$5),IF($B6=\"Transactions\",SUMIFS(Weekly_Data_Raw[PANEL_TRANSACTIONS],Weekly_Data_Raw[TICKER],'Weekly Metrics'!$A6,Weekly_Data_Raw[END_DATE],'Weekly Metrics'!Z$5), IF($B6=\"Avg Ticket\",SUMIFS(Weekly_Data_Raw[AVG_TICKET],Weekly_Data_Raw[TICKER],'Weekly Metrics'!$A6,Weekly_Data_Raw[END_DATE],'Weekly Metrics'!Z$5), IF($B6=\"EOP Subscribers\",SUMIFS(Weekly_Data_Raw[EOP_SUBSCRIBERS],Weekly_Data_Raw[TICKER],'Weekly Metrics'!$A6,Weekly_Data_Raw[END_DATE],'Weekly Metrics'!Z$5), IF($B6=\"Gross Adds\",SUMIFS(Weekly_Data_Raw[GROSS_ADDS],Weekly_Data_Raw[TICKER],'Weekly Metrics'!$A6,Weekly_Data_Raw[END_DATE],'Weekly Metrics'!Z$5), IF($B6=\"Churn\",SUMIFS(Weekly_Data_Raw[CHURNED_MEMBERS],Weekly_Data_Raw[TICKER],'Weekly Metrics'!$A6,Weekly_Data_Raw[END_DATE],'Weekly Metrics'!Z$5)))))))","v":40438},{"$f":"IF($B6=\"Panel Sales\", SUMIFS(Weekly_Data_Raw[PANEL_AMOUNT],Weekly_Data_Raw[TICKER],'Weekly Metrics'!$A6,Weekly_Data_Raw[END_DATE],'Weekly Metrics'!AA$5),IF($B6=\"Transactions\",SUMIFS(Weekly_Data_Raw[PANEL_TRANSACTIONS],Weekly_Data_Raw[TICKER],'Weekly Metrics'!$A6,Weekly_Data_Raw[END_DATE],'Weekly Metrics'!AA$5), IF($B6=\"Avg Ticket\",SUMIFS(Weekly_Data_Raw[AVG_TICKET],Weekly_Data_Raw[TICKER],'Weekly Metrics'!$A6,Weekly_Data_Raw[END_DATE],'Weekly Metrics'!AA$5), IF($B6=\"EOP Subscribers\",SUMIFS(Weekly_Data_Raw[EOP_SUBSCRIBERS],Weekly_Data_Raw[TICKER],'Weekly Metrics'!$A6,Weekly_Data_Raw[END_DATE],'Weekly Metrics'!AA$5), IF($B6=\"Gross Adds\",SUMIFS(Weekly_Data_Raw[GROSS_ADDS],Weekly_Data_Raw[TICKER],'Weekly Metrics'!$A6,Weekly_Data_Raw[END_DATE],'Weekly Metrics'!AA$5), IF($B6=\"Churn\",SUMIFS(Weekly_Data_Raw[CHURNED_MEMBERS],Weekly_Data_Raw[TICKER],'Weekly Metrics'!$A6,Weekly_Data_Raw[END_DATE],'Weekly Metrics'!AA$5)))))))","v":38849},{"$f":"IF($B6=\"Panel Sales\", SUMIFS(Weekly_Data_Raw[PANEL_AMOUNT],Weekly_Data_Raw[TICKER],'Weekly Metrics'!$A6,Weekly_Data_Raw[END_DATE],'Weekly Metrics'!AB$5),IF($B6=\"Transactions\",SUMIFS(Weekly_Data_Raw[PANEL_TRANSACTIONS],Weekly_Data_Raw[TICKER],'Weekly Metrics'!$A6,Weekly_Data_Raw[END_DATE],'Weekly Metrics'!AB$5), IF($B6=\"Avg Ticket\",SUMIFS(Weekly_Data_Raw[AVG_TICKET],Weekly_Data_Raw[TICKER],'Weekly Metrics'!$A6,Weekly_Data_Raw[END_DATE],'Weekly Metrics'!AB$5), IF($B6=\"EOP Subscribers\",SUMIFS(Weekly_Data_Raw[EOP_SUBSCRIBERS],Weekly_Data_Raw[TICKER],'Weekly Metrics'!$A6,Weekly_Data_Raw[END_DATE],'Weekly Metrics'!AB$5), IF($B6=\"Gross Adds\",SUMIFS(Weekly_Data_Raw[GROSS_ADDS],Weekly_Data_Raw[TICKER],'Weekly Metrics'!$A6,Weekly_Data_Raw[END_DATE],'Weekly Metrics'!AB$5), IF($B6=\"Churn\",SUMIFS(Weekly_Data_Raw[CHURNED_MEMBERS],Weekly_Data_Raw[TICKER],'Weekly Metrics'!$A6,Weekly_Data_Raw[END_DATE],'Weekly Metrics'!AB$5)))))))","v":40153},{"$f":"IF($B6=\"Panel Sales\", SUMIFS(Weekly_Data_Raw[PANEL_AMOUNT],Weekly_Data_Raw[TICKER],'Weekly Metrics'!$A6,Weekly_Data_Raw[END_DATE],'Weekly Metrics'!AC$5),IF($B6=\"Transactions\",SUMIFS(Weekly_Data_Raw[PANEL_TRANSACTIONS],Weekly_Data_Raw[TICKER],'Weekly Metrics'!$A6,Weekly_Data_Raw[END_DATE],'Weekly Metrics'!AC$5), IF($B6=\"Avg Ticket\",SUMIFS(Weekly_Data_Raw[AVG_TICKET],Weekly_Data_Raw[TICKER],'Weekly Metrics'!$A6,Weekly_Data_Raw[END_DATE],'Weekly Metrics'!AC$5), IF($B6=\"EOP Subscribers\",SUMIFS(Weekly_Data_Raw[EOP_SUBSCRIBERS],Weekly_Data_Raw[TICKER],'Weekly Metrics'!$A6,Weekly_Data_Raw[END_DATE],'Weekly Metrics'!AC$5), IF($B6=\"Gross Adds\",SUMIFS(Weekly_Data_Raw[GROSS_ADDS],Weekly_Data_Raw[TICKER],'Weekly Metrics'!$A6,Weekly_Data_Raw[END_DATE],'Weekly Metrics'!AC$5), IF($B6=\"Churn\",SUMIFS(Weekly_Data_Raw[CHURNED_MEMBERS],Weekly_Data_Raw[TICKER],'Weekly Metrics'!$A6,Weekly_Data_Raw[END_DATE],'Weekly Metrics'!AC$5)))))))","v":35185},{"$f":"IF($B6=\"Panel Sales\", SUMIFS(Weekly_Data_Raw[PANEL_AMOUNT],Weekly_Data_Raw[TICKER],'Weekly Metrics'!$A6,Weekly_Data_Raw[END_DATE],'Weekly Metrics'!AD$5),IF($B6=\"Transactions\",SUMIFS(Weekly_Data_Raw[PANEL_TRANSACTIONS],Weekly_Data_Raw[TICKER],'Weekly Metrics'!$A6,Weekly_Data_Raw[END_DATE],'Weekly Metrics'!AD$5), IF($B6=\"Avg Ticket\",SUMIFS(Weekly_Data_Raw[AVG_TICKET],Weekly_Data_Raw[TICKER],'Weekly Metrics'!$A6,Weekly_Data_Raw[END_DATE],'Weekly Metrics'!AD$5), IF($B6=\"EOP Subscribers\",SUMIFS(Weekly_Data_Raw[EOP_SUBSCRIBERS],Weekly_Data_Raw[TICKER],'Weekly Metrics'!$A6,Weekly_Data_Raw[END_DATE],'Weekly Metrics'!AD$5), IF($B6=\"Gross Adds\",SUMIFS(Weekly_Data_Raw[GROSS_ADDS],Weekly_Data_Raw[TICKER],'Weekly Metrics'!$A6,Weekly_Data_Raw[END_DATE],'Weekly Metrics'!AD$5), IF($B6=\"Churn\",SUMIFS(Weekly_Data_Raw[CHURNED_MEMBERS],Weekly_Data_Raw[TICKER],'Weekly Metrics'!$A6,Weekly_Data_Raw[END_DATE],'Weekly Metrics'!AD$5)))))))","v":39947},{"$f":"IF($B6=\"Panel Sales\", SUMIFS(Weekly_Data_Raw[PANEL_AMOUNT],Weekly_Data_Raw[TICKER],'Weekly Metrics'!$A6,Weekly_Data_Raw[END_DATE],'Weekly Metrics'!AE$5),IF($B6=\"Transactions\",SUMIFS(Weekly_Data_Raw[PANEL_TRANSACTIONS],Weekly_Data_Raw[TICKER],'Weekly Metrics'!$A6,Weekly_Data_Raw[END_DATE],'Weekly Metrics'!AE$5), IF($B6=\"Avg Ticket\",SUMIFS(Weekly_Data_Raw[AVG_TICKET],Weekly_Data_Raw[TICKER],'Weekly Metrics'!$A6,Weekly_Data_Raw[END_DATE],'Weekly Metrics'!AE$5), IF($B6=\"EOP Subscribers\",SUMIFS(Weekly_Data_Raw[EOP_SUBSCRIBERS],Weekly_Data_Raw[TICKER],'Weekly Metrics'!$A6,Weekly_Data_Raw[END_DATE],'Weekly Metrics'!AE$5), IF($B6=\"Gross Adds\",SUMIFS(Weekly_Data_Raw[GROSS_ADDS],Weekly_Data_Raw[TICKER],'Weekly Metrics'!$A6,Weekly_Data_Raw[END_DATE],'Weekly Metrics'!AE$5), IF($B6=\"Churn\",SUMIFS(Weekly_Data_Raw[CHURNED_MEMBERS],Weekly_Data_Raw[TICKER],'Weekly Metrics'!$A6,Weekly_Data_Raw[END_DATE],'Weekly Metrics'!AE$5)))))))","v":40114},{"$f":"IF($B6=\"Panel Sales\", SUMIFS(Weekly_Data_Raw[PANEL_AMOUNT],Weekly_Data_Raw[TICKER],'Weekly Metrics'!$A6,Weekly_Data_Raw[END_DATE],'Weekly Metrics'!AF$5),IF($B6=\"Transactions\",SUMIFS(Weekly_Data_Raw[PANEL_TRANSACTIONS],Weekly_Data_Raw[TICKER],'Weekly Metrics'!$A6,Weekly_Data_Raw[END_DATE],'Weekly Metrics'!AF$5), IF($B6=\"Avg Ticket\",SUMIFS(Weekly_Data_Raw[AVG_TICKET],Weekly_Data_Raw[TICKER],'Weekly Metrics'!$A6,Weekly_Data_Raw[END_DATE],'Weekly Metrics'!AF$5), IF($B6=\"EOP Subscribers\",SUMIFS(Weekly_Data_Raw[EOP_SUBSCRIBERS],Weekly_Data_Raw[TICKER],'Weekly Metrics'!$A6,Weekly_Data_Raw[END_DATE],'Weekly Metrics'!AF$5), IF($B6=\"Gross Adds\",SUMIFS(Weekly_Data_Raw[GROSS_ADDS],Weekly_Data_Raw[TICKER],'Weekly Metrics'!$A6,Weekly_Data_Raw[END_DATE],'Weekly Metrics'!AF$5), IF($B6=\"Churn\",SUMIFS(Weekly_Data_Raw[CHURNED_MEMBERS],Weekly_Data_Raw[TICKER],'Weekly Metrics'!$A6,Weekly_Data_Raw[END_DATE],'Weekly Metrics'!AF$5)))))))","v":39653},{"$f":"IF($B6=\"Panel Sales\", SUMIFS(Weekly_Data_Raw[PANEL_AMOUNT],Weekly_Data_Raw[TICKER],'Weekly Metrics'!$A6,Weekly_Data_Raw[END_DATE],'Weekly Metrics'!AG$5),IF($B6=\"Transactions\",SUMIFS(Weekly_Data_Raw[PANEL_TRANSACTIONS],Weekly_Data_Raw[TICKER],'Weekly Metrics'!$A6,Weekly_Data_Raw[END_DATE],'Weekly Metrics'!AG$5), IF($B6=\"Avg Ticket\",SUMIFS(Weekly_Data_Raw[AVG_TICKET],Weekly_Data_Raw[TICKER],'Weekly Metrics'!$A6,Weekly_Data_Raw[END_DATE],'Weekly Metrics'!AG$5), IF($B6=\"EOP Subscribers\",SUMIFS(Weekly_Data_Raw[EOP_SUBSCRIBERS],Weekly_Data_Raw[TICKER],'Weekly Metrics'!$A6,Weekly_Data_Raw[END_DATE],'Weekly Metrics'!AG$5), IF($B6=\"Gross Adds\",SUMIFS(Weekly_Data_Raw[GROSS_ADDS],Weekly_Data_Raw[TICKER],'Weekly Metrics'!$A6,Weekly_Data_Raw[END_DATE],'Weekly Metrics'!AG$5), IF($B6=\"Churn\",SUMIFS(Weekly_Data_Raw[CHURNED_MEMBERS],Weekly_Data_Raw[TICKER],'Weekly Metrics'!$A6,Weekly_Data_Raw[END_DATE],'Weekly Metrics'!AG$5)))))))","v":40591},{"$f":"IF($B6=\"Panel Sales\", SUMIFS(Weekly_Data_Raw[PANEL_AMOUNT],Weekly_Data_Raw[TICKER],'Weekly Metrics'!$A6,Weekly_Data_Raw[END_DATE],'Weekly Metrics'!AH$5),IF($B6=\"Transactions\",SUMIFS(Weekly_Data_Raw[PANEL_TRANSACTIONS],Weekly_Data_Raw[TICKER],'Weekly Metrics'!$A6,Weekly_Data_Raw[END_DATE],'Weekly Metrics'!AH$5), IF($B6=\"Avg Ticket\",SUMIFS(Weekly_Data_Raw[AVG_TICKET],Weekly_Data_Raw[TICKER],'Weekly Metrics'!$A6,Weekly_Data_Raw[END_DATE],'Weekly Metrics'!AH$5), IF($B6=\"EOP Subscribers\",SUMIFS(Weekly_Data_Raw[EOP_SUBSCRIBERS],Weekly_Data_Raw[TICKER],'Weekly Metrics'!$A6,Weekly_Data_Raw[END_DATE],'Weekly Metrics'!AH$5), IF($B6=\"Gross Adds\",SUMIFS(Weekly_Data_Raw[GROSS_ADDS],Weekly_Data_Raw[TICKER],'Weekly Metrics'!$A6,Weekly_Data_Raw[END_DATE],'Weekly Metrics'!AH$5), IF($B6=\"Churn\",SUMIFS(Weekly_Data_Raw[CHURNED_MEMBERS],Weekly_Data_Raw[TICKER],'Weekly Metrics'!$A6,Weekly_Data_Raw[END_DATE],'Weekly Metrics'!AH$5)))))))","v":39312},{"$f":"IF($B6=\"Panel Sales\", SUMIFS(Weekly_Data_Raw[PANEL_AMOUNT],Weekly_Data_Raw[TICKER],'Weekly Metrics'!$A6,Weekly_Data_Raw[END_DATE],'Weekly Metrics'!AI$5),IF($B6=\"Transactions\",SUMIFS(Weekly_Data_Raw[PANEL_TRANSACTIONS],Weekly_Data_Raw[TICKER],'Weekly Metrics'!$A6,Weekly_Data_Raw[END_DATE],'Weekly Metrics'!AI$5), IF($B6=\"Avg Ticket\",SUMIFS(Weekly_Data_Raw[AVG_TICKET],Weekly_Data_Raw[TICKER],'Weekly Metrics'!$A6,Weekly_Data_Raw[END_DATE],'Weekly Metrics'!AI$5), IF($B6=\"EOP Subscribers\",SUMIFS(Weekly_Data_Raw[EOP_SUBSCRIBERS],Weekly_Data_Raw[TICKER],'Weekly Metrics'!$A6,Weekly_Data_Raw[END_DATE],'Weekly Metrics'!AI$5), IF($B6=\"Gross Adds\",SUMIFS(Weekly_Data_Raw[GROSS_ADDS],Weekly_Data_Raw[TICKER],'Weekly Metrics'!$A6,Weekly_Data_Raw[END_DATE],'Weekly Metrics'!AI$5), IF($B6=\"Churn\",SUMIFS(Weekly_Data_Raw[CHURNED_MEMBERS],Weekly_Data_Raw[TICKER],'Weekly Metrics'!$A6,Weekly_Data_Raw[END_DATE],'Weekly Metrics'!AI$5)))))))","v":38624},{"$f":"IF($B6=\"Panel Sales\", SUMIFS(Weekly_Data_Raw[PANEL_AMOUNT],Weekly_Data_Raw[TICKER],'Weekly Metrics'!$A6,Weekly_Data_Raw[END_DATE],'Weekly Metrics'!AJ$5),IF($B6=\"Transactions\",SUMIFS(Weekly_Data_Raw[PANEL_TRANSACTIONS],Weekly_Data_Raw[TICKER],'Weekly Metrics'!$A6,Weekly_Data_Raw[END_DATE],'Weekly Metrics'!AJ$5), IF($B6=\"Avg Ticket\",SUMIFS(Weekly_Data_Raw[AVG_TICKET],Weekly_Data_Raw[TICKER],'Weekly Metrics'!$A6,Weekly_Data_Raw[END_DATE],'Weekly Metrics'!AJ$5), IF($B6=\"EOP Subscribers\",SUMIFS(Weekly_Data_Raw[EOP_SUBSCRIBERS],Weekly_Data_Raw[TICKER],'Weekly Metrics'!$A6,Weekly_Data_Raw[END_DATE],'Weekly Metrics'!AJ$5), IF($B6=\"Gross Adds\",SUMIFS(Weekly_Data_Raw[GROSS_ADDS],Weekly_Data_Raw[TICKER],'Weekly Metrics'!$A6,Weekly_Data_Raw[END_DATE],'Weekly Metrics'!AJ$5), IF($B6=\"Churn\",SUMIFS(Weekly_Data_Raw[CHURNED_MEMBERS],Weekly_Data_Raw[TICKER],'Weekly Metrics'!$A6,Weekly_Data_Raw[END_DATE],'Weekly Metrics'!AJ$5)))))))","v":38626},{"$f":"IF($B6=\"Panel Sales\", SUMIFS(Weekly_Data_Raw[PANEL_AMOUNT],Weekly_Data_Raw[TICKER],'Weekly Metrics'!$A6,Weekly_Data_Raw[END_DATE],'Weekly Metrics'!AK$5),IF($B6=\"Transactions\",SUMIFS(Weekly_Data_Raw[PANEL_TRANSACTIONS],Weekly_Data_Raw[TICKER],'Weekly Metrics'!$A6,Weekly_Data_Raw[END_DATE],'Weekly Metrics'!AK$5), IF($B6=\"Avg Ticket\",SUMIFS(Weekly_Data_Raw[AVG_TICKET],Weekly_Data_Raw[TICKER],'Weekly Metrics'!$A6,Weekly_Data_Raw[END_DATE],'Weekly Metrics'!AK$5), IF($B6=\"EOP Subscribers\",SUMIFS(Weekly_Data_Raw[EOP_SUBSCRIBERS],Weekly_Data_Raw[TICKER],'Weekly Metrics'!$A6,Weekly_Data_Raw[END_DATE],'Weekly Metrics'!AK$5), IF($B6=\"Gross Adds\",SUMIFS(Weekly_Data_Raw[GROSS_ADDS],Weekly_Data_Raw[TICKER],'Weekly Metrics'!$A6,Weekly_Data_Raw[END_DATE],'Weekly Metrics'!AK$5), IF($B6=\"Churn\",SUMIFS(Weekly_Data_Raw[CHURNED_MEMBERS],Weekly_Data_Raw[TICKER],'Weekly Metrics'!$A6,Weekly_Data_Raw[END_DATE],'Weekly Metrics'!AK$5)))))))","v":38268},{"$f":"IF($B6=\"Panel Sales\", SUMIFS(Weekly_Data_Raw[PANEL_AMOUNT],Weekly_Data_Raw[TICKER],'Weekly Metrics'!$A6,Weekly_Data_Raw[END_DATE],'Weekly Metrics'!AL$5),IF($B6=\"Transactions\",SUMIFS(Weekly_Data_Raw[PANEL_TRANSACTIONS],Weekly_Data_Raw[TICKER],'Weekly Metrics'!$A6,Weekly_Data_Raw[END_DATE],'Weekly Metrics'!AL$5), IF($B6=\"Avg Ticket\",SUMIFS(Weekly_Data_Raw[AVG_TICKET],Weekly_Data_Raw[TICKER],'Weekly Metrics'!$A6,Weekly_Data_Raw[END_DATE],'Weekly Metrics'!AL$5), IF($B6=\"EOP Subscribers\",SUMIFS(Weekly_Data_Raw[EOP_SUBSCRIBERS],Weekly_Data_Raw[TICKER],'Weekly Metrics'!$A6,Weekly_Data_Raw[END_DATE],'Weekly Metrics'!AL$5), IF($B6=\"Gross Adds\",SUMIFS(Weekly_Data_Raw[GROSS_ADDS],Weekly_Data_Raw[TICKER],'Weekly Metrics'!$A6,Weekly_Data_Raw[END_DATE],'Weekly Metrics'!AL$5), IF($B6=\"Churn\",SUMIFS(Weekly_Data_Raw[CHURNED_MEMBERS],Weekly_Data_Raw[TICKER],'Weekly Metrics'!$A6,Weekly_Data_Raw[END_DATE],'Weekly Metrics'!AL$5)))))))","v":36589},{"$f":"IF($B6=\"Panel Sales\", SUMIFS(Weekly_Data_Raw[PANEL_AMOUNT],Weekly_Data_Raw[TICKER],'Weekly Metrics'!$A6,Weekly_Data_Raw[END_DATE],'Weekly Metrics'!AM$5),IF($B6=\"Transactions\",SUMIFS(Weekly_Data_Raw[PANEL_TRANSACTIONS],Weekly_Data_Raw[TICKER],'Weekly Metrics'!$A6,Weekly_Data_Raw[END_DATE],'Weekly Metrics'!AM$5), IF($B6=\"Avg Ticket\",SUMIFS(Weekly_Data_Raw[AVG_TICKET],Weekly_Data_Raw[TICKER],'Weekly Metrics'!$A6,Weekly_Data_Raw[END_DATE],'Weekly Metrics'!AM$5), IF($B6=\"EOP Subscribers\",SUMIFS(Weekly_Data_Raw[EOP_SUBSCRIBERS],Weekly_Data_Raw[TICKER],'Weekly Metrics'!$A6,Weekly_Data_Raw[END_DATE],'Weekly Metrics'!AM$5), IF($B6=\"Gross Adds\",SUMIFS(Weekly_Data_Raw[GROSS_ADDS],Weekly_Data_Raw[TICKER],'Weekly Metrics'!$A6,Weekly_Data_Raw[END_DATE],'Weekly Metrics'!AM$5), IF($B6=\"Churn\",SUMIFS(Weekly_Data_Raw[CHURNED_MEMBERS],Weekly_Data_Raw[TICKER],'Weekly Metrics'!$A6,Weekly_Data_Raw[END_DATE],'Weekly Metrics'!AM$5)))))))","v":39117},{"$f":"IF($B6=\"Panel Sales\", SUMIFS(Weekly_Data_Raw[PANEL_AMOUNT],Weekly_Data_Raw[TICKER],'Weekly Metrics'!$A6,Weekly_Data_Raw[END_DATE],'Weekly Metrics'!AN$5),IF($B6=\"Transactions\",SUMIFS(Weekly_Data_Raw[PANEL_TRANSACTIONS],Weekly_Data_Raw[TICKER],'Weekly Metrics'!$A6,Weekly_Data_Raw[END_DATE],'Weekly Metrics'!AN$5), IF($B6=\"Avg Ticket\",SUMIFS(Weekly_Data_Raw[AVG_TICKET],Weekly_Data_Raw[TICKER],'Weekly Metrics'!$A6,Weekly_Data_Raw[END_DATE],'Weekly Metrics'!AN$5), IF($B6=\"EOP Subscribers\",SUMIFS(Weekly_Data_Raw[EOP_SUBSCRIBERS],Weekly_Data_Raw[TICKER],'Weekly Metrics'!$A6,Weekly_Data_Raw[END_DATE],'Weekly Metrics'!AN$5), IF($B6=\"Gross Adds\",SUMIFS(Weekly_Data_Raw[GROSS_ADDS],Weekly_Data_Raw[TICKER],'Weekly Metrics'!$A6,Weekly_Data_Raw[END_DATE],'Weekly Metrics'!AN$5), IF($B6=\"Churn\",SUMIFS(Weekly_Data_Raw[CHURNED_MEMBERS],Weekly_Data_Raw[TICKER],'Weekly Metrics'!$A6,Weekly_Data_Raw[END_DATE],'Weekly Metrics'!AN$5)))))))","v":40321},{"$f":"IF($B6=\"Panel Sales\", SUMIFS(Weekly_Data_Raw[PANEL_AMOUNT],Weekly_Data_Raw[TICKER],'Weekly Metrics'!$A6,Weekly_Data_Raw[END_DATE],'Weekly Metrics'!AO$5),IF($B6=\"Transactions\",SUMIFS(Weekly_Data_Raw[PANEL_TRANSACTIONS],Weekly_Data_Raw[TICKER],'Weekly Metrics'!$A6,Weekly_Data_Raw[END_DATE],'Weekly Metrics'!AO$5), IF($B6=\"Avg Ticket\",SUMIFS(Weekly_Data_Raw[AVG_TICKET],Weekly_Data_Raw[TICKER],'Weekly Metrics'!$A6,Weekly_Data_Raw[END_DATE],'Weekly Metrics'!AO$5), IF($B6=\"EOP Subscribers\",SUMIFS(Weekly_Data_Raw[EOP_SUBSCRIBERS],Weekly_Data_Raw[TICKER],'Weekly Metrics'!$A6,Weekly_Data_Raw[END_DATE],'Weekly Metrics'!AO$5), IF($B6=\"Gross Adds\",SUMIFS(Weekly_Data_Raw[GROSS_ADDS],Weekly_Data_Raw[TICKER],'Weekly Metrics'!$A6,Weekly_Data_Raw[END_DATE],'Weekly Metrics'!AO$5), IF($B6=\"Churn\",SUMIFS(Weekly_Data_Raw[CHURNED_MEMBERS],Weekly_Data_Raw[TICKER],'Weekly Metrics'!$A6,Weekly_Data_Raw[END_DATE],'Weekly Metrics'!AO$5)))))))","v":41416},{"$f":"IF($B6=\"Panel Sales\", SUMIFS(Weekly_Data_Raw[PANEL_AMOUNT],Weekly_Data_Raw[TICKER],'Weekly Metrics'!$A6,Weekly_Data_Raw[END_DATE],'Weekly Metrics'!AP$5),IF($B6=\"Transactions\",SUMIFS(Weekly_Data_Raw[PANEL_TRANSACTIONS],Weekly_Data_Raw[TICKER],'Weekly Metrics'!$A6,Weekly_Data_Raw[END_DATE],'Weekly Metrics'!AP$5), IF($B6=\"Avg Ticket\",SUMIFS(Weekly_Data_Raw[AVG_TICKET],Weekly_Data_Raw[TICKER],'Weekly Metrics'!$A6,Weekly_Data_Raw[END_DATE],'Weekly Metrics'!AP$5), IF($B6=\"EOP Subscribers\",SUMIFS(Weekly_Data_Raw[EOP_SUBSCRIBERS],Weekly_Data_Raw[TICKER],'Weekly Metrics'!$A6,Weekly_Data_Raw[END_DATE],'Weekly Metrics'!AP$5), IF($B6=\"Gross Adds\",SUMIFS(Weekly_Data_Raw[GROSS_ADDS],Weekly_Data_Raw[TICKER],'Weekly Metrics'!$A6,Weekly_Data_Raw[END_DATE],'Weekly Metrics'!AP$5), IF($B6=\"Churn\",SUMIFS(Weekly_Data_Raw[CHURNED_MEMBERS],Weekly_Data_Raw[TICKER],'Weekly Metrics'!$A6,Weekly_Data_Raw[END_DATE],'Weekly Metrics'!AP$5)))))))","v":42242},{"$f":"IF($B6=\"Panel Sales\", SUMIFS(Weekly_Data_Raw[PANEL_AMOUNT],Weekly_Data_Raw[TICKER],'Weekly Metrics'!$A6,Weekly_Data_Raw[END_DATE],'Weekly Metrics'!AQ$5),IF($B6=\"Transactions\",SUMIFS(Weekly_Data_Raw[PANEL_TRANSACTIONS],Weekly_Data_Raw[TICKER],'Weekly Metrics'!$A6,Weekly_Data_Raw[END_DATE],'Weekly Metrics'!AQ$5), IF($B6=\"Avg Ticket\",SUMIFS(Weekly_Data_Raw[AVG_TICKET],Weekly_Data_Raw[TICKER],'Weekly Metrics'!$A6,Weekly_Data_Raw[END_DATE],'Weekly Metrics'!AQ$5), IF($B6=\"EOP Subscribers\",SUMIFS(Weekly_Data_Raw[EOP_SUBSCRIBERS],Weekly_Data_Raw[TICKER],'Weekly Metrics'!$A6,Weekly_Data_Raw[END_DATE],'Weekly Metrics'!AQ$5), IF($B6=\"Gross Adds\",SUMIFS(Weekly_Data_Raw[GROSS_ADDS],Weekly_Data_Raw[TICKER],'Weekly Metrics'!$A6,Weekly_Data_Raw[END_DATE],'Weekly Metrics'!AQ$5), IF($B6=\"Churn\",SUMIFS(Weekly_Data_Raw[CHURNED_MEMBERS],Weekly_Data_Raw[TICKER],'Weekly Metrics'!$A6,Weekly_Data_Raw[END_DATE],'Weekly Metrics'!AQ$5)))))))","v":41647},{"$f":"IF($B6=\"Panel Sales\", SUMIFS(Weekly_Data_Raw[PANEL_AMOUNT],Weekly_Data_Raw[TICKER],'Weekly Metrics'!$A6,Weekly_Data_Raw[END_DATE],'Weekly Metrics'!AR$5),IF($B6=\"Transactions\",SUMIFS(Weekly_Data_Raw[PANEL_TRANSACTIONS],Weekly_Data_Raw[TICKER],'Weekly Metrics'!$A6,Weekly_Data_Raw[END_DATE],'Weekly Metrics'!AR$5), IF($B6=\"Avg Ticket\",SUMIFS(Weekly_Data_Raw[AVG_TICKET],Weekly_Data_Raw[TICKER],'Weekly Metrics'!$A6,Weekly_Data_Raw[END_DATE],'Weekly Metrics'!AR$5), IF($B6=\"EOP Subscribers\",SUMIFS(Weekly_Data_Raw[EOP_SUBSCRIBERS],Weekly_Data_Raw[TICKER],'Weekly Metrics'!$A6,Weekly_Data_Raw[END_DATE],'Weekly Metrics'!AR$5), IF($B6=\"Gross Adds\",SUMIFS(Weekly_Data_Raw[GROSS_ADDS],Weekly_Data_Raw[TICKER],'Weekly Metrics'!$A6,Weekly_Data_Raw[END_DATE],'Weekly Metrics'!AR$5), IF($B6=\"Churn\",SUMIFS(Weekly_Data_Raw[CHURNED_MEMBERS],Weekly_Data_Raw[TICKER],'Weekly Metrics'!$A6,Weekly_Data_Raw[END_DATE],'Weekly Metrics'!AR$5)))))))","v":41054},{"$f":"IF($B6=\"Panel Sales\", SUMIFS(Weekly_Data_Raw[PANEL_AMOUNT],Weekly_Data_Raw[TICKER],'Weekly Metrics'!$A6,Weekly_Data_Raw[END_DATE],'Weekly Metrics'!AS$5),IF($B6=\"Transactions\",SUMIFS(Weekly_Data_Raw[PANEL_TRANSACTIONS],Weekly_Data_Raw[TICKER],'Weekly Metrics'!$A6,Weekly_Data_Raw[END_DATE],'Weekly Metrics'!AS$5), IF($B6=\"Avg Ticket\",SUMIFS(Weekly_Data_Raw[AVG_TICKET],Weekly_Data_Raw[TICKER],'Weekly Metrics'!$A6,Weekly_Data_Raw[END_DATE],'Weekly Metrics'!AS$5), IF($B6=\"EOP Subscribers\",SUMIFS(Weekly_Data_Raw[EOP_SUBSCRIBERS],Weekly_Data_Raw[TICKER],'Weekly Metrics'!$A6,Weekly_Data_Raw[END_DATE],'Weekly Metrics'!AS$5), IF($B6=\"Gross Adds\",SUMIFS(Weekly_Data_Raw[GROSS_ADDS],Weekly_Data_Raw[TICKER],'Weekly Metrics'!$A6,Weekly_Data_Raw[END_DATE],'Weekly Metrics'!AS$5), IF($B6=\"Churn\",SUMIFS(Weekly_Data_Raw[CHURNED_MEMBERS],Weekly_Data_Raw[TICKER],'Weekly Metrics'!$A6,Weekly_Data_Raw[END_DATE],'Weekly Metrics'!AS$5)))))))","v":41677},{"$f":"IF($B6=\"Panel Sales\", SUMIFS(Weekly_Data_Raw[PANEL_AMOUNT],Weekly_Data_Raw[TICKER],'Weekly Metrics'!$A6,Weekly_Data_Raw[END_DATE],'Weekly Metrics'!AT$5),IF($B6=\"Transactions\",SUMIFS(Weekly_Data_Raw[PANEL_TRANSACTIONS],Weekly_Data_Raw[TICKER],'Weekly Metrics'!$A6,Weekly_Data_Raw[END_DATE],'Weekly Metrics'!AT$5), IF($B6=\"Avg Ticket\",SUMIFS(Weekly_Data_Raw[AVG_TICKET],Weekly_Data_Raw[TICKER],'Weekly Metrics'!$A6,Weekly_Data_Raw[END_DATE],'Weekly Metrics'!AT$5), IF($B6=\"EOP Subscribers\",SUMIFS(Weekly_Data_Raw[EOP_SUBSCRIBERS],Weekly_Data_Raw[TICKER],'Weekly Metrics'!$A6,Weekly_Data_Raw[END_DATE],'Weekly Metrics'!AT$5), IF($B6=\"Gross Adds\",SUMIFS(Weekly_Data_Raw[GROSS_ADDS],Weekly_Data_Raw[TICKER],'Weekly Metrics'!$A6,Weekly_Data_Raw[END_DATE],'Weekly Metrics'!AT$5), IF($B6=\"Churn\",SUMIFS(Weekly_Data_Raw[CHURNED_MEMBERS],Weekly_Data_Raw[TICKER],'Weekly Metrics'!$A6,Weekly_Data_Raw[END_DATE],'Weekly Metrics'!AT$5)))))))","v":42545},{"$f":"IF($B6=\"Panel Sales\", SUMIFS(Weekly_Data_Raw[PANEL_AMOUNT],Weekly_Data_Raw[TICKER],'Weekly Metrics'!$A6,Weekly_Data_Raw[END_DATE],'Weekly Metrics'!AU$5),IF($B6=\"Transactions\",SUMIFS(Weekly_Data_Raw[PANEL_TRANSACTIONS],Weekly_Data_Raw[TICKER],'Weekly Metrics'!$A6,Weekly_Data_Raw[END_DATE],'Weekly Metrics'!AU$5), IF($B6=\"Avg Ticket\",SUMIFS(Weekly_Data_Raw[AVG_TICKET],Weekly_Data_Raw[TICKER],'Weekly Metrics'!$A6,Weekly_Data_Raw[END_DATE],'Weekly Metrics'!AU$5), IF($B6=\"EOP Subscribers\",SUMIFS(Weekly_Data_Raw[EOP_SUBSCRIBERS],Weekly_Data_Raw[TICKER],'Weekly Metrics'!$A6,Weekly_Data_Raw[END_DATE],'Weekly Metrics'!AU$5), IF($B6=\"Gross Adds\",SUMIFS(Weekly_Data_Raw[GROSS_ADDS],Weekly_Data_Raw[TICKER],'Weekly Metrics'!$A6,Weekly_Data_Raw[END_DATE],'Weekly Metrics'!AU$5), IF($B6=\"Churn\",SUMIFS(Weekly_Data_Raw[CHURNED_MEMBERS],Weekly_Data_Raw[TICKER],'Weekly Metrics'!$A6,Weekly_Data_Raw[END_DATE],'Weekly Metrics'!AU$5)))))))","v":41401},{"$f":"IF($B6=\"Panel Sales\", SUMIFS(Weekly_Data_Raw[PANEL_AMOUNT],Weekly_Data_Raw[TICKER],'Weekly Metrics'!$A6,Weekly_Data_Raw[END_DATE],'Weekly Metrics'!AV$5),IF($B6=\"Transactions\",SUMIFS(Weekly_Data_Raw[PANEL_TRANSACTIONS],Weekly_Data_Raw[TICKER],'Weekly Metrics'!$A6,Weekly_Data_Raw[END_DATE],'Weekly Metrics'!AV$5), IF($B6=\"Avg Ticket\",SUMIFS(Weekly_Data_Raw[AVG_TICKET],Weekly_Data_Raw[TICKER],'Weekly Metrics'!$A6,Weekly_Data_Raw[END_DATE],'Weekly Metrics'!AV$5), IF($B6=\"EOP Subscribers\",SUMIFS(Weekly_Data_Raw[EOP_SUBSCRIBERS],Weekly_Data_Raw[TICKER],'Weekly Metrics'!$A6,Weekly_Data_Raw[END_DATE],'Weekly Metrics'!AV$5), IF($B6=\"Gross Adds\",SUMIFS(Weekly_Data_Raw[GROSS_ADDS],Weekly_Data_Raw[TICKER],'Weekly Metrics'!$A6,Weekly_Data_Raw[END_DATE],'Weekly Metrics'!AV$5), IF($B6=\"Churn\",SUMIFS(Weekly_Data_Raw[CHURNED_MEMBERS],Weekly_Data_Raw[TICKER],'Weekly Metrics'!$A6,Weekly_Data_Raw[END_DATE],'Weekly Metrics'!AV$5)))))))","v":40173},{"$f":"IF($B6=\"Panel Sales\", SUMIFS(Weekly_Data_Raw[PANEL_AMOUNT],Weekly_Data_Raw[TICKER],'Weekly Metrics'!$A6,Weekly_Data_Raw[END_DATE],'Weekly Metrics'!AW$5),IF($B6=\"Transactions\",SUMIFS(Weekly_Data_Raw[PANEL_TRANSACTIONS],Weekly_Data_Raw[TICKER],'Weekly Metrics'!$A6,Weekly_Data_Raw[END_DATE],'Weekly Metrics'!AW$5), IF($B6=\"Avg Ticket\",SUMIFS(Weekly_Data_Raw[AVG_TICKET],Weekly_Data_Raw[TICKER],'Weekly Metrics'!$A6,Weekly_Data_Raw[END_DATE],'Weekly Metrics'!AW$5), IF($B6=\"EOP Subscribers\",SUMIFS(Weekly_Data_Raw[EOP_SUBSCRIBERS],Weekly_Data_Raw[TICKER],'Weekly Metrics'!$A6,Weekly_Data_Raw[END_DATE],'Weekly Metrics'!AW$5), IF($B6=\"Gross Adds\",SUMIFS(Weekly_Data_Raw[GROSS_ADDS],Weekly_Data_Raw[TICKER],'Weekly Metrics'!$A6,Weekly_Data_Raw[END_DATE],'Weekly Metrics'!AW$5), IF($B6=\"Churn\",SUMIFS(Weekly_Data_Raw[CHURNED_MEMBERS],Weekly_Data_Raw[TICKER],'Weekly Metrics'!$A6,Weekly_Data_Raw[END_DATE],'Weekly Metrics'!AW$5)))))))","v":40471},{"$f":"IF($B6=\"Panel Sales\", SUMIFS(Weekly_Data_Raw[PANEL_AMOUNT],Weekly_Data_Raw[TICKER],'Weekly Metrics'!$A6,Weekly_Data_Raw[END_DATE],'Weekly Metrics'!AX$5),IF($B6=\"Transactions\",SUMIFS(Weekly_Data_Raw[PANEL_TRANSACTIONS],Weekly_Data_Raw[TICKER],'Weekly Metrics'!$A6,Weekly_Data_Raw[END_DATE],'Weekly Metrics'!AX$5), IF($B6=\"Avg Ticket\",SUMIFS(Weekly_Data_Raw[AVG_TICKET],Weekly_Data_Raw[TICKER],'Weekly Metrics'!$A6,Weekly_Data_Raw[END_DATE],'Weekly Metrics'!AX$5), IF($B6=\"EOP Subscribers\",SUMIFS(Weekly_Data_Raw[EOP_SUBSCRIBERS],Weekly_Data_Raw[TICKER],'Weekly Metrics'!$A6,Weekly_Data_Raw[END_DATE],'Weekly Metrics'!AX$5), IF($B6=\"Gross Adds\",SUMIFS(Weekly_Data_Raw[GROSS_ADDS],Weekly_Data_Raw[TICKER],'Weekly Metrics'!$A6,Weekly_Data_Raw[END_DATE],'Weekly Metrics'!AX$5), IF($B6=\"Churn\",SUMIFS(Weekly_Data_Raw[CHURNED_MEMBERS],Weekly_Data_Raw[TICKER],'Weekly Metrics'!$A6,Weekly_Data_Raw[END_DATE],'Weekly Metrics'!AX$5)))))))","v":32183},{"$f":"IF($B6=\"Panel Sales\", SUMIFS(Weekly_Data_Raw[PANEL_AMOUNT],Weekly_Data_Raw[TICKER],'Weekly Metrics'!$A6,Weekly_Data_Raw[END_DATE],'Weekly Metrics'!AY$5),IF($B6=\"Transactions\",SUMIFS(Weekly_Data_Raw[PANEL_TRANSACTIONS],Weekly_Data_Raw[TICKER],'Weekly Metrics'!$A6,Weekly_Data_Raw[END_DATE],'Weekly Metrics'!AY$5), IF($B6=\"Avg Ticket\",SUMIFS(Weekly_Data_Raw[AVG_TICKET],Weekly_Data_Raw[TICKER],'Weekly Metrics'!$A6,Weekly_Data_Raw[END_DATE],'Weekly Metrics'!AY$5), IF($B6=\"EOP Subscribers\",SUMIFS(Weekly_Data_Raw[EOP_SUBSCRIBERS],Weekly_Data_Raw[TICKER],'Weekly Metrics'!$A6,Weekly_Data_Raw[END_DATE],'Weekly Metrics'!AY$5), IF($B6=\"Gross Adds\",SUMIFS(Weekly_Data_Raw[GROSS_ADDS],Weekly_Data_Raw[TICKER],'Weekly Metrics'!$A6,Weekly_Data_Raw[END_DATE],'Weekly Metrics'!AY$5), IF($B6=\"Churn\",SUMIFS(Weekly_Data_Raw[CHURNED_MEMBERS],Weekly_Data_Raw[TICKER],'Weekly Metrics'!$A6,Weekly_Data_Raw[END_DATE],'Weekly Metrics'!AY$5)))))))","v":39069},{"$f":"IF($B6=\"Panel Sales\", SUMIFS(Weekly_Data_Raw[PANEL_AMOUNT],Weekly_Data_Raw[TICKER],'Weekly Metrics'!$A6,Weekly_Data_Raw[END_DATE],'Weekly Metrics'!AZ$5),IF($B6=\"Transactions\",SUMIFS(Weekly_Data_Raw[PANEL_TRANSACTIONS],Weekly_Data_Raw[TICKER],'Weekly Metrics'!$A6,Weekly_Data_Raw[END_DATE],'Weekly Metrics'!AZ$5), IF($B6=\"Avg Ticket\",SUMIFS(Weekly_Data_Raw[AVG_TICKET],Weekly_Data_Raw[TICKER],'Weekly Metrics'!$A6,Weekly_Data_Raw[END_DATE],'Weekly Metrics'!AZ$5), IF($B6=\"EOP Subscribers\",SUMIFS(Weekly_Data_Raw[EOP_SUBSCRIBERS],Weekly_Data_Raw[TICKER],'Weekly Metrics'!$A6,Weekly_Data_Raw[END_DATE],'Weekly Metrics'!AZ$5), IF($B6=\"Gross Adds\",SUMIFS(Weekly_Data_Raw[GROSS_ADDS],Weekly_Data_Raw[TICKER],'Weekly Metrics'!$A6,Weekly_Data_Raw[END_DATE],'Weekly Metrics'!AZ$5), IF($B6=\"Churn\",SUMIFS(Weekly_Data_Raw[CHURNED_MEMBERS],Weekly_Data_Raw[TICKER],'Weekly Metrics'!$A6,Weekly_Data_Raw[END_DATE],'Weekly Metrics'!AZ$5)))))))","v":41010},{"$f":"IF($B6=\"Panel Sales\", SUMIFS(Weekly_Data_Raw[PANEL_AMOUNT],Weekly_Data_Raw[TICKER],'Weekly Metrics'!$A6,Weekly_Data_Raw[END_DATE],'Weekly Metrics'!BA$5),IF($B6=\"Transactions\",SUMIFS(Weekly_Data_Raw[PANEL_TRANSACTIONS],Weekly_Data_Raw[TICKER],'Weekly Metrics'!$A6,Weekly_Data_Raw[END_DATE],'Weekly Metrics'!BA$5), IF($B6=\"Avg Ticket\",SUMIFS(Weekly_Data_Raw[AVG_TICKET],Weekly_Data_Raw[TICKER],'Weekly Metrics'!$A6,Weekly_Data_Raw[END_DATE],'Weekly Metrics'!BA$5), IF($B6=\"EOP Subscribers\",SUMIFS(Weekly_Data_Raw[EOP_SUBSCRIBERS],Weekly_Data_Raw[TICKER],'Weekly Metrics'!$A6,Weekly_Data_Raw[END_DATE],'Weekly Metrics'!BA$5), IF($B6=\"Gross Adds\",SUMIFS(Weekly_Data_Raw[GROSS_ADDS],Weekly_Data_Raw[TICKER],'Weekly Metrics'!$A6,Weekly_Data_Raw[END_DATE],'Weekly Metrics'!BA$5), IF($B6=\"Churn\",SUMIFS(Weekly_Data_Raw[CHURNED_MEMBERS],Weekly_Data_Raw[TICKER],'Weekly Metrics'!$A6,Weekly_Data_Raw[END_DATE],'Weekly Metrics'!BA$5)))))))","v":40048},{"$f":"IF($B6=\"Panel Sales\", SUMIFS(Weekly_Data_Raw[PANEL_AMOUNT],Weekly_Data_Raw[TICKER],'Weekly Metrics'!$A6,Weekly_Data_Raw[END_DATE],'Weekly Metrics'!BB$5),IF($B6=\"Transactions\",SUMIFS(Weekly_Data_Raw[PANEL_TRANSACTIONS],Weekly_Data_Raw[TICKER],'Weekly Metrics'!$A6,Weekly_Data_Raw[END_DATE],'Weekly Metrics'!BB$5), IF($B6=\"Avg Ticket\",SUMIFS(Weekly_Data_Raw[AVG_TICKET],Weekly_Data_Raw[TICKER],'Weekly Metrics'!$A6,Weekly_Data_Raw[END_DATE],'Weekly Metrics'!BB$5), IF($B6=\"EOP Subscribers\",SUMIFS(Weekly_Data_Raw[EOP_SUBSCRIBERS],Weekly_Data_Raw[TICKER],'Weekly Metrics'!$A6,Weekly_Data_Raw[END_DATE],'Weekly Metrics'!BB$5), IF($B6=\"Gross Adds\",SUMIFS(Weekly_Data_Raw[GROSS_ADDS],Weekly_Data_Raw[TICKER],'Weekly Metrics'!$A6,Weekly_Data_Raw[END_DATE],'Weekly Metrics'!BB$5), IF($B6=\"Churn\",SUMIFS(Weekly_Data_Raw[CHURNED_MEMBERS],Weekly_Data_Raw[TICKER],'Weekly Metrics'!$A6,Weekly_Data_Raw[END_DATE],'Weekly Metrics'!BB$5)))))))","v":27242},{"$f":"IF($B6=\"Panel Sales\", SUMIFS(Weekly_Data_Raw[PANEL_AMOUNT],Weekly_Data_Raw[TICKER],'Weekly Metrics'!$A6,Weekly_Data_Raw[END_DATE],'Weekly Metrics'!BC$5),IF($B6=\"Transactions\",SUMIFS(Weekly_Data_Raw[PANEL_TRANSACTIONS],Weekly_Data_Raw[TICKER],'Weekly Metrics'!$A6,Weekly_Data_Raw[END_DATE],'Weekly Metrics'!BC$5), IF($B6=\"Avg Ticket\",SUMIFS(Weekly_Data_Raw[AVG_TICKET],Weekly_Data_Raw[TICKER],'Weekly Metrics'!$A6,Weekly_Data_Raw[END_DATE],'Weekly Metrics'!BC$5), IF($B6=\"EOP Subscribers\",SUMIFS(Weekly_Data_Raw[EOP_SUBSCRIBERS],Weekly_Data_Raw[TICKER],'Weekly Metrics'!$A6,Weekly_Data_Raw[END_DATE],'Weekly Metrics'!BC$5), IF($B6=\"Gross Adds\",SUMIFS(Weekly_Data_Raw[GROSS_ADDS],Weekly_Data_Raw[TICKER],'Weekly Metrics'!$A6,Weekly_Data_Raw[END_DATE],'Weekly Metrics'!BC$5), IF($B6=\"Churn\",SUMIFS(Weekly_Data_Raw[CHURNED_MEMBERS],Weekly_Data_Raw[TICKER],'Weekly Metrics'!$A6,Weekly_Data_Raw[END_DATE],'Weekly Metrics'!BC$5)))))))","v":34182},{"$f":"IF($B6=\"Panel Sales\", SUMIFS(Weekly_Data_Raw[PANEL_AMOUNT],Weekly_Data_Raw[TICKER],'Weekly Metrics'!$A6,Weekly_Data_Raw[END_DATE],'Weekly Metrics'!BD$5),IF($B6=\"Transactions\",SUMIFS(Weekly_Data_Raw[PANEL_TRANSACTIONS],Weekly_Data_Raw[TICKER],'Weekly Metrics'!$A6,Weekly_Data_Raw[END_DATE],'Weekly Metrics'!BD$5), IF($B6=\"Avg Ticket\",SUMIFS(Weekly_Data_Raw[AVG_TICKET],Weekly_Data_Raw[TICKER],'Weekly Metrics'!$A6,Weekly_Data_Raw[END_DATE],'Weekly Metrics'!BD$5), IF($B6=\"EOP Subscribers\",SUMIFS(Weekly_Data_Raw[EOP_SUBSCRIBERS],Weekly_Data_Raw[TICKER],'Weekly Metrics'!$A6,Weekly_Data_Raw[END_DATE],'Weekly Metrics'!BD$5), IF($B6=\"Gross Adds\",SUMIFS(Weekly_Data_Raw[GROSS_ADDS],Weekly_Data_Raw[TICKER],'Weekly Metrics'!$A6,Weekly_Data_Raw[END_DATE],'Weekly Metrics'!BD$5), IF($B6=\"Churn\",SUMIFS(Weekly_Data_Raw[CHURNED_MEMBERS],Weekly_Data_Raw[TICKER],'Weekly Metrics'!$A6,Weekly_Data_Raw[END_DATE],'Weekly Metrics'!BD$5)))))))","v":40097},{"$f":"IF($B6=\"Panel Sales\", SUMIFS(Weekly_Data_Raw[PANEL_AMOUNT],Weekly_Data_Raw[TICKER],'Weekly Metrics'!$A6,Weekly_Data_Raw[END_DATE],'Weekly Metrics'!BE$5),IF($B6=\"Transactions\",SUMIFS(Weekly_Data_Raw[PANEL_TRANSACTIONS],Weekly_Data_Raw[TICKER],'Weekly Metrics'!$A6,Weekly_Data_Raw[END_DATE],'Weekly Metrics'!BE$5), IF($B6=\"Avg Ticket\",SUMIFS(Weekly_Data_Raw[AVG_TICKET],Weekly_Data_Raw[TICKER],'Weekly Metrics'!$A6,Weekly_Data_Raw[END_DATE],'Weekly Metrics'!BE$5), IF($B6=\"EOP Subscribers\",SUMIFS(Weekly_Data_Raw[EOP_SUBSCRIBERS],Weekly_Data_Raw[TICKER],'Weekly Metrics'!$A6,Weekly_Data_Raw[END_DATE],'Weekly Metrics'!BE$5), IF($B6=\"Gross Adds\",SUMIFS(Weekly_Data_Raw[GROSS_ADDS],Weekly_Data_Raw[TICKER],'Weekly Metrics'!$A6,Weekly_Data_Raw[END_DATE],'Weekly Metrics'!BE$5), IF($B6=\"Churn\",SUMIFS(Weekly_Data_Raw[CHURNED_MEMBERS],Weekly_Data_Raw[TICKER],'Weekly Metrics'!$A6,Weekly_Data_Raw[END_DATE],'Weekly Metrics'!BE$5)))))))","v":39951},{"$f":"IF($B6=\"Panel Sales\", SUMIFS(Weekly_Data_Raw[PANEL_AMOUNT],Weekly_Data_Raw[TICKER],'Weekly Metrics'!$A6,Weekly_Data_Raw[END_DATE],'Weekly Metrics'!BF$5),IF($B6=\"Transactions\",SUMIFS(Weekly_Data_Raw[PANEL_TRANSACTIONS],Weekly_Data_Raw[TICKER],'Weekly Metrics'!$A6,Weekly_Data_Raw[END_DATE],'Weekly Metrics'!BF$5), IF($B6=\"Avg Ticket\",SUMIFS(Weekly_Data_Raw[AVG_TICKET],Weekly_Data_Raw[TICKER],'Weekly Metrics'!$A6,Weekly_Data_Raw[END_DATE],'Weekly Metrics'!BF$5), IF($B6=\"EOP Subscribers\",SUMIFS(Weekly_Data_Raw[EOP_SUBSCRIBERS],Weekly_Data_Raw[TICKER],'Weekly Metrics'!$A6,Weekly_Data_Raw[END_DATE],'Weekly Metrics'!BF$5), IF($B6=\"Gross Adds\",SUMIFS(Weekly_Data_Raw[GROSS_ADDS],Weekly_Data_Raw[TICKER],'Weekly Metrics'!$A6,Weekly_Data_Raw[END_DATE],'Weekly Metrics'!BF$5), IF($B6=\"Churn\",SUMIFS(Weekly_Data_Raw[CHURNED_MEMBERS],Weekly_Data_Raw[TICKER],'Weekly Metrics'!$A6,Weekly_Data_Raw[END_DATE],'Weekly Metrics'!BF$5)))))))","v":38990},{"$f":"IF($B6=\"Panel Sales\", SUMIFS(Weekly_Data_Raw[PANEL_AMOUNT],Weekly_Data_Raw[TICKER],'Weekly Metrics'!$A6,Weekly_Data_Raw[END_DATE],'Weekly Metrics'!BG$5),IF($B6=\"Transactions\",SUMIFS(Weekly_Data_Raw[PANEL_TRANSACTIONS],Weekly_Data_Raw[TICKER],'Weekly Metrics'!$A6,Weekly_Data_Raw[END_DATE],'Weekly Metrics'!BG$5), IF($B6=\"Avg Ticket\",SUMIFS(Weekly_Data_Raw[AVG_TICKET],Weekly_Data_Raw[TICKER],'Weekly Metrics'!$A6,Weekly_Data_Raw[END_DATE],'Weekly Metrics'!BG$5), IF($B6=\"EOP Subscribers\",SUMIFS(Weekly_Data_Raw[EOP_SUBSCRIBERS],Weekly_Data_Raw[TICKER],'Weekly Metrics'!$A6,Weekly_Data_Raw[END_DATE],'Weekly Metrics'!BG$5), IF($B6=\"Gross Adds\",SUMIFS(Weekly_Data_Raw[GROSS_ADDS],Weekly_Data_Raw[TICKER],'Weekly Metrics'!$A6,Weekly_Data_Raw[END_DATE],'Weekly Metrics'!BG$5), IF($B6=\"Churn\",SUMIFS(Weekly_Data_Raw[CHURNED_MEMBERS],Weekly_Data_Raw[TICKER],'Weekly Metrics'!$A6,Weekly_Data_Raw[END_DATE],'Weekly Metrics'!BG$5)))))))","v":40075},{"$f":"IF($B6=\"Panel Sales\", SUMIFS(Weekly_Data_Raw[PANEL_AMOUNT],Weekly_Data_Raw[TICKER],'Weekly Metrics'!$A6,Weekly_Data_Raw[END_DATE],'Weekly Metrics'!BH$5),IF($B6=\"Transactions\",SUMIFS(Weekly_Data_Raw[PANEL_TRANSACTIONS],Weekly_Data_Raw[TICKER],'Weekly Metrics'!$A6,Weekly_Data_Raw[END_DATE],'Weekly Metrics'!BH$5), IF($B6=\"Avg Ticket\",SUMIFS(Weekly_Data_Raw[AVG_TICKET],Weekly_Data_Raw[TICKER],'Weekly Metrics'!$A6,Weekly_Data_Raw[END_DATE],'Weekly Metrics'!BH$5), IF($B6=\"EOP Subscribers\",SUMIFS(Weekly_Data_Raw[EOP_SUBSCRIBERS],Weekly_Data_Raw[TICKER],'Weekly Metrics'!$A6,Weekly_Data_Raw[END_DATE],'Weekly Metrics'!BH$5), IF($B6=\"Gross Adds\",SUMIFS(Weekly_Data_Raw[GROSS_ADDS],Weekly_Data_Raw[TICKER],'Weekly Metrics'!$A6,Weekly_Data_Raw[END_DATE],'Weekly Metrics'!BH$5), IF($B6=\"Churn\",SUMIFS(Weekly_Data_Raw[CHURNED_MEMBERS],Weekly_Data_Raw[TICKER],'Weekly Metrics'!$A6,Weekly_Data_Raw[END_DATE],'Weekly Metrics'!BH$5)))))))","v":39644},{"$f":"IF($B6=\"Panel Sales\", SUMIFS(Weekly_Data_Raw[PANEL_AMOUNT],Weekly_Data_Raw[TICKER],'Weekly Metrics'!$A6,Weekly_Data_Raw[END_DATE],'Weekly Metrics'!BI$5),IF($B6=\"Transactions\",SUMIFS(Weekly_Data_Raw[PANEL_TRANSACTIONS],Weekly_Data_Raw[TICKER],'Weekly Metrics'!$A6,Weekly_Data_Raw[END_DATE],'Weekly Metrics'!BI$5), IF($B6=\"Avg Ticket\",SUMIFS(Weekly_Data_Raw[AVG_TICKET],Weekly_Data_Raw[TICKER],'Weekly Metrics'!$A6,Weekly_Data_Raw[END_DATE],'Weekly Metrics'!BI$5), IF($B6=\"EOP Subscribers\",SUMIFS(Weekly_Data_Raw[EOP_SUBSCRIBERS],Weekly_Data_Raw[TICKER],'Weekly Metrics'!$A6,Weekly_Data_Raw[END_DATE],'Weekly Metrics'!BI$5), IF($B6=\"Gross Adds\",SUMIFS(Weekly_Data_Raw[GROSS_ADDS],Weekly_Data_Raw[TICKER],'Weekly Metrics'!$A6,Weekly_Data_Raw[END_DATE],'Weekly Metrics'!BI$5), IF($B6=\"Churn\",SUMIFS(Weekly_Data_Raw[CHURNED_MEMBERS],Weekly_Data_Raw[TICKER],'Weekly Metrics'!$A6,Weekly_Data_Raw[END_DATE],'Weekly Metrics'!BI$5)))))))","v":41831},{"$f":"IF($B6=\"Panel Sales\", SUMIFS(Weekly_Data_Raw[PANEL_AMOUNT],Weekly_Data_Raw[TICKER],'Weekly Metrics'!$A6,Weekly_Data_Raw[END_DATE],'Weekly Metrics'!BJ$5),IF($B6=\"Transactions\",SUMIFS(Weekly_Data_Raw[PANEL_TRANSACTIONS],Weekly_Data_Raw[TICKER],'Weekly Metrics'!$A6,Weekly_Data_Raw[END_DATE],'Weekly Metrics'!BJ$5), IF($B6=\"Avg Ticket\",SUMIFS(Weekly_Data_Raw[AVG_TICKET],Weekly_Data_Raw[TICKER],'Weekly Metrics'!$A6,Weekly_Data_Raw[END_DATE],'Weekly Metrics'!BJ$5), IF($B6=\"EOP Subscribers\",SUMIFS(Weekly_Data_Raw[EOP_SUBSCRIBERS],Weekly_Data_Raw[TICKER],'Weekly Metrics'!$A6,Weekly_Data_Raw[END_DATE],'Weekly Metrics'!BJ$5), IF($B6=\"Gross Adds\",SUMIFS(Weekly_Data_Raw[GROSS_ADDS],Weekly_Data_Raw[TICKER],'Weekly Metrics'!$A6,Weekly_Data_Raw[END_DATE],'Weekly Metrics'!BJ$5), IF($B6=\"Churn\",SUMIFS(Weekly_Data_Raw[CHURNED_MEMBERS],Weekly_Data_Raw[TICKER],'Weekly Metrics'!$A6,Weekly_Data_Raw[END_DATE],'Weekly Metrics'!BJ$5)))))))","v":42160},{"$f":"IF($B6=\"Panel Sales\", SUMIFS(Weekly_Data_Raw[PANEL_AMOUNT],Weekly_Data_Raw[TICKER],'Weekly Metrics'!$A6,Weekly_Data_Raw[END_DATE],'Weekly Metrics'!BK$5),IF($B6=\"Transactions\",SUMIFS(Weekly_Data_Raw[PANEL_TRANSACTIONS],Weekly_Data_Raw[TICKER],'Weekly Metrics'!$A6,Weekly_Data_Raw[END_DATE],'Weekly Metrics'!BK$5), IF($B6=\"Avg Ticket\",SUMIFS(Weekly_Data_Raw[AVG_TICKET],Weekly_Data_Raw[TICKER],'Weekly Metrics'!$A6,Weekly_Data_Raw[END_DATE],'Weekly Metrics'!BK$5), IF($B6=\"EOP Subscribers\",SUMIFS(Weekly_Data_Raw[EOP_SUBSCRIBERS],Weekly_Data_Raw[TICKER],'Weekly Metrics'!$A6,Weekly_Data_Raw[END_DATE],'Weekly Metrics'!BK$5), IF($B6=\"Gross Adds\",SUMIFS(Weekly_Data_Raw[GROSS_ADDS],Weekly_Data_Raw[TICKER],'Weekly Metrics'!$A6,Weekly_Data_Raw[END_DATE],'Weekly Metrics'!BK$5), IF($B6=\"Churn\",SUMIFS(Weekly_Data_Raw[CHURNED_MEMBERS],Weekly_Data_Raw[TICKER],'Weekly Metrics'!$A6,Weekly_Data_Raw[END_DATE],'Weekly Metrics'!BK$5)))))))","v":44281},{"$f":"IF($B6=\"Panel Sales\", SUMIFS(Weekly_Data_Raw[PANEL_AMOUNT],Weekly_Data_Raw[TICKER],'Weekly Metrics'!$A6,Weekly_Data_Raw[END_DATE],'Weekly Metrics'!BL$5),IF($B6=\"Transactions\",SUMIFS(Weekly_Data_Raw[PANEL_TRANSACTIONS],Weekly_Data_Raw[TICKER],'Weekly Metrics'!$A6,Weekly_Data_Raw[END_DATE],'Weekly Metrics'!BL$5), IF($B6=\"Avg Ticket\",SUMIFS(Weekly_Data_Raw[AVG_TICKET],Weekly_Data_Raw[TICKER],'Weekly Metrics'!$A6,Weekly_Data_Raw[END_DATE],'Weekly Metrics'!BL$5), IF($B6=\"EOP Subscribers\",SUMIFS(Weekly_Data_Raw[EOP_SUBSCRIBERS],Weekly_Data_Raw[TICKER],'Weekly Metrics'!$A6,Weekly_Data_Raw[END_DATE],'Weekly Metrics'!BL$5), IF($B6=\"Gross Adds\",SUMIFS(Weekly_Data_Raw[GROSS_ADDS],Weekly_Data_Raw[TICKER],'Weekly Metrics'!$A6,Weekly_Data_Raw[END_DATE],'Weekly Metrics'!BL$5), IF($B6=\"Churn\",SUMIFS(Weekly_Data_Raw[CHURNED_MEMBERS],Weekly_Data_Raw[TICKER],'Weekly Metrics'!$A6,Weekly_Data_Raw[END_DATE],'Weekly Metrics'!BL$5)))))))","v":43932},{"$f":"IF($B6=\"Panel Sales\", SUMIFS(Weekly_Data_Raw[PANEL_AMOUNT],Weekly_Data_Raw[TICKER],'Weekly Metrics'!$A6,Weekly_Data_Raw[END_DATE],'Weekly Metrics'!BM$5),IF($B6=\"Transactions\",SUMIFS(Weekly_Data_Raw[PANEL_TRANSACTIONS],Weekly_Data_Raw[TICKER],'Weekly Metrics'!$A6,Weekly_Data_Raw[END_DATE],'Weekly Metrics'!BM$5), IF($B6=\"Avg Ticket\",SUMIFS(Weekly_Data_Raw[AVG_TICKET],Weekly_Data_Raw[TICKER],'Weekly Metrics'!$A6,Weekly_Data_Raw[END_DATE],'Weekly Metrics'!BM$5), IF($B6=\"EOP Subscribers\",SUMIFS(Weekly_Data_Raw[EOP_SUBSCRIBERS],Weekly_Data_Raw[TICKER],'Weekly Metrics'!$A6,Weekly_Data_Raw[END_DATE],'Weekly Metrics'!BM$5), IF($B6=\"Gross Adds\",SUMIFS(Weekly_Data_Raw[GROSS_ADDS],Weekly_Data_Raw[TICKER],'Weekly Metrics'!$A6,Weekly_Data_Raw[END_DATE],'Weekly Metrics'!BM$5), IF($B6=\"Churn\",SUMIFS(Weekly_Data_Raw[CHURNED_MEMBERS],Weekly_Data_Raw[TICKER],'Weekly Metrics'!$A6,Weekly_Data_Raw[END_DATE],'Weekly Metrics'!BM$5)))))))","v":40145},{"$f":"IF($B6=\"Panel Sales\", SUMIFS(Weekly_Data_Raw[PANEL_AMOUNT],Weekly_Data_Raw[TICKER],'Weekly Metrics'!$A6,Weekly_Data_Raw[END_DATE],'Weekly Metrics'!BN$5),IF($B6=\"Transactions\",SUMIFS(Weekly_Data_Raw[PANEL_TRANSACTIONS],Weekly_Data_Raw[TICKER],'Weekly Metrics'!$A6,Weekly_Data_Raw[END_DATE],'Weekly Metrics'!BN$5), IF($B6=\"Avg Ticket\",SUMIFS(Weekly_Data_Raw[AVG_TICKET],Weekly_Data_Raw[TICKER],'Weekly Metrics'!$A6,Weekly_Data_Raw[END_DATE],'Weekly Metrics'!BN$5), IF($B6=\"EOP Subscribers\",SUMIFS(Weekly_Data_Raw[EOP_SUBSCRIBERS],Weekly_Data_Raw[TICKER],'Weekly Metrics'!$A6,Weekly_Data_Raw[END_DATE],'Weekly Metrics'!BN$5), IF($B6=\"Gross Adds\",SUMIFS(Weekly_Data_Raw[GROSS_ADDS],Weekly_Data_Raw[TICKER],'Weekly Metrics'!$A6,Weekly_Data_Raw[END_DATE],'Weekly Metrics'!BN$5), IF($B6=\"Churn\",SUMIFS(Weekly_Data_Raw[CHURNED_MEMBERS],Weekly_Data_Raw[TICKER],'Weekly Metrics'!$A6,Weekly_Data_Raw[END_DATE],'Weekly Metrics'!BN$5)))))))","v":26663},{"$f":"IF($B6=\"Panel Sales\", SUMIFS(Weekly_Data_Raw[PANEL_AMOUNT],Weekly_Data_Raw[TICKER],'Weekly Metrics'!$A6,Weekly_Data_Raw[END_DATE],'Weekly Metrics'!BO$5),IF($B6=\"Transactions\",SUMIFS(Weekly_Data_Raw[PANEL_TRANSACTIONS],Weekly_Data_Raw[TICKER],'Weekly Metrics'!$A6,Weekly_Data_Raw[END_DATE],'Weekly Metrics'!BO$5), IF($B6=\"Avg Ticket\",SUMIFS(Weekly_Data_Raw[AVG_TICKET],Weekly_Data_Raw[TICKER],'Weekly Metrics'!$A6,Weekly_Data_Raw[END_DATE],'Weekly Metrics'!BO$5), IF($B6=\"EOP Subscribers\",SUMIFS(Weekly_Data_Raw[EOP_SUBSCRIBERS],Weekly_Data_Raw[TICKER],'Weekly Metrics'!$A6,Weekly_Data_Raw[END_DATE],'Weekly Metrics'!BO$5), IF($B6=\"Gross Adds\",SUMIFS(Weekly_Data_Raw[GROSS_ADDS],Weekly_Data_Raw[TICKER],'Weekly Metrics'!$A6,Weekly_Data_Raw[END_DATE],'Weekly Metrics'!BO$5), IF($B6=\"Churn\",SUMIFS(Weekly_Data_Raw[CHURNED_MEMBERS],Weekly_Data_Raw[TICKER],'Weekly Metrics'!$A6,Weekly_Data_Raw[END_DATE],'Weekly Metrics'!BO$5)))))))","v":23624},{"$f":"IF($B6=\"Panel Sales\", SUMIFS(Weekly_Data_Raw[PANEL_AMOUNT],Weekly_Data_Raw[TICKER],'Weekly Metrics'!$A6,Weekly_Data_Raw[END_DATE],'Weekly Metrics'!BP$5),IF($B6=\"Transactions\",SUMIFS(Weekly_Data_Raw[PANEL_TRANSACTIONS],Weekly_Data_Raw[TICKER],'Weekly Metrics'!$A6,Weekly_Data_Raw[END_DATE],'Weekly Metrics'!BP$5), IF($B6=\"Avg Ticket\",SUMIFS(Weekly_Data_Raw[AVG_TICKET],Weekly_Data_Raw[TICKER],'Weekly Metrics'!$A6,Weekly_Data_Raw[END_DATE],'Weekly Metrics'!BP$5), IF($B6=\"EOP Subscribers\",SUMIFS(Weekly_Data_Raw[EOP_SUBSCRIBERS],Weekly_Data_Raw[TICKER],'Weekly Metrics'!$A6,Weekly_Data_Raw[END_DATE],'Weekly Metrics'!BP$5), IF($B6=\"Gross Adds\",SUMIFS(Weekly_Data_Raw[GROSS_ADDS],Weekly_Data_Raw[TICKER],'Weekly Metrics'!$A6,Weekly_Data_Raw[END_DATE],'Weekly Metrics'!BP$5), IF($B6=\"Churn\",SUMIFS(Weekly_Data_Raw[CHURNED_MEMBERS],Weekly_Data_Raw[TICKER],'Weekly Metrics'!$A6,Weekly_Data_Raw[END_DATE],'Weekly Metrics'!BP$5)))))))","v":25745},{"$f":"IF($B6=\"Panel Sales\", SUMIFS(Weekly_Data_Raw[PANEL_AMOUNT],Weekly_Data_Raw[TICKER],'Weekly Metrics'!$A6,Weekly_Data_Raw[END_DATE],'Weekly Metrics'!BQ$5),IF($B6=\"Transactions\",SUMIFS(Weekly_Data_Raw[PANEL_TRANSACTIONS],Weekly_Data_Raw[TICKER],'Weekly Metrics'!$A6,Weekly_Data_Raw[END_DATE],'Weekly Metrics'!BQ$5), IF($B6=\"Avg Ticket\",SUMIFS(Weekly_Data_Raw[AVG_TICKET],Weekly_Data_Raw[TICKER],'Weekly Metrics'!$A6,Weekly_Data_Raw[END_DATE],'Weekly Metrics'!BQ$5), IF($B6=\"EOP Subscribers\",SUMIFS(Weekly_Data_Raw[EOP_SUBSCRIBERS],Weekly_Data_Raw[TICKER],'Weekly Metrics'!$A6,Weekly_Data_Raw[END_DATE],'Weekly Metrics'!BQ$5), IF($B6=\"Gross Adds\",SUMIFS(Weekly_Data_Raw[GROSS_ADDS],Weekly_Data_Raw[TICKER],'Weekly Metrics'!$A6,Weekly_Data_Raw[END_DATE],'Weekly Metrics'!BQ$5), IF($B6=\"Churn\",SUMIFS(Weekly_Data_Raw[CHURNED_MEMBERS],Weekly_Data_Raw[TICKER],'Weekly Metrics'!$A6,Weekly_Data_Raw[END_DATE],'Weekly Metrics'!BQ$5)))))))","v":26405},{"$f":"IF($B6=\"Panel Sales\", SUMIFS(Weekly_Data_Raw[PANEL_AMOUNT],Weekly_Data_Raw[TICKER],'Weekly Metrics'!$A6,Weekly_Data_Raw[END_DATE],'Weekly Metrics'!BR$5),IF($B6=\"Transactions\",SUMIFS(Weekly_Data_Raw[PANEL_TRANSACTIONS],Weekly_Data_Raw[TICKER],'Weekly Metrics'!$A6,Weekly_Data_Raw[END_DATE],'Weekly Metrics'!BR$5), IF($B6=\"Avg Ticket\",SUMIFS(Weekly_Data_Raw[AVG_TICKET],Weekly_Data_Raw[TICKER],'Weekly Metrics'!$A6,Weekly_Data_Raw[END_DATE],'Weekly Metrics'!BR$5), IF($B6=\"EOP Subscribers\",SUMIFS(Weekly_Data_Raw[EOP_SUBSCRIBERS],Weekly_Data_Raw[TICKER],'Weekly Metrics'!$A6,Weekly_Data_Raw[END_DATE],'Weekly Metrics'!BR$5), IF($B6=\"Gross Adds\",SUMIFS(Weekly_Data_Raw[GROSS_ADDS],Weekly_Data_Raw[TICKER],'Weekly Metrics'!$A6,Weekly_Data_Raw[END_DATE],'Weekly Metrics'!BR$5), IF($B6=\"Churn\",SUMIFS(Weekly_Data_Raw[CHURNED_MEMBERS],Weekly_Data_Raw[TICKER],'Weekly Metrics'!$A6,Weekly_Data_Raw[END_DATE],'Weekly Metrics'!BR$5)))))))","v":26048},{"$f":"IF($B6=\"Panel Sales\", SUMIFS(Weekly_Data_Raw[PANEL_AMOUNT],Weekly_Data_Raw[TICKER],'Weekly Metrics'!$A6,Weekly_Data_Raw[END_DATE],'Weekly Metrics'!BS$5),IF($B6=\"Transactions\",SUMIFS(Weekly_Data_Raw[PANEL_TRANSACTIONS],Weekly_Data_Raw[TICKER],'Weekly Metrics'!$A6,Weekly_Data_Raw[END_DATE],'Weekly Metrics'!BS$5), IF($B6=\"Avg Ticket\",SUMIFS(Weekly_Data_Raw[AVG_TICKET],Weekly_Data_Raw[TICKER],'Weekly Metrics'!$A6,Weekly_Data_Raw[END_DATE],'Weekly Metrics'!BS$5), IF($B6=\"EOP Subscribers\",SUMIFS(Weekly_Data_Raw[EOP_SUBSCRIBERS],Weekly_Data_Raw[TICKER],'Weekly Metrics'!$A6,Weekly_Data_Raw[END_DATE],'Weekly Metrics'!BS$5), IF($B6=\"Gross Adds\",SUMIFS(Weekly_Data_Raw[GROSS_ADDS],Weekly_Data_Raw[TICKER],'Weekly Metrics'!$A6,Weekly_Data_Raw[END_DATE],'Weekly Metrics'!BS$5), IF($B6=\"Churn\",SUMIFS(Weekly_Data_Raw[CHURNED_MEMBERS],Weekly_Data_Raw[TICKER],'Weekly Metrics'!$A6,Weekly_Data_Raw[END_DATE],'Weekly Metrics'!BS$5)))))))","v":30958},{"$f":"IF($B6=\"Panel Sales\", SUMIFS(Weekly_Data_Raw[PANEL_AMOUNT],Weekly_Data_Raw[TICKER],'Weekly Metrics'!$A6,Weekly_Data_Raw[END_DATE],'Weekly Metrics'!BT$5),IF($B6=\"Transactions\",SUMIFS(Weekly_Data_Raw[PANEL_TRANSACTIONS],Weekly_Data_Raw[TICKER],'Weekly Metrics'!$A6,Weekly_Data_Raw[END_DATE],'Weekly Metrics'!BT$5), IF($B6=\"Avg Ticket\",SUMIFS(Weekly_Data_Raw[AVG_TICKET],Weekly_Data_Raw[TICKER],'Weekly Metrics'!$A6,Weekly_Data_Raw[END_DATE],'Weekly Metrics'!BT$5), IF($B6=\"EOP Subscribers\",SUMIFS(Weekly_Data_Raw[EOP_SUBSCRIBERS],Weekly_Data_Raw[TICKER],'Weekly Metrics'!$A6,Weekly_Data_Raw[END_DATE],'Weekly Metrics'!BT$5), IF($B6=\"Gross Adds\",SUMIFS(Weekly_Data_Raw[GROSS_ADDS],Weekly_Data_Raw[TICKER],'Weekly Metrics'!$A6,Weekly_Data_Raw[END_DATE],'Weekly Metrics'!BT$5), IF($B6=\"Churn\",SUMIFS(Weekly_Data_Raw[CHURNED_MEMBERS],Weekly_Data_Raw[TICKER],'Weekly Metrics'!$A6,Weekly_Data_Raw[END_DATE],'Weekly Metrics'!BT$5)))))))","v":32144},{"$f":"IF($B6=\"Panel Sales\", SUMIFS(Weekly_Data_Raw[PANEL_AMOUNT],Weekly_Data_Raw[TICKER],'Weekly Metrics'!$A6,Weekly_Data_Raw[END_DATE],'Weekly Metrics'!BU$5),IF($B6=\"Transactions\",SUMIFS(Weekly_Data_Raw[PANEL_TRANSACTIONS],Weekly_Data_Raw[TICKER],'Weekly Metrics'!$A6,Weekly_Data_Raw[END_DATE],'Weekly Metrics'!BU$5), IF($B6=\"Avg Ticket\",SUMIFS(Weekly_Data_Raw[AVG_TICKET],Weekly_Data_Raw[TICKER],'Weekly Metrics'!$A6,Weekly_Data_Raw[END_DATE],'Weekly Metrics'!BU$5), IF($B6=\"EOP Subscribers\",SUMIFS(Weekly_Data_Raw[EOP_SUBSCRIBERS],Weekly_Data_Raw[TICKER],'Weekly Metrics'!$A6,Weekly_Data_Raw[END_DATE],'Weekly Metrics'!BU$5), IF($B6=\"Gross Adds\",SUMIFS(Weekly_Data_Raw[GROSS_ADDS],Weekly_Data_Raw[TICKER],'Weekly Metrics'!$A6,Weekly_Data_Raw[END_DATE],'Weekly Metrics'!BU$5), IF($B6=\"Churn\",SUMIFS(Weekly_Data_Raw[CHURNED_MEMBERS],Weekly_Data_Raw[TICKER],'Weekly Metrics'!$A6,Weekly_Data_Raw[END_DATE],'Weekly Metrics'!BU$5)))))))","v":35558},{"$f":"IF($B6=\"Panel Sales\", SUMIFS(Weekly_Data_Raw[PANEL_AMOUNT],Weekly_Data_Raw[TICKER],'Weekly Metrics'!$A6,Weekly_Data_Raw[END_DATE],'Weekly Metrics'!BV$5),IF($B6=\"Transactions\",SUMIFS(Weekly_Data_Raw[PANEL_TRANSACTIONS],Weekly_Data_Raw[TICKER],'Weekly Metrics'!$A6,Weekly_Data_Raw[END_DATE],'Weekly Metrics'!BV$5), IF($B6=\"Avg Ticket\",SUMIFS(Weekly_Data_Raw[AVG_TICKET],Weekly_Data_Raw[TICKER],'Weekly Metrics'!$A6,Weekly_Data_Raw[END_DATE],'Weekly Metrics'!BV$5), IF($B6=\"EOP Subscribers\",SUMIFS(Weekly_Data_Raw[EOP_SUBSCRIBERS],Weekly_Data_Raw[TICKER],'Weekly Metrics'!$A6,Weekly_Data_Raw[END_DATE],'Weekly Metrics'!BV$5), IF($B6=\"Gross Adds\",SUMIFS(Weekly_Data_Raw[GROSS_ADDS],Weekly_Data_Raw[TICKER],'Weekly Metrics'!$A6,Weekly_Data_Raw[END_DATE],'Weekly Metrics'!BV$5), IF($B6=\"Churn\",SUMIFS(Weekly_Data_Raw[CHURNED_MEMBERS],Weekly_Data_Raw[TICKER],'Weekly Metrics'!$A6,Weekly_Data_Raw[END_DATE],'Weekly Metrics'!BV$5)))))))","v":34494},{"$f":"IF($B6=\"Panel Sales\", SUMIFS(Weekly_Data_Raw[PANEL_AMOUNT],Weekly_Data_Raw[TICKER],'Weekly Metrics'!$A6,Weekly_Data_Raw[END_DATE],'Weekly Metrics'!BW$5),IF($B6=\"Transactions\",SUMIFS(Weekly_Data_Raw[PANEL_TRANSACTIONS],Weekly_Data_Raw[TICKER],'Weekly Metrics'!$A6,Weekly_Data_Raw[END_DATE],'Weekly Metrics'!BW$5), IF($B6=\"Avg Ticket\",SUMIFS(Weekly_Data_Raw[AVG_TICKET],Weekly_Data_Raw[TICKER],'Weekly Metrics'!$A6,Weekly_Data_Raw[END_DATE],'Weekly Metrics'!BW$5), IF($B6=\"EOP Subscribers\",SUMIFS(Weekly_Data_Raw[EOP_SUBSCRIBERS],Weekly_Data_Raw[TICKER],'Weekly Metrics'!$A6,Weekly_Data_Raw[END_DATE],'Weekly Metrics'!BW$5), IF($B6=\"Gross Adds\",SUMIFS(Weekly_Data_Raw[GROSS_ADDS],Weekly_Data_Raw[TICKER],'Weekly Metrics'!$A6,Weekly_Data_Raw[END_DATE],'Weekly Metrics'!BW$5), IF($B6=\"Churn\",SUMIFS(Weekly_Data_Raw[CHURNED_MEMBERS],Weekly_Data_Raw[TICKER],'Weekly Metrics'!$A6,Weekly_Data_Raw[END_DATE],'Weekly Metrics'!BW$5)))))))","v":36106},{"$f":"IF($B6=\"Panel Sales\", SUMIFS(Weekly_Data_Raw[PANEL_AMOUNT],Weekly_Data_Raw[TICKER],'Weekly Metrics'!$A6,Weekly_Data_Raw[END_DATE],'Weekly Metrics'!BX$5),IF($B6=\"Transactions\",SUMIFS(Weekly_Data_Raw[PANEL_TRANSACTIONS],Weekly_Data_Raw[TICKER],'Weekly Metrics'!$A6,Weekly_Data_Raw[END_DATE],'Weekly Metrics'!BX$5), IF($B6=\"Avg Ticket\",SUMIFS(Weekly_Data_Raw[AVG_TICKET],Weekly_Data_Raw[TICKER],'Weekly Metrics'!$A6,Weekly_Data_Raw[END_DATE],'Weekly Metrics'!BX$5), IF($B6=\"EOP Subscribers\",SUMIFS(Weekly_Data_Raw[EOP_SUBSCRIBERS],Weekly_Data_Raw[TICKER],'Weekly Metrics'!$A6,Weekly_Data_Raw[END_DATE],'Weekly Metrics'!BX$5), IF($B6=\"Gross Adds\",SUMIFS(Weekly_Data_Raw[GROSS_ADDS],Weekly_Data_Raw[TICKER],'Weekly Metrics'!$A6,Weekly_Data_Raw[END_DATE],'Weekly Metrics'!BX$5), IF($B6=\"Churn\",SUMIFS(Weekly_Data_Raw[CHURNED_MEMBERS],Weekly_Data_Raw[TICKER],'Weekly Metrics'!$A6,Weekly_Data_Raw[END_DATE],'Weekly Metrics'!BX$5)))))))","v":35004},{"$f":"IF($B6=\"Panel Sales\", SUMIFS(Weekly_Data_Raw[PANEL_AMOUNT],Weekly_Data_Raw[TICKER],'Weekly Metrics'!$A6,Weekly_Data_Raw[END_DATE],'Weekly Metrics'!BY$5),IF($B6=\"Transactions\",SUMIFS(Weekly_Data_Raw[PANEL_TRANSACTIONS],Weekly_Data_Raw[TICKER],'Weekly Metrics'!$A6,Weekly_Data_Raw[END_DATE],'Weekly Metrics'!BY$5), IF($B6=\"Avg Ticket\",SUMIFS(Weekly_Data_Raw[AVG_TICKET],Weekly_Data_Raw[TICKER],'Weekly Metrics'!$A6,Weekly_Data_Raw[END_DATE],'Weekly Metrics'!BY$5), IF($B6=\"EOP Subscribers\",SUMIFS(Weekly_Data_Raw[EOP_SUBSCRIBERS],Weekly_Data_Raw[TICKER],'Weekly Metrics'!$A6,Weekly_Data_Raw[END_DATE],'Weekly Metrics'!BY$5), IF($B6=\"Gross Adds\",SUMIFS(Weekly_Data_Raw[GROSS_ADDS],Weekly_Data_Raw[TICKER],'Weekly Metrics'!$A6,Weekly_Data_Raw[END_DATE],'Weekly Metrics'!BY$5), IF($B6=\"Churn\",SUMIFS(Weekly_Data_Raw[CHURNED_MEMBERS],Weekly_Data_Raw[TICKER],'Weekly Metrics'!$A6,Weekly_Data_Raw[END_DATE],'Weekly Metrics'!BY$5)))))))","v":37384},{"$f":"IF($B6=\"Panel Sales\", SUMIFS(Weekly_Data_Raw[PANEL_AMOUNT],Weekly_Data_Raw[TICKER],'Weekly Metrics'!$A6,Weekly_Data_Raw[END_DATE],'Weekly Metrics'!BZ$5),IF($B6=\"Transactions\",SUMIFS(Weekly_Data_Raw[PANEL_TRANSACTIONS],Weekly_Data_Raw[TICKER],'Weekly Metrics'!$A6,Weekly_Data_Raw[END_DATE],'Weekly Metrics'!BZ$5), IF($B6=\"Avg Ticket\",SUMIFS(Weekly_Data_Raw[AVG_TICKET],Weekly_Data_Raw[TICKER],'Weekly Metrics'!$A6,Weekly_Data_Raw[END_DATE],'Weekly Metrics'!BZ$5), IF($B6=\"EOP Subscribers\",SUMIFS(Weekly_Data_Raw[EOP_SUBSCRIBERS],Weekly_Data_Raw[TICKER],'Weekly Metrics'!$A6,Weekly_Data_Raw[END_DATE],'Weekly Metrics'!BZ$5), IF($B6=\"Gross Adds\",SUMIFS(Weekly_Data_Raw[GROSS_ADDS],Weekly_Data_Raw[TICKER],'Weekly Metrics'!$A6,Weekly_Data_Raw[END_DATE],'Weekly Metrics'!BZ$5), IF($B6=\"Churn\",SUMIFS(Weekly_Data_Raw[CHURNED_MEMBERS],Weekly_Data_Raw[TICKER],'Weekly Metrics'!$A6,Weekly_Data_Raw[END_DATE],'Weekly Metrics'!BZ$5)))))))","v":39089},{"$f":"IF($B6=\"Panel Sales\", SUMIFS(Weekly_Data_Raw[PANEL_AMOUNT],Weekly_Data_Raw[TICKER],'Weekly Metrics'!$A6,Weekly_Data_Raw[END_DATE],'Weekly Metrics'!CA$5),IF($B6=\"Transactions\",SUMIFS(Weekly_Data_Raw[PANEL_TRANSACTIONS],Weekly_Data_Raw[TICKER],'Weekly Metrics'!$A6,Weekly_Data_Raw[END_DATE],'Weekly Metrics'!CA$5), IF($B6=\"Avg Ticket\",SUMIFS(Weekly_Data_Raw[AVG_TICKET],Weekly_Data_Raw[TICKER],'Weekly Metrics'!$A6,Weekly_Data_Raw[END_DATE],'Weekly Metrics'!CA$5), IF($B6=\"EOP Subscribers\",SUMIFS(Weekly_Data_Raw[EOP_SUBSCRIBERS],Weekly_Data_Raw[TICKER],'Weekly Metrics'!$A6,Weekly_Data_Raw[END_DATE],'Weekly Metrics'!CA$5), IF($B6=\"Gross Adds\",SUMIFS(Weekly_Data_Raw[GROSS_ADDS],Weekly_Data_Raw[TICKER],'Weekly Metrics'!$A6,Weekly_Data_Raw[END_DATE],'Weekly Metrics'!CA$5), IF($B6=\"Churn\",SUMIFS(Weekly_Data_Raw[CHURNED_MEMBERS],Weekly_Data_Raw[TICKER],'Weekly Metrics'!$A6,Weekly_Data_Raw[END_DATE],'Weekly Metrics'!CA$5)))))))","v":38492},{"$f":"IF($B6=\"Panel Sales\", SUMIFS(Weekly_Data_Raw[PANEL_AMOUNT],Weekly_Data_Raw[TICKER],'Weekly Metrics'!$A6,Weekly_Data_Raw[END_DATE],'Weekly Metrics'!CB$5),IF($B6=\"Transactions\",SUMIFS(Weekly_Data_Raw[PANEL_TRANSACTIONS],Weekly_Data_Raw[TICKER],'Weekly Metrics'!$A6,Weekly_Data_Raw[END_DATE],'Weekly Metrics'!CB$5), IF($B6=\"Avg Ticket\",SUMIFS(Weekly_Data_Raw[AVG_TICKET],Weekly_Data_Raw[TICKER],'Weekly Metrics'!$A6,Weekly_Data_Raw[END_DATE],'Weekly Metrics'!CB$5), IF($B6=\"EOP Subscribers\",SUMIFS(Weekly_Data_Raw[EOP_SUBSCRIBERS],Weekly_Data_Raw[TICKER],'Weekly Metrics'!$A6,Weekly_Data_Raw[END_DATE],'Weekly Metrics'!CB$5), IF($B6=\"Gross Adds\",SUMIFS(Weekly_Data_Raw[GROSS_ADDS],Weekly_Data_Raw[TICKER],'Weekly Metrics'!$A6,Weekly_Data_Raw[END_DATE],'Weekly Metrics'!CB$5), IF($B6=\"Churn\",SUMIFS(Weekly_Data_Raw[CHURNED_MEMBERS],Weekly_Data_Raw[TICKER],'Weekly Metrics'!$A6,Weekly_Data_Raw[END_DATE],'Weekly Metrics'!CB$5)))))))","v":38310},{"$f":"IF($B6=\"Panel Sales\", SUMIFS(Weekly_Data_Raw[PANEL_AMOUNT],Weekly_Data_Raw[TICKER],'Weekly Metrics'!$A6,Weekly_Data_Raw[END_DATE],'Weekly Metrics'!CC$5),IF($B6=\"Transactions\",SUMIFS(Weekly_Data_Raw[PANEL_TRANSACTIONS],Weekly_Data_Raw[TICKER],'Weekly Metrics'!$A6,Weekly_Data_Raw[END_DATE],'Weekly Metrics'!CC$5), IF($B6=\"Avg Ticket\",SUMIFS(Weekly_Data_Raw[AVG_TICKET],Weekly_Data_Raw[TICKER],'Weekly Metrics'!$A6,Weekly_Data_Raw[END_DATE],'Weekly Metrics'!CC$5), IF($B6=\"EOP Subscribers\",SUMIFS(Weekly_Data_Raw[EOP_SUBSCRIBERS],Weekly_Data_Raw[TICKER],'Weekly Metrics'!$A6,Weekly_Data_Raw[END_DATE],'Weekly Metrics'!CC$5), IF($B6=\"Gross Adds\",SUMIFS(Weekly_Data_Raw[GROSS_ADDS],Weekly_Data_Raw[TICKER],'Weekly Metrics'!$A6,Weekly_Data_Raw[END_DATE],'Weekly Metrics'!CC$5), IF($B6=\"Churn\",SUMIFS(Weekly_Data_Raw[CHURNED_MEMBERS],Weekly_Data_Raw[TICKER],'Weekly Metrics'!$A6,Weekly_Data_Raw[END_DATE],'Weekly Metrics'!CC$5)))))))","v":37820},{"$f":"IF($B6=\"Panel Sales\", SUMIFS(Weekly_Data_Raw[PANEL_AMOUNT],Weekly_Data_Raw[TICKER],'Weekly Metrics'!$A6,Weekly_Data_Raw[END_DATE],'Weekly Metrics'!CD$5),IF($B6=\"Transactions\",SUMIFS(Weekly_Data_Raw[PANEL_TRANSACTIONS],Weekly_Data_Raw[TICKER],'Weekly Metrics'!$A6,Weekly_Data_Raw[END_DATE],'Weekly Metrics'!CD$5), IF($B6=\"Avg Ticket\",SUMIFS(Weekly_Data_Raw[AVG_TICKET],Weekly_Data_Raw[TICKER],'Weekly Metrics'!$A6,Weekly_Data_Raw[END_DATE],'Weekly Metrics'!CD$5), IF($B6=\"EOP Subscribers\",SUMIFS(Weekly_Data_Raw[EOP_SUBSCRIBERS],Weekly_Data_Raw[TICKER],'Weekly Metrics'!$A6,Weekly_Data_Raw[END_DATE],'Weekly Metrics'!CD$5), IF($B6=\"Gross Adds\",SUMIFS(Weekly_Data_Raw[GROSS_ADDS],Weekly_Data_Raw[TICKER],'Weekly Metrics'!$A6,Weekly_Data_Raw[END_DATE],'Weekly Metrics'!CD$5), IF($B6=\"Churn\",SUMIFS(Weekly_Data_Raw[CHURNED_MEMBERS],Weekly_Data_Raw[TICKER],'Weekly Metrics'!$A6,Weekly_Data_Raw[END_DATE],'Weekly Metrics'!CD$5)))))))","v":36989},{"$f":"IF($B6=\"Panel Sales\", SUMIFS(Weekly_Data_Raw[PANEL_AMOUNT],Weekly_Data_Raw[TICKER],'Weekly Metrics'!$A6,Weekly_Data_Raw[END_DATE],'Weekly Metrics'!CE$5),IF($B6=\"Transactions\",SUMIFS(Weekly_Data_Raw[PANEL_TRANSACTIONS],Weekly_Data_Raw[TICKER],'Weekly Metrics'!$A6,Weekly_Data_Raw[END_DATE],'Weekly Metrics'!CE$5), IF($B6=\"Avg Ticket\",SUMIFS(Weekly_Data_Raw[AVG_TICKET],Weekly_Data_Raw[TICKER],'Weekly Metrics'!$A6,Weekly_Data_Raw[END_DATE],'Weekly Metrics'!CE$5), IF($B6=\"EOP Subscribers\",SUMIFS(Weekly_Data_Raw[EOP_SUBSCRIBERS],Weekly_Data_Raw[TICKER],'Weekly Metrics'!$A6,Weekly_Data_Raw[END_DATE],'Weekly Metrics'!CE$5), IF($B6=\"Gross Adds\",SUMIFS(Weekly_Data_Raw[GROSS_ADDS],Weekly_Data_Raw[TICKER],'Weekly Metrics'!$A6,Weekly_Data_Raw[END_DATE],'Weekly Metrics'!CE$5), IF($B6=\"Churn\",SUMIFS(Weekly_Data_Raw[CHURNED_MEMBERS],Weekly_Data_Raw[TICKER],'Weekly Metrics'!$A6,Weekly_Data_Raw[END_DATE],'Weekly Metrics'!CE$5)))))))","v":39425},{"$f":"IF($B6=\"Panel Sales\", SUMIFS(Weekly_Data_Raw[PANEL_AMOUNT],Weekly_Data_Raw[TICKER],'Weekly Metrics'!$A6,Weekly_Data_Raw[END_DATE],'Weekly Metrics'!CF$5),IF($B6=\"Transactions\",SUMIFS(Weekly_Data_Raw[PANEL_TRANSACTIONS],Weekly_Data_Raw[TICKER],'Weekly Metrics'!$A6,Weekly_Data_Raw[END_DATE],'Weekly Metrics'!CF$5), IF($B6=\"Avg Ticket\",SUMIFS(Weekly_Data_Raw[AVG_TICKET],Weekly_Data_Raw[TICKER],'Weekly Metrics'!$A6,Weekly_Data_Raw[END_DATE],'Weekly Metrics'!CF$5), IF($B6=\"EOP Subscribers\",SUMIFS(Weekly_Data_Raw[EOP_SUBSCRIBERS],Weekly_Data_Raw[TICKER],'Weekly Metrics'!$A6,Weekly_Data_Raw[END_DATE],'Weekly Metrics'!CF$5), IF($B6=\"Gross Adds\",SUMIFS(Weekly_Data_Raw[GROSS_ADDS],Weekly_Data_Raw[TICKER],'Weekly Metrics'!$A6,Weekly_Data_Raw[END_DATE],'Weekly Metrics'!CF$5), IF($B6=\"Churn\",SUMIFS(Weekly_Data_Raw[CHURNED_MEMBERS],Weekly_Data_Raw[TICKER],'Weekly Metrics'!$A6,Weekly_Data_Raw[END_DATE],'Weekly Metrics'!CF$5)))))))","v":39021},{"$f":"IF($B6=\"Panel Sales\", SUMIFS(Weekly_Data_Raw[PANEL_AMOUNT],Weekly_Data_Raw[TICKER],'Weekly Metrics'!$A6,Weekly_Data_Raw[END_DATE],'Weekly Metrics'!CG$5),IF($B6=\"Transactions\",SUMIFS(Weekly_Data_Raw[PANEL_TRANSACTIONS],Weekly_Data_Raw[TICKER],'Weekly Metrics'!$A6,Weekly_Data_Raw[END_DATE],'Weekly Metrics'!CG$5), IF($B6=\"Avg Ticket\",SUMIFS(Weekly_Data_Raw[AVG_TICKET],Weekly_Data_Raw[TICKER],'Weekly Metrics'!$A6,Weekly_Data_Raw[END_DATE],'Weekly Metrics'!CG$5), IF($B6=\"EOP Subscribers\",SUMIFS(Weekly_Data_Raw[EOP_SUBSCRIBERS],Weekly_Data_Raw[TICKER],'Weekly Metrics'!$A6,Weekly_Data_Raw[END_DATE],'Weekly Metrics'!CG$5), IF($B6=\"Gross Adds\",SUMIFS(Weekly_Data_Raw[GROSS_ADDS],Weekly_Data_Raw[TICKER],'Weekly Metrics'!$A6,Weekly_Data_Raw[END_DATE],'Weekly Metrics'!CG$5), IF($B6=\"Churn\",SUMIFS(Weekly_Data_Raw[CHURNED_MEMBERS],Weekly_Data_Raw[TICKER],'Weekly Metrics'!$A6,Weekly_Data_Raw[END_DATE],'Weekly Metrics'!CG$5)))))))","v":39872},{"$f":"IF($B6=\"Panel Sales\", SUMIFS(Weekly_Data_Raw[PANEL_AMOUNT],Weekly_Data_Raw[TICKER],'Weekly Metrics'!$A6,Weekly_Data_Raw[END_DATE],'Weekly Metrics'!CH$5),IF($B6=\"Transactions\",SUMIFS(Weekly_Data_Raw[PANEL_TRANSACTIONS],Weekly_Data_Raw[TICKER],'Weekly Metrics'!$A6,Weekly_Data_Raw[END_DATE],'Weekly Metrics'!CH$5), IF($B6=\"Avg Ticket\",SUMIFS(Weekly_Data_Raw[AVG_TICKET],Weekly_Data_Raw[TICKER],'Weekly Metrics'!$A6,Weekly_Data_Raw[END_DATE],'Weekly Metrics'!CH$5), IF($B6=\"EOP Subscribers\",SUMIFS(Weekly_Data_Raw[EOP_SUBSCRIBERS],Weekly_Data_Raw[TICKER],'Weekly Metrics'!$A6,Weekly_Data_Raw[END_DATE],'Weekly Metrics'!CH$5), IF($B6=\"Gross Adds\",SUMIFS(Weekly_Data_Raw[GROSS_ADDS],Weekly_Data_Raw[TICKER],'Weekly Metrics'!$A6,Weekly_Data_Raw[END_DATE],'Weekly Metrics'!CH$5), IF($B6=\"Churn\",SUMIFS(Weekly_Data_Raw[CHURNED_MEMBERS],Weekly_Data_Raw[TICKER],'Weekly Metrics'!$A6,Weekly_Data_Raw[END_DATE],'Weekly Metrics'!CH$5)))))))","v":40137},{"$f":"IF($B6=\"Panel Sales\", SUMIFS(Weekly_Data_Raw[PANEL_AMOUNT],Weekly_Data_Raw[TICKER],'Weekly Metrics'!$A6,Weekly_Data_Raw[END_DATE],'Weekly Metrics'!CI$5),IF($B6=\"Transactions\",SUMIFS(Weekly_Data_Raw[PANEL_TRANSACTIONS],Weekly_Data_Raw[TICKER],'Weekly Metrics'!$A6,Weekly_Data_Raw[END_DATE],'Weekly Metrics'!CI$5), IF($B6=\"Avg Ticket\",SUMIFS(Weekly_Data_Raw[AVG_TICKET],Weekly_Data_Raw[TICKER],'Weekly Metrics'!$A6,Weekly_Data_Raw[END_DATE],'Weekly Metrics'!CI$5), IF($B6=\"EOP Subscribers\",SUMIFS(Weekly_Data_Raw[EOP_SUBSCRIBERS],Weekly_Data_Raw[TICKER],'Weekly Metrics'!$A6,Weekly_Data_Raw[END_DATE],'Weekly Metrics'!CI$5), IF($B6=\"Gross Adds\",SUMIFS(Weekly_Data_Raw[GROSS_ADDS],Weekly_Data_Raw[TICKER],'Weekly Metrics'!$A6,Weekly_Data_Raw[END_DATE],'Weekly Metrics'!CI$5), IF($B6=\"Churn\",SUMIFS(Weekly_Data_Raw[CHURNED_MEMBERS],Weekly_Data_Raw[TICKER],'Weekly Metrics'!$A6,Weekly_Data_Raw[END_DATE],'Weekly Metrics'!CI$5)))))))","v":40147},{"$f":"IF($B6=\"Panel Sales\", SUMIFS(Weekly_Data_Raw[PANEL_AMOUNT],Weekly_Data_Raw[TICKER],'Weekly Metrics'!$A6,Weekly_Data_Raw[END_DATE],'Weekly Metrics'!CJ$5),IF($B6=\"Transactions\",SUMIFS(Weekly_Data_Raw[PANEL_TRANSACTIONS],Weekly_Data_Raw[TICKER],'Weekly Metrics'!$A6,Weekly_Data_Raw[END_DATE],'Weekly Metrics'!CJ$5), IF($B6=\"Avg Ticket\",SUMIFS(Weekly_Data_Raw[AVG_TICKET],Weekly_Data_Raw[TICKER],'Weekly Metrics'!$A6,Weekly_Data_Raw[END_DATE],'Weekly Metrics'!CJ$5), IF($B6=\"EOP Subscribers\",SUMIFS(Weekly_Data_Raw[EOP_SUBSCRIBERS],Weekly_Data_Raw[TICKER],'Weekly Metrics'!$A6,Weekly_Data_Raw[END_DATE],'Weekly Metrics'!CJ$5), IF($B6=\"Gross Adds\",SUMIFS(Weekly_Data_Raw[GROSS_ADDS],Weekly_Data_Raw[TICKER],'Weekly Metrics'!$A6,Weekly_Data_Raw[END_DATE],'Weekly Metrics'!CJ$5), IF($B6=\"Churn\",SUMIFS(Weekly_Data_Raw[CHURNED_MEMBERS],Weekly_Data_Raw[TICKER],'Weekly Metrics'!$A6,Weekly_Data_Raw[END_DATE],'Weekly Metrics'!CJ$5)))))))","v":39841},{"$f":"IF($B6=\"Panel Sales\", SUMIFS(Weekly_Data_Raw[PANEL_AMOUNT],Weekly_Data_Raw[TICKER],'Weekly Metrics'!$A6,Weekly_Data_Raw[END_DATE],'Weekly Metrics'!CK$5),IF($B6=\"Transactions\",SUMIFS(Weekly_Data_Raw[PANEL_TRANSACTIONS],Weekly_Data_Raw[TICKER],'Weekly Metrics'!$A6,Weekly_Data_Raw[END_DATE],'Weekly Metrics'!CK$5), IF($B6=\"Avg Ticket\",SUMIFS(Weekly_Data_Raw[AVG_TICKET],Weekly_Data_Raw[TICKER],'Weekly Metrics'!$A6,Weekly_Data_Raw[END_DATE],'Weekly Metrics'!CK$5), IF($B6=\"EOP Subscribers\",SUMIFS(Weekly_Data_Raw[EOP_SUBSCRIBERS],Weekly_Data_Raw[TICKER],'Weekly Metrics'!$A6,Weekly_Data_Raw[END_DATE],'Weekly Metrics'!CK$5), IF($B6=\"Gross Adds\",SUMIFS(Weekly_Data_Raw[GROSS_ADDS],Weekly_Data_Raw[TICKER],'Weekly Metrics'!$A6,Weekly_Data_Raw[END_DATE],'Weekly Metrics'!CK$5), IF($B6=\"Churn\",SUMIFS(Weekly_Data_Raw[CHURNED_MEMBERS],Weekly_Data_Raw[TICKER],'Weekly Metrics'!$A6,Weekly_Data_Raw[END_DATE],'Weekly Metrics'!CK$5)))))))","v":40789},{"$f":"IF($B6=\"Panel Sales\", SUMIFS(Weekly_Data_Raw[PANEL_AMOUNT],Weekly_Data_Raw[TICKER],'Weekly Metrics'!$A6,Weekly_Data_Raw[END_DATE],'Weekly Metrics'!CL$5),IF($B6=\"Transactions\",SUMIFS(Weekly_Data_Raw[PANEL_TRANSACTIONS],Weekly_Data_Raw[TICKER],'Weekly Metrics'!$A6,Weekly_Data_Raw[END_DATE],'Weekly Metrics'!CL$5), IF($B6=\"Avg Ticket\",SUMIFS(Weekly_Data_Raw[AVG_TICKET],Weekly_Data_Raw[TICKER],'Weekly Metrics'!$A6,Weekly_Data_Raw[END_DATE],'Weekly Metrics'!CL$5), IF($B6=\"EOP Subscribers\",SUMIFS(Weekly_Data_Raw[EOP_SUBSCRIBERS],Weekly_Data_Raw[TICKER],'Weekly Metrics'!$A6,Weekly_Data_Raw[END_DATE],'Weekly Metrics'!CL$5), IF($B6=\"Gross Adds\",SUMIFS(Weekly_Data_Raw[GROSS_ADDS],Weekly_Data_Raw[TICKER],'Weekly Metrics'!$A6,Weekly_Data_Raw[END_DATE],'Weekly Metrics'!CL$5), IF($B6=\"Churn\",SUMIFS(Weekly_Data_Raw[CHURNED_MEMBERS],Weekly_Data_Raw[TICKER],'Weekly Metrics'!$A6,Weekly_Data_Raw[END_DATE],'Weekly Metrics'!CL$5)))))))","v":40400},{"$f":"IF($B6=\"Panel Sales\", SUMIFS(Weekly_Data_Raw[PANEL_AMOUNT],Weekly_Data_Raw[TICKER],'Weekly Metrics'!$A6,Weekly_Data_Raw[END_DATE],'Weekly Metrics'!CM$5),IF($B6=\"Transactions\",SUMIFS(Weekly_Data_Raw[PANEL_TRANSACTIONS],Weekly_Data_Raw[TICKER],'Weekly Metrics'!$A6,Weekly_Data_Raw[END_DATE],'Weekly Metrics'!CM$5), IF($B6=\"Avg Ticket\",SUMIFS(Weekly_Data_Raw[AVG_TICKET],Weekly_Data_Raw[TICKER],'Weekly Metrics'!$A6,Weekly_Data_Raw[END_DATE],'Weekly Metrics'!CM$5), IF($B6=\"EOP Subscribers\",SUMIFS(Weekly_Data_Raw[EOP_SUBSCRIBERS],Weekly_Data_Raw[TICKER],'Weekly Metrics'!$A6,Weekly_Data_Raw[END_DATE],'Weekly Metrics'!CM$5), IF($B6=\"Gross Adds\",SUMIFS(Weekly_Data_Raw[GROSS_ADDS],Weekly_Data_Raw[TICKER],'Weekly Metrics'!$A6,Weekly_Data_Raw[END_DATE],'Weekly Metrics'!CM$5), IF($B6=\"Churn\",SUMIFS(Weekly_Data_Raw[CHURNED_MEMBERS],Weekly_Data_Raw[TICKER],'Weekly Metrics'!$A6,Weekly_Data_Raw[END_DATE],'Weekly Metrics'!CM$5)))))))","v":37936},{"$f":"IF($B6=\"Panel Sales\", SUMIFS(Weekly_Data_Raw[PANEL_AMOUNT],Weekly_Data_Raw[TICKER],'Weekly Metrics'!$A6,Weekly_Data_Raw[END_DATE],'Weekly Metrics'!CN$5),IF($B6=\"Transactions\",SUMIFS(Weekly_Data_Raw[PANEL_TRANSACTIONS],Weekly_Data_Raw[TICKER],'Weekly Metrics'!$A6,Weekly_Data_Raw[END_DATE],'Weekly Metrics'!CN$5), IF($B6=\"Avg Ticket\",SUMIFS(Weekly_Data_Raw[AVG_TICKET],Weekly_Data_Raw[TICKER],'Weekly Metrics'!$A6,Weekly_Data_Raw[END_DATE],'Weekly Metrics'!CN$5), IF($B6=\"EOP Subscribers\",SUMIFS(Weekly_Data_Raw[EOP_SUBSCRIBERS],Weekly_Data_Raw[TICKER],'Weekly Metrics'!$A6,Weekly_Data_Raw[END_DATE],'Weekly Metrics'!CN$5), IF($B6=\"Gross Adds\",SUMIFS(Weekly_Data_Raw[GROSS_ADDS],Weekly_Data_Raw[TICKER],'Weekly Metrics'!$A6,Weekly_Data_Raw[END_DATE],'Weekly Metrics'!CN$5), IF($B6=\"Churn\",SUMIFS(Weekly_Data_Raw[CHURNED_MEMBERS],Weekly_Data_Raw[TICKER],'Weekly Metrics'!$A6,Weekly_Data_Raw[END_DATE],'Weekly Metrics'!CN$5)))))))","v":40548},{"$f":"IF($B6=\"Panel Sales\", SUMIFS(Weekly_Data_Raw[PANEL_AMOUNT],Weekly_Data_Raw[TICKER],'Weekly Metrics'!$A6,Weekly_Data_Raw[END_DATE],'Weekly Metrics'!CO$5),IF($B6=\"Transactions\",SUMIFS(Weekly_Data_Raw[PANEL_TRANSACTIONS],Weekly_Data_Raw[TICKER],'Weekly Metrics'!$A6,Weekly_Data_Raw[END_DATE],'Weekly Metrics'!CO$5), IF($B6=\"Avg Ticket\",SUMIFS(Weekly_Data_Raw[AVG_TICKET],Weekly_Data_Raw[TICKER],'Weekly Metrics'!$A6,Weekly_Data_Raw[END_DATE],'Weekly Metrics'!CO$5), IF($B6=\"EOP Subscribers\",SUMIFS(Weekly_Data_Raw[EOP_SUBSCRIBERS],Weekly_Data_Raw[TICKER],'Weekly Metrics'!$A6,Weekly_Data_Raw[END_DATE],'Weekly Metrics'!CO$5), IF($B6=\"Gross Adds\",SUMIFS(Weekly_Data_Raw[GROSS_ADDS],Weekly_Data_Raw[TICKER],'Weekly Metrics'!$A6,Weekly_Data_Raw[END_DATE],'Weekly Metrics'!CO$5), IF($B6=\"Churn\",SUMIFS(Weekly_Data_Raw[CHURNED_MEMBERS],Weekly_Data_Raw[TICKER],'Weekly Metrics'!$A6,Weekly_Data_Raw[END_DATE],'Weekly Metrics'!CO$5)))))))","v":41461},{"$f":"IF($B6=\"Panel Sales\", SUMIFS(Weekly_Data_Raw[PANEL_AMOUNT],Weekly_Data_Raw[TICKER],'Weekly Metrics'!$A6,Weekly_Data_Raw[END_DATE],'Weekly Metrics'!CP$5),IF($B6=\"Transactions\",SUMIFS(Weekly_Data_Raw[PANEL_TRANSACTIONS],Weekly_Data_Raw[TICKER],'Weekly Metrics'!$A6,Weekly_Data_Raw[END_DATE],'Weekly Metrics'!CP$5), IF($B6=\"Avg Ticket\",SUMIFS(Weekly_Data_Raw[AVG_TICKET],Weekly_Data_Raw[TICKER],'Weekly Metrics'!$A6,Weekly_Data_Raw[END_DATE],'Weekly Metrics'!CP$5), IF($B6=\"EOP Subscribers\",SUMIFS(Weekly_Data_Raw[EOP_SUBSCRIBERS],Weekly_Data_Raw[TICKER],'Weekly Metrics'!$A6,Weekly_Data_Raw[END_DATE],'Weekly Metrics'!CP$5), IF($B6=\"Gross Adds\",SUMIFS(Weekly_Data_Raw[GROSS_ADDS],Weekly_Data_Raw[TICKER],'Weekly Metrics'!$A6,Weekly_Data_Raw[END_DATE],'Weekly Metrics'!CP$5), IF($B6=\"Churn\",SUMIFS(Weekly_Data_Raw[CHURNED_MEMBERS],Weekly_Data_Raw[TICKER],'Weekly Metrics'!$A6,Weekly_Data_Raw[END_DATE],'Weekly Metrics'!CP$5)))))))","v":42176},{"$f":"IF($B6=\"Panel Sales\", SUMIFS(Weekly_Data_Raw[PANEL_AMOUNT],Weekly_Data_Raw[TICKER],'Weekly Metrics'!$A6,Weekly_Data_Raw[END_DATE],'Weekly Metrics'!CQ$5),IF($B6=\"Transactions\",SUMIFS(Weekly_Data_Raw[PANEL_TRANSACTIONS],Weekly_Data_Raw[TICKER],'Weekly Metrics'!$A6,Weekly_Data_Raw[END_DATE],'Weekly Metrics'!CQ$5), IF($B6=\"Avg Ticket\",SUMIFS(Weekly_Data_Raw[AVG_TICKET],Weekly_Data_Raw[TICKER],'Weekly Metrics'!$A6,Weekly_Data_Raw[END_DATE],'Weekly Metrics'!CQ$5), IF($B6=\"EOP Subscribers\",SUMIFS(Weekly_Data_Raw[EOP_SUBSCRIBERS],Weekly_Data_Raw[TICKER],'Weekly Metrics'!$A6,Weekly_Data_Raw[END_DATE],'Weekly Metrics'!CQ$5), IF($B6=\"Gross Adds\",SUMIFS(Weekly_Data_Raw[GROSS_ADDS],Weekly_Data_Raw[TICKER],'Weekly Metrics'!$A6,Weekly_Data_Raw[END_DATE],'Weekly Metrics'!CQ$5), IF($B6=\"Churn\",SUMIFS(Weekly_Data_Raw[CHURNED_MEMBERS],Weekly_Data_Raw[TICKER],'Weekly Metrics'!$A6,Weekly_Data_Raw[END_DATE],'Weekly Metrics'!CQ$5)))))))","v":41675},{"$f":"IF($B6=\"Panel Sales\", SUMIFS(Weekly_Data_Raw[PANEL_AMOUNT],Weekly_Data_Raw[TICKER],'Weekly Metrics'!$A6,Weekly_Data_Raw[END_DATE],'Weekly Metrics'!CR$5),IF($B6=\"Transactions\",SUMIFS(Weekly_Data_Raw[PANEL_TRANSACTIONS],Weekly_Data_Raw[TICKER],'Weekly Metrics'!$A6,Weekly_Data_Raw[END_DATE],'Weekly Metrics'!CR$5), IF($B6=\"Avg Ticket\",SUMIFS(Weekly_Data_Raw[AVG_TICKET],Weekly_Data_Raw[TICKER],'Weekly Metrics'!$A6,Weekly_Data_Raw[END_DATE],'Weekly Metrics'!CR$5), IF($B6=\"EOP Subscribers\",SUMIFS(Weekly_Data_Raw[EOP_SUBSCRIBERS],Weekly_Data_Raw[TICKER],'Weekly Metrics'!$A6,Weekly_Data_Raw[END_DATE],'Weekly Metrics'!CR$5), IF($B6=\"Gross Adds\",SUMIFS(Weekly_Data_Raw[GROSS_ADDS],Weekly_Data_Raw[TICKER],'Weekly Metrics'!$A6,Weekly_Data_Raw[END_DATE],'Weekly Metrics'!CR$5), IF($B6=\"Churn\",SUMIFS(Weekly_Data_Raw[CHURNED_MEMBERS],Weekly_Data_Raw[TICKER],'Weekly Metrics'!$A6,Weekly_Data_Raw[END_DATE],'Weekly Metrics'!CR$5)))))))","v":41007},{"$f":"IF($B6=\"Panel Sales\", SUMIFS(Weekly_Data_Raw[PANEL_AMOUNT],Weekly_Data_Raw[TICKER],'Weekly Metrics'!$A6,Weekly_Data_Raw[END_DATE],'Weekly Metrics'!CS$5),IF($B6=\"Transactions\",SUMIFS(Weekly_Data_Raw[PANEL_TRANSACTIONS],Weekly_Data_Raw[TICKER],'Weekly Metrics'!$A6,Weekly_Data_Raw[END_DATE],'Weekly Metrics'!CS$5), IF($B6=\"Avg Ticket\",SUMIFS(Weekly_Data_Raw[AVG_TICKET],Weekly_Data_Raw[TICKER],'Weekly Metrics'!$A6,Weekly_Data_Raw[END_DATE],'Weekly Metrics'!CS$5), IF($B6=\"EOP Subscribers\",SUMIFS(Weekly_Data_Raw[EOP_SUBSCRIBERS],Weekly_Data_Raw[TICKER],'Weekly Metrics'!$A6,Weekly_Data_Raw[END_DATE],'Weekly Metrics'!CS$5), IF($B6=\"Gross Adds\",SUMIFS(Weekly_Data_Raw[GROSS_ADDS],Weekly_Data_Raw[TICKER],'Weekly Metrics'!$A6,Weekly_Data_Raw[END_DATE],'Weekly Metrics'!CS$5), IF($B6=\"Churn\",SUMIFS(Weekly_Data_Raw[CHURNED_MEMBERS],Weekly_Data_Raw[TICKER],'Weekly Metrics'!$A6,Weekly_Data_Raw[END_DATE],'Weekly Metrics'!CS$5)))))))","v":41573},{"$f":"IF($B6=\"Panel Sales\", SUMIFS(Weekly_Data_Raw[PANEL_AMOUNT],Weekly_Data_Raw[TICKER],'Weekly Metrics'!$A6,Weekly_Data_Raw[END_DATE],'Weekly Metrics'!CT$5),IF($B6=\"Transactions\",SUMIFS(Weekly_Data_Raw[PANEL_TRANSACTIONS],Weekly_Data_Raw[TICKER],'Weekly Metrics'!$A6,Weekly_Data_Raw[END_DATE],'Weekly Metrics'!CT$5), IF($B6=\"Avg Ticket\",SUMIFS(Weekly_Data_Raw[AVG_TICKET],Weekly_Data_Raw[TICKER],'Weekly Metrics'!$A6,Weekly_Data_Raw[END_DATE],'Weekly Metrics'!CT$5), IF($B6=\"EOP Subscribers\",SUMIFS(Weekly_Data_Raw[EOP_SUBSCRIBERS],Weekly_Data_Raw[TICKER],'Weekly Metrics'!$A6,Weekly_Data_Raw[END_DATE],'Weekly Metrics'!CT$5), IF($B6=\"Gross Adds\",SUMIFS(Weekly_Data_Raw[GROSS_ADDS],Weekly_Data_Raw[TICKER],'Weekly Metrics'!$A6,Weekly_Data_Raw[END_DATE],'Weekly Metrics'!CT$5), IF($B6=\"Churn\",SUMIFS(Weekly_Data_Raw[CHURNED_MEMBERS],Weekly_Data_Raw[TICKER],'Weekly Metrics'!$A6,Weekly_Data_Raw[END_DATE],'Weekly Metrics'!CT$5)))))))","v":41223},{"$f":"IF($B6=\"Panel Sales\", SUMIFS(Weekly_Data_Raw[PANEL_AMOUNT],Weekly_Data_Raw[TICKER],'Weekly Metrics'!$A6,Weekly_Data_Raw[END_DATE],'Weekly Metrics'!CU$5),IF($B6=\"Transactions\",SUMIFS(Weekly_Data_Raw[PANEL_TRANSACTIONS],Weekly_Data_Raw[TICKER],'Weekly Metrics'!$A6,Weekly_Data_Raw[END_DATE],'Weekly Metrics'!CU$5), IF($B6=\"Avg Ticket\",SUMIFS(Weekly_Data_Raw[AVG_TICKET],Weekly_Data_Raw[TICKER],'Weekly Metrics'!$A6,Weekly_Data_Raw[END_DATE],'Weekly Metrics'!CU$5), IF($B6=\"EOP Subscribers\",SUMIFS(Weekly_Data_Raw[EOP_SUBSCRIBERS],Weekly_Data_Raw[TICKER],'Weekly Metrics'!$A6,Weekly_Data_Raw[END_DATE],'Weekly Metrics'!CU$5), IF($B6=\"Gross Adds\",SUMIFS(Weekly_Data_Raw[GROSS_ADDS],Weekly_Data_Raw[TICKER],'Weekly Metrics'!$A6,Weekly_Data_Raw[END_DATE],'Weekly Metrics'!CU$5), IF($B6=\"Churn\",SUMIFS(Weekly_Data_Raw[CHURNED_MEMBERS],Weekly_Data_Raw[TICKER],'Weekly Metrics'!$A6,Weekly_Data_Raw[END_DATE],'Weekly Metrics'!CU$5)))))))","v":41613},{"$f":"IF($B6=\"Panel Sales\", SUMIFS(Weekly_Data_Raw[PANEL_AMOUNT],Weekly_Data_Raw[TICKER],'Weekly Metrics'!$A6,Weekly_Data_Raw[END_DATE],'Weekly Metrics'!CV$5),IF($B6=\"Transactions\",SUMIFS(Weekly_Data_Raw[PANEL_TRANSACTIONS],Weekly_Data_Raw[TICKER],'Weekly Metrics'!$A6,Weekly_Data_Raw[END_DATE],'Weekly Metrics'!CV$5), IF($B6=\"Avg Ticket\",SUMIFS(Weekly_Data_Raw[AVG_TICKET],Weekly_Data_Raw[TICKER],'Weekly Metrics'!$A6,Weekly_Data_Raw[END_DATE],'Weekly Metrics'!CV$5), IF($B6=\"EOP Subscribers\",SUMIFS(Weekly_Data_Raw[EOP_SUBSCRIBERS],Weekly_Data_Raw[TICKER],'Weekly Metrics'!$A6,Weekly_Data_Raw[END_DATE],'Weekly Metrics'!CV$5), IF($B6=\"Gross Adds\",SUMIFS(Weekly_Data_Raw[GROSS_ADDS],Weekly_Data_Raw[TICKER],'Weekly Metrics'!$A6,Weekly_Data_Raw[END_DATE],'Weekly Metrics'!CV$5), IF($B6=\"Churn\",SUMIFS(Weekly_Data_Raw[CHURNED_MEMBERS],Weekly_Data_Raw[TICKER],'Weekly Metrics'!$A6,Weekly_Data_Raw[END_DATE],'Weekly Metrics'!CV$5)))))))","v":40364},{"$f":"IF($B6=\"Panel Sales\", SUMIFS(Weekly_Data_Raw[PANEL_AMOUNT],Weekly_Data_Raw[TICKER],'Weekly Metrics'!$A6,Weekly_Data_Raw[END_DATE],'Weekly Metrics'!CW$5),IF($B6=\"Transactions\",SUMIFS(Weekly_Data_Raw[PANEL_TRANSACTIONS],Weekly_Data_Raw[TICKER],'Weekly Metrics'!$A6,Weekly_Data_Raw[END_DATE],'Weekly Metrics'!CW$5), IF($B6=\"Avg Ticket\",SUMIFS(Weekly_Data_Raw[AVG_TICKET],Weekly_Data_Raw[TICKER],'Weekly Metrics'!$A6,Weekly_Data_Raw[END_DATE],'Weekly Metrics'!CW$5), IF($B6=\"EOP Subscribers\",SUMIFS(Weekly_Data_Raw[EOP_SUBSCRIBERS],Weekly_Data_Raw[TICKER],'Weekly Metrics'!$A6,Weekly_Data_Raw[END_DATE],'Weekly Metrics'!CW$5), IF($B6=\"Gross Adds\",SUMIFS(Weekly_Data_Raw[GROSS_ADDS],Weekly_Data_Raw[TICKER],'Weekly Metrics'!$A6,Weekly_Data_Raw[END_DATE],'Weekly Metrics'!CW$5), IF($B6=\"Churn\",SUMIFS(Weekly_Data_Raw[CHURNED_MEMBERS],Weekly_Data_Raw[TICKER],'Weekly Metrics'!$A6,Weekly_Data_Raw[END_DATE],'Weekly Metrics'!CW$5)))))))","v":41091},{"$f":"IF($B6=\"Panel Sales\", SUMIFS(Weekly_Data_Raw[PANEL_AMOUNT],Weekly_Data_Raw[TICKER],'Weekly Metrics'!$A6,Weekly_Data_Raw[END_DATE],'Weekly Metrics'!CX$5),IF($B6=\"Transactions\",SUMIFS(Weekly_Data_Raw[PANEL_TRANSACTIONS],Weekly_Data_Raw[TICKER],'Weekly Metrics'!$A6,Weekly_Data_Raw[END_DATE],'Weekly Metrics'!CX$5), IF($B6=\"Avg Ticket\",SUMIFS(Weekly_Data_Raw[AVG_TICKET],Weekly_Data_Raw[TICKER],'Weekly Metrics'!$A6,Weekly_Data_Raw[END_DATE],'Weekly Metrics'!CX$5), IF($B6=\"EOP Subscribers\",SUMIFS(Weekly_Data_Raw[EOP_SUBSCRIBERS],Weekly_Data_Raw[TICKER],'Weekly Metrics'!$A6,Weekly_Data_Raw[END_DATE],'Weekly Metrics'!CX$5), IF($B6=\"Gross Adds\",SUMIFS(Weekly_Data_Raw[GROSS_ADDS],Weekly_Data_Raw[TICKER],'Weekly Metrics'!$A6,Weekly_Data_Raw[END_DATE],'Weekly Metrics'!CX$5), IF($B6=\"Churn\",SUMIFS(Weekly_Data_Raw[CHURNED_MEMBERS],Weekly_Data_Raw[TICKER],'Weekly Metrics'!$A6,Weekly_Data_Raw[END_DATE],'Weekly Metrics'!CX$5)))))))","v":33386},{"$f":"IF($B6=\"Panel Sales\", SUMIFS(Weekly_Data_Raw[PANEL_AMOUNT],Weekly_Data_Raw[TICKER],'Weekly Metrics'!$A6,Weekly_Data_Raw[END_DATE],'Weekly Metrics'!CY$5),IF($B6=\"Transactions\",SUMIFS(Weekly_Data_Raw[PANEL_TRANSACTIONS],Weekly_Data_Raw[TICKER],'Weekly Metrics'!$A6,Weekly_Data_Raw[END_DATE],'Weekly Metrics'!CY$5), IF($B6=\"Avg Ticket\",SUMIFS(Weekly_Data_Raw[AVG_TICKET],Weekly_Data_Raw[TICKER],'Weekly Metrics'!$A6,Weekly_Data_Raw[END_DATE],'Weekly Metrics'!CY$5), IF($B6=\"EOP Subscribers\",SUMIFS(Weekly_Data_Raw[EOP_SUBSCRIBERS],Weekly_Data_Raw[TICKER],'Weekly Metrics'!$A6,Weekly_Data_Raw[END_DATE],'Weekly Metrics'!CY$5), IF($B6=\"Gross Adds\",SUMIFS(Weekly_Data_Raw[GROSS_ADDS],Weekly_Data_Raw[TICKER],'Weekly Metrics'!$A6,Weekly_Data_Raw[END_DATE],'Weekly Metrics'!CY$5), IF($B6=\"Churn\",SUMIFS(Weekly_Data_Raw[CHURNED_MEMBERS],Weekly_Data_Raw[TICKER],'Weekly Metrics'!$A6,Weekly_Data_Raw[END_DATE],'Weekly Metrics'!CY$5)))))))","v":38229},{"$f":"IF($B6=\"Panel Sales\", SUMIFS(Weekly_Data_Raw[PANEL_AMOUNT],Weekly_Data_Raw[TICKER],'Weekly Metrics'!$A6,Weekly_Data_Raw[END_DATE],'Weekly Metrics'!CZ$5),IF($B6=\"Transactions\",SUMIFS(Weekly_Data_Raw[PANEL_TRANSACTIONS],Weekly_Data_Raw[TICKER],'Weekly Metrics'!$A6,Weekly_Data_Raw[END_DATE],'Weekly Metrics'!CZ$5), IF($B6=\"Avg Ticket\",SUMIFS(Weekly_Data_Raw[AVG_TICKET],Weekly_Data_Raw[TICKER],'Weekly Metrics'!$A6,Weekly_Data_Raw[END_DATE],'Weekly Metrics'!CZ$5), IF($B6=\"EOP Subscribers\",SUMIFS(Weekly_Data_Raw[EOP_SUBSCRIBERS],Weekly_Data_Raw[TICKER],'Weekly Metrics'!$A6,Weekly_Data_Raw[END_DATE],'Weekly Metrics'!CZ$5), IF($B6=\"Gross Adds\",SUMIFS(Weekly_Data_Raw[GROSS_ADDS],Weekly_Data_Raw[TICKER],'Weekly Metrics'!$A6,Weekly_Data_Raw[END_DATE],'Weekly Metrics'!CZ$5), IF($B6=\"Churn\",SUMIFS(Weekly_Data_Raw[CHURNED_MEMBERS],Weekly_Data_Raw[TICKER],'Weekly Metrics'!$A6,Weekly_Data_Raw[END_DATE],'Weekly Metrics'!CZ$5)))))))","v":39966},{"$f":"IF($B6=\"Panel Sales\", SUMIFS(Weekly_Data_Raw[PANEL_AMOUNT],Weekly_Data_Raw[TICKER],'Weekly Metrics'!$A6,Weekly_Data_Raw[END_DATE],'Weekly Metrics'!DA$5),IF($B6=\"Transactions\",SUMIFS(Weekly_Data_Raw[PANEL_TRANSACTIONS],Weekly_Data_Raw[TICKER],'Weekly Metrics'!$A6,Weekly_Data_Raw[END_DATE],'Weekly Metrics'!DA$5), IF($B6=\"Avg Ticket\",SUMIFS(Weekly_Data_Raw[AVG_TICKET],Weekly_Data_Raw[TICKER],'Weekly Metrics'!$A6,Weekly_Data_Raw[END_DATE],'Weekly Metrics'!DA$5), IF($B6=\"EOP Subscribers\",SUMIFS(Weekly_Data_Raw[EOP_SUBSCRIBERS],Weekly_Data_Raw[TICKER],'Weekly Metrics'!$A6,Weekly_Data_Raw[END_DATE],'Weekly Metrics'!DA$5), IF($B6=\"Gross Adds\",SUMIFS(Weekly_Data_Raw[GROSS_ADDS],Weekly_Data_Raw[TICKER],'Weekly Metrics'!$A6,Weekly_Data_Raw[END_DATE],'Weekly Metrics'!DA$5), IF($B6=\"Churn\",SUMIFS(Weekly_Data_Raw[CHURNED_MEMBERS],Weekly_Data_Raw[TICKER],'Weekly Metrics'!$A6,Weekly_Data_Raw[END_DATE],'Weekly Metrics'!DA$5)))))))","v":40405},{"$f":"IF($B6=\"Panel Sales\", SUMIFS(Weekly_Data_Raw[PANEL_AMOUNT],Weekly_Data_Raw[TICKER],'Weekly Metrics'!$A6,Weekly_Data_Raw[END_DATE],'Weekly Metrics'!DB$5),IF($B6=\"Transactions\",SUMIFS(Weekly_Data_Raw[PANEL_TRANSACTIONS],Weekly_Data_Raw[TICKER],'Weekly Metrics'!$A6,Weekly_Data_Raw[END_DATE],'Weekly Metrics'!DB$5), IF($B6=\"Avg Ticket\",SUMIFS(Weekly_Data_Raw[AVG_TICKET],Weekly_Data_Raw[TICKER],'Weekly Metrics'!$A6,Weekly_Data_Raw[END_DATE],'Weekly Metrics'!DB$5), IF($B6=\"EOP Subscribers\",SUMIFS(Weekly_Data_Raw[EOP_SUBSCRIBERS],Weekly_Data_Raw[TICKER],'Weekly Metrics'!$A6,Weekly_Data_Raw[END_DATE],'Weekly Metrics'!DB$5), IF($B6=\"Gross Adds\",SUMIFS(Weekly_Data_Raw[GROSS_ADDS],Weekly_Data_Raw[TICKER],'Weekly Metrics'!$A6,Weekly_Data_Raw[END_DATE],'Weekly Metrics'!DB$5), IF($B6=\"Churn\",SUMIFS(Weekly_Data_Raw[CHURNED_MEMBERS],Weekly_Data_Raw[TICKER],'Weekly Metrics'!$A6,Weekly_Data_Raw[END_DATE],'Weekly Metrics'!DB$5)))))))","v":33492},{"$f":"IF($B6=\"Panel Sales\", SUMIFS(Weekly_Data_Raw[PANEL_AMOUNT],Weekly_Data_Raw[TICKER],'Weekly Metrics'!$A6,Weekly_Data_Raw[END_DATE],'Weekly Metrics'!DC$5),IF($B6=\"Transactions\",SUMIFS(Weekly_Data_Raw[PANEL_TRANSACTIONS],Weekly_Data_Raw[TICKER],'Weekly Metrics'!$A6,Weekly_Data_Raw[END_DATE],'Weekly Metrics'!DC$5), IF($B6=\"Avg Ticket\",SUMIFS(Weekly_Data_Raw[AVG_TICKET],Weekly_Data_Raw[TICKER],'Weekly Metrics'!$A6,Weekly_Data_Raw[END_DATE],'Weekly Metrics'!DC$5), IF($B6=\"EOP Subscribers\",SUMIFS(Weekly_Data_Raw[EOP_SUBSCRIBERS],Weekly_Data_Raw[TICKER],'Weekly Metrics'!$A6,Weekly_Data_Raw[END_DATE],'Weekly Metrics'!DC$5), IF($B6=\"Gross Adds\",SUMIFS(Weekly_Data_Raw[GROSS_ADDS],Weekly_Data_Raw[TICKER],'Weekly Metrics'!$A6,Weekly_Data_Raw[END_DATE],'Weekly Metrics'!DC$5), IF($B6=\"Churn\",SUMIFS(Weekly_Data_Raw[CHURNED_MEMBERS],Weekly_Data_Raw[TICKER],'Weekly Metrics'!$A6,Weekly_Data_Raw[END_DATE],'Weekly Metrics'!DC$5)))))))","v":32765},{"$f":"IF($B6=\"Panel Sales\", SUMIFS(Weekly_Data_Raw[PANEL_AMOUNT],Weekly_Data_Raw[TICKER],'Weekly Metrics'!$A6,Weekly_Data_Raw[END_DATE],'Weekly Metrics'!DD$5),IF($B6=\"Transactions\",SUMIFS(Weekly_Data_Raw[PANEL_TRANSACTIONS],Weekly_Data_Raw[TICKER],'Weekly Metrics'!$A6,Weekly_Data_Raw[END_DATE],'Weekly Metrics'!DD$5), IF($B6=\"Avg Ticket\",SUMIFS(Weekly_Data_Raw[AVG_TICKET],Weekly_Data_Raw[TICKER],'Weekly Metrics'!$A6,Weekly_Data_Raw[END_DATE],'Weekly Metrics'!DD$5), IF($B6=\"EOP Subscribers\",SUMIFS(Weekly_Data_Raw[EOP_SUBSCRIBERS],Weekly_Data_Raw[TICKER],'Weekly Metrics'!$A6,Weekly_Data_Raw[END_DATE],'Weekly Metrics'!DD$5), IF($B6=\"Gross Adds\",SUMIFS(Weekly_Data_Raw[GROSS_ADDS],Weekly_Data_Raw[TICKER],'Weekly Metrics'!$A6,Weekly_Data_Raw[END_DATE],'Weekly Metrics'!DD$5), IF($B6=\"Churn\",SUMIFS(Weekly_Data_Raw[CHURNED_MEMBERS],Weekly_Data_Raw[TICKER],'Weekly Metrics'!$A6,Weekly_Data_Raw[END_DATE],'Weekly Metrics'!DD$5)))))))","v":38387},{"$f":"IF($B6=\"Panel Sales\", SUMIFS(Weekly_Data_Raw[PANEL_AMOUNT],Weekly_Data_Raw[TICKER],'Weekly Metrics'!$A6,Weekly_Data_Raw[END_DATE],'Weekly Metrics'!DE$5),IF($B6=\"Transactions\",SUMIFS(Weekly_Data_Raw[PANEL_TRANSACTIONS],Weekly_Data_Raw[TICKER],'Weekly Metrics'!$A6,Weekly_Data_Raw[END_DATE],'Weekly Metrics'!DE$5), IF($B6=\"Avg Ticket\",SUMIFS(Weekly_Data_Raw[AVG_TICKET],Weekly_Data_Raw[TICKER],'Weekly Metrics'!$A6,Weekly_Data_Raw[END_DATE],'Weekly Metrics'!DE$5), IF($B6=\"EOP Subscribers\",SUMIFS(Weekly_Data_Raw[EOP_SUBSCRIBERS],Weekly_Data_Raw[TICKER],'Weekly Metrics'!$A6,Weekly_Data_Raw[END_DATE],'Weekly Metrics'!DE$5), IF($B6=\"Gross Adds\",SUMIFS(Weekly_Data_Raw[GROSS_ADDS],Weekly_Data_Raw[TICKER],'Weekly Metrics'!$A6,Weekly_Data_Raw[END_DATE],'Weekly Metrics'!DE$5), IF($B6=\"Churn\",SUMIFS(Weekly_Data_Raw[CHURNED_MEMBERS],Weekly_Data_Raw[TICKER],'Weekly Metrics'!$A6,Weekly_Data_Raw[END_DATE],'Weekly Metrics'!DE$5)))))))","v":44190},{"$f":"IF($B6=\"Panel Sales\", SUMIFS(Weekly_Data_Raw[PANEL_AMOUNT],Weekly_Data_Raw[TICKER],'Weekly Metrics'!$A6,Weekly_Data_Raw[END_DATE],'Weekly Metrics'!DF$5),IF($B6=\"Transactions\",SUMIFS(Weekly_Data_Raw[PANEL_TRANSACTIONS],Weekly_Data_Raw[TICKER],'Weekly Metrics'!$A6,Weekly_Data_Raw[END_DATE],'Weekly Metrics'!DF$5), IF($B6=\"Avg Ticket\",SUMIFS(Weekly_Data_Raw[AVG_TICKET],Weekly_Data_Raw[TICKER],'Weekly Metrics'!$A6,Weekly_Data_Raw[END_DATE],'Weekly Metrics'!DF$5), IF($B6=\"EOP Subscribers\",SUMIFS(Weekly_Data_Raw[EOP_SUBSCRIBERS],Weekly_Data_Raw[TICKER],'Weekly Metrics'!$A6,Weekly_Data_Raw[END_DATE],'Weekly Metrics'!DF$5), IF($B6=\"Gross Adds\",SUMIFS(Weekly_Data_Raw[GROSS_ADDS],Weekly_Data_Raw[TICKER],'Weekly Metrics'!$A6,Weekly_Data_Raw[END_DATE],'Weekly Metrics'!DF$5), IF($B6=\"Churn\",SUMIFS(Weekly_Data_Raw[CHURNED_MEMBERS],Weekly_Data_Raw[TICKER],'Weekly Metrics'!$A6,Weekly_Data_Raw[END_DATE],'Weekly Metrics'!DF$5)))))))","v":41484},{"$f":"IF($B6=\"Panel Sales\", SUMIFS(Weekly_Data_Raw[PANEL_AMOUNT],Weekly_Data_Raw[TICKER],'Weekly Metrics'!$A6,Weekly_Data_Raw[END_DATE],'Weekly Metrics'!DG$5),IF($B6=\"Transactions\",SUMIFS(Weekly_Data_Raw[PANEL_TRANSACTIONS],Weekly_Data_Raw[TICKER],'Weekly Metrics'!$A6,Weekly_Data_Raw[END_DATE],'Weekly Metrics'!DG$5), IF($B6=\"Avg Ticket\",SUMIFS(Weekly_Data_Raw[AVG_TICKET],Weekly_Data_Raw[TICKER],'Weekly Metrics'!$A6,Weekly_Data_Raw[END_DATE],'Weekly Metrics'!DG$5), IF($B6=\"EOP Subscribers\",SUMIFS(Weekly_Data_Raw[EOP_SUBSCRIBERS],Weekly_Data_Raw[TICKER],'Weekly Metrics'!$A6,Weekly_Data_Raw[END_DATE],'Weekly Metrics'!DG$5), IF($B6=\"Gross Adds\",SUMIFS(Weekly_Data_Raw[GROSS_ADDS],Weekly_Data_Raw[TICKER],'Weekly Metrics'!$A6,Weekly_Data_Raw[END_DATE],'Weekly Metrics'!DG$5), IF($B6=\"Churn\",SUMIFS(Weekly_Data_Raw[CHURNED_MEMBERS],Weekly_Data_Raw[TICKER],'Weekly Metrics'!$A6,Weekly_Data_Raw[END_DATE],'Weekly Metrics'!DG$5)))))))","v":40241},{"$f":"IF($B6=\"Panel Sales\", SUMIFS(Weekly_Data_Raw[PANEL_AMOUNT],Weekly_Data_Raw[TICKER],'Weekly Metrics'!$A6,Weekly_Data_Raw[END_DATE],'Weekly Metrics'!DH$5),IF($B6=\"Transactions\",SUMIFS(Weekly_Data_Raw[PANEL_TRANSACTIONS],Weekly_Data_Raw[TICKER],'Weekly Metrics'!$A6,Weekly_Data_Raw[END_DATE],'Weekly Metrics'!DH$5), IF($B6=\"Avg Ticket\",SUMIFS(Weekly_Data_Raw[AVG_TICKET],Weekly_Data_Raw[TICKER],'Weekly Metrics'!$A6,Weekly_Data_Raw[END_DATE],'Weekly Metrics'!DH$5), IF($B6=\"EOP Subscribers\",SUMIFS(Weekly_Data_Raw[EOP_SUBSCRIBERS],Weekly_Data_Raw[TICKER],'Weekly Metrics'!$A6,Weekly_Data_Raw[END_DATE],'Weekly Metrics'!DH$5), IF($B6=\"Gross Adds\",SUMIFS(Weekly_Data_Raw[GROSS_ADDS],Weekly_Data_Raw[TICKER],'Weekly Metrics'!$A6,Weekly_Data_Raw[END_DATE],'Weekly Metrics'!DH$5), IF($B6=\"Churn\",SUMIFS(Weekly_Data_Raw[CHURNED_MEMBERS],Weekly_Data_Raw[TICKER],'Weekly Metrics'!$A6,Weekly_Data_Raw[END_DATE],'Weekly Metrics'!DH$5)))))))","v":38798},{"$f":"IF($B6=\"Panel Sales\", SUMIFS(Weekly_Data_Raw[PANEL_AMOUNT],Weekly_Data_Raw[TICKER],'Weekly Metrics'!$A6,Weekly_Data_Raw[END_DATE],'Weekly Metrics'!DI$5),IF($B6=\"Transactions\",SUMIFS(Weekly_Data_Raw[PANEL_TRANSACTIONS],Weekly_Data_Raw[TICKER],'Weekly Metrics'!$A6,Weekly_Data_Raw[END_DATE],'Weekly Metrics'!DI$5), IF($B6=\"Avg Ticket\",SUMIFS(Weekly_Data_Raw[AVG_TICKET],Weekly_Data_Raw[TICKER],'Weekly Metrics'!$A6,Weekly_Data_Raw[END_DATE],'Weekly Metrics'!DI$5), IF($B6=\"EOP Subscribers\",SUMIFS(Weekly_Data_Raw[EOP_SUBSCRIBERS],Weekly_Data_Raw[TICKER],'Weekly Metrics'!$A6,Weekly_Data_Raw[END_DATE],'Weekly Metrics'!DI$5), IF($B6=\"Gross Adds\",SUMIFS(Weekly_Data_Raw[GROSS_ADDS],Weekly_Data_Raw[TICKER],'Weekly Metrics'!$A6,Weekly_Data_Raw[END_DATE],'Weekly Metrics'!DI$5), IF($B6=\"Churn\",SUMIFS(Weekly_Data_Raw[CHURNED_MEMBERS],Weekly_Data_Raw[TICKER],'Weekly Metrics'!$A6,Weekly_Data_Raw[END_DATE],'Weekly Metrics'!DI$5)))))))","v":38388},{"$f":"IF($B6=\"Panel Sales\", SUMIFS(Weekly_Data_Raw[PANEL_AMOUNT],Weekly_Data_Raw[TICKER],'Weekly Metrics'!$A6,Weekly_Data_Raw[END_DATE],'Weekly Metrics'!DJ$5),IF($B6=\"Transactions\",SUMIFS(Weekly_Data_Raw[PANEL_TRANSACTIONS],Weekly_Data_Raw[TICKER],'Weekly Metrics'!$A6,Weekly_Data_Raw[END_DATE],'Weekly Metrics'!DJ$5), IF($B6=\"Avg Ticket\",SUMIFS(Weekly_Data_Raw[AVG_TICKET],Weekly_Data_Raw[TICKER],'Weekly Metrics'!$A6,Weekly_Data_Raw[END_DATE],'Weekly Metrics'!DJ$5), IF($B6=\"EOP Subscribers\",SUMIFS(Weekly_Data_Raw[EOP_SUBSCRIBERS],Weekly_Data_Raw[TICKER],'Weekly Metrics'!$A6,Weekly_Data_Raw[END_DATE],'Weekly Metrics'!DJ$5), IF($B6=\"Gross Adds\",SUMIFS(Weekly_Data_Raw[GROSS_ADDS],Weekly_Data_Raw[TICKER],'Weekly Metrics'!$A6,Weekly_Data_Raw[END_DATE],'Weekly Metrics'!DJ$5), IF($B6=\"Churn\",SUMIFS(Weekly_Data_Raw[CHURNED_MEMBERS],Weekly_Data_Raw[TICKER],'Weekly Metrics'!$A6,Weekly_Data_Raw[END_DATE],'Weekly Metrics'!DJ$5)))))))","v":36360},{"$f":"IF($B6=\"Panel Sales\", SUMIFS(Weekly_Data_Raw[PANEL_AMOUNT],Weekly_Data_Raw[TICKER],'Weekly Metrics'!$A6,Weekly_Data_Raw[END_DATE],'Weekly Metrics'!DK$5),IF($B6=\"Transactions\",SUMIFS(Weekly_Data_Raw[PANEL_TRANSACTIONS],Weekly_Data_Raw[TICKER],'Weekly Metrics'!$A6,Weekly_Data_Raw[END_DATE],'Weekly Metrics'!DK$5), IF($B6=\"Avg Ticket\",SUMIFS(Weekly_Data_Raw[AVG_TICKET],Weekly_Data_Raw[TICKER],'Weekly Metrics'!$A6,Weekly_Data_Raw[END_DATE],'Weekly Metrics'!DK$5), IF($B6=\"EOP Subscribers\",SUMIFS(Weekly_Data_Raw[EOP_SUBSCRIBERS],Weekly_Data_Raw[TICKER],'Weekly Metrics'!$A6,Weekly_Data_Raw[END_DATE],'Weekly Metrics'!DK$5), IF($B6=\"Gross Adds\",SUMIFS(Weekly_Data_Raw[GROSS_ADDS],Weekly_Data_Raw[TICKER],'Weekly Metrics'!$A6,Weekly_Data_Raw[END_DATE],'Weekly Metrics'!DK$5), IF($B6=\"Churn\",SUMIFS(Weekly_Data_Raw[CHURNED_MEMBERS],Weekly_Data_Raw[TICKER],'Weekly Metrics'!$A6,Weekly_Data_Raw[END_DATE],'Weekly Metrics'!DK$5)))))))","v":41212},{"$f":"IF($B6=\"Panel Sales\", SUMIFS(Weekly_Data_Raw[PANEL_AMOUNT],Weekly_Data_Raw[TICKER],'Weekly Metrics'!$A6,Weekly_Data_Raw[END_DATE],'Weekly Metrics'!DL$5),IF($B6=\"Transactions\",SUMIFS(Weekly_Data_Raw[PANEL_TRANSACTIONS],Weekly_Data_Raw[TICKER],'Weekly Metrics'!$A6,Weekly_Data_Raw[END_DATE],'Weekly Metrics'!DL$5), IF($B6=\"Avg Ticket\",SUMIFS(Weekly_Data_Raw[AVG_TICKET],Weekly_Data_Raw[TICKER],'Weekly Metrics'!$A6,Weekly_Data_Raw[END_DATE],'Weekly Metrics'!DL$5), IF($B6=\"EOP Subscribers\",SUMIFS(Weekly_Data_Raw[EOP_SUBSCRIBERS],Weekly_Data_Raw[TICKER],'Weekly Metrics'!$A6,Weekly_Data_Raw[END_DATE],'Weekly Metrics'!DL$5), IF($B6=\"Gross Adds\",SUMIFS(Weekly_Data_Raw[GROSS_ADDS],Weekly_Data_Raw[TICKER],'Weekly Metrics'!$A6,Weekly_Data_Raw[END_DATE],'Weekly Metrics'!DL$5), IF($B6=\"Churn\",SUMIFS(Weekly_Data_Raw[CHURNED_MEMBERS],Weekly_Data_Raw[TICKER],'Weekly Metrics'!$A6,Weekly_Data_Raw[END_DATE],'Weekly Metrics'!DL$5)))))))","v":42323},{"$f":"IF($B6=\"Panel Sales\", SUMIFS(Weekly_Data_Raw[PANEL_AMOUNT],Weekly_Data_Raw[TICKER],'Weekly Metrics'!$A6,Weekly_Data_Raw[END_DATE],'Weekly Metrics'!DM$5),IF($B6=\"Transactions\",SUMIFS(Weekly_Data_Raw[PANEL_TRANSACTIONS],Weekly_Data_Raw[TICKER],'Weekly Metrics'!$A6,Weekly_Data_Raw[END_DATE],'Weekly Metrics'!DM$5), IF($B6=\"Avg Ticket\",SUMIFS(Weekly_Data_Raw[AVG_TICKET],Weekly_Data_Raw[TICKER],'Weekly Metrics'!$A6,Weekly_Data_Raw[END_DATE],'Weekly Metrics'!DM$5), IF($B6=\"EOP Subscribers\",SUMIFS(Weekly_Data_Raw[EOP_SUBSCRIBERS],Weekly_Data_Raw[TICKER],'Weekly Metrics'!$A6,Weekly_Data_Raw[END_DATE],'Weekly Metrics'!DM$5), IF($B6=\"Gross Adds\",SUMIFS(Weekly_Data_Raw[GROSS_ADDS],Weekly_Data_Raw[TICKER],'Weekly Metrics'!$A6,Weekly_Data_Raw[END_DATE],'Weekly Metrics'!DM$5), IF($B6=\"Churn\",SUMIFS(Weekly_Data_Raw[CHURNED_MEMBERS],Weekly_Data_Raw[TICKER],'Weekly Metrics'!$A6,Weekly_Data_Raw[END_DATE],'Weekly Metrics'!DM$5)))))))","v":43146},{"$f":"IF($B6=\"Panel Sales\", SUMIFS(Weekly_Data_Raw[PANEL_AMOUNT],Weekly_Data_Raw[TICKER],'Weekly Metrics'!$A6,Weekly_Data_Raw[END_DATE],'Weekly Metrics'!DN$5),IF($B6=\"Transactions\",SUMIFS(Weekly_Data_Raw[PANEL_TRANSACTIONS],Weekly_Data_Raw[TICKER],'Weekly Metrics'!$A6,Weekly_Data_Raw[END_DATE],'Weekly Metrics'!DN$5), IF($B6=\"Avg Ticket\",SUMIFS(Weekly_Data_Raw[AVG_TICKET],Weekly_Data_Raw[TICKER],'Weekly Metrics'!$A6,Weekly_Data_Raw[END_DATE],'Weekly Metrics'!DN$5), IF($B6=\"EOP Subscribers\",SUMIFS(Weekly_Data_Raw[EOP_SUBSCRIBERS],Weekly_Data_Raw[TICKER],'Weekly Metrics'!$A6,Weekly_Data_Raw[END_DATE],'Weekly Metrics'!DN$5), IF($B6=\"Gross Adds\",SUMIFS(Weekly_Data_Raw[GROSS_ADDS],Weekly_Data_Raw[TICKER],'Weekly Metrics'!$A6,Weekly_Data_Raw[END_DATE],'Weekly Metrics'!DN$5), IF($B6=\"Churn\",SUMIFS(Weekly_Data_Raw[CHURNED_MEMBERS],Weekly_Data_Raw[TICKER],'Weekly Metrics'!$A6,Weekly_Data_Raw[END_DATE],'Weekly Metrics'!DN$5)))))))","v":45510},{"$f":"IF($B6=\"Panel Sales\", SUMIFS(Weekly_Data_Raw[PANEL_AMOUNT],Weekly_Data_Raw[TICKER],'Weekly Metrics'!$A6,Weekly_Data_Raw[END_DATE],'Weekly Metrics'!DO$5),IF($B6=\"Transactions\",SUMIFS(Weekly_Data_Raw[PANEL_TRANSACTIONS],Weekly_Data_Raw[TICKER],'Weekly Metrics'!$A6,Weekly_Data_Raw[END_DATE],'Weekly Metrics'!DO$5), IF($B6=\"Avg Ticket\",SUMIFS(Weekly_Data_Raw[AVG_TICKET],Weekly_Data_Raw[TICKER],'Weekly Metrics'!$A6,Weekly_Data_Raw[END_DATE],'Weekly Metrics'!DO$5), IF($B6=\"EOP Subscribers\",SUMIFS(Weekly_Data_Raw[EOP_SUBSCRIBERS],Weekly_Data_Raw[TICKER],'Weekly Metrics'!$A6,Weekly_Data_Raw[END_DATE],'Weekly Metrics'!DO$5), IF($B6=\"Gross Adds\",SUMIFS(Weekly_Data_Raw[GROSS_ADDS],Weekly_Data_Raw[TICKER],'Weekly Metrics'!$A6,Weekly_Data_Raw[END_DATE],'Weekly Metrics'!DO$5), IF($B6=\"Churn\",SUMIFS(Weekly_Data_Raw[CHURNED_MEMBERS],Weekly_Data_Raw[TICKER],'Weekly Metrics'!$A6,Weekly_Data_Raw[END_DATE],'Weekly Metrics'!DO$5)))))))","v":47089},{"$f":"IF($B6=\"Panel Sales\", SUMIFS(Weekly_Data_Raw[PANEL_AMOUNT],Weekly_Data_Raw[TICKER],'Weekly Metrics'!$A6,Weekly_Data_Raw[END_DATE],'Weekly Metrics'!DP$5),IF($B6=\"Transactions\",SUMIFS(Weekly_Data_Raw[PANEL_TRANSACTIONS],Weekly_Data_Raw[TICKER],'Weekly Metrics'!$A6,Weekly_Data_Raw[END_DATE],'Weekly Metrics'!DP$5), IF($B6=\"Avg Ticket\",SUMIFS(Weekly_Data_Raw[AVG_TICKET],Weekly_Data_Raw[TICKER],'Weekly Metrics'!$A6,Weekly_Data_Raw[END_DATE],'Weekly Metrics'!DP$5), IF($B6=\"EOP Subscribers\",SUMIFS(Weekly_Data_Raw[EOP_SUBSCRIBERS],Weekly_Data_Raw[TICKER],'Weekly Metrics'!$A6,Weekly_Data_Raw[END_DATE],'Weekly Metrics'!DP$5), IF($B6=\"Gross Adds\",SUMIFS(Weekly_Data_Raw[GROSS_ADDS],Weekly_Data_Raw[TICKER],'Weekly Metrics'!$A6,Weekly_Data_Raw[END_DATE],'Weekly Metrics'!DP$5), IF($B6=\"Churn\",SUMIFS(Weekly_Data_Raw[CHURNED_MEMBERS],Weekly_Data_Raw[TICKER],'Weekly Metrics'!$A6,Weekly_Data_Raw[END_DATE],'Weekly Metrics'!DP$5)))))))","v":45441},{"$f":"IF($B6=\"Panel Sales\", SUMIFS(Weekly_Data_Raw[PANEL_AMOUNT],Weekly_Data_Raw[TICKER],'Weekly Metrics'!$A6,Weekly_Data_Raw[END_DATE],'Weekly Metrics'!DQ$5),IF($B6=\"Transactions\",SUMIFS(Weekly_Data_Raw[PANEL_TRANSACTIONS],Weekly_Data_Raw[TICKER],'Weekly Metrics'!$A6,Weekly_Data_Raw[END_DATE],'Weekly Metrics'!DQ$5), IF($B6=\"Avg Ticket\",SUMIFS(Weekly_Data_Raw[AVG_TICKET],Weekly_Data_Raw[TICKER],'Weekly Metrics'!$A6,Weekly_Data_Raw[END_DATE],'Weekly Metrics'!DQ$5), IF($B6=\"EOP Subscribers\",SUMIFS(Weekly_Data_Raw[EOP_SUBSCRIBERS],Weekly_Data_Raw[TICKER],'Weekly Metrics'!$A6,Weekly_Data_Raw[END_DATE],'Weekly Metrics'!DQ$5), IF($B6=\"Gross Adds\",SUMIFS(Weekly_Data_Raw[GROSS_ADDS],Weekly_Data_Raw[TICKER],'Weekly Metrics'!$A6,Weekly_Data_Raw[END_DATE],'Weekly Metrics'!DQ$5), IF($B6=\"Churn\",SUMIFS(Weekly_Data_Raw[CHURNED_MEMBERS],Weekly_Data_Raw[TICKER],'Weekly Metrics'!$A6,Weekly_Data_Raw[END_DATE],'Weekly Metrics'!DQ$5)))))))","v":42144},{"$f":"IF($B6=\"Panel Sales\", SUMIFS(Weekly_Data_Raw[PANEL_AMOUNT],Weekly_Data_Raw[TICKER],'Weekly Metrics'!$A6,Weekly_Data_Raw[END_DATE],'Weekly Metrics'!DR$5),IF($B6=\"Transactions\",SUMIFS(Weekly_Data_Raw[PANEL_TRANSACTIONS],Weekly_Data_Raw[TICKER],'Weekly Metrics'!$A6,Weekly_Data_Raw[END_DATE],'Weekly Metrics'!DR$5), IF($B6=\"Avg Ticket\",SUMIFS(Weekly_Data_Raw[AVG_TICKET],Weekly_Data_Raw[TICKER],'Weekly Metrics'!$A6,Weekly_Data_Raw[END_DATE],'Weekly Metrics'!DR$5), IF($B6=\"EOP Subscribers\",SUMIFS(Weekly_Data_Raw[EOP_SUBSCRIBERS],Weekly_Data_Raw[TICKER],'Weekly Metrics'!$A6,Weekly_Data_Raw[END_DATE],'Weekly Metrics'!DR$5), IF($B6=\"Gross Adds\",SUMIFS(Weekly_Data_Raw[GROSS_ADDS],Weekly_Data_Raw[TICKER],'Weekly Metrics'!$A6,Weekly_Data_Raw[END_DATE],'Weekly Metrics'!DR$5), IF($B6=\"Churn\",SUMIFS(Weekly_Data_Raw[CHURNED_MEMBERS],Weekly_Data_Raw[TICKER],'Weekly Metrics'!$A6,Weekly_Data_Raw[END_DATE],'Weekly Metrics'!DR$5)))))))","v":46436},{"$f":"IF($B6=\"Panel Sales\", SUMIFS(Weekly_Data_Raw[PANEL_AMOUNT],Weekly_Data_Raw[TICKER],'Weekly Metrics'!$A6,Weekly_Data_Raw[END_DATE],'Weekly Metrics'!DS$5),IF($B6=\"Transactions\",SUMIFS(Weekly_Data_Raw[PANEL_TRANSACTIONS],Weekly_Data_Raw[TICKER],'Weekly Metrics'!$A6,Weekly_Data_Raw[END_DATE],'Weekly Metrics'!DS$5), IF($B6=\"Avg Ticket\",SUMIFS(Weekly_Data_Raw[AVG_TICKET],Weekly_Data_Raw[TICKER],'Weekly Metrics'!$A6,Weekly_Data_Raw[END_DATE],'Weekly Metrics'!DS$5), IF($B6=\"EOP Subscribers\",SUMIFS(Weekly_Data_Raw[EOP_SUBSCRIBERS],Weekly_Data_Raw[TICKER],'Weekly Metrics'!$A6,Weekly_Data_Raw[END_DATE],'Weekly Metrics'!DS$5), IF($B6=\"Gross Adds\",SUMIFS(Weekly_Data_Raw[GROSS_ADDS],Weekly_Data_Raw[TICKER],'Weekly Metrics'!$A6,Weekly_Data_Raw[END_DATE],'Weekly Metrics'!DS$5), IF($B6=\"Churn\",SUMIFS(Weekly_Data_Raw[CHURNED_MEMBERS],Weekly_Data_Raw[TICKER],'Weekly Metrics'!$A6,Weekly_Data_Raw[END_DATE],'Weekly Metrics'!DS$5)))))))","v":44706},{"$f":"IF($B6=\"Panel Sales\", SUMIFS(Weekly_Data_Raw[PANEL_AMOUNT],Weekly_Data_Raw[TICKER],'Weekly Metrics'!$A6,Weekly_Data_Raw[END_DATE],'Weekly Metrics'!DT$5),IF($B6=\"Transactions\",SUMIFS(Weekly_Data_Raw[PANEL_TRANSACTIONS],Weekly_Data_Raw[TICKER],'Weekly Metrics'!$A6,Weekly_Data_Raw[END_DATE],'Weekly Metrics'!DT$5), IF($B6=\"Avg Ticket\",SUMIFS(Weekly_Data_Raw[AVG_TICKET],Weekly_Data_Raw[TICKER],'Weekly Metrics'!$A6,Weekly_Data_Raw[END_DATE],'Weekly Metrics'!DT$5), IF($B6=\"EOP Subscribers\",SUMIFS(Weekly_Data_Raw[EOP_SUBSCRIBERS],Weekly_Data_Raw[TICKER],'Weekly Metrics'!$A6,Weekly_Data_Raw[END_DATE],'Weekly Metrics'!DT$5), IF($B6=\"Gross Adds\",SUMIFS(Weekly_Data_Raw[GROSS_ADDS],Weekly_Data_Raw[TICKER],'Weekly Metrics'!$A6,Weekly_Data_Raw[END_DATE],'Weekly Metrics'!DT$5), IF($B6=\"Churn\",SUMIFS(Weekly_Data_Raw[CHURNED_MEMBERS],Weekly_Data_Raw[TICKER],'Weekly Metrics'!$A6,Weekly_Data_Raw[END_DATE],'Weekly Metrics'!DT$5)))))))","v":43749},{"$f":"IF($B6=\"Panel Sales\", SUMIFS(Weekly_Data_Raw[PANEL_AMOUNT],Weekly_Data_Raw[TICKER],'Weekly Metrics'!$A6,Weekly_Data_Raw[END_DATE],'Weekly Metrics'!DU$5),IF($B6=\"Transactions\",SUMIFS(Weekly_Data_Raw[PANEL_TRANSACTIONS],Weekly_Data_Raw[TICKER],'Weekly Metrics'!$A6,Weekly_Data_Raw[END_DATE],'Weekly Metrics'!DU$5), IF($B6=\"Avg Ticket\",SUMIFS(Weekly_Data_Raw[AVG_TICKET],Weekly_Data_Raw[TICKER],'Weekly Metrics'!$A6,Weekly_Data_Raw[END_DATE],'Weekly Metrics'!DU$5), IF($B6=\"EOP Subscribers\",SUMIFS(Weekly_Data_Raw[EOP_SUBSCRIBERS],Weekly_Data_Raw[TICKER],'Weekly Metrics'!$A6,Weekly_Data_Raw[END_DATE],'Weekly Metrics'!DU$5), IF($B6=\"Gross Adds\",SUMIFS(Weekly_Data_Raw[GROSS_ADDS],Weekly_Data_Raw[TICKER],'Weekly Metrics'!$A6,Weekly_Data_Raw[END_DATE],'Weekly Metrics'!DU$5), IF($B6=\"Churn\",SUMIFS(Weekly_Data_Raw[CHURNED_MEMBERS],Weekly_Data_Raw[TICKER],'Weekly Metrics'!$A6,Weekly_Data_Raw[END_DATE],'Weekly Metrics'!DU$5)))))))","v":43301},{"$f":"IF($B6=\"Panel Sales\", SUMIFS(Weekly_Data_Raw[PANEL_AMOUNT],Weekly_Data_Raw[TICKER],'Weekly Metrics'!$A6,Weekly_Data_Raw[END_DATE],'Weekly Metrics'!DV$5),IF($B6=\"Transactions\",SUMIFS(Weekly_Data_Raw[PANEL_TRANSACTIONS],Weekly_Data_Raw[TICKER],'Weekly Metrics'!$A6,Weekly_Data_Raw[END_DATE],'Weekly Metrics'!DV$5), IF($B6=\"Avg Ticket\",SUMIFS(Weekly_Data_Raw[AVG_TICKET],Weekly_Data_Raw[TICKER],'Weekly Metrics'!$A6,Weekly_Data_Raw[END_DATE],'Weekly Metrics'!DV$5), IF($B6=\"EOP Subscribers\",SUMIFS(Weekly_Data_Raw[EOP_SUBSCRIBERS],Weekly_Data_Raw[TICKER],'Weekly Metrics'!$A6,Weekly_Data_Raw[END_DATE],'Weekly Metrics'!DV$5), IF($B6=\"Gross Adds\",SUMIFS(Weekly_Data_Raw[GROSS_ADDS],Weekly_Data_Raw[TICKER],'Weekly Metrics'!$A6,Weekly_Data_Raw[END_DATE],'Weekly Metrics'!DV$5), IF($B6=\"Churn\",SUMIFS(Weekly_Data_Raw[CHURNED_MEMBERS],Weekly_Data_Raw[TICKER],'Weekly Metrics'!$A6,Weekly_Data_Raw[END_DATE],'Weekly Metrics'!DV$5)))))))","v":42252},{"$f":"IF($B6=\"Panel Sales\", SUMIFS(Weekly_Data_Raw[PANEL_AMOUNT],Weekly_Data_Raw[TICKER],'Weekly Metrics'!$A6,Weekly_Data_Raw[END_DATE],'Weekly Metrics'!DW$5),IF($B6=\"Transactions\",SUMIFS(Weekly_Data_Raw[PANEL_TRANSACTIONS],Weekly_Data_Raw[TICKER],'Weekly Metrics'!$A6,Weekly_Data_Raw[END_DATE],'Weekly Metrics'!DW$5), IF($B6=\"Avg Ticket\",SUMIFS(Weekly_Data_Raw[AVG_TICKET],Weekly_Data_Raw[TICKER],'Weekly Metrics'!$A6,Weekly_Data_Raw[END_DATE],'Weekly Metrics'!DW$5), IF($B6=\"EOP Subscribers\",SUMIFS(Weekly_Data_Raw[EOP_SUBSCRIBERS],Weekly_Data_Raw[TICKER],'Weekly Metrics'!$A6,Weekly_Data_Raw[END_DATE],'Weekly Metrics'!DW$5), IF($B6=\"Gross Adds\",SUMIFS(Weekly_Data_Raw[GROSS_ADDS],Weekly_Data_Raw[TICKER],'Weekly Metrics'!$A6,Weekly_Data_Raw[END_DATE],'Weekly Metrics'!DW$5), IF($B6=\"Churn\",SUMIFS(Weekly_Data_Raw[CHURNED_MEMBERS],Weekly_Data_Raw[TICKER],'Weekly Metrics'!$A6,Weekly_Data_Raw[END_DATE],'Weekly Metrics'!DW$5)))))))","v":43417},{"$f":"IF($B6=\"Panel Sales\", SUMIFS(Weekly_Data_Raw[PANEL_AMOUNT],Weekly_Data_Raw[TICKER],'Weekly Metrics'!$A6,Weekly_Data_Raw[END_DATE],'Weekly Metrics'!DX$5),IF($B6=\"Transactions\",SUMIFS(Weekly_Data_Raw[PANEL_TRANSACTIONS],Weekly_Data_Raw[TICKER],'Weekly Metrics'!$A6,Weekly_Data_Raw[END_DATE],'Weekly Metrics'!DX$5), IF($B6=\"Avg Ticket\",SUMIFS(Weekly_Data_Raw[AVG_TICKET],Weekly_Data_Raw[TICKER],'Weekly Metrics'!$A6,Weekly_Data_Raw[END_DATE],'Weekly Metrics'!DX$5), IF($B6=\"EOP Subscribers\",SUMIFS(Weekly_Data_Raw[EOP_SUBSCRIBERS],Weekly_Data_Raw[TICKER],'Weekly Metrics'!$A6,Weekly_Data_Raw[END_DATE],'Weekly Metrics'!DX$5), IF($B6=\"Gross Adds\",SUMIFS(Weekly_Data_Raw[GROSS_ADDS],Weekly_Data_Raw[TICKER],'Weekly Metrics'!$A6,Weekly_Data_Raw[END_DATE],'Weekly Metrics'!DX$5), IF($B6=\"Churn\",SUMIFS(Weekly_Data_Raw[CHURNED_MEMBERS],Weekly_Data_Raw[TICKER],'Weekly Metrics'!$A6,Weekly_Data_Raw[END_DATE],'Weekly Metrics'!DX$5)))))))","v":43299},{"$f":"IF($B6=\"Panel Sales\", SUMIFS(Weekly_Data_Raw[PANEL_AMOUNT],Weekly_Data_Raw[TICKER],'Weekly Metrics'!$A6,Weekly_Data_Raw[END_DATE],'Weekly Metrics'!DY$5),IF($B6=\"Transactions\",SUMIFS(Weekly_Data_Raw[PANEL_TRANSACTIONS],Weekly_Data_Raw[TICKER],'Weekly Metrics'!$A6,Weekly_Data_Raw[END_DATE],'Weekly Metrics'!DY$5), IF($B6=\"Avg Ticket\",SUMIFS(Weekly_Data_Raw[AVG_TICKET],Weekly_Data_Raw[TICKER],'Weekly Metrics'!$A6,Weekly_Data_Raw[END_DATE],'Weekly Metrics'!DY$5), IF($B6=\"EOP Subscribers\",SUMIFS(Weekly_Data_Raw[EOP_SUBSCRIBERS],Weekly_Data_Raw[TICKER],'Weekly Metrics'!$A6,Weekly_Data_Raw[END_DATE],'Weekly Metrics'!DY$5), IF($B6=\"Gross Adds\",SUMIFS(Weekly_Data_Raw[GROSS_ADDS],Weekly_Data_Raw[TICKER],'Weekly Metrics'!$A6,Weekly_Data_Raw[END_DATE],'Weekly Metrics'!DY$5), IF($B6=\"Churn\",SUMIFS(Weekly_Data_Raw[CHURNED_MEMBERS],Weekly_Data_Raw[TICKER],'Weekly Metrics'!$A6,Weekly_Data_Raw[END_DATE],'Weekly Metrics'!DY$5)))))))","v":41478},{"$f":"IF($B6=\"Panel Sales\", SUMIFS(Weekly_Data_Raw[PANEL_AMOUNT],Weekly_Data_Raw[TICKER],'Weekly Metrics'!$A6,Weekly_Data_Raw[END_DATE],'Weekly Metrics'!DZ$5),IF($B6=\"Transactions\",SUMIFS(Weekly_Data_Raw[PANEL_TRANSACTIONS],Weekly_Data_Raw[TICKER],'Weekly Metrics'!$A6,Weekly_Data_Raw[END_DATE],'Weekly Metrics'!DZ$5), IF($B6=\"Avg Ticket\",SUMIFS(Weekly_Data_Raw[AVG_TICKET],Weekly_Data_Raw[TICKER],'Weekly Metrics'!$A6,Weekly_Data_Raw[END_DATE],'Weekly Metrics'!DZ$5), IF($B6=\"EOP Subscribers\",SUMIFS(Weekly_Data_Raw[EOP_SUBSCRIBERS],Weekly_Data_Raw[TICKER],'Weekly Metrics'!$A6,Weekly_Data_Raw[END_DATE],'Weekly Metrics'!DZ$5), IF($B6=\"Gross Adds\",SUMIFS(Weekly_Data_Raw[GROSS_ADDS],Weekly_Data_Raw[TICKER],'Weekly Metrics'!$A6,Weekly_Data_Raw[END_DATE],'Weekly Metrics'!DZ$5), IF($B6=\"Churn\",SUMIFS(Weekly_Data_Raw[CHURNED_MEMBERS],Weekly_Data_Raw[TICKER],'Weekly Metrics'!$A6,Weekly_Data_Raw[END_DATE],'Weekly Metrics'!DZ$5)))))))","v":43633},{"$f":"IF($B6=\"Panel Sales\", SUMIFS(Weekly_Data_Raw[PANEL_AMOUNT],Weekly_Data_Raw[TICKER],'Weekly Metrics'!$A6,Weekly_Data_Raw[END_DATE],'Weekly Metrics'!EA$5),IF($B6=\"Transactions\",SUMIFS(Weekly_Data_Raw[PANEL_TRANSACTIONS],Weekly_Data_Raw[TICKER],'Weekly Metrics'!$A6,Weekly_Data_Raw[END_DATE],'Weekly Metrics'!EA$5), IF($B6=\"Avg Ticket\",SUMIFS(Weekly_Data_Raw[AVG_TICKET],Weekly_Data_Raw[TICKER],'Weekly Metrics'!$A6,Weekly_Data_Raw[END_DATE],'Weekly Metrics'!EA$5), IF($B6=\"EOP Subscribers\",SUMIFS(Weekly_Data_Raw[EOP_SUBSCRIBERS],Weekly_Data_Raw[TICKER],'Weekly Metrics'!$A6,Weekly_Data_Raw[END_DATE],'Weekly Metrics'!EA$5), IF($B6=\"Gross Adds\",SUMIFS(Weekly_Data_Raw[GROSS_ADDS],Weekly_Data_Raw[TICKER],'Weekly Metrics'!$A6,Weekly_Data_Raw[END_DATE],'Weekly Metrics'!EA$5), IF($B6=\"Churn\",SUMIFS(Weekly_Data_Raw[CHURNED_MEMBERS],Weekly_Data_Raw[TICKER],'Weekly Metrics'!$A6,Weekly_Data_Raw[END_DATE],'Weekly Metrics'!EA$5)))))))","v":42656},{"$f":"IF($B6=\"Panel Sales\", SUMIFS(Weekly_Data_Raw[PANEL_AMOUNT],Weekly_Data_Raw[TICKER],'Weekly Metrics'!$A6,Weekly_Data_Raw[END_DATE],'Weekly Metrics'!EB$5),IF($B6=\"Transactions\",SUMIFS(Weekly_Data_Raw[PANEL_TRANSACTIONS],Weekly_Data_Raw[TICKER],'Weekly Metrics'!$A6,Weekly_Data_Raw[END_DATE],'Weekly Metrics'!EB$5), IF($B6=\"Avg Ticket\",SUMIFS(Weekly_Data_Raw[AVG_TICKET],Weekly_Data_Raw[TICKER],'Weekly Metrics'!$A6,Weekly_Data_Raw[END_DATE],'Weekly Metrics'!EB$5), IF($B6=\"EOP Subscribers\",SUMIFS(Weekly_Data_Raw[EOP_SUBSCRIBERS],Weekly_Data_Raw[TICKER],'Weekly Metrics'!$A6,Weekly_Data_Raw[END_DATE],'Weekly Metrics'!EB$5), IF($B6=\"Gross Adds\",SUMIFS(Weekly_Data_Raw[GROSS_ADDS],Weekly_Data_Raw[TICKER],'Weekly Metrics'!$A6,Weekly_Data_Raw[END_DATE],'Weekly Metrics'!EB$5), IF($B6=\"Churn\",SUMIFS(Weekly_Data_Raw[CHURNED_MEMBERS],Weekly_Data_Raw[TICKER],'Weekly Metrics'!$A6,Weekly_Data_Raw[END_DATE],'Weekly Metrics'!EB$5)))))))","v":42284},{"$f":"IF($B6=\"Panel Sales\", SUMIFS(Weekly_Data_Raw[PANEL_AMOUNT],Weekly_Data_Raw[TICKER],'Weekly Metrics'!$A6,Weekly_Data_Raw[END_DATE],'Weekly Metrics'!EC$5),IF($B6=\"Transactions\",SUMIFS(Weekly_Data_Raw[PANEL_TRANSACTIONS],Weekly_Data_Raw[TICKER],'Weekly Metrics'!$A6,Weekly_Data_Raw[END_DATE],'Weekly Metrics'!EC$5), IF($B6=\"Avg Ticket\",SUMIFS(Weekly_Data_Raw[AVG_TICKET],Weekly_Data_Raw[TICKER],'Weekly Metrics'!$A6,Weekly_Data_Raw[END_DATE],'Weekly Metrics'!EC$5), IF($B6=\"EOP Subscribers\",SUMIFS(Weekly_Data_Raw[EOP_SUBSCRIBERS],Weekly_Data_Raw[TICKER],'Weekly Metrics'!$A6,Weekly_Data_Raw[END_DATE],'Weekly Metrics'!EC$5), IF($B6=\"Gross Adds\",SUMIFS(Weekly_Data_Raw[GROSS_ADDS],Weekly_Data_Raw[TICKER],'Weekly Metrics'!$A6,Weekly_Data_Raw[END_DATE],'Weekly Metrics'!EC$5), IF($B6=\"Churn\",SUMIFS(Weekly_Data_Raw[CHURNED_MEMBERS],Weekly_Data_Raw[TICKER],'Weekly Metrics'!$A6,Weekly_Data_Raw[END_DATE],'Weekly Metrics'!EC$5)))))))","v":42494},{"$f":"IF($B6=\"Panel Sales\", SUMIFS(Weekly_Data_Raw[PANEL_AMOUNT],Weekly_Data_Raw[TICKER],'Weekly Metrics'!$A6,Weekly_Data_Raw[END_DATE],'Weekly Metrics'!ED$5),IF($B6=\"Transactions\",SUMIFS(Weekly_Data_Raw[PANEL_TRANSACTIONS],Weekly_Data_Raw[TICKER],'Weekly Metrics'!$A6,Weekly_Data_Raw[END_DATE],'Weekly Metrics'!ED$5), IF($B6=\"Avg Ticket\",SUMIFS(Weekly_Data_Raw[AVG_TICKET],Weekly_Data_Raw[TICKER],'Weekly Metrics'!$A6,Weekly_Data_Raw[END_DATE],'Weekly Metrics'!ED$5), IF($B6=\"EOP Subscribers\",SUMIFS(Weekly_Data_Raw[EOP_SUBSCRIBERS],Weekly_Data_Raw[TICKER],'Weekly Metrics'!$A6,Weekly_Data_Raw[END_DATE],'Weekly Metrics'!ED$5), IF($B6=\"Gross Adds\",SUMIFS(Weekly_Data_Raw[GROSS_ADDS],Weekly_Data_Raw[TICKER],'Weekly Metrics'!$A6,Weekly_Data_Raw[END_DATE],'Weekly Metrics'!ED$5), IF($B6=\"Churn\",SUMIFS(Weekly_Data_Raw[CHURNED_MEMBERS],Weekly_Data_Raw[TICKER],'Weekly Metrics'!$A6,Weekly_Data_Raw[END_DATE],'Weekly Metrics'!ED$5)))))))","v":40544},{"$f":"IF($B6=\"Panel Sales\", SUMIFS(Weekly_Data_Raw[PANEL_AMOUNT],Weekly_Data_Raw[TICKER],'Weekly Metrics'!$A6,Weekly_Data_Raw[END_DATE],'Weekly Metrics'!EE$5),IF($B6=\"Transactions\",SUMIFS(Weekly_Data_Raw[PANEL_TRANSACTIONS],Weekly_Data_Raw[TICKER],'Weekly Metrics'!$A6,Weekly_Data_Raw[END_DATE],'Weekly Metrics'!EE$5), IF($B6=\"Avg Ticket\",SUMIFS(Weekly_Data_Raw[AVG_TICKET],Weekly_Data_Raw[TICKER],'Weekly Metrics'!$A6,Weekly_Data_Raw[END_DATE],'Weekly Metrics'!EE$5), IF($B6=\"EOP Subscribers\",SUMIFS(Weekly_Data_Raw[EOP_SUBSCRIBERS],Weekly_Data_Raw[TICKER],'Weekly Metrics'!$A6,Weekly_Data_Raw[END_DATE],'Weekly Metrics'!EE$5), IF($B6=\"Gross Adds\",SUMIFS(Weekly_Data_Raw[GROSS_ADDS],Weekly_Data_Raw[TICKER],'Weekly Metrics'!$A6,Weekly_Data_Raw[END_DATE],'Weekly Metrics'!EE$5), IF($B6=\"Churn\",SUMIFS(Weekly_Data_Raw[CHURNED_MEMBERS],Weekly_Data_Raw[TICKER],'Weekly Metrics'!$A6,Weekly_Data_Raw[END_DATE],'Weekly Metrics'!EE$5)))))))","v":43376},{"$f":"IF($B6=\"Panel Sales\", SUMIFS(Weekly_Data_Raw[PANEL_AMOUNT],Weekly_Data_Raw[TICKER],'Weekly Metrics'!$A6,Weekly_Data_Raw[END_DATE],'Weekly Metrics'!EF$5),IF($B6=\"Transactions\",SUMIFS(Weekly_Data_Raw[PANEL_TRANSACTIONS],Weekly_Data_Raw[TICKER],'Weekly Metrics'!$A6,Weekly_Data_Raw[END_DATE],'Weekly Metrics'!EF$5), IF($B6=\"Avg Ticket\",SUMIFS(Weekly_Data_Raw[AVG_TICKET],Weekly_Data_Raw[TICKER],'Weekly Metrics'!$A6,Weekly_Data_Raw[END_DATE],'Weekly Metrics'!EF$5), IF($B6=\"EOP Subscribers\",SUMIFS(Weekly_Data_Raw[EOP_SUBSCRIBERS],Weekly_Data_Raw[TICKER],'Weekly Metrics'!$A6,Weekly_Data_Raw[END_DATE],'Weekly Metrics'!EF$5), IF($B6=\"Gross Adds\",SUMIFS(Weekly_Data_Raw[GROSS_ADDS],Weekly_Data_Raw[TICKER],'Weekly Metrics'!$A6,Weekly_Data_Raw[END_DATE],'Weekly Metrics'!EF$5), IF($B6=\"Churn\",SUMIFS(Weekly_Data_Raw[CHURNED_MEMBERS],Weekly_Data_Raw[TICKER],'Weekly Metrics'!$A6,Weekly_Data_Raw[END_DATE],'Weekly Metrics'!EF$5)))))))","v":44077},{"$f":"IF($B6=\"Panel Sales\", SUMIFS(Weekly_Data_Raw[PANEL_AMOUNT],Weekly_Data_Raw[TICKER],'Weekly Metrics'!$A6,Weekly_Data_Raw[END_DATE],'Weekly Metrics'!EG$5),IF($B6=\"Transactions\",SUMIFS(Weekly_Data_Raw[PANEL_TRANSACTIONS],Weekly_Data_Raw[TICKER],'Weekly Metrics'!$A6,Weekly_Data_Raw[END_DATE],'Weekly Metrics'!EG$5), IF($B6=\"Avg Ticket\",SUMIFS(Weekly_Data_Raw[AVG_TICKET],Weekly_Data_Raw[TICKER],'Weekly Metrics'!$A6,Weekly_Data_Raw[END_DATE],'Weekly Metrics'!EG$5), IF($B6=\"EOP Subscribers\",SUMIFS(Weekly_Data_Raw[EOP_SUBSCRIBERS],Weekly_Data_Raw[TICKER],'Weekly Metrics'!$A6,Weekly_Data_Raw[END_DATE],'Weekly Metrics'!EG$5), IF($B6=\"Gross Adds\",SUMIFS(Weekly_Data_Raw[GROSS_ADDS],Weekly_Data_Raw[TICKER],'Weekly Metrics'!$A6,Weekly_Data_Raw[END_DATE],'Weekly Metrics'!EG$5), IF($B6=\"Churn\",SUMIFS(Weekly_Data_Raw[CHURNED_MEMBERS],Weekly_Data_Raw[TICKER],'Weekly Metrics'!$A6,Weekly_Data_Raw[END_DATE],'Weekly Metrics'!EG$5)))))))","v":44698},{"$f":"IF($B6=\"Panel Sales\", SUMIFS(Weekly_Data_Raw[PANEL_AMOUNT],Weekly_Data_Raw[TICKER],'Weekly Metrics'!$A6,Weekly_Data_Raw[END_DATE],'Weekly Metrics'!EH$5),IF($B6=\"Transactions\",SUMIFS(Weekly_Data_Raw[PANEL_TRANSACTIONS],Weekly_Data_Raw[TICKER],'Weekly Metrics'!$A6,Weekly_Data_Raw[END_DATE],'Weekly Metrics'!EH$5), IF($B6=\"Avg Ticket\",SUMIFS(Weekly_Data_Raw[AVG_TICKET],Weekly_Data_Raw[TICKER],'Weekly Metrics'!$A6,Weekly_Data_Raw[END_DATE],'Weekly Metrics'!EH$5), IF($B6=\"EOP Subscribers\",SUMIFS(Weekly_Data_Raw[EOP_SUBSCRIBERS],Weekly_Data_Raw[TICKER],'Weekly Metrics'!$A6,Weekly_Data_Raw[END_DATE],'Weekly Metrics'!EH$5), IF($B6=\"Gross Adds\",SUMIFS(Weekly_Data_Raw[GROSS_ADDS],Weekly_Data_Raw[TICKER],'Weekly Metrics'!$A6,Weekly_Data_Raw[END_DATE],'Weekly Metrics'!EH$5), IF($B6=\"Churn\",SUMIFS(Weekly_Data_Raw[CHURNED_MEMBERS],Weekly_Data_Raw[TICKER],'Weekly Metrics'!$A6,Weekly_Data_Raw[END_DATE],'Weekly Metrics'!EH$5)))))))","v":44642},{"$f":"IF($B6=\"Panel Sales\", SUMIFS(Weekly_Data_Raw[PANEL_AMOUNT],Weekly_Data_Raw[TICKER],'Weekly Metrics'!$A6,Weekly_Data_Raw[END_DATE],'Weekly Metrics'!EI$5),IF($B6=\"Transactions\",SUMIFS(Weekly_Data_Raw[PANEL_TRANSACTIONS],Weekly_Data_Raw[TICKER],'Weekly Metrics'!$A6,Weekly_Data_Raw[END_DATE],'Weekly Metrics'!EI$5), IF($B6=\"Avg Ticket\",SUMIFS(Weekly_Data_Raw[AVG_TICKET],Weekly_Data_Raw[TICKER],'Weekly Metrics'!$A6,Weekly_Data_Raw[END_DATE],'Weekly Metrics'!EI$5), IF($B6=\"EOP Subscribers\",SUMIFS(Weekly_Data_Raw[EOP_SUBSCRIBERS],Weekly_Data_Raw[TICKER],'Weekly Metrics'!$A6,Weekly_Data_Raw[END_DATE],'Weekly Metrics'!EI$5), IF($B6=\"Gross Adds\",SUMIFS(Weekly_Data_Raw[GROSS_ADDS],Weekly_Data_Raw[TICKER],'Weekly Metrics'!$A6,Weekly_Data_Raw[END_DATE],'Weekly Metrics'!EI$5), IF($B6=\"Churn\",SUMIFS(Weekly_Data_Raw[CHURNED_MEMBERS],Weekly_Data_Raw[TICKER],'Weekly Metrics'!$A6,Weekly_Data_Raw[END_DATE],'Weekly Metrics'!EI$5)))))))","v":43000},{"$f":"IF($B6=\"Panel Sales\", SUMIFS(Weekly_Data_Raw[PANEL_AMOUNT],Weekly_Data_Raw[TICKER],'Weekly Metrics'!$A6,Weekly_Data_Raw[END_DATE],'Weekly Metrics'!EJ$5),IF($B6=\"Transactions\",SUMIFS(Weekly_Data_Raw[PANEL_TRANSACTIONS],Weekly_Data_Raw[TICKER],'Weekly Metrics'!$A6,Weekly_Data_Raw[END_DATE],'Weekly Metrics'!EJ$5), IF($B6=\"Avg Ticket\",SUMIFS(Weekly_Data_Raw[AVG_TICKET],Weekly_Data_Raw[TICKER],'Weekly Metrics'!$A6,Weekly_Data_Raw[END_DATE],'Weekly Metrics'!EJ$5), IF($B6=\"EOP Subscribers\",SUMIFS(Weekly_Data_Raw[EOP_SUBSCRIBERS],Weekly_Data_Raw[TICKER],'Weekly Metrics'!$A6,Weekly_Data_Raw[END_DATE],'Weekly Metrics'!EJ$5), IF($B6=\"Gross Adds\",SUMIFS(Weekly_Data_Raw[GROSS_ADDS],Weekly_Data_Raw[TICKER],'Weekly Metrics'!$A6,Weekly_Data_Raw[END_DATE],'Weekly Metrics'!EJ$5), IF($B6=\"Churn\",SUMIFS(Weekly_Data_Raw[CHURNED_MEMBERS],Weekly_Data_Raw[TICKER],'Weekly Metrics'!$A6,Weekly_Data_Raw[END_DATE],'Weekly Metrics'!EJ$5)))))))","v":44295},{"$f":"IF($B6=\"Panel Sales\", SUMIFS(Weekly_Data_Raw[PANEL_AMOUNT],Weekly_Data_Raw[TICKER],'Weekly Metrics'!$A6,Weekly_Data_Raw[END_DATE],'Weekly Metrics'!EK$5),IF($B6=\"Transactions\",SUMIFS(Weekly_Data_Raw[PANEL_TRANSACTIONS],Weekly_Data_Raw[TICKER],'Weekly Metrics'!$A6,Weekly_Data_Raw[END_DATE],'Weekly Metrics'!EK$5), IF($B6=\"Avg Ticket\",SUMIFS(Weekly_Data_Raw[AVG_TICKET],Weekly_Data_Raw[TICKER],'Weekly Metrics'!$A6,Weekly_Data_Raw[END_DATE],'Weekly Metrics'!EK$5), IF($B6=\"EOP Subscribers\",SUMIFS(Weekly_Data_Raw[EOP_SUBSCRIBERS],Weekly_Data_Raw[TICKER],'Weekly Metrics'!$A6,Weekly_Data_Raw[END_DATE],'Weekly Metrics'!EK$5), IF($B6=\"Gross Adds\",SUMIFS(Weekly_Data_Raw[GROSS_ADDS],Weekly_Data_Raw[TICKER],'Weekly Metrics'!$A6,Weekly_Data_Raw[END_DATE],'Weekly Metrics'!EK$5), IF($B6=\"Churn\",SUMIFS(Weekly_Data_Raw[CHURNED_MEMBERS],Weekly_Data_Raw[TICKER],'Weekly Metrics'!$A6,Weekly_Data_Raw[END_DATE],'Weekly Metrics'!EK$5)))))))","v":43401},{"$f":"IF($B6=\"Panel Sales\", SUMIFS(Weekly_Data_Raw[PANEL_AMOUNT],Weekly_Data_Raw[TICKER],'Weekly Metrics'!$A6,Weekly_Data_Raw[END_DATE],'Weekly Metrics'!EL$5),IF($B6=\"Transactions\",SUMIFS(Weekly_Data_Raw[PANEL_TRANSACTIONS],Weekly_Data_Raw[TICKER],'Weekly Metrics'!$A6,Weekly_Data_Raw[END_DATE],'Weekly Metrics'!EL$5), IF($B6=\"Avg Ticket\",SUMIFS(Weekly_Data_Raw[AVG_TICKET],Weekly_Data_Raw[TICKER],'Weekly Metrics'!$A6,Weekly_Data_Raw[END_DATE],'Weekly Metrics'!EL$5), IF($B6=\"EOP Subscribers\",SUMIFS(Weekly_Data_Raw[EOP_SUBSCRIBERS],Weekly_Data_Raw[TICKER],'Weekly Metrics'!$A6,Weekly_Data_Raw[END_DATE],'Weekly Metrics'!EL$5), IF($B6=\"Gross Adds\",SUMIFS(Weekly_Data_Raw[GROSS_ADDS],Weekly_Data_Raw[TICKER],'Weekly Metrics'!$A6,Weekly_Data_Raw[END_DATE],'Weekly Metrics'!EL$5), IF($B6=\"Churn\",SUMIFS(Weekly_Data_Raw[CHURNED_MEMBERS],Weekly_Data_Raw[TICKER],'Weekly Metrics'!$A6,Weekly_Data_Raw[END_DATE],'Weekly Metrics'!EL$5)))))))","v":43566},{"$f":"IF($B6=\"Panel Sales\", SUMIFS(Weekly_Data_Raw[PANEL_AMOUNT],Weekly_Data_Raw[TICKER],'Weekly Metrics'!$A6,Weekly_Data_Raw[END_DATE],'Weekly Metrics'!EM$5),IF($B6=\"Transactions\",SUMIFS(Weekly_Data_Raw[PANEL_TRANSACTIONS],Weekly_Data_Raw[TICKER],'Weekly Metrics'!$A6,Weekly_Data_Raw[END_DATE],'Weekly Metrics'!EM$5), IF($B6=\"Avg Ticket\",SUMIFS(Weekly_Data_Raw[AVG_TICKET],Weekly_Data_Raw[TICKER],'Weekly Metrics'!$A6,Weekly_Data_Raw[END_DATE],'Weekly Metrics'!EM$5), IF($B6=\"EOP Subscribers\",SUMIFS(Weekly_Data_Raw[EOP_SUBSCRIBERS],Weekly_Data_Raw[TICKER],'Weekly Metrics'!$A6,Weekly_Data_Raw[END_DATE],'Weekly Metrics'!EM$5), IF($B6=\"Gross Adds\",SUMIFS(Weekly_Data_Raw[GROSS_ADDS],Weekly_Data_Raw[TICKER],'Weekly Metrics'!$A6,Weekly_Data_Raw[END_DATE],'Weekly Metrics'!EM$5), IF($B6=\"Churn\",SUMIFS(Weekly_Data_Raw[CHURNED_MEMBERS],Weekly_Data_Raw[TICKER],'Weekly Metrics'!$A6,Weekly_Data_Raw[END_DATE],'Weekly Metrics'!EM$5)))))))","v":40917},{"$f":"IF($B6=\"Panel Sales\", SUMIFS(Weekly_Data_Raw[PANEL_AMOUNT],Weekly_Data_Raw[TICKER],'Weekly Metrics'!$A6,Weekly_Data_Raw[END_DATE],'Weekly Metrics'!EN$5),IF($B6=\"Transactions\",SUMIFS(Weekly_Data_Raw[PANEL_TRANSACTIONS],Weekly_Data_Raw[TICKER],'Weekly Metrics'!$A6,Weekly_Data_Raw[END_DATE],'Weekly Metrics'!EN$5), IF($B6=\"Avg Ticket\",SUMIFS(Weekly_Data_Raw[AVG_TICKET],Weekly_Data_Raw[TICKER],'Weekly Metrics'!$A6,Weekly_Data_Raw[END_DATE],'Weekly Metrics'!EN$5), IF($B6=\"EOP Subscribers\",SUMIFS(Weekly_Data_Raw[EOP_SUBSCRIBERS],Weekly_Data_Raw[TICKER],'Weekly Metrics'!$A6,Weekly_Data_Raw[END_DATE],'Weekly Metrics'!EN$5), IF($B6=\"Gross Adds\",SUMIFS(Weekly_Data_Raw[GROSS_ADDS],Weekly_Data_Raw[TICKER],'Weekly Metrics'!$A6,Weekly_Data_Raw[END_DATE],'Weekly Metrics'!EN$5), IF($B6=\"Churn\",SUMIFS(Weekly_Data_Raw[CHURNED_MEMBERS],Weekly_Data_Raw[TICKER],'Weekly Metrics'!$A6,Weekly_Data_Raw[END_DATE],'Weekly Metrics'!EN$5)))))))","v":44708},{"$f":"IF($B6=\"Panel Sales\", SUMIFS(Weekly_Data_Raw[PANEL_AMOUNT],Weekly_Data_Raw[TICKER],'Weekly Metrics'!$A6,Weekly_Data_Raw[END_DATE],'Weekly Metrics'!EO$5),IF($B6=\"Transactions\",SUMIFS(Weekly_Data_Raw[PANEL_TRANSACTIONS],Weekly_Data_Raw[TICKER],'Weekly Metrics'!$A6,Weekly_Data_Raw[END_DATE],'Weekly Metrics'!EO$5), IF($B6=\"Avg Ticket\",SUMIFS(Weekly_Data_Raw[AVG_TICKET],Weekly_Data_Raw[TICKER],'Weekly Metrics'!$A6,Weekly_Data_Raw[END_DATE],'Weekly Metrics'!EO$5), IF($B6=\"EOP Subscribers\",SUMIFS(Weekly_Data_Raw[EOP_SUBSCRIBERS],Weekly_Data_Raw[TICKER],'Weekly Metrics'!$A6,Weekly_Data_Raw[END_DATE],'Weekly Metrics'!EO$5), IF($B6=\"Gross Adds\",SUMIFS(Weekly_Data_Raw[GROSS_ADDS],Weekly_Data_Raw[TICKER],'Weekly Metrics'!$A6,Weekly_Data_Raw[END_DATE],'Weekly Metrics'!EO$5), IF($B6=\"Churn\",SUMIFS(Weekly_Data_Raw[CHURNED_MEMBERS],Weekly_Data_Raw[TICKER],'Weekly Metrics'!$A6,Weekly_Data_Raw[END_DATE],'Weekly Metrics'!EO$5)))))))","v":44218},{"$f":"IF($B6=\"Panel Sales\", SUMIFS(Weekly_Data_Raw[PANEL_AMOUNT],Weekly_Data_Raw[TICKER],'Weekly Metrics'!$A6,Weekly_Data_Raw[END_DATE],'Weekly Metrics'!EP$5),IF($B6=\"Transactions\",SUMIFS(Weekly_Data_Raw[PANEL_TRANSACTIONS],Weekly_Data_Raw[TICKER],'Weekly Metrics'!$A6,Weekly_Data_Raw[END_DATE],'Weekly Metrics'!EP$5), IF($B6=\"Avg Ticket\",SUMIFS(Weekly_Data_Raw[AVG_TICKET],Weekly_Data_Raw[TICKER],'Weekly Metrics'!$A6,Weekly_Data_Raw[END_DATE],'Weekly Metrics'!EP$5), IF($B6=\"EOP Subscribers\",SUMIFS(Weekly_Data_Raw[EOP_SUBSCRIBERS],Weekly_Data_Raw[TICKER],'Weekly Metrics'!$A6,Weekly_Data_Raw[END_DATE],'Weekly Metrics'!EP$5), IF($B6=\"Gross Adds\",SUMIFS(Weekly_Data_Raw[GROSS_ADDS],Weekly_Data_Raw[TICKER],'Weekly Metrics'!$A6,Weekly_Data_Raw[END_DATE],'Weekly Metrics'!EP$5), IF($B6=\"Churn\",SUMIFS(Weekly_Data_Raw[CHURNED_MEMBERS],Weekly_Data_Raw[TICKER],'Weekly Metrics'!$A6,Weekly_Data_Raw[END_DATE],'Weekly Metrics'!EP$5)))))))","v":45564},{"$f":"IF($B6=\"Panel Sales\", SUMIFS(Weekly_Data_Raw[PANEL_AMOUNT],Weekly_Data_Raw[TICKER],'Weekly Metrics'!$A6,Weekly_Data_Raw[END_DATE],'Weekly Metrics'!EQ$5),IF($B6=\"Transactions\",SUMIFS(Weekly_Data_Raw[PANEL_TRANSACTIONS],Weekly_Data_Raw[TICKER],'Weekly Metrics'!$A6,Weekly_Data_Raw[END_DATE],'Weekly Metrics'!EQ$5), IF($B6=\"Avg Ticket\",SUMIFS(Weekly_Data_Raw[AVG_TICKET],Weekly_Data_Raw[TICKER],'Weekly Metrics'!$A6,Weekly_Data_Raw[END_DATE],'Weekly Metrics'!EQ$5), IF($B6=\"EOP Subscribers\",SUMIFS(Weekly_Data_Raw[EOP_SUBSCRIBERS],Weekly_Data_Raw[TICKER],'Weekly Metrics'!$A6,Weekly_Data_Raw[END_DATE],'Weekly Metrics'!EQ$5), IF($B6=\"Gross Adds\",SUMIFS(Weekly_Data_Raw[GROSS_ADDS],Weekly_Data_Raw[TICKER],'Weekly Metrics'!$A6,Weekly_Data_Raw[END_DATE],'Weekly Metrics'!EQ$5), IF($B6=\"Churn\",SUMIFS(Weekly_Data_Raw[CHURNED_MEMBERS],Weekly_Data_Raw[TICKER],'Weekly Metrics'!$A6,Weekly_Data_Raw[END_DATE],'Weekly Metrics'!EQ$5)))))))","v":45664},{"$f":"IF($B6=\"Panel Sales\", SUMIFS(Weekly_Data_Raw[PANEL_AMOUNT],Weekly_Data_Raw[TICKER],'Weekly Metrics'!$A6,Weekly_Data_Raw[END_DATE],'Weekly Metrics'!ER$5),IF($B6=\"Transactions\",SUMIFS(Weekly_Data_Raw[PANEL_TRANSACTIONS],Weekly_Data_Raw[TICKER],'Weekly Metrics'!$A6,Weekly_Data_Raw[END_DATE],'Weekly Metrics'!ER$5), IF($B6=\"Avg Ticket\",SUMIFS(Weekly_Data_Raw[AVG_TICKET],Weekly_Data_Raw[TICKER],'Weekly Metrics'!$A6,Weekly_Data_Raw[END_DATE],'Weekly Metrics'!ER$5), IF($B6=\"EOP Subscribers\",SUMIFS(Weekly_Data_Raw[EOP_SUBSCRIBERS],Weekly_Data_Raw[TICKER],'Weekly Metrics'!$A6,Weekly_Data_Raw[END_DATE],'Weekly Metrics'!ER$5), IF($B6=\"Gross Adds\",SUMIFS(Weekly_Data_Raw[GROSS_ADDS],Weekly_Data_Raw[TICKER],'Weekly Metrics'!$A6,Weekly_Data_Raw[END_DATE],'Weekly Metrics'!ER$5), IF($B6=\"Churn\",SUMIFS(Weekly_Data_Raw[CHURNED_MEMBERS],Weekly_Data_Raw[TICKER],'Weekly Metrics'!$A6,Weekly_Data_Raw[END_DATE],'Weekly Metrics'!ER$5)))))))","v":44273},{"$f":"IF($B6=\"Panel Sales\", SUMIFS(Weekly_Data_Raw[PANEL_AMOUNT],Weekly_Data_Raw[TICKER],'Weekly Metrics'!$A6,Weekly_Data_Raw[END_DATE],'Weekly Metrics'!ES$5),IF($B6=\"Transactions\",SUMIFS(Weekly_Data_Raw[PANEL_TRANSACTIONS],Weekly_Data_Raw[TICKER],'Weekly Metrics'!$A6,Weekly_Data_Raw[END_DATE],'Weekly Metrics'!ES$5), IF($B6=\"Avg Ticket\",SUMIFS(Weekly_Data_Raw[AVG_TICKET],Weekly_Data_Raw[TICKER],'Weekly Metrics'!$A6,Weekly_Data_Raw[END_DATE],'Weekly Metrics'!ES$5), IF($B6=\"EOP Subscribers\",SUMIFS(Weekly_Data_Raw[EOP_SUBSCRIBERS],Weekly_Data_Raw[TICKER],'Weekly Metrics'!$A6,Weekly_Data_Raw[END_DATE],'Weekly Metrics'!ES$5), IF($B6=\"Gross Adds\",SUMIFS(Weekly_Data_Raw[GROSS_ADDS],Weekly_Data_Raw[TICKER],'Weekly Metrics'!$A6,Weekly_Data_Raw[END_DATE],'Weekly Metrics'!ES$5), IF($B6=\"Churn\",SUMIFS(Weekly_Data_Raw[CHURNED_MEMBERS],Weekly_Data_Raw[TICKER],'Weekly Metrics'!$A6,Weekly_Data_Raw[END_DATE],'Weekly Metrics'!ES$5)))))))","v":44798},{"$f":"IF($B6=\"Panel Sales\", SUMIFS(Weekly_Data_Raw[PANEL_AMOUNT],Weekly_Data_Raw[TICKER],'Weekly Metrics'!$A6,Weekly_Data_Raw[END_DATE],'Weekly Metrics'!ET$5),IF($B6=\"Transactions\",SUMIFS(Weekly_Data_Raw[PANEL_TRANSACTIONS],Weekly_Data_Raw[TICKER],'Weekly Metrics'!$A6,Weekly_Data_Raw[END_DATE],'Weekly Metrics'!ET$5), IF($B6=\"Avg Ticket\",SUMIFS(Weekly_Data_Raw[AVG_TICKET],Weekly_Data_Raw[TICKER],'Weekly Metrics'!$A6,Weekly_Data_Raw[END_DATE],'Weekly Metrics'!ET$5), IF($B6=\"EOP Subscribers\",SUMIFS(Weekly_Data_Raw[EOP_SUBSCRIBERS],Weekly_Data_Raw[TICKER],'Weekly Metrics'!$A6,Weekly_Data_Raw[END_DATE],'Weekly Metrics'!ET$5), IF($B6=\"Gross Adds\",SUMIFS(Weekly_Data_Raw[GROSS_ADDS],Weekly_Data_Raw[TICKER],'Weekly Metrics'!$A6,Weekly_Data_Raw[END_DATE],'Weekly Metrics'!ET$5), IF($B6=\"Churn\",SUMIFS(Weekly_Data_Raw[CHURNED_MEMBERS],Weekly_Data_Raw[TICKER],'Weekly Metrics'!$A6,Weekly_Data_Raw[END_DATE],'Weekly Metrics'!ET$5)))))))","v":43811},{"$f":"IF($B6=\"Panel Sales\", SUMIFS(Weekly_Data_Raw[PANEL_AMOUNT],Weekly_Data_Raw[TICKER],'Weekly Metrics'!$A6,Weekly_Data_Raw[END_DATE],'Weekly Metrics'!EU$5),IF($B6=\"Transactions\",SUMIFS(Weekly_Data_Raw[PANEL_TRANSACTIONS],Weekly_Data_Raw[TICKER],'Weekly Metrics'!$A6,Weekly_Data_Raw[END_DATE],'Weekly Metrics'!EU$5), IF($B6=\"Avg Ticket\",SUMIFS(Weekly_Data_Raw[AVG_TICKET],Weekly_Data_Raw[TICKER],'Weekly Metrics'!$A6,Weekly_Data_Raw[END_DATE],'Weekly Metrics'!EU$5), IF($B6=\"EOP Subscribers\",SUMIFS(Weekly_Data_Raw[EOP_SUBSCRIBERS],Weekly_Data_Raw[TICKER],'Weekly Metrics'!$A6,Weekly_Data_Raw[END_DATE],'Weekly Metrics'!EU$5), IF($B6=\"Gross Adds\",SUMIFS(Weekly_Data_Raw[GROSS_ADDS],Weekly_Data_Raw[TICKER],'Weekly Metrics'!$A6,Weekly_Data_Raw[END_DATE],'Weekly Metrics'!EU$5), IF($B6=\"Churn\",SUMIFS(Weekly_Data_Raw[CHURNED_MEMBERS],Weekly_Data_Raw[TICKER],'Weekly Metrics'!$A6,Weekly_Data_Raw[END_DATE],'Weekly Metrics'!EU$5)))))))","v":46357},{"$f":"IF($B6=\"Panel Sales\", SUMIFS(Weekly_Data_Raw[PANEL_AMOUNT],Weekly_Data_Raw[TICKER],'Weekly Metrics'!$A6,Weekly_Data_Raw[END_DATE],'Weekly Metrics'!EV$5),IF($B6=\"Transactions\",SUMIFS(Weekly_Data_Raw[PANEL_TRANSACTIONS],Weekly_Data_Raw[TICKER],'Weekly Metrics'!$A6,Weekly_Data_Raw[END_DATE],'Weekly Metrics'!EV$5), IF($B6=\"Avg Ticket\",SUMIFS(Weekly_Data_Raw[AVG_TICKET],Weekly_Data_Raw[TICKER],'Weekly Metrics'!$A6,Weekly_Data_Raw[END_DATE],'Weekly Metrics'!EV$5), IF($B6=\"EOP Subscribers\",SUMIFS(Weekly_Data_Raw[EOP_SUBSCRIBERS],Weekly_Data_Raw[TICKER],'Weekly Metrics'!$A6,Weekly_Data_Raw[END_DATE],'Weekly Metrics'!EV$5), IF($B6=\"Gross Adds\",SUMIFS(Weekly_Data_Raw[GROSS_ADDS],Weekly_Data_Raw[TICKER],'Weekly Metrics'!$A6,Weekly_Data_Raw[END_DATE],'Weekly Metrics'!EV$5), IF($B6=\"Churn\",SUMIFS(Weekly_Data_Raw[CHURNED_MEMBERS],Weekly_Data_Raw[TICKER],'Weekly Metrics'!$A6,Weekly_Data_Raw[END_DATE],'Weekly Metrics'!EV$5)))))))","v":43443},{"$f":"IF($B6=\"Panel Sales\", SUMIFS(Weekly_Data_Raw[PANEL_AMOUNT],Weekly_Data_Raw[TICKER],'Weekly Metrics'!$A6,Weekly_Data_Raw[END_DATE],'Weekly Metrics'!EW$5),IF($B6=\"Transactions\",SUMIFS(Weekly_Data_Raw[PANEL_TRANSACTIONS],Weekly_Data_Raw[TICKER],'Weekly Metrics'!$A6,Weekly_Data_Raw[END_DATE],'Weekly Metrics'!EW$5), IF($B6=\"Avg Ticket\",SUMIFS(Weekly_Data_Raw[AVG_TICKET],Weekly_Data_Raw[TICKER],'Weekly Metrics'!$A6,Weekly_Data_Raw[END_DATE],'Weekly Metrics'!EW$5), IF($B6=\"EOP Subscribers\",SUMIFS(Weekly_Data_Raw[EOP_SUBSCRIBERS],Weekly_Data_Raw[TICKER],'Weekly Metrics'!$A6,Weekly_Data_Raw[END_DATE],'Weekly Metrics'!EW$5), IF($B6=\"Gross Adds\",SUMIFS(Weekly_Data_Raw[GROSS_ADDS],Weekly_Data_Raw[TICKER],'Weekly Metrics'!$A6,Weekly_Data_Raw[END_DATE],'Weekly Metrics'!EW$5), IF($B6=\"Churn\",SUMIFS(Weekly_Data_Raw[CHURNED_MEMBERS],Weekly_Data_Raw[TICKER],'Weekly Metrics'!$A6,Weekly_Data_Raw[END_DATE],'Weekly Metrics'!EW$5)))))))","v":43510},{"$f":"IF($B6=\"Panel Sales\", SUMIFS(Weekly_Data_Raw[PANEL_AMOUNT],Weekly_Data_Raw[TICKER],'Weekly Metrics'!$A6,Weekly_Data_Raw[END_DATE],'Weekly Metrics'!EX$5),IF($B6=\"Transactions\",SUMIFS(Weekly_Data_Raw[PANEL_TRANSACTIONS],Weekly_Data_Raw[TICKER],'Weekly Metrics'!$A6,Weekly_Data_Raw[END_DATE],'Weekly Metrics'!EX$5), IF($B6=\"Avg Ticket\",SUMIFS(Weekly_Data_Raw[AVG_TICKET],Weekly_Data_Raw[TICKER],'Weekly Metrics'!$A6,Weekly_Data_Raw[END_DATE],'Weekly Metrics'!EX$5), IF($B6=\"EOP Subscribers\",SUMIFS(Weekly_Data_Raw[EOP_SUBSCRIBERS],Weekly_Data_Raw[TICKER],'Weekly Metrics'!$A6,Weekly_Data_Raw[END_DATE],'Weekly Metrics'!EX$5), IF($B6=\"Gross Adds\",SUMIFS(Weekly_Data_Raw[GROSS_ADDS],Weekly_Data_Raw[TICKER],'Weekly Metrics'!$A6,Weekly_Data_Raw[END_DATE],'Weekly Metrics'!EX$5), IF($B6=\"Churn\",SUMIFS(Weekly_Data_Raw[CHURNED_MEMBERS],Weekly_Data_Raw[TICKER],'Weekly Metrics'!$A6,Weekly_Data_Raw[END_DATE],'Weekly Metrics'!EX$5)))))))","v":34484},{"$f":"IF($B6=\"Panel Sales\", SUMIFS(Weekly_Data_Raw[PANEL_AMOUNT],Weekly_Data_Raw[TICKER],'Weekly Metrics'!$A6,Weekly_Data_Raw[END_DATE],'Weekly Metrics'!EY$5),IF($B6=\"Transactions\",SUMIFS(Weekly_Data_Raw[PANEL_TRANSACTIONS],Weekly_Data_Raw[TICKER],'Weekly Metrics'!$A6,Weekly_Data_Raw[END_DATE],'Weekly Metrics'!EY$5), IF($B6=\"Avg Ticket\",SUMIFS(Weekly_Data_Raw[AVG_TICKET],Weekly_Data_Raw[TICKER],'Weekly Metrics'!$A6,Weekly_Data_Raw[END_DATE],'Weekly Metrics'!EY$5), IF($B6=\"EOP Subscribers\",SUMIFS(Weekly_Data_Raw[EOP_SUBSCRIBERS],Weekly_Data_Raw[TICKER],'Weekly Metrics'!$A6,Weekly_Data_Raw[END_DATE],'Weekly Metrics'!EY$5), IF($B6=\"Gross Adds\",SUMIFS(Weekly_Data_Raw[GROSS_ADDS],Weekly_Data_Raw[TICKER],'Weekly Metrics'!$A6,Weekly_Data_Raw[END_DATE],'Weekly Metrics'!EY$5), IF($B6=\"Churn\",SUMIFS(Weekly_Data_Raw[CHURNED_MEMBERS],Weekly_Data_Raw[TICKER],'Weekly Metrics'!$A6,Weekly_Data_Raw[END_DATE],'Weekly Metrics'!EY$5)))))))","v":41975},{"$f":"IF($B6=\"Panel Sales\", SUMIFS(Weekly_Data_Raw[PANEL_AMOUNT],Weekly_Data_Raw[TICKER],'Weekly Metrics'!$A6,Weekly_Data_Raw[END_DATE],'Weekly Metrics'!EZ$5),IF($B6=\"Transactions\",SUMIFS(Weekly_Data_Raw[PANEL_TRANSACTIONS],Weekly_Data_Raw[TICKER],'Weekly Metrics'!$A6,Weekly_Data_Raw[END_DATE],'Weekly Metrics'!EZ$5), IF($B6=\"Avg Ticket\",SUMIFS(Weekly_Data_Raw[AVG_TICKET],Weekly_Data_Raw[TICKER],'Weekly Metrics'!$A6,Weekly_Data_Raw[END_DATE],'Weekly Metrics'!EZ$5), IF($B6=\"EOP Subscribers\",SUMIFS(Weekly_Data_Raw[EOP_SUBSCRIBERS],Weekly_Data_Raw[TICKER],'Weekly Metrics'!$A6,Weekly_Data_Raw[END_DATE],'Weekly Metrics'!EZ$5), IF($B6=\"Gross Adds\",SUMIFS(Weekly_Data_Raw[GROSS_ADDS],Weekly_Data_Raw[TICKER],'Weekly Metrics'!$A6,Weekly_Data_Raw[END_DATE],'Weekly Metrics'!EZ$5), IF($B6=\"Churn\",SUMIFS(Weekly_Data_Raw[CHURNED_MEMBERS],Weekly_Data_Raw[TICKER],'Weekly Metrics'!$A6,Weekly_Data_Raw[END_DATE],'Weekly Metrics'!EZ$5)))))))","v":44516},{"$f":"IF($B6=\"Panel Sales\", SUMIFS(Weekly_Data_Raw[PANEL_AMOUNT],Weekly_Data_Raw[TICKER],'Weekly Metrics'!$A6,Weekly_Data_Raw[END_DATE],'Weekly Metrics'!FA$5),IF($B6=\"Transactions\",SUMIFS(Weekly_Data_Raw[PANEL_TRANSACTIONS],Weekly_Data_Raw[TICKER],'Weekly Metrics'!$A6,Weekly_Data_Raw[END_DATE],'Weekly Metrics'!FA$5), IF($B6=\"Avg Ticket\",SUMIFS(Weekly_Data_Raw[AVG_TICKET],Weekly_Data_Raw[TICKER],'Weekly Metrics'!$A6,Weekly_Data_Raw[END_DATE],'Weekly Metrics'!FA$5), IF($B6=\"EOP Subscribers\",SUMIFS(Weekly_Data_Raw[EOP_SUBSCRIBERS],Weekly_Data_Raw[TICKER],'Weekly Metrics'!$A6,Weekly_Data_Raw[END_DATE],'Weekly Metrics'!FA$5), IF($B6=\"Gross Adds\",SUMIFS(Weekly_Data_Raw[GROSS_ADDS],Weekly_Data_Raw[TICKER],'Weekly Metrics'!$A6,Weekly_Data_Raw[END_DATE],'Weekly Metrics'!FA$5), IF($B6=\"Churn\",SUMIFS(Weekly_Data_Raw[CHURNED_MEMBERS],Weekly_Data_Raw[TICKER],'Weekly Metrics'!$A6,Weekly_Data_Raw[END_DATE],'Weekly Metrics'!FA$5)))))))","v":44426},{"$f":"IF($B6=\"Panel Sales\", SUMIFS(Weekly_Data_Raw[PANEL_AMOUNT],Weekly_Data_Raw[TICKER],'Weekly Metrics'!$A6,Weekly_Data_Raw[END_DATE],'Weekly Metrics'!FB$5),IF($B6=\"Transactions\",SUMIFS(Weekly_Data_Raw[PANEL_TRANSACTIONS],Weekly_Data_Raw[TICKER],'Weekly Metrics'!$A6,Weekly_Data_Raw[END_DATE],'Weekly Metrics'!FB$5), IF($B6=\"Avg Ticket\",SUMIFS(Weekly_Data_Raw[AVG_TICKET],Weekly_Data_Raw[TICKER],'Weekly Metrics'!$A6,Weekly_Data_Raw[END_DATE],'Weekly Metrics'!FB$5), IF($B6=\"EOP Subscribers\",SUMIFS(Weekly_Data_Raw[EOP_SUBSCRIBERS],Weekly_Data_Raw[TICKER],'Weekly Metrics'!$A6,Weekly_Data_Raw[END_DATE],'Weekly Metrics'!FB$5), IF($B6=\"Gross Adds\",SUMIFS(Weekly_Data_Raw[GROSS_ADDS],Weekly_Data_Raw[TICKER],'Weekly Metrics'!$A6,Weekly_Data_Raw[END_DATE],'Weekly Metrics'!FB$5), IF($B6=\"Churn\",SUMIFS(Weekly_Data_Raw[CHURNED_MEMBERS],Weekly_Data_Raw[TICKER],'Weekly Metrics'!$A6,Weekly_Data_Raw[END_DATE],'Weekly Metrics'!FB$5)))))))","v":37493},{"$f":"IF($B6=\"Panel Sales\", SUMIFS(Weekly_Data_Raw[PANEL_AMOUNT],Weekly_Data_Raw[TICKER],'Weekly Metrics'!$A6,Weekly_Data_Raw[END_DATE],'Weekly Metrics'!FC$5),IF($B6=\"Transactions\",SUMIFS(Weekly_Data_Raw[PANEL_TRANSACTIONS],Weekly_Data_Raw[TICKER],'Weekly Metrics'!$A6,Weekly_Data_Raw[END_DATE],'Weekly Metrics'!FC$5), IF($B6=\"Avg Ticket\",SUMIFS(Weekly_Data_Raw[AVG_TICKET],Weekly_Data_Raw[TICKER],'Weekly Metrics'!$A6,Weekly_Data_Raw[END_DATE],'Weekly Metrics'!FC$5), IF($B6=\"EOP Subscribers\",SUMIFS(Weekly_Data_Raw[EOP_SUBSCRIBERS],Weekly_Data_Raw[TICKER],'Weekly Metrics'!$A6,Weekly_Data_Raw[END_DATE],'Weekly Metrics'!FC$5), IF($B6=\"Gross Adds\",SUMIFS(Weekly_Data_Raw[GROSS_ADDS],Weekly_Data_Raw[TICKER],'Weekly Metrics'!$A6,Weekly_Data_Raw[END_DATE],'Weekly Metrics'!FC$5), IF($B6=\"Churn\",SUMIFS(Weekly_Data_Raw[CHURNED_MEMBERS],Weekly_Data_Raw[TICKER],'Weekly Metrics'!$A6,Weekly_Data_Raw[END_DATE],'Weekly Metrics'!FC$5)))))))","v":30764},{"$f":"IF($B6=\"Panel Sales\", SUMIFS(Weekly_Data_Raw[PANEL_AMOUNT],Weekly_Data_Raw[TICKER],'Weekly Metrics'!$A6,Weekly_Data_Raw[END_DATE],'Weekly Metrics'!FD$5),IF($B6=\"Transactions\",SUMIFS(Weekly_Data_Raw[PANEL_TRANSACTIONS],Weekly_Data_Raw[TICKER],'Weekly Metrics'!$A6,Weekly_Data_Raw[END_DATE],'Weekly Metrics'!FD$5), IF($B6=\"Avg Ticket\",SUMIFS(Weekly_Data_Raw[AVG_TICKET],Weekly_Data_Raw[TICKER],'Weekly Metrics'!$A6,Weekly_Data_Raw[END_DATE],'Weekly Metrics'!FD$5), IF($B6=\"EOP Subscribers\",SUMIFS(Weekly_Data_Raw[EOP_SUBSCRIBERS],Weekly_Data_Raw[TICKER],'Weekly Metrics'!$A6,Weekly_Data_Raw[END_DATE],'Weekly Metrics'!FD$5), IF($B6=\"Gross Adds\",SUMIFS(Weekly_Data_Raw[GROSS_ADDS],Weekly_Data_Raw[TICKER],'Weekly Metrics'!$A6,Weekly_Data_Raw[END_DATE],'Weekly Metrics'!FD$5), IF($B6=\"Churn\",SUMIFS(Weekly_Data_Raw[CHURNED_MEMBERS],Weekly_Data_Raw[TICKER],'Weekly Metrics'!$A6,Weekly_Data_Raw[END_DATE],'Weekly Metrics'!FD$5)))))))","v":38772},{"$f":"IF($B6=\"Panel Sales\", SUMIFS(Weekly_Data_Raw[PANEL_AMOUNT],Weekly_Data_Raw[TICKER],'Weekly Metrics'!$A6,Weekly_Data_Raw[END_DATE],'Weekly Metrics'!FE$5),IF($B6=\"Transactions\",SUMIFS(Weekly_Data_Raw[PANEL_TRANSACTIONS],Weekly_Data_Raw[TICKER],'Weekly Metrics'!$A6,Weekly_Data_Raw[END_DATE],'Weekly Metrics'!FE$5), IF($B6=\"Avg Ticket\",SUMIFS(Weekly_Data_Raw[AVG_TICKET],Weekly_Data_Raw[TICKER],'Weekly Metrics'!$A6,Weekly_Data_Raw[END_DATE],'Weekly Metrics'!FE$5), IF($B6=\"EOP Subscribers\",SUMIFS(Weekly_Data_Raw[EOP_SUBSCRIBERS],Weekly_Data_Raw[TICKER],'Weekly Metrics'!$A6,Weekly_Data_Raw[END_DATE],'Weekly Metrics'!FE$5), IF($B6=\"Gross Adds\",SUMIFS(Weekly_Data_Raw[GROSS_ADDS],Weekly_Data_Raw[TICKER],'Weekly Metrics'!$A6,Weekly_Data_Raw[END_DATE],'Weekly Metrics'!FE$5), IF($B6=\"Churn\",SUMIFS(Weekly_Data_Raw[CHURNED_MEMBERS],Weekly_Data_Raw[TICKER],'Weekly Metrics'!$A6,Weekly_Data_Raw[END_DATE],'Weekly Metrics'!FE$5)))))))","v":40906},{"$f":"IF($B6=\"Panel Sales\", SUMIFS(Weekly_Data_Raw[PANEL_AMOUNT],Weekly_Data_Raw[TICKER],'Weekly Metrics'!$A6,Weekly_Data_Raw[END_DATE],'Weekly Metrics'!FF$5),IF($B6=\"Transactions\",SUMIFS(Weekly_Data_Raw[PANEL_TRANSACTIONS],Weekly_Data_Raw[TICKER],'Weekly Metrics'!$A6,Weekly_Data_Raw[END_DATE],'Weekly Metrics'!FF$5), IF($B6=\"Avg Ticket\",SUMIFS(Weekly_Data_Raw[AVG_TICKET],Weekly_Data_Raw[TICKER],'Weekly Metrics'!$A6,Weekly_Data_Raw[END_DATE],'Weekly Metrics'!FF$5), IF($B6=\"EOP Subscribers\",SUMIFS(Weekly_Data_Raw[EOP_SUBSCRIBERS],Weekly_Data_Raw[TICKER],'Weekly Metrics'!$A6,Weekly_Data_Raw[END_DATE],'Weekly Metrics'!FF$5), IF($B6=\"Gross Adds\",SUMIFS(Weekly_Data_Raw[GROSS_ADDS],Weekly_Data_Raw[TICKER],'Weekly Metrics'!$A6,Weekly_Data_Raw[END_DATE],'Weekly Metrics'!FF$5), IF($B6=\"Churn\",SUMIFS(Weekly_Data_Raw[CHURNED_MEMBERS],Weekly_Data_Raw[TICKER],'Weekly Metrics'!$A6,Weekly_Data_Raw[END_DATE],'Weekly Metrics'!FF$5)))))))","v":40066},{"$f":"IF($B6=\"Panel Sales\", SUMIFS(Weekly_Data_Raw[PANEL_AMOUNT],Weekly_Data_Raw[TICKER],'Weekly Metrics'!$A6,Weekly_Data_Raw[END_DATE],'Weekly Metrics'!FG$5),IF($B6=\"Transactions\",SUMIFS(Weekly_Data_Raw[PANEL_TRANSACTIONS],Weekly_Data_Raw[TICKER],'Weekly Metrics'!$A6,Weekly_Data_Raw[END_DATE],'Weekly Metrics'!FG$5), IF($B6=\"Avg Ticket\",SUMIFS(Weekly_Data_Raw[AVG_TICKET],Weekly_Data_Raw[TICKER],'Weekly Metrics'!$A6,Weekly_Data_Raw[END_DATE],'Weekly Metrics'!FG$5), IF($B6=\"EOP Subscribers\",SUMIFS(Weekly_Data_Raw[EOP_SUBSCRIBERS],Weekly_Data_Raw[TICKER],'Weekly Metrics'!$A6,Weekly_Data_Raw[END_DATE],'Weekly Metrics'!FG$5), IF($B6=\"Gross Adds\",SUMIFS(Weekly_Data_Raw[GROSS_ADDS],Weekly_Data_Raw[TICKER],'Weekly Metrics'!$A6,Weekly_Data_Raw[END_DATE],'Weekly Metrics'!FG$5), IF($B6=\"Churn\",SUMIFS(Weekly_Data_Raw[CHURNED_MEMBERS],Weekly_Data_Raw[TICKER],'Weekly Metrics'!$A6,Weekly_Data_Raw[END_DATE],'Weekly Metrics'!FG$5)))))))","v":41306},{"$f":"IF($B6=\"Panel Sales\", SUMIFS(Weekly_Data_Raw[PANEL_AMOUNT],Weekly_Data_Raw[TICKER],'Weekly Metrics'!$A6,Weekly_Data_Raw[END_DATE],'Weekly Metrics'!FH$5),IF($B6=\"Transactions\",SUMIFS(Weekly_Data_Raw[PANEL_TRANSACTIONS],Weekly_Data_Raw[TICKER],'Weekly Metrics'!$A6,Weekly_Data_Raw[END_DATE],'Weekly Metrics'!FH$5), IF($B6=\"Avg Ticket\",SUMIFS(Weekly_Data_Raw[AVG_TICKET],Weekly_Data_Raw[TICKER],'Weekly Metrics'!$A6,Weekly_Data_Raw[END_DATE],'Weekly Metrics'!FH$5), IF($B6=\"EOP Subscribers\",SUMIFS(Weekly_Data_Raw[EOP_SUBSCRIBERS],Weekly_Data_Raw[TICKER],'Weekly Metrics'!$A6,Weekly_Data_Raw[END_DATE],'Weekly Metrics'!FH$5), IF($B6=\"Gross Adds\",SUMIFS(Weekly_Data_Raw[GROSS_ADDS],Weekly_Data_Raw[TICKER],'Weekly Metrics'!$A6,Weekly_Data_Raw[END_DATE],'Weekly Metrics'!FH$5), IF($B6=\"Churn\",SUMIFS(Weekly_Data_Raw[CHURNED_MEMBERS],Weekly_Data_Raw[TICKER],'Weekly Metrics'!$A6,Weekly_Data_Raw[END_DATE],'Weekly Metrics'!FH$5)))))))","v":39256},{"$f":"IF($B6=\"Panel Sales\", SUMIFS(Weekly_Data_Raw[PANEL_AMOUNT],Weekly_Data_Raw[TICKER],'Weekly Metrics'!$A6,Weekly_Data_Raw[END_DATE],'Weekly Metrics'!FI$5),IF($B6=\"Transactions\",SUMIFS(Weekly_Data_Raw[PANEL_TRANSACTIONS],Weekly_Data_Raw[TICKER],'Weekly Metrics'!$A6,Weekly_Data_Raw[END_DATE],'Weekly Metrics'!FI$5), IF($B6=\"Avg Ticket\",SUMIFS(Weekly_Data_Raw[AVG_TICKET],Weekly_Data_Raw[TICKER],'Weekly Metrics'!$A6,Weekly_Data_Raw[END_DATE],'Weekly Metrics'!FI$5), IF($B6=\"EOP Subscribers\",SUMIFS(Weekly_Data_Raw[EOP_SUBSCRIBERS],Weekly_Data_Raw[TICKER],'Weekly Metrics'!$A6,Weekly_Data_Raw[END_DATE],'Weekly Metrics'!FI$5), IF($B6=\"Gross Adds\",SUMIFS(Weekly_Data_Raw[GROSS_ADDS],Weekly_Data_Raw[TICKER],'Weekly Metrics'!$A6,Weekly_Data_Raw[END_DATE],'Weekly Metrics'!FI$5), IF($B6=\"Churn\",SUMIFS(Weekly_Data_Raw[CHURNED_MEMBERS],Weekly_Data_Raw[TICKER],'Weekly Metrics'!$A6,Weekly_Data_Raw[END_DATE],'Weekly Metrics'!FI$5)))))))","v":42811},{"$f":"IF($B6=\"Panel Sales\", SUMIFS(Weekly_Data_Raw[PANEL_AMOUNT],Weekly_Data_Raw[TICKER],'Weekly Metrics'!$A6,Weekly_Data_Raw[END_DATE],'Weekly Metrics'!FJ$5),IF($B6=\"Transactions\",SUMIFS(Weekly_Data_Raw[PANEL_TRANSACTIONS],Weekly_Data_Raw[TICKER],'Weekly Metrics'!$A6,Weekly_Data_Raw[END_DATE],'Weekly Metrics'!FJ$5), IF($B6=\"Avg Ticket\",SUMIFS(Weekly_Data_Raw[AVG_TICKET],Weekly_Data_Raw[TICKER],'Weekly Metrics'!$A6,Weekly_Data_Raw[END_DATE],'Weekly Metrics'!FJ$5), IF($B6=\"EOP Subscribers\",SUMIFS(Weekly_Data_Raw[EOP_SUBSCRIBERS],Weekly_Data_Raw[TICKER],'Weekly Metrics'!$A6,Weekly_Data_Raw[END_DATE],'Weekly Metrics'!FJ$5), IF($B6=\"Gross Adds\",SUMIFS(Weekly_Data_Raw[GROSS_ADDS],Weekly_Data_Raw[TICKER],'Weekly Metrics'!$A6,Weekly_Data_Raw[END_DATE],'Weekly Metrics'!FJ$5), IF($B6=\"Churn\",SUMIFS(Weekly_Data_Raw[CHURNED_MEMBERS],Weekly_Data_Raw[TICKER],'Weekly Metrics'!$A6,Weekly_Data_Raw[END_DATE],'Weekly Metrics'!FJ$5)))))))","v":41625},{"$f":"IF($B6=\"Panel Sales\", SUMIFS(Weekly_Data_Raw[PANEL_AMOUNT],Weekly_Data_Raw[TICKER],'Weekly Metrics'!$A6,Weekly_Data_Raw[END_DATE],'Weekly Metrics'!FK$5),IF($B6=\"Transactions\",SUMIFS(Weekly_Data_Raw[PANEL_TRANSACTIONS],Weekly_Data_Raw[TICKER],'Weekly Metrics'!$A6,Weekly_Data_Raw[END_DATE],'Weekly Metrics'!FK$5), IF($B6=\"Avg Ticket\",SUMIFS(Weekly_Data_Raw[AVG_TICKET],Weekly_Data_Raw[TICKER],'Weekly Metrics'!$A6,Weekly_Data_Raw[END_DATE],'Weekly Metrics'!FK$5), IF($B6=\"EOP Subscribers\",SUMIFS(Weekly_Data_Raw[EOP_SUBSCRIBERS],Weekly_Data_Raw[TICKER],'Weekly Metrics'!$A6,Weekly_Data_Raw[END_DATE],'Weekly Metrics'!FK$5), IF($B6=\"Gross Adds\",SUMIFS(Weekly_Data_Raw[GROSS_ADDS],Weekly_Data_Raw[TICKER],'Weekly Metrics'!$A6,Weekly_Data_Raw[END_DATE],'Weekly Metrics'!FK$5), IF($B6=\"Churn\",SUMIFS(Weekly_Data_Raw[CHURNED_MEMBERS],Weekly_Data_Raw[TICKER],'Weekly Metrics'!$A6,Weekly_Data_Raw[END_DATE],'Weekly Metrics'!FK$5)))))))","v":42307},{"$f":"IF($B6=\"Panel Sales\", SUMIFS(Weekly_Data_Raw[PANEL_AMOUNT],Weekly_Data_Raw[TICKER],'Weekly Metrics'!$A6,Weekly_Data_Raw[END_DATE],'Weekly Metrics'!FL$5),IF($B6=\"Transactions\",SUMIFS(Weekly_Data_Raw[PANEL_TRANSACTIONS],Weekly_Data_Raw[TICKER],'Weekly Metrics'!$A6,Weekly_Data_Raw[END_DATE],'Weekly Metrics'!FL$5), IF($B6=\"Avg Ticket\",SUMIFS(Weekly_Data_Raw[AVG_TICKET],Weekly_Data_Raw[TICKER],'Weekly Metrics'!$A6,Weekly_Data_Raw[END_DATE],'Weekly Metrics'!FL$5), IF($B6=\"EOP Subscribers\",SUMIFS(Weekly_Data_Raw[EOP_SUBSCRIBERS],Weekly_Data_Raw[TICKER],'Weekly Metrics'!$A6,Weekly_Data_Raw[END_DATE],'Weekly Metrics'!FL$5), IF($B6=\"Gross Adds\",SUMIFS(Weekly_Data_Raw[GROSS_ADDS],Weekly_Data_Raw[TICKER],'Weekly Metrics'!$A6,Weekly_Data_Raw[END_DATE],'Weekly Metrics'!FL$5), IF($B6=\"Churn\",SUMIFS(Weekly_Data_Raw[CHURNED_MEMBERS],Weekly_Data_Raw[TICKER],'Weekly Metrics'!$A6,Weekly_Data_Raw[END_DATE],'Weekly Metrics'!FL$5)))))))","v":43519},{"$f":"IF($B6=\"Panel Sales\", SUMIFS(Weekly_Data_Raw[PANEL_AMOUNT],Weekly_Data_Raw[TICKER],'Weekly Metrics'!$A6,Weekly_Data_Raw[END_DATE],'Weekly Metrics'!FM$5),IF($B6=\"Transactions\",SUMIFS(Weekly_Data_Raw[PANEL_TRANSACTIONS],Weekly_Data_Raw[TICKER],'Weekly Metrics'!$A6,Weekly_Data_Raw[END_DATE],'Weekly Metrics'!FM$5), IF($B6=\"Avg Ticket\",SUMIFS(Weekly_Data_Raw[AVG_TICKET],Weekly_Data_Raw[TICKER],'Weekly Metrics'!$A6,Weekly_Data_Raw[END_DATE],'Weekly Metrics'!FM$5), IF($B6=\"EOP Subscribers\",SUMIFS(Weekly_Data_Raw[EOP_SUBSCRIBERS],Weekly_Data_Raw[TICKER],'Weekly Metrics'!$A6,Weekly_Data_Raw[END_DATE],'Weekly Metrics'!FM$5), IF($B6=\"Gross Adds\",SUMIFS(Weekly_Data_Raw[GROSS_ADDS],Weekly_Data_Raw[TICKER],'Weekly Metrics'!$A6,Weekly_Data_Raw[END_DATE],'Weekly Metrics'!FM$5), IF($B6=\"Churn\",SUMIFS(Weekly_Data_Raw[CHURNED_MEMBERS],Weekly_Data_Raw[TICKER],'Weekly Metrics'!$A6,Weekly_Data_Raw[END_DATE],'Weekly Metrics'!FM$5)))))))","v":43403},{"$f":"IF($B6=\"Panel Sales\", SUMIFS(Weekly_Data_Raw[PANEL_AMOUNT],Weekly_Data_Raw[TICKER],'Weekly Metrics'!$A6,Weekly_Data_Raw[END_DATE],'Weekly Metrics'!FN$5),IF($B6=\"Transactions\",SUMIFS(Weekly_Data_Raw[PANEL_TRANSACTIONS],Weekly_Data_Raw[TICKER],'Weekly Metrics'!$A6,Weekly_Data_Raw[END_DATE],'Weekly Metrics'!FN$5), IF($B6=\"Avg Ticket\",SUMIFS(Weekly_Data_Raw[AVG_TICKET],Weekly_Data_Raw[TICKER],'Weekly Metrics'!$A6,Weekly_Data_Raw[END_DATE],'Weekly Metrics'!FN$5), IF($B6=\"EOP Subscribers\",SUMIFS(Weekly_Data_Raw[EOP_SUBSCRIBERS],Weekly_Data_Raw[TICKER],'Weekly Metrics'!$A6,Weekly_Data_Raw[END_DATE],'Weekly Metrics'!FN$5), IF($B6=\"Gross Adds\",SUMIFS(Weekly_Data_Raw[GROSS_ADDS],Weekly_Data_Raw[TICKER],'Weekly Metrics'!$A6,Weekly_Data_Raw[END_DATE],'Weekly Metrics'!FN$5), IF($B6=\"Churn\",SUMIFS(Weekly_Data_Raw[CHURNED_MEMBERS],Weekly_Data_Raw[TICKER],'Weekly Metrics'!$A6,Weekly_Data_Raw[END_DATE],'Weekly Metrics'!FN$5)))))))","v":43721},{"$f":"IF($B6=\"Panel Sales\", SUMIFS(Weekly_Data_Raw[PANEL_AMOUNT],Weekly_Data_Raw[TICKER],'Weekly Metrics'!$A6,Weekly_Data_Raw[END_DATE],'Weekly Metrics'!FO$5),IF($B6=\"Transactions\",SUMIFS(Weekly_Data_Raw[PANEL_TRANSACTIONS],Weekly_Data_Raw[TICKER],'Weekly Metrics'!$A6,Weekly_Data_Raw[END_DATE],'Weekly Metrics'!FO$5), IF($B6=\"Avg Ticket\",SUMIFS(Weekly_Data_Raw[AVG_TICKET],Weekly_Data_Raw[TICKER],'Weekly Metrics'!$A6,Weekly_Data_Raw[END_DATE],'Weekly Metrics'!FO$5), IF($B6=\"EOP Subscribers\",SUMIFS(Weekly_Data_Raw[EOP_SUBSCRIBERS],Weekly_Data_Raw[TICKER],'Weekly Metrics'!$A6,Weekly_Data_Raw[END_DATE],'Weekly Metrics'!FO$5), IF($B6=\"Gross Adds\",SUMIFS(Weekly_Data_Raw[GROSS_ADDS],Weekly_Data_Raw[TICKER],'Weekly Metrics'!$A6,Weekly_Data_Raw[END_DATE],'Weekly Metrics'!FO$5), IF($B6=\"Churn\",SUMIFS(Weekly_Data_Raw[CHURNED_MEMBERS],Weekly_Data_Raw[TICKER],'Weekly Metrics'!$A6,Weekly_Data_Raw[END_DATE],'Weekly Metrics'!FO$5)))))))","v":44910},{"$f":"IF($B6=\"Panel Sales\", SUMIFS(Weekly_Data_Raw[PANEL_AMOUNT],Weekly_Data_Raw[TICKER],'Weekly Metrics'!$A6,Weekly_Data_Raw[END_DATE],'Weekly Metrics'!FP$5),IF($B6=\"Transactions\",SUMIFS(Weekly_Data_Raw[PANEL_TRANSACTIONS],Weekly_Data_Raw[TICKER],'Weekly Metrics'!$A6,Weekly_Data_Raw[END_DATE],'Weekly Metrics'!FP$5), IF($B6=\"Avg Ticket\",SUMIFS(Weekly_Data_Raw[AVG_TICKET],Weekly_Data_Raw[TICKER],'Weekly Metrics'!$A6,Weekly_Data_Raw[END_DATE],'Weekly Metrics'!FP$5), IF($B6=\"EOP Subscribers\",SUMIFS(Weekly_Data_Raw[EOP_SUBSCRIBERS],Weekly_Data_Raw[TICKER],'Weekly Metrics'!$A6,Weekly_Data_Raw[END_DATE],'Weekly Metrics'!FP$5), IF($B6=\"Gross Adds\",SUMIFS(Weekly_Data_Raw[GROSS_ADDS],Weekly_Data_Raw[TICKER],'Weekly Metrics'!$A6,Weekly_Data_Raw[END_DATE],'Weekly Metrics'!FP$5), IF($B6=\"Churn\",SUMIFS(Weekly_Data_Raw[CHURNED_MEMBERS],Weekly_Data_Raw[TICKER],'Weekly Metrics'!$A6,Weekly_Data_Raw[END_DATE],'Weekly Metrics'!FP$5)))))))","v":44778},{"$f":"IF($B6=\"Panel Sales\", SUMIFS(Weekly_Data_Raw[PANEL_AMOUNT],Weekly_Data_Raw[TICKER],'Weekly Metrics'!$A6,Weekly_Data_Raw[END_DATE],'Weekly Metrics'!FQ$5),IF($B6=\"Transactions\",SUMIFS(Weekly_Data_Raw[PANEL_TRANSACTIONS],Weekly_Data_Raw[TICKER],'Weekly Metrics'!$A6,Weekly_Data_Raw[END_DATE],'Weekly Metrics'!FQ$5), IF($B6=\"Avg Ticket\",SUMIFS(Weekly_Data_Raw[AVG_TICKET],Weekly_Data_Raw[TICKER],'Weekly Metrics'!$A6,Weekly_Data_Raw[END_DATE],'Weekly Metrics'!FQ$5), IF($B6=\"EOP Subscribers\",SUMIFS(Weekly_Data_Raw[EOP_SUBSCRIBERS],Weekly_Data_Raw[TICKER],'Weekly Metrics'!$A6,Weekly_Data_Raw[END_DATE],'Weekly Metrics'!FQ$5), IF($B6=\"Gross Adds\",SUMIFS(Weekly_Data_Raw[GROSS_ADDS],Weekly_Data_Raw[TICKER],'Weekly Metrics'!$A6,Weekly_Data_Raw[END_DATE],'Weekly Metrics'!FQ$5), IF($B6=\"Churn\",SUMIFS(Weekly_Data_Raw[CHURNED_MEMBERS],Weekly_Data_Raw[TICKER],'Weekly Metrics'!$A6,Weekly_Data_Raw[END_DATE],'Weekly Metrics'!FQ$5)))))))","v":44383},{"$f":"IF($B6=\"Panel Sales\", SUMIFS(Weekly_Data_Raw[PANEL_AMOUNT],Weekly_Data_Raw[TICKER],'Weekly Metrics'!$A6,Weekly_Data_Raw[END_DATE],'Weekly Metrics'!FR$5),IF($B6=\"Transactions\",SUMIFS(Weekly_Data_Raw[PANEL_TRANSACTIONS],Weekly_Data_Raw[TICKER],'Weekly Metrics'!$A6,Weekly_Data_Raw[END_DATE],'Weekly Metrics'!FR$5), IF($B6=\"Avg Ticket\",SUMIFS(Weekly_Data_Raw[AVG_TICKET],Weekly_Data_Raw[TICKER],'Weekly Metrics'!$A6,Weekly_Data_Raw[END_DATE],'Weekly Metrics'!FR$5), IF($B6=\"EOP Subscribers\",SUMIFS(Weekly_Data_Raw[EOP_SUBSCRIBERS],Weekly_Data_Raw[TICKER],'Weekly Metrics'!$A6,Weekly_Data_Raw[END_DATE],'Weekly Metrics'!FR$5), IF($B6=\"Gross Adds\",SUMIFS(Weekly_Data_Raw[GROSS_ADDS],Weekly_Data_Raw[TICKER],'Weekly Metrics'!$A6,Weekly_Data_Raw[END_DATE],'Weekly Metrics'!FR$5), IF($B6=\"Churn\",SUMIFS(Weekly_Data_Raw[CHURNED_MEMBERS],Weekly_Data_Raw[TICKER],'Weekly Metrics'!$A6,Weekly_Data_Raw[END_DATE],'Weekly Metrics'!FR$5)))))))","v":44409},{"$f":"IF($B6=\"Panel Sales\", SUMIFS(Weekly_Data_Raw[PANEL_AMOUNT],Weekly_Data_Raw[TICKER],'Weekly Metrics'!$A6,Weekly_Data_Raw[END_DATE],'Weekly Metrics'!FS$5),IF($B6=\"Transactions\",SUMIFS(Weekly_Data_Raw[PANEL_TRANSACTIONS],Weekly_Data_Raw[TICKER],'Weekly Metrics'!$A6,Weekly_Data_Raw[END_DATE],'Weekly Metrics'!FS$5), IF($B6=\"Avg Ticket\",SUMIFS(Weekly_Data_Raw[AVG_TICKET],Weekly_Data_Raw[TICKER],'Weekly Metrics'!$A6,Weekly_Data_Raw[END_DATE],'Weekly Metrics'!FS$5), IF($B6=\"EOP Subscribers\",SUMIFS(Weekly_Data_Raw[EOP_SUBSCRIBERS],Weekly_Data_Raw[TICKER],'Weekly Metrics'!$A6,Weekly_Data_Raw[END_DATE],'Weekly Metrics'!FS$5), IF($B6=\"Gross Adds\",SUMIFS(Weekly_Data_Raw[GROSS_ADDS],Weekly_Data_Raw[TICKER],'Weekly Metrics'!$A6,Weekly_Data_Raw[END_DATE],'Weekly Metrics'!FS$5), IF($B6=\"Churn\",SUMIFS(Weekly_Data_Raw[CHURNED_MEMBERS],Weekly_Data_Raw[TICKER],'Weekly Metrics'!$A6,Weekly_Data_Raw[END_DATE],'Weekly Metrics'!FS$5)))))))","v":41790},{"$f":"IF($B6=\"Panel Sales\", SUMIFS(Weekly_Data_Raw[PANEL_AMOUNT],Weekly_Data_Raw[TICKER],'Weekly Metrics'!$A6,Weekly_Data_Raw[END_DATE],'Weekly Metrics'!FT$5),IF($B6=\"Transactions\",SUMIFS(Weekly_Data_Raw[PANEL_TRANSACTIONS],Weekly_Data_Raw[TICKER],'Weekly Metrics'!$A6,Weekly_Data_Raw[END_DATE],'Weekly Metrics'!FT$5), IF($B6=\"Avg Ticket\",SUMIFS(Weekly_Data_Raw[AVG_TICKET],Weekly_Data_Raw[TICKER],'Weekly Metrics'!$A6,Weekly_Data_Raw[END_DATE],'Weekly Metrics'!FT$5), IF($B6=\"EOP Subscribers\",SUMIFS(Weekly_Data_Raw[EOP_SUBSCRIBERS],Weekly_Data_Raw[TICKER],'Weekly Metrics'!$A6,Weekly_Data_Raw[END_DATE],'Weekly Metrics'!FT$5), IF($B6=\"Gross Adds\",SUMIFS(Weekly_Data_Raw[GROSS_ADDS],Weekly_Data_Raw[TICKER],'Weekly Metrics'!$A6,Weekly_Data_Raw[END_DATE],'Weekly Metrics'!FT$5), IF($B6=\"Churn\",SUMIFS(Weekly_Data_Raw[CHURNED_MEMBERS],Weekly_Data_Raw[TICKER],'Weekly Metrics'!$A6,Weekly_Data_Raw[END_DATE],'Weekly Metrics'!FT$5)))))))","v":46438},{"$f":"IF($B6=\"Panel Sales\", SUMIFS(Weekly_Data_Raw[PANEL_AMOUNT],Weekly_Data_Raw[TICKER],'Weekly Metrics'!$A6,Weekly_Data_Raw[END_DATE],'Weekly Metrics'!FU$5),IF($B6=\"Transactions\",SUMIFS(Weekly_Data_Raw[PANEL_TRANSACTIONS],Weekly_Data_Raw[TICKER],'Weekly Metrics'!$A6,Weekly_Data_Raw[END_DATE],'Weekly Metrics'!FU$5), IF($B6=\"Avg Ticket\",SUMIFS(Weekly_Data_Raw[AVG_TICKET],Weekly_Data_Raw[TICKER],'Weekly Metrics'!$A6,Weekly_Data_Raw[END_DATE],'Weekly Metrics'!FU$5), IF($B6=\"EOP Subscribers\",SUMIFS(Weekly_Data_Raw[EOP_SUBSCRIBERS],Weekly_Data_Raw[TICKER],'Weekly Metrics'!$A6,Weekly_Data_Raw[END_DATE],'Weekly Metrics'!FU$5), IF($B6=\"Gross Adds\",SUMIFS(Weekly_Data_Raw[GROSS_ADDS],Weekly_Data_Raw[TICKER],'Weekly Metrics'!$A6,Weekly_Data_Raw[END_DATE],'Weekly Metrics'!FU$5), IF($B6=\"Churn\",SUMIFS(Weekly_Data_Raw[CHURNED_MEMBERS],Weekly_Data_Raw[TICKER],'Weekly Metrics'!$A6,Weekly_Data_Raw[END_DATE],'Weekly Metrics'!FU$5)))))))","v":45305},{"$f":"IF($B6=\"Panel Sales\", SUMIFS(Weekly_Data_Raw[PANEL_AMOUNT],Weekly_Data_Raw[TICKER],'Weekly Metrics'!$A6,Weekly_Data_Raw[END_DATE],'Weekly Metrics'!FV$5),IF($B6=\"Transactions\",SUMIFS(Weekly_Data_Raw[PANEL_TRANSACTIONS],Weekly_Data_Raw[TICKER],'Weekly Metrics'!$A6,Weekly_Data_Raw[END_DATE],'Weekly Metrics'!FV$5), IF($B6=\"Avg Ticket\",SUMIFS(Weekly_Data_Raw[AVG_TICKET],Weekly_Data_Raw[TICKER],'Weekly Metrics'!$A6,Weekly_Data_Raw[END_DATE],'Weekly Metrics'!FV$5), IF($B6=\"EOP Subscribers\",SUMIFS(Weekly_Data_Raw[EOP_SUBSCRIBERS],Weekly_Data_Raw[TICKER],'Weekly Metrics'!$A6,Weekly_Data_Raw[END_DATE],'Weekly Metrics'!FV$5), IF($B6=\"Gross Adds\",SUMIFS(Weekly_Data_Raw[GROSS_ADDS],Weekly_Data_Raw[TICKER],'Weekly Metrics'!$A6,Weekly_Data_Raw[END_DATE],'Weekly Metrics'!FV$5), IF($B6=\"Churn\",SUMIFS(Weekly_Data_Raw[CHURNED_MEMBERS],Weekly_Data_Raw[TICKER],'Weekly Metrics'!$A6,Weekly_Data_Raw[END_DATE],'Weekly Metrics'!FV$5)))))))","v":42982},{"$f":"IF($B6=\"Panel Sales\", SUMIFS(Weekly_Data_Raw[PANEL_AMOUNT],Weekly_Data_Raw[TICKER],'Weekly Metrics'!$A6,Weekly_Data_Raw[END_DATE],'Weekly Metrics'!FW$5),IF($B6=\"Transactions\",SUMIFS(Weekly_Data_Raw[PANEL_TRANSACTIONS],Weekly_Data_Raw[TICKER],'Weekly Metrics'!$A6,Weekly_Data_Raw[END_DATE],'Weekly Metrics'!FW$5), IF($B6=\"Avg Ticket\",SUMIFS(Weekly_Data_Raw[AVG_TICKET],Weekly_Data_Raw[TICKER],'Weekly Metrics'!$A6,Weekly_Data_Raw[END_DATE],'Weekly Metrics'!FW$5), IF($B6=\"EOP Subscribers\",SUMIFS(Weekly_Data_Raw[EOP_SUBSCRIBERS],Weekly_Data_Raw[TICKER],'Weekly Metrics'!$A6,Weekly_Data_Raw[END_DATE],'Weekly Metrics'!FW$5), IF($B6=\"Gross Adds\",SUMIFS(Weekly_Data_Raw[GROSS_ADDS],Weekly_Data_Raw[TICKER],'Weekly Metrics'!$A6,Weekly_Data_Raw[END_DATE],'Weekly Metrics'!FW$5), IF($B6=\"Churn\",SUMIFS(Weekly_Data_Raw[CHURNED_MEMBERS],Weekly_Data_Raw[TICKER],'Weekly Metrics'!$A6,Weekly_Data_Raw[END_DATE],'Weekly Metrics'!FW$5)))))))","v":44352},{"$f":"IF($B6=\"Panel Sales\", SUMIFS(Weekly_Data_Raw[PANEL_AMOUNT],Weekly_Data_Raw[TICKER],'Weekly Metrics'!$A6,Weekly_Data_Raw[END_DATE],'Weekly Metrics'!FX$5),IF($B6=\"Transactions\",SUMIFS(Weekly_Data_Raw[PANEL_TRANSACTIONS],Weekly_Data_Raw[TICKER],'Weekly Metrics'!$A6,Weekly_Data_Raw[END_DATE],'Weekly Metrics'!FX$5), IF($B6=\"Avg Ticket\",SUMIFS(Weekly_Data_Raw[AVG_TICKET],Weekly_Data_Raw[TICKER],'Weekly Metrics'!$A6,Weekly_Data_Raw[END_DATE],'Weekly Metrics'!FX$5), IF($B6=\"EOP Subscribers\",SUMIFS(Weekly_Data_Raw[EOP_SUBSCRIBERS],Weekly_Data_Raw[TICKER],'Weekly Metrics'!$A6,Weekly_Data_Raw[END_DATE],'Weekly Metrics'!FX$5), IF($B6=\"Gross Adds\",SUMIFS(Weekly_Data_Raw[GROSS_ADDS],Weekly_Data_Raw[TICKER],'Weekly Metrics'!$A6,Weekly_Data_Raw[END_DATE],'Weekly Metrics'!FX$5), IF($B6=\"Churn\",SUMIFS(Weekly_Data_Raw[CHURNED_MEMBERS],Weekly_Data_Raw[TICKER],'Weekly Metrics'!$A6,Weekly_Data_Raw[END_DATE],'Weekly Metrics'!FX$5)))))))","v":43233},{"$f":"IF($B6=\"Panel Sales\", SUMIFS(Weekly_Data_Raw[PANEL_AMOUNT],Weekly_Data_Raw[TICKER],'Weekly Metrics'!$A6,Weekly_Data_Raw[END_DATE],'Weekly Metrics'!FY$5),IF($B6=\"Transactions\",SUMIFS(Weekly_Data_Raw[PANEL_TRANSACTIONS],Weekly_Data_Raw[TICKER],'Weekly Metrics'!$A6,Weekly_Data_Raw[END_DATE],'Weekly Metrics'!FY$5), IF($B6=\"Avg Ticket\",SUMIFS(Weekly_Data_Raw[AVG_TICKET],Weekly_Data_Raw[TICKER],'Weekly Metrics'!$A6,Weekly_Data_Raw[END_DATE],'Weekly Metrics'!FY$5), IF($B6=\"EOP Subscribers\",SUMIFS(Weekly_Data_Raw[EOP_SUBSCRIBERS],Weekly_Data_Raw[TICKER],'Weekly Metrics'!$A6,Weekly_Data_Raw[END_DATE],'Weekly Metrics'!FY$5), IF($B6=\"Gross Adds\",SUMIFS(Weekly_Data_Raw[GROSS_ADDS],Weekly_Data_Raw[TICKER],'Weekly Metrics'!$A6,Weekly_Data_Raw[END_DATE],'Weekly Metrics'!FY$5), IF($B6=\"Churn\",SUMIFS(Weekly_Data_Raw[CHURNED_MEMBERS],Weekly_Data_Raw[TICKER],'Weekly Metrics'!$A6,Weekly_Data_Raw[END_DATE],'Weekly Metrics'!FY$5)))))))","v":40306},{"$f":"IF($B6=\"Panel Sales\", SUMIFS(Weekly_Data_Raw[PANEL_AMOUNT],Weekly_Data_Raw[TICKER],'Weekly Metrics'!$A6,Weekly_Data_Raw[END_DATE],'Weekly Metrics'!FZ$5),IF($B6=\"Transactions\",SUMIFS(Weekly_Data_Raw[PANEL_TRANSACTIONS],Weekly_Data_Raw[TICKER],'Weekly Metrics'!$A6,Weekly_Data_Raw[END_DATE],'Weekly Metrics'!FZ$5), IF($B6=\"Avg Ticket\",SUMIFS(Weekly_Data_Raw[AVG_TICKET],Weekly_Data_Raw[TICKER],'Weekly Metrics'!$A6,Weekly_Data_Raw[END_DATE],'Weekly Metrics'!FZ$5), IF($B6=\"EOP Subscribers\",SUMIFS(Weekly_Data_Raw[EOP_SUBSCRIBERS],Weekly_Data_Raw[TICKER],'Weekly Metrics'!$A6,Weekly_Data_Raw[END_DATE],'Weekly Metrics'!FZ$5), IF($B6=\"Gross Adds\",SUMIFS(Weekly_Data_Raw[GROSS_ADDS],Weekly_Data_Raw[TICKER],'Weekly Metrics'!$A6,Weekly_Data_Raw[END_DATE],'Weekly Metrics'!FZ$5), IF($B6=\"Churn\",SUMIFS(Weekly_Data_Raw[CHURNED_MEMBERS],Weekly_Data_Raw[TICKER],'Weekly Metrics'!$A6,Weekly_Data_Raw[END_DATE],'Weekly Metrics'!FZ$5)))))))","v":42913},{"$f":"IF($B6=\"Panel Sales\", SUMIFS(Weekly_Data_Raw[PANEL_AMOUNT],Weekly_Data_Raw[TICKER],'Weekly Metrics'!$A6,Weekly_Data_Raw[END_DATE],'Weekly Metrics'!GA$5),IF($B6=\"Transactions\",SUMIFS(Weekly_Data_Raw[PANEL_TRANSACTIONS],Weekly_Data_Raw[TICKER],'Weekly Metrics'!$A6,Weekly_Data_Raw[END_DATE],'Weekly Metrics'!GA$5), IF($B6=\"Avg Ticket\",SUMIFS(Weekly_Data_Raw[AVG_TICKET],Weekly_Data_Raw[TICKER],'Weekly Metrics'!$A6,Weekly_Data_Raw[END_DATE],'Weekly Metrics'!GA$5), IF($B6=\"EOP Subscribers\",SUMIFS(Weekly_Data_Raw[EOP_SUBSCRIBERS],Weekly_Data_Raw[TICKER],'Weekly Metrics'!$A6,Weekly_Data_Raw[END_DATE],'Weekly Metrics'!GA$5), IF($B6=\"Gross Adds\",SUMIFS(Weekly_Data_Raw[GROSS_ADDS],Weekly_Data_Raw[TICKER],'Weekly Metrics'!$A6,Weekly_Data_Raw[END_DATE],'Weekly Metrics'!GA$5), IF($B6=\"Churn\",SUMIFS(Weekly_Data_Raw[CHURNED_MEMBERS],Weekly_Data_Raw[TICKER],'Weekly Metrics'!$A6,Weekly_Data_Raw[END_DATE],'Weekly Metrics'!GA$5)))))))","v":42475},{"$f":"IF($B6=\"Panel Sales\", SUMIFS(Weekly_Data_Raw[PANEL_AMOUNT],Weekly_Data_Raw[TICKER],'Weekly Metrics'!$A6,Weekly_Data_Raw[END_DATE],'Weekly Metrics'!GB$5),IF($B6=\"Transactions\",SUMIFS(Weekly_Data_Raw[PANEL_TRANSACTIONS],Weekly_Data_Raw[TICKER],'Weekly Metrics'!$A6,Weekly_Data_Raw[END_DATE],'Weekly Metrics'!GB$5), IF($B6=\"Avg Ticket\",SUMIFS(Weekly_Data_Raw[AVG_TICKET],Weekly_Data_Raw[TICKER],'Weekly Metrics'!$A6,Weekly_Data_Raw[END_DATE],'Weekly Metrics'!GB$5), IF($B6=\"EOP Subscribers\",SUMIFS(Weekly_Data_Raw[EOP_SUBSCRIBERS],Weekly_Data_Raw[TICKER],'Weekly Metrics'!$A6,Weekly_Data_Raw[END_DATE],'Weekly Metrics'!GB$5), IF($B6=\"Gross Adds\",SUMIFS(Weekly_Data_Raw[GROSS_ADDS],Weekly_Data_Raw[TICKER],'Weekly Metrics'!$A6,Weekly_Data_Raw[END_DATE],'Weekly Metrics'!GB$5), IF($B6=\"Churn\",SUMIFS(Weekly_Data_Raw[CHURNED_MEMBERS],Weekly_Data_Raw[TICKER],'Weekly Metrics'!$A6,Weekly_Data_Raw[END_DATE],'Weekly Metrics'!GB$5)))))))","v":40888},{"$f":"IF($B6=\"Panel Sales\", SUMIFS(Weekly_Data_Raw[PANEL_AMOUNT],Weekly_Data_Raw[TICKER],'Weekly Metrics'!$A6,Weekly_Data_Raw[END_DATE],'Weekly Metrics'!GC$5),IF($B6=\"Transactions\",SUMIFS(Weekly_Data_Raw[PANEL_TRANSACTIONS],Weekly_Data_Raw[TICKER],'Weekly Metrics'!$A6,Weekly_Data_Raw[END_DATE],'Weekly Metrics'!GC$5), IF($B6=\"Avg Ticket\",SUMIFS(Weekly_Data_Raw[AVG_TICKET],Weekly_Data_Raw[TICKER],'Weekly Metrics'!$A6,Weekly_Data_Raw[END_DATE],'Weekly Metrics'!GC$5), IF($B6=\"EOP Subscribers\",SUMIFS(Weekly_Data_Raw[EOP_SUBSCRIBERS],Weekly_Data_Raw[TICKER],'Weekly Metrics'!$A6,Weekly_Data_Raw[END_DATE],'Weekly Metrics'!GC$5), IF($B6=\"Gross Adds\",SUMIFS(Weekly_Data_Raw[GROSS_ADDS],Weekly_Data_Raw[TICKER],'Weekly Metrics'!$A6,Weekly_Data_Raw[END_DATE],'Weekly Metrics'!GC$5), IF($B6=\"Churn\",SUMIFS(Weekly_Data_Raw[CHURNED_MEMBERS],Weekly_Data_Raw[TICKER],'Weekly Metrics'!$A6,Weekly_Data_Raw[END_DATE],'Weekly Metrics'!GC$5)))))))","v":40375},{"$f":"IF($B6=\"Panel Sales\", SUMIFS(Weekly_Data_Raw[PANEL_AMOUNT],Weekly_Data_Raw[TICKER],'Weekly Metrics'!$A6,Weekly_Data_Raw[END_DATE],'Weekly Metrics'!GD$5),IF($B6=\"Transactions\",SUMIFS(Weekly_Data_Raw[PANEL_TRANSACTIONS],Weekly_Data_Raw[TICKER],'Weekly Metrics'!$A6,Weekly_Data_Raw[END_DATE],'Weekly Metrics'!GD$5), IF($B6=\"Avg Ticket\",SUMIFS(Weekly_Data_Raw[AVG_TICKET],Weekly_Data_Raw[TICKER],'Weekly Metrics'!$A6,Weekly_Data_Raw[END_DATE],'Weekly Metrics'!GD$5), IF($B6=\"EOP Subscribers\",SUMIFS(Weekly_Data_Raw[EOP_SUBSCRIBERS],Weekly_Data_Raw[TICKER],'Weekly Metrics'!$A6,Weekly_Data_Raw[END_DATE],'Weekly Metrics'!GD$5), IF($B6=\"Gross Adds\",SUMIFS(Weekly_Data_Raw[GROSS_ADDS],Weekly_Data_Raw[TICKER],'Weekly Metrics'!$A6,Weekly_Data_Raw[END_DATE],'Weekly Metrics'!GD$5), IF($B6=\"Churn\",SUMIFS(Weekly_Data_Raw[CHURNED_MEMBERS],Weekly_Data_Raw[TICKER],'Weekly Metrics'!$A6,Weekly_Data_Raw[END_DATE],'Weekly Metrics'!GD$5)))))))","v":36715},{"$f":"IF($B6=\"Panel Sales\", SUMIFS(Weekly_Data_Raw[PANEL_AMOUNT],Weekly_Data_Raw[TICKER],'Weekly Metrics'!$A6,Weekly_Data_Raw[END_DATE],'Weekly Metrics'!GE$5),IF($B6=\"Transactions\",SUMIFS(Weekly_Data_Raw[PANEL_TRANSACTIONS],Weekly_Data_Raw[TICKER],'Weekly Metrics'!$A6,Weekly_Data_Raw[END_DATE],'Weekly Metrics'!GE$5), IF($B6=\"Avg Ticket\",SUMIFS(Weekly_Data_Raw[AVG_TICKET],Weekly_Data_Raw[TICKER],'Weekly Metrics'!$A6,Weekly_Data_Raw[END_DATE],'Weekly Metrics'!GE$5), IF($B6=\"EOP Subscribers\",SUMIFS(Weekly_Data_Raw[EOP_SUBSCRIBERS],Weekly_Data_Raw[TICKER],'Weekly Metrics'!$A6,Weekly_Data_Raw[END_DATE],'Weekly Metrics'!GE$5), IF($B6=\"Gross Adds\",SUMIFS(Weekly_Data_Raw[GROSS_ADDS],Weekly_Data_Raw[TICKER],'Weekly Metrics'!$A6,Weekly_Data_Raw[END_DATE],'Weekly Metrics'!GE$5), IF($B6=\"Churn\",SUMIFS(Weekly_Data_Raw[CHURNED_MEMBERS],Weekly_Data_Raw[TICKER],'Weekly Metrics'!$A6,Weekly_Data_Raw[END_DATE],'Weekly Metrics'!GE$5)))))))","v":42130},{"$f":"IF($B6=\"Panel Sales\", SUMIFS(Weekly_Data_Raw[PANEL_AMOUNT],Weekly_Data_Raw[TICKER],'Weekly Metrics'!$A6,Weekly_Data_Raw[END_DATE],'Weekly Metrics'!GF$5),IF($B6=\"Transactions\",SUMIFS(Weekly_Data_Raw[PANEL_TRANSACTIONS],Weekly_Data_Raw[TICKER],'Weekly Metrics'!$A6,Weekly_Data_Raw[END_DATE],'Weekly Metrics'!GF$5), IF($B6=\"Avg Ticket\",SUMIFS(Weekly_Data_Raw[AVG_TICKET],Weekly_Data_Raw[TICKER],'Weekly Metrics'!$A6,Weekly_Data_Raw[END_DATE],'Weekly Metrics'!GF$5), IF($B6=\"EOP Subscribers\",SUMIFS(Weekly_Data_Raw[EOP_SUBSCRIBERS],Weekly_Data_Raw[TICKER],'Weekly Metrics'!$A6,Weekly_Data_Raw[END_DATE],'Weekly Metrics'!GF$5), IF($B6=\"Gross Adds\",SUMIFS(Weekly_Data_Raw[GROSS_ADDS],Weekly_Data_Raw[TICKER],'Weekly Metrics'!$A6,Weekly_Data_Raw[END_DATE],'Weekly Metrics'!GF$5), IF($B6=\"Churn\",SUMIFS(Weekly_Data_Raw[CHURNED_MEMBERS],Weekly_Data_Raw[TICKER],'Weekly Metrics'!$A6,Weekly_Data_Raw[END_DATE],'Weekly Metrics'!GF$5)))))))","v":41542},{"$f":"IF($B6=\"Panel Sales\", SUMIFS(Weekly_Data_Raw[PANEL_AMOUNT],Weekly_Data_Raw[TICKER],'Weekly Metrics'!$A6,Weekly_Data_Raw[END_DATE],'Weekly Metrics'!GG$5),IF($B6=\"Transactions\",SUMIFS(Weekly_Data_Raw[PANEL_TRANSACTIONS],Weekly_Data_Raw[TICKER],'Weekly Metrics'!$A6,Weekly_Data_Raw[END_DATE],'Weekly Metrics'!GG$5), IF($B6=\"Avg Ticket\",SUMIFS(Weekly_Data_Raw[AVG_TICKET],Weekly_Data_Raw[TICKER],'Weekly Metrics'!$A6,Weekly_Data_Raw[END_DATE],'Weekly Metrics'!GG$5), IF($B6=\"EOP Subscribers\",SUMIFS(Weekly_Data_Raw[EOP_SUBSCRIBERS],Weekly_Data_Raw[TICKER],'Weekly Metrics'!$A6,Weekly_Data_Raw[END_DATE],'Weekly Metrics'!GG$5), IF($B6=\"Gross Adds\",SUMIFS(Weekly_Data_Raw[GROSS_ADDS],Weekly_Data_Raw[TICKER],'Weekly Metrics'!$A6,Weekly_Data_Raw[END_DATE],'Weekly Metrics'!GG$5), IF($B6=\"Churn\",SUMIFS(Weekly_Data_Raw[CHURNED_MEMBERS],Weekly_Data_Raw[TICKER],'Weekly Metrics'!$A6,Weekly_Data_Raw[END_DATE],'Weekly Metrics'!GG$5)))))))","v":41335},{"$f":"IF($B6=\"Panel Sales\", SUMIFS(Weekly_Data_Raw[PANEL_AMOUNT],Weekly_Data_Raw[TICKER],'Weekly Metrics'!$A6,Weekly_Data_Raw[END_DATE],'Weekly Metrics'!GH$5),IF($B6=\"Transactions\",SUMIFS(Weekly_Data_Raw[PANEL_TRANSACTIONS],Weekly_Data_Raw[TICKER],'Weekly Metrics'!$A6,Weekly_Data_Raw[END_DATE],'Weekly Metrics'!GH$5), IF($B6=\"Avg Ticket\",SUMIFS(Weekly_Data_Raw[AVG_TICKET],Weekly_Data_Raw[TICKER],'Weekly Metrics'!$A6,Weekly_Data_Raw[END_DATE],'Weekly Metrics'!GH$5), IF($B6=\"EOP Subscribers\",SUMIFS(Weekly_Data_Raw[EOP_SUBSCRIBERS],Weekly_Data_Raw[TICKER],'Weekly Metrics'!$A6,Weekly_Data_Raw[END_DATE],'Weekly Metrics'!GH$5), IF($B6=\"Gross Adds\",SUMIFS(Weekly_Data_Raw[GROSS_ADDS],Weekly_Data_Raw[TICKER],'Weekly Metrics'!$A6,Weekly_Data_Raw[END_DATE],'Weekly Metrics'!GH$5), IF($B6=\"Churn\",SUMIFS(Weekly_Data_Raw[CHURNED_MEMBERS],Weekly_Data_Raw[TICKER],'Weekly Metrics'!$A6,Weekly_Data_Raw[END_DATE],'Weekly Metrics'!GH$5)))))))","v":41723},{"$f":"IF($B6=\"Panel Sales\", SUMIFS(Weekly_Data_Raw[PANEL_AMOUNT],Weekly_Data_Raw[TICKER],'Weekly Metrics'!$A6,Weekly_Data_Raw[END_DATE],'Weekly Metrics'!GI$5),IF($B6=\"Transactions\",SUMIFS(Weekly_Data_Raw[PANEL_TRANSACTIONS],Weekly_Data_Raw[TICKER],'Weekly Metrics'!$A6,Weekly_Data_Raw[END_DATE],'Weekly Metrics'!GI$5), IF($B6=\"Avg Ticket\",SUMIFS(Weekly_Data_Raw[AVG_TICKET],Weekly_Data_Raw[TICKER],'Weekly Metrics'!$A6,Weekly_Data_Raw[END_DATE],'Weekly Metrics'!GI$5), IF($B6=\"EOP Subscribers\",SUMIFS(Weekly_Data_Raw[EOP_SUBSCRIBERS],Weekly_Data_Raw[TICKER],'Weekly Metrics'!$A6,Weekly_Data_Raw[END_DATE],'Weekly Metrics'!GI$5), IF($B6=\"Gross Adds\",SUMIFS(Weekly_Data_Raw[GROSS_ADDS],Weekly_Data_Raw[TICKER],'Weekly Metrics'!$A6,Weekly_Data_Raw[END_DATE],'Weekly Metrics'!GI$5), IF($B6=\"Churn\",SUMIFS(Weekly_Data_Raw[CHURNED_MEMBERS],Weekly_Data_Raw[TICKER],'Weekly Metrics'!$A6,Weekly_Data_Raw[END_DATE],'Weekly Metrics'!GI$5)))))))","v":41205},{"$f":"IF($B6=\"Panel Sales\", SUMIFS(Weekly_Data_Raw[PANEL_AMOUNT],Weekly_Data_Raw[TICKER],'Weekly Metrics'!$A6,Weekly_Data_Raw[END_DATE],'Weekly Metrics'!GJ$5),IF($B6=\"Transactions\",SUMIFS(Weekly_Data_Raw[PANEL_TRANSACTIONS],Weekly_Data_Raw[TICKER],'Weekly Metrics'!$A6,Weekly_Data_Raw[END_DATE],'Weekly Metrics'!GJ$5), IF($B6=\"Avg Ticket\",SUMIFS(Weekly_Data_Raw[AVG_TICKET],Weekly_Data_Raw[TICKER],'Weekly Metrics'!$A6,Weekly_Data_Raw[END_DATE],'Weekly Metrics'!GJ$5), IF($B6=\"EOP Subscribers\",SUMIFS(Weekly_Data_Raw[EOP_SUBSCRIBERS],Weekly_Data_Raw[TICKER],'Weekly Metrics'!$A6,Weekly_Data_Raw[END_DATE],'Weekly Metrics'!GJ$5), IF($B6=\"Gross Adds\",SUMIFS(Weekly_Data_Raw[GROSS_ADDS],Weekly_Data_Raw[TICKER],'Weekly Metrics'!$A6,Weekly_Data_Raw[END_DATE],'Weekly Metrics'!GJ$5), IF($B6=\"Churn\",SUMIFS(Weekly_Data_Raw[CHURNED_MEMBERS],Weekly_Data_Raw[TICKER],'Weekly Metrics'!$A6,Weekly_Data_Raw[END_DATE],'Weekly Metrics'!GJ$5)))))))","v":41839},{"$f":"IF($B6=\"Panel Sales\", SUMIFS(Weekly_Data_Raw[PANEL_AMOUNT],Weekly_Data_Raw[TICKER],'Weekly Metrics'!$A6,Weekly_Data_Raw[END_DATE],'Weekly Metrics'!GK$5),IF($B6=\"Transactions\",SUMIFS(Weekly_Data_Raw[PANEL_TRANSACTIONS],Weekly_Data_Raw[TICKER],'Weekly Metrics'!$A6,Weekly_Data_Raw[END_DATE],'Weekly Metrics'!GK$5), IF($B6=\"Avg Ticket\",SUMIFS(Weekly_Data_Raw[AVG_TICKET],Weekly_Data_Raw[TICKER],'Weekly Metrics'!$A6,Weekly_Data_Raw[END_DATE],'Weekly Metrics'!GK$5), IF($B6=\"EOP Subscribers\",SUMIFS(Weekly_Data_Raw[EOP_SUBSCRIBERS],Weekly_Data_Raw[TICKER],'Weekly Metrics'!$A6,Weekly_Data_Raw[END_DATE],'Weekly Metrics'!GK$5), IF($B6=\"Gross Adds\",SUMIFS(Weekly_Data_Raw[GROSS_ADDS],Weekly_Data_Raw[TICKER],'Weekly Metrics'!$A6,Weekly_Data_Raw[END_DATE],'Weekly Metrics'!GK$5), IF($B6=\"Churn\",SUMIFS(Weekly_Data_Raw[CHURNED_MEMBERS],Weekly_Data_Raw[TICKER],'Weekly Metrics'!$A6,Weekly_Data_Raw[END_DATE],'Weekly Metrics'!GK$5)))))))","v":41573},{"$f":"IF($B6=\"Panel Sales\", SUMIFS(Weekly_Data_Raw[PANEL_AMOUNT],Weekly_Data_Raw[TICKER],'Weekly Metrics'!$A6,Weekly_Data_Raw[END_DATE],'Weekly Metrics'!GL$5),IF($B6=\"Transactions\",SUMIFS(Weekly_Data_Raw[PANEL_TRANSACTIONS],Weekly_Data_Raw[TICKER],'Weekly Metrics'!$A6,Weekly_Data_Raw[END_DATE],'Weekly Metrics'!GL$5), IF($B6=\"Avg Ticket\",SUMIFS(Weekly_Data_Raw[AVG_TICKET],Weekly_Data_Raw[TICKER],'Weekly Metrics'!$A6,Weekly_Data_Raw[END_DATE],'Weekly Metrics'!GL$5), IF($B6=\"EOP Subscribers\",SUMIFS(Weekly_Data_Raw[EOP_SUBSCRIBERS],Weekly_Data_Raw[TICKER],'Weekly Metrics'!$A6,Weekly_Data_Raw[END_DATE],'Weekly Metrics'!GL$5), IF($B6=\"Gross Adds\",SUMIFS(Weekly_Data_Raw[GROSS_ADDS],Weekly_Data_Raw[TICKER],'Weekly Metrics'!$A6,Weekly_Data_Raw[END_DATE],'Weekly Metrics'!GL$5), IF($B6=\"Churn\",SUMIFS(Weekly_Data_Raw[CHURNED_MEMBERS],Weekly_Data_Raw[TICKER],'Weekly Metrics'!$A6,Weekly_Data_Raw[END_DATE],'Weekly Metrics'!GL$5)))))))","v":41436},{"$f":"IF($B6=\"Panel Sales\", SUMIFS(Weekly_Data_Raw[PANEL_AMOUNT],Weekly_Data_Raw[TICKER],'Weekly Metrics'!$A6,Weekly_Data_Raw[END_DATE],'Weekly Metrics'!GM$5),IF($B6=\"Transactions\",SUMIFS(Weekly_Data_Raw[PANEL_TRANSACTIONS],Weekly_Data_Raw[TICKER],'Weekly Metrics'!$A6,Weekly_Data_Raw[END_DATE],'Weekly Metrics'!GM$5), IF($B6=\"Avg Ticket\",SUMIFS(Weekly_Data_Raw[AVG_TICKET],Weekly_Data_Raw[TICKER],'Weekly Metrics'!$A6,Weekly_Data_Raw[END_DATE],'Weekly Metrics'!GM$5), IF($B6=\"EOP Subscribers\",SUMIFS(Weekly_Data_Raw[EOP_SUBSCRIBERS],Weekly_Data_Raw[TICKER],'Weekly Metrics'!$A6,Weekly_Data_Raw[END_DATE],'Weekly Metrics'!GM$5), IF($B6=\"Gross Adds\",SUMIFS(Weekly_Data_Raw[GROSS_ADDS],Weekly_Data_Raw[TICKER],'Weekly Metrics'!$A6,Weekly_Data_Raw[END_DATE],'Weekly Metrics'!GM$5), IF($B6=\"Churn\",SUMIFS(Weekly_Data_Raw[CHURNED_MEMBERS],Weekly_Data_Raw[TICKER],'Weekly Metrics'!$A6,Weekly_Data_Raw[END_DATE],'Weekly Metrics'!GM$5)))))))","v":39475},{"$f":"IF($B6=\"Panel Sales\", SUMIFS(Weekly_Data_Raw[PANEL_AMOUNT],Weekly_Data_Raw[TICKER],'Weekly Metrics'!$A6,Weekly_Data_Raw[END_DATE],'Weekly Metrics'!GN$5),IF($B6=\"Transactions\",SUMIFS(Weekly_Data_Raw[PANEL_TRANSACTIONS],Weekly_Data_Raw[TICKER],'Weekly Metrics'!$A6,Weekly_Data_Raw[END_DATE],'Weekly Metrics'!GN$5), IF($B6=\"Avg Ticket\",SUMIFS(Weekly_Data_Raw[AVG_TICKET],Weekly_Data_Raw[TICKER],'Weekly Metrics'!$A6,Weekly_Data_Raw[END_DATE],'Weekly Metrics'!GN$5), IF($B6=\"EOP Subscribers\",SUMIFS(Weekly_Data_Raw[EOP_SUBSCRIBERS],Weekly_Data_Raw[TICKER],'Weekly Metrics'!$A6,Weekly_Data_Raw[END_DATE],'Weekly Metrics'!GN$5), IF($B6=\"Gross Adds\",SUMIFS(Weekly_Data_Raw[GROSS_ADDS],Weekly_Data_Raw[TICKER],'Weekly Metrics'!$A6,Weekly_Data_Raw[END_DATE],'Weekly Metrics'!GN$5), IF($B6=\"Churn\",SUMIFS(Weekly_Data_Raw[CHURNED_MEMBERS],Weekly_Data_Raw[TICKER],'Weekly Metrics'!$A6,Weekly_Data_Raw[END_DATE],'Weekly Metrics'!GN$5)))))))","v":40935},{"$f":"IF($B6=\"Panel Sales\", SUMIFS(Weekly_Data_Raw[PANEL_AMOUNT],Weekly_Data_Raw[TICKER],'Weekly Metrics'!$A6,Weekly_Data_Raw[END_DATE],'Weekly Metrics'!GO$5),IF($B6=\"Transactions\",SUMIFS(Weekly_Data_Raw[PANEL_TRANSACTIONS],Weekly_Data_Raw[TICKER],'Weekly Metrics'!$A6,Weekly_Data_Raw[END_DATE],'Weekly Metrics'!GO$5), IF($B6=\"Avg Ticket\",SUMIFS(Weekly_Data_Raw[AVG_TICKET],Weekly_Data_Raw[TICKER],'Weekly Metrics'!$A6,Weekly_Data_Raw[END_DATE],'Weekly Metrics'!GO$5), IF($B6=\"EOP Subscribers\",SUMIFS(Weekly_Data_Raw[EOP_SUBSCRIBERS],Weekly_Data_Raw[TICKER],'Weekly Metrics'!$A6,Weekly_Data_Raw[END_DATE],'Weekly Metrics'!GO$5), IF($B6=\"Gross Adds\",SUMIFS(Weekly_Data_Raw[GROSS_ADDS],Weekly_Data_Raw[TICKER],'Weekly Metrics'!$A6,Weekly_Data_Raw[END_DATE],'Weekly Metrics'!GO$5), IF($B6=\"Churn\",SUMIFS(Weekly_Data_Raw[CHURNED_MEMBERS],Weekly_Data_Raw[TICKER],'Weekly Metrics'!$A6,Weekly_Data_Raw[END_DATE],'Weekly Metrics'!GO$5)))))))","v":41699},{"$f":"IF($B6=\"Panel Sales\", SUMIFS(Weekly_Data_Raw[PANEL_AMOUNT],Weekly_Data_Raw[TICKER],'Weekly Metrics'!$A6,Weekly_Data_Raw[END_DATE],'Weekly Metrics'!GP$5),IF($B6=\"Transactions\",SUMIFS(Weekly_Data_Raw[PANEL_TRANSACTIONS],Weekly_Data_Raw[TICKER],'Weekly Metrics'!$A6,Weekly_Data_Raw[END_DATE],'Weekly Metrics'!GP$5), IF($B6=\"Avg Ticket\",SUMIFS(Weekly_Data_Raw[AVG_TICKET],Weekly_Data_Raw[TICKER],'Weekly Metrics'!$A6,Weekly_Data_Raw[END_DATE],'Weekly Metrics'!GP$5), IF($B6=\"EOP Subscribers\",SUMIFS(Weekly_Data_Raw[EOP_SUBSCRIBERS],Weekly_Data_Raw[TICKER],'Weekly Metrics'!$A6,Weekly_Data_Raw[END_DATE],'Weekly Metrics'!GP$5), IF($B6=\"Gross Adds\",SUMIFS(Weekly_Data_Raw[GROSS_ADDS],Weekly_Data_Raw[TICKER],'Weekly Metrics'!$A6,Weekly_Data_Raw[END_DATE],'Weekly Metrics'!GP$5), IF($B6=\"Churn\",SUMIFS(Weekly_Data_Raw[CHURNED_MEMBERS],Weekly_Data_Raw[TICKER],'Weekly Metrics'!$A6,Weekly_Data_Raw[END_DATE],'Weekly Metrics'!GP$5)))))))","v":40329},{"$f":"IF($B6=\"Panel Sales\", SUMIFS(Weekly_Data_Raw[PANEL_AMOUNT],Weekly_Data_Raw[TICKER],'Weekly Metrics'!$A6,Weekly_Data_Raw[END_DATE],'Weekly Metrics'!GQ$5),IF($B6=\"Transactions\",SUMIFS(Weekly_Data_Raw[PANEL_TRANSACTIONS],Weekly_Data_Raw[TICKER],'Weekly Metrics'!$A6,Weekly_Data_Raw[END_DATE],'Weekly Metrics'!GQ$5), IF($B6=\"Avg Ticket\",SUMIFS(Weekly_Data_Raw[AVG_TICKET],Weekly_Data_Raw[TICKER],'Weekly Metrics'!$A6,Weekly_Data_Raw[END_DATE],'Weekly Metrics'!GQ$5), IF($B6=\"EOP Subscribers\",SUMIFS(Weekly_Data_Raw[EOP_SUBSCRIBERS],Weekly_Data_Raw[TICKER],'Weekly Metrics'!$A6,Weekly_Data_Raw[END_DATE],'Weekly Metrics'!GQ$5), IF($B6=\"Gross Adds\",SUMIFS(Weekly_Data_Raw[GROSS_ADDS],Weekly_Data_Raw[TICKER],'Weekly Metrics'!$A6,Weekly_Data_Raw[END_DATE],'Weekly Metrics'!GQ$5), IF($B6=\"Churn\",SUMIFS(Weekly_Data_Raw[CHURNED_MEMBERS],Weekly_Data_Raw[TICKER],'Weekly Metrics'!$A6,Weekly_Data_Raw[END_DATE],'Weekly Metrics'!GQ$5)))))))","v":40838},{"$f":"IF($B6=\"Panel Sales\", SUMIFS(Weekly_Data_Raw[PANEL_AMOUNT],Weekly_Data_Raw[TICKER],'Weekly Metrics'!$A6,Weekly_Data_Raw[END_DATE],'Weekly Metrics'!GR$5),IF($B6=\"Transactions\",SUMIFS(Weekly_Data_Raw[PANEL_TRANSACTIONS],Weekly_Data_Raw[TICKER],'Weekly Metrics'!$A6,Weekly_Data_Raw[END_DATE],'Weekly Metrics'!GR$5), IF($B6=\"Avg Ticket\",SUMIFS(Weekly_Data_Raw[AVG_TICKET],Weekly_Data_Raw[TICKER],'Weekly Metrics'!$A6,Weekly_Data_Raw[END_DATE],'Weekly Metrics'!GR$5), IF($B6=\"EOP Subscribers\",SUMIFS(Weekly_Data_Raw[EOP_SUBSCRIBERS],Weekly_Data_Raw[TICKER],'Weekly Metrics'!$A6,Weekly_Data_Raw[END_DATE],'Weekly Metrics'!GR$5), IF($B6=\"Gross Adds\",SUMIFS(Weekly_Data_Raw[GROSS_ADDS],Weekly_Data_Raw[TICKER],'Weekly Metrics'!$A6,Weekly_Data_Raw[END_DATE],'Weekly Metrics'!GR$5), IF($B6=\"Churn\",SUMIFS(Weekly_Data_Raw[CHURNED_MEMBERS],Weekly_Data_Raw[TICKER],'Weekly Metrics'!$A6,Weekly_Data_Raw[END_DATE],'Weekly Metrics'!GR$5)))))))","v":40768},{"$f":"IF($B6=\"Panel Sales\", SUMIFS(Weekly_Data_Raw[PANEL_AMOUNT],Weekly_Data_Raw[TICKER],'Weekly Metrics'!$A6,Weekly_Data_Raw[END_DATE],'Weekly Metrics'!GS$5),IF($B6=\"Transactions\",SUMIFS(Weekly_Data_Raw[PANEL_TRANSACTIONS],Weekly_Data_Raw[TICKER],'Weekly Metrics'!$A6,Weekly_Data_Raw[END_DATE],'Weekly Metrics'!GS$5), IF($B6=\"Avg Ticket\",SUMIFS(Weekly_Data_Raw[AVG_TICKET],Weekly_Data_Raw[TICKER],'Weekly Metrics'!$A6,Weekly_Data_Raw[END_DATE],'Weekly Metrics'!GS$5), IF($B6=\"EOP Subscribers\",SUMIFS(Weekly_Data_Raw[EOP_SUBSCRIBERS],Weekly_Data_Raw[TICKER],'Weekly Metrics'!$A6,Weekly_Data_Raw[END_DATE],'Weekly Metrics'!GS$5), IF($B6=\"Gross Adds\",SUMIFS(Weekly_Data_Raw[GROSS_ADDS],Weekly_Data_Raw[TICKER],'Weekly Metrics'!$A6,Weekly_Data_Raw[END_DATE],'Weekly Metrics'!GS$5), IF($B6=\"Churn\",SUMIFS(Weekly_Data_Raw[CHURNED_MEMBERS],Weekly_Data_Raw[TICKER],'Weekly Metrics'!$A6,Weekly_Data_Raw[END_DATE],'Weekly Metrics'!GS$5)))))))","v":39812},{"$f":"IF($B6=\"Panel Sales\", SUMIFS(Weekly_Data_Raw[PANEL_AMOUNT],Weekly_Data_Raw[TICKER],'Weekly Metrics'!$A6,Weekly_Data_Raw[END_DATE],'Weekly Metrics'!GT$5),IF($B6=\"Transactions\",SUMIFS(Weekly_Data_Raw[PANEL_TRANSACTIONS],Weekly_Data_Raw[TICKER],'Weekly Metrics'!$A6,Weekly_Data_Raw[END_DATE],'Weekly Metrics'!GT$5), IF($B6=\"Avg Ticket\",SUMIFS(Weekly_Data_Raw[AVG_TICKET],Weekly_Data_Raw[TICKER],'Weekly Metrics'!$A6,Weekly_Data_Raw[END_DATE],'Weekly Metrics'!GT$5), IF($B6=\"EOP Subscribers\",SUMIFS(Weekly_Data_Raw[EOP_SUBSCRIBERS],Weekly_Data_Raw[TICKER],'Weekly Metrics'!$A6,Weekly_Data_Raw[END_DATE],'Weekly Metrics'!GT$5), IF($B6=\"Gross Adds\",SUMIFS(Weekly_Data_Raw[GROSS_ADDS],Weekly_Data_Raw[TICKER],'Weekly Metrics'!$A6,Weekly_Data_Raw[END_DATE],'Weekly Metrics'!GT$5), IF($B6=\"Churn\",SUMIFS(Weekly_Data_Raw[CHURNED_MEMBERS],Weekly_Data_Raw[TICKER],'Weekly Metrics'!$A6,Weekly_Data_Raw[END_DATE],'Weekly Metrics'!GT$5)))))))","v":40669},{"$f":"IF($B6=\"Panel Sales\", SUMIFS(Weekly_Data_Raw[PANEL_AMOUNT],Weekly_Data_Raw[TICKER],'Weekly Metrics'!$A6,Weekly_Data_Raw[END_DATE],'Weekly Metrics'!GU$5),IF($B6=\"Transactions\",SUMIFS(Weekly_Data_Raw[PANEL_TRANSACTIONS],Weekly_Data_Raw[TICKER],'Weekly Metrics'!$A6,Weekly_Data_Raw[END_DATE],'Weekly Metrics'!GU$5), IF($B6=\"Avg Ticket\",SUMIFS(Weekly_Data_Raw[AVG_TICKET],Weekly_Data_Raw[TICKER],'Weekly Metrics'!$A6,Weekly_Data_Raw[END_DATE],'Weekly Metrics'!GU$5), IF($B6=\"EOP Subscribers\",SUMIFS(Weekly_Data_Raw[EOP_SUBSCRIBERS],Weekly_Data_Raw[TICKER],'Weekly Metrics'!$A6,Weekly_Data_Raw[END_DATE],'Weekly Metrics'!GU$5), IF($B6=\"Gross Adds\",SUMIFS(Weekly_Data_Raw[GROSS_ADDS],Weekly_Data_Raw[TICKER],'Weekly Metrics'!$A6,Weekly_Data_Raw[END_DATE],'Weekly Metrics'!GU$5), IF($B6=\"Churn\",SUMIFS(Weekly_Data_Raw[CHURNED_MEMBERS],Weekly_Data_Raw[TICKER],'Weekly Metrics'!$A6,Weekly_Data_Raw[END_DATE],'Weekly Metrics'!GU$5)))))))","v":41181},{"$f":"IF($B6=\"Panel Sales\", SUMIFS(Weekly_Data_Raw[PANEL_AMOUNT],Weekly_Data_Raw[TICKER],'Weekly Metrics'!$A6,Weekly_Data_Raw[END_DATE],'Weekly Metrics'!GV$5),IF($B6=\"Transactions\",SUMIFS(Weekly_Data_Raw[PANEL_TRANSACTIONS],Weekly_Data_Raw[TICKER],'Weekly Metrics'!$A6,Weekly_Data_Raw[END_DATE],'Weekly Metrics'!GV$5), IF($B6=\"Avg Ticket\",SUMIFS(Weekly_Data_Raw[AVG_TICKET],Weekly_Data_Raw[TICKER],'Weekly Metrics'!$A6,Weekly_Data_Raw[END_DATE],'Weekly Metrics'!GV$5), IF($B6=\"EOP Subscribers\",SUMIFS(Weekly_Data_Raw[EOP_SUBSCRIBERS],Weekly_Data_Raw[TICKER],'Weekly Metrics'!$A6,Weekly_Data_Raw[END_DATE],'Weekly Metrics'!GV$5), IF($B6=\"Gross Adds\",SUMIFS(Weekly_Data_Raw[GROSS_ADDS],Weekly_Data_Raw[TICKER],'Weekly Metrics'!$A6,Weekly_Data_Raw[END_DATE],'Weekly Metrics'!GV$5), IF($B6=\"Churn\",SUMIFS(Weekly_Data_Raw[CHURNED_MEMBERS],Weekly_Data_Raw[TICKER],'Weekly Metrics'!$A6,Weekly_Data_Raw[END_DATE],'Weekly Metrics'!GV$5)))))))","v":40632},{"$f":"IF($B6=\"Panel Sales\", SUMIFS(Weekly_Data_Raw[PANEL_AMOUNT],Weekly_Data_Raw[TICKER],'Weekly Metrics'!$A6,Weekly_Data_Raw[END_DATE],'Weekly Metrics'!GW$5),IF($B6=\"Transactions\",SUMIFS(Weekly_Data_Raw[PANEL_TRANSACTIONS],Weekly_Data_Raw[TICKER],'Weekly Metrics'!$A6,Weekly_Data_Raw[END_DATE],'Weekly Metrics'!GW$5), IF($B6=\"Avg Ticket\",SUMIFS(Weekly_Data_Raw[AVG_TICKET],Weekly_Data_Raw[TICKER],'Weekly Metrics'!$A6,Weekly_Data_Raw[END_DATE],'Weekly Metrics'!GW$5), IF($B6=\"EOP Subscribers\",SUMIFS(Weekly_Data_Raw[EOP_SUBSCRIBERS],Weekly_Data_Raw[TICKER],'Weekly Metrics'!$A6,Weekly_Data_Raw[END_DATE],'Weekly Metrics'!GW$5), IF($B6=\"Gross Adds\",SUMIFS(Weekly_Data_Raw[GROSS_ADDS],Weekly_Data_Raw[TICKER],'Weekly Metrics'!$A6,Weekly_Data_Raw[END_DATE],'Weekly Metrics'!GW$5), IF($B6=\"Churn\",SUMIFS(Weekly_Data_Raw[CHURNED_MEMBERS],Weekly_Data_Raw[TICKER],'Weekly Metrics'!$A6,Weekly_Data_Raw[END_DATE],'Weekly Metrics'!GW$5)))))))","v":38930},{"$f":"IF($B6=\"Panel Sales\", SUMIFS(Weekly_Data_Raw[PANEL_AMOUNT],Weekly_Data_Raw[TICKER],'Weekly Metrics'!$A6,Weekly_Data_Raw[END_DATE],'Weekly Metrics'!GX$5),IF($B6=\"Transactions\",SUMIFS(Weekly_Data_Raw[PANEL_TRANSACTIONS],Weekly_Data_Raw[TICKER],'Weekly Metrics'!$A6,Weekly_Data_Raw[END_DATE],'Weekly Metrics'!GX$5), IF($B6=\"Avg Ticket\",SUMIFS(Weekly_Data_Raw[AVG_TICKET],Weekly_Data_Raw[TICKER],'Weekly Metrics'!$A6,Weekly_Data_Raw[END_DATE],'Weekly Metrics'!GX$5), IF($B6=\"EOP Subscribers\",SUMIFS(Weekly_Data_Raw[EOP_SUBSCRIBERS],Weekly_Data_Raw[TICKER],'Weekly Metrics'!$A6,Weekly_Data_Raw[END_DATE],'Weekly Metrics'!GX$5), IF($B6=\"Gross Adds\",SUMIFS(Weekly_Data_Raw[GROSS_ADDS],Weekly_Data_Raw[TICKER],'Weekly Metrics'!$A6,Weekly_Data_Raw[END_DATE],'Weekly Metrics'!GX$5), IF($B6=\"Churn\",SUMIFS(Weekly_Data_Raw[CHURNED_MEMBERS],Weekly_Data_Raw[TICKER],'Weekly Metrics'!$A6,Weekly_Data_Raw[END_DATE],'Weekly Metrics'!GX$5)))))))","v":31980},{"$f":"IF($B6=\"Panel Sales\", SUMIFS(Weekly_Data_Raw[PANEL_AMOUNT],Weekly_Data_Raw[TICKER],'Weekly Metrics'!$A6,Weekly_Data_Raw[END_DATE],'Weekly Metrics'!GY$5),IF($B6=\"Transactions\",SUMIFS(Weekly_Data_Raw[PANEL_TRANSACTIONS],Weekly_Data_Raw[TICKER],'Weekly Metrics'!$A6,Weekly_Data_Raw[END_DATE],'Weekly Metrics'!GY$5), IF($B6=\"Avg Ticket\",SUMIFS(Weekly_Data_Raw[AVG_TICKET],Weekly_Data_Raw[TICKER],'Weekly Metrics'!$A6,Weekly_Data_Raw[END_DATE],'Weekly Metrics'!GY$5), IF($B6=\"EOP Subscribers\",SUMIFS(Weekly_Data_Raw[EOP_SUBSCRIBERS],Weekly_Data_Raw[TICKER],'Weekly Metrics'!$A6,Weekly_Data_Raw[END_DATE],'Weekly Metrics'!GY$5), IF($B6=\"Gross Adds\",SUMIFS(Weekly_Data_Raw[GROSS_ADDS],Weekly_Data_Raw[TICKER],'Weekly Metrics'!$A6,Weekly_Data_Raw[END_DATE],'Weekly Metrics'!GY$5), IF($B6=\"Churn\",SUMIFS(Weekly_Data_Raw[CHURNED_MEMBERS],Weekly_Data_Raw[TICKER],'Weekly Metrics'!$A6,Weekly_Data_Raw[END_DATE],'Weekly Metrics'!GY$5)))))))","v":39290},{"$f":"IF($B6=\"Panel Sales\", SUMIFS(Weekly_Data_Raw[PANEL_AMOUNT],Weekly_Data_Raw[TICKER],'Weekly Metrics'!$A6,Weekly_Data_Raw[END_DATE],'Weekly Metrics'!GZ$5),IF($B6=\"Transactions\",SUMIFS(Weekly_Data_Raw[PANEL_TRANSACTIONS],Weekly_Data_Raw[TICKER],'Weekly Metrics'!$A6,Weekly_Data_Raw[END_DATE],'Weekly Metrics'!GZ$5), IF($B6=\"Avg Ticket\",SUMIFS(Weekly_Data_Raw[AVG_TICKET],Weekly_Data_Raw[TICKER],'Weekly Metrics'!$A6,Weekly_Data_Raw[END_DATE],'Weekly Metrics'!GZ$5), IF($B6=\"EOP Subscribers\",SUMIFS(Weekly_Data_Raw[EOP_SUBSCRIBERS],Weekly_Data_Raw[TICKER],'Weekly Metrics'!$A6,Weekly_Data_Raw[END_DATE],'Weekly Metrics'!GZ$5), IF($B6=\"Gross Adds\",SUMIFS(Weekly_Data_Raw[GROSS_ADDS],Weekly_Data_Raw[TICKER],'Weekly Metrics'!$A6,Weekly_Data_Raw[END_DATE],'Weekly Metrics'!GZ$5), IF($B6=\"Churn\",SUMIFS(Weekly_Data_Raw[CHURNED_MEMBERS],Weekly_Data_Raw[TICKER],'Weekly Metrics'!$A6,Weekly_Data_Raw[END_DATE],'Weekly Metrics'!GZ$5)))))))","v":40826},{"$f":"IF($B6=\"Panel Sales\", SUMIFS(Weekly_Data_Raw[PANEL_AMOUNT],Weekly_Data_Raw[TICKER],'Weekly Metrics'!$A6,Weekly_Data_Raw[END_DATE],'Weekly Metrics'!HA$5),IF($B6=\"Transactions\",SUMIFS(Weekly_Data_Raw[PANEL_TRANSACTIONS],Weekly_Data_Raw[TICKER],'Weekly Metrics'!$A6,Weekly_Data_Raw[END_DATE],'Weekly Metrics'!HA$5), IF($B6=\"Avg Ticket\",SUMIFS(Weekly_Data_Raw[AVG_TICKET],Weekly_Data_Raw[TICKER],'Weekly Metrics'!$A6,Weekly_Data_Raw[END_DATE],'Weekly Metrics'!HA$5), IF($B6=\"EOP Subscribers\",SUMIFS(Weekly_Data_Raw[EOP_SUBSCRIBERS],Weekly_Data_Raw[TICKER],'Weekly Metrics'!$A6,Weekly_Data_Raw[END_DATE],'Weekly Metrics'!HA$5), IF($B6=\"Gross Adds\",SUMIFS(Weekly_Data_Raw[GROSS_ADDS],Weekly_Data_Raw[TICKER],'Weekly Metrics'!$A6,Weekly_Data_Raw[END_DATE],'Weekly Metrics'!HA$5), IF($B6=\"Churn\",SUMIFS(Weekly_Data_Raw[CHURNED_MEMBERS],Weekly_Data_Raw[TICKER],'Weekly Metrics'!$A6,Weekly_Data_Raw[END_DATE],'Weekly Metrics'!HA$5)))))))","v":40552},{"$f":"IF($B6=\"Panel Sales\", SUMIFS(Weekly_Data_Raw[PANEL_AMOUNT],Weekly_Data_Raw[TICKER],'Weekly Metrics'!$A6,Weekly_Data_Raw[END_DATE],'Weekly Metrics'!HB$5),IF($B6=\"Transactions\",SUMIFS(Weekly_Data_Raw[PANEL_TRANSACTIONS],Weekly_Data_Raw[TICKER],'Weekly Metrics'!$A6,Weekly_Data_Raw[END_DATE],'Weekly Metrics'!HB$5), IF($B6=\"Avg Ticket\",SUMIFS(Weekly_Data_Raw[AVG_TICKET],Weekly_Data_Raw[TICKER],'Weekly Metrics'!$A6,Weekly_Data_Raw[END_DATE],'Weekly Metrics'!HB$5), IF($B6=\"EOP Subscribers\",SUMIFS(Weekly_Data_Raw[EOP_SUBSCRIBERS],Weekly_Data_Raw[TICKER],'Weekly Metrics'!$A6,Weekly_Data_Raw[END_DATE],'Weekly Metrics'!HB$5), IF($B6=\"Gross Adds\",SUMIFS(Weekly_Data_Raw[GROSS_ADDS],Weekly_Data_Raw[TICKER],'Weekly Metrics'!$A6,Weekly_Data_Raw[END_DATE],'Weekly Metrics'!HB$5), IF($B6=\"Churn\",SUMIFS(Weekly_Data_Raw[CHURNED_MEMBERS],Weekly_Data_Raw[TICKER],'Weekly Metrics'!$A6,Weekly_Data_Raw[END_DATE],'Weekly Metrics'!HB$5)))))))","v":36118},{"$f":"IF($B6=\"Panel Sales\", SUMIFS(Weekly_Data_Raw[PANEL_AMOUNT],Weekly_Data_Raw[TICKER],'Weekly Metrics'!$A6,Weekly_Data_Raw[END_DATE],'Weekly Metrics'!HC$5),IF($B6=\"Transactions\",SUMIFS(Weekly_Data_Raw[PANEL_TRANSACTIONS],Weekly_Data_Raw[TICKER],'Weekly Metrics'!$A6,Weekly_Data_Raw[END_DATE],'Weekly Metrics'!HC$5), IF($B6=\"Avg Ticket\",SUMIFS(Weekly_Data_Raw[AVG_TICKET],Weekly_Data_Raw[TICKER],'Weekly Metrics'!$A6,Weekly_Data_Raw[END_DATE],'Weekly Metrics'!HC$5), IF($B6=\"EOP Subscribers\",SUMIFS(Weekly_Data_Raw[EOP_SUBSCRIBERS],Weekly_Data_Raw[TICKER],'Weekly Metrics'!$A6,Weekly_Data_Raw[END_DATE],'Weekly Metrics'!HC$5), IF($B6=\"Gross Adds\",SUMIFS(Weekly_Data_Raw[GROSS_ADDS],Weekly_Data_Raw[TICKER],'Weekly Metrics'!$A6,Weekly_Data_Raw[END_DATE],'Weekly Metrics'!HC$5), IF($B6=\"Churn\",SUMIFS(Weekly_Data_Raw[CHURNED_MEMBERS],Weekly_Data_Raw[TICKER],'Weekly Metrics'!$A6,Weekly_Data_Raw[END_DATE],'Weekly Metrics'!HC$5)))))))","v":28282},{"$f":"IF($B6=\"Panel Sales\", SUMIFS(Weekly_Data_Raw[PANEL_AMOUNT],Weekly_Data_Raw[TICKER],'Weekly Metrics'!$A6,Weekly_Data_Raw[END_DATE],'Weekly Metrics'!HD$5),IF($B6=\"Transactions\",SUMIFS(Weekly_Data_Raw[PANEL_TRANSACTIONS],Weekly_Data_Raw[TICKER],'Weekly Metrics'!$A6,Weekly_Data_Raw[END_DATE],'Weekly Metrics'!HD$5), IF($B6=\"Avg Ticket\",SUMIFS(Weekly_Data_Raw[AVG_TICKET],Weekly_Data_Raw[TICKER],'Weekly Metrics'!$A6,Weekly_Data_Raw[END_DATE],'Weekly Metrics'!HD$5), IF($B6=\"EOP Subscribers\",SUMIFS(Weekly_Data_Raw[EOP_SUBSCRIBERS],Weekly_Data_Raw[TICKER],'Weekly Metrics'!$A6,Weekly_Data_Raw[END_DATE],'Weekly Metrics'!HD$5), IF($B6=\"Gross Adds\",SUMIFS(Weekly_Data_Raw[GROSS_ADDS],Weekly_Data_Raw[TICKER],'Weekly Metrics'!$A6,Weekly_Data_Raw[END_DATE],'Weekly Metrics'!HD$5), IF($B6=\"Churn\",SUMIFS(Weekly_Data_Raw[CHURNED_MEMBERS],Weekly_Data_Raw[TICKER],'Weekly Metrics'!$A6,Weekly_Data_Raw[END_DATE],'Weekly Metrics'!HD$5)))))))","v":37813},{"$f":"IF($B6=\"Panel Sales\", SUMIFS(Weekly_Data_Raw[PANEL_AMOUNT],Weekly_Data_Raw[TICKER],'Weekly Metrics'!$A6,Weekly_Data_Raw[END_DATE],'Weekly Metrics'!HE$5),IF($B6=\"Transactions\",SUMIFS(Weekly_Data_Raw[PANEL_TRANSACTIONS],Weekly_Data_Raw[TICKER],'Weekly Metrics'!$A6,Weekly_Data_Raw[END_DATE],'Weekly Metrics'!HE$5), IF($B6=\"Avg Ticket\",SUMIFS(Weekly_Data_Raw[AVG_TICKET],Weekly_Data_Raw[TICKER],'Weekly Metrics'!$A6,Weekly_Data_Raw[END_DATE],'Weekly Metrics'!HE$5), IF($B6=\"EOP Subscribers\",SUMIFS(Weekly_Data_Raw[EOP_SUBSCRIBERS],Weekly_Data_Raw[TICKER],'Weekly Metrics'!$A6,Weekly_Data_Raw[END_DATE],'Weekly Metrics'!HE$5), IF($B6=\"Gross Adds\",SUMIFS(Weekly_Data_Raw[GROSS_ADDS],Weekly_Data_Raw[TICKER],'Weekly Metrics'!$A6,Weekly_Data_Raw[END_DATE],'Weekly Metrics'!HE$5), IF($B6=\"Churn\",SUMIFS(Weekly_Data_Raw[CHURNED_MEMBERS],Weekly_Data_Raw[TICKER],'Weekly Metrics'!$A6,Weekly_Data_Raw[END_DATE],'Weekly Metrics'!HE$5)))))))","v":40824},{"$f":"IF($B6=\"Panel Sales\", SUMIFS(Weekly_Data_Raw[PANEL_AMOUNT],Weekly_Data_Raw[TICKER],'Weekly Metrics'!$A6,Weekly_Data_Raw[END_DATE],'Weekly Metrics'!HF$5),IF($B6=\"Transactions\",SUMIFS(Weekly_Data_Raw[PANEL_TRANSACTIONS],Weekly_Data_Raw[TICKER],'Weekly Metrics'!$A6,Weekly_Data_Raw[END_DATE],'Weekly Metrics'!HF$5), IF($B6=\"Avg Ticket\",SUMIFS(Weekly_Data_Raw[AVG_TICKET],Weekly_Data_Raw[TICKER],'Weekly Metrics'!$A6,Weekly_Data_Raw[END_DATE],'Weekly Metrics'!HF$5), IF($B6=\"EOP Subscribers\",SUMIFS(Weekly_Data_Raw[EOP_SUBSCRIBERS],Weekly_Data_Raw[TICKER],'Weekly Metrics'!$A6,Weekly_Data_Raw[END_DATE],'Weekly Metrics'!HF$5), IF($B6=\"Gross Adds\",SUMIFS(Weekly_Data_Raw[GROSS_ADDS],Weekly_Data_Raw[TICKER],'Weekly Metrics'!$A6,Weekly_Data_Raw[END_DATE],'Weekly Metrics'!HF$5), IF($B6=\"Churn\",SUMIFS(Weekly_Data_Raw[CHURNED_MEMBERS],Weekly_Data_Raw[TICKER],'Weekly Metrics'!$A6,Weekly_Data_Raw[END_DATE],'Weekly Metrics'!HF$5)))))))","v":39718},{"$f":"IF($B6=\"Panel Sales\", SUMIFS(Weekly_Data_Raw[PANEL_AMOUNT],Weekly_Data_Raw[TICKER],'Weekly Metrics'!$A6,Weekly_Data_Raw[END_DATE],'Weekly Metrics'!HG$5),IF($B6=\"Transactions\",SUMIFS(Weekly_Data_Raw[PANEL_TRANSACTIONS],Weekly_Data_Raw[TICKER],'Weekly Metrics'!$A6,Weekly_Data_Raw[END_DATE],'Weekly Metrics'!HG$5), IF($B6=\"Avg Ticket\",SUMIFS(Weekly_Data_Raw[AVG_TICKET],Weekly_Data_Raw[TICKER],'Weekly Metrics'!$A6,Weekly_Data_Raw[END_DATE],'Weekly Metrics'!HG$5), IF($B6=\"EOP Subscribers\",SUMIFS(Weekly_Data_Raw[EOP_SUBSCRIBERS],Weekly_Data_Raw[TICKER],'Weekly Metrics'!$A6,Weekly_Data_Raw[END_DATE],'Weekly Metrics'!HG$5), IF($B6=\"Gross Adds\",SUMIFS(Weekly_Data_Raw[GROSS_ADDS],Weekly_Data_Raw[TICKER],'Weekly Metrics'!$A6,Weekly_Data_Raw[END_DATE],'Weekly Metrics'!HG$5), IF($B6=\"Churn\",SUMIFS(Weekly_Data_Raw[CHURNED_MEMBERS],Weekly_Data_Raw[TICKER],'Weekly Metrics'!$A6,Weekly_Data_Raw[END_DATE],'Weekly Metrics'!HG$5)))))))","v":39696},{"$f":"IF($B6=\"Panel Sales\", SUMIFS(Weekly_Data_Raw[PANEL_AMOUNT],Weekly_Data_Raw[TICKER],'Weekly Metrics'!$A6,Weekly_Data_Raw[END_DATE],'Weekly Metrics'!HH$5),IF($B6=\"Transactions\",SUMIFS(Weekly_Data_Raw[PANEL_TRANSACTIONS],Weekly_Data_Raw[TICKER],'Weekly Metrics'!$A6,Weekly_Data_Raw[END_DATE],'Weekly Metrics'!HH$5), IF($B6=\"Avg Ticket\",SUMIFS(Weekly_Data_Raw[AVG_TICKET],Weekly_Data_Raw[TICKER],'Weekly Metrics'!$A6,Weekly_Data_Raw[END_DATE],'Weekly Metrics'!HH$5), IF($B6=\"EOP Subscribers\",SUMIFS(Weekly_Data_Raw[EOP_SUBSCRIBERS],Weekly_Data_Raw[TICKER],'Weekly Metrics'!$A6,Weekly_Data_Raw[END_DATE],'Weekly Metrics'!HH$5), IF($B6=\"Gross Adds\",SUMIFS(Weekly_Data_Raw[GROSS_ADDS],Weekly_Data_Raw[TICKER],'Weekly Metrics'!$A6,Weekly_Data_Raw[END_DATE],'Weekly Metrics'!HH$5), IF($B6=\"Churn\",SUMIFS(Weekly_Data_Raw[CHURNED_MEMBERS],Weekly_Data_Raw[TICKER],'Weekly Metrics'!$A6,Weekly_Data_Raw[END_DATE],'Weekly Metrics'!HH$5)))))))","v":40009},{"$f":"IF($B6=\"Panel Sales\", SUMIFS(Weekly_Data_Raw[PANEL_AMOUNT],Weekly_Data_Raw[TICKER],'Weekly Metrics'!$A6,Weekly_Data_Raw[END_DATE],'Weekly Metrics'!HI$5),IF($B6=\"Transactions\",SUMIFS(Weekly_Data_Raw[PANEL_TRANSACTIONS],Weekly_Data_Raw[TICKER],'Weekly Metrics'!$A6,Weekly_Data_Raw[END_DATE],'Weekly Metrics'!HI$5), IF($B6=\"Avg Ticket\",SUMIFS(Weekly_Data_Raw[AVG_TICKET],Weekly_Data_Raw[TICKER],'Weekly Metrics'!$A6,Weekly_Data_Raw[END_DATE],'Weekly Metrics'!HI$5), IF($B6=\"EOP Subscribers\",SUMIFS(Weekly_Data_Raw[EOP_SUBSCRIBERS],Weekly_Data_Raw[TICKER],'Weekly Metrics'!$A6,Weekly_Data_Raw[END_DATE],'Weekly Metrics'!HI$5), IF($B6=\"Gross Adds\",SUMIFS(Weekly_Data_Raw[GROSS_ADDS],Weekly_Data_Raw[TICKER],'Weekly Metrics'!$A6,Weekly_Data_Raw[END_DATE],'Weekly Metrics'!HI$5), IF($B6=\"Churn\",SUMIFS(Weekly_Data_Raw[CHURNED_MEMBERS],Weekly_Data_Raw[TICKER],'Weekly Metrics'!$A6,Weekly_Data_Raw[END_DATE],'Weekly Metrics'!HI$5)))))))","v":40878},{"$f":"IF($B6=\"Panel Sales\", SUMIFS(Weekly_Data_Raw[PANEL_AMOUNT],Weekly_Data_Raw[TICKER],'Weekly Metrics'!$A6,Weekly_Data_Raw[END_DATE],'Weekly Metrics'!HJ$5),IF($B6=\"Transactions\",SUMIFS(Weekly_Data_Raw[PANEL_TRANSACTIONS],Weekly_Data_Raw[TICKER],'Weekly Metrics'!$A6,Weekly_Data_Raw[END_DATE],'Weekly Metrics'!HJ$5), IF($B6=\"Avg Ticket\",SUMIFS(Weekly_Data_Raw[AVG_TICKET],Weekly_Data_Raw[TICKER],'Weekly Metrics'!$A6,Weekly_Data_Raw[END_DATE],'Weekly Metrics'!HJ$5), IF($B6=\"EOP Subscribers\",SUMIFS(Weekly_Data_Raw[EOP_SUBSCRIBERS],Weekly_Data_Raw[TICKER],'Weekly Metrics'!$A6,Weekly_Data_Raw[END_DATE],'Weekly Metrics'!HJ$5), IF($B6=\"Gross Adds\",SUMIFS(Weekly_Data_Raw[GROSS_ADDS],Weekly_Data_Raw[TICKER],'Weekly Metrics'!$A6,Weekly_Data_Raw[END_DATE],'Weekly Metrics'!HJ$5), IF($B6=\"Churn\",SUMIFS(Weekly_Data_Raw[CHURNED_MEMBERS],Weekly_Data_Raw[TICKER],'Weekly Metrics'!$A6,Weekly_Data_Raw[END_DATE],'Weekly Metrics'!HJ$5)))))))","v":39581},{"$f":"IF($B6=\"Panel Sales\", SUMIFS(Weekly_Data_Raw[PANEL_AMOUNT],Weekly_Data_Raw[TICKER],'Weekly Metrics'!$A6,Weekly_Data_Raw[END_DATE],'Weekly Metrics'!HK$5),IF($B6=\"Transactions\",SUMIFS(Weekly_Data_Raw[PANEL_TRANSACTIONS],Weekly_Data_Raw[TICKER],'Weekly Metrics'!$A6,Weekly_Data_Raw[END_DATE],'Weekly Metrics'!HK$5), IF($B6=\"Avg Ticket\",SUMIFS(Weekly_Data_Raw[AVG_TICKET],Weekly_Data_Raw[TICKER],'Weekly Metrics'!$A6,Weekly_Data_Raw[END_DATE],'Weekly Metrics'!HK$5), IF($B6=\"EOP Subscribers\",SUMIFS(Weekly_Data_Raw[EOP_SUBSCRIBERS],Weekly_Data_Raw[TICKER],'Weekly Metrics'!$A6,Weekly_Data_Raw[END_DATE],'Weekly Metrics'!HK$5), IF($B6=\"Gross Adds\",SUMIFS(Weekly_Data_Raw[GROSS_ADDS],Weekly_Data_Raw[TICKER],'Weekly Metrics'!$A6,Weekly_Data_Raw[END_DATE],'Weekly Metrics'!HK$5), IF($B6=\"Churn\",SUMIFS(Weekly_Data_Raw[CHURNED_MEMBERS],Weekly_Data_Raw[TICKER],'Weekly Metrics'!$A6,Weekly_Data_Raw[END_DATE],'Weekly Metrics'!HK$5)))))))","v":40931},{"$f":"IF($B6=\"Panel Sales\", SUMIFS(Weekly_Data_Raw[PANEL_AMOUNT],Weekly_Data_Raw[TICKER],'Weekly Metrics'!$A6,Weekly_Data_Raw[END_DATE],'Weekly Metrics'!HL$5),IF($B6=\"Transactions\",SUMIFS(Weekly_Data_Raw[PANEL_TRANSACTIONS],Weekly_Data_Raw[TICKER],'Weekly Metrics'!$A6,Weekly_Data_Raw[END_DATE],'Weekly Metrics'!HL$5), IF($B6=\"Avg Ticket\",SUMIFS(Weekly_Data_Raw[AVG_TICKET],Weekly_Data_Raw[TICKER],'Weekly Metrics'!$A6,Weekly_Data_Raw[END_DATE],'Weekly Metrics'!HL$5), IF($B6=\"EOP Subscribers\",SUMIFS(Weekly_Data_Raw[EOP_SUBSCRIBERS],Weekly_Data_Raw[TICKER],'Weekly Metrics'!$A6,Weekly_Data_Raw[END_DATE],'Weekly Metrics'!HL$5), IF($B6=\"Gross Adds\",SUMIFS(Weekly_Data_Raw[GROSS_ADDS],Weekly_Data_Raw[TICKER],'Weekly Metrics'!$A6,Weekly_Data_Raw[END_DATE],'Weekly Metrics'!HL$5), IF($B6=\"Churn\",SUMIFS(Weekly_Data_Raw[CHURNED_MEMBERS],Weekly_Data_Raw[TICKER],'Weekly Metrics'!$A6,Weekly_Data_Raw[END_DATE],'Weekly Metrics'!HL$5)))))))","v":41169},{"$f":"IF($B6=\"Panel Sales\", SUMIFS(Weekly_Data_Raw[PANEL_AMOUNT],Weekly_Data_Raw[TICKER],'Weekly Metrics'!$A6,Weekly_Data_Raw[END_DATE],'Weekly Metrics'!HM$5),IF($B6=\"Transactions\",SUMIFS(Weekly_Data_Raw[PANEL_TRANSACTIONS],Weekly_Data_Raw[TICKER],'Weekly Metrics'!$A6,Weekly_Data_Raw[END_DATE],'Weekly Metrics'!HM$5), IF($B6=\"Avg Ticket\",SUMIFS(Weekly_Data_Raw[AVG_TICKET],Weekly_Data_Raw[TICKER],'Weekly Metrics'!$A6,Weekly_Data_Raw[END_DATE],'Weekly Metrics'!HM$5), IF($B6=\"EOP Subscribers\",SUMIFS(Weekly_Data_Raw[EOP_SUBSCRIBERS],Weekly_Data_Raw[TICKER],'Weekly Metrics'!$A6,Weekly_Data_Raw[END_DATE],'Weekly Metrics'!HM$5), IF($B6=\"Gross Adds\",SUMIFS(Weekly_Data_Raw[GROSS_ADDS],Weekly_Data_Raw[TICKER],'Weekly Metrics'!$A6,Weekly_Data_Raw[END_DATE],'Weekly Metrics'!HM$5), IF($B6=\"Churn\",SUMIFS(Weekly_Data_Raw[CHURNED_MEMBERS],Weekly_Data_Raw[TICKER],'Weekly Metrics'!$A6,Weekly_Data_Raw[END_DATE],'Weekly Metrics'!HM$5)))))))","v":44171},{"$f":"IF($B6=\"Panel Sales\", SUMIFS(Weekly_Data_Raw[PANEL_AMOUNT],Weekly_Data_Raw[TICKER],'Weekly Metrics'!$A6,Weekly_Data_Raw[END_DATE],'Weekly Metrics'!HN$5),IF($B6=\"Transactions\",SUMIFS(Weekly_Data_Raw[PANEL_TRANSACTIONS],Weekly_Data_Raw[TICKER],'Weekly Metrics'!$A6,Weekly_Data_Raw[END_DATE],'Weekly Metrics'!HN$5), IF($B6=\"Avg Ticket\",SUMIFS(Weekly_Data_Raw[AVG_TICKET],Weekly_Data_Raw[TICKER],'Weekly Metrics'!$A6,Weekly_Data_Raw[END_DATE],'Weekly Metrics'!HN$5), IF($B6=\"EOP Subscribers\",SUMIFS(Weekly_Data_Raw[EOP_SUBSCRIBERS],Weekly_Data_Raw[TICKER],'Weekly Metrics'!$A6,Weekly_Data_Raw[END_DATE],'Weekly Metrics'!HN$5), IF($B6=\"Gross Adds\",SUMIFS(Weekly_Data_Raw[GROSS_ADDS],Weekly_Data_Raw[TICKER],'Weekly Metrics'!$A6,Weekly_Data_Raw[END_DATE],'Weekly Metrics'!HN$5), IF($B6=\"Churn\",SUMIFS(Weekly_Data_Raw[CHURNED_MEMBERS],Weekly_Data_Raw[TICKER],'Weekly Metrics'!$A6,Weekly_Data_Raw[END_DATE],'Weekly Metrics'!HN$5)))))))","v":41955},{"$f":"IF($B6=\"Panel Sales\", SUMIFS(Weekly_Data_Raw[PANEL_AMOUNT],Weekly_Data_Raw[TICKER],'Weekly Metrics'!$A6,Weekly_Data_Raw[END_DATE],'Weekly Metrics'!HO$5),IF($B6=\"Transactions\",SUMIFS(Weekly_Data_Raw[PANEL_TRANSACTIONS],Weekly_Data_Raw[TICKER],'Weekly Metrics'!$A6,Weekly_Data_Raw[END_DATE],'Weekly Metrics'!HO$5), IF($B6=\"Avg Ticket\",SUMIFS(Weekly_Data_Raw[AVG_TICKET],Weekly_Data_Raw[TICKER],'Weekly Metrics'!$A6,Weekly_Data_Raw[END_DATE],'Weekly Metrics'!HO$5), IF($B6=\"EOP Subscribers\",SUMIFS(Weekly_Data_Raw[EOP_SUBSCRIBERS],Weekly_Data_Raw[TICKER],'Weekly Metrics'!$A6,Weekly_Data_Raw[END_DATE],'Weekly Metrics'!HO$5), IF($B6=\"Gross Adds\",SUMIFS(Weekly_Data_Raw[GROSS_ADDS],Weekly_Data_Raw[TICKER],'Weekly Metrics'!$A6,Weekly_Data_Raw[END_DATE],'Weekly Metrics'!HO$5), IF($B6=\"Churn\",SUMIFS(Weekly_Data_Raw[CHURNED_MEMBERS],Weekly_Data_Raw[TICKER],'Weekly Metrics'!$A6,Weekly_Data_Raw[END_DATE],'Weekly Metrics'!HO$5)))))))","v":43807},{"$f":"IF($B6=\"Panel Sales\", SUMIFS(Weekly_Data_Raw[PANEL_AMOUNT],Weekly_Data_Raw[TICKER],'Weekly Metrics'!$A6,Weekly_Data_Raw[END_DATE],'Weekly Metrics'!HP$5),IF($B6=\"Transactions\",SUMIFS(Weekly_Data_Raw[PANEL_TRANSACTIONS],Weekly_Data_Raw[TICKER],'Weekly Metrics'!$A6,Weekly_Data_Raw[END_DATE],'Weekly Metrics'!HP$5), IF($B6=\"Avg Ticket\",SUMIFS(Weekly_Data_Raw[AVG_TICKET],Weekly_Data_Raw[TICKER],'Weekly Metrics'!$A6,Weekly_Data_Raw[END_DATE],'Weekly Metrics'!HP$5), IF($B6=\"EOP Subscribers\",SUMIFS(Weekly_Data_Raw[EOP_SUBSCRIBERS],Weekly_Data_Raw[TICKER],'Weekly Metrics'!$A6,Weekly_Data_Raw[END_DATE],'Weekly Metrics'!HP$5), IF($B6=\"Gross Adds\",SUMIFS(Weekly_Data_Raw[GROSS_ADDS],Weekly_Data_Raw[TICKER],'Weekly Metrics'!$A6,Weekly_Data_Raw[END_DATE],'Weekly Metrics'!HP$5), IF($B6=\"Churn\",SUMIFS(Weekly_Data_Raw[CHURNED_MEMBERS],Weekly_Data_Raw[TICKER],'Weekly Metrics'!$A6,Weekly_Data_Raw[END_DATE],'Weekly Metrics'!HP$5)))))))","v":44187},{"$f":"IF($B6=\"Panel Sales\", SUMIFS(Weekly_Data_Raw[PANEL_AMOUNT],Weekly_Data_Raw[TICKER],'Weekly Metrics'!$A6,Weekly_Data_Raw[END_DATE],'Weekly Metrics'!HQ$5),IF($B6=\"Transactions\",SUMIFS(Weekly_Data_Raw[PANEL_TRANSACTIONS],Weekly_Data_Raw[TICKER],'Weekly Metrics'!$A6,Weekly_Data_Raw[END_DATE],'Weekly Metrics'!HQ$5), IF($B6=\"Avg Ticket\",SUMIFS(Weekly_Data_Raw[AVG_TICKET],Weekly_Data_Raw[TICKER],'Weekly Metrics'!$A6,Weekly_Data_Raw[END_DATE],'Weekly Metrics'!HQ$5), IF($B6=\"EOP Subscribers\",SUMIFS(Weekly_Data_Raw[EOP_SUBSCRIBERS],Weekly_Data_Raw[TICKER],'Weekly Metrics'!$A6,Weekly_Data_Raw[END_DATE],'Weekly Metrics'!HQ$5), IF($B6=\"Gross Adds\",SUMIFS(Weekly_Data_Raw[GROSS_ADDS],Weekly_Data_Raw[TICKER],'Weekly Metrics'!$A6,Weekly_Data_Raw[END_DATE],'Weekly Metrics'!HQ$5), IF($B6=\"Churn\",SUMIFS(Weekly_Data_Raw[CHURNED_MEMBERS],Weekly_Data_Raw[TICKER],'Weekly Metrics'!$A6,Weekly_Data_Raw[END_DATE],'Weekly Metrics'!HQ$5)))))))","v":42761},{"$f":"IF($B6=\"Panel Sales\", SUMIFS(Weekly_Data_Raw[PANEL_AMOUNT],Weekly_Data_Raw[TICKER],'Weekly Metrics'!$A6,Weekly_Data_Raw[END_DATE],'Weekly Metrics'!HR$5),IF($B6=\"Transactions\",SUMIFS(Weekly_Data_Raw[PANEL_TRANSACTIONS],Weekly_Data_Raw[TICKER],'Weekly Metrics'!$A6,Weekly_Data_Raw[END_DATE],'Weekly Metrics'!HR$5), IF($B6=\"Avg Ticket\",SUMIFS(Weekly_Data_Raw[AVG_TICKET],Weekly_Data_Raw[TICKER],'Weekly Metrics'!$A6,Weekly_Data_Raw[END_DATE],'Weekly Metrics'!HR$5), IF($B6=\"EOP Subscribers\",SUMIFS(Weekly_Data_Raw[EOP_SUBSCRIBERS],Weekly_Data_Raw[TICKER],'Weekly Metrics'!$A6,Weekly_Data_Raw[END_DATE],'Weekly Metrics'!HR$5), IF($B6=\"Gross Adds\",SUMIFS(Weekly_Data_Raw[GROSS_ADDS],Weekly_Data_Raw[TICKER],'Weekly Metrics'!$A6,Weekly_Data_Raw[END_DATE],'Weekly Metrics'!HR$5), IF($B6=\"Churn\",SUMIFS(Weekly_Data_Raw[CHURNED_MEMBERS],Weekly_Data_Raw[TICKER],'Weekly Metrics'!$A6,Weekly_Data_Raw[END_DATE],'Weekly Metrics'!HR$5)))))))","v":40396},{"$f":"IF($B6=\"Panel Sales\", SUMIFS(Weekly_Data_Raw[PANEL_AMOUNT],Weekly_Data_Raw[TICKER],'Weekly Metrics'!$A6,Weekly_Data_Raw[END_DATE],'Weekly Metrics'!HS$5),IF($B6=\"Transactions\",SUMIFS(Weekly_Data_Raw[PANEL_TRANSACTIONS],Weekly_Data_Raw[TICKER],'Weekly Metrics'!$A6,Weekly_Data_Raw[END_DATE],'Weekly Metrics'!HS$5), IF($B6=\"Avg Ticket\",SUMIFS(Weekly_Data_Raw[AVG_TICKET],Weekly_Data_Raw[TICKER],'Weekly Metrics'!$A6,Weekly_Data_Raw[END_DATE],'Weekly Metrics'!HS$5), IF($B6=\"EOP Subscribers\",SUMIFS(Weekly_Data_Raw[EOP_SUBSCRIBERS],Weekly_Data_Raw[TICKER],'Weekly Metrics'!$A6,Weekly_Data_Raw[END_DATE],'Weekly Metrics'!HS$5), IF($B6=\"Gross Adds\",SUMIFS(Weekly_Data_Raw[GROSS_ADDS],Weekly_Data_Raw[TICKER],'Weekly Metrics'!$A6,Weekly_Data_Raw[END_DATE],'Weekly Metrics'!HS$5), IF($B6=\"Churn\",SUMIFS(Weekly_Data_Raw[CHURNED_MEMBERS],Weekly_Data_Raw[TICKER],'Weekly Metrics'!$A6,Weekly_Data_Raw[END_DATE],'Weekly Metrics'!HS$5)))))))","v":43962},{"$f":"IF($B6=\"Panel Sales\", SUMIFS(Weekly_Data_Raw[PANEL_AMOUNT],Weekly_Data_Raw[TICKER],'Weekly Metrics'!$A6,Weekly_Data_Raw[END_DATE],'Weekly Metrics'!HT$5),IF($B6=\"Transactions\",SUMIFS(Weekly_Data_Raw[PANEL_TRANSACTIONS],Weekly_Data_Raw[TICKER],'Weekly Metrics'!$A6,Weekly_Data_Raw[END_DATE],'Weekly Metrics'!HT$5), IF($B6=\"Avg Ticket\",SUMIFS(Weekly_Data_Raw[AVG_TICKET],Weekly_Data_Raw[TICKER],'Weekly Metrics'!$A6,Weekly_Data_Raw[END_DATE],'Weekly Metrics'!HT$5), IF($B6=\"EOP Subscribers\",SUMIFS(Weekly_Data_Raw[EOP_SUBSCRIBERS],Weekly_Data_Raw[TICKER],'Weekly Metrics'!$A6,Weekly_Data_Raw[END_DATE],'Weekly Metrics'!HT$5), IF($B6=\"Gross Adds\",SUMIFS(Weekly_Data_Raw[GROSS_ADDS],Weekly_Data_Raw[TICKER],'Weekly Metrics'!$A6,Weekly_Data_Raw[END_DATE],'Weekly Metrics'!HT$5), IF($B6=\"Churn\",SUMIFS(Weekly_Data_Raw[CHURNED_MEMBERS],Weekly_Data_Raw[TICKER],'Weekly Metrics'!$A6,Weekly_Data_Raw[END_DATE],'Weekly Metrics'!HT$5)))))))","v":42057}]
["CMCSA","EOP Subscribers",{"$f":"IF($B7=\"Panel Sales\", SUMIFS(Weekly_Data_Raw[PANEL_AMOUNT],Weekly_Data_Raw[TICKER],'Weekly Metrics'!$A7,Weekly_Data_Raw[END_DATE],'Weekly Metrics'!C$5),IF($B7=\"Transactions\",SUMIFS(Weekly_Data_Raw[PANEL_TRANSACTIONS],Weekly_Data_Raw[TICKER],'Weekly Metrics'!$A7,Weekly_Data_Raw[END_DATE],'Weekly Metrics'!C$5), IF($B7=\"Avg Ticket\",SUMIFS(Weekly_Data_Raw[AVG_TICKET],Weekly_Data_Raw[TICKER],'Weekly Metrics'!$A7,Weekly_Data_Raw[END_DATE],'Weekly Metrics'!C$5), IF($B7=\"EOP Subscribers\",SUMIFS(Weekly_Data_Raw[EOP_SUBSCRIBERS],Weekly_Data_Raw[TICKER],'Weekly Metrics'!$A7,Weekly_Data_Raw[END_DATE],'Weekly Metrics'!C$5), IF($B7=\"Gross Adds\",SUMIFS(Weekly_Data_Raw[GROSS_ADDS],Weekly_Data_Raw[TICKER],'Weekly Metrics'!$A7,Weekly_Data_Raw[END_DATE],'Weekly Metrics'!C$5), IF($B7=\"Churn\",SUMIFS(Weekly_Data_Raw[CHURNED_MEMBERS],Weekly_Data_Raw[TICKER],'Weekly Metrics'!$A7,Weekly_Data_Raw[END_DATE],'Weekly Metrics'!C$5)))))))","v":95581},{"$f":"IF($B7=\"Panel Sales\", SUMIFS(Weekly_Data_Raw[PANEL_AMOUNT],Weekly_Data_Raw[TICKER],'Weekly Metrics'!$A7,Weekly_Data_Raw[END_DATE],'Weekly Metrics'!D$5),IF($B7=\"Transactions\",SUMIFS(Weekly_Data_Raw[PANEL_TRANSACTIONS],Weekly_Data_Raw[TICKER],'Weekly Metrics'!$A7,Weekly_Data_Raw[END_DATE],'Weekly Metrics'!D$5), IF($B7=\"Avg Ticket\",SUMIFS(Weekly_Data_Raw[AVG_TICKET],Weekly_Data_Raw[TICKER],'Weekly Metrics'!$A7,Weekly_Data_Raw[END_DATE],'Weekly Metrics'!D$5), IF($B7=\"EOP Subscribers\",SUMIFS(Weekly_Data_Raw[EOP_SUBSCRIBERS],Weekly_Data_Raw[TICKER],'Weekly Metrics'!$A7,Weekly_Data_Raw[END_DATE],'Weekly Metrics'!D$5), IF($B7=\"Gross Adds\",SUMIFS(Weekly_Data_Raw[GROSS_ADDS],Weekly_Data_Raw[TICKER],'Weekly Metrics'!$A7,Weekly_Data_Raw[END_DATE],'Weekly Metrics'!D$5), IF($B7=\"Churn\",SUMIFS(Weekly_Data_Raw[CHURNED_MEMBERS],Weekly_Data_Raw[TICKER],'Weekly Metrics'!$A7,Weekly_Data_Raw[END_DATE],'Weekly Metrics'!D$5)))))))","v":96226},{"$f":"IF($B7=\"Panel Sales\", SUMIFS(Weekly_Data_Raw[PANEL_AMOUNT],Weekly_Data_Raw[TICKER],'Weekly Metrics'!$A7,Weekly_Data_Raw[END_DATE],'Weekly Metrics'!E$5),IF($B7=\"Transactions\",SUMIFS(Weekly_Data_Raw[PANEL_TRANSACTIONS],Weekly_Data_Raw[TICKER],'Weekly Metrics'!$A7,Weekly_Data_Raw[END_DATE],'Weekly Metrics'!E$5), IF($B7=\"Avg Ticket\",SUMIFS(Weekly_Data_Raw[AVG_TICKET],Weekly_Data_Raw[TICKER],'Weekly Metrics'!$A7,Weekly_Data_Raw[END_DATE],'Weekly Metrics'!E$5), IF($B7=\"EOP Subscribers\",SUMIFS(Weekly_Data_Raw[EOP_SUBSCRIBERS],Weekly_Data_Raw[TICKER],'Weekly Metrics'!$A7,Weekly_Data_Raw[END_DATE],'Weekly Metrics'!E$5), IF($B7=\"Gross Adds\",SUMIFS(Weekly_Data_Raw[GROSS_ADDS],Weekly_Data_Raw[TICKER],'Weekly Metrics'!$A7,Weekly_Data_Raw[END_DATE],'Weekly Metrics'!E$5), IF($B7=\"Churn\",SUMIFS(Weekly_Data_Raw[CHURNED_MEMBERS],Weekly_Data_Raw[TICKER],'Weekly Metrics'!$A7,Weekly_Data_Raw[END_DATE],'Weekly Metrics'!E$5)))))))","v":96670},{"$f":"IF($B7=\"Panel Sales\", SUMIFS(Weekly_Data_Raw[PANEL_AMOUNT],Weekly_Data_Raw[TICKER],'Weekly Metrics'!$A7,Weekly_Data_Raw[END_DATE],'Weekly Metrics'!F$5),IF($B7=\"Transactions\",SUMIFS(Weekly_Data_Raw[PANEL_TRANSACTIONS],Weekly_Data_Raw[TICKER],'Weekly Metrics'!$A7,Weekly_Data_Raw[END_DATE],'Weekly Metrics'!F$5), IF($B7=\"Avg Ticket\",SUMIFS(Weekly_Data_Raw[AVG_TICKET],Weekly_Data_Raw[TICKER],'Weekly Metrics'!$A7,Weekly_Data_Raw[END_DATE],'Weekly Metrics'!F$5), IF($B7=\"EOP Subscribers\",SUMIFS(Weekly_Data_Raw[EOP_SUBSCRIBERS],Weekly_Data_Raw[TICKER],'Weekly Metrics'!$A7,Weekly_Data_Raw[END_DATE],'Weekly Metrics'!F$5), IF($B7=\"Gross Adds\",SUMIFS(Weekly_Data_Raw[GROSS_ADDS],Weekly_Data_Raw[TICKER],'Weekly Metrics'!$A7,Weekly_Data_Raw[END_DATE],'Weekly Metrics'!F$5), IF($B7=\"Churn\",SUMIFS(Weekly_Data_Raw[CHURNED_MEMBERS],Weekly_Data_Raw[TICKER],'Weekly Metrics'!$A7,Weekly_Data_Raw[END_DATE],'Weekly Metrics'!F$5)))))))","v":97095},{"$f":"IF($B7=\"Panel Sales\", SUMIFS(Weekly_Data_Raw[PANEL_AMOUNT],Weekly_Data_Raw[TICKER],'Weekly Metrics'!$A7,Weekly_Data_Raw[END_DATE],'Weekly Metrics'!G$5),IF($B7=\"Transactions\",SUMIFS(Weekly_Data_Raw[PANEL_TRANSACTIONS],Weekly_Data_Raw[TICKER],'Weekly Metrics'!$A7,Weekly_Data_Raw[END_DATE],'Weekly Metrics'!G$5), IF($B7=\"Avg Ticket\",SUMIFS(Weekly_Data_Raw[AVG_TICKET],Weekly_Data_Raw[TICKER],'Weekly Metrics'!$A7,Weekly_Data_Raw[END_DATE],'Weekly Metrics'!G$5), IF($B7=\"EOP Subscribers\",SUMIFS(Weekly_Data_Raw[EOP_SUBSCRIBERS],Weekly_Data_Raw[TICKER],'Weekly Metrics'!$A7,Weekly_Data_Raw[END_DATE],'Weekly Metrics'!G$5), IF($B7=\"Gross Adds\",SUMIFS(Weekly_Data_Raw[GROSS_ADDS],Weekly_Data_Raw[TICKER],'Weekly Metrics'!$A7,Weekly_Data_Raw[END_DATE],'Weekly Metrics'!G$5), IF($B7=\"Churn\",SUMIFS(Weekly_Data_Raw[CHURNED_MEMBERS],Weekly_Data_Raw[TICKER],'Weekly Metrics'!$A7,Weekly_Data_Raw[END_DATE],'Weekly Metrics'!G$5)))))))","v":97519},{"$f":"IF($B7=\"Panel Sales\", SUMIFS(Weekly_Data_Raw[PANEL_AMOUNT],Weekly_Data_Raw[TICKER],'Weekly Metrics'!$A7,Weekly_Data_Raw[END_DATE],'Weekly Metrics'!H$5),IF($B7=\"Transactions\",SUMIFS(Weekly_Data_Raw[PANEL_TRANSACTIONS],Weekly_Data_Raw[TICKER],'Weekly Metrics'!$A7,Weekly_Data_Raw[END_DATE],'Weekly Metrics'!H$5), IF($B7=\"Avg Ticket\",SUMIFS(Weekly_Data_Raw[AVG_TICKET],Weekly_Data_Raw[TICKER],'Weekly Metrics'!$A7,Weekly_Data_Raw[END_DATE],'Weekly Metrics'!H$5), IF($B7=\"EOP Subscribers\",SUMIFS(Weekly_Data_Raw[EOP_SUBSCRIBERS],Weekly_Data_Raw[TICKER],'Weekly Metrics'!$A7,Weekly_Data_Raw[END_DATE],'Weekly Metrics'!H$5), IF($B7=\"Gross Adds\",SUMIFS(Weekly_Data_Raw[GROSS_ADDS],Weekly_Data_Raw[TICKER],'Weekly Metrics'!$A7,Weekly_Data_Raw[END_DATE],'Weekly Metrics'!H$5), IF($B7=\"Churn\",SUMIFS(Weekly_Data_Raw[CHURNED_MEMBERS],Weekly_Data_Raw[TICKER],'Weekly Metrics'!$A7,Weekly_Data_Raw[END_DATE],'Weekly Metrics'!H$5)))))))","v":97968},{"$f":"IF($B7=\"Panel Sales\", SUMIFS(Weekly_Data_Raw[PANEL_AMOUNT],Weekly_Data_Raw[TICKER],'Weekly Metrics'!$A7,Weekly_Data_Raw[END_DATE],'Weekly Metrics'!I$5),IF($B7=\"Transactions\",SUMIFS(Weekly_Data_Raw[PANEL_TRANSACTIONS],Weekly_Data_Raw[TICKER],'Weekly Metrics'!$A7,Weekly_Data_Raw[END_DATE],'Weekly Metrics'!I$5), IF($B7=\"Avg Ticket\",SUMIFS(Weekly_Data_Raw[AVG_TICKET],Weekly_Data_Raw[TICKER],'Weekly Metrics'!$A7,Weekly_Data_Raw[END_DATE],'Weekly Metrics'!I$5), IF($B7=\"EOP Subscribers\",SUMIFS(Weekly_Data_Raw[EOP_SUBSCRIBERS],Weekly_Data_Raw[TICKER],'Weekly Metrics'!$A7,Weekly_Data_Raw[END_DATE],'Weekly Metrics'!I$5), IF($B7=\"Gross Adds\",SUMIFS(Weekly_Data_Raw[GROSS_ADDS],Weekly_Data_Raw[TICKER],'Weekly Metrics'!$A7,Weekly_Data_Raw[END_DATE],'Weekly Metrics'!I$5), IF($B7=\"Churn\",SUMIFS(Weekly_Data_Raw[CHURNED_MEMBERS],Weekly_Data_Raw[TICKER],'Weekly Metrics'!$A7,Weekly_Data_Raw[END_DATE],'Weekly Metrics'!I$5)))))))","v":98295},{"$f":"IF($B7=\"Panel Sales\", SUMIFS(Weekly_Data_Raw[PANEL_AMOUNT],Weekly_Data_Raw[TICKER],'Weekly Metrics'!$A7,Weekly_Data_Raw[END_DATE],'Weekly Metrics'!J$5),IF($B7=\"Transactions\",SUMIFS(Weekly_Data_Raw[PANEL_TRANSACTIONS],Weekly_Data_Raw[TICKER],'Weekly Metrics'!$A7,Weekly_Data_Raw[END_DATE],'Weekly Metrics'!J$5), IF($B7=\"Avg Ticket\",SUMIFS(Weekly_Data_Raw[AVG_TICKET],Weekly_Data_Raw[TICKER],'Weekly Metrics'!$A7,Weekly_Data_Raw[END_DATE],'Weekly Metrics'!J$5), IF($B7=\"EOP Subscribers\",SUMIFS(Weekly_Data_Raw[EOP_SUBSCRIBERS],Weekly_Data_Raw[TICKER],'Weekly Metrics'!$A7,Weekly_Data_Raw[END_DATE],'Weekly Metrics'!J$5), IF($B7=\"Gross Adds\",SUMIFS(Weekly_Data_Raw[GROSS_ADDS],Weekly_Data_Raw[TICKER],'Weekly Metrics'!$A7,Weekly_Data_Raw[END_DATE],'Weekly Metrics'!J$5), IF($B7=\"Churn\",SUMIFS(Weekly_Data_Raw[CHURNED_MEMBERS],Weekly_Data_Raw[TICKER],'Weekly Metrics'!$A7,Weekly_Data_Raw[END_DATE],'Weekly Metrics'!J$5)))))))","v":98679},{"$f":"IF($B7=\"Panel Sales\", SUMIFS(Weekly_Data_Raw[PANEL_AMOUNT],Weekly_Data_Raw[TICKER],'Weekly Metrics'!$A7,Weekly_Data_Raw[END_DATE],'Weekly Metrics'!K$5),IF($B7=\"Transactions\",SUMIFS(Weekly_Data_Raw[PANEL_TRANSACTIONS],Weekly_Data_Raw[TICKER],'Weekly Metrics'!$A7,Weekly_Data_Raw[END_DATE],'Weekly Metrics'!K$5), IF($B7=\"Avg Ticket\",SUMIFS(Weekly_Data_Raw[AVG_TICKET],Weekly_Data_Raw[TICKER],'Weekly Metrics'!$A7,Weekly_Data_Raw[END_DATE],'Weekly Metrics'!K$5), IF($B7=\"EOP Subscribers\",SUMIFS(Weekly_Data_Raw[EOP_SUBSCRIBERS],Weekly_Data_Raw[TICKER],'Weekly Metrics'!$A7,Weekly_Data_Raw[END_DATE],'Weekly Metrics'!K$5), IF($B7=\"Gross Adds\",SUMIFS(Weekly_Data_Raw[GROSS_ADDS],Weekly_Data_Raw[TICKER],'Weekly Metrics'!$A7,Weekly_Data_Raw[END_DATE],'Weekly Metrics'!K$5), IF($B7=\"Churn\",SUMIFS(Weekly_Data_Raw[CHURNED_MEMBERS],Weekly_Data_Raw[TICKER],'Weekly Metrics'!$A7,Weekly_Data_Raw[END_DATE],'Weekly Metrics'!K$5)))))))","v":98971},{"$f":"IF($B7=\"Panel Sales\", SUMIFS(Weekly_Data_Raw[PANEL_AMOUNT],Weekly_Data_Raw[TICKER],'Weekly Metrics'!$A7,Weekly_Data_Raw[END_DATE],'Weekly Metrics'!L$5),IF($B7=\"Transactions\",SUMIFS(Weekly_Data_Raw[PANEL_TRANSACTIONS],Weekly_Data_Raw[TICKER],'Weekly Metrics'!$A7,Weekly_Data_Raw[END_DATE],'Weekly Metrics'!L$5), IF($B7=\"Avg Ticket\",SUMIFS(Weekly_Data_Raw[AVG_TICKET],Weekly_Data_Raw[TICKER],'Weekly Metrics'!$A7,Weekly_Data_Raw[END_DATE],'Weekly Metrics'!L$5), IF($B7=\"EOP Subscribers\",SUMIFS(Weekly_Data_Raw[EOP_SUBSCRIBERS],Weekly_Data_Raw[TICKER],'Weekly Metrics'!$A7,Weekly_Data_Raw[END_DATE],'Weekly Metrics'!L$5), IF($B7=\"Gross Adds\",SUMIFS(Weekly_Data_Raw[GROSS_ADDS],Weekly_Data_Raw[TICKER],'Weekly Metrics'!$A7,Weekly_Data_Raw[END_DATE],'Weekly Metrics'!L$5), IF($B7=\"Churn\",SUMIFS(Weekly_Data_Raw[CHURNED_MEMBERS],Weekly_Data_Raw[TICKER],'Weekly Metrics'!$A7,Weekly_Data_Raw[END_DATE],'Weekly Metrics'!L$5)))))))","v":99245},{"$f":"IF($B7=\"Panel Sales\", SUMIFS(Weekly_Data_Raw[PANEL_AMOUNT],Weekly_Data_Raw[TICKER],'Weekly Metrics'!$A7,Weekly_Data_Raw[END_DATE],'Weekly Metrics'!M$5),IF($B7=\"Transactions\",SUMIFS(Weekly_Data_Raw[PANEL_TRANSACTIONS],Weekly_Data_Raw[TICKER],'Weekly Metrics'!$A7,Weekly_Data_Raw[END_DATE],'Weekly Metrics'!M$5), IF($B7=\"Avg Ticket\",SUMIFS(Weekly_Data_Raw[AVG_TICKET],Weekly_Data_Raw[TICKER],'Weekly Metrics'!$A7,Weekly_Data_Raw[END_DATE],'Weekly Metrics'!M$5), IF($B7=\"EOP Subscribers\",SUMIFS(Weekly_Data_Raw[EOP_SUBSCRIBERS],Weekly_Data_Raw[TICKER],'Weekly Metrics'!$A7,Weekly_Data_Raw[END_DATE],'Weekly Metrics'!M$5), IF($B7=\"Gross Adds\",SUMIFS(Weekly_Data_Raw[GROSS_ADDS],Weekly_Data_Raw[TICKER],'Weekly Metrics'!$A7,Weekly_Data_Raw[END_DATE],'Weekly Metrics'!M$5), IF($B7=\"Churn\",SUMIFS(Weekly_Data_Raw[CHURNED_MEMBERS],Weekly_Data_Raw[TICKER],'Weekly Metrics'!$A7,Weekly_Data_Raw[END_DATE],'Weekly Metrics'!M$5)))))))","v":99409},{"$f":"IF($B7=\"Panel Sales\", SUMIFS(Weekly_Data_Raw[PANEL_AMOUNT],Weekly_Data_Raw[TICKER],'Weekly Metrics'!$A7,Weekly_Data_Raw[END_DATE],'Weekly Metrics'!N$5),IF($B7=\"Transactions\",SUMIFS(Weekly_Data_Raw[PANEL_TRANSACTIONS],Weekly_Data_Raw[TICKER],'Weekly Metrics'!$A7,Weekly_Data_Raw[END_DATE],'Weekly Metrics'!N$5), IF($B7=\"Avg Ticket\",SUMIFS(Weekly_Data_Raw[AVG_TICKET],Weekly_Data_Raw[TICKER],'Weekly Metrics'!$A7,Weekly_Data_Raw[END_DATE],'Weekly Metrics'!N$5), IF($B7=\"EOP Subscribers\",SUMIFS(Weekly_Data_Raw[EOP_SUBSCRIBERS],Weekly_Data_Raw[TICKER],'Weekly Metrics'!$A7,Weekly_Data_Raw[END_DATE],'Weekly Metrics'!N$5), IF($B7=\"Gross Adds\",SUMIFS(Weekly_Data_Raw[GROSS_ADDS],Weekly_Data_Raw[TICKER],'Weekly Metrics'!$A7,Weekly_Data_Raw[END_DATE],'Weekly Metrics'!N$5), IF($B7=\"Churn\",SUMIFS(Weekly_Data_Raw[CHURNED_MEMBERS],Weekly_Data_Raw[TICKER],'Weekly Metrics'!$A7,Weekly_Data_Raw[END_DATE],'Weekly Metrics'!N$5)))))))","v":99550},{"$f":"IF($B7=\"Panel Sales\", SUMIFS(Weekly_Data_Raw[PANEL_AMOUNT],Weekly_Data_Raw[TICKER],'Weekly Metrics'!$A7,Weekly_Data_Raw[END_DATE],'Weekly Metrics'!O$5),IF($B7=\"Transactions\",SUMIFS(Weekly_Data_Raw[PANEL_TRANSACTIONS],Weekly_Data_Raw[TICKER],'Weekly Metrics'!$A7,Weekly_Data_Raw[END_DATE],'Weekly Metrics'!O$5), IF($B7=\"Avg Ticket\",SUMIFS(Weekly_Data_Raw[AVG_TICKET],Weekly_Data_Raw[TICKER],'Weekly Metrics'!$A7,Weekly_Data_Raw[END_DATE],'Weekly Metrics'!O$5), IF($B7=\"EOP Subscribers\",SUMIFS(Weekly_Data_Raw[EOP_SUBSCRIBERS],Weekly_Data_Raw[TICKER],'Weekly Metrics'!$A7,Weekly_Data_Raw[END_DATE],'Weekly Metrics'!O$5), IF($B7=\"Gross Adds\",SUMIFS(Weekly_Data_Raw[GROSS_ADDS],Weekly_Data_Raw[TICKER],'Weekly Metrics'!$A7,Weekly_Data_Raw[END_DATE],'Weekly Metrics'!O$5), IF($B7=\"Churn\",SUMIFS(Weekly_Data_Raw[CHURNED_MEMBERS],Weekly_Data_Raw[TICKER],'Weekly Metrics'!$A7,Weekly_Data_Raw[END_DATE],'Weekly Metrics'!O$5)))))))","v":99670},{"$f":"IF($B7=\"Panel Sales\", SUMIFS(Weekly_Data_Raw[PANEL_AMOUNT],Weekly_Data_Raw[TICKER],'Weekly Metrics'!$A7,Weekly_Data_Raw[END_DATE],'Weekly Metrics'!P$5),IF($B7=\"Transactions\",SUMIFS(Weekly_Data_Raw[PANEL_TRANSACTIONS],Weekly_Data_Raw[TICKER],'Weekly Metrics'!$A7,Weekly_Data_Raw[END_DATE],'Weekly Metrics'!P$5), IF($B7=\"Avg Ticket\",SUMIFS(Weekly_Data_Raw[AVG_TICKET],Weekly_Data_Raw[TICKER],'Weekly Metrics'!$A7,Weekly_Data_Raw[END_DATE],'Weekly Metrics'!P$5), IF($B7=\"EOP Subscribers\",SUMIFS(Weekly_Data_Raw[EOP_SUBSCRIBERS],Weekly_Data_Raw[TICKER],'Weekly Metrics'!$A7,Weekly_Data_Raw[END_DATE],'Weekly Metrics'!P$5), IF($B7=\"Gross Adds\",SUMIFS(Weekly_Data_Raw[GROSS_ADDS],Weekly_Data_Raw[TICKER],'Weekly Metrics'!$A7,Weekly_Data_Raw[END_DATE],'Weekly Metrics'!P$5), IF($B7=\"Churn\",SUMIFS(Weekly_Data_Raw[CHURNED_MEMBERS],Weekly_Data_Raw[TICKER],'Weekly Metrics'!$A7,Weekly_Data_Raw[END_DATE],'Weekly Metrics'!P$5)))))))","v":99777},{"$f":"IF($B7=\"Panel Sales\", SUMIFS(Weekly_Data_Raw[PANEL_AMOUNT],Weekly_Data_Raw[TICKER],'Weekly Metrics'!$A7,Weekly_Data_Raw[END_DATE],'Weekly Metrics'!Q$5),IF($B7=\"Transactions\",SUMIFS(Weekly_Data_Raw[PANEL_TRANSACTIONS],Weekly_Data_Raw[TICKER],'Weekly Metrics'!$A7,Weekly_Data_Raw[END_DATE],'Weekly Metrics'!Q$5), IF($B7=\"Avg Ticket\",SUMIFS(Weekly_Data_Raw[AVG_TICKET],Weekly_Data_Raw[TICKER],'Weekly Metrics'!$A7,Weekly_Data_Raw[END_DATE],'Weekly Metrics'!Q$5), IF($B7=\"EOP Subscribers\",SUMIFS(Weekly_Data_Raw[EOP_SUBSCRIBERS],Weekly_Data_Raw[TICKER],'Weekly Metrics'!$A7,Weekly_Data_Raw[END_DATE],'Weekly Metrics'!Q$5), IF($B7=\"Gross Adds\",SUMIFS(Weekly_Data_Raw[GROSS_ADDS],Weekly_Data_Raw[TICKER],'Weekly Metrics'!$A7,Weekly_Data_Raw[END_DATE],'Weekly Metrics'!Q$5), IF($B7=\"Churn\",SUMIFS(Weekly_Data_Raw[CHURNED_MEMBERS],Weekly_Data_Raw[TICKER],'Weekly Metrics'!$A7,Weekly_Data_Raw[END_DATE],'Weekly Metrics'!Q$5)))))))","v":99893},{"$f":"IF($B7=\"Panel Sales\", SUMIFS(Weekly_Data_Raw[PANEL_AMOUNT],Weekly_Data_Raw[TICKER],'Weekly Metrics'!$A7,Weekly_Data_Raw[END_DATE],'Weekly Metrics'!R$5),IF($B7=\"Transactions\",SUMIFS(Weekly_Data_Raw[PANEL_TRANSACTIONS],Weekly_Data_Raw[TICKER],'Weekly Metrics'!$A7,Weekly_Data_Raw[END_DATE],'Weekly Metrics'!R$5), IF($B7=\"Avg Ticket\",SUMIFS(Weekly_Data_Raw[AVG_TICKET],Weekly_Data_Raw[TICKER],'Weekly Metrics'!$A7,Weekly_Data_Raw[END_DATE],'Weekly Metrics'!R$5), IF($B7=\"EOP Subscribers\",SUMIFS(Weekly_Data_Raw[EOP_SUBSCRIBERS],Weekly_Data_Raw[TICKER],'Weekly Metrics'!$A7,Weekly_Data_Raw[END_DATE],'Weekly Metrics'!R$5), IF($B7=\"Gross Adds\",SUMIFS(Weekly_Data_Raw[GROSS_ADDS],Weekly_Data_Raw[TICKER],'Weekly Metrics'!$A7,Weekly_Data_Raw[END_DATE],'Weekly Metrics'!R$5), IF($B7=\"Churn\",SUMIFS(Weekly_Data_Raw[CHURNED_MEMBERS],Weekly_Data_Raw[TICKER],'Weekly Metrics'!$A7,Weekly_Data_Raw[END_DATE],'Weekly Metrics'!R$5)))))))","v":99990},{"$f":"IF($B7=\"Panel Sales\", SUMIFS(Weekly_Data_Raw[PANEL_AMOUNT],Weekly_Data_Raw[TICKER],'Weekly Metrics'!$A7,Weekly_Data_Raw[END_DATE],'Weekly Metrics'!S$5),IF($B7=\"Transactions\",SUMIFS(Weekly_Data_Raw[PANEL_TRANSACTIONS],Weekly_Data_Raw[TICKER],'Weekly Metrics'!$A7,Weekly_Data_Raw[END_DATE],'Weekly Metrics'!S$5), IF($B7=\"Avg Ticket\",SUMIFS(Weekly_Data_Raw[AVG_TICKET],Weekly_Data_Raw[TICKER],'Weekly Metrics'!$A7,Weekly_Data_Raw[END_DATE],'Weekly Metrics'!S$5), IF($B7=\"EOP Subscribers\",SUMIFS(Weekly_Data_Raw[EOP_SUBSCRIBERS],Weekly_Data_Raw[TICKER],'Weekly Metrics'!$A7,Weekly_Data_Raw[END_DATE],'Weekly Metrics'!S$5), IF($B7=\"Gross Adds\",SUMIFS(Weekly_Data_Raw[GROSS_ADDS],Weekly_Data_Raw[TICKER],'Weekly Metrics'!$A7,Weekly_Data_Raw[END_DATE],'Weekly Metrics'!S$5), IF($B7=\"Churn\",SUMIFS(Weekly_Data_Raw[CHURNED_MEMBERS],Weekly_Data_Raw[TICKER],'Weekly Metrics'!$A7,Weekly_Data_Raw[END_DATE],'Weekly Metrics'!S$5)))))))","v":100094},{"$f":"IF($B7=\"Panel Sales\", SUMIFS(Weekly_Data_Raw[PANEL_AMOUNT],Weekly_Data_Raw[TICKER],'Weekly Metrics'!$A7,Weekly_Data_Raw[END_DATE],'Weekly Metrics'!T$5),IF($B7=\"Transactions\",SUMIFS(Weekly_Data_Raw[PANEL_TRANSACTIONS],Weekly_Data_Raw[TICKER],'Weekly Metrics'!$A7,Weekly_Data_Raw[END_DATE],'Weekly Metrics'!T$5), IF($B7=\"Avg Ticket\",SUMIFS(Weekly_Data_Raw[AVG_TICKET],Weekly_Data_Raw[TICKER],'Weekly Metrics'!$A7,Weekly_Data_Raw[END_DATE],'Weekly Metrics'!T$5), IF($B7=\"EOP Subscribers\",SUMIFS(Weekly_Data_Raw[EOP_SUBSCRIBERS],Weekly_Data_Raw[TICKER],'Weekly Metrics'!$A7,Weekly_Data_Raw[END_DATE],'Weekly Metrics'!T$5), IF($B7=\"Gross Adds\",SUMIFS(Weekly_Data_Raw[GROSS_ADDS],Weekly_Data_Raw[TICKER],'Weekly Metrics'!$A7,Weekly_Data_Raw[END_DATE],'Weekly Metrics'!T$5), IF($B7=\"Churn\",SUMIFS(Weekly_Data_Raw[CHURNED_MEMBERS],Weekly_Data_Raw[TICKER],'Weekly Metrics'!$A7,Weekly_Data_Raw[END_DATE],'Weekly Metrics'!T$5)))))))","v":100153},{"$f":"IF($B7=\"Panel Sales\", SUMIFS(Weekly_Data_Raw[PANEL_AMOUNT],Weekly_Data_Raw[TICKER],'Weekly Metrics'!$A7,Weekly_Data_Raw[END_DATE],'Weekly Metrics'!U$5),IF($B7=\"Transactions\",SUMIFS(Weekly_Data_Raw[PANEL_TRANSACTIONS],Weekly_Data_Raw[TICKER],'Weekly Metrics'!$A7,Weekly_Data_Raw[END_DATE],'Weekly Metrics'!U$5), IF($B7=\"Avg Ticket\",SUMIFS(Weekly_Data_Raw[AVG_TICKET],Weekly_Data_Raw[TICKER],'Weekly Metrics'!$A7,Weekly_Data_Raw[END_DATE],'Weekly Metrics'!U$5), IF($B7=\"EOP Subscribers\",SUMIFS(Weekly_Data_Raw[EOP_SUBSCRIBERS],Weekly_Data_Raw[TICKER],'Weekly Metrics'!$A7,Weekly_Data_Raw[END_DATE],'Weekly Metrics'!U$5), IF($B7=\"Gross Adds\",SUMIFS(Weekly_Data_Raw[GROSS_ADDS],Weekly_Data_Raw[TICKER],'Weekly Metrics'!$A7,Weekly_Data_Raw[END_DATE],'Weekly Metrics'!U$5), IF($B7=\"Churn\",SUMIFS(Weekly_Data_Raw[CHURNED_MEMBERS],Weekly_Data_Raw[TICKER],'Weekly Metrics'!$A7,Weekly_Data_Raw[END_DATE],'Weekly Metrics'!U$5)))))))","v":100224},{"$f":"IF($B7=\"Panel Sales\", SUMIFS(Weekly_Data_Raw[PANEL_AMOUNT],Weekly_Data_Raw[TICKER],'Weekly Metrics'!$A7,Weekly_Data_Raw[END_DATE],'Weekly Metrics'!V$5),IF($B7=\"Transactions\",SUMIFS(Weekly_Data_Raw[PANEL_TRANSACTIONS],Weekly_Data_Raw[TICKER],'Weekly Metrics'!$A7,Weekly_Data_Raw[END_DATE],'Weekly Metrics'!V$5), IF($B7=\"Avg Ticket\",SUMIFS(Weekly_Data_Raw[AVG_TICKET],Weekly_Data_Raw[TICKER],'Weekly Metrics'!$A7,Weekly_Data_Raw[END_DATE],'Weekly Metrics'!V$5), IF($B7=\"EOP Subscribers\",SUMIFS(Weekly_Data_Raw[EOP_SUBSCRIBERS],Weekly_Data_Raw[TICKER],'Weekly Metrics'!$A7,Weekly_Data_Raw[END_DATE],'Weekly Metrics'!V$5), IF($B7=\"Gross Adds\",SUMIFS(Weekly_Data_Raw[GROSS_ADDS],Weekly_Data_Raw[TICKER],'Weekly Metrics'!$A7,Weekly_Data_Raw[END_DATE],'Weekly Metrics'!V$5), IF($B7=\"Churn\",SUMIFS(Weekly_Data_Raw[CHURNED_MEMBERS],Weekly_Data_Raw[TICKER],'Weekly Metrics'!$A7,Weekly_Data_Raw[END_DATE],'Weekly Metrics'!V$5)))))))","v":100392},{"$f":"IF($B7=\"Panel Sales\", SUMIFS(Weekly_Data_Raw[PANEL_AMOUNT],Weekly_Data_Raw[TICKER],'Weekly Metrics'!$A7,Weekly_Data_Raw[END_DATE],'Weekly Metrics'!W$5),IF($B7=\"Transactions\",SUMIFS(Weekly_Data_Raw[PANEL_TRANSACTIONS],Weekly_Data_Raw[TICKER],'Weekly Metrics'!$A7,Weekly_Data_Raw[END_DATE],'Weekly Metrics'!W$5), IF($B7=\"Avg Ticket\",SUMIFS(Weekly_Data_Raw[AVG_TICKET],Weekly_Data_Raw[TICKER],'Weekly Metrics'!$A7,Weekly_Data_Raw[END_DATE],'Weekly Metrics'!W$5), IF($B7=\"EOP Subscribers\",SUMIFS(Weekly_Data_Raw[EOP_SUBSCRIBERS],Weekly_Data_Raw[TICKER],'Weekly Metrics'!$A7,Weekly_Data_Raw[END_DATE],'Weekly Metrics'!W$5), IF($B7=\"Gross Adds\",SUMIFS(Weekly_Data_Raw[GROSS_ADDS],Weekly_Data_Raw[TICKER],'Weekly Metrics'!$A7,Weekly_Data_Raw[END_DATE],'Weekly Metrics'!W$5), IF($B7=\"Churn\",SUMIFS(Weekly_Data_Raw[CHURNED_MEMBERS],Weekly_Data_Raw[TICKER],'Weekly Metrics'!$A7,Weekly_Data_Raw[END_DATE],'Weekly Metrics'!W$5)))))))","v":100594},{"$f":"IF($B7=\"Panel Sales\", SUMIFS(Weekly_Data_Raw[PANEL_AMOUNT],Weekly_Data_Raw[TICKER],'Weekly Metrics'!$A7,Weekly_Data_Raw[END_DATE],'Weekly Metrics'!X$5),IF($B7=\"Transactions\",SUMIFS(Weekly_Data_Raw[PANEL_TRANSACTIONS],Weekly_Data_Raw[TICKER],'Weekly Metrics'!$A7,Weekly_Data_Raw[END_DATE],'Weekly Metrics'!X$5), IF($B7=\"Avg Ticket\",SUMIFS(Weekly_Data_Raw[AVG_TICKET],Weekly_Data_Raw[TICKER],'Weekly Metrics'!$A7,Weekly_Data_Raw[END_DATE],'Weekly Metrics'!X$5), IF($B7=\"EOP Subscribers\",SUMIFS(Weekly_Data_Raw[EOP_SUBSCRIBERS],Weekly_Data_Raw[TICKER],'Weekly Metrics'!$A7,Weekly_Data_Raw[END_DATE],'Weekly Metrics'!X$5), IF($B7=\"Gross Adds\",SUMIFS(Weekly_Data_Raw[GROSS_ADDS],Weekly_Data_Raw[TICKER],'Weekly Metrics'!$A7,Weekly_Data_Raw[END_DATE],'Weekly Metrics'!X$5), IF($B7=\"Churn\",SUMIFS(Weekly_Data_Raw[CHURNED_MEMBERS],Weekly_Data_Raw[TICKER],'Weekly Metrics'!$A7,Weekly_Data_Raw[END_DATE],'Weekly Metrics'!X$5)))))))","v":100702},{"$f":"IF($B7=\"Panel Sales\", SUMIFS(Weekly_Data_Raw[PANEL_AMOUNT],Weekly_Data_Raw[TICKER],'Weekly Metrics'!$A7,Weekly_Data_Raw[END_DATE],'Weekly Metrics'!Y$5),IF($B7=\"Transactions\",SUMIFS(Weekly_Data_Raw[PANEL_TRANSACTIONS],Weekly_Data_Raw[TICKER],'Weekly Metrics'!$A7,Weekly_Data_Raw[END_DATE],'Weekly Metrics'!Y$5), IF($B7=\"Avg Ticket\",SUMIFS(Weekly_Data_Raw[AVG_TICKET],Weekly_Data_Raw[TICKER],'Weekly Metrics'!$A7,Weekly_Data_Raw[END_DATE],'Weekly Metrics'!Y$5), IF($B7=\"EOP Subscribers\",SUMIFS(Weekly_Data_Raw[EOP_SUBSCRIBERS],Weekly_Data_Raw[TICKER],'Weekly Metrics'!$A7,Weekly_Data_Raw[END_DATE],'Weekly Metrics'!Y$5), IF($B7=\"Gross Adds\",SUMIFS(Weekly_Data_Raw[GROSS_ADDS],Weekly_Data_Raw[TICKER],'Weekly Metrics'!$A7,Weekly_Data_Raw[END_DATE],'Weekly Metrics'!Y$5), IF($B7=\"Churn\",SUMIFS(Weekly_Data_Raw[CHURNED_MEMBERS],Weekly_Data_Raw[TICKER],'Weekly Metrics'!$A7,Weekly_Data_Raw[END_DATE],'Weekly Metrics'!Y$5)))))))","v":100822},{"$f":"IF($B7=\"Panel Sales\", SUMIFS(Weekly_Data_Raw[PANEL_AMOUNT],Weekly_Data_Raw[TICKER],'Weekly Metrics'!$A7,Weekly_Data_Raw[END_DATE],'Weekly Metrics'!Z$5),IF($B7=\"Transactions\",SUMIFS(Weekly_Data_Raw[PANEL_TRANSACTIONS],Weekly_Data_Raw[TICKER],'Weekly Metrics'!$A7,Weekly_Data_Raw[END_DATE],'Weekly Metrics'!Z$5), IF($B7=\"Avg Ticket\",SUMIFS(Weekly_Data_Raw[AVG_TICKET],Weekly_Data_Raw[TICKER],'Weekly Metrics'!$A7,Weekly_Data_Raw[END_DATE],'Weekly Metrics'!Z$5), IF($B7=\"EOP Subscribers\",SUMIFS(Weekly_Data_Raw[EOP_SUBSCRIBERS],Weekly_Data_Raw[TICKER],'Weekly Metrics'!$A7,Weekly_Data_Raw[END_DATE],'Weekly Metrics'!Z$5), IF($B7=\"Gross Adds\",SUMIFS(Weekly_Data_Raw[GROSS_ADDS],Weekly_Data_Raw[TICKER],'Weekly Metrics'!$A7,Weekly_Data_Raw[END_DATE],'Weekly Metrics'!Z$5), IF($B7=\"Churn\",SUMIFS(Weekly_Data_Raw[CHURNED_MEMBERS],Weekly_Data_Raw[TICKER],'Weekly Metrics'!$A7,Weekly_Data_Raw[END_DATE],'Weekly Metrics'!Z$5)))))))","v":100944},{"$f":"IF($B7=\"Panel Sales\", SUMIFS(Weekly_Data_Raw[PANEL_AMOUNT],Weekly_Data_Raw[TICKER],'Weekly Metrics'!$A7,Weekly_Data_Raw[END_DATE],'Weekly Metrics'!AA$5),IF($B7=\"Transactions\",SUMIFS(Weekly_Data_Raw[PANEL_TRANSACTIONS],Weekly_Data_Raw[TICKER],'Weekly Metrics'!$A7,Weekly_Data_Raw[END_DATE],'Weekly Metrics'!AA$5), IF($B7=\"Avg Ticket\",SUMIFS(Weekly_Data_Raw[AVG_TICKET],Weekly_Data_Raw[TICKER],'Weekly Metrics'!$A7,Weekly_Data_Raw[END_DATE],'Weekly Metrics'!AA$5), IF($B7=\"EOP Subscribers\",SUMIFS(Weekly_Data_Raw[EOP_SUBSCRIBERS],Weekly_Data_Raw[TICKER],'Weekly Metrics'!$A7,Weekly_Data_Raw[END_DATE],'Weekly Metrics'!AA$5), IF($B7=\"Gross Adds\",SUMIFS(Weekly_Data_Raw[GROSS_ADDS],Weekly_Data_Raw[TICKER],'Weekly Metrics'!$A7,Weekly_Data_Raw[END_DATE],'Weekly Metrics'!AA$5), IF($B7=\"Churn\",SUMIFS(Weekly_Data_Raw[CHURNED_MEMBERS],Weekly_Data_Raw[TICKER],'Weekly Metrics'!$A7,Weekly_Data_Raw[END_DATE],'Weekly Metrics'!AA$5)))))))","v":101124},{"$f":"IF($B7=\"Panel Sales\", SUMIFS(Weekly_Data_Raw[PANEL_AMOUNT],Weekly_Data_Raw[TICKER],'Weekly Metrics'!$A7,Weekly_Data_Raw[END_DATE],'Weekly Metrics'!AB$5),IF($B7=\"Transactions\",SUMIFS(Weekly_Data_Raw[PANEL_TRANSACTIONS],Weekly_Data_Raw[TICKER],'Weekly Metrics'!$A7,Weekly_Data_Raw[END_DATE],'Weekly Metrics'!AB$5), IF($B7=\"Avg Ticket\",SUMIFS(Weekly_Data_Raw[AVG_TICKET],Weekly_Data_Raw[TICKER],'Weekly Metrics'!$A7,Weekly_Data_Raw[END_DATE],'Weekly Metrics'!AB$5), IF($B7=\"EOP Subscribers\",SUMIFS(Weekly_Data_Raw[EOP_SUBSCRIBERS],Weekly_Data_Raw[TICKER],'Weekly Metrics'!$A7,Weekly_Data_Raw[END_DATE],'Weekly Metrics'!AB$5), IF($B7=\"Gross Adds\",SUMIFS(Weekly_Data_Raw[GROSS_ADDS],Weekly_Data_Raw[TICKER],'Weekly Metrics'!$A7,Weekly_Data_Raw[END_DATE],'Weekly Metrics'!AB$5), IF($B7=\"Churn\",SUMIFS(Weekly_Data_Raw[CHURNED_MEMBERS],Weekly_Data_Raw[TICKER],'Weekly Metrics'!$A7,Weekly_Data_Raw[END_DATE],'Weekly Metrics'!AB$5)))))))","v":101260},{"$f":"IF($B7=\"Panel Sales\", SUMIFS(Weekly_Data_Raw[PANEL_AMOUNT],Weekly_Data_Raw[TICKER],'Weekly Metrics'!$A7,Weekly_Data_Raw[END_DATE],'Weekly Metrics'!AC$5),IF($B7=\"Transactions\",SUMIFS(Weekly_Data_Raw[PANEL_TRANSACTIONS],Weekly_Data_Raw[TICKER],'Weekly Metrics'!$A7,Weekly_Data_Raw[END_DATE],'Weekly Metrics'!AC$5), IF($B7=\"Avg Ticket\",SUMIFS(Weekly_Data_Raw[AVG_TICKET],Weekly_Data_Raw[TICKER],'Weekly Metrics'!$A7,Weekly_Data_Raw[END_DATE],'Weekly Metrics'!AC$5), IF($B7=\"EOP Subscribers\",SUMIFS(Weekly_Data_Raw[EOP_SUBSCRIBERS],Weekly_Data_Raw[TICKER],'Weekly Metrics'!$A7,Weekly_Data_Raw[END_DATE],'Weekly Metrics'!AC$5), IF($B7=\"Gross Adds\",SUMIFS(Weekly_Data_Raw[GROSS_ADDS],Weekly_Data_Raw[TICKER],'Weekly Metrics'!$A7,Weekly_Data_Raw[END_DATE],'Weekly Metrics'!AC$5), IF($B7=\"Churn\",SUMIFS(Weekly_Data_Raw[CHURNED_MEMBERS],Weekly_Data_Raw[TICKER],'Weekly Metrics'!$A7,Weekly_Data_Raw[END_DATE],'Weekly Metrics'!AC$5)))))))","v":101459},{"$f":"IF($B7=\"Panel Sales\", SUMIFS(Weekly_Data_Raw[PANEL_AMOUNT],Weekly_Data_Raw[TICKER],'Weekly Metrics'!$A7,Weekly_Data_Raw[END_DATE],'Weekly Metrics'!AD$5),IF($B7=\"Transactions\",SUMIFS(Weekly_Data_Raw[PANEL_TRANSACTIONS],Weekly_Data_Raw[TICKER],'Weekly Metrics'!$A7,Weekly_Data_Raw[END_DATE],'Weekly Metrics'!AD$5), IF($B7=\"Avg Ticket\",SUMIFS(Weekly_Data_Raw[AVG_TICKET],Weekly_Data_Raw[TICKER],'Weekly Metrics'!$A7,Weekly_Data_Raw[END_DATE],'Weekly Metrics'!AD$5), IF($B7=\"EOP Subscribers\",SUMIFS(Weekly_Data_Raw[EOP_SUBSCRIBERS],Weekly_Data_Raw[TICKER],'Weekly Metrics'!$A7,Weekly_Data_Raw[END_DATE],'Weekly Metrics'!AD$5), IF($B7=\"Gross Adds\",SUMIFS(Weekly_Data_Raw[GROSS_ADDS],Weekly_Data_Raw[TICKER],'Weekly Metrics'!$A7,Weekly_Data_Raw[END_DATE],'Weekly Metrics'!AD$5), IF($B7=\"Churn\",SUMIFS(Weekly_Data_Raw[CHURNED_MEMBERS],Weekly_Data_Raw[TICKER],'Weekly Metrics'!$A7,Weekly_Data_Raw[END_DATE],'Weekly Metrics'!AD$5)))))))","v":101629},{"$f":"IF($B7=\"Panel Sales\", SUMIFS(Weekly_Data_Raw[PANEL_AMOUNT],Weekly_Data_Raw[TICKER],'Weekly Metrics'!$A7,Weekly_Data_Raw[END_DATE],'Weekly Metrics'!AE$5),IF($B7=\"Transactions\",SUMIFS(Weekly_Data_Raw[PANEL_TRANSACTIONS],Weekly_Data_Raw[TICKER],'Weekly Metrics'!$A7,Weekly_Data_Raw[END_DATE],'Weekly Metrics'!AE$5), IF($B7=\"Avg Ticket\",SUMIFS(Weekly_Data_Raw[AVG_TICKET],Weekly_Data_Raw[TICKER],'Weekly Metrics'!$A7,Weekly_Data_Raw[END_DATE],'Weekly Metrics'!AE$5), IF($B7=\"EOP Subscribers\",SUMIFS(Weekly_Data_Raw[EOP_SUBSCRIBERS],Weekly_Data_Raw[TICKER],'Weekly Metrics'!$A7,Weekly_Data_Raw[END_DATE],'Weekly Metrics'!AE$5), IF($B7=\"Gross Adds\",SUMIFS(Weekly_Data_Raw[GROSS_ADDS],Weekly_Data_Raw[TICKER],'Weekly Metrics'!$A7,Weekly_Data_Raw[END_DATE],'Weekly Metrics'!AE$5), IF($B7=\"Churn\",SUMIFS(Weekly_Data_Raw[CHURNED_MEMBERS],Weekly_Data_Raw[TICKER],'Weekly Metrics'!$A7,Weekly_Data_Raw[END_DATE],'Weekly Metrics'!AE$5)))))))","v":101786},{"$f":"IF($B7=\"Panel Sales\", SUMIFS(Weekly_Data_Raw[PANEL_AMOUNT],Weekly_Data_Raw[TICKER],'Weekly Metrics'!$A7,Weekly_Data_Raw[END_DATE],'Weekly Metrics'!AF$5),IF($B7=\"Transactions\",SUMIFS(Weekly_Data_Raw[PANEL_TRANSACTIONS],Weekly_Data_Raw[TICKER],'Weekly Metrics'!$A7,Weekly_Data_Raw[END_DATE],'Weekly Metrics'!AF$5), IF($B7=\"Avg Ticket\",SUMIFS(Weekly_Data_Raw[AVG_TICKET],Weekly_Data_Raw[TICKER],'Weekly Metrics'!$A7,Weekly_Data_Raw[END_DATE],'Weekly Metrics'!AF$5), IF($B7=\"EOP Subscribers\",SUMIFS(Weekly_Data_Raw[EOP_SUBSCRIBERS],Weekly_Data_Raw[TICKER],'Weekly Metrics'!$A7,Weekly_Data_Raw[END_DATE],'Weekly Metrics'!AF$5), IF($B7=\"Gross Adds\",SUMIFS(Weekly_Data_Raw[GROSS_ADDS],Weekly_Data_Raw[TICKER],'Weekly Metrics'!$A7,Weekly_Data_Raw[END_DATE],'Weekly Metrics'!AF$5), IF($B7=\"Churn\",SUMIFS(Weekly_Data_Raw[CHURNED_MEMBERS],Weekly_Data_Raw[TICKER],'Weekly Metrics'!$A7,Weekly_Data_Raw[END_DATE],'Weekly Metrics'!AF$5)))))))","v":101958},{"$f":"IF($B7=\"Panel Sales\", SUMIFS(Weekly_Data_Raw[PANEL_AMOUNT],Weekly_Data_Raw[TICKER],'Weekly Metrics'!$A7,Weekly_Data_Raw[END_DATE],'Weekly Metrics'!AG$5),IF($B7=\"Transactions\",SUMIFS(Weekly_Data_Raw[PANEL_TRANSACTIONS],Weekly_Data_Raw[TICKER],'Weekly Metrics'!$A7,Weekly_Data_Raw[END_DATE],'Weekly Metrics'!AG$5), IF($B7=\"Avg Ticket\",SUMIFS(Weekly_Data_Raw[AVG_TICKET],Weekly_Data_Raw[TICKER],'Weekly Metrics'!$A7,Weekly_Data_Raw[END_DATE],'Weekly Metrics'!AG$5), IF($B7=\"EOP Subscribers\",SUMIFS(Weekly_Data_Raw[EOP_SUBSCRIBERS],Weekly_Data_Raw[TICKER],'Weekly Metrics'!$A7,Weekly_Data_Raw[END_DATE],'Weekly Metrics'!AG$5), IF($B7=\"Gross Adds\",SUMIFS(Weekly_Data_Raw[GROSS_ADDS],Weekly_Data_Raw[TICKER],'Weekly Metrics'!$A7,Weekly_Data_Raw[END_DATE],'Weekly Metrics'!AG$5), IF($B7=\"Churn\",SUMIFS(Weekly_Data_Raw[CHURNED_MEMBERS],Weekly_Data_Raw[TICKER],'Weekly Metrics'!$A7,Weekly_Data_Raw[END_DATE],'Weekly Metrics'!AG$5)))))))","v":102029},{"$f":"IF($B7=\"Panel Sales\", SUMIFS(Weekly_Data_Raw[PANEL_AMOUNT],Weekly_Data_Raw[TICKER],'Weekly Metrics'!$A7,Weekly_Data_Raw[END_DATE],'Weekly Metrics'!AH$5),IF($B7=\"Transactions\",SUMIFS(Weekly_Data_Raw[PANEL_TRANSACTIONS],Weekly_Data_Raw[TICKER],'Weekly Metrics'!$A7,Weekly_Data_Raw[END_DATE],'Weekly Metrics'!AH$5), IF($B7=\"Avg Ticket\",SUMIFS(Weekly_Data_Raw[AVG_TICKET],Weekly_Data_Raw[TICKER],'Weekly Metrics'!$A7,Weekly_Data_Raw[END_DATE],'Weekly Metrics'!AH$5), IF($B7=\"EOP Subscribers\",SUMIFS(Weekly_Data_Raw[EOP_SUBSCRIBERS],Weekly_Data_Raw[TICKER],'Weekly Metrics'!$A7,Weekly_Data_Raw[END_DATE],'Weekly Metrics'!AH$5), IF($B7=\"Gross Adds\",SUMIFS(Weekly_Data_Raw[GROSS_ADDS],Weekly_Data_Raw[TICKER],'Weekly Metrics'!$A7,Weekly_Data_Raw[END_DATE],'Weekly Metrics'!AH$5), IF($B7=\"Churn\",SUMIFS(Weekly_Data_Raw[CHURNED_MEMBERS],Weekly_Data_Raw[TICKER],'Weekly Metrics'!$A7,Weekly_Data_Raw[END_DATE],'Weekly Metrics'!AH$5)))))))","v":102230},{"$f":"IF($B7=\"Panel Sales\", SUMIFS(Weekly_Data_Raw[PANEL_AMOUNT],Weekly_Data_Raw[TICKER],'Weekly Metrics'!$A7,Weekly_Data_Raw[END_DATE],'Weekly Metrics'!AI$5),IF($B7=\"Transactions\",SUMIFS(Weekly_Data_Raw[PANEL_TRANSACTIONS],Weekly_Data_Raw[TICKER],'Weekly Metrics'!$A7,Weekly_Data_Raw[END_DATE],'Weekly Metrics'!AI$5), IF($B7=\"Avg Ticket\",SUMIFS(Weekly_Data_Raw[AVG_TICKET],Weekly_Data_Raw[TICKER],'Weekly Metrics'!$A7,Weekly_Data_Raw[END_DATE],'Weekly Metrics'!AI$5), IF($B7=\"EOP Subscribers\",SUMIFS(Weekly_Data_Raw[EOP_SUBSCRIBERS],Weekly_Data_Raw[TICKER],'Weekly Metrics'!$A7,Weekly_Data_Raw[END_DATE],'Weekly Metrics'!AI$5), IF($B7=\"Gross Adds\",SUMIFS(Weekly_Data_Raw[GROSS_ADDS],Weekly_Data_Raw[TICKER],'Weekly Metrics'!$A7,Weekly_Data_Raw[END_DATE],'Weekly Metrics'!AI$5), IF($B7=\"Churn\",SUMIFS(Weekly_Data_Raw[CHURNED_MEMBERS],Weekly_Data_Raw[TICKER],'Weekly Metrics'!$A7,Weekly_Data_Raw[END_DATE],'Weekly Metrics'!AI$5)))))))","v":102384},{"$f":"IF($B7=\"Panel Sales\", SUMIFS(Weekly_Data_Raw[PANEL_AMOUNT],Weekly_Data_Raw[TICKER],'Weekly Metrics'!$A7,Weekly_Data_Raw[END_DATE],'Weekly Metrics'!AJ$5),IF($B7=\"Transactions\",SUMIFS(Weekly_Data_Raw[PANEL_TRANSACTIONS],Weekly_Data_Raw[TICKER],'Weekly Metrics'!$A7,Weekly_Data_Raw[END_DATE],'Weekly Metrics'!AJ$5), IF($B7=\"Avg Ticket\",SUMIFS(Weekly_Data_Raw[AVG_TICKET],Weekly_Data_Raw[TICKER],'Weekly Metrics'!$A7,Weekly_Data_Raw[END_DATE],'Weekly Metrics'!AJ$5), IF($B7=\"EOP Subscribers\",SUMIFS(Weekly_Data_Raw[EOP_SUBSCRIBERS],Weekly_Data_Raw[TICKER],'Weekly Metrics'!$A7,Weekly_Data_Raw[END_DATE],'Weekly Metrics'!AJ$5), IF($B7=\"Gross Adds\",SUMIFS(Weekly_Data_Raw[GROSS_ADDS],Weekly_Data_Raw[TICKER],'Weekly Metrics'!$A7,Weekly_Data_Raw[END_DATE],'Weekly Metrics'!AJ$5), IF($B7=\"Churn\",SUMIFS(Weekly_Data_Raw[CHURNED_MEMBERS],Weekly_Data_Raw[TICKER],'Weekly Metrics'!$A7,Weekly_Data_Raw[END_DATE],'Weekly Metrics'!AJ$5)))))))","v":102520},{"$f":"IF($B7=\"Panel Sales\", SUMIFS(Weekly_Data_Raw[PANEL_AMOUNT],Weekly_Data_Raw[TICKER],'Weekly Metrics'!$A7,Weekly_Data_Raw[END_DATE],'Weekly Metrics'!AK$5),IF($B7=\"Transactions\",SUMIFS(Weekly_Data_Raw[PANEL_TRANSACTIONS],Weekly_Data_Raw[TICKER],'Weekly Metrics'!$A7,Weekly_Data_Raw[END_DATE],'Weekly Metrics'!AK$5), IF($B7=\"Avg Ticket\",SUMIFS(Weekly_Data_Raw[AVG_TICKET],Weekly_Data_Raw[TICKER],'Weekly Metrics'!$A7,Weekly_Data_Raw[END_DATE],'Weekly Metrics'!AK$5), IF($B7=\"EOP Subscribers\",SUMIFS(Weekly_Data_Raw[EOP_SUBSCRIBERS],Weekly_Data_Raw[TICKER],'Weekly Metrics'!$A7,Weekly_Data_Raw[END_DATE],'Weekly Metrics'!AK$5), IF($B7=\"Gross Adds\",SUMIFS(Weekly_Data_Raw[GROSS_ADDS],Weekly_Data_Raw[TICKER],'Weekly Metrics'!$A7,Weekly_Data_Raw[END_DATE],'Weekly Metrics'!AK$5), IF($B7=\"Churn\",SUMIFS(Weekly_Data_Raw[CHURNED_MEMBERS],Weekly_Data_Raw[TICKER],'Weekly Metrics'!$A7,Weekly_Data_Raw[END_DATE],'Weekly Metrics'!AK$5)))))))","v":102708},{"$f":"IF($B7=\"Panel Sales\", SUMIFS(Weekly_Data_Raw[PANEL_AMOUNT],Weekly_Data_Raw[TICKER],'Weekly Metrics'!$A7,Weekly_Data_Raw[END_DATE],'Weekly Metrics'!AL$5),IF($B7=\"Transactions\",SUMIFS(Weekly_Data_Raw[PANEL_TRANSACTIONS],Weekly_Data_Raw[TICKER],'Weekly Metrics'!$A7,Weekly_Data_Raw[END_DATE],'Weekly Metrics'!AL$5), IF($B7=\"Avg Ticket\",SUMIFS(Weekly_Data_Raw[AVG_TICKET],Weekly_Data_Raw[TICKER],'Weekly Metrics'!$A7,Weekly_Data_Raw[END_DATE],'Weekly Metrics'!AL$5), IF($B7=\"EOP Subscribers\",SUMIFS(Weekly_Data_Raw[EOP_SUBSCRIBERS],Weekly_Data_Raw[TICKER],'Weekly Metrics'!$A7,Weekly_Data_Raw[END_DATE],'Weekly Metrics'!AL$5), IF($B7=\"Gross Adds\",SUMIFS(Weekly_Data_Raw[GROSS_ADDS],Weekly_Data_Raw[TICKER],'Weekly Metrics'!$A7,Weekly_Data_Raw[END_DATE],'Weekly Metrics'!AL$5), IF($B7=\"Churn\",SUMIFS(Weekly_Data_Raw[CHURNED_MEMBERS],Weekly_Data_Raw[TICKER],'Weekly Metrics'!$A7,Weekly_Data_Raw[END_DATE],'Weekly Metrics'!AL$5)))))))","v":102832},{"$f":"IF($B7=\"Panel Sales\", SUMIFS(Weekly_Data_Raw[PANEL_AMOUNT],Weekly_Data_Raw[TICKER],'Weekly Metrics'!$A7,Weekly_Data_Raw[END_DATE],'Weekly Metrics'!AM$5),IF($B7=\"Transactions\",SUMIFS(Weekly_Data_Raw[PANEL_TRANSACTIONS],Weekly_Data_Raw[TICKER],'Weekly Metrics'!$A7,Weekly_Data_Raw[END_DATE],'Weekly Metrics'!AM$5), IF($B7=\"Avg Ticket\",SUMIFS(Weekly_Data_Raw[AVG_TICKET],Weekly_Data_Raw[TICKER],'Weekly Metrics'!$A7,Weekly_Data_Raw[END_DATE],'Weekly Metrics'!AM$5), IF($B7=\"EOP Subscribers\",SUMIFS(Weekly_Data_Raw[EOP_SUBSCRIBERS],Weekly_Data_Raw[TICKER],'Weekly Metrics'!$A7,Weekly_Data_Raw[END_DATE],'Weekly Metrics'!AM$5), IF($B7=\"Gross Adds\",SUMIFS(Weekly_Data_Raw[GROSS_ADDS],Weekly_Data_Raw[TICKER],'Weekly Metrics'!$A7,Weekly_Data_Raw[END_DATE],'Weekly Metrics'!AM$5), IF($B7=\"Churn\",SUMIFS(Weekly_Data_Raw[CHURNED_MEMBERS],Weekly_Data_Raw[TICKER],'Weekly Metrics'!$A7,Weekly_Data_Raw[END_DATE],'Weekly Metrics'!AM$5)))))))","v":102885},{"$f":"IF($B7=\"Panel Sales\", SUMIFS(Weekly_Data_Raw[PANEL_AMOUNT],Weekly_Data_Raw[TICKER],'Weekly Metrics'!$A7,Weekly_Data_Raw[END_DATE],'Weekly Metrics'!AN$5),IF($B7=\"Transactions\",SUMIFS(Weekly_Data_Raw[PANEL_TRANSACTIONS],Weekly_Data_Raw[TICKER],'Weekly Metrics'!$A7,Weekly_Data_Raw[END_DATE],'Weekly Metrics'!AN$5), IF($B7=\"Avg Ticket\",SUMIFS(Weekly_Data_Raw[AVG_TICKET],Weekly_Data_Raw[TICKER],'Weekly Metrics'!$A7,Weekly_Data_Raw[END_DATE],'Weekly Metrics'!AN$5), IF($B7=\"EOP Subscribers\",SUMIFS(Weekly_Data_Raw[EOP_SUBSCRIBERS],Weekly_Data_Raw[TICKER],'Weekly Metrics'!$A7,Weekly_Data_Raw[END_DATE],'Weekly Metrics'!AN$5), IF($B7=\"Gross Adds\",SUMIFS(Weekly_Data_Raw[GROSS_ADDS],Weekly_Data_Raw[TICKER],'Weekly Metrics'!$A7,Weekly_Data_Raw[END_DATE],'Weekly Metrics'!AN$5), IF($B7=\"Churn\",SUMIFS(Weekly_Data_Raw[CHURNED_MEMBERS],Weekly_Data_Raw[TICKER],'Weekly Metrics'!$A7,Weekly_Data_Raw[END_DATE],'Weekly Metrics'!AN$5)))))))","v":103017},{"$f":"IF($B7=\"Panel Sales\", SUMIFS(Weekly_Data_Raw[PANEL_AMOUNT],Weekly_Data_Raw[TICKER],'Weekly Metrics'!$A7,Weekly_Data_Raw[END_DATE],'Weekly Metrics'!AO$5),IF($B7=\"Transactions\",SUMIFS(Weekly_Data_Raw[PANEL_TRANSACTIONS],Weekly_Data_Raw[TICKER],'Weekly Metrics'!$A7,Weekly_Data_Raw[END_DATE],'Weekly Metrics'!AO$5), IF($B7=\"Avg Ticket\",SUMIFS(Weekly_Data_Raw[AVG_TICKET],Weekly_Data_Raw[TICKER],'Weekly Metrics'!$A7,Weekly_Data_Raw[END_DATE],'Weekly Metrics'!AO$5), IF($B7=\"EOP Subscribers\",SUMIFS(Weekly_Data_Raw[EOP_SUBSCRIBERS],Weekly_Data_Raw[TICKER],'Weekly Metrics'!$A7,Weekly_Data_Raw[END_DATE],'Weekly Metrics'!AO$5), IF($B7=\"Gross Adds\",SUMIFS(Weekly_Data_Raw[GROSS_ADDS],Weekly_Data_Raw[TICKER],'Weekly Metrics'!$A7,Weekly_Data_Raw[END_DATE],'Weekly Metrics'!AO$5), IF($B7=\"Churn\",SUMIFS(Weekly_Data_Raw[CHURNED_MEMBERS],Weekly_Data_Raw[TICKER],'Weekly Metrics'!$A7,Weekly_Data_Raw[END_DATE],'Weekly Metrics'!AO$5)))))))","v":103128},{"$f":"IF($B7=\"Panel Sales\", SUMIFS(Weekly_Data_Raw[PANEL_AMOUNT],Weekly_Data_Raw[TICKER],'Weekly Metrics'!$A7,Weekly_Data_Raw[END_DATE],'Weekly Metrics'!AP$5),IF($B7=\"Transactions\",SUMIFS(Weekly_Data_Raw[PANEL_TRANSACTIONS],Weekly_Data_Raw[TICKER],'Weekly Metrics'!$A7,Weekly_Data_Raw[END_DATE],'Weekly Metrics'!AP$5), IF($B7=\"Avg Ticket\",SUMIFS(Weekly_Data_Raw[AVG_TICKET],Weekly_Data_Raw[TICKER],'Weekly Metrics'!$A7,Weekly_Data_Raw[END_DATE],'Weekly Metrics'!AP$5), IF($B7=\"EOP Subscribers\",SUMIFS(Weekly_Data_Raw[EOP_SUBSCRIBERS],Weekly_Data_Raw[TICKER],'Weekly Metrics'!$A7,Weekly_Data_Raw[END_DATE],'Weekly Metrics'!AP$5), IF($B7=\"Gross Adds\",SUMIFS(Weekly_Data_Raw[GROSS_ADDS],Weekly_Data_Raw[TICKER],'Weekly Metrics'!$A7,Weekly_Data_Raw[END_DATE],'Weekly Metrics'!AP$5), IF($B7=\"Churn\",SUMIFS(Weekly_Data_Raw[CHURNED_MEMBERS],Weekly_Data_Raw[TICKER],'Weekly Metrics'!$A7,Weekly_Data_Raw[END_DATE],'Weekly Metrics'!AP$5)))))))","v":103244},{"$f":"IF($B7=\"Panel Sales\", SUMIFS(Weekly_Data_Raw[PANEL_AMOUNT],Weekly_Data_Raw[TICKER],'Weekly Metrics'!$A7,Weekly_Data_Raw[END_DATE],'Weekly Metrics'!AQ$5),IF($B7=\"Transactions\",SUMIFS(Weekly_Data_Raw[PANEL_TRANSACTIONS],Weekly_Data_Raw[TICKER],'Weekly Metrics'!$A7,Weekly_Data_Raw[END_DATE],'Weekly Metrics'!AQ$5), IF($B7=\"Avg Ticket\",SUMIFS(Weekly_Data_Raw[AVG_TICKET],Weekly_Data_Raw[TICKER],'Weekly Metrics'!$A7,Weekly_Data_Raw[END_DATE],'Weekly Metrics'!AQ$5), IF($B7=\"EOP Subscribers\",SUMIFS(Weekly_Data_Raw[EOP_SUBSCRIBERS],Weekly_Data_Raw[TICKER],'Weekly Metrics'!$A7,Weekly_Data_Raw[END_DATE],'Weekly Metrics'!AQ$5), IF($B7=\"Gross Adds\",SUMIFS(Weekly_Data_Raw[GROSS_ADDS],Weekly_Data_Raw[TICKER],'Weekly Metrics'!$A7,Weekly_Data_Raw[END_DATE],'Weekly Metrics'!AQ$5), IF($B7=\"Churn\",SUMIFS(Weekly_Data_Raw[CHURNED_MEMBERS],Weekly_Data_Raw[TICKER],'Weekly Metrics'!$A7,Weekly_Data_Raw[END_DATE],'Weekly Metrics'!AQ$5)))))))","v":103270},{"$f":"IF($B7=\"Panel Sales\", SUMIFS(Weekly_Data_Raw[PANEL_AMOUNT],Weekly_Data_Raw[TICKER],'Weekly Metrics'!$A7,Weekly_Data_Raw[END_DATE],'Weekly Metrics'!AR$5),IF($B7=\"Transactions\",SUMIFS(Weekly_Data_Raw[PANEL_TRANSACTIONS],Weekly_Data_Raw[TICKER],'Weekly Metrics'!$A7,Weekly_Data_Raw[END_DATE],'Weekly Metrics'!AR$5), IF($B7=\"Avg Ticket\",SUMIFS(Weekly_Data_Raw[AVG_TICKET],Weekly_Data_Raw[TICKER],'Weekly Metrics'!$A7,Weekly_Data_Raw[END_DATE],'Weekly Metrics'!AR$5), IF($B7=\"EOP Subscribers\",SUMIFS(Weekly_Data_Raw[EOP_SUBSCRIBERS],Weekly_Data_Raw[TICKER],'Weekly Metrics'!$A7,Weekly_Data_Raw[END_DATE],'Weekly Metrics'!AR$5), IF($B7=\"Gross Adds\",SUMIFS(Weekly_Data_Raw[GROSS_ADDS],Weekly_Data_Raw[TICKER],'Weekly Metrics'!$A7,Weekly_Data_Raw[END_DATE],'Weekly Metrics'!AR$5), IF($B7=\"Churn\",SUMIFS(Weekly_Data_Raw[CHURNED_MEMBERS],Weekly_Data_Raw[TICKER],'Weekly Metrics'!$A7,Weekly_Data_Raw[END_DATE],'Weekly Metrics'!AR$5)))))))","v":103269},{"$f":"IF($B7=\"Panel Sales\", SUMIFS(Weekly_Data_Raw[PANEL_AMOUNT],Weekly_Data_Raw[TICKER],'Weekly Metrics'!$A7,Weekly_Data_Raw[END_DATE],'Weekly Metrics'!AS$5),IF($B7=\"Transactions\",SUMIFS(Weekly_Data_Raw[PANEL_TRANSACTIONS],Weekly_Data_Raw[TICKER],'Weekly Metrics'!$A7,Weekly_Data_Raw[END_DATE],'Weekly Metrics'!AS$5), IF($B7=\"Avg Ticket\",SUMIFS(Weekly_Data_Raw[AVG_TICKET],Weekly_Data_Raw[TICKER],'Weekly Metrics'!$A7,Weekly_Data_Raw[END_DATE],'Weekly Metrics'!AS$5), IF($B7=\"EOP Subscribers\",SUMIFS(Weekly_Data_Raw[EOP_SUBSCRIBERS],Weekly_Data_Raw[TICKER],'Weekly Metrics'!$A7,Weekly_Data_Raw[END_DATE],'Weekly Metrics'!AS$5), IF($B7=\"Gross Adds\",SUMIFS(Weekly_Data_Raw[GROSS_ADDS],Weekly_Data_Raw[TICKER],'Weekly Metrics'!$A7,Weekly_Data_Raw[END_DATE],'Weekly Metrics'!AS$5), IF($B7=\"Churn\",SUMIFS(Weekly_Data_Raw[CHURNED_MEMBERS],Weekly_Data_Raw[TICKER],'Weekly Metrics'!$A7,Weekly_Data_Raw[END_DATE],'Weekly Metrics'!AS$5)))))))","v":103307},{"$f":"IF($B7=\"Panel Sales\", SUMIFS(Weekly_Data_Raw[PANEL_AMOUNT],Weekly_Data_Raw[TICKER],'Weekly Metrics'!$A7,Weekly_Data_Raw[END_DATE],'Weekly Metrics'!AT$5),IF($B7=\"Transactions\",SUMIFS(Weekly_Data_Raw[PANEL_TRANSACTIONS],Weekly_Data_Raw[TICKER],'Weekly Metrics'!$A7,Weekly_Data_Raw[END_DATE],'Weekly Metrics'!AT$5), IF($B7=\"Avg Ticket\",SUMIFS(Weekly_Data_Raw[AVG_TICKET],Weekly_Data_Raw[TICKER],'Weekly Metrics'!$A7,Weekly_Data_Raw[END_DATE],'Weekly Metrics'!AT$5), IF($B7=\"EOP Subscribers\",SUMIFS(Weekly_Data_Raw[EOP_SUBSCRIBERS],Weekly_Data_Raw[TICKER],'Weekly Metrics'!$A7,Weekly_Data_Raw[END_DATE],'Weekly Metrics'!AT$5), IF($B7=\"Gross Adds\",SUMIFS(Weekly_Data_Raw[GROSS_ADDS],Weekly_Data_Raw[TICKER],'Weekly Metrics'!$A7,Weekly_Data_Raw[END_DATE],'Weekly Metrics'!AT$5), IF($B7=\"Churn\",SUMIFS(Weekly_Data_Raw[CHURNED_MEMBERS],Weekly_Data_Raw[TICKER],'Weekly Metrics'!$A7,Weekly_Data_Raw[END_DATE],'Weekly Metrics'!AT$5)))))))","v":103347},{"$f":"IF($B7=\"Panel Sales\", SUMIFS(Weekly_Data_Raw[PANEL_AMOUNT],Weekly_Data_Raw[TICKER],'Weekly Metrics'!$A7,Weekly_Data_Raw[END_DATE],'Weekly Metrics'!AU$5),IF($B7=\"Transactions\",SUMIFS(Weekly_Data_Raw[PANEL_TRANSACTIONS],Weekly_Data_Raw[TICKER],'Weekly Metrics'!$A7,Weekly_Data_Raw[END_DATE],'Weekly Metrics'!AU$5), IF($B7=\"Avg Ticket\",SUMIFS(Weekly_Data_Raw[AVG_TICKET],Weekly_Data_Raw[TICKER],'Weekly Metrics'!$A7,Weekly_Data_Raw[END_DATE],'Weekly Metrics'!AU$5), IF($B7=\"EOP Subscribers\",SUMIFS(Weekly_Data_Raw[EOP_SUBSCRIBERS],Weekly_Data_Raw[TICKER],'Weekly Metrics'!$A7,Weekly_Data_Raw[END_DATE],'Weekly Metrics'!AU$5), IF($B7=\"Gross Adds\",SUMIFS(Weekly_Data_Raw[GROSS_ADDS],Weekly_Data_Raw[TICKER],'Weekly Metrics'!$A7,Weekly_Data_Raw[END_DATE],'Weekly Metrics'!AU$5), IF($B7=\"Churn\",SUMIFS(Weekly_Data_Raw[CHURNED_MEMBERS],Weekly_Data_Raw[TICKER],'Weekly Metrics'!$A7,Weekly_Data_Raw[END_DATE],'Weekly Metrics'!AU$5)))))))","v":103405},{"$f":"IF($B7=\"Panel Sales\", SUMIFS(Weekly_Data_Raw[PANEL_AMOUNT],Weekly_Data_Raw[TICKER],'Weekly Metrics'!$A7,Weekly_Data_Raw[END_DATE],'Weekly Metrics'!AV$5),IF($B7=\"Transactions\",SUMIFS(Weekly_Data_Raw[PANEL_TRANSACTIONS],Weekly_Data_Raw[TICKER],'Weekly Metrics'!$A7,Weekly_Data_Raw[END_DATE],'Weekly Metrics'!AV$5), IF($B7=\"Avg Ticket\",SUMIFS(Weekly_Data_Raw[AVG_TICKET],Weekly_Data_Raw[TICKER],'Weekly Metrics'!$A7,Weekly_Data_Raw[END_DATE],'Weekly Metrics'!AV$5), IF($B7=\"EOP Subscribers\",SUMIFS(Weekly_Data_Raw[EOP_SUBSCRIBERS],Weekly_Data_Raw[TICKER],'Weekly Metrics'!$A7,Weekly_Data_Raw[END_DATE],'Weekly Metrics'!AV$5), IF($B7=\"Gross Adds\",SUMIFS(Weekly_Data_Raw[GROSS_ADDS],Weekly_Data_Raw[TICKER],'Weekly Metrics'!$A7,Weekly_Data_Raw[END_DATE],'Weekly Metrics'!AV$5), IF($B7=\"Churn\",SUMIFS(Weekly_Data_Raw[CHURNED_MEMBERS],Weekly_Data_Raw[TICKER],'Weekly Metrics'!$A7,Weekly_Data_Raw[END_DATE],'Weekly Metrics'!AV$5)))))))","v":103401},{"$f":"IF($B7=\"Panel Sales\", SUMIFS(Weekly_Data_Raw[PANEL_AMOUNT],Weekly_Data_Raw[TICKER],'Weekly Metrics'!$A7,Weekly_Data_Raw[END_DATE],'Weekly Metrics'!AW$5),IF($B7=\"Transactions\",SUMIFS(Weekly_Data_Raw[PANEL_TRANSACTIONS],Weekly_Data_Raw[TICKER],'Weekly Metrics'!$A7,Weekly_Data_Raw[END_DATE],'Weekly Metrics'!AW$5), IF($B7=\"Avg Ticket\",SUMIFS(Weekly_Data_Raw[AVG_TICKET],Weekly_Data_Raw[TICKER],'Weekly Metrics'!$A7,Weekly_Data_Raw[END_DATE],'Weekly Metrics'!AW$5), IF($B7=\"EOP Subscribers\",SUMIFS(Weekly_Data_Raw[EOP_SUBSCRIBERS],Weekly_Data_Raw[TICKER],'Weekly Metrics'!$A7,Weekly_Data_Raw[END_DATE],'Weekly Metrics'!AW$5), IF($B7=\"Gross Adds\",SUMIFS(Weekly_Data_Raw[GROSS_ADDS],Weekly_Data_Raw[TICKER],'Weekly Metrics'!$A7,Weekly_Data_Raw[END_DATE],'Weekly Metrics'!AW$5), IF($B7=\"Churn\",SUMIFS(Weekly_Data_Raw[CHURNED_MEMBERS],Weekly_Data_Raw[TICKER],'Weekly Metrics'!$A7,Weekly_Data_Raw[END_DATE],'Weekly Metrics'!AW$5)))))))","v":103477},{"$f":"IF($B7=\"Panel Sales\", SUMIFS(Weekly_Data_Raw[PANEL_AMOUNT],Weekly_Data_Raw[TICKER],'Weekly Metrics'!$A7,Weekly_Data_Raw[END_DATE],'Weekly Metrics'!AX$5),IF($B7=\"Transactions\",SUMIFS(Weekly_Data_Raw[PANEL_TRANSACTIONS],Weekly_Data_Raw[TICKER],'Weekly Metrics'!$A7,Weekly_Data_Raw[END_DATE],'Weekly Metrics'!AX$5), IF($B7=\"Avg Ticket\",SUMIFS(Weekly_Data_Raw[AVG_TICKET],Weekly_Data_Raw[TICKER],'Weekly Metrics'!$A7,Weekly_Data_Raw[END_DATE],'Weekly Metrics'!AX$5), IF($B7=\"EOP Subscribers\",SUMIFS(Weekly_Data_Raw[EOP_SUBSCRIBERS],Weekly_Data_Raw[TICKER],'Weekly Metrics'!$A7,Weekly_Data_Raw[END_DATE],'Weekly Metrics'!AX$5), IF($B7=\"Gross Adds\",SUMIFS(Weekly_Data_Raw[GROSS_ADDS],Weekly_Data_Raw[TICKER],'Weekly Metrics'!$A7,Weekly_Data_Raw[END_DATE],'Weekly Metrics'!AX$5), IF($B7=\"Churn\",SUMIFS(Weekly_Data_Raw[CHURNED_MEMBERS],Weekly_Data_Raw[TICKER],'Weekly Metrics'!$A7,Weekly_Data_Raw[END_DATE],'Weekly Metrics'!AX$5)))))))","v":103493},{"$f":"IF($B7=\"Panel Sales\", SUMIFS(Weekly_Data_Raw[PANEL_AMOUNT],Weekly_Data_Raw[TICKER],'Weekly Metrics'!$A7,Weekly_Data_Raw[END_DATE],'Weekly Metrics'!AY$5),IF($B7=\"Transactions\",SUMIFS(Weekly_Data_Raw[PANEL_TRANSACTIONS],Weekly_Data_Raw[TICKER],'Weekly Metrics'!$A7,Weekly_Data_Raw[END_DATE],'Weekly Metrics'!AY$5), IF($B7=\"Avg Ticket\",SUMIFS(Weekly_Data_Raw[AVG_TICKET],Weekly_Data_Raw[TICKER],'Weekly Metrics'!$A7,Weekly_Data_Raw[END_DATE],'Weekly Metrics'!AY$5), IF($B7=\"EOP Subscribers\",SUMIFS(Weekly_Data_Raw[EOP_SUBSCRIBERS],Weekly_Data_Raw[TICKER],'Weekly Metrics'!$A7,Weekly_Data_Raw[END_DATE],'Weekly Metrics'!AY$5), IF($B7=\"Gross Adds\",SUMIFS(Weekly_Data_Raw[GROSS_ADDS],Weekly_Data_Raw[TICKER],'Weekly Metrics'!$A7,Weekly_Data_Raw[END_DATE],'Weekly Metrics'!AY$5), IF($B7=\"Churn\",SUMIFS(Weekly_Data_Raw[CHURNED_MEMBERS],Weekly_Data_Raw[TICKER],'Weekly Metrics'!$A7,Weekly_Data_Raw[END_DATE],'Weekly Metrics'!AY$5)))))))","v":103552},{"$f":"IF($B7=\"Panel Sales\", SUMIFS(Weekly_Data_Raw[PANEL_AMOUNT],Weekly_Data_Raw[TICKER],'Weekly Metrics'!$A7,Weekly_Data_Raw[END_DATE],'Weekly Metrics'!AZ$5),IF($B7=\"Transactions\",SUMIFS(Weekly_Data_Raw[PANEL_TRANSACTIONS],Weekly_Data_Raw[TICKER],'Weekly Metrics'!$A7,Weekly_Data_Raw[END_DATE],'Weekly Metrics'!AZ$5), IF($B7=\"Avg Ticket\",SUMIFS(Weekly_Data_Raw[AVG_TICKET],Weekly_Data_Raw[TICKER],'Weekly Metrics'!$A7,Weekly_Data_Raw[END_DATE],'Weekly Metrics'!AZ$5), IF($B7=\"EOP Subscribers\",SUMIFS(Weekly_Data_Raw[EOP_SUBSCRIBERS],Weekly_Data_Raw[TICKER],'Weekly Metrics'!$A7,Weekly_Data_Raw[END_DATE],'Weekly Metrics'!AZ$5), IF($B7=\"Gross Adds\",SUMIFS(Weekly_Data_Raw[GROSS_ADDS],Weekly_Data_Raw[TICKER],'Weekly Metrics'!$A7,Weekly_Data_Raw[END_DATE],'Weekly Metrics'!AZ$5), IF($B7=\"Churn\",SUMIFS(Weekly_Data_Raw[CHURNED_MEMBERS],Weekly_Data_Raw[TICKER],'Weekly Metrics'!$A7,Weekly_Data_Raw[END_DATE],'Weekly Metrics'!AZ$5)))))))","v":103492},{"$f":"IF($B7=\"Panel Sales\", SUMIFS(Weekly_Data_Raw[PANEL_AMOUNT],Weekly_Data_Raw[TICKER],'Weekly Metrics'!$A7,Weekly_Data_Raw[END_DATE],'Weekly Metrics'!BA$5),IF($B7=\"Transactions\",SUMIFS(Weekly_Data_Raw[PANEL_TRANSACTIONS],Weekly_Data_Raw[TICKER],'Weekly Metrics'!$A7,Weekly_Data_Raw[END_DATE],'Weekly Metrics'!BA$5), IF($B7=\"Avg Ticket\",SUMIFS(Weekly_Data_Raw[AVG_TICKET],Weekly_Data_Raw[TICKER],'Weekly Metrics'!$A7,Weekly_Data_Raw[END_DATE],'Weekly Metrics'!BA$5), IF($B7=\"EOP Subscribers\",SUMIFS(Weekly_Data_Raw[EOP_SUBSCRIBERS],Weekly_Data_Raw[TICKER],'Weekly Metrics'!$A7,Weekly_Data_Raw[END_DATE],'Weekly Metrics'!BA$5), IF($B7=\"Gross Adds\",SUMIFS(Weekly_Data_Raw[GROSS_ADDS],Weekly_Data_Raw[TICKER],'Weekly Metrics'!$A7,Weekly_Data_Raw[END_DATE],'Weekly Metrics'!BA$5), IF($B7=\"Churn\",SUMIFS(Weekly_Data_Raw[CHURNED_MEMBERS],Weekly_Data_Raw[TICKER],'Weekly Metrics'!$A7,Weekly_Data_Raw[END_DATE],'Weekly Metrics'!BA$5)))))))","v":103393},{"$f":"IF($B7=\"Panel Sales\", SUMIFS(Weekly_Data_Raw[PANEL_AMOUNT],Weekly_Data_Raw[TICKER],'Weekly Metrics'!$A7,Weekly_Data_Raw[END_DATE],'Weekly Metrics'!BB$5),IF($B7=\"Transactions\",SUMIFS(Weekly_Data_Raw[PANEL_TRANSACTIONS],Weekly_Data_Raw[TICKER],'Weekly Metrics'!$A7,Weekly_Data_Raw[END_DATE],'Weekly Metrics'!BB$5), IF($B7=\"Avg Ticket\",SUMIFS(Weekly_Data_Raw[AVG_TICKET],Weekly_Data_Raw[TICKER],'Weekly Metrics'!$A7,Weekly_Data_Raw[END_DATE],'Weekly Metrics'!BB$5), IF($B7=\"EOP Subscribers\",SUMIFS(Weekly_Data_Raw[EOP_SUBSCRIBERS],Weekly_Data_Raw[TICKER],'Weekly Metrics'!$A7,Weekly_Data_Raw[END_DATE],'Weekly Metrics'!BB$5), IF($B7=\"Gross Adds\",SUMIFS(Weekly_Data_Raw[GROSS_ADDS],Weekly_Data_Raw[TICKER],'Weekly Metrics'!$A7,Weekly_Data_Raw[END_DATE],'Weekly Metrics'!BB$5), IF($B7=\"Churn\",SUMIFS(Weekly_Data_Raw[CHURNED_MEMBERS],Weekly_Data_Raw[TICKER],'Weekly Metrics'!$A7,Weekly_Data_Raw[END_DATE],'Weekly Metrics'!BB$5)))))))","v":103290},{"$f":"IF($B7=\"Panel Sales\", SUMIFS(Weekly_Data_Raw[PANEL_AMOUNT],Weekly_Data_Raw[TICKER],'Weekly Metrics'!$A7,Weekly_Data_Raw[END_DATE],'Weekly Metrics'!BC$5),IF($B7=\"Transactions\",SUMIFS(Weekly_Data_Raw[PANEL_TRANSACTIONS],Weekly_Data_Raw[TICKER],'Weekly Metrics'!$A7,Weekly_Data_Raw[END_DATE],'Weekly Metrics'!BC$5), IF($B7=\"Avg Ticket\",SUMIFS(Weekly_Data_Raw[AVG_TICKET],Weekly_Data_Raw[TICKER],'Weekly Metrics'!$A7,Weekly_Data_Raw[END_DATE],'Weekly Metrics'!BC$5), IF($B7=\"EOP Subscribers\",SUMIFS(Weekly_Data_Raw[EOP_SUBSCRIBERS],Weekly_Data_Raw[TICKER],'Weekly Metrics'!$A7,Weekly_Data_Raw[END_DATE],'Weekly Metrics'!BC$5), IF($B7=\"Gross Adds\",SUMIFS(Weekly_Data_Raw[GROSS_ADDS],Weekly_Data_Raw[TICKER],'Weekly Metrics'!$A7,Weekly_Data_Raw[END_DATE],'Weekly Metrics'!BC$5), IF($B7=\"Churn\",SUMIFS(Weekly_Data_Raw[CHURNED_MEMBERS],Weekly_Data_Raw[TICKER],'Weekly Metrics'!$A7,Weekly_Data_Raw[END_DATE],'Weekly Metrics'!BC$5)))))))","v":103219},{"$f":"IF($B7=\"Panel Sales\", SUMIFS(Weekly_Data_Raw[PANEL_AMOUNT],Weekly_Data_Raw[TICKER],'Weekly Metrics'!$A7,Weekly_Data_Raw[END_DATE],'Weekly Metrics'!BD$5),IF($B7=\"Transactions\",SUMIFS(Weekly_Data_Raw[PANEL_TRANSACTIONS],Weekly_Data_Raw[TICKER],'Weekly Metrics'!$A7,Weekly_Data_Raw[END_DATE],'Weekly Metrics'!BD$5), IF($B7=\"Avg Ticket\",SUMIFS(Weekly_Data_Raw[AVG_TICKET],Weekly_Data_Raw[TICKER],'Weekly Metrics'!$A7,Weekly_Data_Raw[END_DATE],'Weekly Metrics'!BD$5), IF($B7=\"EOP Subscribers\",SUMIFS(Weekly_Data_Raw[EOP_SUBSCRIBERS],Weekly_Data_Raw[TICKER],'Weekly Metrics'!$A7,Weekly_Data_Raw[END_DATE],'Weekly Metrics'!BD$5), IF($B7=\"Gross Adds\",SUMIFS(Weekly_Data_Raw[GROSS_ADDS],Weekly_Data_Raw[TICKER],'Weekly Metrics'!$A7,Weekly_Data_Raw[END_DATE],'Weekly Metrics'!BD$5), IF($B7=\"Churn\",SUMIFS(Weekly_Data_Raw[CHURNED_MEMBERS],Weekly_Data_Raw[TICKER],'Weekly Metrics'!$A7,Weekly_Data_Raw[END_DATE],'Weekly Metrics'!BD$5)))))))","v":103279},{"$f":"IF($B7=\"Panel Sales\", SUMIFS(Weekly_Data_Raw[PANEL_AMOUNT],Weekly_Data_Raw[TICKER],'Weekly Metrics'!$A7,Weekly_Data_Raw[END_DATE],'Weekly Metrics'!BE$5),IF($B7=\"Transactions\",SUMIFS(Weekly_Data_Raw[PANEL_TRANSACTIONS],Weekly_Data_Raw[TICKER],'Weekly Metrics'!$A7,Weekly_Data_Raw[END_DATE],'Weekly Metrics'!BE$5), IF($B7=\"Avg Ticket\",SUMIFS(Weekly_Data_Raw[AVG_TICKET],Weekly_Data_Raw[TICKER],'Weekly Metrics'!$A7,Weekly_Data_Raw[END_DATE],'Weekly Metrics'!BE$5), IF($B7=\"EOP Subscribers\",SUMIFS(Weekly_Data_Raw[EOP_SUBSCRIBERS],Weekly_Data_Raw[TICKER],'Weekly Metrics'!$A7,Weekly_Data_Raw[END_DATE],'Weekly Metrics'!BE$5), IF($B7=\"Gross Adds\",SUMIFS(Weekly_Data_Raw[GROSS_ADDS],Weekly_Data_Raw[TICKER],'Weekly Metrics'!$A7,Weekly_Data_Raw[END_DATE],'Weekly Metrics'!BE$5), IF($B7=\"Churn\",SUMIFS(Weekly_Data_Raw[CHURNED_MEMBERS],Weekly_Data_Raw[TICKER],'Weekly Metrics'!$A7,Weekly_Data_Raw[END_DATE],'Weekly Metrics'!BE$5)))))))","v":103220},{"$f":"IF($B7=\"Panel Sales\", SUMIFS(Weekly_Data_Raw[PANEL_AMOUNT],Weekly_Data_Raw[TICKER],'Weekly Metrics'!$A7,Weekly_Data_Raw[END_DATE],'Weekly Metrics'!BF$5),IF($B7=\"Transactions\",SUMIFS(Weekly_Data_Raw[PANEL_TRANSACTIONS],Weekly_Data_Raw[TICKER],'Weekly Metrics'!$A7,Weekly_Data_Raw[END_DATE],'Weekly Metrics'!BF$5), IF($B7=\"Avg Ticket\",SUMIFS(Weekly_Data_Raw[AVG_TICKET],Weekly_Data_Raw[TICKER],'Weekly Metrics'!$A7,Weekly_Data_Raw[END_DATE],'Weekly Metrics'!BF$5), IF($B7=\"EOP Subscribers\",SUMIFS(Weekly_Data_Raw[EOP_SUBSCRIBERS],Weekly_Data_Raw[TICKER],'Weekly Metrics'!$A7,Weekly_Data_Raw[END_DATE],'Weekly Metrics'!BF$5), IF($B7=\"Gross Adds\",SUMIFS(Weekly_Data_Raw[GROSS_ADDS],Weekly_Data_Raw[TICKER],'Weekly Metrics'!$A7,Weekly_Data_Raw[END_DATE],'Weekly Metrics'!BF$5), IF($B7=\"Churn\",SUMIFS(Weekly_Data_Raw[CHURNED_MEMBERS],Weekly_Data_Raw[TICKER],'Weekly Metrics'!$A7,Weekly_Data_Raw[END_DATE],'Weekly Metrics'!BF$5)))))))","v":103173},{"$f":"IF($B7=\"Panel Sales\", SUMIFS(Weekly_Data_Raw[PANEL_AMOUNT],Weekly_Data_Raw[TICKER],'Weekly Metrics'!$A7,Weekly_Data_Raw[END_DATE],'Weekly Metrics'!BG$5),IF($B7=\"Transactions\",SUMIFS(Weekly_Data_Raw[PANEL_TRANSACTIONS],Weekly_Data_Raw[TICKER],'Weekly Metrics'!$A7,Weekly_Data_Raw[END_DATE],'Weekly Metrics'!BG$5), IF($B7=\"Avg Ticket\",SUMIFS(Weekly_Data_Raw[AVG_TICKET],Weekly_Data_Raw[TICKER],'Weekly Metrics'!$A7,Weekly_Data_Raw[END_DATE],'Weekly Metrics'!BG$5), IF($B7=\"EOP Subscribers\",SUMIFS(Weekly_Data_Raw[EOP_SUBSCRIBERS],Weekly_Data_Raw[TICKER],'Weekly Metrics'!$A7,Weekly_Data_Raw[END_DATE],'Weekly Metrics'!BG$5), IF($B7=\"Gross Adds\",SUMIFS(Weekly_Data_Raw[GROSS_ADDS],Weekly_Data_Raw[TICKER],'Weekly Metrics'!$A7,Weekly_Data_Raw[END_DATE],'Weekly Metrics'!BG$5), IF($B7=\"Churn\",SUMIFS(Weekly_Data_Raw[CHURNED_MEMBERS],Weekly_Data_Raw[TICKER],'Weekly Metrics'!$A7,Weekly_Data_Raw[END_DATE],'Weekly Metrics'!BG$5)))))))","v":103179},{"$f":"IF($B7=\"Panel Sales\", SUMIFS(Weekly_Data_Raw[PANEL_AMOUNT],Weekly_Data_Raw[TICKER],'Weekly Metrics'!$A7,Weekly_Data_Raw[END_DATE],'Weekly Metrics'!BH$5),IF($B7=\"Transactions\",SUMIFS(Weekly_Data_Raw[PANEL_TRANSACTIONS],Weekly_Data_Raw[TICKER],'Weekly Metrics'!$A7,Weekly_Data_Raw[END_DATE],'Weekly Metrics'!BH$5), IF($B7=\"Avg Ticket\",SUMIFS(Weekly_Data_Raw[AVG_TICKET],Weekly_Data_Raw[TICKER],'Weekly Metrics'!$A7,Weekly_Data_Raw[END_DATE],'Weekly Metrics'!BH$5), IF($B7=\"EOP Subscribers\",SUMIFS(Weekly_Data_Raw[EOP_SUBSCRIBERS],Weekly_Data_Raw[TICKER],'Weekly Metrics'!$A7,Weekly_Data_Raw[END_DATE],'Weekly Metrics'!BH$5), IF($B7=\"Gross Adds\",SUMIFS(Weekly_Data_Raw[GROSS_ADDS],Weekly_Data_Raw[TICKER],'Weekly Metrics'!$A7,Weekly_Data_Raw[END_DATE],'Weekly Metrics'!BH$5), IF($B7=\"Churn\",SUMIFS(Weekly_Data_Raw[CHURNED_MEMBERS],Weekly_Data_Raw[TICKER],'Weekly Metrics'!$A7,Weekly_Data_Raw[END_DATE],'Weekly Metrics'!BH$5)))))))","v":103169},{"$f":"IF($B7=\"Panel Sales\", SUMIFS(Weekly_Data_Raw[PANEL_AMOUNT],Weekly_Data_Raw[TICKER],'Weekly Metrics'!$A7,Weekly_Data_Raw[END_DATE],'Weekly Metrics'!BI$5),IF($B7=\"Transactions\",SUMIFS(Weekly_Data_Raw[PANEL_TRANSACTIONS],Weekly_Data_Raw[TICKER],'Weekly Metrics'!$A7,Weekly_Data_Raw[END_DATE],'Weekly Metrics'!BI$5), IF($B7=\"Avg Ticket\",SUMIFS(Weekly_Data_Raw[AVG_TICKET],Weekly_Data_Raw[TICKER],'Weekly Metrics'!$A7,Weekly_Data_Raw[END_DATE],'Weekly Metrics'!BI$5), IF($B7=\"EOP Subscribers\",SUMIFS(Weekly_Data_Raw[EOP_SUBSCRIBERS],Weekly_Data_Raw[TICKER],'Weekly Metrics'!$A7,Weekly_Data_Raw[END_DATE],'Weekly Metrics'!BI$5), IF($B7=\"Gross Adds\",SUMIFS(Weekly_Data_Raw[GROSS_ADDS],Weekly_Data_Raw[TICKER],'Weekly Metrics'!$A7,Weekly_Data_Raw[END_DATE],'Weekly Metrics'!BI$5), IF($B7=\"Churn\",SUMIFS(Weekly_Data_Raw[CHURNED_MEMBERS],Weekly_Data_Raw[TICKER],'Weekly Metrics'!$A7,Weekly_Data_Raw[END_DATE],'Weekly Metrics'!BI$5)))))))","v":103162},{"$f":"IF($B7=\"Panel Sales\", SUMIFS(Weekly_Data_Raw[PANEL_AMOUNT],Weekly_Data_Raw[TICKER],'Weekly Metrics'!$A7,Weekly_Data_Raw[END_DATE],'Weekly Metrics'!BJ$5),IF($B7=\"Transactions\",SUMIFS(Weekly_Data_Raw[PANEL_TRANSACTIONS],Weekly_Data_Raw[TICKER],'Weekly Metrics'!$A7,Weekly_Data_Raw[END_DATE],'Weekly Metrics'!BJ$5), IF($B7=\"Avg Ticket\",SUMIFS(Weekly_Data_Raw[AVG_TICKET],Weekly_Data_Raw[TICKER],'Weekly Metrics'!$A7,Weekly_Data_Raw[END_DATE],'Weekly Metrics'!BJ$5), IF($B7=\"EOP Subscribers\",SUMIFS(Weekly_Data_Raw[EOP_SUBSCRIBERS],Weekly_Data_Raw[TICKER],'Weekly Metrics'!$A7,Weekly_Data_Raw[END_DATE],'Weekly Metrics'!BJ$5), IF($B7=\"Gross Adds\",SUMIFS(Weekly_Data_Raw[GROSS_ADDS],Weekly_Data_Raw[TICKER],'Weekly Metrics'!$A7,Weekly_Data_Raw[END_DATE],'Weekly Metrics'!BJ$5), IF($B7=\"Churn\",SUMIFS(Weekly_Data_Raw[CHURNED_MEMBERS],Weekly_Data_Raw[TICKER],'Weekly Metrics'!$A7,Weekly_Data_Raw[END_DATE],'Weekly Metrics'!BJ$5)))))))","v":103216},{"$f":"IF($B7=\"Panel Sales\", SUMIFS(Weekly_Data_Raw[PANEL_AMOUNT],Weekly_Data_Raw[TICKER],'Weekly Metrics'!$A7,Weekly_Data_Raw[END_DATE],'Weekly Metrics'!BK$5),IF($B7=\"Transactions\",SUMIFS(Weekly_Data_Raw[PANEL_TRANSACTIONS],Weekly_Data_Raw[TICKER],'Weekly Metrics'!$A7,Weekly_Data_Raw[END_DATE],'Weekly Metrics'!BK$5), IF($B7=\"Avg Ticket\",SUMIFS(Weekly_Data_Raw[AVG_TICKET],Weekly_Data_Raw[TICKER],'Weekly Metrics'!$A7,Weekly_Data_Raw[END_DATE],'Weekly Metrics'!BK$5), IF($B7=\"EOP Subscribers\",SUMIFS(Weekly_Data_Raw[EOP_SUBSCRIBERS],Weekly_Data_Raw[TICKER],'Weekly Metrics'!$A7,Weekly_Data_Raw[END_DATE],'Weekly Metrics'!BK$5), IF($B7=\"Gross Adds\",SUMIFS(Weekly_Data_Raw[GROSS_ADDS],Weekly_Data_Raw[TICKER],'Weekly Metrics'!$A7,Weekly_Data_Raw[END_DATE],'Weekly Metrics'!BK$5), IF($B7=\"Churn\",SUMIFS(Weekly_Data_Raw[CHURNED_MEMBERS],Weekly_Data_Raw[TICKER],'Weekly Metrics'!$A7,Weekly_Data_Raw[END_DATE],'Weekly Metrics'!BK$5)))))))","v":103341},{"$f":"IF($B7=\"Panel Sales\", SUMIFS(Weekly_Data_Raw[PANEL_AMOUNT],Weekly_Data_Raw[TICKER],'Weekly Metrics'!$A7,Weekly_Data_Raw[END_DATE],'Weekly Metrics'!BL$5),IF($B7=\"Transactions\",SUMIFS(Weekly_Data_Raw[PANEL_TRANSACTIONS],Weekly_Data_Raw[TICKER],'Weekly Metrics'!$A7,Weekly_Data_Raw[END_DATE],'Weekly Metrics'!BL$5), IF($B7=\"Avg Ticket\",SUMIFS(Weekly_Data_Raw[AVG_TICKET],Weekly_Data_Raw[TICKER],'Weekly Metrics'!$A7,Weekly_Data_Raw[END_DATE],'Weekly Metrics'!BL$5), IF($B7=\"EOP Subscribers\",SUMIFS(Weekly_Data_Raw[EOP_SUBSCRIBERS],Weekly_Data_Raw[TICKER],'Weekly Metrics'!$A7,Weekly_Data_Raw[END_DATE],'Weekly Metrics'!BL$5), IF($B7=\"Gross Adds\",SUMIFS(Weekly_Data_Raw[GROSS_ADDS],Weekly_Data_Raw[TICKER],'Weekly Metrics'!$A7,Weekly_Data_Raw[END_DATE],'Weekly Metrics'!BL$5), IF($B7=\"Churn\",SUMIFS(Weekly_Data_Raw[CHURNED_MEMBERS],Weekly_Data_Raw[TICKER],'Weekly Metrics'!$A7,Weekly_Data_Raw[END_DATE],'Weekly Metrics'!BL$5)))))))","v":103359},{"$f":"IF($B7=\"Panel Sales\", SUMIFS(Weekly_Data_Raw[PANEL_AMOUNT],Weekly_Data_Raw[TICKER],'Weekly Metrics'!$A7,Weekly_Data_Raw[END_DATE],'Weekly Metrics'!BM$5),IF($B7=\"Transactions\",SUMIFS(Weekly_Data_Raw[PANEL_TRANSACTIONS],Weekly_Data_Raw[TICKER],'Weekly Metrics'!$A7,Weekly_Data_Raw[END_DATE],'Weekly Metrics'!BM$5), IF($B7=\"Avg Ticket\",SUMIFS(Weekly_Data_Raw[AVG_TICKET],Weekly_Data_Raw[TICKER],'Weekly Metrics'!$A7,Weekly_Data_Raw[END_DATE],'Weekly Metrics'!BM$5), IF($B7=\"EOP Subscribers\",SUMIFS(Weekly_Data_Raw[EOP_SUBSCRIBERS],Weekly_Data_Raw[TICKER],'Weekly Metrics'!$A7,Weekly_Data_Raw[END_DATE],'Weekly Metrics'!BM$5), IF($B7=\"Gross Adds\",SUMIFS(Weekly_Data_Raw[GROSS_ADDS],Weekly_Data_Raw[TICKER],'Weekly Metrics'!$A7,Weekly_Data_Raw[END_DATE],'Weekly Metrics'!BM$5), IF($B7=\"Churn\",SUMIFS(Weekly_Data_Raw[CHURNED_MEMBERS],Weekly_Data_Raw[TICKER],'Weekly Metrics'!$A7,Weekly_Data_Raw[END_DATE],'Weekly Metrics'!BM$5)))))))","v":103435},{"$f":"IF($B7=\"Panel Sales\", SUMIFS(Weekly_Data_Raw[PANEL_AMOUNT],Weekly_Data_Raw[TICKER],'Weekly Metrics'!$A7,Weekly_Data_Raw[END_DATE],'Weekly Metrics'!BN$5),IF($B7=\"Transactions\",SUMIFS(Weekly_Data_Raw[PANEL_TRANSACTIONS],Weekly_Data_Raw[TICKER],'Weekly Metrics'!$A7,Weekly_Data_Raw[END_DATE],'Weekly Metrics'!BN$5), IF($B7=\"Avg Ticket\",SUMIFS(Weekly_Data_Raw[AVG_TICKET],Weekly_Data_Raw[TICKER],'Weekly Metrics'!$A7,Weekly_Data_Raw[END_DATE],'Weekly Metrics'!BN$5), IF($B7=\"EOP Subscribers\",SUMIFS(Weekly_Data_Raw[EOP_SUBSCRIBERS],Weekly_Data_Raw[TICKER],'Weekly Metrics'!$A7,Weekly_Data_Raw[END_DATE],'Weekly Metrics'!BN$5), IF($B7=\"Gross Adds\",SUMIFS(Weekly_Data_Raw[GROSS_ADDS],Weekly_Data_Raw[TICKER],'Weekly Metrics'!$A7,Weekly_Data_Raw[END_DATE],'Weekly Metrics'!BN$5), IF($B7=\"Churn\",SUMIFS(Weekly_Data_Raw[CHURNED_MEMBERS],Weekly_Data_Raw[TICKER],'Weekly Metrics'!$A7,Weekly_Data_Raw[END_DATE],'Weekly Metrics'!BN$5)))))))","v":103599},{"$f":"IF($B7=\"Panel Sales\", SUMIFS(Weekly_Data_Raw[PANEL_AMOUNT],Weekly_Data_Raw[TICKER],'Weekly Metrics'!$A7,Weekly_Data_Raw[END_DATE],'Weekly Metrics'!BO$5),IF($B7=\"Transactions\",SUMIFS(Weekly_Data_Raw[PANEL_TRANSACTIONS],Weekly_Data_Raw[TICKER],'Weekly Metrics'!$A7,Weekly_Data_Raw[END_DATE],'Weekly Metrics'!BO$5), IF($B7=\"Avg Ticket\",SUMIFS(Weekly_Data_Raw[AVG_TICKET],Weekly_Data_Raw[TICKER],'Weekly Metrics'!$A7,Weekly_Data_Raw[END_DATE],'Weekly Metrics'!BO$5), IF($B7=\"EOP Subscribers\",SUMIFS(Weekly_Data_Raw[EOP_SUBSCRIBERS],Weekly_Data_Raw[TICKER],'Weekly Metrics'!$A7,Weekly_Data_Raw[END_DATE],'Weekly Metrics'!BO$5), IF($B7=\"Gross Adds\",SUMIFS(Weekly_Data_Raw[GROSS_ADDS],Weekly_Data_Raw[TICKER],'Weekly Metrics'!$A7,Weekly_Data_Raw[END_DATE],'Weekly Metrics'!BO$5), IF($B7=\"Churn\",SUMIFS(Weekly_Data_Raw[CHURNED_MEMBERS],Weekly_Data_Raw[TICKER],'Weekly Metrics'!$A7,Weekly_Data_Raw[END_DATE],'Weekly Metrics'!BO$5)))))))","v":103663},{"$f":"IF($B7=\"Panel Sales\", SUMIFS(Weekly_Data_Raw[PANEL_AMOUNT],Weekly_Data_Raw[TICKER],'Weekly Metrics'!$A7,Weekly_Data_Raw[END_DATE],'Weekly Metrics'!BP$5),IF($B7=\"Transactions\",SUMIFS(Weekly_Data_Raw[PANEL_TRANSACTIONS],Weekly_Data_Raw[TICKER],'Weekly Metrics'!$A7,Weekly_Data_Raw[END_DATE],'Weekly Metrics'!BP$5), IF($B7=\"Avg Ticket\",SUMIFS(Weekly_Data_Raw[AVG_TICKET],Weekly_Data_Raw[TICKER],'Weekly Metrics'!$A7,Weekly_Data_Raw[END_DATE],'Weekly Metrics'!BP$5), IF($B7=\"EOP Subscribers\",SUMIFS(Weekly_Data_Raw[EOP_SUBSCRIBERS],Weekly_Data_Raw[TICKER],'Weekly Metrics'!$A7,Weekly_Data_Raw[END_DATE],'Weekly Metrics'!BP$5), IF($B7=\"Gross Adds\",SUMIFS(Weekly_Data_Raw[GROSS_ADDS],Weekly_Data_Raw[TICKER],'Weekly Metrics'!$A7,Weekly_Data_Raw[END_DATE],'Weekly Metrics'!BP$5), IF($B7=\"Churn\",SUMIFS(Weekly_Data_Raw[CHURNED_MEMBERS],Weekly_Data_Raw[TICKER],'Weekly Metrics'!$A7,Weekly_Data_Raw[END_DATE],'Weekly Metrics'!BP$5)))))))","v":103770},{"$f":"IF($B7=\"Panel Sales\", SUMIFS(Weekly_Data_Raw[PANEL_AMOUNT],Weekly_Data_Raw[TICKER],'Weekly Metrics'!$A7,Weekly_Data_Raw[END_DATE],'Weekly Metrics'!BQ$5),IF($B7=\"Transactions\",SUMIFS(Weekly_Data_Raw[PANEL_TRANSACTIONS],Weekly_Data_Raw[TICKER],'Weekly Metrics'!$A7,Weekly_Data_Raw[END_DATE],'Weekly Metrics'!BQ$5), IF($B7=\"Avg Ticket\",SUMIFS(Weekly_Data_Raw[AVG_TICKET],Weekly_Data_Raw[TICKER],'Weekly Metrics'!$A7,Weekly_Data_Raw[END_DATE],'Weekly Metrics'!BQ$5), IF($B7=\"EOP Subscribers\",SUMIFS(Weekly_Data_Raw[EOP_SUBSCRIBERS],Weekly_Data_Raw[TICKER],'Weekly Metrics'!$A7,Weekly_Data_Raw[END_DATE],'Weekly Metrics'!BQ$5), IF($B7=\"Gross Adds\",SUMIFS(Weekly_Data_Raw[GROSS_ADDS],Weekly_Data_Raw[TICKER],'Weekly Metrics'!$A7,Weekly_Data_Raw[END_DATE],'Weekly Metrics'!BQ$5), IF($B7=\"Churn\",SUMIFS(Weekly_Data_Raw[CHURNED_MEMBERS],Weekly_Data_Raw[TICKER],'Weekly Metrics'!$A7,Weekly_Data_Raw[END_DATE],'Weekly Metrics'!BQ$5)))))))","v":103912},{"$f":"IF($B7=\"Panel Sales\", SUMIFS(Weekly_Data_Raw[PANEL_AMOUNT],Weekly_Data_Raw[TICKER],'Weekly Metrics'!$A7,Weekly_Data_Raw[END_DATE],'Weekly Metrics'!BR$5),IF($B7=\"Transactions\",SUMIFS(Weekly_Data_Raw[PANEL_TRANSACTIONS],Weekly_Data_Raw[TICKER],'Weekly Metrics'!$A7,Weekly_Data_Raw[END_DATE],'Weekly Metrics'!BR$5), IF($B7=\"Avg Ticket\",SUMIFS(Weekly_Data_Raw[AVG_TICKET],Weekly_Data_Raw[TICKER],'Weekly Metrics'!$A7,Weekly_Data_Raw[END_DATE],'Weekly Metrics'!BR$5), IF($B7=\"EOP Subscribers\",SUMIFS(Weekly_Data_Raw[EOP_SUBSCRIBERS],Weekly_Data_Raw[TICKER],'Weekly Metrics'!$A7,Weekly_Data_Raw[END_DATE],'Weekly Metrics'!BR$5), IF($B7=\"Gross Adds\",SUMIFS(Weekly_Data_Raw[GROSS_ADDS],Weekly_Data_Raw[TICKER],'Weekly Metrics'!$A7,Weekly_Data_Raw[END_DATE],'Weekly Metrics'!BR$5), IF($B7=\"Churn\",SUMIFS(Weekly_Data_Raw[CHURNED_MEMBERS],Weekly_Data_Raw[TICKER],'Weekly Metrics'!$A7,Weekly_Data_Raw[END_DATE],'Weekly Metrics'!BR$5)))))))","v":104093},{"$f":"IF($B7=\"Panel Sales\", SUMIFS(Weekly_Data_Raw[PANEL_AMOUNT],Weekly_Data_Raw[TICKER],'Weekly Metrics'!$A7,Weekly_Data_Raw[END_DATE],'Weekly Metrics'!BS$5),IF($B7=\"Transactions\",SUMIFS(Weekly_Data_Raw[PANEL_TRANSACTIONS],Weekly_Data_Raw[TICKER],'Weekly Metrics'!$A7,Weekly_Data_Raw[END_DATE],'Weekly Metrics'!BS$5), IF($B7=\"Avg Ticket\",SUMIFS(Weekly_Data_Raw[AVG_TICKET],Weekly_Data_Raw[TICKER],'Weekly Metrics'!$A7,Weekly_Data_Raw[END_DATE],'Weekly Metrics'!BS$5), IF($B7=\"EOP Subscribers\",SUMIFS(Weekly_Data_Raw[EOP_SUBSCRIBERS],Weekly_Data_Raw[TICKER],'Weekly Metrics'!$A7,Weekly_Data_Raw[END_DATE],'Weekly Metrics'!BS$5), IF($B7=\"Gross Adds\",SUMIFS(Weekly_Data_Raw[GROSS_ADDS],Weekly_Data_Raw[TICKER],'Weekly Metrics'!$A7,Weekly_Data_Raw[END_DATE],'Weekly Metrics'!BS$5), IF($B7=\"Churn\",SUMIFS(Weekly_Data_Raw[CHURNED_MEMBERS],Weekly_Data_Raw[TICKER],'Weekly Metrics'!$A7,Weekly_Data_Raw[END_DATE],'Weekly Metrics'!BS$5)))))))","v":104207},{"$f":"IF($B7=\"Panel Sales\", SUMIFS(Weekly_Data_Raw[PANEL_AMOUNT],Weekly_Data_Raw[TICKER],'Weekly Metrics'!$A7,Weekly_Data_Raw[END_DATE],'Weekly Metrics'!BT$5),IF($B7=\"Transactions\",SUMIFS(Weekly_Data_Raw[PANEL_TRANSACTIONS],Weekly_Data_Raw[TICKER],'Weekly Metrics'!$A7,Weekly_Data_Raw[END_DATE],'Weekly Metrics'!BT$5), IF($B7=\"Avg Ticket\",SUMIFS(Weekly_Data_Raw[AVG_TICKET],Weekly_Data_Raw[TICKER],'Weekly Metrics'!$A7,Weekly_Data_Raw[END_DATE],'Weekly Metrics'!BT$5), IF($B7=\"EOP Subscribers\",SUMIFS(Weekly_Data_Raw[EOP_SUBSCRIBERS],Weekly_Data_Raw[TICKER],'Weekly Metrics'!$A7,Weekly_Data_Raw[END_DATE],'Weekly Metrics'!BT$5), IF($B7=\"Gross Adds\",SUMIFS(Weekly_Data_Raw[GROSS_ADDS],Weekly_Data_Raw[TICKER],'Weekly Metrics'!$A7,Weekly_Data_Raw[END_DATE],'Weekly Metrics'!BT$5), IF($B7=\"Churn\",SUMIFS(Weekly_Data_Raw[CHURNED_MEMBERS],Weekly_Data_Raw[TICKER],'Weekly Metrics'!$A7,Weekly_Data_Raw[END_DATE],'Weekly Metrics'!BT$5)))))))","v":104305},{"$f":"IF($B7=\"Panel Sales\", SUMIFS(Weekly_Data_Raw[PANEL_AMOUNT],Weekly_Data_Raw[TICKER],'Weekly Metrics'!$A7,Weekly_Data_Raw[END_DATE],'Weekly Metrics'!BU$5),IF($B7=\"Transactions\",SUMIFS(Weekly_Data_Raw[PANEL_TRANSACTIONS],Weekly_Data_Raw[TICKER],'Weekly Metrics'!$A7,Weekly_Data_Raw[END_DATE],'Weekly Metrics'!BU$5), IF($B7=\"Avg Ticket\",SUMIFS(Weekly_Data_Raw[AVG_TICKET],Weekly_Data_Raw[TICKER],'Weekly Metrics'!$A7,Weekly_Data_Raw[END_DATE],'Weekly Metrics'!BU$5), IF($B7=\"EOP Subscribers\",SUMIFS(Weekly_Data_Raw[EOP_SUBSCRIBERS],Weekly_Data_Raw[TICKER],'Weekly Metrics'!$A7,Weekly_Data_Raw[END_DATE],'Weekly Metrics'!BU$5), IF($B7=\"Gross Adds\",SUMIFS(Weekly_Data_Raw[GROSS_ADDS],Weekly_Data_Raw[TICKER],'Weekly Metrics'!$A7,Weekly_Data_Raw[END_DATE],'Weekly Metrics'!BU$5), IF($B7=\"Churn\",SUMIFS(Weekly_Data_Raw[CHURNED_MEMBERS],Weekly_Data_Raw[TICKER],'Weekly Metrics'!$A7,Weekly_Data_Raw[END_DATE],'Weekly Metrics'!BU$5)))))))","v":104374},{"$f":"IF($B7=\"Panel Sales\", SUMIFS(Weekly_Data_Raw[PANEL_AMOUNT],Weekly_Data_Raw[TICKER],'Weekly Metrics'!$A7,Weekly_Data_Raw[END_DATE],'Weekly Metrics'!BV$5),IF($B7=\"Transactions\",SUMIFS(Weekly_Data_Raw[PANEL_TRANSACTIONS],Weekly_Data_Raw[TICKER],'Weekly Metrics'!$A7,Weekly_Data_Raw[END_DATE],'Weekly Metrics'!BV$5), IF($B7=\"Avg Ticket\",SUMIFS(Weekly_Data_Raw[AVG_TICKET],Weekly_Data_Raw[TICKER],'Weekly Metrics'!$A7,Weekly_Data_Raw[END_DATE],'Weekly Metrics'!BV$5), IF($B7=\"EOP Subscribers\",SUMIFS(Weekly_Data_Raw[EOP_SUBSCRIBERS],Weekly_Data_Raw[TICKER],'Weekly Metrics'!$A7,Weekly_Data_Raw[END_DATE],'Weekly Metrics'!BV$5), IF($B7=\"Gross Adds\",SUMIFS(Weekly_Data_Raw[GROSS_ADDS],Weekly_Data_Raw[TICKER],'Weekly Metrics'!$A7,Weekly_Data_Raw[END_DATE],'Weekly Metrics'!BV$5), IF($B7=\"Churn\",SUMIFS(Weekly_Data_Raw[CHURNED_MEMBERS],Weekly_Data_Raw[TICKER],'Weekly Metrics'!$A7,Weekly_Data_Raw[END_DATE],'Weekly Metrics'!BV$5)))))))","v":104505},{"$f":"IF($B7=\"Panel Sales\", SUMIFS(Weekly_Data_Raw[PANEL_AMOUNT],Weekly_Data_Raw[TICKER],'Weekly Metrics'!$A7,Weekly_Data_Raw[END_DATE],'Weekly Metrics'!BW$5),IF($B7=\"Transactions\",SUMIFS(Weekly_Data_Raw[PANEL_TRANSACTIONS],Weekly_Data_Raw[TICKER],'Weekly Metrics'!$A7,Weekly_Data_Raw[END_DATE],'Weekly Metrics'!BW$5), IF($B7=\"Avg Ticket\",SUMIFS(Weekly_Data_Raw[AVG_TICKET],Weekly_Data_Raw[TICKER],'Weekly Metrics'!$A7,Weekly_Data_Raw[END_DATE],'Weekly Metrics'!BW$5), IF($B7=\"EOP Subscribers\",SUMIFS(Weekly_Data_Raw[EOP_SUBSCRIBERS],Weekly_Data_Raw[TICKER],'Weekly Metrics'!$A7,Weekly_Data_Raw[END_DATE],'Weekly Metrics'!BW$5), IF($B7=\"Gross Adds\",SUMIFS(Weekly_Data_Raw[GROSS_ADDS],Weekly_Data_Raw[TICKER],'Weekly Metrics'!$A7,Weekly_Data_Raw[END_DATE],'Weekly Metrics'!BW$5), IF($B7=\"Churn\",SUMIFS(Weekly_Data_Raw[CHURNED_MEMBERS],Weekly_Data_Raw[TICKER],'Weekly Metrics'!$A7,Weekly_Data_Raw[END_DATE],'Weekly Metrics'!BW$5)))))))","v":104784},{"$f":"IF($B7=\"Panel Sales\", SUMIFS(Weekly_Data_Raw[PANEL_AMOUNT],Weekly_Data_Raw[TICKER],'Weekly Metrics'!$A7,Weekly_Data_Raw[END_DATE],'Weekly Metrics'!BX$5),IF($B7=\"Transactions\",SUMIFS(Weekly_Data_Raw[PANEL_TRANSACTIONS],Weekly_Data_Raw[TICKER],'Weekly Metrics'!$A7,Weekly_Data_Raw[END_DATE],'Weekly Metrics'!BX$5), IF($B7=\"Avg Ticket\",SUMIFS(Weekly_Data_Raw[AVG_TICKET],Weekly_Data_Raw[TICKER],'Weekly Metrics'!$A7,Weekly_Data_Raw[END_DATE],'Weekly Metrics'!BX$5), IF($B7=\"EOP Subscribers\",SUMIFS(Weekly_Data_Raw[EOP_SUBSCRIBERS],Weekly_Data_Raw[TICKER],'Weekly Metrics'!$A7,Weekly_Data_Raw[END_DATE],'Weekly Metrics'!BX$5), IF($B7=\"Gross Adds\",SUMIFS(Weekly_Data_Raw[GROSS_ADDS],Weekly_Data_Raw[TICKER],'Weekly Metrics'!$A7,Weekly_Data_Raw[END_DATE],'Weekly Metrics'!BX$5), IF($B7=\"Churn\",SUMIFS(Weekly_Data_Raw[CHURNED_MEMBERS],Weekly_Data_Raw[TICKER],'Weekly Metrics'!$A7,Weekly_Data_Raw[END_DATE],'Weekly Metrics'!BX$5)))))))","v":104992},{"$f":"IF($B7=\"Panel Sales\", SUMIFS(Weekly_Data_Raw[PANEL_AMOUNT],Weekly_Data_Raw[TICKER],'Weekly Metrics'!$A7,Weekly_Data_Raw[END_DATE],'Weekly Metrics'!BY$5),IF($B7=\"Transactions\",SUMIFS(Weekly_Data_Raw[PANEL_TRANSACTIONS],Weekly_Data_Raw[TICKER],'Weekly Metrics'!$A7,Weekly_Data_Raw[END_DATE],'Weekly Metrics'!BY$5), IF($B7=\"Avg Ticket\",SUMIFS(Weekly_Data_Raw[AVG_TICKET],Weekly_Data_Raw[TICKER],'Weekly Metrics'!$A7,Weekly_Data_Raw[END_DATE],'Weekly Metrics'!BY$5), IF($B7=\"EOP Subscribers\",SUMIFS(Weekly_Data_Raw[EOP_SUBSCRIBERS],Weekly_Data_Raw[TICKER],'Weekly Metrics'!$A7,Weekly_Data_Raw[END_DATE],'Weekly Metrics'!BY$5), IF($B7=\"Gross Adds\",SUMIFS(Weekly_Data_Raw[GROSS_ADDS],Weekly_Data_Raw[TICKER],'Weekly Metrics'!$A7,Weekly_Data_Raw[END_DATE],'Weekly Metrics'!BY$5), IF($B7=\"Churn\",SUMIFS(Weekly_Data_Raw[CHURNED_MEMBERS],Weekly_Data_Raw[TICKER],'Weekly Metrics'!$A7,Weekly_Data_Raw[END_DATE],'Weekly Metrics'!BY$5)))))))","v":105146},{"$f":"IF($B7=\"Panel Sales\", SUMIFS(Weekly_Data_Raw[PANEL_AMOUNT],Weekly_Data_Raw[TICKER],'Weekly Metrics'!$A7,Weekly_Data_Raw[END_DATE],'Weekly Metrics'!BZ$5),IF($B7=\"Transactions\",SUMIFS(Weekly_Data_Raw[PANEL_TRANSACTIONS],Weekly_Data_Raw[TICKER],'Weekly Metrics'!$A7,Weekly_Data_Raw[END_DATE],'Weekly Metrics'!BZ$5), IF($B7=\"Avg Ticket\",SUMIFS(Weekly_Data_Raw[AVG_TICKET],Weekly_Data_Raw[TICKER],'Weekly Metrics'!$A7,Weekly_Data_Raw[END_DATE],'Weekly Metrics'!BZ$5), IF($B7=\"EOP Subscribers\",SUMIFS(Weekly_Data_Raw[EOP_SUBSCRIBERS],Weekly_Data_Raw[TICKER],'Weekly Metrics'!$A7,Weekly_Data_Raw[END_DATE],'Weekly Metrics'!BZ$5), IF($B7=\"Gross Adds\",SUMIFS(Weekly_Data_Raw[GROSS_ADDS],Weekly_Data_Raw[TICKER],'Weekly Metrics'!$A7,Weekly_Data_Raw[END_DATE],'Weekly Metrics'!BZ$5), IF($B7=\"Churn\",SUMIFS(Weekly_Data_Raw[CHURNED_MEMBERS],Weekly_Data_Raw[TICKER],'Weekly Metrics'!$A7,Weekly_Data_Raw[END_DATE],'Weekly Metrics'!BZ$5)))))))","v":105328},{"$f":"IF($B7=\"Panel Sales\", SUMIFS(Weekly_Data_Raw[PANEL_AMOUNT],Weekly_Data_Raw[TICKER],'Weekly Metrics'!$A7,Weekly_Data_Raw[END_DATE],'Weekly Metrics'!CA$5),IF($B7=\"Transactions\",SUMIFS(Weekly_Data_Raw[PANEL_TRANSACTIONS],Weekly_Data_Raw[TICKER],'Weekly Metrics'!$A7,Weekly_Data_Raw[END_DATE],'Weekly Metrics'!CA$5), IF($B7=\"Avg Ticket\",SUMIFS(Weekly_Data_Raw[AVG_TICKET],Weekly_Data_Raw[TICKER],'Weekly Metrics'!$A7,Weekly_Data_Raw[END_DATE],'Weekly Metrics'!CA$5), IF($B7=\"EOP Subscribers\",SUMIFS(Weekly_Data_Raw[EOP_SUBSCRIBERS],Weekly_Data_Raw[TICKER],'Weekly Metrics'!$A7,Weekly_Data_Raw[END_DATE],'Weekly Metrics'!CA$5), IF($B7=\"Gross Adds\",SUMIFS(Weekly_Data_Raw[GROSS_ADDS],Weekly_Data_Raw[TICKER],'Weekly Metrics'!$A7,Weekly_Data_Raw[END_DATE],'Weekly Metrics'!CA$5), IF($B7=\"Churn\",SUMIFS(Weekly_Data_Raw[CHURNED_MEMBERS],Weekly_Data_Raw[TICKER],'Weekly Metrics'!$A7,Weekly_Data_Raw[END_DATE],'Weekly Metrics'!CA$5)))))))","v":105450},{"$f":"IF($B7=\"Panel Sales\", SUMIFS(Weekly_Data_Raw[PANEL_AMOUNT],Weekly_Data_Raw[TICKER],'Weekly Metrics'!$A7,Weekly_Data_Raw[END_DATE],'Weekly Metrics'!CB$5),IF($B7=\"Transactions\",SUMIFS(Weekly_Data_Raw[PANEL_TRANSACTIONS],Weekly_Data_Raw[TICKER],'Weekly Metrics'!$A7,Weekly_Data_Raw[END_DATE],'Weekly Metrics'!CB$5), IF($B7=\"Avg Ticket\",SUMIFS(Weekly_Data_Raw[AVG_TICKET],Weekly_Data_Raw[TICKER],'Weekly Metrics'!$A7,Weekly_Data_Raw[END_DATE],'Weekly Metrics'!CB$5), IF($B7=\"EOP Subscribers\",SUMIFS(Weekly_Data_Raw[EOP_SUBSCRIBERS],Weekly_Data_Raw[TICKER],'Weekly Metrics'!$A7,Weekly_Data_Raw[END_DATE],'Weekly Metrics'!CB$5), IF($B7=\"Gross Adds\",SUMIFS(Weekly_Data_Raw[GROSS_ADDS],Weekly_Data_Raw[TICKER],'Weekly Metrics'!$A7,Weekly_Data_Raw[END_DATE],'Weekly Metrics'!CB$5), IF($B7=\"Churn\",SUMIFS(Weekly_Data_Raw[CHURNED_MEMBERS],Weekly_Data_Raw[TICKER],'Weekly Metrics'!$A7,Weekly_Data_Raw[END_DATE],'Weekly Metrics'!CB$5)))))))","v":105598},{"$f":"IF($B7=\"Panel Sales\", SUMIFS(Weekly_Data_Raw[PANEL_AMOUNT],Weekly_Data_Raw[TICKER],'Weekly Metrics'!$A7,Weekly_Data_Raw[END_DATE],'Weekly Metrics'!CC$5),IF($B7=\"Transactions\",SUMIFS(Weekly_Data_Raw[PANEL_TRANSACTIONS],Weekly_Data_Raw[TICKER],'Weekly Metrics'!$A7,Weekly_Data_Raw[END_DATE],'Weekly Metrics'!CC$5), IF($B7=\"Avg Ticket\",SUMIFS(Weekly_Data_Raw[AVG_TICKET],Weekly_Data_Raw[TICKER],'Weekly Metrics'!$A7,Weekly_Data_Raw[END_DATE],'Weekly Metrics'!CC$5), IF($B7=\"EOP Subscribers\",SUMIFS(Weekly_Data_Raw[EOP_SUBSCRIBERS],Weekly_Data_Raw[TICKER],'Weekly Metrics'!$A7,Weekly_Data_Raw[END_DATE],'Weekly Metrics'!CC$5), IF($B7=\"Gross Adds\",SUMIFS(Weekly_Data_Raw[GROSS_ADDS],Weekly_Data_Raw[TICKER],'Weekly Metrics'!$A7,Weekly_Data_Raw[END_DATE],'Weekly Metrics'!CC$5), IF($B7=\"Churn\",SUMIFS(Weekly_Data_Raw[CHURNED_MEMBERS],Weekly_Data_Raw[TICKER],'Weekly Metrics'!$A7,Weekly_Data_Raw[END_DATE],'Weekly Metrics'!CC$5)))))))","v":105661},{"$f":"IF($B7=\"Panel Sales\", SUMIFS(Weekly_Data_Raw[PANEL_AMOUNT],Weekly_Data_Raw[TICKER],'Weekly Metrics'!$A7,Weekly_Data_Raw[END_DATE],'Weekly Metrics'!CD$5),IF($B7=\"Transactions\",SUMIFS(Weekly_Data_Raw[PANEL_TRANSACTIONS],Weekly_Data_Raw[TICKER],'Weekly Metrics'!$A7,Weekly_Data_Raw[END_DATE],'Weekly Metrics'!CD$5), IF($B7=\"Avg Ticket\",SUMIFS(Weekly_Data_Raw[AVG_TICKET],Weekly_Data_Raw[TICKER],'Weekly Metrics'!$A7,Weekly_Data_Raw[END_DATE],'Weekly Metrics'!CD$5), IF($B7=\"EOP Subscribers\",SUMIFS(Weekly_Data_Raw[EOP_SUBSCRIBERS],Weekly_Data_Raw[TICKER],'Weekly Metrics'!$A7,Weekly_Data_Raw[END_DATE],'Weekly Metrics'!CD$5), IF($B7=\"Gross Adds\",SUMIFS(Weekly_Data_Raw[GROSS_ADDS],Weekly_Data_Raw[TICKER],'Weekly Metrics'!$A7,Weekly_Data_Raw[END_DATE],'Weekly Metrics'!CD$5), IF($B7=\"Churn\",SUMIFS(Weekly_Data_Raw[CHURNED_MEMBERS],Weekly_Data_Raw[TICKER],'Weekly Metrics'!$A7,Weekly_Data_Raw[END_DATE],'Weekly Metrics'!CD$5)))))))","v":105802},{"$f":"IF($B7=\"Panel Sales\", SUMIFS(Weekly_Data_Raw[PANEL_AMOUNT],Weekly_Data_Raw[TICKER],'Weekly Metrics'!$A7,Weekly_Data_Raw[END_DATE],'Weekly Metrics'!CE$5),IF($B7=\"Transactions\",SUMIFS(Weekly_Data_Raw[PANEL_TRANSACTIONS],Weekly_Data_Raw[TICKER],'Weekly Metrics'!$A7,Weekly_Data_Raw[END_DATE],'Weekly Metrics'!CE$5), IF($B7=\"Avg Ticket\",SUMIFS(Weekly_Data_Raw[AVG_TICKET],Weekly_Data_Raw[TICKER],'Weekly Metrics'!$A7,Weekly_Data_Raw[END_DATE],'Weekly Metrics'!CE$5), IF($B7=\"EOP Subscribers\",SUMIFS(Weekly_Data_Raw[EOP_SUBSCRIBERS],Weekly_Data_Raw[TICKER],'Weekly Metrics'!$A7,Weekly_Data_Raw[END_DATE],'Weekly Metrics'!CE$5), IF($B7=\"Gross Adds\",SUMIFS(Weekly_Data_Raw[GROSS_ADDS],Weekly_Data_Raw[TICKER],'Weekly Metrics'!$A7,Weekly_Data_Raw[END_DATE],'Weekly Metrics'!CE$5), IF($B7=\"Churn\",SUMIFS(Weekly_Data_Raw[CHURNED_MEMBERS],Weekly_Data_Raw[TICKER],'Weekly Metrics'!$A7,Weekly_Data_Raw[END_DATE],'Weekly Metrics'!CE$5)))))))","v":105935},{"$f":"IF($B7=\"Panel Sales\", SUMIFS(Weekly_Data_Raw[PANEL_AMOUNT],Weekly_Data_Raw[TICKER],'Weekly Metrics'!$A7,Weekly_Data_Raw[END_DATE],'Weekly Metrics'!CF$5),IF($B7=\"Transactions\",SUMIFS(Weekly_Data_Raw[PANEL_TRANSACTIONS],Weekly_Data_Raw[TICKER],'Weekly Metrics'!$A7,Weekly_Data_Raw[END_DATE],'Weekly Metrics'!CF$5), IF($B7=\"Avg Ticket\",SUMIFS(Weekly_Data_Raw[AVG_TICKET],Weekly_Data_Raw[TICKER],'Weekly Metrics'!$A7,Weekly_Data_Raw[END_DATE],'Weekly Metrics'!CF$5), IF($B7=\"EOP Subscribers\",SUMIFS(Weekly_Data_Raw[EOP_SUBSCRIBERS],Weekly_Data_Raw[TICKER],'Weekly Metrics'!$A7,Weekly_Data_Raw[END_DATE],'Weekly Metrics'!CF$5), IF($B7=\"Gross Adds\",SUMIFS(Weekly_Data_Raw[GROSS_ADDS],Weekly_Data_Raw[TICKER],'Weekly Metrics'!$A7,Weekly_Data_Raw[END_DATE],'Weekly Metrics'!CF$5), IF($B7=\"Churn\",SUMIFS(Weekly_Data_Raw[CHURNED_MEMBERS],Weekly_Data_Raw[TICKER],'Weekly Metrics'!$A7,Weekly_Data_Raw[END_DATE],'Weekly Metrics'!CF$5)))))))","v":106075},{"$f":"IF($B7=\"Panel Sales\", SUMIFS(Weekly_Data_Raw[PANEL_AMOUNT],Weekly_Data_Raw[TICKER],'Weekly Metrics'!$A7,Weekly_Data_Raw[END_DATE],'Weekly Metrics'!CG$5),IF($B7=\"Transactions\",SUMIFS(Weekly_Data_Raw[PANEL_TRANSACTIONS],Weekly_Data_Raw[TICKER],'Weekly Metrics'!$A7,Weekly_Data_Raw[END_DATE],'Weekly Metrics'!CG$5), IF($B7=\"Avg Ticket\",SUMIFS(Weekly_Data_Raw[AVG_TICKET],Weekly_Data_Raw[TICKER],'Weekly Metrics'!$A7,Weekly_Data_Raw[END_DATE],'Weekly Metrics'!CG$5), IF($B7=\"EOP Subscribers\",SUMIFS(Weekly_Data_Raw[EOP_SUBSCRIBERS],Weekly_Data_Raw[TICKER],'Weekly Metrics'!$A7,Weekly_Data_Raw[END_DATE],'Weekly Metrics'!CG$5), IF($B7=\"Gross Adds\",SUMIFS(Weekly_Data_Raw[GROSS_ADDS],Weekly_Data_Raw[TICKER],'Weekly Metrics'!$A7,Weekly_Data_Raw[END_DATE],'Weekly Metrics'!CG$5), IF($B7=\"Churn\",SUMIFS(Weekly_Data_Raw[CHURNED_MEMBERS],Weekly_Data_Raw[TICKER],'Weekly Metrics'!$A7,Weekly_Data_Raw[END_DATE],'Weekly Metrics'!CG$5)))))))","v":106168},{"$f":"IF($B7=\"Panel Sales\", SUMIFS(Weekly_Data_Raw[PANEL_AMOUNT],Weekly_Data_Raw[TICKER],'Weekly Metrics'!$A7,Weekly_Data_Raw[END_DATE],'Weekly Metrics'!CH$5),IF($B7=\"Transactions\",SUMIFS(Weekly_Data_Raw[PANEL_TRANSACTIONS],Weekly_Data_Raw[TICKER],'Weekly Metrics'!$A7,Weekly_Data_Raw[END_DATE],'Weekly Metrics'!CH$5), IF($B7=\"Avg Ticket\",SUMIFS(Weekly_Data_Raw[AVG_TICKET],Weekly_Data_Raw[TICKER],'Weekly Metrics'!$A7,Weekly_Data_Raw[END_DATE],'Weekly Metrics'!CH$5), IF($B7=\"EOP Subscribers\",SUMIFS(Weekly_Data_Raw[EOP_SUBSCRIBERS],Weekly_Data_Raw[TICKER],'Weekly Metrics'!$A7,Weekly_Data_Raw[END_DATE],'Weekly Metrics'!CH$5), IF($B7=\"Gross Adds\",SUMIFS(Weekly_Data_Raw[GROSS_ADDS],Weekly_Data_Raw[TICKER],'Weekly Metrics'!$A7,Weekly_Data_Raw[END_DATE],'Weekly Metrics'!CH$5), IF($B7=\"Churn\",SUMIFS(Weekly_Data_Raw[CHURNED_MEMBERS],Weekly_Data_Raw[TICKER],'Weekly Metrics'!$A7,Weekly_Data_Raw[END_DATE],'Weekly Metrics'!CH$5)))))))","v":106270},{"$f":"IF($B7=\"Panel Sales\", SUMIFS(Weekly_Data_Raw[PANEL_AMOUNT],Weekly_Data_Raw[TICKER],'Weekly Metrics'!$A7,Weekly_Data_Raw[END_DATE],'Weekly Metrics'!CI$5),IF($B7=\"Transactions\",SUMIFS(Weekly_Data_Raw[PANEL_TRANSACTIONS],Weekly_Data_Raw[TICKER],'Weekly Metrics'!$A7,Weekly_Data_Raw[END_DATE],'Weekly Metrics'!CI$5), IF($B7=\"Avg Ticket\",SUMIFS(Weekly_Data_Raw[AVG_TICKET],Weekly_Data_Raw[TICKER],'Weekly Metrics'!$A7,Weekly_Data_Raw[END_DATE],'Weekly Metrics'!CI$5), IF($B7=\"EOP Subscribers\",SUMIFS(Weekly_Data_Raw[EOP_SUBSCRIBERS],Weekly_Data_Raw[TICKER],'Weekly Metrics'!$A7,Weekly_Data_Raw[END_DATE],'Weekly Metrics'!CI$5), IF($B7=\"Gross Adds\",SUMIFS(Weekly_Data_Raw[GROSS_ADDS],Weekly_Data_Raw[TICKER],'Weekly Metrics'!$A7,Weekly_Data_Raw[END_DATE],'Weekly Metrics'!CI$5), IF($B7=\"Churn\",SUMIFS(Weekly_Data_Raw[CHURNED_MEMBERS],Weekly_Data_Raw[TICKER],'Weekly Metrics'!$A7,Weekly_Data_Raw[END_DATE],'Weekly Metrics'!CI$5)))))))","v":106424},{"$f":"IF($B7=\"Panel Sales\", SUMIFS(Weekly_Data_Raw[PANEL_AMOUNT],Weekly_Data_Raw[TICKER],'Weekly Metrics'!$A7,Weekly_Data_Raw[END_DATE],'Weekly Metrics'!CJ$5),IF($B7=\"Transactions\",SUMIFS(Weekly_Data_Raw[PANEL_TRANSACTIONS],Weekly_Data_Raw[TICKER],'Weekly Metrics'!$A7,Weekly_Data_Raw[END_DATE],'Weekly Metrics'!CJ$5), IF($B7=\"Avg Ticket\",SUMIFS(Weekly_Data_Raw[AVG_TICKET],Weekly_Data_Raw[TICKER],'Weekly Metrics'!$A7,Weekly_Data_Raw[END_DATE],'Weekly Metrics'!CJ$5), IF($B7=\"EOP Subscribers\",SUMIFS(Weekly_Data_Raw[EOP_SUBSCRIBERS],Weekly_Data_Raw[TICKER],'Weekly Metrics'!$A7,Weekly_Data_Raw[END_DATE],'Weekly Metrics'!CJ$5), IF($B7=\"Gross Adds\",SUMIFS(Weekly_Data_Raw[GROSS_ADDS],Weekly_Data_Raw[TICKER],'Weekly Metrics'!$A7,Weekly_Data_Raw[END_DATE],'Weekly Metrics'!CJ$5), IF($B7=\"Churn\",SUMIFS(Weekly_Data_Raw[CHURNED_MEMBERS],Weekly_Data_Raw[TICKER],'Weekly Metrics'!$A7,Weekly_Data_Raw[END_DATE],'Weekly Metrics'!CJ$5)))))))","v":106603},{"$f":"IF($B7=\"Panel Sales\", SUMIFS(Weekly_Data_Raw[PANEL_AMOUNT],Weekly_Data_Raw[TICKER],'Weekly Metrics'!$A7,Weekly_Data_Raw[END_DATE],'Weekly Metrics'!CK$5),IF($B7=\"Transactions\",SUMIFS(Weekly_Data_Raw[PANEL_TRANSACTIONS],Weekly_Data_Raw[TICKER],'Weekly Metrics'!$A7,Weekly_Data_Raw[END_DATE],'Weekly Metrics'!CK$5), IF($B7=\"Avg Ticket\",SUMIFS(Weekly_Data_Raw[AVG_TICKET],Weekly_Data_Raw[TICKER],'Weekly Metrics'!$A7,Weekly_Data_Raw[END_DATE],'Weekly Metrics'!CK$5), IF($B7=\"EOP Subscribers\",SUMIFS(Weekly_Data_Raw[EOP_SUBSCRIBERS],Weekly_Data_Raw[TICKER],'Weekly Metrics'!$A7,Weekly_Data_Raw[END_DATE],'Weekly Metrics'!CK$5), IF($B7=\"Gross Adds\",SUMIFS(Weekly_Data_Raw[GROSS_ADDS],Weekly_Data_Raw[TICKER],'Weekly Metrics'!$A7,Weekly_Data_Raw[END_DATE],'Weekly Metrics'!CK$5), IF($B7=\"Churn\",SUMIFS(Weekly_Data_Raw[CHURNED_MEMBERS],Weekly_Data_Raw[TICKER],'Weekly Metrics'!$A7,Weekly_Data_Raw[END_DATE],'Weekly Metrics'!CK$5)))))))","v":106722},{"$f":"IF($B7=\"Panel Sales\", SUMIFS(Weekly_Data_Raw[PANEL_AMOUNT],Weekly_Data_Raw[TICKER],'Weekly Metrics'!$A7,Weekly_Data_Raw[END_DATE],'Weekly Metrics'!CL$5),IF($B7=\"Transactions\",SUMIFS(Weekly_Data_Raw[PANEL_TRANSACTIONS],Weekly_Data_Raw[TICKER],'Weekly Metrics'!$A7,Weekly_Data_Raw[END_DATE],'Weekly Metrics'!CL$5), IF($B7=\"Avg Ticket\",SUMIFS(Weekly_Data_Raw[AVG_TICKET],Weekly_Data_Raw[TICKER],'Weekly Metrics'!$A7,Weekly_Data_Raw[END_DATE],'Weekly Metrics'!CL$5), IF($B7=\"EOP Subscribers\",SUMIFS(Weekly_Data_Raw[EOP_SUBSCRIBERS],Weekly_Data_Raw[TICKER],'Weekly Metrics'!$A7,Weekly_Data_Raw[END_DATE],'Weekly Metrics'!CL$5), IF($B7=\"Gross Adds\",SUMIFS(Weekly_Data_Raw[GROSS_ADDS],Weekly_Data_Raw[TICKER],'Weekly Metrics'!$A7,Weekly_Data_Raw[END_DATE],'Weekly Metrics'!CL$5), IF($B7=\"Churn\",SUMIFS(Weekly_Data_Raw[CHURNED_MEMBERS],Weekly_Data_Raw[TICKER],'Weekly Metrics'!$A7,Weekly_Data_Raw[END_DATE],'Weekly Metrics'!CL$5)))))))","v":106822},{"$f":"IF($B7=\"Panel Sales\", SUMIFS(Weekly_Data_Raw[PANEL_AMOUNT],Weekly_Data_Raw[TICKER],'Weekly Metrics'!$A7,Weekly_Data_Raw[END_DATE],'Weekly Metrics'!CM$5),IF($B7=\"Transactions\",SUMIFS(Weekly_Data_Raw[PANEL_TRANSACTIONS],Weekly_Data_Raw[TICKER],'Weekly Metrics'!$A7,Weekly_Data_Raw[END_DATE],'Weekly Metrics'!CM$5), IF($B7=\"Avg Ticket\",SUMIFS(Weekly_Data_Raw[AVG_TICKET],Weekly_Data_Raw[TICKER],'Weekly Metrics'!$A7,Weekly_Data_Raw[END_DATE],'Weekly Metrics'!CM$5), IF($B7=\"EOP Subscribers\",SUMIFS(Weekly_Data_Raw[EOP_SUBSCRIBERS],Weekly_Data_Raw[TICKER],'Weekly Metrics'!$A7,Weekly_Data_Raw[END_DATE],'Weekly Metrics'!CM$5), IF($B7=\"Gross Adds\",SUMIFS(Weekly_Data_Raw[GROSS_ADDS],Weekly_Data_Raw[TICKER],'Weekly Metrics'!$A7,Weekly_Data_Raw[END_DATE],'Weekly Metrics'!CM$5), IF($B7=\"Churn\",SUMIFS(Weekly_Data_Raw[CHURNED_MEMBERS],Weekly_Data_Raw[TICKER],'Weekly Metrics'!$A7,Weekly_Data_Raw[END_DATE],'Weekly Metrics'!CM$5)))))))","v":106958},{"$f":"IF($B7=\"Panel Sales\", SUMIFS(Weekly_Data_Raw[PANEL_AMOUNT],Weekly_Data_Raw[TICKER],'Weekly Metrics'!$A7,Weekly_Data_Raw[END_DATE],'Weekly Metrics'!CN$5),IF($B7=\"Transactions\",SUMIFS(Weekly_Data_Raw[PANEL_TRANSACTIONS],Weekly_Data_Raw[TICKER],'Weekly Metrics'!$A7,Weekly_Data_Raw[END_DATE],'Weekly Metrics'!CN$5), IF($B7=\"Avg Ticket\",SUMIFS(Weekly_Data_Raw[AVG_TICKET],Weekly_Data_Raw[TICKER],'Weekly Metrics'!$A7,Weekly_Data_Raw[END_DATE],'Weekly Metrics'!CN$5), IF($B7=\"EOP Subscribers\",SUMIFS(Weekly_Data_Raw[EOP_SUBSCRIBERS],Weekly_Data_Raw[TICKER],'Weekly Metrics'!$A7,Weekly_Data_Raw[END_DATE],'Weekly Metrics'!CN$5), IF($B7=\"Gross Adds\",SUMIFS(Weekly_Data_Raw[GROSS_ADDS],Weekly_Data_Raw[TICKER],'Weekly Metrics'!$A7,Weekly_Data_Raw[END_DATE],'Weekly Metrics'!CN$5), IF($B7=\"Churn\",SUMIFS(Weekly_Data_Raw[CHURNED_MEMBERS],Weekly_Data_Raw[TICKER],'Weekly Metrics'!$A7,Weekly_Data_Raw[END_DATE],'Weekly Metrics'!CN$5)))))))","v":107000},{"$f":"IF($B7=\"Panel Sales\", SUMIFS(Weekly_Data_Raw[PANEL_AMOUNT],Weekly_Data_Raw[TICKER],'Weekly Metrics'!$A7,Weekly_Data_Raw[END_DATE],'Weekly Metrics'!CO$5),IF($B7=\"Transactions\",SUMIFS(Weekly_Data_Raw[PANEL_TRANSACTIONS],Weekly_Data_Raw[TICKER],'Weekly Metrics'!$A7,Weekly_Data_Raw[END_DATE],'Weekly Metrics'!CO$5), IF($B7=\"Avg Ticket\",SUMIFS(Weekly_Data_Raw[AVG_TICKET],Weekly_Data_Raw[TICKER],'Weekly Metrics'!$A7,Weekly_Data_Raw[END_DATE],'Weekly Metrics'!CO$5), IF($B7=\"EOP Subscribers\",SUMIFS(Weekly_Data_Raw[EOP_SUBSCRIBERS],Weekly_Data_Raw[TICKER],'Weekly Metrics'!$A7,Weekly_Data_Raw[END_DATE],'Weekly Metrics'!CO$5), IF($B7=\"Gross Adds\",SUMIFS(Weekly_Data_Raw[GROSS_ADDS],Weekly_Data_Raw[TICKER],'Weekly Metrics'!$A7,Weekly_Data_Raw[END_DATE],'Weekly Metrics'!CO$5), IF($B7=\"Churn\",SUMIFS(Weekly_Data_Raw[CHURNED_MEMBERS],Weekly_Data_Raw[TICKER],'Weekly Metrics'!$A7,Weekly_Data_Raw[END_DATE],'Weekly Metrics'!CO$5)))))))","v":107105},{"$f":"IF($B7=\"Panel Sales\", SUMIFS(Weekly_Data_Raw[PANEL_AMOUNT],Weekly_Data_Raw[TICKER],'Weekly Metrics'!$A7,Weekly_Data_Raw[END_DATE],'Weekly Metrics'!CP$5),IF($B7=\"Transactions\",SUMIFS(Weekly_Data_Raw[PANEL_TRANSACTIONS],Weekly_Data_Raw[TICKER],'Weekly Metrics'!$A7,Weekly_Data_Raw[END_DATE],'Weekly Metrics'!CP$5), IF($B7=\"Avg Ticket\",SUMIFS(Weekly_Data_Raw[AVG_TICKET],Weekly_Data_Raw[TICKER],'Weekly Metrics'!$A7,Weekly_Data_Raw[END_DATE],'Weekly Metrics'!CP$5), IF($B7=\"EOP Subscribers\",SUMIFS(Weekly_Data_Raw[EOP_SUBSCRIBERS],Weekly_Data_Raw[TICKER],'Weekly Metrics'!$A7,Weekly_Data_Raw[END_DATE],'Weekly Metrics'!CP$5), IF($B7=\"Gross Adds\",SUMIFS(Weekly_Data_Raw[GROSS_ADDS],Weekly_Data_Raw[TICKER],'Weekly Metrics'!$A7,Weekly_Data_Raw[END_DATE],'Weekly Metrics'!CP$5), IF($B7=\"Churn\",SUMIFS(Weekly_Data_Raw[CHURNED_MEMBERS],Weekly_Data_Raw[TICKER],'Weekly Metrics'!$A7,Weekly_Data_Raw[END_DATE],'Weekly Metrics'!CP$5)))))))","v":107163},{"$f":"IF($B7=\"Panel Sales\", SUMIFS(Weekly_Data_Raw[PANEL_AMOUNT],Weekly_Data_Raw[TICKER],'Weekly Metrics'!$A7,Weekly_Data_Raw[END_DATE],'Weekly Metrics'!CQ$5),IF($B7=\"Transactions\",SUMIFS(Weekly_Data_Raw[PANEL_TRANSACTIONS],Weekly_Data_Raw[TICKER],'Weekly Metrics'!$A7,Weekly_Data_Raw[END_DATE],'Weekly Metrics'!CQ$5), IF($B7=\"Avg Ticket\",SUMIFS(Weekly_Data_Raw[AVG_TICKET],Weekly_Data_Raw[TICKER],'Weekly Metrics'!$A7,Weekly_Data_Raw[END_DATE],'Weekly Metrics'!CQ$5), IF($B7=\"EOP Subscribers\",SUMIFS(Weekly_Data_Raw[EOP_SUBSCRIBERS],Weekly_Data_Raw[TICKER],'Weekly Metrics'!$A7,Weekly_Data_Raw[END_DATE],'Weekly Metrics'!CQ$5), IF($B7=\"Gross Adds\",SUMIFS(Weekly_Data_Raw[GROSS_ADDS],Weekly_Data_Raw[TICKER],'Weekly Metrics'!$A7,Weekly_Data_Raw[END_DATE],'Weekly Metrics'!CQ$5), IF($B7=\"Churn\",SUMIFS(Weekly_Data_Raw[CHURNED_MEMBERS],Weekly_Data_Raw[TICKER],'Weekly Metrics'!$A7,Weekly_Data_Raw[END_DATE],'Weekly Metrics'!CQ$5)))))))","v":107307},{"$f":"IF($B7=\"Panel Sales\", SUMIFS(Weekly_Data_Raw[PANEL_AMOUNT],Weekly_Data_Raw[TICKER],'Weekly Metrics'!$A7,Weekly_Data_Raw[END_DATE],'Weekly Metrics'!CR$5),IF($B7=\"Transactions\",SUMIFS(Weekly_Data_Raw[PANEL_TRANSACTIONS],Weekly_Data_Raw[TICKER],'Weekly Metrics'!$A7,Weekly_Data_Raw[END_DATE],'Weekly Metrics'!CR$5), IF($B7=\"Avg Ticket\",SUMIFS(Weekly_Data_Raw[AVG_TICKET],Weekly_Data_Raw[TICKER],'Weekly Metrics'!$A7,Weekly_Data_Raw[END_DATE],'Weekly Metrics'!CR$5), IF($B7=\"EOP Subscribers\",SUMIFS(Weekly_Data_Raw[EOP_SUBSCRIBERS],Weekly_Data_Raw[TICKER],'Weekly Metrics'!$A7,Weekly_Data_Raw[END_DATE],'Weekly Metrics'!CR$5), IF($B7=\"Gross Adds\",SUMIFS(Weekly_Data_Raw[GROSS_ADDS],Weekly_Data_Raw[TICKER],'Weekly Metrics'!$A7,Weekly_Data_Raw[END_DATE],'Weekly Metrics'!CR$5), IF($B7=\"Churn\",SUMIFS(Weekly_Data_Raw[CHURNED_MEMBERS],Weekly_Data_Raw[TICKER],'Weekly Metrics'!$A7,Weekly_Data_Raw[END_DATE],'Weekly Metrics'!CR$5)))))))","v":107340},{"$f":"IF($B7=\"Panel Sales\", SUMIFS(Weekly_Data_Raw[PANEL_AMOUNT],Weekly_Data_Raw[TICKER],'Weekly Metrics'!$A7,Weekly_Data_Raw[END_DATE],'Weekly Metrics'!CS$5),IF($B7=\"Transactions\",SUMIFS(Weekly_Data_Raw[PANEL_TRANSACTIONS],Weekly_Data_Raw[TICKER],'Weekly Metrics'!$A7,Weekly_Data_Raw[END_DATE],'Weekly Metrics'!CS$5), IF($B7=\"Avg Ticket\",SUMIFS(Weekly_Data_Raw[AVG_TICKET],Weekly_Data_Raw[TICKER],'Weekly Metrics'!$A7,Weekly_Data_Raw[END_DATE],'Weekly Metrics'!CS$5), IF($B7=\"EOP Subscribers\",SUMIFS(Weekly_Data_Raw[EOP_SUBSCRIBERS],Weekly_Data_Raw[TICKER],'Weekly Metrics'!$A7,Weekly_Data_Raw[END_DATE],'Weekly Metrics'!CS$5), IF($B7=\"Gross Adds\",SUMIFS(Weekly_Data_Raw[GROSS_ADDS],Weekly_Data_Raw[TICKER],'Weekly Metrics'!$A7,Weekly_Data_Raw[END_DATE],'Weekly Metrics'!CS$5), IF($B7=\"Churn\",SUMIFS(Weekly_Data_Raw[CHURNED_MEMBERS],Weekly_Data_Raw[TICKER],'Weekly Metrics'!$A7,Weekly_Data_Raw[END_DATE],'Weekly Metrics'!CS$5)))))))","v":107477},{"$f":"IF($B7=\"Panel Sales\", SUMIFS(Weekly_Data_Raw[PANEL_AMOUNT],Weekly_Data_Raw[TICKER],'Weekly Metrics'!$A7,Weekly_Data_Raw[END_DATE],'Weekly Metrics'!CT$5),IF($B7=\"Transactions\",SUMIFS(Weekly_Data_Raw[PANEL_TRANSACTIONS],Weekly_Data_Raw[TICKER],'Weekly Metrics'!$A7,Weekly_Data_Raw[END_DATE],'Weekly Metrics'!CT$5), IF($B7=\"Avg Ticket\",SUMIFS(Weekly_Data_Raw[AVG_TICKET],Weekly_Data_Raw[TICKER],'Weekly Metrics'!$A7,Weekly_Data_Raw[END_DATE],'Weekly Metrics'!CT$5), IF($B7=\"EOP Subscribers\",SUMIFS(Weekly_Data_Raw[EOP_SUBSCRIBERS],Weekly_Data_Raw[TICKER],'Weekly Metrics'!$A7,Weekly_Data_Raw[END_DATE],'Weekly Metrics'!CT$5), IF($B7=\"Gross Adds\",SUMIFS(Weekly_Data_Raw[GROSS_ADDS],Weekly_Data_Raw[TICKER],'Weekly Metrics'!$A7,Weekly_Data_Raw[END_DATE],'Weekly Metrics'!CT$5), IF($B7=\"Churn\",SUMIFS(Weekly_Data_Raw[CHURNED_MEMBERS],Weekly_Data_Raw[TICKER],'Weekly Metrics'!$A7,Weekly_Data_Raw[END_DATE],'Weekly Metrics'!CT$5)))))))","v":107574},{"$f":"IF($B7=\"Panel Sales\", SUMIFS(Weekly_Data_Raw[PANEL_AMOUNT],Weekly_Data_Raw[TICKER],'Weekly Metrics'!$A7,Weekly_Data_Raw[END_DATE],'Weekly Metrics'!CU$5),IF($B7=\"Transactions\",SUMIFS(Weekly_Data_Raw[PANEL_TRANSACTIONS],Weekly_Data_Raw[TICKER],'Weekly Metrics'!$A7,Weekly_Data_Raw[END_DATE],'Weekly Metrics'!CU$5), IF($B7=\"Avg Ticket\",SUMIFS(Weekly_Data_Raw[AVG_TICKET],Weekly_Data_Raw[TICKER],'Weekly Metrics'!$A7,Weekly_Data_Raw[END_DATE],'Weekly Metrics'!CU$5), IF($B7=\"EOP Subscribers\",SUMIFS(Weekly_Data_Raw[EOP_SUBSCRIBERS],Weekly_Data_Raw[TICKER],'Weekly Metrics'!$A7,Weekly_Data_Raw[END_DATE],'Weekly Metrics'!CU$5), IF($B7=\"Gross Adds\",SUMIFS(Weekly_Data_Raw[GROSS_ADDS],Weekly_Data_Raw[TICKER],'Weekly Metrics'!$A7,Weekly_Data_Raw[END_DATE],'Weekly Metrics'!CU$5), IF($B7=\"Churn\",SUMIFS(Weekly_Data_Raw[CHURNED_MEMBERS],Weekly_Data_Raw[TICKER],'Weekly Metrics'!$A7,Weekly_Data_Raw[END_DATE],'Weekly Metrics'!CU$5)))))))","v":107605},{"$f":"IF($B7=\"Panel Sales\", SUMIFS(Weekly_Data_Raw[PANEL_AMOUNT],Weekly_Data_Raw[TICKER],'Weekly Metrics'!$A7,Weekly_Data_Raw[END_DATE],'Weekly Metrics'!CV$5),IF($B7=\"Transactions\",SUMIFS(Weekly_Data_Raw[PANEL_TRANSACTIONS],Weekly_Data_Raw[TICKER],'Weekly Metrics'!$A7,Weekly_Data_Raw[END_DATE],'Weekly Metrics'!CV$5), IF($B7=\"Avg Ticket\",SUMIFS(Weekly_Data_Raw[AVG_TICKET],Weekly_Data_Raw[TICKER],'Weekly Metrics'!$A7,Weekly_Data_Raw[END_DATE],'Weekly Metrics'!CV$5), IF($B7=\"EOP Subscribers\",SUMIFS(Weekly_Data_Raw[EOP_SUBSCRIBERS],Weekly_Data_Raw[TICKER],'Weekly Metrics'!$A7,Weekly_Data_Raw[END_DATE],'Weekly Metrics'!CV$5), IF($B7=\"Gross Adds\",SUMIFS(Weekly_Data_Raw[GROSS_ADDS],Weekly_Data_Raw[TICKER],'Weekly Metrics'!$A7,Weekly_Data_Raw[END_DATE],'Weekly Metrics'!CV$5), IF($B7=\"Churn\",SUMIFS(Weekly_Data_Raw[CHURNED_MEMBERS],Weekly_Data_Raw[TICKER],'Weekly Metrics'!$A7,Weekly_Data_Raw[END_DATE],'Weekly Metrics'!CV$5)))))))","v":107653},{"$f":"IF($B7=\"Panel Sales\", SUMIFS(Weekly_Data_Raw[PANEL_AMOUNT],Weekly_Data_Raw[TICKER],'Weekly Metrics'!$A7,Weekly_Data_Raw[END_DATE],'Weekly Metrics'!CW$5),IF($B7=\"Transactions\",SUMIFS(Weekly_Data_Raw[PANEL_TRANSACTIONS],Weekly_Data_Raw[TICKER],'Weekly Metrics'!$A7,Weekly_Data_Raw[END_DATE],'Weekly Metrics'!CW$5), IF($B7=\"Avg Ticket\",SUMIFS(Weekly_Data_Raw[AVG_TICKET],Weekly_Data_Raw[TICKER],'Weekly Metrics'!$A7,Weekly_Data_Raw[END_DATE],'Weekly Metrics'!CW$5), IF($B7=\"EOP Subscribers\",SUMIFS(Weekly_Data_Raw[EOP_SUBSCRIBERS],Weekly_Data_Raw[TICKER],'Weekly Metrics'!$A7,Weekly_Data_Raw[END_DATE],'Weekly Metrics'!CW$5), IF($B7=\"Gross Adds\",SUMIFS(Weekly_Data_Raw[GROSS_ADDS],Weekly_Data_Raw[TICKER],'Weekly Metrics'!$A7,Weekly_Data_Raw[END_DATE],'Weekly Metrics'!CW$5), IF($B7=\"Churn\",SUMIFS(Weekly_Data_Raw[CHURNED_MEMBERS],Weekly_Data_Raw[TICKER],'Weekly Metrics'!$A7,Weekly_Data_Raw[END_DATE],'Weekly Metrics'!CW$5)))))))","v":107615},{"$f":"IF($B7=\"Panel Sales\", SUMIFS(Weekly_Data_Raw[PANEL_AMOUNT],Weekly_Data_Raw[TICKER],'Weekly Metrics'!$A7,Weekly_Data_Raw[END_DATE],'Weekly Metrics'!CX$5),IF($B7=\"Transactions\",SUMIFS(Weekly_Data_Raw[PANEL_TRANSACTIONS],Weekly_Data_Raw[TICKER],'Weekly Metrics'!$A7,Weekly_Data_Raw[END_DATE],'Weekly Metrics'!CX$5), IF($B7=\"Avg Ticket\",SUMIFS(Weekly_Data_Raw[AVG_TICKET],Weekly_Data_Raw[TICKER],'Weekly Metrics'!$A7,Weekly_Data_Raw[END_DATE],'Weekly Metrics'!CX$5), IF($B7=\"EOP Subscribers\",SUMIFS(Weekly_Data_Raw[EOP_SUBSCRIBERS],Weekly_Data_Raw[TICKER],'Weekly Metrics'!$A7,Weekly_Data_Raw[END_DATE],'Weekly Metrics'!CX$5), IF($B7=\"Gross Adds\",SUMIFS(Weekly_Data_Raw[GROSS_ADDS],Weekly_Data_Raw[TICKER],'Weekly Metrics'!$A7,Weekly_Data_Raw[END_DATE],'Weekly Metrics'!CX$5), IF($B7=\"Churn\",SUMIFS(Weekly_Data_Raw[CHURNED_MEMBERS],Weekly_Data_Raw[TICKER],'Weekly Metrics'!$A7,Weekly_Data_Raw[END_DATE],'Weekly Metrics'!CX$5)))))))","v":107619},{"$f":"IF($B7=\"Panel Sales\", SUMIFS(Weekly_Data_Raw[PANEL_AMOUNT],Weekly_Data_Raw[TICKER],'Weekly Metrics'!$A7,Weekly_Data_Raw[END_DATE],'Weekly Metrics'!CY$5),IF($B7=\"Transactions\",SUMIFS(Weekly_Data_Raw[PANEL_TRANSACTIONS],Weekly_Data_Raw[TICKER],'Weekly Metrics'!$A7,Weekly_Data_Raw[END_DATE],'Weekly Metrics'!CY$5), IF($B7=\"Avg Ticket\",SUMIFS(Weekly_Data_Raw[AVG_TICKET],Weekly_Data_Raw[TICKER],'Weekly Metrics'!$A7,Weekly_Data_Raw[END_DATE],'Weekly Metrics'!CY$5), IF($B7=\"EOP Subscribers\",SUMIFS(Weekly_Data_Raw[EOP_SUBSCRIBERS],Weekly_Data_Raw[TICKER],'Weekly Metrics'!$A7,Weekly_Data_Raw[END_DATE],'Weekly Metrics'!CY$5), IF($B7=\"Gross Adds\",SUMIFS(Weekly_Data_Raw[GROSS_ADDS],Weekly_Data_Raw[TICKER],'Weekly Metrics'!$A7,Weekly_Data_Raw[END_DATE],'Weekly Metrics'!CY$5), IF($B7=\"Churn\",SUMIFS(Weekly_Data_Raw[CHURNED_MEMBERS],Weekly_Data_Raw[TICKER],'Weekly Metrics'!$A7,Weekly_Data_Raw[END_DATE],'Weekly Metrics'!CY$5)))))))","v":107562},{"$f":"IF($B7=\"Panel Sales\", SUMIFS(Weekly_Data_Raw[PANEL_AMOUNT],Weekly_Data_Raw[TICKER],'Weekly Metrics'!$A7,Weekly_Data_Raw[END_DATE],'Weekly Metrics'!CZ$5),IF($B7=\"Transactions\",SUMIFS(Weekly_Data_Raw[PANEL_TRANSACTIONS],Weekly_Data_Raw[TICKER],'Weekly Metrics'!$A7,Weekly_Data_Raw[END_DATE],'Weekly Metrics'!CZ$5), IF($B7=\"Avg Ticket\",SUMIFS(Weekly_Data_Raw[AVG_TICKET],Weekly_Data_Raw[TICKER],'Weekly Metrics'!$A7,Weekly_Data_Raw[END_DATE],'Weekly Metrics'!CZ$5), IF($B7=\"EOP Subscribers\",SUMIFS(Weekly_Data_Raw[EOP_SUBSCRIBERS],Weekly_Data_Raw[TICKER],'Weekly Metrics'!$A7,Weekly_Data_Raw[END_DATE],'Weekly Metrics'!CZ$5), IF($B7=\"Gross Adds\",SUMIFS(Weekly_Data_Raw[GROSS_ADDS],Weekly_Data_Raw[TICKER],'Weekly Metrics'!$A7,Weekly_Data_Raw[END_DATE],'Weekly Metrics'!CZ$5), IF($B7=\"Churn\",SUMIFS(Weekly_Data_Raw[CHURNED_MEMBERS],Weekly_Data_Raw[TICKER],'Weekly Metrics'!$A7,Weekly_Data_Raw[END_DATE],'Weekly Metrics'!CZ$5)))))))","v":107610},{"$f":"IF($B7=\"Panel Sales\", SUMIFS(Weekly_Data_Raw[PANEL_AMOUNT],Weekly_Data_Raw[TICKER],'Weekly Metrics'!$A7,Weekly_Data_Raw[END_DATE],'Weekly Metrics'!DA$5),IF($B7=\"Transactions\",SUMIFS(Weekly_Data_Raw[PANEL_TRANSACTIONS],Weekly_Data_Raw[TICKER],'Weekly Metrics'!$A7,Weekly_Data_Raw[END_DATE],'Weekly Metrics'!DA$5), IF($B7=\"Avg Ticket\",SUMIFS(Weekly_Data_Raw[AVG_TICKET],Weekly_Data_Raw[TICKER],'Weekly Metrics'!$A7,Weekly_Data_Raw[END_DATE],'Weekly Metrics'!DA$5), IF($B7=\"EOP Subscribers\",SUMIFS(Weekly_Data_Raw[EOP_SUBSCRIBERS],Weekly_Data_Raw[TICKER],'Weekly Metrics'!$A7,Weekly_Data_Raw[END_DATE],'Weekly Metrics'!DA$5), IF($B7=\"Gross Adds\",SUMIFS(Weekly_Data_Raw[GROSS_ADDS],Weekly_Data_Raw[TICKER],'Weekly Metrics'!$A7,Weekly_Data_Raw[END_DATE],'Weekly Metrics'!DA$5), IF($B7=\"Churn\",SUMIFS(Weekly_Data_Raw[CHURNED_MEMBERS],Weekly_Data_Raw[TICKER],'Weekly Metrics'!$A7,Weekly_Data_Raw[END_DATE],'Weekly Metrics'!DA$5)))))))","v":107621},{"$f":"IF($B7=\"Panel Sales\", SUMIFS(Weekly_Data_Raw[PANEL_AMOUNT],Weekly_Data_Raw[TICKER],'Weekly Metrics'!$A7,Weekly_Data_Raw[END_DATE],'Weekly Metrics'!DB$5),IF($B7=\"Transactions\",SUMIFS(Weekly_Data_Raw[PANEL_TRANSACTIONS],Weekly_Data_Raw[TICKER],'Weekly Metrics'!$A7,Weekly_Data_Raw[END_DATE],'Weekly Metrics'!DB$5), IF($B7=\"Avg Ticket\",SUMIFS(Weekly_Data_Raw[AVG_TICKET],Weekly_Data_Raw[TICKER],'Weekly Metrics'!$A7,Weekly_Data_Raw[END_DATE],'Weekly Metrics'!DB$5), IF($B7=\"EOP Subscribers\",SUMIFS(Weekly_Data_Raw[EOP_SUBSCRIBERS],Weekly_Data_Raw[TICKER],'Weekly Metrics'!$A7,Weekly_Data_Raw[END_DATE],'Weekly Metrics'!DB$5), IF($B7=\"Gross Adds\",SUMIFS(Weekly_Data_Raw[GROSS_ADDS],Weekly_Data_Raw[TICKER],'Weekly Metrics'!$A7,Weekly_Data_Raw[END_DATE],'Weekly Metrics'!DB$5), IF($B7=\"Churn\",SUMIFS(Weekly_Data_Raw[CHURNED_MEMBERS],Weekly_Data_Raw[TICKER],'Weekly Metrics'!$A7,Weekly_Data_Raw[END_DATE],'Weekly Metrics'!DB$5)))))))","v":107541},{"$f":"IF($B7=\"Panel Sales\", SUMIFS(Weekly_Data_Raw[PANEL_AMOUNT],Weekly_Data_Raw[TICKER],'Weekly Metrics'!$A7,Weekly_Data_Raw[END_DATE],'Weekly Metrics'!DC$5),IF($B7=\"Transactions\",SUMIFS(Weekly_Data_Raw[PANEL_TRANSACTIONS],Weekly_Data_Raw[TICKER],'Weekly Metrics'!$A7,Weekly_Data_Raw[END_DATE],'Weekly Metrics'!DC$5), IF($B7=\"Avg Ticket\",SUMIFS(Weekly_Data_Raw[AVG_TICKET],Weekly_Data_Raw[TICKER],'Weekly Metrics'!$A7,Weekly_Data_Raw[END_DATE],'Weekly Metrics'!DC$5), IF($B7=\"EOP Subscribers\",SUMIFS(Weekly_Data_Raw[EOP_SUBSCRIBERS],Weekly_Data_Raw[TICKER],'Weekly Metrics'!$A7,Weekly_Data_Raw[END_DATE],'Weekly Metrics'!DC$5), IF($B7=\"Gross Adds\",SUMIFS(Weekly_Data_Raw[GROSS_ADDS],Weekly_Data_Raw[TICKER],'Weekly Metrics'!$A7,Weekly_Data_Raw[END_DATE],'Weekly Metrics'!DC$5), IF($B7=\"Churn\",SUMIFS(Weekly_Data_Raw[CHURNED_MEMBERS],Weekly_Data_Raw[TICKER],'Weekly Metrics'!$A7,Weekly_Data_Raw[END_DATE],'Weekly Metrics'!DC$5)))))))","v":107502},{"$f":"IF($B7=\"Panel Sales\", SUMIFS(Weekly_Data_Raw[PANEL_AMOUNT],Weekly_Data_Raw[TICKER],'Weekly Metrics'!$A7,Weekly_Data_Raw[END_DATE],'Weekly Metrics'!DD$5),IF($B7=\"Transactions\",SUMIFS(Weekly_Data_Raw[PANEL_TRANSACTIONS],Weekly_Data_Raw[TICKER],'Weekly Metrics'!$A7,Weekly_Data_Raw[END_DATE],'Weekly Metrics'!DD$5), IF($B7=\"Avg Ticket\",SUMIFS(Weekly_Data_Raw[AVG_TICKET],Weekly_Data_Raw[TICKER],'Weekly Metrics'!$A7,Weekly_Data_Raw[END_DATE],'Weekly Metrics'!DD$5), IF($B7=\"EOP Subscribers\",SUMIFS(Weekly_Data_Raw[EOP_SUBSCRIBERS],Weekly_Data_Raw[TICKER],'Weekly Metrics'!$A7,Weekly_Data_Raw[END_DATE],'Weekly Metrics'!DD$5), IF($B7=\"Gross Adds\",SUMIFS(Weekly_Data_Raw[GROSS_ADDS],Weekly_Data_Raw[TICKER],'Weekly Metrics'!$A7,Weekly_Data_Raw[END_DATE],'Weekly Metrics'!DD$5), IF($B7=\"Churn\",SUMIFS(Weekly_Data_Raw[CHURNED_MEMBERS],Weekly_Data_Raw[TICKER],'Weekly Metrics'!$A7,Weekly_Data_Raw[END_DATE],'Weekly Metrics'!DD$5)))))))","v":107479},{"$f":"IF($B7=\"Panel Sales\", SUMIFS(Weekly_Data_Raw[PANEL_AMOUNT],Weekly_Data_Raw[TICKER],'Weekly Metrics'!$A7,Weekly_Data_Raw[END_DATE],'Weekly Metrics'!DE$5),IF($B7=\"Transactions\",SUMIFS(Weekly_Data_Raw[PANEL_TRANSACTIONS],Weekly_Data_Raw[TICKER],'Weekly Metrics'!$A7,Weekly_Data_Raw[END_DATE],'Weekly Metrics'!DE$5), IF($B7=\"Avg Ticket\",SUMIFS(Weekly_Data_Raw[AVG_TICKET],Weekly_Data_Raw[TICKER],'Weekly Metrics'!$A7,Weekly_Data_Raw[END_DATE],'Weekly Metrics'!DE$5), IF($B7=\"EOP Subscribers\",SUMIFS(Weekly_Data_Raw[EOP_SUBSCRIBERS],Weekly_Data_Raw[TICKER],'Weekly Metrics'!$A7,Weekly_Data_Raw[END_DATE],'Weekly Metrics'!DE$5), IF($B7=\"Gross Adds\",SUMIFS(Weekly_Data_Raw[GROSS_ADDS],Weekly_Data_Raw[TICKER],'Weekly Metrics'!$A7,Weekly_Data_Raw[END_DATE],'Weekly Metrics'!DE$5), IF($B7=\"Churn\",SUMIFS(Weekly_Data_Raw[CHURNED_MEMBERS],Weekly_Data_Raw[TICKER],'Weekly Metrics'!$A7,Weekly_Data_Raw[END_DATE],'Weekly Metrics'!DE$5)))))))","v":107468},{"$f":"IF($B7=\"Panel Sales\", SUMIFS(Weekly_Data_Raw[PANEL_AMOUNT],Weekly_Data_Raw[TICKER],'Weekly Metrics'!$A7,Weekly_Data_Raw[END_DATE],'Weekly Metrics'!DF$5),IF($B7=\"Transactions\",SUMIFS(Weekly_Data_Raw[PANEL_TRANSACTIONS],Weekly_Data_Raw[TICKER],'Weekly Metrics'!$A7,Weekly_Data_Raw[END_DATE],'Weekly Metrics'!DF$5), IF($B7=\"Avg Ticket\",SUMIFS(Weekly_Data_Raw[AVG_TICKET],Weekly_Data_Raw[TICKER],'Weekly Metrics'!$A7,Weekly_Data_Raw[END_DATE],'Weekly Metrics'!DF$5), IF($B7=\"EOP Subscribers\",SUMIFS(Weekly_Data_Raw[EOP_SUBSCRIBERS],Weekly_Data_Raw[TICKER],'Weekly Metrics'!$A7,Weekly_Data_Raw[END_DATE],'Weekly Metrics'!DF$5), IF($B7=\"Gross Adds\",SUMIFS(Weekly_Data_Raw[GROSS_ADDS],Weekly_Data_Raw[TICKER],'Weekly Metrics'!$A7,Weekly_Data_Raw[END_DATE],'Weekly Metrics'!DF$5), IF($B7=\"Churn\",SUMIFS(Weekly_Data_Raw[CHURNED_MEMBERS],Weekly_Data_Raw[TICKER],'Weekly Metrics'!$A7,Weekly_Data_Raw[END_DATE],'Weekly Metrics'!DF$5)))))))","v":107469},{"$f":"IF($B7=\"Panel Sales\", SUMIFS(Weekly_Data_Raw[PANEL_AMOUNT],Weekly_Data_Raw[TICKER],'Weekly Metrics'!$A7,Weekly_Data_Raw[END_DATE],'Weekly Metrics'!DG$5),IF($B7=\"Transactions\",SUMIFS(Weekly_Data_Raw[PANEL_TRANSACTIONS],Weekly_Data_Raw[TICKER],'Weekly Metrics'!$A7,Weekly_Data_Raw[END_DATE],'Weekly Metrics'!DG$5), IF($B7=\"Avg Ticket\",SUMIFS(Weekly_Data_Raw[AVG_TICKET],Weekly_Data_Raw[TICKER],'Weekly Metrics'!$A7,Weekly_Data_Raw[END_DATE],'Weekly Metrics'!DG$5), IF($B7=\"EOP Subscribers\",SUMIFS(Weekly_Data_Raw[EOP_SUBSCRIBERS],Weekly_Data_Raw[TICKER],'Weekly Metrics'!$A7,Weekly_Data_Raw[END_DATE],'Weekly Metrics'!DG$5), IF($B7=\"Gross Adds\",SUMIFS(Weekly_Data_Raw[GROSS_ADDS],Weekly_Data_Raw[TICKER],'Weekly Metrics'!$A7,Weekly_Data_Raw[END_DATE],'Weekly Metrics'!DG$5), IF($B7=\"Churn\",SUMIFS(Weekly_Data_Raw[CHURNED_MEMBERS],Weekly_Data_Raw[TICKER],'Weekly Metrics'!$A7,Weekly_Data_Raw[END_DATE],'Weekly Metrics'!DG$5)))))))","v":107486},{"$f":"IF($B7=\"Panel Sales\", SUMIFS(Weekly_Data_Raw[PANEL_AMOUNT],Weekly_Data_Raw[TICKER],'Weekly Metrics'!$A7,Weekly_Data_Raw[END_DATE],'Weekly Metrics'!DH$5),IF($B7=\"Transactions\",SUMIFS(Weekly_Data_Raw[PANEL_TRANSACTIONS],Weekly_Data_Raw[TICKER],'Weekly Metrics'!$A7,Weekly_Data_Raw[END_DATE],'Weekly Metrics'!DH$5), IF($B7=\"Avg Ticket\",SUMIFS(Weekly_Data_Raw[AVG_TICKET],Weekly_Data_Raw[TICKER],'Weekly Metrics'!$A7,Weekly_Data_Raw[END_DATE],'Weekly Metrics'!DH$5), IF($B7=\"EOP Subscribers\",SUMIFS(Weekly_Data_Raw[EOP_SUBSCRIBERS],Weekly_Data_Raw[TICKER],'Weekly Metrics'!$A7,Weekly_Data_Raw[END_DATE],'Weekly Metrics'!DH$5), IF($B7=\"Gross Adds\",SUMIFS(Weekly_Data_Raw[GROSS_ADDS],Weekly_Data_Raw[TICKER],'Weekly Metrics'!$A7,Weekly_Data_Raw[END_DATE],'Weekly Metrics'!DH$5), IF($B7=\"Churn\",SUMIFS(Weekly_Data_Raw[CHURNED_MEMBERS],Weekly_Data_Raw[TICKER],'Weekly Metrics'!$A7,Weekly_Data_Raw[END_DATE],'Weekly Metrics'!DH$5)))))))","v":107417},{"$f":"IF($B7=\"Panel Sales\", SUMIFS(Weekly_Data_Raw[PANEL_AMOUNT],Weekly_Data_Raw[TICKER],'Weekly Metrics'!$A7,Weekly_Data_Raw[END_DATE],'Weekly Metrics'!DI$5),IF($B7=\"Transactions\",SUMIFS(Weekly_Data_Raw[PANEL_TRANSACTIONS],Weekly_Data_Raw[TICKER],'Weekly Metrics'!$A7,Weekly_Data_Raw[END_DATE],'Weekly Metrics'!DI$5), IF($B7=\"Avg Ticket\",SUMIFS(Weekly_Data_Raw[AVG_TICKET],Weekly_Data_Raw[TICKER],'Weekly Metrics'!$A7,Weekly_Data_Raw[END_DATE],'Weekly Metrics'!DI$5), IF($B7=\"EOP Subscribers\",SUMIFS(Weekly_Data_Raw[EOP_SUBSCRIBERS],Weekly_Data_Raw[TICKER],'Weekly Metrics'!$A7,Weekly_Data_Raw[END_DATE],'Weekly Metrics'!DI$5), IF($B7=\"Gross Adds\",SUMIFS(Weekly_Data_Raw[GROSS_ADDS],Weekly_Data_Raw[TICKER],'Weekly Metrics'!$A7,Weekly_Data_Raw[END_DATE],'Weekly Metrics'!DI$5), IF($B7=\"Churn\",SUMIFS(Weekly_Data_Raw[CHURNED_MEMBERS],Weekly_Data_Raw[TICKER],'Weekly Metrics'!$A7,Weekly_Data_Raw[END_DATE],'Weekly Metrics'!DI$5)))))))","v":107345},{"$f":"IF($B7=\"Panel Sales\", SUMIFS(Weekly_Data_Raw[PANEL_AMOUNT],Weekly_Data_Raw[TICKER],'Weekly Metrics'!$A7,Weekly_Data_Raw[END_DATE],'Weekly Metrics'!DJ$5),IF($B7=\"Transactions\",SUMIFS(Weekly_Data_Raw[PANEL_TRANSACTIONS],Weekly_Data_Raw[TICKER],'Weekly Metrics'!$A7,Weekly_Data_Raw[END_DATE],'Weekly Metrics'!DJ$5), IF($B7=\"Avg Ticket\",SUMIFS(Weekly_Data_Raw[AVG_TICKET],Weekly_Data_Raw[TICKER],'Weekly Metrics'!$A7,Weekly_Data_Raw[END_DATE],'Weekly Metrics'!DJ$5), IF($B7=\"EOP Subscribers\",SUMIFS(Weekly_Data_Raw[EOP_SUBSCRIBERS],Weekly_Data_Raw[TICKER],'Weekly Metrics'!$A7,Weekly_Data_Raw[END_DATE],'Weekly Metrics'!DJ$5), IF($B7=\"Gross Adds\",SUMIFS(Weekly_Data_Raw[GROSS_ADDS],Weekly_Data_Raw[TICKER],'Weekly Metrics'!$A7,Weekly_Data_Raw[END_DATE],'Weekly Metrics'!DJ$5), IF($B7=\"Churn\",SUMIFS(Weekly_Data_Raw[CHURNED_MEMBERS],Weekly_Data_Raw[TICKER],'Weekly Metrics'!$A7,Weekly_Data_Raw[END_DATE],'Weekly Metrics'!DJ$5)))))))","v":107294},{"$f":"IF($B7=\"Panel Sales\", SUMIFS(Weekly_Data_Raw[PANEL_AMOUNT],Weekly_Data_Raw[TICKER],'Weekly Metrics'!$A7,Weekly_Data_Raw[END_DATE],'Weekly Metrics'!DK$5),IF($B7=\"Transactions\",SUMIFS(Weekly_Data_Raw[PANEL_TRANSACTIONS],Weekly_Data_Raw[TICKER],'Weekly Metrics'!$A7,Weekly_Data_Raw[END_DATE],'Weekly Metrics'!DK$5), IF($B7=\"Avg Ticket\",SUMIFS(Weekly_Data_Raw[AVG_TICKET],Weekly_Data_Raw[TICKER],'Weekly Metrics'!$A7,Weekly_Data_Raw[END_DATE],'Weekly Metrics'!DK$5), IF($B7=\"EOP Subscribers\",SUMIFS(Weekly_Data_Raw[EOP_SUBSCRIBERS],Weekly_Data_Raw[TICKER],'Weekly Metrics'!$A7,Weekly_Data_Raw[END_DATE],'Weekly Metrics'!DK$5), IF($B7=\"Gross Adds\",SUMIFS(Weekly_Data_Raw[GROSS_ADDS],Weekly_Data_Raw[TICKER],'Weekly Metrics'!$A7,Weekly_Data_Raw[END_DATE],'Weekly Metrics'!DK$5), IF($B7=\"Churn\",SUMIFS(Weekly_Data_Raw[CHURNED_MEMBERS],Weekly_Data_Raw[TICKER],'Weekly Metrics'!$A7,Weekly_Data_Raw[END_DATE],'Weekly Metrics'!DK$5)))))))","v":107276},{"$f":"IF($B7=\"Panel Sales\", SUMIFS(Weekly_Data_Raw[PANEL_AMOUNT],Weekly_Data_Raw[TICKER],'Weekly Metrics'!$A7,Weekly_Data_Raw[END_DATE],'Weekly Metrics'!DL$5),IF($B7=\"Transactions\",SUMIFS(Weekly_Data_Raw[PANEL_TRANSACTIONS],Weekly_Data_Raw[TICKER],'Weekly Metrics'!$A7,Weekly_Data_Raw[END_DATE],'Weekly Metrics'!DL$5), IF($B7=\"Avg Ticket\",SUMIFS(Weekly_Data_Raw[AVG_TICKET],Weekly_Data_Raw[TICKER],'Weekly Metrics'!$A7,Weekly_Data_Raw[END_DATE],'Weekly Metrics'!DL$5), IF($B7=\"EOP Subscribers\",SUMIFS(Weekly_Data_Raw[EOP_SUBSCRIBERS],Weekly_Data_Raw[TICKER],'Weekly Metrics'!$A7,Weekly_Data_Raw[END_DATE],'Weekly Metrics'!DL$5), IF($B7=\"Gross Adds\",SUMIFS(Weekly_Data_Raw[GROSS_ADDS],Weekly_Data_Raw[TICKER],'Weekly Metrics'!$A7,Weekly_Data_Raw[END_DATE],'Weekly Metrics'!DL$5), IF($B7=\"Churn\",SUMIFS(Weekly_Data_Raw[CHURNED_MEMBERS],Weekly_Data_Raw[TICKER],'Weekly Metrics'!$A7,Weekly_Data_Raw[END_DATE],'Weekly Metrics'!DL$5)))))))","v":107310},{"$f":"IF($B7=\"Panel Sales\", SUMIFS(Weekly_Data_Raw[PANEL_AMOUNT],Weekly_Data_Raw[TICKER],'Weekly Metrics'!$A7,Weekly_Data_Raw[END_DATE],'Weekly Metrics'!DM$5),IF($B7=\"Transactions\",SUMIFS(Weekly_Data_Raw[PANEL_TRANSACTIONS],Weekly_Data_Raw[TICKER],'Weekly Metrics'!$A7,Weekly_Data_Raw[END_DATE],'Weekly Metrics'!DM$5), IF($B7=\"Avg Ticket\",SUMIFS(Weekly_Data_Raw[AVG_TICKET],Weekly_Data_Raw[TICKER],'Weekly Metrics'!$A7,Weekly_Data_Raw[END_DATE],'Weekly Metrics'!DM$5), IF($B7=\"EOP Subscribers\",SUMIFS(Weekly_Data_Raw[EOP_SUBSCRIBERS],Weekly_Data_Raw[TICKER],'Weekly Metrics'!$A7,Weekly_Data_Raw[END_DATE],'Weekly Metrics'!DM$5), IF($B7=\"Gross Adds\",SUMIFS(Weekly_Data_Raw[GROSS_ADDS],Weekly_Data_Raw[TICKER],'Weekly Metrics'!$A7,Weekly_Data_Raw[END_DATE],'Weekly Metrics'!DM$5), IF($B7=\"Churn\",SUMIFS(Weekly_Data_Raw[CHURNED_MEMBERS],Weekly_Data_Raw[TICKER],'Weekly Metrics'!$A7,Weekly_Data_Raw[END_DATE],'Weekly Metrics'!DM$5)))))))","v":107338},{"$f":"IF($B7=\"Panel Sales\", SUMIFS(Weekly_Data_Raw[PANEL_AMOUNT],Weekly_Data_Raw[TICKER],'Weekly Metrics'!$A7,Weekly_Data_Raw[END_DATE],'Weekly Metrics'!DN$5),IF($B7=\"Transactions\",SUMIFS(Weekly_Data_Raw[PANEL_TRANSACTIONS],Weekly_Data_Raw[TICKER],'Weekly Metrics'!$A7,Weekly_Data_Raw[END_DATE],'Weekly Metrics'!DN$5), IF($B7=\"Avg Ticket\",SUMIFS(Weekly_Data_Raw[AVG_TICKET],Weekly_Data_Raw[TICKER],'Weekly Metrics'!$A7,Weekly_Data_Raw[END_DATE],'Weekly Metrics'!DN$5), IF($B7=\"EOP Subscribers\",SUMIFS(Weekly_Data_Raw[EOP_SUBSCRIBERS],Weekly_Data_Raw[TICKER],'Weekly Metrics'!$A7,Weekly_Data_Raw[END_DATE],'Weekly Metrics'!DN$5), IF($B7=\"Gross Adds\",SUMIFS(Weekly_Data_Raw[GROSS_ADDS],Weekly_Data_Raw[TICKER],'Weekly Metrics'!$A7,Weekly_Data_Raw[END_DATE],'Weekly Metrics'!DN$5), IF($B7=\"Churn\",SUMIFS(Weekly_Data_Raw[CHURNED_MEMBERS],Weekly_Data_Raw[TICKER],'Weekly Metrics'!$A7,Weekly_Data_Raw[END_DATE],'Weekly Metrics'!DN$5)))))))","v":107318},{"$f":"IF($B7=\"Panel Sales\", SUMIFS(Weekly_Data_Raw[PANEL_AMOUNT],Weekly_Data_Raw[TICKER],'Weekly Metrics'!$A7,Weekly_Data_Raw[END_DATE],'Weekly Metrics'!DO$5),IF($B7=\"Transactions\",SUMIFS(Weekly_Data_Raw[PANEL_TRANSACTIONS],Weekly_Data_Raw[TICKER],'Weekly Metrics'!$A7,Weekly_Data_Raw[END_DATE],'Weekly Metrics'!DO$5), IF($B7=\"Avg Ticket\",SUMIFS(Weekly_Data_Raw[AVG_TICKET],Weekly_Data_Raw[TICKER],'Weekly Metrics'!$A7,Weekly_Data_Raw[END_DATE],'Weekly Metrics'!DO$5), IF($B7=\"EOP Subscribers\",SUMIFS(Weekly_Data_Raw[EOP_SUBSCRIBERS],Weekly_Data_Raw[TICKER],'Weekly Metrics'!$A7,Weekly_Data_Raw[END_DATE],'Weekly Metrics'!DO$5), IF($B7=\"Gross Adds\",SUMIFS(Weekly_Data_Raw[GROSS_ADDS],Weekly_Data_Raw[TICKER],'Weekly Metrics'!$A7,Weekly_Data_Raw[END_DATE],'Weekly Metrics'!DO$5), IF($B7=\"Churn\",SUMIFS(Weekly_Data_Raw[CHURNED_MEMBERS],Weekly_Data_Raw[TICKER],'Weekly Metrics'!$A7,Weekly_Data_Raw[END_DATE],'Weekly Metrics'!DO$5)))))))","v":107315},{"$f":"IF($B7=\"Panel Sales\", SUMIFS(Weekly_Data_Raw[PANEL_AMOUNT],Weekly_Data_Raw[TICKER],'Weekly Metrics'!$A7,Weekly_Data_Raw[END_DATE],'Weekly Metrics'!DP$5),IF($B7=\"Transactions\",SUMIFS(Weekly_Data_Raw[PANEL_TRANSACTIONS],Weekly_Data_Raw[TICKER],'Weekly Metrics'!$A7,Weekly_Data_Raw[END_DATE],'Weekly Metrics'!DP$5), IF($B7=\"Avg Ticket\",SUMIFS(Weekly_Data_Raw[AVG_TICKET],Weekly_Data_Raw[TICKER],'Weekly Metrics'!$A7,Weekly_Data_Raw[END_DATE],'Weekly Metrics'!DP$5), IF($B7=\"EOP Subscribers\",SUMIFS(Weekly_Data_Raw[EOP_SUBSCRIBERS],Weekly_Data_Raw[TICKER],'Weekly Metrics'!$A7,Weekly_Data_Raw[END_DATE],'Weekly Metrics'!DP$5), IF($B7=\"Gross Adds\",SUMIFS(Weekly_Data_Raw[GROSS_ADDS],Weekly_Data_Raw[TICKER],'Weekly Metrics'!$A7,Weekly_Data_Raw[END_DATE],'Weekly Metrics'!DP$5), IF($B7=\"Churn\",SUMIFS(Weekly_Data_Raw[CHURNED_MEMBERS],Weekly_Data_Raw[TICKER],'Weekly Metrics'!$A7,Weekly_Data_Raw[END_DATE],'Weekly Metrics'!DP$5)))))))","v":107336},{"$f":"IF($B7=\"Panel Sales\", SUMIFS(Weekly_Data_Raw[PANEL_AMOUNT],Weekly_Data_Raw[TICKER],'Weekly Metrics'!$A7,Weekly_Data_Raw[END_DATE],'Weekly Metrics'!DQ$5),IF($B7=\"Transactions\",SUMIFS(Weekly_Data_Raw[PANEL_TRANSACTIONS],Weekly_Data_Raw[TICKER],'Weekly Metrics'!$A7,Weekly_Data_Raw[END_DATE],'Weekly Metrics'!DQ$5), IF($B7=\"Avg Ticket\",SUMIFS(Weekly_Data_Raw[AVG_TICKET],Weekly_Data_Raw[TICKER],'Weekly Metrics'!$A7,Weekly_Data_Raw[END_DATE],'Weekly Metrics'!DQ$5), IF($B7=\"EOP Subscribers\",SUMIFS(Weekly_Data_Raw[EOP_SUBSCRIBERS],Weekly_Data_Raw[TICKER],'Weekly Metrics'!$A7,Weekly_Data_Raw[END_DATE],'Weekly Metrics'!DQ$5), IF($B7=\"Gross Adds\",SUMIFS(Weekly_Data_Raw[GROSS_ADDS],Weekly_Data_Raw[TICKER],'Weekly Metrics'!$A7,Weekly_Data_Raw[END_DATE],'Weekly Metrics'!DQ$5), IF($B7=\"Churn\",SUMIFS(Weekly_Data_Raw[CHURNED_MEMBERS],Weekly_Data_Raw[TICKER],'Weekly Metrics'!$A7,Weekly_Data_Raw[END_DATE],'Weekly Metrics'!DQ$5)))))))","v":107355},{"$f":"IF($B7=\"Panel Sales\", SUMIFS(Weekly_Data_Raw[PANEL_AMOUNT],Weekly_Data_Raw[TICKER],'Weekly Metrics'!$A7,Weekly_Data_Raw[END_DATE],'Weekly Metrics'!DR$5),IF($B7=\"Transactions\",SUMIFS(Weekly_Data_Raw[PANEL_TRANSACTIONS],Weekly_Data_Raw[TICKER],'Weekly Metrics'!$A7,Weekly_Data_Raw[END_DATE],'Weekly Metrics'!DR$5), IF($B7=\"Avg Ticket\",SUMIFS(Weekly_Data_Raw[AVG_TICKET],Weekly_Data_Raw[TICKER],'Weekly Metrics'!$A7,Weekly_Data_Raw[END_DATE],'Weekly Metrics'!DR$5), IF($B7=\"EOP Subscribers\",SUMIFS(Weekly_Data_Raw[EOP_SUBSCRIBERS],Weekly_Data_Raw[TICKER],'Weekly Metrics'!$A7,Weekly_Data_Raw[END_DATE],'Weekly Metrics'!DR$5), IF($B7=\"Gross Adds\",SUMIFS(Weekly_Data_Raw[GROSS_ADDS],Weekly_Data_Raw[TICKER],'Weekly Metrics'!$A7,Weekly_Data_Raw[END_DATE],'Weekly Metrics'!DR$5), IF($B7=\"Churn\",SUMIFS(Weekly_Data_Raw[CHURNED_MEMBERS],Weekly_Data_Raw[TICKER],'Weekly Metrics'!$A7,Weekly_Data_Raw[END_DATE],'Weekly Metrics'!DR$5)))))))","v":107385},{"$f":"IF($B7=\"Panel Sales\", SUMIFS(Weekly_Data_Raw[PANEL_AMOUNT],Weekly_Data_Raw[TICKER],'Weekly Metrics'!$A7,Weekly_Data_Raw[END_DATE],'Weekly Metrics'!DS$5),IF($B7=\"Transactions\",SUMIFS(Weekly_Data_Raw[PANEL_TRANSACTIONS],Weekly_Data_Raw[TICKER],'Weekly Metrics'!$A7,Weekly_Data_Raw[END_DATE],'Weekly Metrics'!DS$5), IF($B7=\"Avg Ticket\",SUMIFS(Weekly_Data_Raw[AVG_TICKET],Weekly_Data_Raw[TICKER],'Weekly Metrics'!$A7,Weekly_Data_Raw[END_DATE],'Weekly Metrics'!DS$5), IF($B7=\"EOP Subscribers\",SUMIFS(Weekly_Data_Raw[EOP_SUBSCRIBERS],Weekly_Data_Raw[TICKER],'Weekly Metrics'!$A7,Weekly_Data_Raw[END_DATE],'Weekly Metrics'!DS$5), IF($B7=\"Gross Adds\",SUMIFS(Weekly_Data_Raw[GROSS_ADDS],Weekly_Data_Raw[TICKER],'Weekly Metrics'!$A7,Weekly_Data_Raw[END_DATE],'Weekly Metrics'!DS$5), IF($B7=\"Churn\",SUMIFS(Weekly_Data_Raw[CHURNED_MEMBERS],Weekly_Data_Raw[TICKER],'Weekly Metrics'!$A7,Weekly_Data_Raw[END_DATE],'Weekly Metrics'!DS$5)))))))","v":107438},{"$f":"IF($B7=\"Panel Sales\", SUMIFS(Weekly_Data_Raw[PANEL_AMOUNT],Weekly_Data_Raw[TICKER],'Weekly Metrics'!$A7,Weekly_Data_Raw[END_DATE],'Weekly Metrics'!DT$5),IF($B7=\"Transactions\",SUMIFS(Weekly_Data_Raw[PANEL_TRANSACTIONS],Weekly_Data_Raw[TICKER],'Weekly Metrics'!$A7,Weekly_Data_Raw[END_DATE],'Weekly Metrics'!DT$5), IF($B7=\"Avg Ticket\",SUMIFS(Weekly_Data_Raw[AVG_TICKET],Weekly_Data_Raw[TICKER],'Weekly Metrics'!$A7,Weekly_Data_Raw[END_DATE],'Weekly Metrics'!DT$5), IF($B7=\"EOP Subscribers\",SUMIFS(Weekly_Data_Raw[EOP_SUBSCRIBERS],Weekly_Data_Raw[TICKER],'Weekly Metrics'!$A7,Weekly_Data_Raw[END_DATE],'Weekly Metrics'!DT$5), IF($B7=\"Gross Adds\",SUMIFS(Weekly_Data_Raw[GROSS_ADDS],Weekly_Data_Raw[TICKER],'Weekly Metrics'!$A7,Weekly_Data_Raw[END_DATE],'Weekly Metrics'!DT$5), IF($B7=\"Churn\",SUMIFS(Weekly_Data_Raw[CHURNED_MEMBERS],Weekly_Data_Raw[TICKER],'Weekly Metrics'!$A7,Weekly_Data_Raw[END_DATE],'Weekly Metrics'!DT$5)))))))","v":107464},{"$f":"IF($B7=\"Panel Sales\", SUMIFS(Weekly_Data_Raw[PANEL_AMOUNT],Weekly_Data_Raw[TICKER],'Weekly Metrics'!$A7,Weekly_Data_Raw[END_DATE],'Weekly Metrics'!DU$5),IF($B7=\"Transactions\",SUMIFS(Weekly_Data_Raw[PANEL_TRANSACTIONS],Weekly_Data_Raw[TICKER],'Weekly Metrics'!$A7,Weekly_Data_Raw[END_DATE],'Weekly Metrics'!DU$5), IF($B7=\"Avg Ticket\",SUMIFS(Weekly_Data_Raw[AVG_TICKET],Weekly_Data_Raw[TICKER],'Weekly Metrics'!$A7,Weekly_Data_Raw[END_DATE],'Weekly Metrics'!DU$5), IF($B7=\"EOP Subscribers\",SUMIFS(Weekly_Data_Raw[EOP_SUBSCRIBERS],Weekly_Data_Raw[TICKER],'Weekly Metrics'!$A7,Weekly_Data_Raw[END_DATE],'Weekly Metrics'!DU$5), IF($B7=\"Gross Adds\",SUMIFS(Weekly_Data_Raw[GROSS_ADDS],Weekly_Data_Raw[TICKER],'Weekly Metrics'!$A7,Weekly_Data_Raw[END_DATE],'Weekly Metrics'!DU$5), IF($B7=\"Churn\",SUMIFS(Weekly_Data_Raw[CHURNED_MEMBERS],Weekly_Data_Raw[TICKER],'Weekly Metrics'!$A7,Weekly_Data_Raw[END_DATE],'Weekly Metrics'!DU$5)))))))","v":107431},{"$f":"IF($B7=\"Panel Sales\", SUMIFS(Weekly_Data_Raw[PANEL_AMOUNT],Weekly_Data_Raw[TICKER],'Weekly Metrics'!$A7,Weekly_Data_Raw[END_DATE],'Weekly Metrics'!DV$5),IF($B7=\"Transactions\",SUMIFS(Weekly_Data_Raw[PANEL_TRANSACTIONS],Weekly_Data_Raw[TICKER],'Weekly Metrics'!$A7,Weekly_Data_Raw[END_DATE],'Weekly Metrics'!DV$5), IF($B7=\"Avg Ticket\",SUMIFS(Weekly_Data_Raw[AVG_TICKET],Weekly_Data_Raw[TICKER],'Weekly Metrics'!$A7,Weekly_Data_Raw[END_DATE],'Weekly Metrics'!DV$5), IF($B7=\"EOP Subscribers\",SUMIFS(Weekly_Data_Raw[EOP_SUBSCRIBERS],Weekly_Data_Raw[TICKER],'Weekly Metrics'!$A7,Weekly_Data_Raw[END_DATE],'Weekly Metrics'!DV$5), IF($B7=\"Gross Adds\",SUMIFS(Weekly_Data_Raw[GROSS_ADDS],Weekly_Data_Raw[TICKER],'Weekly Metrics'!$A7,Weekly_Data_Raw[END_DATE],'Weekly Metrics'!DV$5), IF($B7=\"Churn\",SUMIFS(Weekly_Data_Raw[CHURNED_MEMBERS],Weekly_Data_Raw[TICKER],'Weekly Metrics'!$A7,Weekly_Data_Raw[END_DATE],'Weekly Metrics'!DV$5)))))))","v":107473},{"$f":"IF($B7=\"Panel Sales\", SUMIFS(Weekly_Data_Raw[PANEL_AMOUNT],Weekly_Data_Raw[TICKER],'Weekly Metrics'!$A7,Weekly_Data_Raw[END_DATE],'Weekly Metrics'!DW$5),IF($B7=\"Transactions\",SUMIFS(Weekly_Data_Raw[PANEL_TRANSACTIONS],Weekly_Data_Raw[TICKER],'Weekly Metrics'!$A7,Weekly_Data_Raw[END_DATE],'Weekly Metrics'!DW$5), IF($B7=\"Avg Ticket\",SUMIFS(Weekly_Data_Raw[AVG_TICKET],Weekly_Data_Raw[TICKER],'Weekly Metrics'!$A7,Weekly_Data_Raw[END_DATE],'Weekly Metrics'!DW$5), IF($B7=\"EOP Subscribers\",SUMIFS(Weekly_Data_Raw[EOP_SUBSCRIBERS],Weekly_Data_Raw[TICKER],'Weekly Metrics'!$A7,Weekly_Data_Raw[END_DATE],'Weekly Metrics'!DW$5), IF($B7=\"Gross Adds\",SUMIFS(Weekly_Data_Raw[GROSS_ADDS],Weekly_Data_Raw[TICKER],'Weekly Metrics'!$A7,Weekly_Data_Raw[END_DATE],'Weekly Metrics'!DW$5), IF($B7=\"Churn\",SUMIFS(Weekly_Data_Raw[CHURNED_MEMBERS],Weekly_Data_Raw[TICKER],'Weekly Metrics'!$A7,Weekly_Data_Raw[END_DATE],'Weekly Metrics'!DW$5)))))))","v":107511},{"$f":"IF($B7=\"Panel Sales\", SUMIFS(Weekly_Data_Raw[PANEL_AMOUNT],Weekly_Data_Raw[TICKER],'Weekly Metrics'!$A7,Weekly_Data_Raw[END_DATE],'Weekly Metrics'!DX$5),IF($B7=\"Transactions\",SUMIFS(Weekly_Data_Raw[PANEL_TRANSACTIONS],Weekly_Data_Raw[TICKER],'Weekly Metrics'!$A7,Weekly_Data_Raw[END_DATE],'Weekly Metrics'!DX$5), IF($B7=\"Avg Ticket\",SUMIFS(Weekly_Data_Raw[AVG_TICKET],Weekly_Data_Raw[TICKER],'Weekly Metrics'!$A7,Weekly_Data_Raw[END_DATE],'Weekly Metrics'!DX$5), IF($B7=\"EOP Subscribers\",SUMIFS(Weekly_Data_Raw[EOP_SUBSCRIBERS],Weekly_Data_Raw[TICKER],'Weekly Metrics'!$A7,Weekly_Data_Raw[END_DATE],'Weekly Metrics'!DX$5), IF($B7=\"Gross Adds\",SUMIFS(Weekly_Data_Raw[GROSS_ADDS],Weekly_Data_Raw[TICKER],'Weekly Metrics'!$A7,Weekly_Data_Raw[END_DATE],'Weekly Metrics'!DX$5), IF($B7=\"Churn\",SUMIFS(Weekly_Data_Raw[CHURNED_MEMBERS],Weekly_Data_Raw[TICKER],'Weekly Metrics'!$A7,Weekly_Data_Raw[END_DATE],'Weekly Metrics'!DX$5)))))))","v":107606},{"$f":"IF($B7=\"Panel Sales\", SUMIFS(Weekly_Data_Raw[PANEL_AMOUNT],Weekly_Data_Raw[TICKER],'Weekly Metrics'!$A7,Weekly_Data_Raw[END_DATE],'Weekly Metrics'!DY$5),IF($B7=\"Transactions\",SUMIFS(Weekly_Data_Raw[PANEL_TRANSACTIONS],Weekly_Data_Raw[TICKER],'Weekly Metrics'!$A7,Weekly_Data_Raw[END_DATE],'Weekly Metrics'!DY$5), IF($B7=\"Avg Ticket\",SUMIFS(Weekly_Data_Raw[AVG_TICKET],Weekly_Data_Raw[TICKER],'Weekly Metrics'!$A7,Weekly_Data_Raw[END_DATE],'Weekly Metrics'!DY$5), IF($B7=\"EOP Subscribers\",SUMIFS(Weekly_Data_Raw[EOP_SUBSCRIBERS],Weekly_Data_Raw[TICKER],'Weekly Metrics'!$A7,Weekly_Data_Raw[END_DATE],'Weekly Metrics'!DY$5), IF($B7=\"Gross Adds\",SUMIFS(Weekly_Data_Raw[GROSS_ADDS],Weekly_Data_Raw[TICKER],'Weekly Metrics'!$A7,Weekly_Data_Raw[END_DATE],'Weekly Metrics'!DY$5), IF($B7=\"Churn\",SUMIFS(Weekly_Data_Raw[CHURNED_MEMBERS],Weekly_Data_Raw[TICKER],'Weekly Metrics'!$A7,Weekly_Data_Raw[END_DATE],'Weekly Metrics'!DY$5)))))))","v":107606},{"$f":"IF($B7=\"Panel Sales\", SUMIFS(Weekly_Data_Raw[PANEL_AMOUNT],Weekly_Data_Raw[TICKER],'Weekly Metrics'!$A7,Weekly_Data_Raw[END_DATE],'Weekly Metrics'!DZ$5),IF($B7=\"Transactions\",SUMIFS(Weekly_Data_Raw[PANEL_TRANSACTIONS],Weekly_Data_Raw[TICKER],'Weekly Metrics'!$A7,Weekly_Data_Raw[END_DATE],'Weekly Metrics'!DZ$5), IF($B7=\"Avg Ticket\",SUMIFS(Weekly_Data_Raw[AVG_TICKET],Weekly_Data_Raw[TICKER],'Weekly Metrics'!$A7,Weekly_Data_Raw[END_DATE],'Weekly Metrics'!DZ$5), IF($B7=\"EOP Subscribers\",SUMIFS(Weekly_Data_Raw[EOP_SUBSCRIBERS],Weekly_Data_Raw[TICKER],'Weekly Metrics'!$A7,Weekly_Data_Raw[END_DATE],'Weekly Metrics'!DZ$5), IF($B7=\"Gross Adds\",SUMIFS(Weekly_Data_Raw[GROSS_ADDS],Weekly_Data_Raw[TICKER],'Weekly Metrics'!$A7,Weekly_Data_Raw[END_DATE],'Weekly Metrics'!DZ$5), IF($B7=\"Churn\",SUMIFS(Weekly_Data_Raw[CHURNED_MEMBERS],Weekly_Data_Raw[TICKER],'Weekly Metrics'!$A7,Weekly_Data_Raw[END_DATE],'Weekly Metrics'!DZ$5)))))))","v":107571},{"$f":"IF($B7=\"Panel Sales\", SUMIFS(Weekly_Data_Raw[PANEL_AMOUNT],Weekly_Data_Raw[TICKER],'Weekly Metrics'!$A7,Weekly_Data_Raw[END_DATE],'Weekly Metrics'!EA$5),IF($B7=\"Transactions\",SUMIFS(Weekly_Data_Raw[PANEL_TRANSACTIONS],Weekly_Data_Raw[TICKER],'Weekly Metrics'!$A7,Weekly_Data_Raw[END_DATE],'Weekly Metrics'!EA$5), IF($B7=\"Avg Ticket\",SUMIFS(Weekly_Data_Raw[AVG_TICKET],Weekly_Data_Raw[TICKER],'Weekly Metrics'!$A7,Weekly_Data_Raw[END_DATE],'Weekly Metrics'!EA$5), IF($B7=\"EOP Subscribers\",SUMIFS(Weekly_Data_Raw[EOP_SUBSCRIBERS],Weekly_Data_Raw[TICKER],'Weekly Metrics'!$A7,Weekly_Data_Raw[END_DATE],'Weekly Metrics'!EA$5), IF($B7=\"Gross Adds\",SUMIFS(Weekly_Data_Raw[GROSS_ADDS],Weekly_Data_Raw[TICKER],'Weekly Metrics'!$A7,Weekly_Data_Raw[END_DATE],'Weekly Metrics'!EA$5), IF($B7=\"Churn\",SUMIFS(Weekly_Data_Raw[CHURNED_MEMBERS],Weekly_Data_Raw[TICKER],'Weekly Metrics'!$A7,Weekly_Data_Raw[END_DATE],'Weekly Metrics'!EA$5)))))))","v":107654},{"$f":"IF($B7=\"Panel Sales\", SUMIFS(Weekly_Data_Raw[PANEL_AMOUNT],Weekly_Data_Raw[TICKER],'Weekly Metrics'!$A7,Weekly_Data_Raw[END_DATE],'Weekly Metrics'!EB$5),IF($B7=\"Transactions\",SUMIFS(Weekly_Data_Raw[PANEL_TRANSACTIONS],Weekly_Data_Raw[TICKER],'Weekly Metrics'!$A7,Weekly_Data_Raw[END_DATE],'Weekly Metrics'!EB$5), IF($B7=\"Avg Ticket\",SUMIFS(Weekly_Data_Raw[AVG_TICKET],Weekly_Data_Raw[TICKER],'Weekly Metrics'!$A7,Weekly_Data_Raw[END_DATE],'Weekly Metrics'!EB$5), IF($B7=\"EOP Subscribers\",SUMIFS(Weekly_Data_Raw[EOP_SUBSCRIBERS],Weekly_Data_Raw[TICKER],'Weekly Metrics'!$A7,Weekly_Data_Raw[END_DATE],'Weekly Metrics'!EB$5), IF($B7=\"Gross Adds\",SUMIFS(Weekly_Data_Raw[GROSS_ADDS],Weekly_Data_Raw[TICKER],'Weekly Metrics'!$A7,Weekly_Data_Raw[END_DATE],'Weekly Metrics'!EB$5), IF($B7=\"Churn\",SUMIFS(Weekly_Data_Raw[CHURNED_MEMBERS],Weekly_Data_Raw[TICKER],'Weekly Metrics'!$A7,Weekly_Data_Raw[END_DATE],'Weekly Metrics'!EB$5)))))))","v":107703},{"$f":"IF($B7=\"Panel Sales\", SUMIFS(Weekly_Data_Raw[PANEL_AMOUNT],Weekly_Data_Raw[TICKER],'Weekly Metrics'!$A7,Weekly_Data_Raw[END_DATE],'Weekly Metrics'!EC$5),IF($B7=\"Transactions\",SUMIFS(Weekly_Data_Raw[PANEL_TRANSACTIONS],Weekly_Data_Raw[TICKER],'Weekly Metrics'!$A7,Weekly_Data_Raw[END_DATE],'Weekly Metrics'!EC$5), IF($B7=\"Avg Ticket\",SUMIFS(Weekly_Data_Raw[AVG_TICKET],Weekly_Data_Raw[TICKER],'Weekly Metrics'!$A7,Weekly_Data_Raw[END_DATE],'Weekly Metrics'!EC$5), IF($B7=\"EOP Subscribers\",SUMIFS(Weekly_Data_Raw[EOP_SUBSCRIBERS],Weekly_Data_Raw[TICKER],'Weekly Metrics'!$A7,Weekly_Data_Raw[END_DATE],'Weekly Metrics'!EC$5), IF($B7=\"Gross Adds\",SUMIFS(Weekly_Data_Raw[GROSS_ADDS],Weekly_Data_Raw[TICKER],'Weekly Metrics'!$A7,Weekly_Data_Raw[END_DATE],'Weekly Metrics'!EC$5), IF($B7=\"Churn\",SUMIFS(Weekly_Data_Raw[CHURNED_MEMBERS],Weekly_Data_Raw[TICKER],'Weekly Metrics'!$A7,Weekly_Data_Raw[END_DATE],'Weekly Metrics'!EC$5)))))))","v":107790},{"$f":"IF($B7=\"Panel Sales\", SUMIFS(Weekly_Data_Raw[PANEL_AMOUNT],Weekly_Data_Raw[TICKER],'Weekly Metrics'!$A7,Weekly_Data_Raw[END_DATE],'Weekly Metrics'!ED$5),IF($B7=\"Transactions\",SUMIFS(Weekly_Data_Raw[PANEL_TRANSACTIONS],Weekly_Data_Raw[TICKER],'Weekly Metrics'!$A7,Weekly_Data_Raw[END_DATE],'Weekly Metrics'!ED$5), IF($B7=\"Avg Ticket\",SUMIFS(Weekly_Data_Raw[AVG_TICKET],Weekly_Data_Raw[TICKER],'Weekly Metrics'!$A7,Weekly_Data_Raw[END_DATE],'Weekly Metrics'!ED$5), IF($B7=\"EOP Subscribers\",SUMIFS(Weekly_Data_Raw[EOP_SUBSCRIBERS],Weekly_Data_Raw[TICKER],'Weekly Metrics'!$A7,Weekly_Data_Raw[END_DATE],'Weekly Metrics'!ED$5), IF($B7=\"Gross Adds\",SUMIFS(Weekly_Data_Raw[GROSS_ADDS],Weekly_Data_Raw[TICKER],'Weekly Metrics'!$A7,Weekly_Data_Raw[END_DATE],'Weekly Metrics'!ED$5), IF($B7=\"Churn\",SUMIFS(Weekly_Data_Raw[CHURNED_MEMBERS],Weekly_Data_Raw[TICKER],'Weekly Metrics'!$A7,Weekly_Data_Raw[END_DATE],'Weekly Metrics'!ED$5)))))))","v":107807},{"$f":"IF($B7=\"Panel Sales\", SUMIFS(Weekly_Data_Raw[PANEL_AMOUNT],Weekly_Data_Raw[TICKER],'Weekly Metrics'!$A7,Weekly_Data_Raw[END_DATE],'Weekly Metrics'!EE$5),IF($B7=\"Transactions\",SUMIFS(Weekly_Data_Raw[PANEL_TRANSACTIONS],Weekly_Data_Raw[TICKER],'Weekly Metrics'!$A7,Weekly_Data_Raw[END_DATE],'Weekly Metrics'!EE$5), IF($B7=\"Avg Ticket\",SUMIFS(Weekly_Data_Raw[AVG_TICKET],Weekly_Data_Raw[TICKER],'Weekly Metrics'!$A7,Weekly_Data_Raw[END_DATE],'Weekly Metrics'!EE$5), IF($B7=\"EOP Subscribers\",SUMIFS(Weekly_Data_Raw[EOP_SUBSCRIBERS],Weekly_Data_Raw[TICKER],'Weekly Metrics'!$A7,Weekly_Data_Raw[END_DATE],'Weekly Metrics'!EE$5), IF($B7=\"Gross Adds\",SUMIFS(Weekly_Data_Raw[GROSS_ADDS],Weekly_Data_Raw[TICKER],'Weekly Metrics'!$A7,Weekly_Data_Raw[END_DATE],'Weekly Metrics'!EE$5), IF($B7=\"Churn\",SUMIFS(Weekly_Data_Raw[CHURNED_MEMBERS],Weekly_Data_Raw[TICKER],'Weekly Metrics'!$A7,Weekly_Data_Raw[END_DATE],'Weekly Metrics'!EE$5)))))))","v":107916},{"$f":"IF($B7=\"Panel Sales\", SUMIFS(Weekly_Data_Raw[PANEL_AMOUNT],Weekly_Data_Raw[TICKER],'Weekly Metrics'!$A7,Weekly_Data_Raw[END_DATE],'Weekly Metrics'!EF$5),IF($B7=\"Transactions\",SUMIFS(Weekly_Data_Raw[PANEL_TRANSACTIONS],Weekly_Data_Raw[TICKER],'Weekly Metrics'!$A7,Weekly_Data_Raw[END_DATE],'Weekly Metrics'!EF$5), IF($B7=\"Avg Ticket\",SUMIFS(Weekly_Data_Raw[AVG_TICKET],Weekly_Data_Raw[TICKER],'Weekly Metrics'!$A7,Weekly_Data_Raw[END_DATE],'Weekly Metrics'!EF$5), IF($B7=\"EOP Subscribers\",SUMIFS(Weekly_Data_Raw[EOP_SUBSCRIBERS],Weekly_Data_Raw[TICKER],'Weekly Metrics'!$A7,Weekly_Data_Raw[END_DATE],'Weekly Metrics'!EF$5), IF($B7=\"Gross Adds\",SUMIFS(Weekly_Data_Raw[GROSS_ADDS],Weekly_Data_Raw[TICKER],'Weekly Metrics'!$A7,Weekly_Data_Raw[END_DATE],'Weekly Metrics'!EF$5), IF($B7=\"Churn\",SUMIFS(Weekly_Data_Raw[CHURNED_MEMBERS],Weekly_Data_Raw[TICKER],'Weekly Metrics'!$A7,Weekly_Data_Raw[END_DATE],'Weekly Metrics'!EF$5)))))))","v":107985},{"$f":"IF($B7=\"Panel Sales\", SUMIFS(Weekly_Data_Raw[PANEL_AMOUNT],Weekly_Data_Raw[TICKER],'Weekly Metrics'!$A7,Weekly_Data_Raw[END_DATE],'Weekly Metrics'!EG$5),IF($B7=\"Transactions\",SUMIFS(Weekly_Data_Raw[PANEL_TRANSACTIONS],Weekly_Data_Raw[TICKER],'Weekly Metrics'!$A7,Weekly_Data_Raw[END_DATE],'Weekly Metrics'!EG$5), IF($B7=\"Avg Ticket\",SUMIFS(Weekly_Data_Raw[AVG_TICKET],Weekly_Data_Raw[TICKER],'Weekly Metrics'!$A7,Weekly_Data_Raw[END_DATE],'Weekly Metrics'!EG$5), IF($B7=\"EOP Subscribers\",SUMIFS(Weekly_Data_Raw[EOP_SUBSCRIBERS],Weekly_Data_Raw[TICKER],'Weekly Metrics'!$A7,Weekly_Data_Raw[END_DATE],'Weekly Metrics'!EG$5), IF($B7=\"Gross Adds\",SUMIFS(Weekly_Data_Raw[GROSS_ADDS],Weekly_Data_Raw[TICKER],'Weekly Metrics'!$A7,Weekly_Data_Raw[END_DATE],'Weekly Metrics'!EG$5), IF($B7=\"Churn\",SUMIFS(Weekly_Data_Raw[CHURNED_MEMBERS],Weekly_Data_Raw[TICKER],'Weekly Metrics'!$A7,Weekly_Data_Raw[END_DATE],'Weekly Metrics'!EG$5)))))))","v":108088},{"$f":"IF($B7=\"Panel Sales\", SUMIFS(Weekly_Data_Raw[PANEL_AMOUNT],Weekly_Data_Raw[TICKER],'Weekly Metrics'!$A7,Weekly_Data_Raw[END_DATE],'Weekly Metrics'!EH$5),IF($B7=\"Transactions\",SUMIFS(Weekly_Data_Raw[PANEL_TRANSACTIONS],Weekly_Data_Raw[TICKER],'Weekly Metrics'!$A7,Weekly_Data_Raw[END_DATE],'Weekly Metrics'!EH$5), IF($B7=\"Avg Ticket\",SUMIFS(Weekly_Data_Raw[AVG_TICKET],Weekly_Data_Raw[TICKER],'Weekly Metrics'!$A7,Weekly_Data_Raw[END_DATE],'Weekly Metrics'!EH$5), IF($B7=\"EOP Subscribers\",SUMIFS(Weekly_Data_Raw[EOP_SUBSCRIBERS],Weekly_Data_Raw[TICKER],'Weekly Metrics'!$A7,Weekly_Data_Raw[END_DATE],'Weekly Metrics'!EH$5), IF($B7=\"Gross Adds\",SUMIFS(Weekly_Data_Raw[GROSS_ADDS],Weekly_Data_Raw[TICKER],'Weekly Metrics'!$A7,Weekly_Data_Raw[END_DATE],'Weekly Metrics'!EH$5), IF($B7=\"Churn\",SUMIFS(Weekly_Data_Raw[CHURNED_MEMBERS],Weekly_Data_Raw[TICKER],'Weekly Metrics'!$A7,Weekly_Data_Raw[END_DATE],'Weekly Metrics'!EH$5)))))))","v":108155},{"$f":"IF($B7=\"Panel Sales\", SUMIFS(Weekly_Data_Raw[PANEL_AMOUNT],Weekly_Data_Raw[TICKER],'Weekly Metrics'!$A7,Weekly_Data_Raw[END_DATE],'Weekly Metrics'!EI$5),IF($B7=\"Transactions\",SUMIFS(Weekly_Data_Raw[PANEL_TRANSACTIONS],Weekly_Data_Raw[TICKER],'Weekly Metrics'!$A7,Weekly_Data_Raw[END_DATE],'Weekly Metrics'!EI$5), IF($B7=\"Avg Ticket\",SUMIFS(Weekly_Data_Raw[AVG_TICKET],Weekly_Data_Raw[TICKER],'Weekly Metrics'!$A7,Weekly_Data_Raw[END_DATE],'Weekly Metrics'!EI$5), IF($B7=\"EOP Subscribers\",SUMIFS(Weekly_Data_Raw[EOP_SUBSCRIBERS],Weekly_Data_Raw[TICKER],'Weekly Metrics'!$A7,Weekly_Data_Raw[END_DATE],'Weekly Metrics'!EI$5), IF($B7=\"Gross Adds\",SUMIFS(Weekly_Data_Raw[GROSS_ADDS],Weekly_Data_Raw[TICKER],'Weekly Metrics'!$A7,Weekly_Data_Raw[END_DATE],'Weekly Metrics'!EI$5), IF($B7=\"Churn\",SUMIFS(Weekly_Data_Raw[CHURNED_MEMBERS],Weekly_Data_Raw[TICKER],'Weekly Metrics'!$A7,Weekly_Data_Raw[END_DATE],'Weekly Metrics'!EI$5)))))))","v":108198},{"$f":"IF($B7=\"Panel Sales\", SUMIFS(Weekly_Data_Raw[PANEL_AMOUNT],Weekly_Data_Raw[TICKER],'Weekly Metrics'!$A7,Weekly_Data_Raw[END_DATE],'Weekly Metrics'!EJ$5),IF($B7=\"Transactions\",SUMIFS(Weekly_Data_Raw[PANEL_TRANSACTIONS],Weekly_Data_Raw[TICKER],'Weekly Metrics'!$A7,Weekly_Data_Raw[END_DATE],'Weekly Metrics'!EJ$5), IF($B7=\"Avg Ticket\",SUMIFS(Weekly_Data_Raw[AVG_TICKET],Weekly_Data_Raw[TICKER],'Weekly Metrics'!$A7,Weekly_Data_Raw[END_DATE],'Weekly Metrics'!EJ$5), IF($B7=\"EOP Subscribers\",SUMIFS(Weekly_Data_Raw[EOP_SUBSCRIBERS],Weekly_Data_Raw[TICKER],'Weekly Metrics'!$A7,Weekly_Data_Raw[END_DATE],'Weekly Metrics'!EJ$5), IF($B7=\"Gross Adds\",SUMIFS(Weekly_Data_Raw[GROSS_ADDS],Weekly_Data_Raw[TICKER],'Weekly Metrics'!$A7,Weekly_Data_Raw[END_DATE],'Weekly Metrics'!EJ$5), IF($B7=\"Churn\",SUMIFS(Weekly_Data_Raw[CHURNED_MEMBERS],Weekly_Data_Raw[TICKER],'Weekly Metrics'!$A7,Weekly_Data_Raw[END_DATE],'Weekly Metrics'!EJ$5)))))))","v":108212},{"$f":"IF($B7=\"Panel Sales\", SUMIFS(Weekly_Data_Raw[PANEL_AMOUNT],Weekly_Data_Raw[TICKER],'Weekly Metrics'!$A7,Weekly_Data_Raw[END_DATE],'Weekly Metrics'!EK$5),IF($B7=\"Transactions\",SUMIFS(Weekly_Data_Raw[PANEL_TRANSACTIONS],Weekly_Data_Raw[TICKER],'Weekly Metrics'!$A7,Weekly_Data_Raw[END_DATE],'Weekly Metrics'!EK$5), IF($B7=\"Avg Ticket\",SUMIFS(Weekly_Data_Raw[AVG_TICKET],Weekly_Data_Raw[TICKER],'Weekly Metrics'!$A7,Weekly_Data_Raw[END_DATE],'Weekly Metrics'!EK$5), IF($B7=\"EOP Subscribers\",SUMIFS(Weekly_Data_Raw[EOP_SUBSCRIBERS],Weekly_Data_Raw[TICKER],'Weekly Metrics'!$A7,Weekly_Data_Raw[END_DATE],'Weekly Metrics'!EK$5), IF($B7=\"Gross Adds\",SUMIFS(Weekly_Data_Raw[GROSS_ADDS],Weekly_Data_Raw[TICKER],'Weekly Metrics'!$A7,Weekly_Data_Raw[END_DATE],'Weekly Metrics'!EK$5), IF($B7=\"Churn\",SUMIFS(Weekly_Data_Raw[CHURNED_MEMBERS],Weekly_Data_Raw[TICKER],'Weekly Metrics'!$A7,Weekly_Data_Raw[END_DATE],'Weekly Metrics'!EK$5)))))))","v":108235},{"$f":"IF($B7=\"Panel Sales\", SUMIFS(Weekly_Data_Raw[PANEL_AMOUNT],Weekly_Data_Raw[TICKER],'Weekly Metrics'!$A7,Weekly_Data_Raw[END_DATE],'Weekly Metrics'!EL$5),IF($B7=\"Transactions\",SUMIFS(Weekly_Data_Raw[PANEL_TRANSACTIONS],Weekly_Data_Raw[TICKER],'Weekly Metrics'!$A7,Weekly_Data_Raw[END_DATE],'Weekly Metrics'!EL$5), IF($B7=\"Avg Ticket\",SUMIFS(Weekly_Data_Raw[AVG_TICKET],Weekly_Data_Raw[TICKER],'Weekly Metrics'!$A7,Weekly_Data_Raw[END_DATE],'Weekly Metrics'!EL$5), IF($B7=\"EOP Subscribers\",SUMIFS(Weekly_Data_Raw[EOP_SUBSCRIBERS],Weekly_Data_Raw[TICKER],'Weekly Metrics'!$A7,Weekly_Data_Raw[END_DATE],'Weekly Metrics'!EL$5), IF($B7=\"Gross Adds\",SUMIFS(Weekly_Data_Raw[GROSS_ADDS],Weekly_Data_Raw[TICKER],'Weekly Metrics'!$A7,Weekly_Data_Raw[END_DATE],'Weekly Metrics'!EL$5), IF($B7=\"Churn\",SUMIFS(Weekly_Data_Raw[CHURNED_MEMBERS],Weekly_Data_Raw[TICKER],'Weekly Metrics'!$A7,Weekly_Data_Raw[END_DATE],'Weekly Metrics'!EL$5)))))))","v":108332},{"$f":"IF($B7=\"Panel Sales\", SUMIFS(Weekly_Data_Raw[PANEL_AMOUNT],Weekly_Data_Raw[TICKER],'Weekly Metrics'!$A7,Weekly_Data_Raw[END_DATE],'Weekly Metrics'!EM$5),IF($B7=\"Transactions\",SUMIFS(Weekly_Data_Raw[PANEL_TRANSACTIONS],Weekly_Data_Raw[TICKER],'Weekly Metrics'!$A7,Weekly_Data_Raw[END_DATE],'Weekly Metrics'!EM$5), IF($B7=\"Avg Ticket\",SUMIFS(Weekly_Data_Raw[AVG_TICKET],Weekly_Data_Raw[TICKER],'Weekly Metrics'!$A7,Weekly_Data_Raw[END_DATE],'Weekly Metrics'!EM$5), IF($B7=\"EOP Subscribers\",SUMIFS(Weekly_Data_Raw[EOP_SUBSCRIBERS],Weekly_Data_Raw[TICKER],'Weekly Metrics'!$A7,Weekly_Data_Raw[END_DATE],'Weekly Metrics'!EM$5), IF($B7=\"Gross Adds\",SUMIFS(Weekly_Data_Raw[GROSS_ADDS],Weekly_Data_Raw[TICKER],'Weekly Metrics'!$A7,Weekly_Data_Raw[END_DATE],'Weekly Metrics'!EM$5), IF($B7=\"Churn\",SUMIFS(Weekly_Data_Raw[CHURNED_MEMBERS],Weekly_Data_Raw[TICKER],'Weekly Metrics'!$A7,Weekly_Data_Raw[END_DATE],'Weekly Metrics'!EM$5)))))))","v":108373},{"$f":"IF($B7=\"Panel Sales\", SUMIFS(Weekly_Data_Raw[PANEL_AMOUNT],Weekly_Data_Raw[TICKER],'Weekly Metrics'!$A7,Weekly_Data_Raw[END_DATE],'Weekly Metrics'!EN$5),IF($B7=\"Transactions\",SUMIFS(Weekly_Data_Raw[PANEL_TRANSACTIONS],Weekly_Data_Raw[TICKER],'Weekly Metrics'!$A7,Weekly_Data_Raw[END_DATE],'Weekly Metrics'!EN$5), IF($B7=\"Avg Ticket\",SUMIFS(Weekly_Data_Raw[AVG_TICKET],Weekly_Data_Raw[TICKER],'Weekly Metrics'!$A7,Weekly_Data_Raw[END_DATE],'Weekly Metrics'!EN$5), IF($B7=\"EOP Subscribers\",SUMIFS(Weekly_Data_Raw[EOP_SUBSCRIBERS],Weekly_Data_Raw[TICKER],'Weekly Metrics'!$A7,Weekly_Data_Raw[END_DATE],'Weekly Metrics'!EN$5), IF($B7=\"Gross Adds\",SUMIFS(Weekly_Data_Raw[GROSS_ADDS],Weekly_Data_Raw[TICKER],'Weekly Metrics'!$A7,Weekly_Data_Raw[END_DATE],'Weekly Metrics'!EN$5), IF($B7=\"Churn\",SUMIFS(Weekly_Data_Raw[CHURNED_MEMBERS],Weekly_Data_Raw[TICKER],'Weekly Metrics'!$A7,Weekly_Data_Raw[END_DATE],'Weekly Metrics'!EN$5)))))))","v":108407},{"$f":"IF($B7=\"Panel Sales\", SUMIFS(Weekly_Data_Raw[PANEL_AMOUNT],Weekly_Data_Raw[TICKER],'Weekly Metrics'!$A7,Weekly_Data_Raw[END_DATE],'Weekly Metrics'!EO$5),IF($B7=\"Transactions\",SUMIFS(Weekly_Data_Raw[PANEL_TRANSACTIONS],Weekly_Data_Raw[TICKER],'Weekly Metrics'!$A7,Weekly_Data_Raw[END_DATE],'Weekly Metrics'!EO$5), IF($B7=\"Avg Ticket\",SUMIFS(Weekly_Data_Raw[AVG_TICKET],Weekly_Data_Raw[TICKER],'Weekly Metrics'!$A7,Weekly_Data_Raw[END_DATE],'Weekly Metrics'!EO$5), IF($B7=\"EOP Subscribers\",SUMIFS(Weekly_Data_Raw[EOP_SUBSCRIBERS],Weekly_Data_Raw[TICKER],'Weekly Metrics'!$A7,Weekly_Data_Raw[END_DATE],'Weekly Metrics'!EO$5), IF($B7=\"Gross Adds\",SUMIFS(Weekly_Data_Raw[GROSS_ADDS],Weekly_Data_Raw[TICKER],'Weekly Metrics'!$A7,Weekly_Data_Raw[END_DATE],'Weekly Metrics'!EO$5), IF($B7=\"Churn\",SUMIFS(Weekly_Data_Raw[CHURNED_MEMBERS],Weekly_Data_Raw[TICKER],'Weekly Metrics'!$A7,Weekly_Data_Raw[END_DATE],'Weekly Metrics'!EO$5)))))))","v":108400},{"$f":"IF($B7=\"Panel Sales\", SUMIFS(Weekly_Data_Raw[PANEL_AMOUNT],Weekly_Data_Raw[TICKER],'Weekly Metrics'!$A7,Weekly_Data_Raw[END_DATE],'Weekly Metrics'!EP$5),IF($B7=\"Transactions\",SUMIFS(Weekly_Data_Raw[PANEL_TRANSACTIONS],Weekly_Data_Raw[TICKER],'Weekly Metrics'!$A7,Weekly_Data_Raw[END_DATE],'Weekly Metrics'!EP$5), IF($B7=\"Avg Ticket\",SUMIFS(Weekly_Data_Raw[AVG_TICKET],Weekly_Data_Raw[TICKER],'Weekly Metrics'!$A7,Weekly_Data_Raw[END_DATE],'Weekly Metrics'!EP$5), IF($B7=\"EOP Subscribers\",SUMIFS(Weekly_Data_Raw[EOP_SUBSCRIBERS],Weekly_Data_Raw[TICKER],'Weekly Metrics'!$A7,Weekly_Data_Raw[END_DATE],'Weekly Metrics'!EP$5), IF($B7=\"Gross Adds\",SUMIFS(Weekly_Data_Raw[GROSS_ADDS],Weekly_Data_Raw[TICKER],'Weekly Metrics'!$A7,Weekly_Data_Raw[END_DATE],'Weekly Metrics'!EP$5), IF($B7=\"Churn\",SUMIFS(Weekly_Data_Raw[CHURNED_MEMBERS],Weekly_Data_Raw[TICKER],'Weekly Metrics'!$A7,Weekly_Data_Raw[END_DATE],'Weekly Metrics'!EP$5)))))))","v":108348},{"$f":"IF($B7=\"Panel Sales\", SUMIFS(Weekly_Data_Raw[PANEL_AMOUNT],Weekly_Data_Raw[TICKER],'Weekly Metrics'!$A7,Weekly_Data_Raw[END_DATE],'Weekly Metrics'!EQ$5),IF($B7=\"Transactions\",SUMIFS(Weekly_Data_Raw[PANEL_TRANSACTIONS],Weekly_Data_Raw[TICKER],'Weekly Metrics'!$A7,Weekly_Data_Raw[END_DATE],'Weekly Metrics'!EQ$5), IF($B7=\"Avg Ticket\",SUMIFS(Weekly_Data_Raw[AVG_TICKET],Weekly_Data_Raw[TICKER],'Weekly Metrics'!$A7,Weekly_Data_Raw[END_DATE],'Weekly Metrics'!EQ$5), IF($B7=\"EOP Subscribers\",SUMIFS(Weekly_Data_Raw[EOP_SUBSCRIBERS],Weekly_Data_Raw[TICKER],'Weekly Metrics'!$A7,Weekly_Data_Raw[END_DATE],'Weekly Metrics'!EQ$5), IF($B7=\"Gross Adds\",SUMIFS(Weekly_Data_Raw[GROSS_ADDS],Weekly_Data_Raw[TICKER],'Weekly Metrics'!$A7,Weekly_Data_Raw[END_DATE],'Weekly Metrics'!EQ$5), IF($B7=\"Churn\",SUMIFS(Weekly_Data_Raw[CHURNED_MEMBERS],Weekly_Data_Raw[TICKER],'Weekly Metrics'!$A7,Weekly_Data_Raw[END_DATE],'Weekly Metrics'!EQ$5)))))))","v":108376},{"$f":"IF($B7=\"Panel Sales\", SUMIFS(Weekly_Data_Raw[PANEL_AMOUNT],Weekly_Data_Raw[TICKER],'Weekly Metrics'!$A7,Weekly_Data_Raw[END_DATE],'Weekly Metrics'!ER$5),IF($B7=\"Transactions\",SUMIFS(Weekly_Data_Raw[PANEL_TRANSACTIONS],Weekly_Data_Raw[TICKER],'Weekly Metrics'!$A7,Weekly_Data_Raw[END_DATE],'Weekly Metrics'!ER$5), IF($B7=\"Avg Ticket\",SUMIFS(Weekly_Data_Raw[AVG_TICKET],Weekly_Data_Raw[TICKER],'Weekly Metrics'!$A7,Weekly_Data_Raw[END_DATE],'Weekly Metrics'!ER$5), IF($B7=\"EOP Subscribers\",SUMIFS(Weekly_Data_Raw[EOP_SUBSCRIBERS],Weekly_Data_Raw[TICKER],'Weekly Metrics'!$A7,Weekly_Data_Raw[END_DATE],'Weekly Metrics'!ER$5), IF($B7=\"Gross Adds\",SUMIFS(Weekly_Data_Raw[GROSS_ADDS],Weekly_Data_Raw[TICKER],'Weekly Metrics'!$A7,Weekly_Data_Raw[END_DATE],'Weekly Metrics'!ER$5), IF($B7=\"Churn\",SUMIFS(Weekly_Data_Raw[CHURNED_MEMBERS],Weekly_Data_Raw[TICKER],'Weekly Metrics'!$A7,Weekly_Data_Raw[END_DATE],'Weekly Metrics'!ER$5)))))))","v":108342},{"$f":"IF($B7=\"Panel Sales\", SUMIFS(Weekly_Data_Raw[PANEL_AMOUNT],Weekly_Data_Raw[TICKER],'Weekly Metrics'!$A7,Weekly_Data_Raw[END_DATE],'Weekly Metrics'!ES$5),IF($B7=\"Transactions\",SUMIFS(Weekly_Data_Raw[PANEL_TRANSACTIONS],Weekly_Data_Raw[TICKER],'Weekly Metrics'!$A7,Weekly_Data_Raw[END_DATE],'Weekly Metrics'!ES$5), IF($B7=\"Avg Ticket\",SUMIFS(Weekly_Data_Raw[AVG_TICKET],Weekly_Data_Raw[TICKER],'Weekly Metrics'!$A7,Weekly_Data_Raw[END_DATE],'Weekly Metrics'!ES$5), IF($B7=\"EOP Subscribers\",SUMIFS(Weekly_Data_Raw[EOP_SUBSCRIBERS],Weekly_Data_Raw[TICKER],'Weekly Metrics'!$A7,Weekly_Data_Raw[END_DATE],'Weekly Metrics'!ES$5), IF($B7=\"Gross Adds\",SUMIFS(Weekly_Data_Raw[GROSS_ADDS],Weekly_Data_Raw[TICKER],'Weekly Metrics'!$A7,Weekly_Data_Raw[END_DATE],'Weekly Metrics'!ES$5), IF($B7=\"Churn\",SUMIFS(Weekly_Data_Raw[CHURNED_MEMBERS],Weekly_Data_Raw[TICKER],'Weekly Metrics'!$A7,Weekly_Data_Raw[END_DATE],'Weekly Metrics'!ES$5)))))))","v":108353},{"$f":"IF($B7=\"Panel Sales\", SUMIFS(Weekly_Data_Raw[PANEL_AMOUNT],Weekly_Data_Raw[TICKER],'Weekly Metrics'!$A7,Weekly_Data_Raw[END_DATE],'Weekly Metrics'!ET$5),IF($B7=\"Transactions\",SUMIFS(Weekly_Data_Raw[PANEL_TRANSACTIONS],Weekly_Data_Raw[TICKER],'Weekly Metrics'!$A7,Weekly_Data_Raw[END_DATE],'Weekly Metrics'!ET$5), IF($B7=\"Avg Ticket\",SUMIFS(Weekly_Data_Raw[AVG_TICKET],Weekly_Data_Raw[TICKER],'Weekly Metrics'!$A7,Weekly_Data_Raw[END_DATE],'Weekly Metrics'!ET$5), IF($B7=\"EOP Subscribers\",SUMIFS(Weekly_Data_Raw[EOP_SUBSCRIBERS],Weekly_Data_Raw[TICKER],'Weekly Metrics'!$A7,Weekly_Data_Raw[END_DATE],'Weekly Metrics'!ET$5), IF($B7=\"Gross Adds\",SUMIFS(Weekly_Data_Raw[GROSS_ADDS],Weekly_Data_Raw[TICKER],'Weekly Metrics'!$A7,Weekly_Data_Raw[END_DATE],'Weekly Metrics'!ET$5), IF($B7=\"Churn\",SUMIFS(Weekly_Data_Raw[CHURNED_MEMBERS],Weekly_Data_Raw[TICKER],'Weekly Metrics'!$A7,Weekly_Data_Raw[END_DATE],'Weekly Metrics'!ET$5)))))))","v":108444},{"$f":"IF($B7=\"Panel Sales\", SUMIFS(Weekly_Data_Raw[PANEL_AMOUNT],Weekly_Data_Raw[TICKER],'Weekly Metrics'!$A7,Weekly_Data_Raw[END_DATE],'Weekly Metrics'!EU$5),IF($B7=\"Transactions\",SUMIFS(Weekly_Data_Raw[PANEL_TRANSACTIONS],Weekly_Data_Raw[TICKER],'Weekly Metrics'!$A7,Weekly_Data_Raw[END_DATE],'Weekly Metrics'!EU$5), IF($B7=\"Avg Ticket\",SUMIFS(Weekly_Data_Raw[AVG_TICKET],Weekly_Data_Raw[TICKER],'Weekly Metrics'!$A7,Weekly_Data_Raw[END_DATE],'Weekly Metrics'!EU$5), IF($B7=\"EOP Subscribers\",SUMIFS(Weekly_Data_Raw[EOP_SUBSCRIBERS],Weekly_Data_Raw[TICKER],'Weekly Metrics'!$A7,Weekly_Data_Raw[END_DATE],'Weekly Metrics'!EU$5), IF($B7=\"Gross Adds\",SUMIFS(Weekly_Data_Raw[GROSS_ADDS],Weekly_Data_Raw[TICKER],'Weekly Metrics'!$A7,Weekly_Data_Raw[END_DATE],'Weekly Metrics'!EU$5), IF($B7=\"Churn\",SUMIFS(Weekly_Data_Raw[CHURNED_MEMBERS],Weekly_Data_Raw[TICKER],'Weekly Metrics'!$A7,Weekly_Data_Raw[END_DATE],'Weekly Metrics'!EU$5)))))))","v":108354},{"$f":"IF($B7=\"Panel Sales\", SUMIFS(Weekly_Data_Raw[PANEL_AMOUNT],Weekly_Data_Raw[TICKER],'Weekly Metrics'!$A7,Weekly_Data_Raw[END_DATE],'Weekly Metrics'!EV$5),IF($B7=\"Transactions\",SUMIFS(Weekly_Data_Raw[PANEL_TRANSACTIONS],Weekly_Data_Raw[TICKER],'Weekly Metrics'!$A7,Weekly_Data_Raw[END_DATE],'Weekly Metrics'!EV$5), IF($B7=\"Avg Ticket\",SUMIFS(Weekly_Data_Raw[AVG_TICKET],Weekly_Data_Raw[TICKER],'Weekly Metrics'!$A7,Weekly_Data_Raw[END_DATE],'Weekly Metrics'!EV$5), IF($B7=\"EOP Subscribers\",SUMIFS(Weekly_Data_Raw[EOP_SUBSCRIBERS],Weekly_Data_Raw[TICKER],'Weekly Metrics'!$A7,Weekly_Data_Raw[END_DATE],'Weekly Metrics'!EV$5), IF($B7=\"Gross Adds\",SUMIFS(Weekly_Data_Raw[GROSS_ADDS],Weekly_Data_Raw[TICKER],'Weekly Metrics'!$A7,Weekly_Data_Raw[END_DATE],'Weekly Metrics'!EV$5), IF($B7=\"Churn\",SUMIFS(Weekly_Data_Raw[CHURNED_MEMBERS],Weekly_Data_Raw[TICKER],'Weekly Metrics'!$A7,Weekly_Data_Raw[END_DATE],'Weekly Metrics'!EV$5)))))))","v":108334},{"$f":"IF($B7=\"Panel Sales\", SUMIFS(Weekly_Data_Raw[PANEL_AMOUNT],Weekly_Data_Raw[TICKER],'Weekly Metrics'!$A7,Weekly_Data_Raw[END_DATE],'Weekly Metrics'!EW$5),IF($B7=\"Transactions\",SUMIFS(Weekly_Data_Raw[PANEL_TRANSACTIONS],Weekly_Data_Raw[TICKER],'Weekly Metrics'!$A7,Weekly_Data_Raw[END_DATE],'Weekly Metrics'!EW$5), IF($B7=\"Avg Ticket\",SUMIFS(Weekly_Data_Raw[AVG_TICKET],Weekly_Data_Raw[TICKER],'Weekly Metrics'!$A7,Weekly_Data_Raw[END_DATE],'Weekly Metrics'!EW$5), IF($B7=\"EOP Subscribers\",SUMIFS(Weekly_Data_Raw[EOP_SUBSCRIBERS],Weekly_Data_Raw[TICKER],'Weekly Metrics'!$A7,Weekly_Data_Raw[END_DATE],'Weekly Metrics'!EW$5), IF($B7=\"Gross Adds\",SUMIFS(Weekly_Data_Raw[GROSS_ADDS],Weekly_Data_Raw[TICKER],'Weekly Metrics'!$A7,Weekly_Data_Raw[END_DATE],'Weekly Metrics'!EW$5), IF($B7=\"Churn\",SUMIFS(Weekly_Data_Raw[CHURNED_MEMBERS],Weekly_Data_Raw[TICKER],'Weekly Metrics'!$A7,Weekly_Data_Raw[END_DATE],'Weekly Metrics'!EW$5)))))))","v":108346},{"$f":"IF($B7=\"Panel Sales\", SUMIFS(Weekly_Data_Raw[PANEL_AMOUNT],Weekly_Data_Raw[TICKER],'Weekly Metrics'!$A7,Weekly_Data_Raw[END_DATE],'Weekly Metrics'!EX$5),IF($B7=\"Transactions\",SUMIFS(Weekly_Data_Raw[PANEL_TRANSACTIONS],Weekly_Data_Raw[TICKER],'Weekly Metrics'!$A7,Weekly_Data_Raw[END_DATE],'Weekly Metrics'!EX$5), IF($B7=\"Avg Ticket\",SUMIFS(Weekly_Data_Raw[AVG_TICKET],Weekly_Data_Raw[TICKER],'Weekly Metrics'!$A7,Weekly_Data_Raw[END_DATE],'Weekly Metrics'!EX$5), IF($B7=\"EOP Subscribers\",SUMIFS(Weekly_Data_Raw[EOP_SUBSCRIBERS],Weekly_Data_Raw[TICKER],'Weekly Metrics'!$A7,Weekly_Data_Raw[END_DATE],'Weekly Metrics'!EX$5), IF($B7=\"Gross Adds\",SUMIFS(Weekly_Data_Raw[GROSS_ADDS],Weekly_Data_Raw[TICKER],'Weekly Metrics'!$A7,Weekly_Data_Raw[END_DATE],'Weekly Metrics'!EX$5), IF($B7=\"Churn\",SUMIFS(Weekly_Data_Raw[CHURNED_MEMBERS],Weekly_Data_Raw[TICKER],'Weekly Metrics'!$A7,Weekly_Data_Raw[END_DATE],'Weekly Metrics'!EX$5)))))))","v":108278},{"$f":"IF($B7=\"Panel Sales\", SUMIFS(Weekly_Data_Raw[PANEL_AMOUNT],Weekly_Data_Raw[TICKER],'Weekly Metrics'!$A7,Weekly_Data_Raw[END_DATE],'Weekly Metrics'!EY$5),IF($B7=\"Transactions\",SUMIFS(Weekly_Data_Raw[PANEL_TRANSACTIONS],Weekly_Data_Raw[TICKER],'Weekly Metrics'!$A7,Weekly_Data_Raw[END_DATE],'Weekly Metrics'!EY$5), IF($B7=\"Avg Ticket\",SUMIFS(Weekly_Data_Raw[AVG_TICKET],Weekly_Data_Raw[TICKER],'Weekly Metrics'!$A7,Weekly_Data_Raw[END_DATE],'Weekly Metrics'!EY$5), IF($B7=\"EOP Subscribers\",SUMIFS(Weekly_Data_Raw[EOP_SUBSCRIBERS],Weekly_Data_Raw[TICKER],'Weekly Metrics'!$A7,Weekly_Data_Raw[END_DATE],'Weekly Metrics'!EY$5), IF($B7=\"Gross Adds\",SUMIFS(Weekly_Data_Raw[GROSS_ADDS],Weekly_Data_Raw[TICKER],'Weekly Metrics'!$A7,Weekly_Data_Raw[END_DATE],'Weekly Metrics'!EY$5), IF($B7=\"Churn\",SUMIFS(Weekly_Data_Raw[CHURNED_MEMBERS],Weekly_Data_Raw[TICKER],'Weekly Metrics'!$A7,Weekly_Data_Raw[END_DATE],'Weekly Metrics'!EY$5)))))))","v":108257},{"$f":"IF($B7=\"Panel Sales\", SUMIFS(Weekly_Data_Raw[PANEL_AMOUNT],Weekly_Data_Raw[TICKER],'Weekly Metrics'!$A7,Weekly_Data_Raw[END_DATE],'Weekly Metrics'!EZ$5),IF($B7=\"Transactions\",SUMIFS(Weekly_Data_Raw[PANEL_TRANSACTIONS],Weekly_Data_Raw[TICKER],'Weekly Metrics'!$A7,Weekly_Data_Raw[END_DATE],'Weekly Metrics'!EZ$5), IF($B7=\"Avg Ticket\",SUMIFS(Weekly_Data_Raw[AVG_TICKET],Weekly_Data_Raw[TICKER],'Weekly Metrics'!$A7,Weekly_Data_Raw[END_DATE],'Weekly Metrics'!EZ$5), IF($B7=\"EOP Subscribers\",SUMIFS(Weekly_Data_Raw[EOP_SUBSCRIBERS],Weekly_Data_Raw[TICKER],'Weekly Metrics'!$A7,Weekly_Data_Raw[END_DATE],'Weekly Metrics'!EZ$5), IF($B7=\"Gross Adds\",SUMIFS(Weekly_Data_Raw[GROSS_ADDS],Weekly_Data_Raw[TICKER],'Weekly Metrics'!$A7,Weekly_Data_Raw[END_DATE],'Weekly Metrics'!EZ$5), IF($B7=\"Churn\",SUMIFS(Weekly_Data_Raw[CHURNED_MEMBERS],Weekly_Data_Raw[TICKER],'Weekly Metrics'!$A7,Weekly_Data_Raw[END_DATE],'Weekly Metrics'!EZ$5)))))))","v":108132},{"$f":"IF($B7=\"Panel Sales\", SUMIFS(Weekly_Data_Raw[PANEL_AMOUNT],Weekly_Data_Raw[TICKER],'Weekly Metrics'!$A7,Weekly_Data_Raw[END_DATE],'Weekly Metrics'!FA$5),IF($B7=\"Transactions\",SUMIFS(Weekly_Data_Raw[PANEL_TRANSACTIONS],Weekly_Data_Raw[TICKER],'Weekly Metrics'!$A7,Weekly_Data_Raw[END_DATE],'Weekly Metrics'!FA$5), IF($B7=\"Avg Ticket\",SUMIFS(Weekly_Data_Raw[AVG_TICKET],Weekly_Data_Raw[TICKER],'Weekly Metrics'!$A7,Weekly_Data_Raw[END_DATE],'Weekly Metrics'!FA$5), IF($B7=\"EOP Subscribers\",SUMIFS(Weekly_Data_Raw[EOP_SUBSCRIBERS],Weekly_Data_Raw[TICKER],'Weekly Metrics'!$A7,Weekly_Data_Raw[END_DATE],'Weekly Metrics'!FA$5), IF($B7=\"Gross Adds\",SUMIFS(Weekly_Data_Raw[GROSS_ADDS],Weekly_Data_Raw[TICKER],'Weekly Metrics'!$A7,Weekly_Data_Raw[END_DATE],'Weekly Metrics'!FA$5), IF($B7=\"Churn\",SUMIFS(Weekly_Data_Raw[CHURNED_MEMBERS],Weekly_Data_Raw[TICKER],'Weekly Metrics'!$A7,Weekly_Data_Raw[END_DATE],'Weekly Metrics'!FA$5)))))))","v":108055},{"$f":"IF($B7=\"Panel Sales\", SUMIFS(Weekly_Data_Raw[PANEL_AMOUNT],Weekly_Data_Raw[TICKER],'Weekly Metrics'!$A7,Weekly_Data_Raw[END_DATE],'Weekly Metrics'!FB$5),IF($B7=\"Transactions\",SUMIFS(Weekly_Data_Raw[PANEL_TRANSACTIONS],Weekly_Data_Raw[TICKER],'Weekly Metrics'!$A7,Weekly_Data_Raw[END_DATE],'Weekly Metrics'!FB$5), IF($B7=\"Avg Ticket\",SUMIFS(Weekly_Data_Raw[AVG_TICKET],Weekly_Data_Raw[TICKER],'Weekly Metrics'!$A7,Weekly_Data_Raw[END_DATE],'Weekly Metrics'!FB$5), IF($B7=\"EOP Subscribers\",SUMIFS(Weekly_Data_Raw[EOP_SUBSCRIBERS],Weekly_Data_Raw[TICKER],'Weekly Metrics'!$A7,Weekly_Data_Raw[END_DATE],'Weekly Metrics'!FB$5), IF($B7=\"Gross Adds\",SUMIFS(Weekly_Data_Raw[GROSS_ADDS],Weekly_Data_Raw[TICKER],'Weekly Metrics'!$A7,Weekly_Data_Raw[END_DATE],'Weekly Metrics'!FB$5), IF($B7=\"Churn\",SUMIFS(Weekly_Data_Raw[CHURNED_MEMBERS],Weekly_Data_Raw[TICKER],'Weekly Metrics'!$A7,Weekly_Data_Raw[END_DATE],'Weekly Metrics'!FB$5)))))))","v":107955},{"$f":"IF($B7=\"Panel Sales\", SUMIFS(Weekly_Data_Raw[PANEL_AMOUNT],Weekly_Data_Raw[TICKER],'Weekly Metrics'!$A7,Weekly_Data_Raw[END_DATE],'Weekly Metrics'!FC$5),IF($B7=\"Transactions\",SUMIFS(Weekly_Data_Raw[PANEL_TRANSACTIONS],Weekly_Data_Raw[TICKER],'Weekly Metrics'!$A7,Weekly_Data_Raw[END_DATE],'Weekly Metrics'!FC$5), IF($B7=\"Avg Ticket\",SUMIFS(Weekly_Data_Raw[AVG_TICKET],Weekly_Data_Raw[TICKER],'Weekly Metrics'!$A7,Weekly_Data_Raw[END_DATE],'Weekly Metrics'!FC$5), IF($B7=\"EOP Subscribers\",SUMIFS(Weekly_Data_Raw[EOP_SUBSCRIBERS],Weekly_Data_Raw[TICKER],'Weekly Metrics'!$A7,Weekly_Data_Raw[END_DATE],'Weekly Metrics'!FC$5), IF($B7=\"Gross Adds\",SUMIFS(Weekly_Data_Raw[GROSS_ADDS],Weekly_Data_Raw[TICKER],'Weekly Metrics'!$A7,Weekly_Data_Raw[END_DATE],'Weekly Metrics'!FC$5), IF($B7=\"Churn\",SUMIFS(Weekly_Data_Raw[CHURNED_MEMBERS],Weekly_Data_Raw[TICKER],'Weekly Metrics'!$A7,Weekly_Data_Raw[END_DATE],'Weekly Metrics'!FC$5)))))))","v":107849},{"$f":"IF($B7=\"Panel Sales\", SUMIFS(Weekly_Data_Raw[PANEL_AMOUNT],Weekly_Data_Raw[TICKER],'Weekly Metrics'!$A7,Weekly_Data_Raw[END_DATE],'Weekly Metrics'!FD$5),IF($B7=\"Transactions\",SUMIFS(Weekly_Data_Raw[PANEL_TRANSACTIONS],Weekly_Data_Raw[TICKER],'Weekly Metrics'!$A7,Weekly_Data_Raw[END_DATE],'Weekly Metrics'!FD$5), IF($B7=\"Avg Ticket\",SUMIFS(Weekly_Data_Raw[AVG_TICKET],Weekly_Data_Raw[TICKER],'Weekly Metrics'!$A7,Weekly_Data_Raw[END_DATE],'Weekly Metrics'!FD$5), IF($B7=\"EOP Subscribers\",SUMIFS(Weekly_Data_Raw[EOP_SUBSCRIBERS],Weekly_Data_Raw[TICKER],'Weekly Metrics'!$A7,Weekly_Data_Raw[END_DATE],'Weekly Metrics'!FD$5), IF($B7=\"Gross Adds\",SUMIFS(Weekly_Data_Raw[GROSS_ADDS],Weekly_Data_Raw[TICKER],'Weekly Metrics'!$A7,Weekly_Data_Raw[END_DATE],'Weekly Metrics'!FD$5), IF($B7=\"Churn\",SUMIFS(Weekly_Data_Raw[CHURNED_MEMBERS],Weekly_Data_Raw[TICKER],'Weekly Metrics'!$A7,Weekly_Data_Raw[END_DATE],'Weekly Metrics'!FD$5)))))))","v":107817},{"$f":"IF($B7=\"Panel Sales\", SUMIFS(Weekly_Data_Raw[PANEL_AMOUNT],Weekly_Data_Raw[TICKER],'Weekly Metrics'!$A7,Weekly_Data_Raw[END_DATE],'Weekly Metrics'!FE$5),IF($B7=\"Transactions\",SUMIFS(Weekly_Data_Raw[PANEL_TRANSACTIONS],Weekly_Data_Raw[TICKER],'Weekly Metrics'!$A7,Weekly_Data_Raw[END_DATE],'Weekly Metrics'!FE$5), IF($B7=\"Avg Ticket\",SUMIFS(Weekly_Data_Raw[AVG_TICKET],Weekly_Data_Raw[TICKER],'Weekly Metrics'!$A7,Weekly_Data_Raw[END_DATE],'Weekly Metrics'!FE$5), IF($B7=\"EOP Subscribers\",SUMIFS(Weekly_Data_Raw[EOP_SUBSCRIBERS],Weekly_Data_Raw[TICKER],'Weekly Metrics'!$A7,Weekly_Data_Raw[END_DATE],'Weekly Metrics'!FE$5), IF($B7=\"Gross Adds\",SUMIFS(Weekly_Data_Raw[GROSS_ADDS],Weekly_Data_Raw[TICKER],'Weekly Metrics'!$A7,Weekly_Data_Raw[END_DATE],'Weekly Metrics'!FE$5), IF($B7=\"Churn\",SUMIFS(Weekly_Data_Raw[CHURNED_MEMBERS],Weekly_Data_Raw[TICKER],'Weekly Metrics'!$A7,Weekly_Data_Raw[END_DATE],'Weekly Metrics'!FE$5)))))))","v":107743},{"$f":"IF($B7=\"Panel Sales\", SUMIFS(Weekly_Data_Raw[PANEL_AMOUNT],Weekly_Data_Raw[TICKER],'Weekly Metrics'!$A7,Weekly_Data_Raw[END_DATE],'Weekly Metrics'!FF$5),IF($B7=\"Transactions\",SUMIFS(Weekly_Data_Raw[PANEL_TRANSACTIONS],Weekly_Data_Raw[TICKER],'Weekly Metrics'!$A7,Weekly_Data_Raw[END_DATE],'Weekly Metrics'!FF$5), IF($B7=\"Avg Ticket\",SUMIFS(Weekly_Data_Raw[AVG_TICKET],Weekly_Data_Raw[TICKER],'Weekly Metrics'!$A7,Weekly_Data_Raw[END_DATE],'Weekly Metrics'!FF$5), IF($B7=\"EOP Subscribers\",SUMIFS(Weekly_Data_Raw[EOP_SUBSCRIBERS],Weekly_Data_Raw[TICKER],'Weekly Metrics'!$A7,Weekly_Data_Raw[END_DATE],'Weekly Metrics'!FF$5), IF($B7=\"Gross Adds\",SUMIFS(Weekly_Data_Raw[GROSS_ADDS],Weekly_Data_Raw[TICKER],'Weekly Metrics'!$A7,Weekly_Data_Raw[END_DATE],'Weekly Metrics'!FF$5), IF($B7=\"Churn\",SUMIFS(Weekly_Data_Raw[CHURNED_MEMBERS],Weekly_Data_Raw[TICKER],'Weekly Metrics'!$A7,Weekly_Data_Raw[END_DATE],'Weekly Metrics'!FF$5)))))))","v":107673},{"$f":"IF($B7=\"Panel Sales\", SUMIFS(Weekly_Data_Raw[PANEL_AMOUNT],Weekly_Data_Raw[TICKER],'Weekly Metrics'!$A7,Weekly_Data_Raw[END_DATE],'Weekly Metrics'!FG$5),IF($B7=\"Transactions\",SUMIFS(Weekly_Data_Raw[PANEL_TRANSACTIONS],Weekly_Data_Raw[TICKER],'Weekly Metrics'!$A7,Weekly_Data_Raw[END_DATE],'Weekly Metrics'!FG$5), IF($B7=\"Avg Ticket\",SUMIFS(Weekly_Data_Raw[AVG_TICKET],Weekly_Data_Raw[TICKER],'Weekly Metrics'!$A7,Weekly_Data_Raw[END_DATE],'Weekly Metrics'!FG$5), IF($B7=\"EOP Subscribers\",SUMIFS(Weekly_Data_Raw[EOP_SUBSCRIBERS],Weekly_Data_Raw[TICKER],'Weekly Metrics'!$A7,Weekly_Data_Raw[END_DATE],'Weekly Metrics'!FG$5), IF($B7=\"Gross Adds\",SUMIFS(Weekly_Data_Raw[GROSS_ADDS],Weekly_Data_Raw[TICKER],'Weekly Metrics'!$A7,Weekly_Data_Raw[END_DATE],'Weekly Metrics'!FG$5), IF($B7=\"Churn\",SUMIFS(Weekly_Data_Raw[CHURNED_MEMBERS],Weekly_Data_Raw[TICKER],'Weekly Metrics'!$A7,Weekly_Data_Raw[END_DATE],'Weekly Metrics'!FG$5)))))))","v":107641},{"$f":"IF($B7=\"Panel Sales\", SUMIFS(Weekly_Data_Raw[PANEL_AMOUNT],Weekly_Data_Raw[TICKER],'Weekly Metrics'!$A7,Weekly_Data_Raw[END_DATE],'Weekly Metrics'!FH$5),IF($B7=\"Transactions\",SUMIFS(Weekly_Data_Raw[PANEL_TRANSACTIONS],Weekly_Data_Raw[TICKER],'Weekly Metrics'!$A7,Weekly_Data_Raw[END_DATE],'Weekly Metrics'!FH$5), IF($B7=\"Avg Ticket\",SUMIFS(Weekly_Data_Raw[AVG_TICKET],Weekly_Data_Raw[TICKER],'Weekly Metrics'!$A7,Weekly_Data_Raw[END_DATE],'Weekly Metrics'!FH$5), IF($B7=\"EOP Subscribers\",SUMIFS(Weekly_Data_Raw[EOP_SUBSCRIBERS],Weekly_Data_Raw[TICKER],'Weekly Metrics'!$A7,Weekly_Data_Raw[END_DATE],'Weekly Metrics'!FH$5), IF($B7=\"Gross Adds\",SUMIFS(Weekly_Data_Raw[GROSS_ADDS],Weekly_Data_Raw[TICKER],'Weekly Metrics'!$A7,Weekly_Data_Raw[END_DATE],'Weekly Metrics'!FH$5), IF($B7=\"Churn\",SUMIFS(Weekly_Data_Raw[CHURNED_MEMBERS],Weekly_Data_Raw[TICKER],'Weekly Metrics'!$A7,Weekly_Data_Raw[END_DATE],'Weekly Metrics'!FH$5)))))))","v":107598},{"$f":"IF($B7=\"Panel Sales\", SUMIFS(Weekly_Data_Raw[PANEL_AMOUNT],Weekly_Data_Raw[TICKER],'Weekly Metrics'!$A7,Weekly_Data_Raw[END_DATE],'Weekly Metrics'!FI$5),IF($B7=\"Transactions\",SUMIFS(Weekly_Data_Raw[PANEL_TRANSACTIONS],Weekly_Data_Raw[TICKER],'Weekly Metrics'!$A7,Weekly_Data_Raw[END_DATE],'Weekly Metrics'!FI$5), IF($B7=\"Avg Ticket\",SUMIFS(Weekly_Data_Raw[AVG_TICKET],Weekly_Data_Raw[TICKER],'Weekly Metrics'!$A7,Weekly_Data_Raw[END_DATE],'Weekly Metrics'!FI$5), IF($B7=\"EOP Subscribers\",SUMIFS(Weekly_Data_Raw[EOP_SUBSCRIBERS],Weekly_Data_Raw[TICKER],'Weekly Metrics'!$A7,Weekly_Data_Raw[END_DATE],'Weekly Metrics'!FI$5), IF($B7=\"Gross Adds\",SUMIFS(Weekly_Data_Raw[GROSS_ADDS],Weekly_Data_Raw[TICKER],'Weekly Metrics'!$A7,Weekly_Data_Raw[END_DATE],'Weekly Metrics'!FI$5), IF($B7=\"Churn\",SUMIFS(Weekly_Data_Raw[CHURNED_MEMBERS],Weekly_Data_Raw[TICKER],'Weekly Metrics'!$A7,Weekly_Data_Raw[END_DATE],'Weekly Metrics'!FI$5)))))))","v":107507},{"$f":"IF($B7=\"Panel Sales\", SUMIFS(Weekly_Data_Raw[PANEL_AMOUNT],Weekly_Data_Raw[TICKER],'Weekly Metrics'!$A7,Weekly_Data_Raw[END_DATE],'Weekly Metrics'!FJ$5),IF($B7=\"Transactions\",SUMIFS(Weekly_Data_Raw[PANEL_TRANSACTIONS],Weekly_Data_Raw[TICKER],'Weekly Metrics'!$A7,Weekly_Data_Raw[END_DATE],'Weekly Metrics'!FJ$5), IF($B7=\"Avg Ticket\",SUMIFS(Weekly_Data_Raw[AVG_TICKET],Weekly_Data_Raw[TICKER],'Weekly Metrics'!$A7,Weekly_Data_Raw[END_DATE],'Weekly Metrics'!FJ$5), IF($B7=\"EOP Subscribers\",SUMIFS(Weekly_Data_Raw[EOP_SUBSCRIBERS],Weekly_Data_Raw[TICKER],'Weekly Metrics'!$A7,Weekly_Data_Raw[END_DATE],'Weekly Metrics'!FJ$5), IF($B7=\"Gross Adds\",SUMIFS(Weekly_Data_Raw[GROSS_ADDS],Weekly_Data_Raw[TICKER],'Weekly Metrics'!$A7,Weekly_Data_Raw[END_DATE],'Weekly Metrics'!FJ$5), IF($B7=\"Churn\",SUMIFS(Weekly_Data_Raw[CHURNED_MEMBERS],Weekly_Data_Raw[TICKER],'Weekly Metrics'!$A7,Weekly_Data_Raw[END_DATE],'Weekly Metrics'!FJ$5)))))))","v":107408},{"$f":"IF($B7=\"Panel Sales\", SUMIFS(Weekly_Data_Raw[PANEL_AMOUNT],Weekly_Data_Raw[TICKER],'Weekly Metrics'!$A7,Weekly_Data_Raw[END_DATE],'Weekly Metrics'!FK$5),IF($B7=\"Transactions\",SUMIFS(Weekly_Data_Raw[PANEL_TRANSACTIONS],Weekly_Data_Raw[TICKER],'Weekly Metrics'!$A7,Weekly_Data_Raw[END_DATE],'Weekly Metrics'!FK$5), IF($B7=\"Avg Ticket\",SUMIFS(Weekly_Data_Raw[AVG_TICKET],Weekly_Data_Raw[TICKER],'Weekly Metrics'!$A7,Weekly_Data_Raw[END_DATE],'Weekly Metrics'!FK$5), IF($B7=\"EOP Subscribers\",SUMIFS(Weekly_Data_Raw[EOP_SUBSCRIBERS],Weekly_Data_Raw[TICKER],'Weekly Metrics'!$A7,Weekly_Data_Raw[END_DATE],'Weekly Metrics'!FK$5), IF($B7=\"Gross Adds\",SUMIFS(Weekly_Data_Raw[GROSS_ADDS],Weekly_Data_Raw[TICKER],'Weekly Metrics'!$A7,Weekly_Data_Raw[END_DATE],'Weekly Metrics'!FK$5), IF($B7=\"Churn\",SUMIFS(Weekly_Data_Raw[CHURNED_MEMBERS],Weekly_Data_Raw[TICKER],'Weekly Metrics'!$A7,Weekly_Data_Raw[END_DATE],'Weekly Metrics'!FK$5)))))))","v":107344},{"$f":"IF($B7=\"Panel Sales\", SUMIFS(Weekly_Data_Raw[PANEL_AMOUNT],Weekly_Data_Raw[TICKER],'Weekly Metrics'!$A7,Weekly_Data_Raw[END_DATE],'Weekly Metrics'!FL$5),IF($B7=\"Transactions\",SUMIFS(Weekly_Data_Raw[PANEL_TRANSACTIONS],Weekly_Data_Raw[TICKER],'Weekly Metrics'!$A7,Weekly_Data_Raw[END_DATE],'Weekly Metrics'!FL$5), IF($B7=\"Avg Ticket\",SUMIFS(Weekly_Data_Raw[AVG_TICKET],Weekly_Data_Raw[TICKER],'Weekly Metrics'!$A7,Weekly_Data_Raw[END_DATE],'Weekly Metrics'!FL$5), IF($B7=\"EOP Subscribers\",SUMIFS(Weekly_Data_Raw[EOP_SUBSCRIBERS],Weekly_Data_Raw[TICKER],'Weekly Metrics'!$A7,Weekly_Data_Raw[END_DATE],'Weekly Metrics'!FL$5), IF($B7=\"Gross Adds\",SUMIFS(Weekly_Data_Raw[GROSS_ADDS],Weekly_Data_Raw[TICKER],'Weekly Metrics'!$A7,Weekly_Data_Raw[END_DATE],'Weekly Metrics'!FL$5), IF($B7=\"Churn\",SUMIFS(Weekly_Data_Raw[CHURNED_MEMBERS],Weekly_Data_Raw[TICKER],'Weekly Metrics'!$A7,Weekly_Data_Raw[END_DATE],'Weekly Metrics'!FL$5)))))))","v":107313},{"$f":"IF($B7=\"Panel Sales\", SUMIFS(Weekly_Data_Raw[PANEL_AMOUNT],Weekly_Data_Raw[TICKER],'Weekly Metrics'!$A7,Weekly_Data_Raw[END_DATE],'Weekly Metrics'!FM$5),IF($B7=\"Transactions\",SUMIFS(Weekly_Data_Raw[PANEL_TRANSACTIONS],Weekly_Data_Raw[TICKER],'Weekly Metrics'!$A7,Weekly_Data_Raw[END_DATE],'Weekly Metrics'!FM$5), IF($B7=\"Avg Ticket\",SUMIFS(Weekly_Data_Raw[AVG_TICKET],Weekly_Data_Raw[TICKER],'Weekly Metrics'!$A7,Weekly_Data_Raw[END_DATE],'Weekly Metrics'!FM$5), IF($B7=\"EOP Subscribers\",SUMIFS(Weekly_Data_Raw[EOP_SUBSCRIBERS],Weekly_Data_Raw[TICKER],'Weekly Metrics'!$A7,Weekly_Data_Raw[END_DATE],'Weekly Metrics'!FM$5), IF($B7=\"Gross Adds\",SUMIFS(Weekly_Data_Raw[GROSS_ADDS],Weekly_Data_Raw[TICKER],'Weekly Metrics'!$A7,Weekly_Data_Raw[END_DATE],'Weekly Metrics'!FM$5), IF($B7=\"Churn\",SUMIFS(Weekly_Data_Raw[CHURNED_MEMBERS],Weekly_Data_Raw[TICKER],'Weekly Metrics'!$A7,Weekly_Data_Raw[END_DATE],'Weekly Metrics'!FM$5)))))))","v":107279},{"$f":"IF($B7=\"Panel Sales\", SUMIFS(Weekly_Data_Raw[PANEL_AMOUNT],Weekly_Data_Raw[TICKER],'Weekly Metrics'!$A7,Weekly_Data_Raw[END_DATE],'Weekly Metrics'!FN$5),IF($B7=\"Transactions\",SUMIFS(Weekly_Data_Raw[PANEL_TRANSACTIONS],Weekly_Data_Raw[TICKER],'Weekly Metrics'!$A7,Weekly_Data_Raw[END_DATE],'Weekly Metrics'!FN$5), IF($B7=\"Avg Ticket\",SUMIFS(Weekly_Data_Raw[AVG_TICKET],Weekly_Data_Raw[TICKER],'Weekly Metrics'!$A7,Weekly_Data_Raw[END_DATE],'Weekly Metrics'!FN$5), IF($B7=\"EOP Subscribers\",SUMIFS(Weekly_Data_Raw[EOP_SUBSCRIBERS],Weekly_Data_Raw[TICKER],'Weekly Metrics'!$A7,Weekly_Data_Raw[END_DATE],'Weekly Metrics'!FN$5), IF($B7=\"Gross Adds\",SUMIFS(Weekly_Data_Raw[GROSS_ADDS],Weekly_Data_Raw[TICKER],'Weekly Metrics'!$A7,Weekly_Data_Raw[END_DATE],'Weekly Metrics'!FN$5), IF($B7=\"Churn\",SUMIFS(Weekly_Data_Raw[CHURNED_MEMBERS],Weekly_Data_Raw[TICKER],'Weekly Metrics'!$A7,Weekly_Data_Raw[END_DATE],'Weekly Metrics'!FN$5)))))))","v":107180},{"$f":"IF($B7=\"Panel Sales\", SUMIFS(Weekly_Data_Raw[PANEL_AMOUNT],Weekly_Data_Raw[TICKER],'Weekly Metrics'!$A7,Weekly_Data_Raw[END_DATE],'Weekly Metrics'!FO$5),IF($B7=\"Transactions\",SUMIFS(Weekly_Data_Raw[PANEL_TRANSACTIONS],Weekly_Data_Raw[TICKER],'Weekly Metrics'!$A7,Weekly_Data_Raw[END_DATE],'Weekly Metrics'!FO$5), IF($B7=\"Avg Ticket\",SUMIFS(Weekly_Data_Raw[AVG_TICKET],Weekly_Data_Raw[TICKER],'Weekly Metrics'!$A7,Weekly_Data_Raw[END_DATE],'Weekly Metrics'!FO$5), IF($B7=\"EOP Subscribers\",SUMIFS(Weekly_Data_Raw[EOP_SUBSCRIBERS],Weekly_Data_Raw[TICKER],'Weekly Metrics'!$A7,Weekly_Data_Raw[END_DATE],'Weekly Metrics'!FO$5), IF($B7=\"Gross Adds\",SUMIFS(Weekly_Data_Raw[GROSS_ADDS],Weekly_Data_Raw[TICKER],'Weekly Metrics'!$A7,Weekly_Data_Raw[END_DATE],'Weekly Metrics'!FO$5), IF($B7=\"Churn\",SUMIFS(Weekly_Data_Raw[CHURNED_MEMBERS],Weekly_Data_Raw[TICKER],'Weekly Metrics'!$A7,Weekly_Data_Raw[END_DATE],'Weekly Metrics'!FO$5)))))))","v":107080},{"$f":"IF($B7=\"Panel Sales\", SUMIFS(Weekly_Data_Raw[PANEL_AMOUNT],Weekly_Data_Raw[TICKER],'Weekly Metrics'!$A7,Weekly_Data_Raw[END_DATE],'Weekly Metrics'!FP$5),IF($B7=\"Transactions\",SUMIFS(Weekly_Data_Raw[PANEL_TRANSACTIONS],Weekly_Data_Raw[TICKER],'Weekly Metrics'!$A7,Weekly_Data_Raw[END_DATE],'Weekly Metrics'!FP$5), IF($B7=\"Avg Ticket\",SUMIFS(Weekly_Data_Raw[AVG_TICKET],Weekly_Data_Raw[TICKER],'Weekly Metrics'!$A7,Weekly_Data_Raw[END_DATE],'Weekly Metrics'!FP$5), IF($B7=\"EOP Subscribers\",SUMIFS(Weekly_Data_Raw[EOP_SUBSCRIBERS],Weekly_Data_Raw[TICKER],'Weekly Metrics'!$A7,Weekly_Data_Raw[END_DATE],'Weekly Metrics'!FP$5), IF($B7=\"Gross Adds\",SUMIFS(Weekly_Data_Raw[GROSS_ADDS],Weekly_Data_Raw[TICKER],'Weekly Metrics'!$A7,Weekly_Data_Raw[END_DATE],'Weekly Metrics'!FP$5), IF($B7=\"Churn\",SUMIFS(Weekly_Data_Raw[CHURNED_MEMBERS],Weekly_Data_Raw[TICKER],'Weekly Metrics'!$A7,Weekly_Data_Raw[END_DATE],'Weekly Metrics'!FP$5)))))))","v":107020},{"$f":"IF($B7=\"Panel Sales\", SUMIFS(Weekly_Data_Raw[PANEL_AMOUNT],Weekly_Data_Raw[TICKER],'Weekly Metrics'!$A7,Weekly_Data_Raw[END_DATE],'Weekly Metrics'!FQ$5),IF($B7=\"Transactions\",SUMIFS(Weekly_Data_Raw[PANEL_TRANSACTIONS],Weekly_Data_Raw[TICKER],'Weekly Metrics'!$A7,Weekly_Data_Raw[END_DATE],'Weekly Metrics'!FQ$5), IF($B7=\"Avg Ticket\",SUMIFS(Weekly_Data_Raw[AVG_TICKET],Weekly_Data_Raw[TICKER],'Weekly Metrics'!$A7,Weekly_Data_Raw[END_DATE],'Weekly Metrics'!FQ$5), IF($B7=\"EOP Subscribers\",SUMIFS(Weekly_Data_Raw[EOP_SUBSCRIBERS],Weekly_Data_Raw[TICKER],'Weekly Metrics'!$A7,Weekly_Data_Raw[END_DATE],'Weekly Metrics'!FQ$5), IF($B7=\"Gross Adds\",SUMIFS(Weekly_Data_Raw[GROSS_ADDS],Weekly_Data_Raw[TICKER],'Weekly Metrics'!$A7,Weekly_Data_Raw[END_DATE],'Weekly Metrics'!FQ$5), IF($B7=\"Churn\",SUMIFS(Weekly_Data_Raw[CHURNED_MEMBERS],Weekly_Data_Raw[TICKER],'Weekly Metrics'!$A7,Weekly_Data_Raw[END_DATE],'Weekly Metrics'!FQ$5)))))))","v":106969},{"$f":"IF($B7=\"Panel Sales\", SUMIFS(Weekly_Data_Raw[PANEL_AMOUNT],Weekly_Data_Raw[TICKER],'Weekly Metrics'!$A7,Weekly_Data_Raw[END_DATE],'Weekly Metrics'!FR$5),IF($B7=\"Transactions\",SUMIFS(Weekly_Data_Raw[PANEL_TRANSACTIONS],Weekly_Data_Raw[TICKER],'Weekly Metrics'!$A7,Weekly_Data_Raw[END_DATE],'Weekly Metrics'!FR$5), IF($B7=\"Avg Ticket\",SUMIFS(Weekly_Data_Raw[AVG_TICKET],Weekly_Data_Raw[TICKER],'Weekly Metrics'!$A7,Weekly_Data_Raw[END_DATE],'Weekly Metrics'!FR$5), IF($B7=\"EOP Subscribers\",SUMIFS(Weekly_Data_Raw[EOP_SUBSCRIBERS],Weekly_Data_Raw[TICKER],'Weekly Metrics'!$A7,Weekly_Data_Raw[END_DATE],'Weekly Metrics'!FR$5), IF($B7=\"Gross Adds\",SUMIFS(Weekly_Data_Raw[GROSS_ADDS],Weekly_Data_Raw[TICKER],'Weekly Metrics'!$A7,Weekly_Data_Raw[END_DATE],'Weekly Metrics'!FR$5), IF($B7=\"Churn\",SUMIFS(Weekly_Data_Raw[CHURNED_MEMBERS],Weekly_Data_Raw[TICKER],'Weekly Metrics'!$A7,Weekly_Data_Raw[END_DATE],'Weekly Metrics'!FR$5)))))))","v":106927},{"$f":"IF($B7=\"Panel Sales\", SUMIFS(Weekly_Data_Raw[PANEL_AMOUNT],Weekly_Data_Raw[TICKER],'Weekly Metrics'!$A7,Weekly_Data_Raw[END_DATE],'Weekly Metrics'!FS$5),IF($B7=\"Transactions\",SUMIFS(Weekly_Data_Raw[PANEL_TRANSACTIONS],Weekly_Data_Raw[TICKER],'Weekly Metrics'!$A7,Weekly_Data_Raw[END_DATE],'Weekly Metrics'!FS$5), IF($B7=\"Avg Ticket\",SUMIFS(Weekly_Data_Raw[AVG_TICKET],Weekly_Data_Raw[TICKER],'Weekly Metrics'!$A7,Weekly_Data_Raw[END_DATE],'Weekly Metrics'!FS$5), IF($B7=\"EOP Subscribers\",SUMIFS(Weekly_Data_Raw[EOP_SUBSCRIBERS],Weekly_Data_Raw[TICKER],'Weekly Metrics'!$A7,Weekly_Data_Raw[END_DATE],'Weekly Metrics'!FS$5), IF($B7=\"Gross Adds\",SUMIFS(Weekly_Data_Raw[GROSS_ADDS],Weekly_Data_Raw[TICKER],'Weekly Metrics'!$A7,Weekly_Data_Raw[END_DATE],'Weekly Metrics'!FS$5), IF($B7=\"Churn\",SUMIFS(Weekly_Data_Raw[CHURNED_MEMBERS],Weekly_Data_Raw[TICKER],'Weekly Metrics'!$A7,Weekly_Data_Raw[END_DATE],'Weekly Metrics'!FS$5)))))))","v":106883},{"$f":"IF($B7=\"Panel Sales\", SUMIFS(Weekly_Data_Raw[PANEL_AMOUNT],Weekly_Data_Raw[TICKER],'Weekly Metrics'!$A7,Weekly_Data_Raw[END_DATE],'Weekly Metrics'!FT$5),IF($B7=\"Transactions\",SUMIFS(Weekly_Data_Raw[PANEL_TRANSACTIONS],Weekly_Data_Raw[TICKER],'Weekly Metrics'!$A7,Weekly_Data_Raw[END_DATE],'Weekly Metrics'!FT$5), IF($B7=\"Avg Ticket\",SUMIFS(Weekly_Data_Raw[AVG_TICKET],Weekly_Data_Raw[TICKER],'Weekly Metrics'!$A7,Weekly_Data_Raw[END_DATE],'Weekly Metrics'!FT$5), IF($B7=\"EOP Subscribers\",SUMIFS(Weekly_Data_Raw[EOP_SUBSCRIBERS],Weekly_Data_Raw[TICKER],'Weekly Metrics'!$A7,Weekly_Data_Raw[END_DATE],'Weekly Metrics'!FT$5), IF($B7=\"Gross Adds\",SUMIFS(Weekly_Data_Raw[GROSS_ADDS],Weekly_Data_Raw[TICKER],'Weekly Metrics'!$A7,Weekly_Data_Raw[END_DATE],'Weekly Metrics'!FT$5), IF($B7=\"Churn\",SUMIFS(Weekly_Data_Raw[CHURNED_MEMBERS],Weekly_Data_Raw[TICKER],'Weekly Metrics'!$A7,Weekly_Data_Raw[END_DATE],'Weekly Metrics'!FT$5)))))))","v":106876},{"$f":"IF($B7=\"Panel Sales\", SUMIFS(Weekly_Data_Raw[PANEL_AMOUNT],Weekly_Data_Raw[TICKER],'Weekly Metrics'!$A7,Weekly_Data_Raw[END_DATE],'Weekly Metrics'!FU$5),IF($B7=\"Transactions\",SUMIFS(Weekly_Data_Raw[PANEL_TRANSACTIONS],Weekly_Data_Raw[TICKER],'Weekly Metrics'!$A7,Weekly_Data_Raw[END_DATE],'Weekly Metrics'!FU$5), IF($B7=\"Avg Ticket\",SUMIFS(Weekly_Data_Raw[AVG_TICKET],Weekly_Data_Raw[TICKER],'Weekly Metrics'!$A7,Weekly_Data_Raw[END_DATE],'Weekly Metrics'!FU$5), IF($B7=\"EOP Subscribers\",SUMIFS(Weekly_Data_Raw[EOP_SUBSCRIBERS],Weekly_Data_Raw[TICKER],'Weekly Metrics'!$A7,Weekly_Data_Raw[END_DATE],'Weekly Metrics'!FU$5), IF($B7=\"Gross Adds\",SUMIFS(Weekly_Data_Raw[GROSS_ADDS],Weekly_Data_Raw[TICKER],'Weekly Metrics'!$A7,Weekly_Data_Raw[END_DATE],'Weekly Metrics'!FU$5), IF($B7=\"Churn\",SUMIFS(Weekly_Data_Raw[CHURNED_MEMBERS],Weekly_Data_Raw[TICKER],'Weekly Metrics'!$A7,Weekly_Data_Raw[END_DATE],'Weekly Metrics'!FU$5)))))))","v":106836},{"$f":"IF($B7=\"Panel Sales\", SUMIFS(Weekly_Data_Raw[PANEL_AMOUNT],Weekly_Data_Raw[TICKER],'Weekly Metrics'!$A7,Weekly_Data_Raw[END_DATE],'Weekly Metrics'!FV$5),IF($B7=\"Transactions\",SUMIFS(Weekly_Data_Raw[PANEL_TRANSACTIONS],Weekly_Data_Raw[TICKER],'Weekly Metrics'!$A7,Weekly_Data_Raw[END_DATE],'Weekly Metrics'!FV$5), IF($B7=\"Avg Ticket\",SUMIFS(Weekly_Data_Raw[AVG_TICKET],Weekly_Data_Raw[TICKER],'Weekly Metrics'!$A7,Weekly_Data_Raw[END_DATE],'Weekly Metrics'!FV$5), IF($B7=\"EOP Subscribers\",SUMIFS(Weekly_Data_Raw[EOP_SUBSCRIBERS],Weekly_Data_Raw[TICKER],'Weekly Metrics'!$A7,Weekly_Data_Raw[END_DATE],'Weekly Metrics'!FV$5), IF($B7=\"Gross Adds\",SUMIFS(Weekly_Data_Raw[GROSS_ADDS],Weekly_Data_Raw[TICKER],'Weekly Metrics'!$A7,Weekly_Data_Raw[END_DATE],'Weekly Metrics'!FV$5), IF($B7=\"Churn\",SUMIFS(Weekly_Data_Raw[CHURNED_MEMBERS],Weekly_Data_Raw[TICKER],'Weekly Metrics'!$A7,Weekly_Data_Raw[END_DATE],'Weekly Metrics'!FV$5)))))))","v":106798},{"$f":"IF($B7=\"Panel Sales\", SUMIFS(Weekly_Data_Raw[PANEL_AMOUNT],Weekly_Data_Raw[TICKER],'Weekly Metrics'!$A7,Weekly_Data_Raw[END_DATE],'Weekly Metrics'!FW$5),IF($B7=\"Transactions\",SUMIFS(Weekly_Data_Raw[PANEL_TRANSACTIONS],Weekly_Data_Raw[TICKER],'Weekly Metrics'!$A7,Weekly_Data_Raw[END_DATE],'Weekly Metrics'!FW$5), IF($B7=\"Avg Ticket\",SUMIFS(Weekly_Data_Raw[AVG_TICKET],Weekly_Data_Raw[TICKER],'Weekly Metrics'!$A7,Weekly_Data_Raw[END_DATE],'Weekly Metrics'!FW$5), IF($B7=\"EOP Subscribers\",SUMIFS(Weekly_Data_Raw[EOP_SUBSCRIBERS],Weekly_Data_Raw[TICKER],'Weekly Metrics'!$A7,Weekly_Data_Raw[END_DATE],'Weekly Metrics'!FW$5), IF($B7=\"Gross Adds\",SUMIFS(Weekly_Data_Raw[GROSS_ADDS],Weekly_Data_Raw[TICKER],'Weekly Metrics'!$A7,Weekly_Data_Raw[END_DATE],'Weekly Metrics'!FW$5), IF($B7=\"Churn\",SUMIFS(Weekly_Data_Raw[CHURNED_MEMBERS],Weekly_Data_Raw[TICKER],'Weekly Metrics'!$A7,Weekly_Data_Raw[END_DATE],'Weekly Metrics'!FW$5)))))))","v":106786},{"$f":"IF($B7=\"Panel Sales\", SUMIFS(Weekly_Data_Raw[PANEL_AMOUNT],Weekly_Data_Raw[TICKER],'Weekly Metrics'!$A7,Weekly_Data_Raw[END_DATE],'Weekly Metrics'!FX$5),IF($B7=\"Transactions\",SUMIFS(Weekly_Data_Raw[PANEL_TRANSACTIONS],Weekly_Data_Raw[TICKER],'Weekly Metrics'!$A7,Weekly_Data_Raw[END_DATE],'Weekly Metrics'!FX$5), IF($B7=\"Avg Ticket\",SUMIFS(Weekly_Data_Raw[AVG_TICKET],Weekly_Data_Raw[TICKER],'Weekly Metrics'!$A7,Weekly_Data_Raw[END_DATE],'Weekly Metrics'!FX$5), IF($B7=\"EOP Subscribers\",SUMIFS(Weekly_Data_Raw[EOP_SUBSCRIBERS],Weekly_Data_Raw[TICKER],'Weekly Metrics'!$A7,Weekly_Data_Raw[END_DATE],'Weekly Metrics'!FX$5), IF($B7=\"Gross Adds\",SUMIFS(Weekly_Data_Raw[GROSS_ADDS],Weekly_Data_Raw[TICKER],'Weekly Metrics'!$A7,Weekly_Data_Raw[END_DATE],'Weekly Metrics'!FX$5), IF($B7=\"Churn\",SUMIFS(Weekly_Data_Raw[CHURNED_MEMBERS],Weekly_Data_Raw[TICKER],'Weekly Metrics'!$A7,Weekly_Data_Raw[END_DATE],'Weekly Metrics'!FX$5)))))))","v":106780},{"$f":"IF($B7=\"Panel Sales\", SUMIFS(Weekly_Data_Raw[PANEL_AMOUNT],Weekly_Data_Raw[TICKER],'Weekly Metrics'!$A7,Weekly_Data_Raw[END_DATE],'Weekly Metrics'!FY$5),IF($B7=\"Transactions\",SUMIFS(Weekly_Data_Raw[PANEL_TRANSACTIONS],Weekly_Data_Raw[TICKER],'Weekly Metrics'!$A7,Weekly_Data_Raw[END_DATE],'Weekly Metrics'!FY$5), IF($B7=\"Avg Ticket\",SUMIFS(Weekly_Data_Raw[AVG_TICKET],Weekly_Data_Raw[TICKER],'Weekly Metrics'!$A7,Weekly_Data_Raw[END_DATE],'Weekly Metrics'!FY$5), IF($B7=\"EOP Subscribers\",SUMIFS(Weekly_Data_Raw[EOP_SUBSCRIBERS],Weekly_Data_Raw[TICKER],'Weekly Metrics'!$A7,Weekly_Data_Raw[END_DATE],'Weekly Metrics'!FY$5), IF($B7=\"Gross Adds\",SUMIFS(Weekly_Data_Raw[GROSS_ADDS],Weekly_Data_Raw[TICKER],'Weekly Metrics'!$A7,Weekly_Data_Raw[END_DATE],'Weekly Metrics'!FY$5), IF($B7=\"Churn\",SUMIFS(Weekly_Data_Raw[CHURNED_MEMBERS],Weekly_Data_Raw[TICKER],'Weekly Metrics'!$A7,Weekly_Data_Raw[END_DATE],'Weekly Metrics'!FY$5)))))))","v":106788},{"$f":"IF($B7=\"Panel Sales\", SUMIFS(Weekly_Data_Raw[PANEL_AMOUNT],Weekly_Data_Raw[TICKER],'Weekly Metrics'!$A7,Weekly_Data_Raw[END_DATE],'Weekly Metrics'!FZ$5),IF($B7=\"Transactions\",SUMIFS(Weekly_Data_Raw[PANEL_TRANSACTIONS],Weekly_Data_Raw[TICKER],'Weekly Metrics'!$A7,Weekly_Data_Raw[END_DATE],'Weekly Metrics'!FZ$5), IF($B7=\"Avg Ticket\",SUMIFS(Weekly_Data_Raw[AVG_TICKET],Weekly_Data_Raw[TICKER],'Weekly Metrics'!$A7,Weekly_Data_Raw[END_DATE],'Weekly Metrics'!FZ$5), IF($B7=\"EOP Subscribers\",SUMIFS(Weekly_Data_Raw[EOP_SUBSCRIBERS],Weekly_Data_Raw[TICKER],'Weekly Metrics'!$A7,Weekly_Data_Raw[END_DATE],'Weekly Metrics'!FZ$5), IF($B7=\"Gross Adds\",SUMIFS(Weekly_Data_Raw[GROSS_ADDS],Weekly_Data_Raw[TICKER],'Weekly Metrics'!$A7,Weekly_Data_Raw[END_DATE],'Weekly Metrics'!FZ$5), IF($B7=\"Churn\",SUMIFS(Weekly_Data_Raw[CHURNED_MEMBERS],Weekly_Data_Raw[TICKER],'Weekly Metrics'!$A7,Weekly_Data_Raw[END_DATE],'Weekly Metrics'!FZ$5)))))))","v":106806},{"$f":"IF($B7=\"Panel Sales\", SUMIFS(Weekly_Data_Raw[PANEL_AMOUNT],Weekly_Data_Raw[TICKER],'Weekly Metrics'!$A7,Weekly_Data_Raw[END_DATE],'Weekly Metrics'!GA$5),IF($B7=\"Transactions\",SUMIFS(Weekly_Data_Raw[PANEL_TRANSACTIONS],Weekly_Data_Raw[TICKER],'Weekly Metrics'!$A7,Weekly_Data_Raw[END_DATE],'Weekly Metrics'!GA$5), IF($B7=\"Avg Ticket\",SUMIFS(Weekly_Data_Raw[AVG_TICKET],Weekly_Data_Raw[TICKER],'Weekly Metrics'!$A7,Weekly_Data_Raw[END_DATE],'Weekly Metrics'!GA$5), IF($B7=\"EOP Subscribers\",SUMIFS(Weekly_Data_Raw[EOP_SUBSCRIBERS],Weekly_Data_Raw[TICKER],'Weekly Metrics'!$A7,Weekly_Data_Raw[END_DATE],'Weekly Metrics'!GA$5), IF($B7=\"Gross Adds\",SUMIFS(Weekly_Data_Raw[GROSS_ADDS],Weekly_Data_Raw[TICKER],'Weekly Metrics'!$A7,Weekly_Data_Raw[END_DATE],'Weekly Metrics'!GA$5), IF($B7=\"Churn\",SUMIFS(Weekly_Data_Raw[CHURNED_MEMBERS],Weekly_Data_Raw[TICKER],'Weekly Metrics'!$A7,Weekly_Data_Raw[END_DATE],'Weekly Metrics'!GA$5)))))))","v":106738},{"$f":"IF($B7=\"Panel Sales\", SUMIFS(Weekly_Data_Raw[PANEL_AMOUNT],Weekly_Data_Raw[TICKER],'Weekly Metrics'!$A7,Weekly_Data_Raw[END_DATE],'Weekly Metrics'!GB$5),IF($B7=\"Transactions\",SUMIFS(Weekly_Data_Raw[PANEL_TRANSACTIONS],Weekly_Data_Raw[TICKER],'Weekly Metrics'!$A7,Weekly_Data_Raw[END_DATE],'Weekly Metrics'!GB$5), IF($B7=\"Avg Ticket\",SUMIFS(Weekly_Data_Raw[AVG_TICKET],Weekly_Data_Raw[TICKER],'Weekly Metrics'!$A7,Weekly_Data_Raw[END_DATE],'Weekly Metrics'!GB$5), IF($B7=\"EOP Subscribers\",SUMIFS(Weekly_Data_Raw[EOP_SUBSCRIBERS],Weekly_Data_Raw[TICKER],'Weekly Metrics'!$A7,Weekly_Data_Raw[END_DATE],'Weekly Metrics'!GB$5), IF($B7=\"Gross Adds\",SUMIFS(Weekly_Data_Raw[GROSS_ADDS],Weekly_Data_Raw[TICKER],'Weekly Metrics'!$A7,Weekly_Data_Raw[END_DATE],'Weekly Metrics'!GB$5), IF($B7=\"Churn\",SUMIFS(Weekly_Data_Raw[CHURNED_MEMBERS],Weekly_Data_Raw[TICKER],'Weekly Metrics'!$A7,Weekly_Data_Raw[END_DATE],'Weekly Metrics'!GB$5)))))))","v":106718},{"$f":"IF($B7=\"Panel Sales\", SUMIFS(Weekly_Data_Raw[PANEL_AMOUNT],Weekly_Data_Raw[TICKER],'Weekly Metrics'!$A7,Weekly_Data_Raw[END_DATE],'Weekly Metrics'!GC$5),IF($B7=\"Transactions\",SUMIFS(Weekly_Data_Raw[PANEL_TRANSACTIONS],Weekly_Data_Raw[TICKER],'Weekly Metrics'!$A7,Weekly_Data_Raw[END_DATE],'Weekly Metrics'!GC$5), IF($B7=\"Avg Ticket\",SUMIFS(Weekly_Data_Raw[AVG_TICKET],Weekly_Data_Raw[TICKER],'Weekly Metrics'!$A7,Weekly_Data_Raw[END_DATE],'Weekly Metrics'!GC$5), IF($B7=\"EOP Subscribers\",SUMIFS(Weekly_Data_Raw[EOP_SUBSCRIBERS],Weekly_Data_Raw[TICKER],'Weekly Metrics'!$A7,Weekly_Data_Raw[END_DATE],'Weekly Metrics'!GC$5), IF($B7=\"Gross Adds\",SUMIFS(Weekly_Data_Raw[GROSS_ADDS],Weekly_Data_Raw[TICKER],'Weekly Metrics'!$A7,Weekly_Data_Raw[END_DATE],'Weekly Metrics'!GC$5), IF($B7=\"Churn\",SUMIFS(Weekly_Data_Raw[CHURNED_MEMBERS],Weekly_Data_Raw[TICKER],'Weekly Metrics'!$A7,Weekly_Data_Raw[END_DATE],'Weekly Metrics'!GC$5)))))))","v":106774},{"$f":"IF($B7=\"Panel Sales\", SUMIFS(Weekly_Data_Raw[PANEL_AMOUNT],Weekly_Data_Raw[TICKER],'Weekly Metrics'!$A7,Weekly_Data_Raw[END_DATE],'Weekly Metrics'!GD$5),IF($B7=\"Transactions\",SUMIFS(Weekly_Data_Raw[PANEL_TRANSACTIONS],Weekly_Data_Raw[TICKER],'Weekly Metrics'!$A7,Weekly_Data_Raw[END_DATE],'Weekly Metrics'!GD$5), IF($B7=\"Avg Ticket\",SUMIFS(Weekly_Data_Raw[AVG_TICKET],Weekly_Data_Raw[TICKER],'Weekly Metrics'!$A7,Weekly_Data_Raw[END_DATE],'Weekly Metrics'!GD$5), IF($B7=\"EOP Subscribers\",SUMIFS(Weekly_Data_Raw[EOP_SUBSCRIBERS],Weekly_Data_Raw[TICKER],'Weekly Metrics'!$A7,Weekly_Data_Raw[END_DATE],'Weekly Metrics'!GD$5), IF($B7=\"Gross Adds\",SUMIFS(Weekly_Data_Raw[GROSS_ADDS],Weekly_Data_Raw[TICKER],'Weekly Metrics'!$A7,Weekly_Data_Raw[END_DATE],'Weekly Metrics'!GD$5), IF($B7=\"Churn\",SUMIFS(Weekly_Data_Raw[CHURNED_MEMBERS],Weekly_Data_Raw[TICKER],'Weekly Metrics'!$A7,Weekly_Data_Raw[END_DATE],'Weekly Metrics'!GD$5)))))))","v":106783},{"$f":"IF($B7=\"Panel Sales\", SUMIFS(Weekly_Data_Raw[PANEL_AMOUNT],Weekly_Data_Raw[TICKER],'Weekly Metrics'!$A7,Weekly_Data_Raw[END_DATE],'Weekly Metrics'!GE$5),IF($B7=\"Transactions\",SUMIFS(Weekly_Data_Raw[PANEL_TRANSACTIONS],Weekly_Data_Raw[TICKER],'Weekly Metrics'!$A7,Weekly_Data_Raw[END_DATE],'Weekly Metrics'!GE$5), IF($B7=\"Avg Ticket\",SUMIFS(Weekly_Data_Raw[AVG_TICKET],Weekly_Data_Raw[TICKER],'Weekly Metrics'!$A7,Weekly_Data_Raw[END_DATE],'Weekly Metrics'!GE$5), IF($B7=\"EOP Subscribers\",SUMIFS(Weekly_Data_Raw[EOP_SUBSCRIBERS],Weekly_Data_Raw[TICKER],'Weekly Metrics'!$A7,Weekly_Data_Raw[END_DATE],'Weekly Metrics'!GE$5), IF($B7=\"Gross Adds\",SUMIFS(Weekly_Data_Raw[GROSS_ADDS],Weekly_Data_Raw[TICKER],'Weekly Metrics'!$A7,Weekly_Data_Raw[END_DATE],'Weekly Metrics'!GE$5), IF($B7=\"Churn\",SUMIFS(Weekly_Data_Raw[CHURNED_MEMBERS],Weekly_Data_Raw[TICKER],'Weekly Metrics'!$A7,Weekly_Data_Raw[END_DATE],'Weekly Metrics'!GE$5)))))))","v":106808},{"$f":"IF($B7=\"Panel Sales\", SUMIFS(Weekly_Data_Raw[PANEL_AMOUNT],Weekly_Data_Raw[TICKER],'Weekly Metrics'!$A7,Weekly_Data_Raw[END_DATE],'Weekly Metrics'!GF$5),IF($B7=\"Transactions\",SUMIFS(Weekly_Data_Raw[PANEL_TRANSACTIONS],Weekly_Data_Raw[TICKER],'Weekly Metrics'!$A7,Weekly_Data_Raw[END_DATE],'Weekly Metrics'!GF$5), IF($B7=\"Avg Ticket\",SUMIFS(Weekly_Data_Raw[AVG_TICKET],Weekly_Data_Raw[TICKER],'Weekly Metrics'!$A7,Weekly_Data_Raw[END_DATE],'Weekly Metrics'!GF$5), IF($B7=\"EOP Subscribers\",SUMIFS(Weekly_Data_Raw[EOP_SUBSCRIBERS],Weekly_Data_Raw[TICKER],'Weekly Metrics'!$A7,Weekly_Data_Raw[END_DATE],'Weekly Metrics'!GF$5), IF($B7=\"Gross Adds\",SUMIFS(Weekly_Data_Raw[GROSS_ADDS],Weekly_Data_Raw[TICKER],'Weekly Metrics'!$A7,Weekly_Data_Raw[END_DATE],'Weekly Metrics'!GF$5), IF($B7=\"Churn\",SUMIFS(Weekly_Data_Raw[CHURNED_MEMBERS],Weekly_Data_Raw[TICKER],'Weekly Metrics'!$A7,Weekly_Data_Raw[END_DATE],'Weekly Metrics'!GF$5)))))))","v":106849},{"$f":"IF($B7=\"Panel Sales\", SUMIFS(Weekly_Data_Raw[PANEL_AMOUNT],Weekly_Data_Raw[TICKER],'Weekly Metrics'!$A7,Weekly_Data_Raw[END_DATE],'Weekly Metrics'!GG$5),IF($B7=\"Transactions\",SUMIFS(Weekly_Data_Raw[PANEL_TRANSACTIONS],Weekly_Data_Raw[TICKER],'Weekly Metrics'!$A7,Weekly_Data_Raw[END_DATE],'Weekly Metrics'!GG$5), IF($B7=\"Avg Ticket\",SUMIFS(Weekly_Data_Raw[AVG_TICKET],Weekly_Data_Raw[TICKER],'Weekly Metrics'!$A7,Weekly_Data_Raw[END_DATE],'Weekly Metrics'!GG$5), IF($B7=\"EOP Subscribers\",SUMIFS(Weekly_Data_Raw[EOP_SUBSCRIBERS],Weekly_Data_Raw[TICKER],'Weekly Metrics'!$A7,Weekly_Data_Raw[END_DATE],'Weekly Metrics'!GG$5), IF($B7=\"Gross Adds\",SUMIFS(Weekly_Data_Raw[GROSS_ADDS],Weekly_Data_Raw[TICKER],'Weekly Metrics'!$A7,Weekly_Data_Raw[END_DATE],'Weekly Metrics'!GG$5), IF($B7=\"Churn\",SUMIFS(Weekly_Data_Raw[CHURNED_MEMBERS],Weekly_Data_Raw[TICKER],'Weekly Metrics'!$A7,Weekly_Data_Raw[END_DATE],'Weekly Metrics'!GG$5)))))))","v":106850},{"$f":"IF($B7=\"Panel Sales\", SUMIFS(Weekly_Data_Raw[PANEL_AMOUNT],Weekly_Data_Raw[TICKER],'Weekly Metrics'!$A7,Weekly_Data_Raw[END_DATE],'Weekly Metrics'!GH$5),IF($B7=\"Transactions\",SUMIFS(Weekly_Data_Raw[PANEL_TRANSACTIONS],Weekly_Data_Raw[TICKER],'Weekly Metrics'!$A7,Weekly_Data_Raw[END_DATE],'Weekly Metrics'!GH$5), IF($B7=\"Avg Ticket\",SUMIFS(Weekly_Data_Raw[AVG_TICKET],Weekly_Data_Raw[TICKER],'Weekly Metrics'!$A7,Weekly_Data_Raw[END_DATE],'Weekly Metrics'!GH$5), IF($B7=\"EOP Subscribers\",SUMIFS(Weekly_Data_Raw[EOP_SUBSCRIBERS],Weekly_Data_Raw[TICKER],'Weekly Metrics'!$A7,Weekly_Data_Raw[END_DATE],'Weekly Metrics'!GH$5), IF($B7=\"Gross Adds\",SUMIFS(Weekly_Data_Raw[GROSS_ADDS],Weekly_Data_Raw[TICKER],'Weekly Metrics'!$A7,Weekly_Data_Raw[END_DATE],'Weekly Metrics'!GH$5), IF($B7=\"Churn\",SUMIFS(Weekly_Data_Raw[CHURNED_MEMBERS],Weekly_Data_Raw[TICKER],'Weekly Metrics'!$A7,Weekly_Data_Raw[END_DATE],'Weekly Metrics'!GH$5)))))))","v":106830},{"$f":"IF($B7=\"Panel Sales\", SUMIFS(Weekly_Data_Raw[PANEL_AMOUNT],Weekly_Data_Raw[TICKER],'Weekly Metrics'!$A7,Weekly_Data_Raw[END_DATE],'Weekly Metrics'!GI$5),IF($B7=\"Transactions\",SUMIFS(Weekly_Data_Raw[PANEL_TRANSACTIONS],Weekly_Data_Raw[TICKER],'Weekly Metrics'!$A7,Weekly_Data_Raw[END_DATE],'Weekly Metrics'!GI$5), IF($B7=\"Avg Ticket\",SUMIFS(Weekly_Data_Raw[AVG_TICKET],Weekly_Data_Raw[TICKER],'Weekly Metrics'!$A7,Weekly_Data_Raw[END_DATE],'Weekly Metrics'!GI$5), IF($B7=\"EOP Subscribers\",SUMIFS(Weekly_Data_Raw[EOP_SUBSCRIBERS],Weekly_Data_Raw[TICKER],'Weekly Metrics'!$A7,Weekly_Data_Raw[END_DATE],'Weekly Metrics'!GI$5), IF($B7=\"Gross Adds\",SUMIFS(Weekly_Data_Raw[GROSS_ADDS],Weekly_Data_Raw[TICKER],'Weekly Metrics'!$A7,Weekly_Data_Raw[END_DATE],'Weekly Metrics'!GI$5), IF($B7=\"Churn\",SUMIFS(Weekly_Data_Raw[CHURNED_MEMBERS],Weekly_Data_Raw[TICKER],'Weekly Metrics'!$A7,Weekly_Data_Raw[END_DATE],'Weekly Metrics'!GI$5)))))))","v":106793},{"$f":"IF($B7=\"Panel Sales\", SUMIFS(Weekly_Data_Raw[PANEL_AMOUNT],Weekly_Data_Raw[TICKER],'Weekly Metrics'!$A7,Weekly_Data_Raw[END_DATE],'Weekly Metrics'!GJ$5),IF($B7=\"Transactions\",SUMIFS(Weekly_Data_Raw[PANEL_TRANSACTIONS],Weekly_Data_Raw[TICKER],'Weekly Metrics'!$A7,Weekly_Data_Raw[END_DATE],'Weekly Metrics'!GJ$5), IF($B7=\"Avg Ticket\",SUMIFS(Weekly_Data_Raw[AVG_TICKET],Weekly_Data_Raw[TICKER],'Weekly Metrics'!$A7,Weekly_Data_Raw[END_DATE],'Weekly Metrics'!GJ$5), IF($B7=\"EOP Subscribers\",SUMIFS(Weekly_Data_Raw[EOP_SUBSCRIBERS],Weekly_Data_Raw[TICKER],'Weekly Metrics'!$A7,Weekly_Data_Raw[END_DATE],'Weekly Metrics'!GJ$5), IF($B7=\"Gross Adds\",SUMIFS(Weekly_Data_Raw[GROSS_ADDS],Weekly_Data_Raw[TICKER],'Weekly Metrics'!$A7,Weekly_Data_Raw[END_DATE],'Weekly Metrics'!GJ$5), IF($B7=\"Churn\",SUMIFS(Weekly_Data_Raw[CHURNED_MEMBERS],Weekly_Data_Raw[TICKER],'Weekly Metrics'!$A7,Weekly_Data_Raw[END_DATE],'Weekly Metrics'!GJ$5)))))))","v":106791},{"$f":"IF($B7=\"Panel Sales\", SUMIFS(Weekly_Data_Raw[PANEL_AMOUNT],Weekly_Data_Raw[TICKER],'Weekly Metrics'!$A7,Weekly_Data_Raw[END_DATE],'Weekly Metrics'!GK$5),IF($B7=\"Transactions\",SUMIFS(Weekly_Data_Raw[PANEL_TRANSACTIONS],Weekly_Data_Raw[TICKER],'Weekly Metrics'!$A7,Weekly_Data_Raw[END_DATE],'Weekly Metrics'!GK$5), IF($B7=\"Avg Ticket\",SUMIFS(Weekly_Data_Raw[AVG_TICKET],Weekly_Data_Raw[TICKER],'Weekly Metrics'!$A7,Weekly_Data_Raw[END_DATE],'Weekly Metrics'!GK$5), IF($B7=\"EOP Subscribers\",SUMIFS(Weekly_Data_Raw[EOP_SUBSCRIBERS],Weekly_Data_Raw[TICKER],'Weekly Metrics'!$A7,Weekly_Data_Raw[END_DATE],'Weekly Metrics'!GK$5), IF($B7=\"Gross Adds\",SUMIFS(Weekly_Data_Raw[GROSS_ADDS],Weekly_Data_Raw[TICKER],'Weekly Metrics'!$A7,Weekly_Data_Raw[END_DATE],'Weekly Metrics'!GK$5), IF($B7=\"Churn\",SUMIFS(Weekly_Data_Raw[CHURNED_MEMBERS],Weekly_Data_Raw[TICKER],'Weekly Metrics'!$A7,Weekly_Data_Raw[END_DATE],'Weekly Metrics'!GK$5)))))))","v":106783},{"$f":"IF($B7=\"Panel Sales\", SUMIFS(Weekly_Data_Raw[PANEL_AMOUNT],Weekly_Data_Raw[TICKER],'Weekly Metrics'!$A7,Weekly_Data_Raw[END_DATE],'Weekly Metrics'!GL$5),IF($B7=\"Transactions\",SUMIFS(Weekly_Data_Raw[PANEL_TRANSACTIONS],Weekly_Data_Raw[TICKER],'Weekly Metrics'!$A7,Weekly_Data_Raw[END_DATE],'Weekly Metrics'!GL$5), IF($B7=\"Avg Ticket\",SUMIFS(Weekly_Data_Raw[AVG_TICKET],Weekly_Data_Raw[TICKER],'Weekly Metrics'!$A7,Weekly_Data_Raw[END_DATE],'Weekly Metrics'!GL$5), IF($B7=\"EOP Subscribers\",SUMIFS(Weekly_Data_Raw[EOP_SUBSCRIBERS],Weekly_Data_Raw[TICKER],'Weekly Metrics'!$A7,Weekly_Data_Raw[END_DATE],'Weekly Metrics'!GL$5), IF($B7=\"Gross Adds\",SUMIFS(Weekly_Data_Raw[GROSS_ADDS],Weekly_Data_Raw[TICKER],'Weekly Metrics'!$A7,Weekly_Data_Raw[END_DATE],'Weekly Metrics'!GL$5), IF($B7=\"Churn\",SUMIFS(Weekly_Data_Raw[CHURNED_MEMBERS],Weekly_Data_Raw[TICKER],'Weekly Metrics'!$A7,Weekly_Data_Raw[END_DATE],'Weekly Metrics'!GL$5)))))))","v":106750},{"$f":"IF($B7=\"Panel Sales\", SUMIFS(Weekly_Data_Raw[PANEL_AMOUNT],Weekly_Data_Raw[TICKER],'Weekly Metrics'!$A7,Weekly_Data_Raw[END_DATE],'Weekly Metrics'!GM$5),IF($B7=\"Transactions\",SUMIFS(Weekly_Data_Raw[PANEL_TRANSACTIONS],Weekly_Data_Raw[TICKER],'Weekly Metrics'!$A7,Weekly_Data_Raw[END_DATE],'Weekly Metrics'!GM$5), IF($B7=\"Avg Ticket\",SUMIFS(Weekly_Data_Raw[AVG_TICKET],Weekly_Data_Raw[TICKER],'Weekly Metrics'!$A7,Weekly_Data_Raw[END_DATE],'Weekly Metrics'!GM$5), IF($B7=\"EOP Subscribers\",SUMIFS(Weekly_Data_Raw[EOP_SUBSCRIBERS],Weekly_Data_Raw[TICKER],'Weekly Metrics'!$A7,Weekly_Data_Raw[END_DATE],'Weekly Metrics'!GM$5), IF($B7=\"Gross Adds\",SUMIFS(Weekly_Data_Raw[GROSS_ADDS],Weekly_Data_Raw[TICKER],'Weekly Metrics'!$A7,Weekly_Data_Raw[END_DATE],'Weekly Metrics'!GM$5), IF($B7=\"Churn\",SUMIFS(Weekly_Data_Raw[CHURNED_MEMBERS],Weekly_Data_Raw[TICKER],'Weekly Metrics'!$A7,Weekly_Data_Raw[END_DATE],'Weekly Metrics'!GM$5)))))))","v":106753},{"$f":"IF($B7=\"Panel Sales\", SUMIFS(Weekly_Data_Raw[PANEL_AMOUNT],Weekly_Data_Raw[TICKER],'Weekly Metrics'!$A7,Weekly_Data_Raw[END_DATE],'Weekly Metrics'!GN$5),IF($B7=\"Transactions\",SUMIFS(Weekly_Data_Raw[PANEL_TRANSACTIONS],Weekly_Data_Raw[TICKER],'Weekly Metrics'!$A7,Weekly_Data_Raw[END_DATE],'Weekly Metrics'!GN$5), IF($B7=\"Avg Ticket\",SUMIFS(Weekly_Data_Raw[AVG_TICKET],Weekly_Data_Raw[TICKER],'Weekly Metrics'!$A7,Weekly_Data_Raw[END_DATE],'Weekly Metrics'!GN$5), IF($B7=\"EOP Subscribers\",SUMIFS(Weekly_Data_Raw[EOP_SUBSCRIBERS],Weekly_Data_Raw[TICKER],'Weekly Metrics'!$A7,Weekly_Data_Raw[END_DATE],'Weekly Metrics'!GN$5), IF($B7=\"Gross Adds\",SUMIFS(Weekly_Data_Raw[GROSS_ADDS],Weekly_Data_Raw[TICKER],'Weekly Metrics'!$A7,Weekly_Data_Raw[END_DATE],'Weekly Metrics'!GN$5), IF($B7=\"Churn\",SUMIFS(Weekly_Data_Raw[CHURNED_MEMBERS],Weekly_Data_Raw[TICKER],'Weekly Metrics'!$A7,Weekly_Data_Raw[END_DATE],'Weekly Metrics'!GN$5)))))))","v":106686},{"$f":"IF($B7=\"Panel Sales\", SUMIFS(Weekly_Data_Raw[PANEL_AMOUNT],Weekly_Data_Raw[TICKER],'Weekly Metrics'!$A7,Weekly_Data_Raw[END_DATE],'Weekly Metrics'!GO$5),IF($B7=\"Transactions\",SUMIFS(Weekly_Data_Raw[PANEL_TRANSACTIONS],Weekly_Data_Raw[TICKER],'Weekly Metrics'!$A7,Weekly_Data_Raw[END_DATE],'Weekly Metrics'!GO$5), IF($B7=\"Avg Ticket\",SUMIFS(Weekly_Data_Raw[AVG_TICKET],Weekly_Data_Raw[TICKER],'Weekly Metrics'!$A7,Weekly_Data_Raw[END_DATE],'Weekly Metrics'!GO$5), IF($B7=\"EOP Subscribers\",SUMIFS(Weekly_Data_Raw[EOP_SUBSCRIBERS],Weekly_Data_Raw[TICKER],'Weekly Metrics'!$A7,Weekly_Data_Raw[END_DATE],'Weekly Metrics'!GO$5), IF($B7=\"Gross Adds\",SUMIFS(Weekly_Data_Raw[GROSS_ADDS],Weekly_Data_Raw[TICKER],'Weekly Metrics'!$A7,Weekly_Data_Raw[END_DATE],'Weekly Metrics'!GO$5), IF($B7=\"Churn\",SUMIFS(Weekly_Data_Raw[CHURNED_MEMBERS],Weekly_Data_Raw[TICKER],'Weekly Metrics'!$A7,Weekly_Data_Raw[END_DATE],'Weekly Metrics'!GO$5)))))))","v":106644},{"$f":"IF($B7=\"Panel Sales\", SUMIFS(Weekly_Data_Raw[PANEL_AMOUNT],Weekly_Data_Raw[TICKER],'Weekly Metrics'!$A7,Weekly_Data_Raw[END_DATE],'Weekly Metrics'!GP$5),IF($B7=\"Transactions\",SUMIFS(Weekly_Data_Raw[PANEL_TRANSACTIONS],Weekly_Data_Raw[TICKER],'Weekly Metrics'!$A7,Weekly_Data_Raw[END_DATE],'Weekly Metrics'!GP$5), IF($B7=\"Avg Ticket\",SUMIFS(Weekly_Data_Raw[AVG_TICKET],Weekly_Data_Raw[TICKER],'Weekly Metrics'!$A7,Weekly_Data_Raw[END_DATE],'Weekly Metrics'!GP$5), IF($B7=\"EOP Subscribers\",SUMIFS(Weekly_Data_Raw[EOP_SUBSCRIBERS],Weekly_Data_Raw[TICKER],'Weekly Metrics'!$A7,Weekly_Data_Raw[END_DATE],'Weekly Metrics'!GP$5), IF($B7=\"Gross Adds\",SUMIFS(Weekly_Data_Raw[GROSS_ADDS],Weekly_Data_Raw[TICKER],'Weekly Metrics'!$A7,Weekly_Data_Raw[END_DATE],'Weekly Metrics'!GP$5), IF($B7=\"Churn\",SUMIFS(Weekly_Data_Raw[CHURNED_MEMBERS],Weekly_Data_Raw[TICKER],'Weekly Metrics'!$A7,Weekly_Data_Raw[END_DATE],'Weekly Metrics'!GP$5)))))))","v":106564},{"$f":"IF($B7=\"Panel Sales\", SUMIFS(Weekly_Data_Raw[PANEL_AMOUNT],Weekly_Data_Raw[TICKER],'Weekly Metrics'!$A7,Weekly_Data_Raw[END_DATE],'Weekly Metrics'!GQ$5),IF($B7=\"Transactions\",SUMIFS(Weekly_Data_Raw[PANEL_TRANSACTIONS],Weekly_Data_Raw[TICKER],'Weekly Metrics'!$A7,Weekly_Data_Raw[END_DATE],'Weekly Metrics'!GQ$5), IF($B7=\"Avg Ticket\",SUMIFS(Weekly_Data_Raw[AVG_TICKET],Weekly_Data_Raw[TICKER],'Weekly Metrics'!$A7,Weekly_Data_Raw[END_DATE],'Weekly Metrics'!GQ$5), IF($B7=\"EOP Subscribers\",SUMIFS(Weekly_Data_Raw[EOP_SUBSCRIBERS],Weekly_Data_Raw[TICKER],'Weekly Metrics'!$A7,Weekly_Data_Raw[END_DATE],'Weekly Metrics'!GQ$5), IF($B7=\"Gross Adds\",SUMIFS(Weekly_Data_Raw[GROSS_ADDS],Weekly_Data_Raw[TICKER],'Weekly Metrics'!$A7,Weekly_Data_Raw[END_DATE],'Weekly Metrics'!GQ$5), IF($B7=\"Churn\",SUMIFS(Weekly_Data_Raw[CHURNED_MEMBERS],Weekly_Data_Raw[TICKER],'Weekly Metrics'!$A7,Weekly_Data_Raw[END_DATE],'Weekly Metrics'!GQ$5)))))))","v":106562},{"$f":"IF($B7=\"Panel Sales\", SUMIFS(Weekly_Data_Raw[PANEL_AMOUNT],Weekly_Data_Raw[TICKER],'Weekly Metrics'!$A7,Weekly_Data_Raw[END_DATE],'Weekly Metrics'!GR$5),IF($B7=\"Transactions\",SUMIFS(Weekly_Data_Raw[PANEL_TRANSACTIONS],Weekly_Data_Raw[TICKER],'Weekly Metrics'!$A7,Weekly_Data_Raw[END_DATE],'Weekly Metrics'!GR$5), IF($B7=\"Avg Ticket\",SUMIFS(Weekly_Data_Raw[AVG_TICKET],Weekly_Data_Raw[TICKER],'Weekly Metrics'!$A7,Weekly_Data_Raw[END_DATE],'Weekly Metrics'!GR$5), IF($B7=\"EOP Subscribers\",SUMIFS(Weekly_Data_Raw[EOP_SUBSCRIBERS],Weekly_Data_Raw[TICKER],'Weekly Metrics'!$A7,Weekly_Data_Raw[END_DATE],'Weekly Metrics'!GR$5), IF($B7=\"Gross Adds\",SUMIFS(Weekly_Data_Raw[GROSS_ADDS],Weekly_Data_Raw[TICKER],'Weekly Metrics'!$A7,Weekly_Data_Raw[END_DATE],'Weekly Metrics'!GR$5), IF($B7=\"Churn\",SUMIFS(Weekly_Data_Raw[CHURNED_MEMBERS],Weekly_Data_Raw[TICKER],'Weekly Metrics'!$A7,Weekly_Data_Raw[END_DATE],'Weekly Metrics'!GR$5)))))))","v":106431},{"$f":"IF($B7=\"Panel Sales\", SUMIFS(Weekly_Data_Raw[PANEL_AMOUNT],Weekly_Data_Raw[TICKER],'Weekly Metrics'!$A7,Weekly_Data_Raw[END_DATE],'Weekly Metrics'!GS$5),IF($B7=\"Transactions\",SUMIFS(Weekly_Data_Raw[PANEL_TRANSACTIONS],Weekly_Data_Raw[TICKER],'Weekly Metrics'!$A7,Weekly_Data_Raw[END_DATE],'Weekly Metrics'!GS$5), IF($B7=\"Avg Ticket\",SUMIFS(Weekly_Data_Raw[AVG_TICKET],Weekly_Data_Raw[TICKER],'Weekly Metrics'!$A7,Weekly_Data_Raw[END_DATE],'Weekly Metrics'!GS$5), IF($B7=\"EOP Subscribers\",SUMIFS(Weekly_Data_Raw[EOP_SUBSCRIBERS],Weekly_Data_Raw[TICKER],'Weekly Metrics'!$A7,Weekly_Data_Raw[END_DATE],'Weekly Metrics'!GS$5), IF($B7=\"Gross Adds\",SUMIFS(Weekly_Data_Raw[GROSS_ADDS],Weekly_Data_Raw[TICKER],'Weekly Metrics'!$A7,Weekly_Data_Raw[END_DATE],'Weekly Metrics'!GS$5), IF($B7=\"Churn\",SUMIFS(Weekly_Data_Raw[CHURNED_MEMBERS],Weekly_Data_Raw[TICKER],'Weekly Metrics'!$A7,Weekly_Data_Raw[END_DATE],'Weekly Metrics'!GS$5)))))))","v":106324},{"$f":"IF($B7=\"Panel Sales\", SUMIFS(Weekly_Data_Raw[PANEL_AMOUNT],Weekly_Data_Raw[TICKER],'Weekly Metrics'!$A7,Weekly_Data_Raw[END_DATE],'Weekly Metrics'!GT$5),IF($B7=\"Transactions\",SUMIFS(Weekly_Data_Raw[PANEL_TRANSACTIONS],Weekly_Data_Raw[TICKER],'Weekly Metrics'!$A7,Weekly_Data_Raw[END_DATE],'Weekly Metrics'!GT$5), IF($B7=\"Avg Ticket\",SUMIFS(Weekly_Data_Raw[AVG_TICKET],Weekly_Data_Raw[TICKER],'Weekly Metrics'!$A7,Weekly_Data_Raw[END_DATE],'Weekly Metrics'!GT$5), IF($B7=\"EOP Subscribers\",SUMIFS(Weekly_Data_Raw[EOP_SUBSCRIBERS],Weekly_Data_Raw[TICKER],'Weekly Metrics'!$A7,Weekly_Data_Raw[END_DATE],'Weekly Metrics'!GT$5), IF($B7=\"Gross Adds\",SUMIFS(Weekly_Data_Raw[GROSS_ADDS],Weekly_Data_Raw[TICKER],'Weekly Metrics'!$A7,Weekly_Data_Raw[END_DATE],'Weekly Metrics'!GT$5), IF($B7=\"Churn\",SUMIFS(Weekly_Data_Raw[CHURNED_MEMBERS],Weekly_Data_Raw[TICKER],'Weekly Metrics'!$A7,Weekly_Data_Raw[END_DATE],'Weekly Metrics'!GT$5)))))))","v":106293},{"$f":"IF($B7=\"Panel Sales\", SUMIFS(Weekly_Data_Raw[PANEL_AMOUNT],Weekly_Data_Raw[TICKER],'Weekly Metrics'!$A7,Weekly_Data_Raw[END_DATE],'Weekly Metrics'!GU$5),IF($B7=\"Transactions\",SUMIFS(Weekly_Data_Raw[PANEL_TRANSACTIONS],Weekly_Data_Raw[TICKER],'Weekly Metrics'!$A7,Weekly_Data_Raw[END_DATE],'Weekly Metrics'!GU$5), IF($B7=\"Avg Ticket\",SUMIFS(Weekly_Data_Raw[AVG_TICKET],Weekly_Data_Raw[TICKER],'Weekly Metrics'!$A7,Weekly_Data_Raw[END_DATE],'Weekly Metrics'!GU$5), IF($B7=\"EOP Subscribers\",SUMIFS(Weekly_Data_Raw[EOP_SUBSCRIBERS],Weekly_Data_Raw[TICKER],'Weekly Metrics'!$A7,Weekly_Data_Raw[END_DATE],'Weekly Metrics'!GU$5), IF($B7=\"Gross Adds\",SUMIFS(Weekly_Data_Raw[GROSS_ADDS],Weekly_Data_Raw[TICKER],'Weekly Metrics'!$A7,Weekly_Data_Raw[END_DATE],'Weekly Metrics'!GU$5), IF($B7=\"Churn\",SUMIFS(Weekly_Data_Raw[CHURNED_MEMBERS],Weekly_Data_Raw[TICKER],'Weekly Metrics'!$A7,Weekly_Data_Raw[END_DATE],'Weekly Metrics'!GU$5)))))))","v":106171},{"$f":"IF($B7=\"Panel Sales\", SUMIFS(Weekly_Data_Raw[PANEL_AMOUNT],Weekly_Data_Raw[TICKER],'Weekly Metrics'!$A7,Weekly_Data_Raw[END_DATE],'Weekly Metrics'!GV$5),IF($B7=\"Transactions\",SUMIFS(Weekly_Data_Raw[PANEL_TRANSACTIONS],Weekly_Data_Raw[TICKER],'Weekly Metrics'!$A7,Weekly_Data_Raw[END_DATE],'Weekly Metrics'!GV$5), IF($B7=\"Avg Ticket\",SUMIFS(Weekly_Data_Raw[AVG_TICKET],Weekly_Data_Raw[TICKER],'Weekly Metrics'!$A7,Weekly_Data_Raw[END_DATE],'Weekly Metrics'!GV$5), IF($B7=\"EOP Subscribers\",SUMIFS(Weekly_Data_Raw[EOP_SUBSCRIBERS],Weekly_Data_Raw[TICKER],'Weekly Metrics'!$A7,Weekly_Data_Raw[END_DATE],'Weekly Metrics'!GV$5), IF($B7=\"Gross Adds\",SUMIFS(Weekly_Data_Raw[GROSS_ADDS],Weekly_Data_Raw[TICKER],'Weekly Metrics'!$A7,Weekly_Data_Raw[END_DATE],'Weekly Metrics'!GV$5), IF($B7=\"Churn\",SUMIFS(Weekly_Data_Raw[CHURNED_MEMBERS],Weekly_Data_Raw[TICKER],'Weekly Metrics'!$A7,Weekly_Data_Raw[END_DATE],'Weekly Metrics'!GV$5)))))))","v":106030},{"$f":"IF($B7=\"Panel Sales\", SUMIFS(Weekly_Data_Raw[PANEL_AMOUNT],Weekly_Data_Raw[TICKER],'Weekly Metrics'!$A7,Weekly_Data_Raw[END_DATE],'Weekly Metrics'!GW$5),IF($B7=\"Transactions\",SUMIFS(Weekly_Data_Raw[PANEL_TRANSACTIONS],Weekly_Data_Raw[TICKER],'Weekly Metrics'!$A7,Weekly_Data_Raw[END_DATE],'Weekly Metrics'!GW$5), IF($B7=\"Avg Ticket\",SUMIFS(Weekly_Data_Raw[AVG_TICKET],Weekly_Data_Raw[TICKER],'Weekly Metrics'!$A7,Weekly_Data_Raw[END_DATE],'Weekly Metrics'!GW$5), IF($B7=\"EOP Subscribers\",SUMIFS(Weekly_Data_Raw[EOP_SUBSCRIBERS],Weekly_Data_Raw[TICKER],'Weekly Metrics'!$A7,Weekly_Data_Raw[END_DATE],'Weekly Metrics'!GW$5), IF($B7=\"Gross Adds\",SUMIFS(Weekly_Data_Raw[GROSS_ADDS],Weekly_Data_Raw[TICKER],'Weekly Metrics'!$A7,Weekly_Data_Raw[END_DATE],'Weekly Metrics'!GW$5), IF($B7=\"Churn\",SUMIFS(Weekly_Data_Raw[CHURNED_MEMBERS],Weekly_Data_Raw[TICKER],'Weekly Metrics'!$A7,Weekly_Data_Raw[END_DATE],'Weekly Metrics'!GW$5)))))))","v":105916},{"$f":"IF($B7=\"Panel Sales\", SUMIFS(Weekly_Data_Raw[PANEL_AMOUNT],Weekly_Data_Raw[TICKER],'Weekly Metrics'!$A7,Weekly_Data_Raw[END_DATE],'Weekly Metrics'!GX$5),IF($B7=\"Transactions\",SUMIFS(Weekly_Data_Raw[PANEL_TRANSACTIONS],Weekly_Data_Raw[TICKER],'Weekly Metrics'!$A7,Weekly_Data_Raw[END_DATE],'Weekly Metrics'!GX$5), IF($B7=\"Avg Ticket\",SUMIFS(Weekly_Data_Raw[AVG_TICKET],Weekly_Data_Raw[TICKER],'Weekly Metrics'!$A7,Weekly_Data_Raw[END_DATE],'Weekly Metrics'!GX$5), IF($B7=\"EOP Subscribers\",SUMIFS(Weekly_Data_Raw[EOP_SUBSCRIBERS],Weekly_Data_Raw[TICKER],'Weekly Metrics'!$A7,Weekly_Data_Raw[END_DATE],'Weekly Metrics'!GX$5), IF($B7=\"Gross Adds\",SUMIFS(Weekly_Data_Raw[GROSS_ADDS],Weekly_Data_Raw[TICKER],'Weekly Metrics'!$A7,Weekly_Data_Raw[END_DATE],'Weekly Metrics'!GX$5), IF($B7=\"Churn\",SUMIFS(Weekly_Data_Raw[CHURNED_MEMBERS],Weekly_Data_Raw[TICKER],'Weekly Metrics'!$A7,Weekly_Data_Raw[END_DATE],'Weekly Metrics'!GX$5)))))))","v":105760},{"$f":"IF($B7=\"Panel Sales\", SUMIFS(Weekly_Data_Raw[PANEL_AMOUNT],Weekly_Data_Raw[TICKER],'Weekly Metrics'!$A7,Weekly_Data_Raw[END_DATE],'Weekly Metrics'!GY$5),IF($B7=\"Transactions\",SUMIFS(Weekly_Data_Raw[PANEL_TRANSACTIONS],Weekly_Data_Raw[TICKER],'Weekly Metrics'!$A7,Weekly_Data_Raw[END_DATE],'Weekly Metrics'!GY$5), IF($B7=\"Avg Ticket\",SUMIFS(Weekly_Data_Raw[AVG_TICKET],Weekly_Data_Raw[TICKER],'Weekly Metrics'!$A7,Weekly_Data_Raw[END_DATE],'Weekly Metrics'!GY$5), IF($B7=\"EOP Subscribers\",SUMIFS(Weekly_Data_Raw[EOP_SUBSCRIBERS],Weekly_Data_Raw[TICKER],'Weekly Metrics'!$A7,Weekly_Data_Raw[END_DATE],'Weekly Metrics'!GY$5), IF($B7=\"Gross Adds\",SUMIFS(Weekly_Data_Raw[GROSS_ADDS],Weekly_Data_Raw[TICKER],'Weekly Metrics'!$A7,Weekly_Data_Raw[END_DATE],'Weekly Metrics'!GY$5), IF($B7=\"Churn\",SUMIFS(Weekly_Data_Raw[CHURNED_MEMBERS],Weekly_Data_Raw[TICKER],'Weekly Metrics'!$A7,Weekly_Data_Raw[END_DATE],'Weekly Metrics'!GY$5)))))))","v":105654},{"$f":"IF($B7=\"Panel Sales\", SUMIFS(Weekly_Data_Raw[PANEL_AMOUNT],Weekly_Data_Raw[TICKER],'Weekly Metrics'!$A7,Weekly_Data_Raw[END_DATE],'Weekly Metrics'!GZ$5),IF($B7=\"Transactions\",SUMIFS(Weekly_Data_Raw[PANEL_TRANSACTIONS],Weekly_Data_Raw[TICKER],'Weekly Metrics'!$A7,Weekly_Data_Raw[END_DATE],'Weekly Metrics'!GZ$5), IF($B7=\"Avg Ticket\",SUMIFS(Weekly_Data_Raw[AVG_TICKET],Weekly_Data_Raw[TICKER],'Weekly Metrics'!$A7,Weekly_Data_Raw[END_DATE],'Weekly Metrics'!GZ$5), IF($B7=\"EOP Subscribers\",SUMIFS(Weekly_Data_Raw[EOP_SUBSCRIBERS],Weekly_Data_Raw[TICKER],'Weekly Metrics'!$A7,Weekly_Data_Raw[END_DATE],'Weekly Metrics'!GZ$5), IF($B7=\"Gross Adds\",SUMIFS(Weekly_Data_Raw[GROSS_ADDS],Weekly_Data_Raw[TICKER],'Weekly Metrics'!$A7,Weekly_Data_Raw[END_DATE],'Weekly Metrics'!GZ$5), IF($B7=\"Churn\",SUMIFS(Weekly_Data_Raw[CHURNED_MEMBERS],Weekly_Data_Raw[TICKER],'Weekly Metrics'!$A7,Weekly_Data_Raw[END_DATE],'Weekly Metrics'!GZ$5)))))))","v":105543},{"$f":"IF($B7=\"Panel Sales\", SUMIFS(Weekly_Data_Raw[PANEL_AMOUNT],Weekly_Data_Raw[TICKER],'Weekly Metrics'!$A7,Weekly_Data_Raw[END_DATE],'Weekly Metrics'!HA$5),IF($B7=\"Transactions\",SUMIFS(Weekly_Data_Raw[PANEL_TRANSACTIONS],Weekly_Data_Raw[TICKER],'Weekly Metrics'!$A7,Weekly_Data_Raw[END_DATE],'Weekly Metrics'!HA$5), IF($B7=\"Avg Ticket\",SUMIFS(Weekly_Data_Raw[AVG_TICKET],Weekly_Data_Raw[TICKER],'Weekly Metrics'!$A7,Weekly_Data_Raw[END_DATE],'Weekly Metrics'!HA$5), IF($B7=\"EOP Subscribers\",SUMIFS(Weekly_Data_Raw[EOP_SUBSCRIBERS],Weekly_Data_Raw[TICKER],'Weekly Metrics'!$A7,Weekly_Data_Raw[END_DATE],'Weekly Metrics'!HA$5), IF($B7=\"Gross Adds\",SUMIFS(Weekly_Data_Raw[GROSS_ADDS],Weekly_Data_Raw[TICKER],'Weekly Metrics'!$A7,Weekly_Data_Raw[END_DATE],'Weekly Metrics'!HA$5), IF($B7=\"Churn\",SUMIFS(Weekly_Data_Raw[CHURNED_MEMBERS],Weekly_Data_Raw[TICKER],'Weekly Metrics'!$A7,Weekly_Data_Raw[END_DATE],'Weekly Metrics'!HA$5)))))))","v":105401},{"$f":"IF($B7=\"Panel Sales\", SUMIFS(Weekly_Data_Raw[PANEL_AMOUNT],Weekly_Data_Raw[TICKER],'Weekly Metrics'!$A7,Weekly_Data_Raw[END_DATE],'Weekly Metrics'!HB$5),IF($B7=\"Transactions\",SUMIFS(Weekly_Data_Raw[PANEL_TRANSACTIONS],Weekly_Data_Raw[TICKER],'Weekly Metrics'!$A7,Weekly_Data_Raw[END_DATE],'Weekly Metrics'!HB$5), IF($B7=\"Avg Ticket\",SUMIFS(Weekly_Data_Raw[AVG_TICKET],Weekly_Data_Raw[TICKER],'Weekly Metrics'!$A7,Weekly_Data_Raw[END_DATE],'Weekly Metrics'!HB$5), IF($B7=\"EOP Subscribers\",SUMIFS(Weekly_Data_Raw[EOP_SUBSCRIBERS],Weekly_Data_Raw[TICKER],'Weekly Metrics'!$A7,Weekly_Data_Raw[END_DATE],'Weekly Metrics'!HB$5), IF($B7=\"Gross Adds\",SUMIFS(Weekly_Data_Raw[GROSS_ADDS],Weekly_Data_Raw[TICKER],'Weekly Metrics'!$A7,Weekly_Data_Raw[END_DATE],'Weekly Metrics'!HB$5), IF($B7=\"Churn\",SUMIFS(Weekly_Data_Raw[CHURNED_MEMBERS],Weekly_Data_Raw[TICKER],'Weekly Metrics'!$A7,Weekly_Data_Raw[END_DATE],'Weekly Metrics'!HB$5)))))))","v":105227},{"$f":"IF($B7=\"Panel Sales\", SUMIFS(Weekly_Data_Raw[PANEL_AMOUNT],Weekly_Data_Raw[TICKER],'Weekly Metrics'!$A7,Weekly_Data_Raw[END_DATE],'Weekly Metrics'!HC$5),IF($B7=\"Transactions\",SUMIFS(Weekly_Data_Raw[PANEL_TRANSACTIONS],Weekly_Data_Raw[TICKER],'Weekly Metrics'!$A7,Weekly_Data_Raw[END_DATE],'Weekly Metrics'!HC$5), IF($B7=\"Avg Ticket\",SUMIFS(Weekly_Data_Raw[AVG_TICKET],Weekly_Data_Raw[TICKER],'Weekly Metrics'!$A7,Weekly_Data_Raw[END_DATE],'Weekly Metrics'!HC$5), IF($B7=\"EOP Subscribers\",SUMIFS(Weekly_Data_Raw[EOP_SUBSCRIBERS],Weekly_Data_Raw[TICKER],'Weekly Metrics'!$A7,Weekly_Data_Raw[END_DATE],'Weekly Metrics'!HC$5), IF($B7=\"Gross Adds\",SUMIFS(Weekly_Data_Raw[GROSS_ADDS],Weekly_Data_Raw[TICKER],'Weekly Metrics'!$A7,Weekly_Data_Raw[END_DATE],'Weekly Metrics'!HC$5), IF($B7=\"Churn\",SUMIFS(Weekly_Data_Raw[CHURNED_MEMBERS],Weekly_Data_Raw[TICKER],'Weekly Metrics'!$A7,Weekly_Data_Raw[END_DATE],'Weekly Metrics'!HC$5)))))))","v":105076},{"$f":"IF($B7=\"Panel Sales\", SUMIFS(Weekly_Data_Raw[PANEL_AMOUNT],Weekly_Data_Raw[TICKER],'Weekly Metrics'!$A7,Weekly_Data_Raw[END_DATE],'Weekly Metrics'!HD$5),IF($B7=\"Transactions\",SUMIFS(Weekly_Data_Raw[PANEL_TRANSACTIONS],Weekly_Data_Raw[TICKER],'Weekly Metrics'!$A7,Weekly_Data_Raw[END_DATE],'Weekly Metrics'!HD$5), IF($B7=\"Avg Ticket\",SUMIFS(Weekly_Data_Raw[AVG_TICKET],Weekly_Data_Raw[TICKER],'Weekly Metrics'!$A7,Weekly_Data_Raw[END_DATE],'Weekly Metrics'!HD$5), IF($B7=\"EOP Subscribers\",SUMIFS(Weekly_Data_Raw[EOP_SUBSCRIBERS],Weekly_Data_Raw[TICKER],'Weekly Metrics'!$A7,Weekly_Data_Raw[END_DATE],'Weekly Metrics'!HD$5), IF($B7=\"Gross Adds\",SUMIFS(Weekly_Data_Raw[GROSS_ADDS],Weekly_Data_Raw[TICKER],'Weekly Metrics'!$A7,Weekly_Data_Raw[END_DATE],'Weekly Metrics'!HD$5), IF($B7=\"Churn\",SUMIFS(Weekly_Data_Raw[CHURNED_MEMBERS],Weekly_Data_Raw[TICKER],'Weekly Metrics'!$A7,Weekly_Data_Raw[END_DATE],'Weekly Metrics'!HD$5)))))))","v":104948},{"$f":"IF($B7=\"Panel Sales\", SUMIFS(Weekly_Data_Raw[PANEL_AMOUNT],Weekly_Data_Raw[TICKER],'Weekly Metrics'!$A7,Weekly_Data_Raw[END_DATE],'Weekly Metrics'!HE$5),IF($B7=\"Transactions\",SUMIFS(Weekly_Data_Raw[PANEL_TRANSACTIONS],Weekly_Data_Raw[TICKER],'Weekly Metrics'!$A7,Weekly_Data_Raw[END_DATE],'Weekly Metrics'!HE$5), IF($B7=\"Avg Ticket\",SUMIFS(Weekly_Data_Raw[AVG_TICKET],Weekly_Data_Raw[TICKER],'Weekly Metrics'!$A7,Weekly_Data_Raw[END_DATE],'Weekly Metrics'!HE$5), IF($B7=\"EOP Subscribers\",SUMIFS(Weekly_Data_Raw[EOP_SUBSCRIBERS],Weekly_Data_Raw[TICKER],'Weekly Metrics'!$A7,Weekly_Data_Raw[END_DATE],'Weekly Metrics'!HE$5), IF($B7=\"Gross Adds\",SUMIFS(Weekly_Data_Raw[GROSS_ADDS],Weekly_Data_Raw[TICKER],'Weekly Metrics'!$A7,Weekly_Data_Raw[END_DATE],'Weekly Metrics'!HE$5), IF($B7=\"Churn\",SUMIFS(Weekly_Data_Raw[CHURNED_MEMBERS],Weekly_Data_Raw[TICKER],'Weekly Metrics'!$A7,Weekly_Data_Raw[END_DATE],'Weekly Metrics'!HE$5)))))))","v":104825},{"$f":"IF($B7=\"Panel Sales\", SUMIFS(Weekly_Data_Raw[PANEL_AMOUNT],Weekly_Data_Raw[TICKER],'Weekly Metrics'!$A7,Weekly_Data_Raw[END_DATE],'Weekly Metrics'!HF$5),IF($B7=\"Transactions\",SUMIFS(Weekly_Data_Raw[PANEL_TRANSACTIONS],Weekly_Data_Raw[TICKER],'Weekly Metrics'!$A7,Weekly_Data_Raw[END_DATE],'Weekly Metrics'!HF$5), IF($B7=\"Avg Ticket\",SUMIFS(Weekly_Data_Raw[AVG_TICKET],Weekly_Data_Raw[TICKER],'Weekly Metrics'!$A7,Weekly_Data_Raw[END_DATE],'Weekly Metrics'!HF$5), IF($B7=\"EOP Subscribers\",SUMIFS(Weekly_Data_Raw[EOP_SUBSCRIBERS],Weekly_Data_Raw[TICKER],'Weekly Metrics'!$A7,Weekly_Data_Raw[END_DATE],'Weekly Metrics'!HF$5), IF($B7=\"Gross Adds\",SUMIFS(Weekly_Data_Raw[GROSS_ADDS],Weekly_Data_Raw[TICKER],'Weekly Metrics'!$A7,Weekly_Data_Raw[END_DATE],'Weekly Metrics'!HF$5), IF($B7=\"Churn\",SUMIFS(Weekly_Data_Raw[CHURNED_MEMBERS],Weekly_Data_Raw[TICKER],'Weekly Metrics'!$A7,Weekly_Data_Raw[END_DATE],'Weekly Metrics'!HF$5)))))))","v":104729},{"$f":"IF($B7=\"Panel Sales\", SUMIFS(Weekly_Data_Raw[PANEL_AMOUNT],Weekly_Data_Raw[TICKER],'Weekly Metrics'!$A7,Weekly_Data_Raw[END_DATE],'Weekly Metrics'!HG$5),IF($B7=\"Transactions\",SUMIFS(Weekly_Data_Raw[PANEL_TRANSACTIONS],Weekly_Data_Raw[TICKER],'Weekly Metrics'!$A7,Weekly_Data_Raw[END_DATE],'Weekly Metrics'!HG$5), IF($B7=\"Avg Ticket\",SUMIFS(Weekly_Data_Raw[AVG_TICKET],Weekly_Data_Raw[TICKER],'Weekly Metrics'!$A7,Weekly_Data_Raw[END_DATE],'Weekly Metrics'!HG$5), IF($B7=\"EOP Subscribers\",SUMIFS(Weekly_Data_Raw[EOP_SUBSCRIBERS],Weekly_Data_Raw[TICKER],'Weekly Metrics'!$A7,Weekly_Data_Raw[END_DATE],'Weekly Metrics'!HG$5), IF($B7=\"Gross Adds\",SUMIFS(Weekly_Data_Raw[GROSS_ADDS],Weekly_Data_Raw[TICKER],'Weekly Metrics'!$A7,Weekly_Data_Raw[END_DATE],'Weekly Metrics'!HG$5), IF($B7=\"Churn\",SUMIFS(Weekly_Data_Raw[CHURNED_MEMBERS],Weekly_Data_Raw[TICKER],'Weekly Metrics'!$A7,Weekly_Data_Raw[END_DATE],'Weekly Metrics'!HG$5)))))))","v":104598},{"$f":"IF($B7=\"Panel Sales\", SUMIFS(Weekly_Data_Raw[PANEL_AMOUNT],Weekly_Data_Raw[TICKER],'Weekly Metrics'!$A7,Weekly_Data_Raw[END_DATE],'Weekly Metrics'!HH$5),IF($B7=\"Transactions\",SUMIFS(Weekly_Data_Raw[PANEL_TRANSACTIONS],Weekly_Data_Raw[TICKER],'Weekly Metrics'!$A7,Weekly_Data_Raw[END_DATE],'Weekly Metrics'!HH$5), IF($B7=\"Avg Ticket\",SUMIFS(Weekly_Data_Raw[AVG_TICKET],Weekly_Data_Raw[TICKER],'Weekly Metrics'!$A7,Weekly_Data_Raw[END_DATE],'Weekly Metrics'!HH$5), IF($B7=\"EOP Subscribers\",SUMIFS(Weekly_Data_Raw[EOP_SUBSCRIBERS],Weekly_Data_Raw[TICKER],'Weekly Metrics'!$A7,Weekly_Data_Raw[END_DATE],'Weekly Metrics'!HH$5), IF($B7=\"Gross Adds\",SUMIFS(Weekly_Data_Raw[GROSS_ADDS],Weekly_Data_Raw[TICKER],'Weekly Metrics'!$A7,Weekly_Data_Raw[END_DATE],'Weekly Metrics'!HH$5), IF($B7=\"Churn\",SUMIFS(Weekly_Data_Raw[CHURNED_MEMBERS],Weekly_Data_Raw[TICKER],'Weekly Metrics'!$A7,Weekly_Data_Raw[END_DATE],'Weekly Metrics'!HH$5)))))))","v":104517},{"$f":"IF($B7=\"Panel Sales\", SUMIFS(Weekly_Data_Raw[PANEL_AMOUNT],Weekly_Data_Raw[TICKER],'Weekly Metrics'!$A7,Weekly_Data_Raw[END_DATE],'Weekly Metrics'!HI$5),IF($B7=\"Transactions\",SUMIFS(Weekly_Data_Raw[PANEL_TRANSACTIONS],Weekly_Data_Raw[TICKER],'Weekly Metrics'!$A7,Weekly_Data_Raw[END_DATE],'Weekly Metrics'!HI$5), IF($B7=\"Avg Ticket\",SUMIFS(Weekly_Data_Raw[AVG_TICKET],Weekly_Data_Raw[TICKER],'Weekly Metrics'!$A7,Weekly_Data_Raw[END_DATE],'Weekly Metrics'!HI$5), IF($B7=\"EOP Subscribers\",SUMIFS(Weekly_Data_Raw[EOP_SUBSCRIBERS],Weekly_Data_Raw[TICKER],'Weekly Metrics'!$A7,Weekly_Data_Raw[END_DATE],'Weekly Metrics'!HI$5), IF($B7=\"Gross Adds\",SUMIFS(Weekly_Data_Raw[GROSS_ADDS],Weekly_Data_Raw[TICKER],'Weekly Metrics'!$A7,Weekly_Data_Raw[END_DATE],'Weekly Metrics'!HI$5), IF($B7=\"Churn\",SUMIFS(Weekly_Data_Raw[CHURNED_MEMBERS],Weekly_Data_Raw[TICKER],'Weekly Metrics'!$A7,Weekly_Data_Raw[END_DATE],'Weekly Metrics'!HI$5)))))))","v":104457},{"$f":"IF($B7=\"Panel Sales\", SUMIFS(Weekly_Data_Raw[PANEL_AMOUNT],Weekly_Data_Raw[TICKER],'Weekly Metrics'!$A7,Weekly_Data_Raw[END_DATE],'Weekly Metrics'!HJ$5),IF($B7=\"Transactions\",SUMIFS(Weekly_Data_Raw[PANEL_TRANSACTIONS],Weekly_Data_Raw[TICKER],'Weekly Metrics'!$A7,Weekly_Data_Raw[END_DATE],'Weekly Metrics'!HJ$5), IF($B7=\"Avg Ticket\",SUMIFS(Weekly_Data_Raw[AVG_TICKET],Weekly_Data_Raw[TICKER],'Weekly Metrics'!$A7,Weekly_Data_Raw[END_DATE],'Weekly Metrics'!HJ$5), IF($B7=\"EOP Subscribers\",SUMIFS(Weekly_Data_Raw[EOP_SUBSCRIBERS],Weekly_Data_Raw[TICKER],'Weekly Metrics'!$A7,Weekly_Data_Raw[END_DATE],'Weekly Metrics'!HJ$5), IF($B7=\"Gross Adds\",SUMIFS(Weekly_Data_Raw[GROSS_ADDS],Weekly_Data_Raw[TICKER],'Weekly Metrics'!$A7,Weekly_Data_Raw[END_DATE],'Weekly Metrics'!HJ$5), IF($B7=\"Churn\",SUMIFS(Weekly_Data_Raw[CHURNED_MEMBERS],Weekly_Data_Raw[TICKER],'Weekly Metrics'!$A7,Weekly_Data_Raw[END_DATE],'Weekly Metrics'!HJ$5)))))))","v":104327},{"$f":"IF($B7=\"Panel Sales\", SUMIFS(Weekly_Data_Raw[PANEL_AMOUNT],Weekly_Data_Raw[TICKER],'Weekly Metrics'!$A7,Weekly_Data_Raw[END_DATE],'Weekly Metrics'!HK$5),IF($B7=\"Transactions\",SUMIFS(Weekly_Data_Raw[PANEL_TRANSACTIONS],Weekly_Data_Raw[TICKER],'Weekly Metrics'!$A7,Weekly_Data_Raw[END_DATE],'Weekly Metrics'!HK$5), IF($B7=\"Avg Ticket\",SUMIFS(Weekly_Data_Raw[AVG_TICKET],Weekly_Data_Raw[TICKER],'Weekly Metrics'!$A7,Weekly_Data_Raw[END_DATE],'Weekly Metrics'!HK$5), IF($B7=\"EOP Subscribers\",SUMIFS(Weekly_Data_Raw[EOP_SUBSCRIBERS],Weekly_Data_Raw[TICKER],'Weekly Metrics'!$A7,Weekly_Data_Raw[END_DATE],'Weekly Metrics'!HK$5), IF($B7=\"Gross Adds\",SUMIFS(Weekly_Data_Raw[GROSS_ADDS],Weekly_Data_Raw[TICKER],'Weekly Metrics'!$A7,Weekly_Data_Raw[END_DATE],'Weekly Metrics'!HK$5), IF($B7=\"Churn\",SUMIFS(Weekly_Data_Raw[CHURNED_MEMBERS],Weekly_Data_Raw[TICKER],'Weekly Metrics'!$A7,Weekly_Data_Raw[END_DATE],'Weekly Metrics'!HK$5)))))))","v":104260},{"$f":"IF($B7=\"Panel Sales\", SUMIFS(Weekly_Data_Raw[PANEL_AMOUNT],Weekly_Data_Raw[TICKER],'Weekly Metrics'!$A7,Weekly_Data_Raw[END_DATE],'Weekly Metrics'!HL$5),IF($B7=\"Transactions\",SUMIFS(Weekly_Data_Raw[PANEL_TRANSACTIONS],Weekly_Data_Raw[TICKER],'Weekly Metrics'!$A7,Weekly_Data_Raw[END_DATE],'Weekly Metrics'!HL$5), IF($B7=\"Avg Ticket\",SUMIFS(Weekly_Data_Raw[AVG_TICKET],Weekly_Data_Raw[TICKER],'Weekly Metrics'!$A7,Weekly_Data_Raw[END_DATE],'Weekly Metrics'!HL$5), IF($B7=\"EOP Subscribers\",SUMIFS(Weekly_Data_Raw[EOP_SUBSCRIBERS],Weekly_Data_Raw[TICKER],'Weekly Metrics'!$A7,Weekly_Data_Raw[END_DATE],'Weekly Metrics'!HL$5), IF($B7=\"Gross Adds\",SUMIFS(Weekly_Data_Raw[GROSS_ADDS],Weekly_Data_Raw[TICKER],'Weekly Metrics'!$A7,Weekly_Data_Raw[END_DATE],'Weekly Metrics'!HL$5), IF($B7=\"Churn\",SUMIFS(Weekly_Data_Raw[CHURNED_MEMBERS],Weekly_Data_Raw[TICKER],'Weekly Metrics'!$A7,Weekly_Data_Raw[END_DATE],'Weekly Metrics'!HL$5)))))))","v":104171},{"$f":"IF($B7=\"Panel Sales\", SUMIFS(Weekly_Data_Raw[PANEL_AMOUNT],Weekly_Data_Raw[TICKER],'Weekly Metrics'!$A7,Weekly_Data_Raw[END_DATE],'Weekly Metrics'!HM$5),IF($B7=\"Transactions\",SUMIFS(Weekly_Data_Raw[PANEL_TRANSACTIONS],Weekly_Data_Raw[TICKER],'Weekly Metrics'!$A7,Weekly_Data_Raw[END_DATE],'Weekly Metrics'!HM$5), IF($B7=\"Avg Ticket\",SUMIFS(Weekly_Data_Raw[AVG_TICKET],Weekly_Data_Raw[TICKER],'Weekly Metrics'!$A7,Weekly_Data_Raw[END_DATE],'Weekly Metrics'!HM$5), IF($B7=\"EOP Subscribers\",SUMIFS(Weekly_Data_Raw[EOP_SUBSCRIBERS],Weekly_Data_Raw[TICKER],'Weekly Metrics'!$A7,Weekly_Data_Raw[END_DATE],'Weekly Metrics'!HM$5), IF($B7=\"Gross Adds\",SUMIFS(Weekly_Data_Raw[GROSS_ADDS],Weekly_Data_Raw[TICKER],'Weekly Metrics'!$A7,Weekly_Data_Raw[END_DATE],'Weekly Metrics'!HM$5), IF($B7=\"Churn\",SUMIFS(Weekly_Data_Raw[CHURNED_MEMBERS],Weekly_Data_Raw[TICKER],'Weekly Metrics'!$A7,Weekly_Data_Raw[END_DATE],'Weekly Metrics'!HM$5)))))))","v":104079},{"$f":"IF($B7=\"Panel Sales\", SUMIFS(Weekly_Data_Raw[PANEL_AMOUNT],Weekly_Data_Raw[TICKER],'Weekly Metrics'!$A7,Weekly_Data_Raw[END_DATE],'Weekly Metrics'!HN$5),IF($B7=\"Transactions\",SUMIFS(Weekly_Data_Raw[PANEL_TRANSACTIONS],Weekly_Data_Raw[TICKER],'Weekly Metrics'!$A7,Weekly_Data_Raw[END_DATE],'Weekly Metrics'!HN$5), IF($B7=\"Avg Ticket\",SUMIFS(Weekly_Data_Raw[AVG_TICKET],Weekly_Data_Raw[TICKER],'Weekly Metrics'!$A7,Weekly_Data_Raw[END_DATE],'Weekly Metrics'!HN$5), IF($B7=\"EOP Subscribers\",SUMIFS(Weekly_Data_Raw[EOP_SUBSCRIBERS],Weekly_Data_Raw[TICKER],'Weekly Metrics'!$A7,Weekly_Data_Raw[END_DATE],'Weekly Metrics'!HN$5), IF($B7=\"Gross Adds\",SUMIFS(Weekly_Data_Raw[GROSS_ADDS],Weekly_Data_Raw[TICKER],'Weekly Metrics'!$A7,Weekly_Data_Raw[END_DATE],'Weekly Metrics'!HN$5), IF($B7=\"Churn\",SUMIFS(Weekly_Data_Raw[CHURNED_MEMBERS],Weekly_Data_Raw[TICKER],'Weekly Metrics'!$A7,Weekly_Data_Raw[END_DATE],'Weekly Metrics'!HN$5)))))))","v":103920},{"$f":"IF($B7=\"Panel Sales\", SUMIFS(Weekly_Data_Raw[PANEL_AMOUNT],Weekly_Data_Raw[TICKER],'Weekly Metrics'!$A7,Weekly_Data_Raw[END_DATE],'Weekly Metrics'!HO$5),IF($B7=\"Transactions\",SUMIFS(Weekly_Data_Raw[PANEL_TRANSACTIONS],Weekly_Data_Raw[TICKER],'Weekly Metrics'!$A7,Weekly_Data_Raw[END_DATE],'Weekly Metrics'!HO$5), IF($B7=\"Avg Ticket\",SUMIFS(Weekly_Data_Raw[AVG_TICKET],Weekly_Data_Raw[TICKER],'Weekly Metrics'!$A7,Weekly_Data_Raw[END_DATE],'Weekly Metrics'!HO$5), IF($B7=\"EOP Subscribers\",SUMIFS(Weekly_Data_Raw[EOP_SUBSCRIBERS],Weekly_Data_Raw[TICKER],'Weekly Metrics'!$A7,Weekly_Data_Raw[END_DATE],'Weekly Metrics'!HO$5), IF($B7=\"Gross Adds\",SUMIFS(Weekly_Data_Raw[GROSS_ADDS],Weekly_Data_Raw[TICKER],'Weekly Metrics'!$A7,Weekly_Data_Raw[END_DATE],'Weekly Metrics'!HO$5), IF($B7=\"Churn\",SUMIFS(Weekly_Data_Raw[CHURNED_MEMBERS],Weekly_Data_Raw[TICKER],'Weekly Metrics'!$A7,Weekly_Data_Raw[END_DATE],'Weekly Metrics'!HO$5)))))))","v":103802},{"$f":"IF($B7=\"Panel Sales\", SUMIFS(Weekly_Data_Raw[PANEL_AMOUNT],Weekly_Data_Raw[TICKER],'Weekly Metrics'!$A7,Weekly_Data_Raw[END_DATE],'Weekly Metrics'!HP$5),IF($B7=\"Transactions\",SUMIFS(Weekly_Data_Raw[PANEL_TRANSACTIONS],Weekly_Data_Raw[TICKER],'Weekly Metrics'!$A7,Weekly_Data_Raw[END_DATE],'Weekly Metrics'!HP$5), IF($B7=\"Avg Ticket\",SUMIFS(Weekly_Data_Raw[AVG_TICKET],Weekly_Data_Raw[TICKER],'Weekly Metrics'!$A7,Weekly_Data_Raw[END_DATE],'Weekly Metrics'!HP$5), IF($B7=\"EOP Subscribers\",SUMIFS(Weekly_Data_Raw[EOP_SUBSCRIBERS],Weekly_Data_Raw[TICKER],'Weekly Metrics'!$A7,Weekly_Data_Raw[END_DATE],'Weekly Metrics'!HP$5), IF($B7=\"Gross Adds\",SUMIFS(Weekly_Data_Raw[GROSS_ADDS],Weekly_Data_Raw[TICKER],'Weekly Metrics'!$A7,Weekly_Data_Raw[END_DATE],'Weekly Metrics'!HP$5), IF($B7=\"Churn\",SUMIFS(Weekly_Data_Raw[CHURNED_MEMBERS],Weekly_Data_Raw[TICKER],'Weekly Metrics'!$A7,Weekly_Data_Raw[END_DATE],'Weekly Metrics'!HP$5)))))))","v":103676},{"$f":"IF($B7=\"Panel Sales\", SUMIFS(Weekly_Data_Raw[PANEL_AMOUNT],Weekly_Data_Raw[TICKER],'Weekly Metrics'!$A7,Weekly_Data_Raw[END_DATE],'Weekly Metrics'!HQ$5),IF($B7=\"Transactions\",SUMIFS(Weekly_Data_Raw[PANEL_TRANSACTIONS],Weekly_Data_Raw[TICKER],'Weekly Metrics'!$A7,Weekly_Data_Raw[END_DATE],'Weekly Metrics'!HQ$5), IF($B7=\"Avg Ticket\",SUMIFS(Weekly_Data_Raw[AVG_TICKET],Weekly_Data_Raw[TICKER],'Weekly Metrics'!$A7,Weekly_Data_Raw[END_DATE],'Weekly Metrics'!HQ$5), IF($B7=\"EOP Subscribers\",SUMIFS(Weekly_Data_Raw[EOP_SUBSCRIBERS],Weekly_Data_Raw[TICKER],'Weekly Metrics'!$A7,Weekly_Data_Raw[END_DATE],'Weekly Metrics'!HQ$5), IF($B7=\"Gross Adds\",SUMIFS(Weekly_Data_Raw[GROSS_ADDS],Weekly_Data_Raw[TICKER],'Weekly Metrics'!$A7,Weekly_Data_Raw[END_DATE],'Weekly Metrics'!HQ$5), IF($B7=\"Churn\",SUMIFS(Weekly_Data_Raw[CHURNED_MEMBERS],Weekly_Data_Raw[TICKER],'Weekly Metrics'!$A7,Weekly_Data_Raw[END_DATE],'Weekly Metrics'!HQ$5)))))))","v":103515},{"$f":"IF($B7=\"Panel Sales\", SUMIFS(Weekly_Data_Raw[PANEL_AMOUNT],Weekly_Data_Raw[TICKER],'Weekly Metrics'!$A7,Weekly_Data_Raw[END_DATE],'Weekly Metrics'!HR$5),IF($B7=\"Transactions\",SUMIFS(Weekly_Data_Raw[PANEL_TRANSACTIONS],Weekly_Data_Raw[TICKER],'Weekly Metrics'!$A7,Weekly_Data_Raw[END_DATE],'Weekly Metrics'!HR$5), IF($B7=\"Avg Ticket\",SUMIFS(Weekly_Data_Raw[AVG_TICKET],Weekly_Data_Raw[TICKER],'Weekly Metrics'!$A7,Weekly_Data_Raw[END_DATE],'Weekly Metrics'!HR$5), IF($B7=\"EOP Subscribers\",SUMIFS(Weekly_Data_Raw[EOP_SUBSCRIBERS],Weekly_Data_Raw[TICKER],'Weekly Metrics'!$A7,Weekly_Data_Raw[END_DATE],'Weekly Metrics'!HR$5), IF($B7=\"Gross Adds\",SUMIFS(Weekly_Data_Raw[GROSS_ADDS],Weekly_Data_Raw[TICKER],'Weekly Metrics'!$A7,Weekly_Data_Raw[END_DATE],'Weekly Metrics'!HR$5), IF($B7=\"Churn\",SUMIFS(Weekly_Data_Raw[CHURNED_MEMBERS],Weekly_Data_Raw[TICKER],'Weekly Metrics'!$A7,Weekly_Data_Raw[END_DATE],'Weekly Metrics'!HR$5)))))))","v":103410},{"$f":"IF($B7=\"Panel Sales\", SUMIFS(Weekly_Data_Raw[PANEL_AMOUNT],Weekly_Data_Raw[TICKER],'Weekly Metrics'!$A7,Weekly_Data_Raw[END_DATE],'Weekly Metrics'!HS$5),IF($B7=\"Transactions\",SUMIFS(Weekly_Data_Raw[PANEL_TRANSACTIONS],Weekly_Data_Raw[TICKER],'Weekly Metrics'!$A7,Weekly_Data_Raw[END_DATE],'Weekly Metrics'!HS$5), IF($B7=\"Avg Ticket\",SUMIFS(Weekly_Data_Raw[AVG_TICKET],Weekly_Data_Raw[TICKER],'Weekly Metrics'!$A7,Weekly_Data_Raw[END_DATE],'Weekly Metrics'!HS$5), IF($B7=\"EOP Subscribers\",SUMIFS(Weekly_Data_Raw[EOP_SUBSCRIBERS],Weekly_Data_Raw[TICKER],'Weekly Metrics'!$A7,Weekly_Data_Raw[END_DATE],'Weekly Metrics'!HS$5), IF($B7=\"Gross Adds\",SUMIFS(Weekly_Data_Raw[GROSS_ADDS],Weekly_Data_Raw[TICKER],'Weekly Metrics'!$A7,Weekly_Data_Raw[END_DATE],'Weekly Metrics'!HS$5), IF($B7=\"Churn\",SUMIFS(Weekly_Data_Raw[CHURNED_MEMBERS],Weekly_Data_Raw[TICKER],'Weekly Metrics'!$A7,Weekly_Data_Raw[END_DATE],'Weekly Metrics'!HS$5)))))))","v":103332},{"$f":"IF($B7=\"Panel Sales\", SUMIFS(Weekly_Data_Raw[PANEL_AMOUNT],Weekly_Data_Raw[TICKER],'Weekly Metrics'!$A7,Weekly_Data_Raw[END_DATE],'Weekly Metrics'!HT$5),IF($B7=\"Transactions\",SUMIFS(Weekly_Data_Raw[PANEL_TRANSACTIONS],Weekly_Data_Raw[TICKER],'Weekly Metrics'!$A7,Weekly_Data_Raw[END_DATE],'Weekly Metrics'!HT$5), IF($B7=\"Avg Ticket\",SUMIFS(Weekly_Data_Raw[AVG_TICKET],Weekly_Data_Raw[TICKER],'Weekly Metrics'!$A7,Weekly_Data_Raw[END_DATE],'Weekly Metrics'!HT$5), IF($B7=\"EOP Subscribers\",SUMIFS(Weekly_Data_Raw[EOP_SUBSCRIBERS],Weekly_Data_Raw[TICKER],'Weekly Metrics'!$A7,Weekly_Data_Raw[END_DATE],'Weekly Metrics'!HT$5), IF($B7=\"Gross Adds\",SUMIFS(Weekly_Data_Raw[GROSS_ADDS],Weekly_Data_Raw[TICKER],'Weekly Metrics'!$A7,Weekly_Data_Raw[END_DATE],'Weekly Metrics'!HT$5), IF($B7=\"Churn\",SUMIFS(Weekly_Data_Raw[CHURNED_MEMBERS],Weekly_Data_Raw[TICKER],'Weekly Metrics'!$A7,Weekly_Data_Raw[END_DATE],'Weekly Metrics'!HT$5)))))))","v":103223}]
["NFLX","Gross Adds",{"$f":"IF($B8=\"Panel Sales\", SUMIFS(Weekly_Data_Raw[PANEL_AMOUNT],Weekly_Data_Raw[TICKER],'Weekly Metrics'!$A8,Weekly_Data_Raw[END_DATE],'Weekly Metrics'!C$5),IF($B8=\"Transactions\",SUMIFS(Weekly_Data_Raw[PANEL_TRANSACTIONS],Weekly_Data_Raw[TICKER],'Weekly Metrics'!$A8,Weekly_Data_Raw[END_DATE],'Weekly Metrics'!C$5), IF($B8=\"Avg Ticket\",SUMIFS(Weekly_Data_Raw[AVG_TICKET],Weekly_Data_Raw[TICKER],'Weekly Metrics'!$A8,Weekly_Data_Raw[END_DATE],'Weekly Metrics'!C$5), IF($B8=\"EOP Subscribers\",SUMIFS(Weekly_Data_Raw[EOP_SUBSCRIBERS],Weekly_Data_Raw[TICKER],'Weekly Metrics'!$A8,Weekly_Data_Raw[END_DATE],'Weekly Metrics'!C$5), IF($B8=\"Gross Adds\",SUMIFS(Weekly_Data_Raw[GROSS_ADDS],Weekly_Data_Raw[TICKER],'Weekly Metrics'!$A8,Weekly_Data_Raw[END_DATE],'Weekly Metrics'!C$5), IF($B8=\"Churn\",SUMIFS(Weekly_Data_Raw[CHURNED_MEMBERS],Weekly_Data_Raw[TICKER],'Weekly Metrics'!$A8,Weekly_Data_Raw[END_DATE],'Weekly Metrics'!C$5)))))))","v":1796},{"$f":"IF($B8=\"Panel Sales\", SUMIFS(Weekly_Data_Raw[PANEL_AMOUNT],Weekly_Data_Raw[TICKER],'Weekly Metrics'!$A8,Weekly_Data_Raw[END_DATE],'Weekly Metrics'!D$5),IF($B8=\"Transactions\",SUMIFS(Weekly_Data_Raw[PANEL_TRANSACTIONS],Weekly_Data_Raw[TICKER],'Weekly Metrics'!$A8,Weekly_Data_Raw[END_DATE],'Weekly Metrics'!D$5), IF($B8=\"Avg Ticket\",SUMIFS(Weekly_Data_Raw[AVG_TICKET],Weekly_Data_Raw[TICKER],'Weekly Metrics'!$A8,Weekly_Data_Raw[END_DATE],'Weekly Metrics'!D$5), IF($B8=\"EOP Subscribers\",SUMIFS(Weekly_Data_Raw[EOP_SUBSCRIBERS],Weekly_Data_Raw[TICKER],'Weekly Metrics'!$A8,Weekly_Data_Raw[END_DATE],'Weekly Metrics'!D$5), IF($B8=\"Gross Adds\",SUMIFS(Weekly_Data_Raw[GROSS_ADDS],Weekly_Data_Raw[TICKER],'Weekly Metrics'!$A8,Weekly_Data_Raw[END_DATE],'Weekly Metrics'!D$5), IF($B8=\"Churn\",SUMIFS(Weekly_Data_Raw[CHURNED_MEMBERS],Weekly_Data_Raw[TICKER],'Weekly Metrics'!$A8,Weekly_Data_Raw[END_DATE],'Weekly Metrics'!D$5)))))))","v":1867},{"$f":"IF($B8=\"Panel Sales\", SUMIFS(Weekly_Data_Raw[PANEL_AMOUNT],Weekly_Data_Raw[TICKER],'Weekly Metrics'!$A8,Weekly_Data_Raw[END_DATE],'Weekly Metrics'!E$5),IF($B8=\"Transactions\",SUMIFS(Weekly_Data_Raw[PANEL_TRANSACTIONS],Weekly_Data_Raw[TICKER],'Weekly Metrics'!$A8,Weekly_Data_Raw[END_DATE],'Weekly Metrics'!E$5), IF($B8=\"Avg Ticket\",SUMIFS(Weekly_Data_Raw[AVG_TICKET],Weekly_Data_Raw[TICKER],'Weekly Metrics'!$A8,Weekly_Data_Raw[END_DATE],'Weekly Metrics'!E$5), IF($B8=\"EOP Subscribers\",SUMIFS(Weekly_Data_Raw[EOP_SUBSCRIBERS],Weekly_Data_Raw[TICKER],'Weekly Metrics'!$A8,Weekly_Data_Raw[END_DATE],'Weekly Metrics'!E$5), IF($B8=\"Gross Adds\",SUMIFS(Weekly_Data_Raw[GROSS_ADDS],Weekly_Data_Raw[TICKER],'Weekly Metrics'!$A8,Weekly_Data_Raw[END_DATE],'Weekly Metrics'!E$5), IF($B8=\"Churn\",SUMIFS(Weekly_Data_Raw[CHURNED_MEMBERS],Weekly_Data_Raw[TICKER],'Weekly Metrics'!$A8,Weekly_Data_Raw[END_DATE],'Weekly Metrics'!E$5)))))))","v":1834},{"$f":"IF($B8=\"Panel Sales\", SUMIFS(Weekly_Data_Raw[PANEL_AMOUNT],Weekly_Data_Raw[TICKER],'Weekly Metrics'!$A8,Weekly_Data_Raw[END_DATE],'Weekly Metrics'!F$5),IF($B8=\"Transactions\",SUMIFS(Weekly_Data_Raw[PANEL_TRANSACTIONS],Weekly_Data_Raw[TICKER],'Weekly Metrics'!$A8,Weekly_Data_Raw[END_DATE],'Weekly Metrics'!F$5), IF($B8=\"Avg Ticket\",SUMIFS(Weekly_Data_Raw[AVG_TICKET],Weekly_Data_Raw[TICKER],'Weekly Metrics'!$A8,Weekly_Data_Raw[END_DATE],'Weekly Metrics'!F$5), IF($B8=\"EOP Subscribers\",SUMIFS(Weekly_Data_Raw[EOP_SUBSCRIBERS],Weekly_Data_Raw[TICKER],'Weekly Metrics'!$A8,Weekly_Data_Raw[END_DATE],'Weekly Metrics'!F$5), IF($B8=\"Gross Adds\",SUMIFS(Weekly_Data_Raw[GROSS_ADDS],Weekly_Data_Raw[TICKER],'Weekly Metrics'!$A8,Weekly_Data_Raw[END_DATE],'Weekly Metrics'!F$5), IF($B8=\"Churn\",SUMIFS(Weekly_Data_Raw[CHURNED_MEMBERS],Weekly_Data_Raw[TICKER],'Weekly Metrics'!$A8,Weekly_Data_Raw[END_DATE],'Weekly Metrics'!F$5)))))))","v":2304},{"$f":"IF($B8=\"Panel Sales\", SUMIFS(Weekly_Data_Raw[PANEL_AMOUNT],Weekly_Data_Raw[TICKER],'Weekly Metrics'!$A8,Weekly_Data_Raw[END_DATE],'Weekly Metrics'!G$5),IF($B8=\"Transactions\",SUMIFS(Weekly_Data_Raw[PANEL_TRANSACTIONS],Weekly_Data_Raw[TICKER],'Weekly Metrics'!$A8,Weekly_Data_Raw[END_DATE],'Weekly Metrics'!G$5), IF($B8=\"Avg Ticket\",SUMIFS(Weekly_Data_Raw[AVG_TICKET],Weekly_Data_Raw[TICKER],'Weekly Metrics'!$A8,Weekly_Data_Raw[END_DATE],'Weekly Metrics'!G$5), IF($B8=\"EOP Subscribers\",SUMIFS(Weekly_Data_Raw[EOP_SUBSCRIBERS],Weekly_Data_Raw[TICKER],'Weekly Metrics'!$A8,Weekly_Data_Raw[END_DATE],'Weekly Metrics'!G$5), IF($B8=\"Gross Adds\",SUMIFS(Weekly_Data_Raw[GROSS_ADDS],Weekly_Data_Raw[TICKER],'Weekly Metrics'!$A8,Weekly_Data_Raw[END_DATE],'Weekly Metrics'!G$5), IF($B8=\"Churn\",SUMIFS(Weekly_Data_Raw[CHURNED_MEMBERS],Weekly_Data_Raw[TICKER],'Weekly Metrics'!$A8,Weekly_Data_Raw[END_DATE],'Weekly Metrics'!G$5)))))))","v":2288},{"$f":"IF($B8=\"Panel Sales\", SUMIFS(Weekly_Data_Raw[PANEL_AMOUNT],Weekly_Data_Raw[TICKER],'Weekly Metrics'!$A8,Weekly_Data_Raw[END_DATE],'Weekly Metrics'!H$5),IF($B8=\"Transactions\",SUMIFS(Weekly_Data_Raw[PANEL_TRANSACTIONS],Weekly_Data_Raw[TICKER],'Weekly Metrics'!$A8,Weekly_Data_Raw[END_DATE],'Weekly Metrics'!H$5), IF($B8=\"Avg Ticket\",SUMIFS(Weekly_Data_Raw[AVG_TICKET],Weekly_Data_Raw[TICKER],'Weekly Metrics'!$A8,Weekly_Data_Raw[END_DATE],'Weekly Metrics'!H$5), IF($B8=\"EOP Subscribers\",SUMIFS(Weekly_Data_Raw[EOP_SUBSCRIBERS],Weekly_Data_Raw[TICKER],'Weekly Metrics'!$A8,Weekly_Data_Raw[END_DATE],'Weekly Metrics'!H$5), IF($B8=\"Gross Adds\",SUMIFS(Weekly_Data_Raw[GROSS_ADDS],Weekly_Data_Raw[TICKER],'Weekly Metrics'!$A8,Weekly_Data_Raw[END_DATE],'Weekly Metrics'!H$5), IF($B8=\"Churn\",SUMIFS(Weekly_Data_Raw[CHURNED_MEMBERS],Weekly_Data_Raw[TICKER],'Weekly Metrics'!$A8,Weekly_Data_Raw[END_DATE],'Weekly Metrics'!H$5)))))))","v":2163},{"$f":"IF($B8=\"Panel Sales\", SUMIFS(Weekly_Data_Raw[PANEL_AMOUNT],Weekly_Data_Raw[TICKER],'Weekly Metrics'!$A8,Weekly_Data_Raw[END_DATE],'Weekly Metrics'!I$5),IF($B8=\"Transactions\",SUMIFS(Weekly_Data_Raw[PANEL_TRANSACTIONS],Weekly_Data_Raw[TICKER],'Weekly Metrics'!$A8,Weekly_Data_Raw[END_DATE],'Weekly Metrics'!I$5), IF($B8=\"Avg Ticket\",SUMIFS(Weekly_Data_Raw[AVG_TICKET],Weekly_Data_Raw[TICKER],'Weekly Metrics'!$A8,Weekly_Data_Raw[END_DATE],'Weekly Metrics'!I$5), IF($B8=\"EOP Subscribers\",SUMIFS(Weekly_Data_Raw[EOP_SUBSCRIBERS],Weekly_Data_Raw[TICKER],'Weekly Metrics'!$A8,Weekly_Data_Raw[END_DATE],'Weekly Metrics'!I$5), IF($B8=\"Gross Adds\",SUMIFS(Weekly_Data_Raw[GROSS_ADDS],Weekly_Data_Raw[TICKER],'Weekly Metrics'!$A8,Weekly_Data_Raw[END_DATE],'Weekly Metrics'!I$5), IF($B8=\"Churn\",SUMIFS(Weekly_Data_Raw[CHURNED_MEMBERS],Weekly_Data_Raw[TICKER],'Weekly Metrics'!$A8,Weekly_Data_Raw[END_DATE],'Weekly Metrics'!I$5)))))))","v":1821},{"$f":"IF($B8=\"Panel Sales\", SUMIFS(Weekly_Data_Raw[PANEL_AMOUNT],Weekly_Data_Raw[TICKER],'Weekly Metrics'!$A8,Weekly_Data_Raw[END_DATE],'Weekly Metrics'!J$5),IF($B8=\"Transactions\",SUMIFS(Weekly_Data_Raw[PANEL_TRANSACTIONS],Weekly_Data_Raw[TICKER],'Weekly Metrics'!$A8,Weekly_Data_Raw[END_DATE],'Weekly Metrics'!J$5), IF($B8=\"Avg Ticket\",SUMIFS(Weekly_Data_Raw[AVG_TICKET],Weekly_Data_Raw[TICKER],'Weekly Metrics'!$A8,Weekly_Data_Raw[END_DATE],'Weekly Metrics'!J$5), IF($B8=\"EOP Subscribers\",SUMIFS(Weekly_Data_Raw[EOP_SUBSCRIBERS],Weekly_Data_Raw[TICKER],'Weekly Metrics'!$A8,Weekly_Data_Raw[END_DATE],'Weekly Metrics'!J$5), IF($B8=\"Gross Adds\",SUMIFS(Weekly_Data_Raw[GROSS_ADDS],Weekly_Data_Raw[TICKER],'Weekly Metrics'!$A8,Weekly_Data_Raw[END_DATE],'Weekly Metrics'!J$5), IF($B8=\"Churn\",SUMIFS(Weekly_Data_Raw[CHURNED_MEMBERS],Weekly_Data_Raw[TICKER],'Weekly Metrics'!$A8,Weekly_Data_Raw[END_DATE],'Weekly Metrics'!J$5)))))))","v":1941},{"$f":"IF($B8=\"Panel Sales\", SUMIFS(Weekly_Data_Raw[PANEL_AMOUNT],Weekly_Data_Raw[TICKER],'Weekly Metrics'!$A8,Weekly_Data_Raw[END_DATE],'Weekly Metrics'!K$5),IF($B8=\"Transactions\",SUMIFS(Weekly_Data_Raw[PANEL_TRANSACTIONS],Weekly_Data_Raw[TICKER],'Weekly Metrics'!$A8,Weekly_Data_Raw[END_DATE],'Weekly Metrics'!K$5), IF($B8=\"Avg Ticket\",SUMIFS(Weekly_Data_Raw[AVG_TICKET],Weekly_Data_Raw[TICKER],'Weekly Metrics'!$A8,Weekly_Data_Raw[END_DATE],'Weekly Metrics'!K$5), IF($B8=\"EOP Subscribers\",SUMIFS(Weekly_Data_Raw[EOP_SUBSCRIBERS],Weekly_Data_Raw[TICKER],'Weekly Metrics'!$A8,Weekly_Data_Raw[END_DATE],'Weekly Metrics'!K$5), IF($B8=\"Gross Adds\",SUMIFS(Weekly_Data_Raw[GROSS_ADDS],Weekly_Data_Raw[TICKER],'Weekly Metrics'!$A8,Weekly_Data_Raw[END_DATE],'Weekly Metrics'!K$5), IF($B8=\"Churn\",SUMIFS(Weekly_Data_Raw[CHURNED_MEMBERS],Weekly_Data_Raw[TICKER],'Weekly Metrics'!$A8,Weekly_Data_Raw[END_DATE],'Weekly Metrics'!K$5)))))))","v":2047},{"$f":"IF($B8=\"Panel Sales\", SUMIFS(Weekly_Data_Raw[PANEL_AMOUNT],Weekly_Data_Raw[TICKER],'Weekly Metrics'!$A8,Weekly_Data_Raw[END_DATE],'Weekly Metrics'!L$5),IF($B8=\"Transactions\",SUMIFS(Weekly_Data_Raw[PANEL_TRANSACTIONS],Weekly_Data_Raw[TICKER],'Weekly Metrics'!$A8,Weekly_Data_Raw[END_DATE],'Weekly Metrics'!L$5), IF($B8=\"Avg Ticket\",SUMIFS(Weekly_Data_Raw[AVG_TICKET],Weekly_Data_Raw[TICKER],'Weekly Metrics'!$A8,Weekly_Data_Raw[END_DATE],'Weekly Metrics'!L$5), IF($B8=\"EOP Subscribers\",SUMIFS(Weekly_Data_Raw[EOP_SUBSCRIBERS],Weekly_Data_Raw[TICKER],'Weekly Metrics'!$A8,Weekly_Data_Raw[END_DATE],'Weekly Metrics'!L$5), IF($B8=\"Gross Adds\",SUMIFS(Weekly_Data_Raw[GROSS_ADDS],Weekly_Data_Raw[TICKER],'Weekly Metrics'!$A8,Weekly_Data_Raw[END_DATE],'Weekly Metrics'!L$5), IF($B8=\"Churn\",SUMIFS(Weekly_Data_Raw[CHURNED_MEMBERS],Weekly_Data_Raw[TICKER],'Weekly Metrics'!$A8,Weekly_Data_Raw[END_DATE],'Weekly Metrics'!L$5)))))))","v":1188},{"$f":"IF($B8=\"Panel Sales\", SUMIFS(Weekly_Data_Raw[PANEL_AMOUNT],Weekly_Data_Raw[TICKER],'Weekly Metrics'!$A8,Weekly_Data_Raw[END_DATE],'Weekly Metrics'!M$5),IF($B8=\"Transactions\",SUMIFS(Weekly_Data_Raw[PANEL_TRANSACTIONS],Weekly_Data_Raw[TICKER],'Weekly Metrics'!$A8,Weekly_Data_Raw[END_DATE],'Weekly Metrics'!M$5), IF($B8=\"Avg Ticket\",SUMIFS(Weekly_Data_Raw[AVG_TICKET],Weekly_Data_Raw[TICKER],'Weekly Metrics'!$A8,Weekly_Data_Raw[END_DATE],'Weekly Metrics'!M$5), IF($B8=\"EOP Subscribers\",SUMIFS(Weekly_Data_Raw[EOP_SUBSCRIBERS],Weekly_Data_Raw[TICKER],'Weekly Metrics'!$A8,Weekly_Data_Raw[END_DATE],'Weekly Metrics'!M$5), IF($B8=\"Gross Adds\",SUMIFS(Weekly_Data_Raw[GROSS_ADDS],Weekly_Data_Raw[TICKER],'Weekly Metrics'!$A8,Weekly_Data_Raw[END_DATE],'Weekly Metrics'!M$5), IF($B8=\"Churn\",SUMIFS(Weekly_Data_Raw[CHURNED_MEMBERS],Weekly_Data_Raw[TICKER],'Weekly Metrics'!$A8,Weekly_Data_Raw[END_DATE],'Weekly Metrics'!M$5)))))))","v":1007},{"$f":"IF($B8=\"Panel Sales\", SUMIFS(Weekly_Data_Raw[PANEL_AMOUNT],Weekly_Data_Raw[TICKER],'Weekly Metrics'!$A8,Weekly_Data_Raw[END_DATE],'Weekly Metrics'!N$5),IF($B8=\"Transactions\",SUMIFS(Weekly_Data_Raw[PANEL_TRANSACTIONS],Weekly_Data_Raw[TICKER],'Weekly Metrics'!$A8,Weekly_Data_Raw[END_DATE],'Weekly Metrics'!N$5), IF($B8=\"Avg Ticket\",SUMIFS(Weekly_Data_Raw[AVG_TICKET],Weekly_Data_Raw[TICKER],'Weekly Metrics'!$A8,Weekly_Data_Raw[END_DATE],'Weekly Metrics'!N$5), IF($B8=\"EOP Subscribers\",SUMIFS(Weekly_Data_Raw[EOP_SUBSCRIBERS],Weekly_Data_Raw[TICKER],'Weekly Metrics'!$A8,Weekly_Data_Raw[END_DATE],'Weekly Metrics'!N$5), IF($B8=\"Gross Adds\",SUMIFS(Weekly_Data_Raw[GROSS_ADDS],Weekly_Data_Raw[TICKER],'Weekly Metrics'!$A8,Weekly_Data_Raw[END_DATE],'Weekly Metrics'!N$5), IF($B8=\"Churn\",SUMIFS(Weekly_Data_Raw[CHURNED_MEMBERS],Weekly_Data_Raw[TICKER],'Weekly Metrics'!$A8,Weekly_Data_Raw[END_DATE],'Weekly Metrics'!N$5)))))))","v":934},{"$f":"IF($B8=\"Panel Sales\", SUMIFS(Weekly_Data_Raw[PANEL_AMOUNT],Weekly_Data_Raw[TICKER],'Weekly Metrics'!$A8,Weekly_Data_Raw[END_DATE],'Weekly Metrics'!O$5),IF($B8=\"Transactions\",SUMIFS(Weekly_Data_Raw[PANEL_TRANSACTIONS],Weekly_Data_Raw[TICKER],'Weekly Metrics'!$A8,Weekly_Data_Raw[END_DATE],'Weekly Metrics'!O$5), IF($B8=\"Avg Ticket\",SUMIFS(Weekly_Data_Raw[AVG_TICKET],Weekly_Data_Raw[TICKER],'Weekly Metrics'!$A8,Weekly_Data_Raw[END_DATE],'Weekly Metrics'!O$5), IF($B8=\"EOP Subscribers\",SUMIFS(Weekly_Data_Raw[EOP_SUBSCRIBERS],Weekly_Data_Raw[TICKER],'Weekly Metrics'!$A8,Weekly_Data_Raw[END_DATE],'Weekly Metrics'!O$5), IF($B8=\"Gross Adds\",SUMIFS(Weekly_Data_Raw[GROSS_ADDS],Weekly_Data_Raw[TICKER],'Weekly Metrics'!$A8,Weekly_Data_Raw[END_DATE],'Weekly Metrics'!O$5), IF($B8=\"Churn\",SUMIFS(Weekly_Data_Raw[CHURNED_MEMBERS],Weekly_Data_Raw[TICKER],'Weekly Metrics'!$A8,Weekly_Data_Raw[END_DATE],'Weekly Metrics'!O$5)))))))","v":870},{"$f":"IF($B8=\"Panel Sales\", SUMIFS(Weekly_Data_Raw[PANEL_AMOUNT],Weekly_Data_Raw[TICKER],'Weekly Metrics'!$A8,Weekly_Data_Raw[END_DATE],'Weekly Metrics'!P$5),IF($B8=\"Transactions\",SUMIFS(Weekly_Data_Raw[PANEL_TRANSACTIONS],Weekly_Data_Raw[TICKER],'Weekly Metrics'!$A8,Weekly_Data_Raw[END_DATE],'Weekly Metrics'!P$5), IF($B8=\"Avg Ticket\",SUMIFS(Weekly_Data_Raw[AVG_TICKET],Weekly_Data_Raw[TICKER],'Weekly Metrics'!$A8,Weekly_Data_Raw[END_DATE],'Weekly Metrics'!P$5), IF($B8=\"EOP Subscribers\",SUMIFS(Weekly_Data_Raw[EOP_SUBSCRIBERS],Weekly_Data_Raw[TICKER],'Weekly Metrics'!$A8,Weekly_Data_Raw[END_DATE],'Weekly Metrics'!P$5), IF($B8=\"Gross Adds\",SUMIFS(Weekly_Data_Raw[GROSS_ADDS],Weekly_Data_Raw[TICKER],'Weekly Metrics'!$A8,Weekly_Data_Raw[END_DATE],'Weekly Metrics'!P$5), IF($B8=\"Churn\",SUMIFS(Weekly_Data_Raw[CHURNED_MEMBERS],Weekly_Data_Raw[TICKER],'Weekly Metrics'!$A8,Weekly_Data_Raw[END_DATE],'Weekly Metrics'!P$5)))))))","v":913},{"$f":"IF($B8=\"Panel Sales\", SUMIFS(Weekly_Data_Raw[PANEL_AMOUNT],Weekly_Data_Raw[TICKER],'Weekly Metrics'!$A8,Weekly_Data_Raw[END_DATE],'Weekly Metrics'!Q$5),IF($B8=\"Transactions\",SUMIFS(Weekly_Data_Raw[PANEL_TRANSACTIONS],Weekly_Data_Raw[TICKER],'Weekly Metrics'!$A8,Weekly_Data_Raw[END_DATE],'Weekly Metrics'!Q$5), IF($B8=\"Avg Ticket\",SUMIFS(Weekly_Data_Raw[AVG_TICKET],Weekly_Data_Raw[TICKER],'Weekly Metrics'!$A8,Weekly_Data_Raw[END_DATE],'Weekly Metrics'!Q$5), IF($B8=\"EOP Subscribers\",SUMIFS(Weekly_Data_Raw[EOP_SUBSCRIBERS],Weekly_Data_Raw[TICKER],'Weekly Metrics'!$A8,Weekly_Data_Raw[END_DATE],'Weekly Metrics'!Q$5), IF($B8=\"Gross Adds\",SUMIFS(Weekly_Data_Raw[GROSS_ADDS],Weekly_Data_Raw[TICKER],'Weekly Metrics'!$A8,Weekly_Data_Raw[END_DATE],'Weekly Metrics'!Q$5), IF($B8=\"Churn\",SUMIFS(Weekly_Data_Raw[CHURNED_MEMBERS],Weekly_Data_Raw[TICKER],'Weekly Metrics'!$A8,Weekly_Data_Raw[END_DATE],'Weekly Metrics'!Q$5)))))))","v":848},{"$f":"IF($B8=\"Panel Sales\", SUMIFS(Weekly_Data_Raw[PANEL_AMOUNT],Weekly_Data_Raw[TICKER],'Weekly Metrics'!$A8,Weekly_Data_Raw[END_DATE],'Weekly Metrics'!R$5),IF($B8=\"Transactions\",SUMIFS(Weekly_Data_Raw[PANEL_TRANSACTIONS],Weekly_Data_Raw[TICKER],'Weekly Metrics'!$A8,Weekly_Data_Raw[END_DATE],'Weekly Metrics'!R$5), IF($B8=\"Avg Ticket\",SUMIFS(Weekly_Data_Raw[AVG_TICKET],Weekly_Data_Raw[TICKER],'Weekly Metrics'!$A8,Weekly_Data_Raw[END_DATE],'Weekly Metrics'!R$5), IF($B8=\"EOP Subscribers\",SUMIFS(Weekly_Data_Raw[EOP_SUBSCRIBERS],Weekly_Data_Raw[TICKER],'Weekly Metrics'!$A8,Weekly_Data_Raw[END_DATE],'Weekly Metrics'!R$5), IF($B8=\"Gross Adds\",SUMIFS(Weekly_Data_Raw[GROSS_ADDS],Weekly_Data_Raw[TICKER],'Weekly Metrics'!$A8,Weekly_Data_Raw[END_DATE],'Weekly Metrics'!R$5), IF($B8=\"Churn\",SUMIFS(Weekly_Data_Raw[CHURNED_MEMBERS],Weekly_Data_Raw[TICKER],'Weekly Metrics'!$A8,Weekly_Data_Raw[END_DATE],'Weekly Metrics'!R$5)))))))","v":864},{"$f":"IF($B8=\"Panel Sales\", SUMIFS(Weekly_Data_Raw[PANEL_AMOUNT],Weekly_Data_Raw[TICKER],'Weekly Metrics'!$A8,Weekly_Data_Raw[END_DATE],'Weekly Metrics'!S$5),IF($B8=\"Transactions\",SUMIFS(Weekly_Data_Raw[PANEL_TRANSACTIONS],Weekly_Data_Raw[TICKER],'Weekly Metrics'!$A8,Weekly_Data_Raw[END_DATE],'Weekly Metrics'!S$5), IF($B8=\"Avg Ticket\",SUMIFS(Weekly_Data_Raw[AVG_TICKET],Weekly_Data_Raw[TICKER],'Weekly Metrics'!$A8,Weekly_Data_Raw[END_DATE],'Weekly Metrics'!S$5), IF($B8=\"EOP Subscribers\",SUMIFS(Weekly_Data_Raw[EOP_SUBSCRIBERS],Weekly_Data_Raw[TICKER],'Weekly Metrics'!$A8,Weekly_Data_Raw[END_DATE],'Weekly Metrics'!S$5), IF($B8=\"Gross Adds\",SUMIFS(Weekly_Data_Raw[GROSS_ADDS],Weekly_Data_Raw[TICKER],'Weekly Metrics'!$A8,Weekly_Data_Raw[END_DATE],'Weekly Metrics'!S$5), IF($B8=\"Churn\",SUMIFS(Weekly_Data_Raw[CHURNED_MEMBERS],Weekly_Data_Raw[TICKER],'Weekly Metrics'!$A8,Weekly_Data_Raw[END_DATE],'Weekly Metrics'!S$5)))))))","v":837},{"$f":"IF($B8=\"Panel Sales\", SUMIFS(Weekly_Data_Raw[PANEL_AMOUNT],Weekly_Data_Raw[TICKER],'Weekly Metrics'!$A8,Weekly_Data_Raw[END_DATE],'Weekly Metrics'!T$5),IF($B8=\"Transactions\",SUMIFS(Weekly_Data_Raw[PANEL_TRANSACTIONS],Weekly_Data_Raw[TICKER],'Weekly Metrics'!$A8,Weekly_Data_Raw[END_DATE],'Weekly Metrics'!T$5), IF($B8=\"Avg Ticket\",SUMIFS(Weekly_Data_Raw[AVG_TICKET],Weekly_Data_Raw[TICKER],'Weekly Metrics'!$A8,Weekly_Data_Raw[END_DATE],'Weekly Metrics'!T$5), IF($B8=\"EOP Subscribers\",SUMIFS(Weekly_Data_Raw[EOP_SUBSCRIBERS],Weekly_Data_Raw[TICKER],'Weekly Metrics'!$A8,Weekly_Data_Raw[END_DATE],'Weekly Metrics'!T$5), IF($B8=\"Gross Adds\",SUMIFS(Weekly_Data_Raw[GROSS_ADDS],Weekly_Data_Raw[TICKER],'Weekly Metrics'!$A8,Weekly_Data_Raw[END_DATE],'Weekly Metrics'!T$5), IF($B8=\"Churn\",SUMIFS(Weekly_Data_Raw[CHURNED_MEMBERS],Weekly_Data_Raw[TICKER],'Weekly Metrics'!$A8,Weekly_Data_Raw[END_DATE],'Weekly Metrics'!T$5)))))))","v":904},{"$f":"IF($B8=\"Panel Sales\", SUMIFS(Weekly_Data_Raw[PANEL_AMOUNT],Weekly_Data_Raw[TICKER],'Weekly Metrics'!$A8,Weekly_Data_Raw[END_DATE],'Weekly Metrics'!U$5),IF($B8=\"Transactions\",SUMIFS(Weekly_Data_Raw[PANEL_TRANSACTIONS],Weekly_Data_Raw[TICKER],'Weekly Metrics'!$A8,Weekly_Data_Raw[END_DATE],'Weekly Metrics'!U$5), IF($B8=\"Avg Ticket\",SUMIFS(Weekly_Data_Raw[AVG_TICKET],Weekly_Data_Raw[TICKER],'Weekly Metrics'!$A8,Weekly_Data_Raw[END_DATE],'Weekly Metrics'!U$5), IF($B8=\"EOP Subscribers\",SUMIFS(Weekly_Data_Raw[EOP_SUBSCRIBERS],Weekly_Data_Raw[TICKER],'Weekly Metrics'!$A8,Weekly_Data_Raw[END_DATE],'Weekly Metrics'!U$5), IF($B8=\"Gross Adds\",SUMIFS(Weekly_Data_Raw[GROSS_ADDS],Weekly_Data_Raw[TICKER],'Weekly Metrics'!$A8,Weekly_Data_Raw[END_DATE],'Weekly Metrics'!U$5), IF($B8=\"Churn\",SUMIFS(Weekly_Data_Raw[CHURNED_MEMBERS],Weekly_Data_Raw[TICKER],'Weekly Metrics'!$A8,Weekly_Data_Raw[END_DATE],'Weekly Metrics'!U$5)))))))","v":843},{"$f":"IF($B8=\"Panel Sales\", SUMIFS(Weekly_Data_Raw[PANEL_AMOUNT],Weekly_Data_Raw[TICKER],'Weekly Metrics'!$A8,Weekly_Data_Raw[END_DATE],'Weekly Metrics'!V$5),IF($B8=\"Transactions\",SUMIFS(Weekly_Data_Raw[PANEL_TRANSACTIONS],Weekly_Data_Raw[TICKER],'Weekly Metrics'!$A8,Weekly_Data_Raw[END_DATE],'Weekly Metrics'!V$5), IF($B8=\"Avg Ticket\",SUMIFS(Weekly_Data_Raw[AVG_TICKET],Weekly_Data_Raw[TICKER],'Weekly Metrics'!$A8,Weekly_Data_Raw[END_DATE],'Weekly Metrics'!V$5), IF($B8=\"EOP Subscribers\",SUMIFS(Weekly_Data_Raw[EOP_SUBSCRIBERS],Weekly_Data_Raw[TICKER],'Weekly Metrics'!$A8,Weekly_Data_Raw[END_DATE],'Weekly Metrics'!V$5), IF($B8=\"Gross Adds\",SUMIFS(Weekly_Data_Raw[GROSS_ADDS],Weekly_Data_Raw[TICKER],'Weekly Metrics'!$A8,Weekly_Data_Raw[END_DATE],'Weekly Metrics'!V$5), IF($B8=\"Churn\",SUMIFS(Weekly_Data_Raw[CHURNED_MEMBERS],Weekly_Data_Raw[TICKER],'Weekly Metrics'!$A8,Weekly_Data_Raw[END_DATE],'Weekly Metrics'!V$5)))))))","v":808},{"$f":"IF($B8=\"Panel Sales\", SUMIFS(Weekly_Data_Raw[PANEL_AMOUNT],Weekly_Data_Raw[TICKER],'Weekly Metrics'!$A8,Weekly_Data_Raw[END_DATE],'Weekly Metrics'!W$5),IF($B8=\"Transactions\",SUMIFS(Weekly_Data_Raw[PANEL_TRANSACTIONS],Weekly_Data_Raw[TICKER],'Weekly Metrics'!$A8,Weekly_Data_Raw[END_DATE],'Weekly Metrics'!W$5), IF($B8=\"Avg Ticket\",SUMIFS(Weekly_Data_Raw[AVG_TICKET],Weekly_Data_Raw[TICKER],'Weekly Metrics'!$A8,Weekly_Data_Raw[END_DATE],'Weekly Metrics'!W$5), IF($B8=\"EOP Subscribers\",SUMIFS(Weekly_Data_Raw[EOP_SUBSCRIBERS],Weekly_Data_Raw[TICKER],'Weekly Metrics'!$A8,Weekly_Data_Raw[END_DATE],'Weekly Metrics'!W$5), IF($B8=\"Gross Adds\",SUMIFS(Weekly_Data_Raw[GROSS_ADDS],Weekly_Data_Raw[TICKER],'Weekly Metrics'!$A8,Weekly_Data_Raw[END_DATE],'Weekly Metrics'!W$5), IF($B8=\"Churn\",SUMIFS(Weekly_Data_Raw[CHURNED_MEMBERS],Weekly_Data_Raw[TICKER],'Weekly Metrics'!$A8,Weekly_Data_Raw[END_DATE],'Weekly Metrics'!W$5)))))))","v":820},{"$f":"IF($B8=\"Panel Sales\", SUMIFS(Weekly_Data_Raw[PANEL_AMOUNT],Weekly_Data_Raw[TICKER],'Weekly Metrics'!$A8,Weekly_Data_Raw[END_DATE],'Weekly Metrics'!X$5),IF($B8=\"Transactions\",SUMIFS(Weekly_Data_Raw[PANEL_TRANSACTIONS],Weekly_Data_Raw[TICKER],'Weekly Metrics'!$A8,Weekly_Data_Raw[END_DATE],'Weekly Metrics'!X$5), IF($B8=\"Avg Ticket\",SUMIFS(Weekly_Data_Raw[AVG_TICKET],Weekly_Data_Raw[TICKER],'Weekly Metrics'!$A8,Weekly_Data_Raw[END_DATE],'Weekly Metrics'!X$5), IF($B8=\"EOP Subscribers\",SUMIFS(Weekly_Data_Raw[EOP_SUBSCRIBERS],Weekly_Data_Raw[TICKER],'Weekly Metrics'!$A8,Weekly_Data_Raw[END_DATE],'Weekly Metrics'!X$5), IF($B8=\"Gross Adds\",SUMIFS(Weekly_Data_Raw[GROSS_ADDS],Weekly_Data_Raw[TICKER],'Weekly Metrics'!$A8,Weekly_Data_Raw[END_DATE],'Weekly Metrics'!X$5), IF($B8=\"Churn\",SUMIFS(Weekly_Data_Raw[CHURNED_MEMBERS],Weekly_Data_Raw[TICKER],'Weekly Metrics'!$A8,Weekly_Data_Raw[END_DATE],'Weekly Metrics'!X$5)))))))","v":771},{"$f":"IF($B8=\"Panel Sales\", SUMIFS(Weekly_Data_Raw[PANEL_AMOUNT],Weekly_Data_Raw[TICKER],'Weekly Metrics'!$A8,Weekly_Data_Raw[END_DATE],'Weekly Metrics'!Y$5),IF($B8=\"Transactions\",SUMIFS(Weekly_Data_Raw[PANEL_TRANSACTIONS],Weekly_Data_Raw[TICKER],'Weekly Metrics'!$A8,Weekly_Data_Raw[END_DATE],'Weekly Metrics'!Y$5), IF($B8=\"Avg Ticket\",SUMIFS(Weekly_Data_Raw[AVG_TICKET],Weekly_Data_Raw[TICKER],'Weekly Metrics'!$A8,Weekly_Data_Raw[END_DATE],'Weekly Metrics'!Y$5), IF($B8=\"EOP Subscribers\",SUMIFS(Weekly_Data_Raw[EOP_SUBSCRIBERS],Weekly_Data_Raw[TICKER],'Weekly Metrics'!$A8,Weekly_Data_Raw[END_DATE],'Weekly Metrics'!Y$5), IF($B8=\"Gross Adds\",SUMIFS(Weekly_Data_Raw[GROSS_ADDS],Weekly_Data_Raw[TICKER],'Weekly Metrics'!$A8,Weekly_Data_Raw[END_DATE],'Weekly Metrics'!Y$5), IF($B8=\"Churn\",SUMIFS(Weekly_Data_Raw[CHURNED_MEMBERS],Weekly_Data_Raw[TICKER],'Weekly Metrics'!$A8,Weekly_Data_Raw[END_DATE],'Weekly Metrics'!Y$5)))))))","v":822},{"$f":"IF($B8=\"Panel Sales\", SUMIFS(Weekly_Data_Raw[PANEL_AMOUNT],Weekly_Data_Raw[TICKER],'Weekly Metrics'!$A8,Weekly_Data_Raw[END_DATE],'Weekly Metrics'!Z$5),IF($B8=\"Transactions\",SUMIFS(Weekly_Data_Raw[PANEL_TRANSACTIONS],Weekly_Data_Raw[TICKER],'Weekly Metrics'!$A8,Weekly_Data_Raw[END_DATE],'Weekly Metrics'!Z$5), IF($B8=\"Avg Ticket\",SUMIFS(Weekly_Data_Raw[AVG_TICKET],Weekly_Data_Raw[TICKER],'Weekly Metrics'!$A8,Weekly_Data_Raw[END_DATE],'Weekly Metrics'!Z$5), IF($B8=\"EOP Subscribers\",SUMIFS(Weekly_Data_Raw[EOP_SUBSCRIBERS],Weekly_Data_Raw[TICKER],'Weekly Metrics'!$A8,Weekly_Data_Raw[END_DATE],'Weekly Metrics'!Z$5), IF($B8=\"Gross Adds\",SUMIFS(Weekly_Data_Raw[GROSS_ADDS],Weekly_Data_Raw[TICKER],'Weekly Metrics'!$A8,Weekly_Data_Raw[END_DATE],'Weekly Metrics'!Z$5), IF($B8=\"Churn\",SUMIFS(Weekly_Data_Raw[CHURNED_MEMBERS],Weekly_Data_Raw[TICKER],'Weekly Metrics'!$A8,Weekly_Data_Raw[END_DATE],'Weekly Metrics'!Z$5)))))))","v":786},{"$f":"IF($B8=\"Panel Sales\", SUMIFS(Weekly_Data_Raw[PANEL_AMOUNT],Weekly_Data_Raw[TICKER],'Weekly Metrics'!$A8,Weekly_Data_Raw[END_DATE],'Weekly Metrics'!AA$5),IF($B8=\"Transactions\",SUMIFS(Weekly_Data_Raw[PANEL_TRANSACTIONS],Weekly_Data_Raw[TICKER],'Weekly Metrics'!$A8,Weekly_Data_Raw[END_DATE],'Weekly Metrics'!AA$5), IF($B8=\"Avg Ticket\",SUMIFS(Weekly_Data_Raw[AVG_TICKET],Weekly_Data_Raw[TICKER],'Weekly Metrics'!$A8,Weekly_Data_Raw[END_DATE],'Weekly Metrics'!AA$5), IF($B8=\"EOP Subscribers\",SUMIFS(Weekly_Data_Raw[EOP_SUBSCRIBERS],Weekly_Data_Raw[TICKER],'Weekly Metrics'!$A8,Weekly_Data_Raw[END_DATE],'Weekly Metrics'!AA$5), IF($B8=\"Gross Adds\",SUMIFS(Weekly_Data_Raw[GROSS_ADDS],Weekly_Data_Raw[TICKER],'Weekly Metrics'!$A8,Weekly_Data_Raw[END_DATE],'Weekly Metrics'!AA$5), IF($B8=\"Churn\",SUMIFS(Weekly_Data_Raw[CHURNED_MEMBERS],Weekly_Data_Raw[TICKER],'Weekly Metrics'!$A8,Weekly_Data_Raw[END_DATE],'Weekly Metrics'!AA$5)))))))","v":829},{"$f":"IF($B8=\"Panel Sales\", SUMIFS(Weekly_Data_Raw[PANEL_AMOUNT],Weekly_Data_Raw[TICKER],'Weekly Metrics'!$A8,Weekly_Data_Raw[END_DATE],'Weekly Metrics'!AB$5),IF($B8=\"Transactions\",SUMIFS(Weekly_Data_Raw[PANEL_TRANSACTIONS],Weekly_Data_Raw[TICKER],'Weekly Metrics'!$A8,Weekly_Data_Raw[END_DATE],'Weekly Metrics'!AB$5), IF($B8=\"Avg Ticket\",SUMIFS(Weekly_Data_Raw[AVG_TICKET],Weekly_Data_Raw[TICKER],'Weekly Metrics'!$A8,Weekly_Data_Raw[END_DATE],'Weekly Metrics'!AB$5), IF($B8=\"EOP Subscribers\",SUMIFS(Weekly_Data_Raw[EOP_SUBSCRIBERS],Weekly_Data_Raw[TICKER],'Weekly Metrics'!$A8,Weekly_Data_Raw[END_DATE],'Weekly Metrics'!AB$5), IF($B8=\"Gross Adds\",SUMIFS(Weekly_Data_Raw[GROSS_ADDS],Weekly_Data_Raw[TICKER],'Weekly Metrics'!$A8,Weekly_Data_Raw[END_DATE],'Weekly Metrics'!AB$5), IF($B8=\"Churn\",SUMIFS(Weekly_Data_Raw[CHURNED_MEMBERS],Weekly_Data_Raw[TICKER],'Weekly Metrics'!$A8,Weekly_Data_Raw[END_DATE],'Weekly Metrics'!AB$5)))))))","v":827},{"$f":"IF($B8=\"Panel Sales\", SUMIFS(Weekly_Data_Raw[PANEL_AMOUNT],Weekly_Data_Raw[TICKER],'Weekly Metrics'!$A8,Weekly_Data_Raw[END_DATE],'Weekly Metrics'!AC$5),IF($B8=\"Transactions\",SUMIFS(Weekly_Data_Raw[PANEL_TRANSACTIONS],Weekly_Data_Raw[TICKER],'Weekly Metrics'!$A8,Weekly_Data_Raw[END_DATE],'Weekly Metrics'!AC$5), IF($B8=\"Avg Ticket\",SUMIFS(Weekly_Data_Raw[AVG_TICKET],Weekly_Data_Raw[TICKER],'Weekly Metrics'!$A8,Weekly_Data_Raw[END_DATE],'Weekly Metrics'!AC$5), IF($B8=\"EOP Subscribers\",SUMIFS(Weekly_Data_Raw[EOP_SUBSCRIBERS],Weekly_Data_Raw[TICKER],'Weekly Metrics'!$A8,Weekly_Data_Raw[END_DATE],'Weekly Metrics'!AC$5), IF($B8=\"Gross Adds\",SUMIFS(Weekly_Data_Raw[GROSS_ADDS],Weekly_Data_Raw[TICKER],'Weekly Metrics'!$A8,Weekly_Data_Raw[END_DATE],'Weekly Metrics'!AC$5), IF($B8=\"Churn\",SUMIFS(Weekly_Data_Raw[CHURNED_MEMBERS],Weekly_Data_Raw[TICKER],'Weekly Metrics'!$A8,Weekly_Data_Raw[END_DATE],'Weekly Metrics'!AC$5)))))))","v":985},{"$f":"IF($B8=\"Panel Sales\", SUMIFS(Weekly_Data_Raw[PANEL_AMOUNT],Weekly_Data_Raw[TICKER],'Weekly Metrics'!$A8,Weekly_Data_Raw[END_DATE],'Weekly Metrics'!AD$5),IF($B8=\"Transactions\",SUMIFS(Weekly_Data_Raw[PANEL_TRANSACTIONS],Weekly_Data_Raw[TICKER],'Weekly Metrics'!$A8,Weekly_Data_Raw[END_DATE],'Weekly Metrics'!AD$5), IF($B8=\"Avg Ticket\",SUMIFS(Weekly_Data_Raw[AVG_TICKET],Weekly_Data_Raw[TICKER],'Weekly Metrics'!$A8,Weekly_Data_Raw[END_DATE],'Weekly Metrics'!AD$5), IF($B8=\"EOP Subscribers\",SUMIFS(Weekly_Data_Raw[EOP_SUBSCRIBERS],Weekly_Data_Raw[TICKER],'Weekly Metrics'!$A8,Weekly_Data_Raw[END_DATE],'Weekly Metrics'!AD$5), IF($B8=\"Gross Adds\",SUMIFS(Weekly_Data_Raw[GROSS_ADDS],Weekly_Data_Raw[TICKER],'Weekly Metrics'!$A8,Weekly_Data_Raw[END_DATE],'Weekly Metrics'!AD$5), IF($B8=\"Churn\",SUMIFS(Weekly_Data_Raw[CHURNED_MEMBERS],Weekly_Data_Raw[TICKER],'Weekly Metrics'!$A8,Weekly_Data_Raw[END_DATE],'Weekly Metrics'!AD$5)))))))","v":906},{"$f":"IF($B8=\"Panel Sales\", SUMIFS(Weekly_Data_Raw[PANEL_AMOUNT],Weekly_Data_Raw[TICKER],'Weekly Metrics'!$A8,Weekly_Data_Raw[END_DATE],'Weekly Metrics'!AE$5),IF($B8=\"Transactions\",SUMIFS(Weekly_Data_Raw[PANEL_TRANSACTIONS],Weekly_Data_Raw[TICKER],'Weekly Metrics'!$A8,Weekly_Data_Raw[END_DATE],'Weekly Metrics'!AE$5), IF($B8=\"Avg Ticket\",SUMIFS(Weekly_Data_Raw[AVG_TICKET],Weekly_Data_Raw[TICKER],'Weekly Metrics'!$A8,Weekly_Data_Raw[END_DATE],'Weekly Metrics'!AE$5), IF($B8=\"EOP Subscribers\",SUMIFS(Weekly_Data_Raw[EOP_SUBSCRIBERS],Weekly_Data_Raw[TICKER],'Weekly Metrics'!$A8,Weekly_Data_Raw[END_DATE],'Weekly Metrics'!AE$5), IF($B8=\"Gross Adds\",SUMIFS(Weekly_Data_Raw[GROSS_ADDS],Weekly_Data_Raw[TICKER],'Weekly Metrics'!$A8,Weekly_Data_Raw[END_DATE],'Weekly Metrics'!AE$5), IF($B8=\"Churn\",SUMIFS(Weekly_Data_Raw[CHURNED_MEMBERS],Weekly_Data_Raw[TICKER],'Weekly Metrics'!$A8,Weekly_Data_Raw[END_DATE],'Weekly Metrics'!AE$5)))))))","v":839},{"$f":"IF($B8=\"Panel Sales\", SUMIFS(Weekly_Data_Raw[PANEL_AMOUNT],Weekly_Data_Raw[TICKER],'Weekly Metrics'!$A8,Weekly_Data_Raw[END_DATE],'Weekly Metrics'!AF$5),IF($B8=\"Transactions\",SUMIFS(Weekly_Data_Raw[PANEL_TRANSACTIONS],Weekly_Data_Raw[TICKER],'Weekly Metrics'!$A8,Weekly_Data_Raw[END_DATE],'Weekly Metrics'!AF$5), IF($B8=\"Avg Ticket\",SUMIFS(Weekly_Data_Raw[AVG_TICKET],Weekly_Data_Raw[TICKER],'Weekly Metrics'!$A8,Weekly_Data_Raw[END_DATE],'Weekly Metrics'!AF$5), IF($B8=\"EOP Subscribers\",SUMIFS(Weekly_Data_Raw[EOP_SUBSCRIBERS],Weekly_Data_Raw[TICKER],'Weekly Metrics'!$A8,Weekly_Data_Raw[END_DATE],'Weekly Metrics'!AF$5), IF($B8=\"Gross Adds\",SUMIFS(Weekly_Data_Raw[GROSS_ADDS],Weekly_Data_Raw[TICKER],'Weekly Metrics'!$A8,Weekly_Data_Raw[END_DATE],'Weekly Metrics'!AF$5), IF($B8=\"Churn\",SUMIFS(Weekly_Data_Raw[CHURNED_MEMBERS],Weekly_Data_Raw[TICKER],'Weekly Metrics'!$A8,Weekly_Data_Raw[END_DATE],'Weekly Metrics'!AF$5)))))))","v":862},{"$f":"IF($B8=\"Panel Sales\", SUMIFS(Weekly_Data_Raw[PANEL_AMOUNT],Weekly_Data_Raw[TICKER],'Weekly Metrics'!$A8,Weekly_Data_Raw[END_DATE],'Weekly Metrics'!AG$5),IF($B8=\"Transactions\",SUMIFS(Weekly_Data_Raw[PANEL_TRANSACTIONS],Weekly_Data_Raw[TICKER],'Weekly Metrics'!$A8,Weekly_Data_Raw[END_DATE],'Weekly Metrics'!AG$5), IF($B8=\"Avg Ticket\",SUMIFS(Weekly_Data_Raw[AVG_TICKET],Weekly_Data_Raw[TICKER],'Weekly Metrics'!$A8,Weekly_Data_Raw[END_DATE],'Weekly Metrics'!AG$5), IF($B8=\"EOP Subscribers\",SUMIFS(Weekly_Data_Raw[EOP_SUBSCRIBERS],Weekly_Data_Raw[TICKER],'Weekly Metrics'!$A8,Weekly_Data_Raw[END_DATE],'Weekly Metrics'!AG$5), IF($B8=\"Gross Adds\",SUMIFS(Weekly_Data_Raw[GROSS_ADDS],Weekly_Data_Raw[TICKER],'Weekly Metrics'!$A8,Weekly_Data_Raw[END_DATE],'Weekly Metrics'!AG$5), IF($B8=\"Churn\",SUMIFS(Weekly_Data_Raw[CHURNED_MEMBERS],Weekly_Data_Raw[TICKER],'Weekly Metrics'!$A8,Weekly_Data_Raw[END_DATE],'Weekly Metrics'!AG$5)))))))","v":840},{"$f":"IF($B8=\"Panel Sales\", SUMIFS(Weekly_Data_Raw[PANEL_AMOUNT],Weekly_Data_Raw[TICKER],'Weekly Metrics'!$A8,Weekly_Data_Raw[END_DATE],'Weekly Metrics'!AH$5),IF($B8=\"Transactions\",SUMIFS(Weekly_Data_Raw[PANEL_TRANSACTIONS],Weekly_Data_Raw[TICKER],'Weekly Metrics'!$A8,Weekly_Data_Raw[END_DATE],'Weekly Metrics'!AH$5), IF($B8=\"Avg Ticket\",SUMIFS(Weekly_Data_Raw[AVG_TICKET],Weekly_Data_Raw[TICKER],'Weekly Metrics'!$A8,Weekly_Data_Raw[END_DATE],'Weekly Metrics'!AH$5), IF($B8=\"EOP Subscribers\",SUMIFS(Weekly_Data_Raw[EOP_SUBSCRIBERS],Weekly_Data_Raw[TICKER],'Weekly Metrics'!$A8,Weekly_Data_Raw[END_DATE],'Weekly Metrics'!AH$5), IF($B8=\"Gross Adds\",SUMIFS(Weekly_Data_Raw[GROSS_ADDS],Weekly_Data_Raw[TICKER],'Weekly Metrics'!$A8,Weekly_Data_Raw[END_DATE],'Weekly Metrics'!AH$5), IF($B8=\"Churn\",SUMIFS(Weekly_Data_Raw[CHURNED_MEMBERS],Weekly_Data_Raw[TICKER],'Weekly Metrics'!$A8,Weekly_Data_Raw[END_DATE],'Weekly Metrics'!AH$5)))))))","v":1011},{"$f":"IF($B8=\"Panel Sales\", SUMIFS(Weekly_Data_Raw[PANEL_AMOUNT],Weekly_Data_Raw[TICKER],'Weekly Metrics'!$A8,Weekly_Data_Raw[END_DATE],'Weekly Metrics'!AI$5),IF($B8=\"Transactions\",SUMIFS(Weekly_Data_Raw[PANEL_TRANSACTIONS],Weekly_Data_Raw[TICKER],'Weekly Metrics'!$A8,Weekly_Data_Raw[END_DATE],'Weekly Metrics'!AI$5), IF($B8=\"Avg Ticket\",SUMIFS(Weekly_Data_Raw[AVG_TICKET],Weekly_Data_Raw[TICKER],'Weekly Metrics'!$A8,Weekly_Data_Raw[END_DATE],'Weekly Metrics'!AI$5), IF($B8=\"EOP Subscribers\",SUMIFS(Weekly_Data_Raw[EOP_SUBSCRIBERS],Weekly_Data_Raw[TICKER],'Weekly Metrics'!$A8,Weekly_Data_Raw[END_DATE],'Weekly Metrics'!AI$5), IF($B8=\"Gross Adds\",SUMIFS(Weekly_Data_Raw[GROSS_ADDS],Weekly_Data_Raw[TICKER],'Weekly Metrics'!$A8,Weekly_Data_Raw[END_DATE],'Weekly Metrics'!AI$5), IF($B8=\"Churn\",SUMIFS(Weekly_Data_Raw[CHURNED_MEMBERS],Weekly_Data_Raw[TICKER],'Weekly Metrics'!$A8,Weekly_Data_Raw[END_DATE],'Weekly Metrics'!AI$5)))))))","v":837},{"$f":"IF($B8=\"Panel Sales\", SUMIFS(Weekly_Data_Raw[PANEL_AMOUNT],Weekly_Data_Raw[TICKER],'Weekly Metrics'!$A8,Weekly_Data_Raw[END_DATE],'Weekly Metrics'!AJ$5),IF($B8=\"Transactions\",SUMIFS(Weekly_Data_Raw[PANEL_TRANSACTIONS],Weekly_Data_Raw[TICKER],'Weekly Metrics'!$A8,Weekly_Data_Raw[END_DATE],'Weekly Metrics'!AJ$5), IF($B8=\"Avg Ticket\",SUMIFS(Weekly_Data_Raw[AVG_TICKET],Weekly_Data_Raw[TICKER],'Weekly Metrics'!$A8,Weekly_Data_Raw[END_DATE],'Weekly Metrics'!AJ$5), IF($B8=\"EOP Subscribers\",SUMIFS(Weekly_Data_Raw[EOP_SUBSCRIBERS],Weekly_Data_Raw[TICKER],'Weekly Metrics'!$A8,Weekly_Data_Raw[END_DATE],'Weekly Metrics'!AJ$5), IF($B8=\"Gross Adds\",SUMIFS(Weekly_Data_Raw[GROSS_ADDS],Weekly_Data_Raw[TICKER],'Weekly Metrics'!$A8,Weekly_Data_Raw[END_DATE],'Weekly Metrics'!AJ$5), IF($B8=\"Churn\",SUMIFS(Weekly_Data_Raw[CHURNED_MEMBERS],Weekly_Data_Raw[TICKER],'Weekly Metrics'!$A8,Weekly_Data_Raw[END_DATE],'Weekly Metrics'!AJ$5)))))))","v":914},{"$f":"IF($B8=\"Panel Sales\", SUMIFS(Weekly_Data_Raw[PANEL_AMOUNT],Weekly_Data_Raw[TICKER],'Weekly Metrics'!$A8,Weekly_Data_Raw[END_DATE],'Weekly Metrics'!AK$5),IF($B8=\"Transactions\",SUMIFS(Weekly_Data_Raw[PANEL_TRANSACTIONS],Weekly_Data_Raw[TICKER],'Weekly Metrics'!$A8,Weekly_Data_Raw[END_DATE],'Weekly Metrics'!AK$5), IF($B8=\"Avg Ticket\",SUMIFS(Weekly_Data_Raw[AVG_TICKET],Weekly_Data_Raw[TICKER],'Weekly Metrics'!$A8,Weekly_Data_Raw[END_DATE],'Weekly Metrics'!AK$5), IF($B8=\"EOP Subscribers\",SUMIFS(Weekly_Data_Raw[EOP_SUBSCRIBERS],Weekly_Data_Raw[TICKER],'Weekly Metrics'!$A8,Weekly_Data_Raw[END_DATE],'Weekly Metrics'!AK$5), IF($B8=\"Gross Adds\",SUMIFS(Weekly_Data_Raw[GROSS_ADDS],Weekly_Data_Raw[TICKER],'Weekly Metrics'!$A8,Weekly_Data_Raw[END_DATE],'Weekly Metrics'!AK$5), IF($B8=\"Churn\",SUMIFS(Weekly_Data_Raw[CHURNED_MEMBERS],Weekly_Data_Raw[TICKER],'Weekly Metrics'!$A8,Weekly_Data_Raw[END_DATE],'Weekly Metrics'!AK$5)))))))","v":974},{"$f":"IF($B8=\"Panel Sales\", SUMIFS(Weekly_Data_Raw[PANEL_AMOUNT],Weekly_Data_Raw[TICKER],'Weekly Metrics'!$A8,Weekly_Data_Raw[END_DATE],'Weekly Metrics'!AL$5),IF($B8=\"Transactions\",SUMIFS(Weekly_Data_Raw[PANEL_TRANSACTIONS],Weekly_Data_Raw[TICKER],'Weekly Metrics'!$A8,Weekly_Data_Raw[END_DATE],'Weekly Metrics'!AL$5), IF($B8=\"Avg Ticket\",SUMIFS(Weekly_Data_Raw[AVG_TICKET],Weekly_Data_Raw[TICKER],'Weekly Metrics'!$A8,Weekly_Data_Raw[END_DATE],'Weekly Metrics'!AL$5), IF($B8=\"EOP Subscribers\",SUMIFS(Weekly_Data_Raw[EOP_SUBSCRIBERS],Weekly_Data_Raw[TICKER],'Weekly Metrics'!$A8,Weekly_Data_Raw[END_DATE],'Weekly Metrics'!AL$5), IF($B8=\"Gross Adds\",SUMIFS(Weekly_Data_Raw[GROSS_ADDS],Weekly_Data_Raw[TICKER],'Weekly Metrics'!$A8,Weekly_Data_Raw[END_DATE],'Weekly Metrics'!AL$5), IF($B8=\"Churn\",SUMIFS(Weekly_Data_Raw[CHURNED_MEMBERS],Weekly_Data_Raw[TICKER],'Weekly Metrics'!$A8,Weekly_Data_Raw[END_DATE],'Weekly Metrics'!AL$5)))))))","v":802},{"$f":"IF($B8=\"Panel Sales\", SUMIFS(Weekly_Data_Raw[PANEL_AMOUNT],Weekly_Data_Raw[TICKER],'Weekly Metrics'!$A8,Weekly_Data_Raw[END_DATE],'Weekly Metrics'!AM$5),IF($B8=\"Transactions\",SUMIFS(Weekly_Data_Raw[PANEL_TRANSACTIONS],Weekly_Data_Raw[TICKER],'Weekly Metrics'!$A8,Weekly_Data_Raw[END_DATE],'Weekly Metrics'!AM$5), IF($B8=\"Avg Ticket\",SUMIFS(Weekly_Data_Raw[AVG_TICKET],Weekly_Data_Raw[TICKER],'Weekly Metrics'!$A8,Weekly_Data_Raw[END_DATE],'Weekly Metrics'!AM$5), IF($B8=\"EOP Subscribers\",SUMIFS(Weekly_Data_Raw[EOP_SUBSCRIBERS],Weekly_Data_Raw[TICKER],'Weekly Metrics'!$A8,Weekly_Data_Raw[END_DATE],'Weekly Metrics'!AM$5), IF($B8=\"Gross Adds\",SUMIFS(Weekly_Data_Raw[GROSS_ADDS],Weekly_Data_Raw[TICKER],'Weekly Metrics'!$A8,Weekly_Data_Raw[END_DATE],'Weekly Metrics'!AM$5), IF($B8=\"Churn\",SUMIFS(Weekly_Data_Raw[CHURNED_MEMBERS],Weekly_Data_Raw[TICKER],'Weekly Metrics'!$A8,Weekly_Data_Raw[END_DATE],'Weekly Metrics'!AM$5)))))))","v":750},{"$f":"IF($B8=\"Panel Sales\", SUMIFS(Weekly_Data_Raw[PANEL_AMOUNT],Weekly_Data_Raw[TICKER],'Weekly Metrics'!$A8,Weekly_Data_Raw[END_DATE],'Weekly Metrics'!AN$5),IF($B8=\"Transactions\",SUMIFS(Weekly_Data_Raw[PANEL_TRANSACTIONS],Weekly_Data_Raw[TICKER],'Weekly Metrics'!$A8,Weekly_Data_Raw[END_DATE],'Weekly Metrics'!AN$5), IF($B8=\"Avg Ticket\",SUMIFS(Weekly_Data_Raw[AVG_TICKET],Weekly_Data_Raw[TICKER],'Weekly Metrics'!$A8,Weekly_Data_Raw[END_DATE],'Weekly Metrics'!AN$5), IF($B8=\"EOP Subscribers\",SUMIFS(Weekly_Data_Raw[EOP_SUBSCRIBERS],Weekly_Data_Raw[TICKER],'Weekly Metrics'!$A8,Weekly_Data_Raw[END_DATE],'Weekly Metrics'!AN$5), IF($B8=\"Gross Adds\",SUMIFS(Weekly_Data_Raw[GROSS_ADDS],Weekly_Data_Raw[TICKER],'Weekly Metrics'!$A8,Weekly_Data_Raw[END_DATE],'Weekly Metrics'!AN$5), IF($B8=\"Churn\",SUMIFS(Weekly_Data_Raw[CHURNED_MEMBERS],Weekly_Data_Raw[TICKER],'Weekly Metrics'!$A8,Weekly_Data_Raw[END_DATE],'Weekly Metrics'!AN$5)))))))","v":780},{"$f":"IF($B8=\"Panel Sales\", SUMIFS(Weekly_Data_Raw[PANEL_AMOUNT],Weekly_Data_Raw[TICKER],'Weekly Metrics'!$A8,Weekly_Data_Raw[END_DATE],'Weekly Metrics'!AO$5),IF($B8=\"Transactions\",SUMIFS(Weekly_Data_Raw[PANEL_TRANSACTIONS],Weekly_Data_Raw[TICKER],'Weekly Metrics'!$A8,Weekly_Data_Raw[END_DATE],'Weekly Metrics'!AO$5), IF($B8=\"Avg Ticket\",SUMIFS(Weekly_Data_Raw[AVG_TICKET],Weekly_Data_Raw[TICKER],'Weekly Metrics'!$A8,Weekly_Data_Raw[END_DATE],'Weekly Metrics'!AO$5), IF($B8=\"EOP Subscribers\",SUMIFS(Weekly_Data_Raw[EOP_SUBSCRIBERS],Weekly_Data_Raw[TICKER],'Weekly Metrics'!$A8,Weekly_Data_Raw[END_DATE],'Weekly Metrics'!AO$5), IF($B8=\"Gross Adds\",SUMIFS(Weekly_Data_Raw[GROSS_ADDS],Weekly_Data_Raw[TICKER],'Weekly Metrics'!$A8,Weekly_Data_Raw[END_DATE],'Weekly Metrics'!AO$5), IF($B8=\"Churn\",SUMIFS(Weekly_Data_Raw[CHURNED_MEMBERS],Weekly_Data_Raw[TICKER],'Weekly Metrics'!$A8,Weekly_Data_Raw[END_DATE],'Weekly Metrics'!AO$5)))))))","v":904},{"$f":"IF($B8=\"Panel Sales\", SUMIFS(Weekly_Data_Raw[PANEL_AMOUNT],Weekly_Data_Raw[TICKER],'Weekly Metrics'!$A8,Weekly_Data_Raw[END_DATE],'Weekly Metrics'!AP$5),IF($B8=\"Transactions\",SUMIFS(Weekly_Data_Raw[PANEL_TRANSACTIONS],Weekly_Data_Raw[TICKER],'Weekly Metrics'!$A8,Weekly_Data_Raw[END_DATE],'Weekly Metrics'!AP$5), IF($B8=\"Avg Ticket\",SUMIFS(Weekly_Data_Raw[AVG_TICKET],Weekly_Data_Raw[TICKER],'Weekly Metrics'!$A8,Weekly_Data_Raw[END_DATE],'Weekly Metrics'!AP$5), IF($B8=\"EOP Subscribers\",SUMIFS(Weekly_Data_Raw[EOP_SUBSCRIBERS],Weekly_Data_Raw[TICKER],'Weekly Metrics'!$A8,Weekly_Data_Raw[END_DATE],'Weekly Metrics'!AP$5), IF($B8=\"Gross Adds\",SUMIFS(Weekly_Data_Raw[GROSS_ADDS],Weekly_Data_Raw[TICKER],'Weekly Metrics'!$A8,Weekly_Data_Raw[END_DATE],'Weekly Metrics'!AP$5), IF($B8=\"Churn\",SUMIFS(Weekly_Data_Raw[CHURNED_MEMBERS],Weekly_Data_Raw[TICKER],'Weekly Metrics'!$A8,Weekly_Data_Raw[END_DATE],'Weekly Metrics'!AP$5)))))))","v":937},{"$f":"IF($B8=\"Panel Sales\", SUMIFS(Weekly_Data_Raw[PANEL_AMOUNT],Weekly_Data_Raw[TICKER],'Weekly Metrics'!$A8,Weekly_Data_Raw[END_DATE],'Weekly Metrics'!AQ$5),IF($B8=\"Transactions\",SUMIFS(Weekly_Data_Raw[PANEL_TRANSACTIONS],Weekly_Data_Raw[TICKER],'Weekly Metrics'!$A8,Weekly_Data_Raw[END_DATE],'Weekly Metrics'!AQ$5), IF($B8=\"Avg Ticket\",SUMIFS(Weekly_Data_Raw[AVG_TICKET],Weekly_Data_Raw[TICKER],'Weekly Metrics'!$A8,Weekly_Data_Raw[END_DATE],'Weekly Metrics'!AQ$5), IF($B8=\"EOP Subscribers\",SUMIFS(Weekly_Data_Raw[EOP_SUBSCRIBERS],Weekly_Data_Raw[TICKER],'Weekly Metrics'!$A8,Weekly_Data_Raw[END_DATE],'Weekly Metrics'!AQ$5), IF($B8=\"Gross Adds\",SUMIFS(Weekly_Data_Raw[GROSS_ADDS],Weekly_Data_Raw[TICKER],'Weekly Metrics'!$A8,Weekly_Data_Raw[END_DATE],'Weekly Metrics'!AQ$5), IF($B8=\"Churn\",SUMIFS(Weekly_Data_Raw[CHURNED_MEMBERS],Weekly_Data_Raw[TICKER],'Weekly Metrics'!$A8,Weekly_Data_Raw[END_DATE],'Weekly Metrics'!AQ$5)))))))","v":836},{"$f":"IF($B8=\"Panel Sales\", SUMIFS(Weekly_Data_Raw[PANEL_AMOUNT],Weekly_Data_Raw[TICKER],'Weekly Metrics'!$A8,Weekly_Data_Raw[END_DATE],'Weekly Metrics'!AR$5),IF($B8=\"Transactions\",SUMIFS(Weekly_Data_Raw[PANEL_TRANSACTIONS],Weekly_Data_Raw[TICKER],'Weekly Metrics'!$A8,Weekly_Data_Raw[END_DATE],'Weekly Metrics'!AR$5), IF($B8=\"Avg Ticket\",SUMIFS(Weekly_Data_Raw[AVG_TICKET],Weekly_Data_Raw[TICKER],'Weekly Metrics'!$A8,Weekly_Data_Raw[END_DATE],'Weekly Metrics'!AR$5), IF($B8=\"EOP Subscribers\",SUMIFS(Weekly_Data_Raw[EOP_SUBSCRIBERS],Weekly_Data_Raw[TICKER],'Weekly Metrics'!$A8,Weekly_Data_Raw[END_DATE],'Weekly Metrics'!AR$5), IF($B8=\"Gross Adds\",SUMIFS(Weekly_Data_Raw[GROSS_ADDS],Weekly_Data_Raw[TICKER],'Weekly Metrics'!$A8,Weekly_Data_Raw[END_DATE],'Weekly Metrics'!AR$5), IF($B8=\"Churn\",SUMIFS(Weekly_Data_Raw[CHURNED_MEMBERS],Weekly_Data_Raw[TICKER],'Weekly Metrics'!$A8,Weekly_Data_Raw[END_DATE],'Weekly Metrics'!AR$5)))))))","v":842},{"$f":"IF($B8=\"Panel Sales\", SUMIFS(Weekly_Data_Raw[PANEL_AMOUNT],Weekly_Data_Raw[TICKER],'Weekly Metrics'!$A8,Weekly_Data_Raw[END_DATE],'Weekly Metrics'!AS$5),IF($B8=\"Transactions\",SUMIFS(Weekly_Data_Raw[PANEL_TRANSACTIONS],Weekly_Data_Raw[TICKER],'Weekly Metrics'!$A8,Weekly_Data_Raw[END_DATE],'Weekly Metrics'!AS$5), IF($B8=\"Avg Ticket\",SUMIFS(Weekly_Data_Raw[AVG_TICKET],Weekly_Data_Raw[TICKER],'Weekly Metrics'!$A8,Weekly_Data_Raw[END_DATE],'Weekly Metrics'!AS$5), IF($B8=\"EOP Subscribers\",SUMIFS(Weekly_Data_Raw[EOP_SUBSCRIBERS],Weekly_Data_Raw[TICKER],'Weekly Metrics'!$A8,Weekly_Data_Raw[END_DATE],'Weekly Metrics'!AS$5), IF($B8=\"Gross Adds\",SUMIFS(Weekly_Data_Raw[GROSS_ADDS],Weekly_Data_Raw[TICKER],'Weekly Metrics'!$A8,Weekly_Data_Raw[END_DATE],'Weekly Metrics'!AS$5), IF($B8=\"Churn\",SUMIFS(Weekly_Data_Raw[CHURNED_MEMBERS],Weekly_Data_Raw[TICKER],'Weekly Metrics'!$A8,Weekly_Data_Raw[END_DATE],'Weekly Metrics'!AS$5)))))))","v":753},{"$f":"IF($B8=\"Panel Sales\", SUMIFS(Weekly_Data_Raw[PANEL_AMOUNT],Weekly_Data_Raw[TICKER],'Weekly Metrics'!$A8,Weekly_Data_Raw[END_DATE],'Weekly Metrics'!AT$5),IF($B8=\"Transactions\",SUMIFS(Weekly_Data_Raw[PANEL_TRANSACTIONS],Weekly_Data_Raw[TICKER],'Weekly Metrics'!$A8,Weekly_Data_Raw[END_DATE],'Weekly Metrics'!AT$5), IF($B8=\"Avg Ticket\",SUMIFS(Weekly_Data_Raw[AVG_TICKET],Weekly_Data_Raw[TICKER],'Weekly Metrics'!$A8,Weekly_Data_Raw[END_DATE],'Weekly Metrics'!AT$5), IF($B8=\"EOP Subscribers\",SUMIFS(Weekly_Data_Raw[EOP_SUBSCRIBERS],Weekly_Data_Raw[TICKER],'Weekly Metrics'!$A8,Weekly_Data_Raw[END_DATE],'Weekly Metrics'!AT$5), IF($B8=\"Gross Adds\",SUMIFS(Weekly_Data_Raw[GROSS_ADDS],Weekly_Data_Raw[TICKER],'Weekly Metrics'!$A8,Weekly_Data_Raw[END_DATE],'Weekly Metrics'!AT$5), IF($B8=\"Churn\",SUMIFS(Weekly_Data_Raw[CHURNED_MEMBERS],Weekly_Data_Raw[TICKER],'Weekly Metrics'!$A8,Weekly_Data_Raw[END_DATE],'Weekly Metrics'!AT$5)))))))","v":746},{"$f":"IF($B8=\"Panel Sales\", SUMIFS(Weekly_Data_Raw[PANEL_AMOUNT],Weekly_Data_Raw[TICKER],'Weekly Metrics'!$A8,Weekly_Data_Raw[END_DATE],'Weekly Metrics'!AU$5),IF($B8=\"Transactions\",SUMIFS(Weekly_Data_Raw[PANEL_TRANSACTIONS],Weekly_Data_Raw[TICKER],'Weekly Metrics'!$A8,Weekly_Data_Raw[END_DATE],'Weekly Metrics'!AU$5), IF($B8=\"Avg Ticket\",SUMIFS(Weekly_Data_Raw[AVG_TICKET],Weekly_Data_Raw[TICKER],'Weekly Metrics'!$A8,Weekly_Data_Raw[END_DATE],'Weekly Metrics'!AU$5), IF($B8=\"EOP Subscribers\",SUMIFS(Weekly_Data_Raw[EOP_SUBSCRIBERS],Weekly_Data_Raw[TICKER],'Weekly Metrics'!$A8,Weekly_Data_Raw[END_DATE],'Weekly Metrics'!AU$5), IF($B8=\"Gross Adds\",SUMIFS(Weekly_Data_Raw[GROSS_ADDS],Weekly_Data_Raw[TICKER],'Weekly Metrics'!$A8,Weekly_Data_Raw[END_DATE],'Weekly Metrics'!AU$5), IF($B8=\"Churn\",SUMIFS(Weekly_Data_Raw[CHURNED_MEMBERS],Weekly_Data_Raw[TICKER],'Weekly Metrics'!$A8,Weekly_Data_Raw[END_DATE],'Weekly Metrics'!AU$5)))))))","v":797},{"$f":"IF($B8=\"Panel Sales\", SUMIFS(Weekly_Data_Raw[PANEL_AMOUNT],Weekly_Data_Raw[TICKER],'Weekly Metrics'!$A8,Weekly_Data_Raw[END_DATE],'Weekly Metrics'!AV$5),IF($B8=\"Transactions\",SUMIFS(Weekly_Data_Raw[PANEL_TRANSACTIONS],Weekly_Data_Raw[TICKER],'Weekly Metrics'!$A8,Weekly_Data_Raw[END_DATE],'Weekly Metrics'!AV$5), IF($B8=\"Avg Ticket\",SUMIFS(Weekly_Data_Raw[AVG_TICKET],Weekly_Data_Raw[TICKER],'Weekly Metrics'!$A8,Weekly_Data_Raw[END_DATE],'Weekly Metrics'!AV$5), IF($B8=\"EOP Subscribers\",SUMIFS(Weekly_Data_Raw[EOP_SUBSCRIBERS],Weekly_Data_Raw[TICKER],'Weekly Metrics'!$A8,Weekly_Data_Raw[END_DATE],'Weekly Metrics'!AV$5), IF($B8=\"Gross Adds\",SUMIFS(Weekly_Data_Raw[GROSS_ADDS],Weekly_Data_Raw[TICKER],'Weekly Metrics'!$A8,Weekly_Data_Raw[END_DATE],'Weekly Metrics'!AV$5), IF($B8=\"Churn\",SUMIFS(Weekly_Data_Raw[CHURNED_MEMBERS],Weekly_Data_Raw[TICKER],'Weekly Metrics'!$A8,Weekly_Data_Raw[END_DATE],'Weekly Metrics'!AV$5)))))))","v":793},{"$f":"IF($B8=\"Panel Sales\", SUMIFS(Weekly_Data_Raw[PANEL_AMOUNT],Weekly_Data_Raw[TICKER],'Weekly Metrics'!$A8,Weekly_Data_Raw[END_DATE],'Weekly Metrics'!AW$5),IF($B8=\"Transactions\",SUMIFS(Weekly_Data_Raw[PANEL_TRANSACTIONS],Weekly_Data_Raw[TICKER],'Weekly Metrics'!$A8,Weekly_Data_Raw[END_DATE],'Weekly Metrics'!AW$5), IF($B8=\"Avg Ticket\",SUMIFS(Weekly_Data_Raw[AVG_TICKET],Weekly_Data_Raw[TICKER],'Weekly Metrics'!$A8,Weekly_Data_Raw[END_DATE],'Weekly Metrics'!AW$5), IF($B8=\"EOP Subscribers\",SUMIFS(Weekly_Data_Raw[EOP_SUBSCRIBERS],Weekly_Data_Raw[TICKER],'Weekly Metrics'!$A8,Weekly_Data_Raw[END_DATE],'Weekly Metrics'!AW$5), IF($B8=\"Gross Adds\",SUMIFS(Weekly_Data_Raw[GROSS_ADDS],Weekly_Data_Raw[TICKER],'Weekly Metrics'!$A8,Weekly_Data_Raw[END_DATE],'Weekly Metrics'!AW$5), IF($B8=\"Churn\",SUMIFS(Weekly_Data_Raw[CHURNED_MEMBERS],Weekly_Data_Raw[TICKER],'Weekly Metrics'!$A8,Weekly_Data_Raw[END_DATE],'Weekly Metrics'!AW$5)))))))","v":718},{"$f":"IF($B8=\"Panel Sales\", SUMIFS(Weekly_Data_Raw[PANEL_AMOUNT],Weekly_Data_Raw[TICKER],'Weekly Metrics'!$A8,Weekly_Data_Raw[END_DATE],'Weekly Metrics'!AX$5),IF($B8=\"Transactions\",SUMIFS(Weekly_Data_Raw[PANEL_TRANSACTIONS],Weekly_Data_Raw[TICKER],'Weekly Metrics'!$A8,Weekly_Data_Raw[END_DATE],'Weekly Metrics'!AX$5), IF($B8=\"Avg Ticket\",SUMIFS(Weekly_Data_Raw[AVG_TICKET],Weekly_Data_Raw[TICKER],'Weekly Metrics'!$A8,Weekly_Data_Raw[END_DATE],'Weekly Metrics'!AX$5), IF($B8=\"EOP Subscribers\",SUMIFS(Weekly_Data_Raw[EOP_SUBSCRIBERS],Weekly_Data_Raw[TICKER],'Weekly Metrics'!$A8,Weekly_Data_Raw[END_DATE],'Weekly Metrics'!AX$5), IF($B8=\"Gross Adds\",SUMIFS(Weekly_Data_Raw[GROSS_ADDS],Weekly_Data_Raw[TICKER],'Weekly Metrics'!$A8,Weekly_Data_Raw[END_DATE],'Weekly Metrics'!AX$5), IF($B8=\"Churn\",SUMIFS(Weekly_Data_Raw[CHURNED_MEMBERS],Weekly_Data_Raw[TICKER],'Weekly Metrics'!$A8,Weekly_Data_Raw[END_DATE],'Weekly Metrics'!AX$5)))))))","v":821},{"$f":"IF($B8=\"Panel Sales\", SUMIFS(Weekly_Data_Raw[PANEL_AMOUNT],Weekly_Data_Raw[TICKER],'Weekly Metrics'!$A8,Weekly_Data_Raw[END_DATE],'Weekly Metrics'!AY$5),IF($B8=\"Transactions\",SUMIFS(Weekly_Data_Raw[PANEL_TRANSACTIONS],Weekly_Data_Raw[TICKER],'Weekly Metrics'!$A8,Weekly_Data_Raw[END_DATE],'Weekly Metrics'!AY$5), IF($B8=\"Avg Ticket\",SUMIFS(Weekly_Data_Raw[AVG_TICKET],Weekly_Data_Raw[TICKER],'Weekly Metrics'!$A8,Weekly_Data_Raw[END_DATE],'Weekly Metrics'!AY$5), IF($B8=\"EOP Subscribers\",SUMIFS(Weekly_Data_Raw[EOP_SUBSCRIBERS],Weekly_Data_Raw[TICKER],'Weekly Metrics'!$A8,Weekly_Data_Raw[END_DATE],'Weekly Metrics'!AY$5), IF($B8=\"Gross Adds\",SUMIFS(Weekly_Data_Raw[GROSS_ADDS],Weekly_Data_Raw[TICKER],'Weekly Metrics'!$A8,Weekly_Data_Raw[END_DATE],'Weekly Metrics'!AY$5), IF($B8=\"Churn\",SUMIFS(Weekly_Data_Raw[CHURNED_MEMBERS],Weekly_Data_Raw[TICKER],'Weekly Metrics'!$A8,Weekly_Data_Raw[END_DATE],'Weekly Metrics'!AY$5)))))))","v":796},{"$f":"IF($B8=\"Panel Sales\", SUMIFS(Weekly_Data_Raw[PANEL_AMOUNT],Weekly_Data_Raw[TICKER],'Weekly Metrics'!$A8,Weekly_Data_Raw[END_DATE],'Weekly Metrics'!AZ$5),IF($B8=\"Transactions\",SUMIFS(Weekly_Data_Raw[PANEL_TRANSACTIONS],Weekly_Data_Raw[TICKER],'Weekly Metrics'!$A8,Weekly_Data_Raw[END_DATE],'Weekly Metrics'!AZ$5), IF($B8=\"Avg Ticket\",SUMIFS(Weekly_Data_Raw[AVG_TICKET],Weekly_Data_Raw[TICKER],'Weekly Metrics'!$A8,Weekly_Data_Raw[END_DATE],'Weekly Metrics'!AZ$5), IF($B8=\"EOP Subscribers\",SUMIFS(Weekly_Data_Raw[EOP_SUBSCRIBERS],Weekly_Data_Raw[TICKER],'Weekly Metrics'!$A8,Weekly_Data_Raw[END_DATE],'Weekly Metrics'!AZ$5), IF($B8=\"Gross Adds\",SUMIFS(Weekly_Data_Raw[GROSS_ADDS],Weekly_Data_Raw[TICKER],'Weekly Metrics'!$A8,Weekly_Data_Raw[END_DATE],'Weekly Metrics'!AZ$5), IF($B8=\"Churn\",SUMIFS(Weekly_Data_Raw[CHURNED_MEMBERS],Weekly_Data_Raw[TICKER],'Weekly Metrics'!$A8,Weekly_Data_Raw[END_DATE],'Weekly Metrics'!AZ$5)))))))","v":725},{"$f":"IF($B8=\"Panel Sales\", SUMIFS(Weekly_Data_Raw[PANEL_AMOUNT],Weekly_Data_Raw[TICKER],'Weekly Metrics'!$A8,Weekly_Data_Raw[END_DATE],'Weekly Metrics'!BA$5),IF($B8=\"Transactions\",SUMIFS(Weekly_Data_Raw[PANEL_TRANSACTIONS],Weekly_Data_Raw[TICKER],'Weekly Metrics'!$A8,Weekly_Data_Raw[END_DATE],'Weekly Metrics'!BA$5), IF($B8=\"Avg Ticket\",SUMIFS(Weekly_Data_Raw[AVG_TICKET],Weekly_Data_Raw[TICKER],'Weekly Metrics'!$A8,Weekly_Data_Raw[END_DATE],'Weekly Metrics'!BA$5), IF($B8=\"EOP Subscribers\",SUMIFS(Weekly_Data_Raw[EOP_SUBSCRIBERS],Weekly_Data_Raw[TICKER],'Weekly Metrics'!$A8,Weekly_Data_Raw[END_DATE],'Weekly Metrics'!BA$5), IF($B8=\"Gross Adds\",SUMIFS(Weekly_Data_Raw[GROSS_ADDS],Weekly_Data_Raw[TICKER],'Weekly Metrics'!$A8,Weekly_Data_Raw[END_DATE],'Weekly Metrics'!BA$5), IF($B8=\"Churn\",SUMIFS(Weekly_Data_Raw[CHURNED_MEMBERS],Weekly_Data_Raw[TICKER],'Weekly Metrics'!$A8,Weekly_Data_Raw[END_DATE],'Weekly Metrics'!BA$5)))))))","v":830},{"$f":"IF($B8=\"Panel Sales\", SUMIFS(Weekly_Data_Raw[PANEL_AMOUNT],Weekly_Data_Raw[TICKER],'Weekly Metrics'!$A8,Weekly_Data_Raw[END_DATE],'Weekly Metrics'!BB$5),IF($B8=\"Transactions\",SUMIFS(Weekly_Data_Raw[PANEL_TRANSACTIONS],Weekly_Data_Raw[TICKER],'Weekly Metrics'!$A8,Weekly_Data_Raw[END_DATE],'Weekly Metrics'!BB$5), IF($B8=\"Avg Ticket\",SUMIFS(Weekly_Data_Raw[AVG_TICKET],Weekly_Data_Raw[TICKER],'Weekly Metrics'!$A8,Weekly_Data_Raw[END_DATE],'Weekly Metrics'!BB$5), IF($B8=\"EOP Subscribers\",SUMIFS(Weekly_Data_Raw[EOP_SUBSCRIBERS],Weekly_Data_Raw[TICKER],'Weekly Metrics'!$A8,Weekly_Data_Raw[END_DATE],'Weekly Metrics'!BB$5), IF($B8=\"Gross Adds\",SUMIFS(Weekly_Data_Raw[GROSS_ADDS],Weekly_Data_Raw[TICKER],'Weekly Metrics'!$A8,Weekly_Data_Raw[END_DATE],'Weekly Metrics'!BB$5), IF($B8=\"Churn\",SUMIFS(Weekly_Data_Raw[CHURNED_MEMBERS],Weekly_Data_Raw[TICKER],'Weekly Metrics'!$A8,Weekly_Data_Raw[END_DATE],'Weekly Metrics'!BB$5)))))))","v":1037},{"$f":"IF($B8=\"Panel Sales\", SUMIFS(Weekly_Data_Raw[PANEL_AMOUNT],Weekly_Data_Raw[TICKER],'Weekly Metrics'!$A8,Weekly_Data_Raw[END_DATE],'Weekly Metrics'!BC$5),IF($B8=\"Transactions\",SUMIFS(Weekly_Data_Raw[PANEL_TRANSACTIONS],Weekly_Data_Raw[TICKER],'Weekly Metrics'!$A8,Weekly_Data_Raw[END_DATE],'Weekly Metrics'!BC$5), IF($B8=\"Avg Ticket\",SUMIFS(Weekly_Data_Raw[AVG_TICKET],Weekly_Data_Raw[TICKER],'Weekly Metrics'!$A8,Weekly_Data_Raw[END_DATE],'Weekly Metrics'!BC$5), IF($B8=\"EOP Subscribers\",SUMIFS(Weekly_Data_Raw[EOP_SUBSCRIBERS],Weekly_Data_Raw[TICKER],'Weekly Metrics'!$A8,Weekly_Data_Raw[END_DATE],'Weekly Metrics'!BC$5), IF($B8=\"Gross Adds\",SUMIFS(Weekly_Data_Raw[GROSS_ADDS],Weekly_Data_Raw[TICKER],'Weekly Metrics'!$A8,Weekly_Data_Raw[END_DATE],'Weekly Metrics'!BC$5), IF($B8=\"Churn\",SUMIFS(Weekly_Data_Raw[CHURNED_MEMBERS],Weekly_Data_Raw[TICKER],'Weekly Metrics'!$A8,Weekly_Data_Raw[END_DATE],'Weekly Metrics'!BC$5)))))))","v":1127},{"$f":"IF($B8=\"Panel Sales\", SUMIFS(Weekly_Data_Raw[PANEL_AMOUNT],Weekly_Data_Raw[TICKER],'Weekly Metrics'!$A8,Weekly_Data_Raw[END_DATE],'Weekly Metrics'!BD$5),IF($B8=\"Transactions\",SUMIFS(Weekly_Data_Raw[PANEL_TRANSACTIONS],Weekly_Data_Raw[TICKER],'Weekly Metrics'!$A8,Weekly_Data_Raw[END_DATE],'Weekly Metrics'!BD$5), IF($B8=\"Avg Ticket\",SUMIFS(Weekly_Data_Raw[AVG_TICKET],Weekly_Data_Raw[TICKER],'Weekly Metrics'!$A8,Weekly_Data_Raw[END_DATE],'Weekly Metrics'!BD$5), IF($B8=\"EOP Subscribers\",SUMIFS(Weekly_Data_Raw[EOP_SUBSCRIBERS],Weekly_Data_Raw[TICKER],'Weekly Metrics'!$A8,Weekly_Data_Raw[END_DATE],'Weekly Metrics'!BD$5), IF($B8=\"Gross Adds\",SUMIFS(Weekly_Data_Raw[GROSS_ADDS],Weekly_Data_Raw[TICKER],'Weekly Metrics'!$A8,Weekly_Data_Raw[END_DATE],'Weekly Metrics'!BD$5), IF($B8=\"Churn\",SUMIFS(Weekly_Data_Raw[CHURNED_MEMBERS],Weekly_Data_Raw[TICKER],'Weekly Metrics'!$A8,Weekly_Data_Raw[END_DATE],'Weekly Metrics'!BD$5)))))))","v":931},{"$f":"IF($B8=\"Panel Sales\", SUMIFS(Weekly_Data_Raw[PANEL_AMOUNT],Weekly_Data_Raw[TICKER],'Weekly Metrics'!$A8,Weekly_Data_Raw[END_DATE],'Weekly Metrics'!BE$5),IF($B8=\"Transactions\",SUMIFS(Weekly_Data_Raw[PANEL_TRANSACTIONS],Weekly_Data_Raw[TICKER],'Weekly Metrics'!$A8,Weekly_Data_Raw[END_DATE],'Weekly Metrics'!BE$5), IF($B8=\"Avg Ticket\",SUMIFS(Weekly_Data_Raw[AVG_TICKET],Weekly_Data_Raw[TICKER],'Weekly Metrics'!$A8,Weekly_Data_Raw[END_DATE],'Weekly Metrics'!BE$5), IF($B8=\"EOP Subscribers\",SUMIFS(Weekly_Data_Raw[EOP_SUBSCRIBERS],Weekly_Data_Raw[TICKER],'Weekly Metrics'!$A8,Weekly_Data_Raw[END_DATE],'Weekly Metrics'!BE$5), IF($B8=\"Gross Adds\",SUMIFS(Weekly_Data_Raw[GROSS_ADDS],Weekly_Data_Raw[TICKER],'Weekly Metrics'!$A8,Weekly_Data_Raw[END_DATE],'Weekly Metrics'!BE$5), IF($B8=\"Churn\",SUMIFS(Weekly_Data_Raw[CHURNED_MEMBERS],Weekly_Data_Raw[TICKER],'Weekly Metrics'!$A8,Weekly_Data_Raw[END_DATE],'Weekly Metrics'!BE$5)))))))","v":868},{"$f":"IF($B8=\"Panel Sales\", SUMIFS(Weekly_Data_Raw[PANEL_AMOUNT],Weekly_Data_Raw[TICKER],'Weekly Metrics'!$A8,Weekly_Data_Raw[END_DATE],'Weekly Metrics'!BF$5),IF($B8=\"Transactions\",SUMIFS(Weekly_Data_Raw[PANEL_TRANSACTIONS],Weekly_Data_Raw[TICKER],'Weekly Metrics'!$A8,Weekly_Data_Raw[END_DATE],'Weekly Metrics'!BF$5), IF($B8=\"Avg Ticket\",SUMIFS(Weekly_Data_Raw[AVG_TICKET],Weekly_Data_Raw[TICKER],'Weekly Metrics'!$A8,Weekly_Data_Raw[END_DATE],'Weekly Metrics'!BF$5), IF($B8=\"EOP Subscribers\",SUMIFS(Weekly_Data_Raw[EOP_SUBSCRIBERS],Weekly_Data_Raw[TICKER],'Weekly Metrics'!$A8,Weekly_Data_Raw[END_DATE],'Weekly Metrics'!BF$5), IF($B8=\"Gross Adds\",SUMIFS(Weekly_Data_Raw[GROSS_ADDS],Weekly_Data_Raw[TICKER],'Weekly Metrics'!$A8,Weekly_Data_Raw[END_DATE],'Weekly Metrics'!BF$5), IF($B8=\"Churn\",SUMIFS(Weekly_Data_Raw[CHURNED_MEMBERS],Weekly_Data_Raw[TICKER],'Weekly Metrics'!$A8,Weekly_Data_Raw[END_DATE],'Weekly Metrics'!BF$5)))))))","v":1047},{"$f":"IF($B8=\"Panel Sales\", SUMIFS(Weekly_Data_Raw[PANEL_AMOUNT],Weekly_Data_Raw[TICKER],'Weekly Metrics'!$A8,Weekly_Data_Raw[END_DATE],'Weekly Metrics'!BG$5),IF($B8=\"Transactions\",SUMIFS(Weekly_Data_Raw[PANEL_TRANSACTIONS],Weekly_Data_Raw[TICKER],'Weekly Metrics'!$A8,Weekly_Data_Raw[END_DATE],'Weekly Metrics'!BG$5), IF($B8=\"Avg Ticket\",SUMIFS(Weekly_Data_Raw[AVG_TICKET],Weekly_Data_Raw[TICKER],'Weekly Metrics'!$A8,Weekly_Data_Raw[END_DATE],'Weekly Metrics'!BG$5), IF($B8=\"EOP Subscribers\",SUMIFS(Weekly_Data_Raw[EOP_SUBSCRIBERS],Weekly_Data_Raw[TICKER],'Weekly Metrics'!$A8,Weekly_Data_Raw[END_DATE],'Weekly Metrics'!BG$5), IF($B8=\"Gross Adds\",SUMIFS(Weekly_Data_Raw[GROSS_ADDS],Weekly_Data_Raw[TICKER],'Weekly Metrics'!$A8,Weekly_Data_Raw[END_DATE],'Weekly Metrics'!BG$5), IF($B8=\"Churn\",SUMIFS(Weekly_Data_Raw[CHURNED_MEMBERS],Weekly_Data_Raw[TICKER],'Weekly Metrics'!$A8,Weekly_Data_Raw[END_DATE],'Weekly Metrics'!BG$5)))))))","v":1097},{"$f":"IF($B8=\"Panel Sales\", SUMIFS(Weekly_Data_Raw[PANEL_AMOUNT],Weekly_Data_Raw[TICKER],'Weekly Metrics'!$A8,Weekly_Data_Raw[END_DATE],'Weekly Metrics'!BH$5),IF($B8=\"Transactions\",SUMIFS(Weekly_Data_Raw[PANEL_TRANSACTIONS],Weekly_Data_Raw[TICKER],'Weekly Metrics'!$A8,Weekly_Data_Raw[END_DATE],'Weekly Metrics'!BH$5), IF($B8=\"Avg Ticket\",SUMIFS(Weekly_Data_Raw[AVG_TICKET],Weekly_Data_Raw[TICKER],'Weekly Metrics'!$A8,Weekly_Data_Raw[END_DATE],'Weekly Metrics'!BH$5), IF($B8=\"EOP Subscribers\",SUMIFS(Weekly_Data_Raw[EOP_SUBSCRIBERS],Weekly_Data_Raw[TICKER],'Weekly Metrics'!$A8,Weekly_Data_Raw[END_DATE],'Weekly Metrics'!BH$5), IF($B8=\"Gross Adds\",SUMIFS(Weekly_Data_Raw[GROSS_ADDS],Weekly_Data_Raw[TICKER],'Weekly Metrics'!$A8,Weekly_Data_Raw[END_DATE],'Weekly Metrics'!BH$5), IF($B8=\"Churn\",SUMIFS(Weekly_Data_Raw[CHURNED_MEMBERS],Weekly_Data_Raw[TICKER],'Weekly Metrics'!$A8,Weekly_Data_Raw[END_DATE],'Weekly Metrics'!BH$5)))))))","v":962},{"$f":"IF($B8=\"Panel Sales\", SUMIFS(Weekly_Data_Raw[PANEL_AMOUNT],Weekly_Data_Raw[TICKER],'Weekly Metrics'!$A8,Weekly_Data_Raw[END_DATE],'Weekly Metrics'!BI$5),IF($B8=\"Transactions\",SUMIFS(Weekly_Data_Raw[PANEL_TRANSACTIONS],Weekly_Data_Raw[TICKER],'Weekly Metrics'!$A8,Weekly_Data_Raw[END_DATE],'Weekly Metrics'!BI$5), IF($B8=\"Avg Ticket\",SUMIFS(Weekly_Data_Raw[AVG_TICKET],Weekly_Data_Raw[TICKER],'Weekly Metrics'!$A8,Weekly_Data_Raw[END_DATE],'Weekly Metrics'!BI$5), IF($B8=\"EOP Subscribers\",SUMIFS(Weekly_Data_Raw[EOP_SUBSCRIBERS],Weekly_Data_Raw[TICKER],'Weekly Metrics'!$A8,Weekly_Data_Raw[END_DATE],'Weekly Metrics'!BI$5), IF($B8=\"Gross Adds\",SUMIFS(Weekly_Data_Raw[GROSS_ADDS],Weekly_Data_Raw[TICKER],'Weekly Metrics'!$A8,Weekly_Data_Raw[END_DATE],'Weekly Metrics'!BI$5), IF($B8=\"Churn\",SUMIFS(Weekly_Data_Raw[CHURNED_MEMBERS],Weekly_Data_Raw[TICKER],'Weekly Metrics'!$A8,Weekly_Data_Raw[END_DATE],'Weekly Metrics'!BI$5)))))))","v":874},{"$f":"IF($B8=\"Panel Sales\", SUMIFS(Weekly_Data_Raw[PANEL_AMOUNT],Weekly_Data_Raw[TICKER],'Weekly Metrics'!$A8,Weekly_Data_Raw[END_DATE],'Weekly Metrics'!BJ$5),IF($B8=\"Transactions\",SUMIFS(Weekly_Data_Raw[PANEL_TRANSACTIONS],Weekly_Data_Raw[TICKER],'Weekly Metrics'!$A8,Weekly_Data_Raw[END_DATE],'Weekly Metrics'!BJ$5), IF($B8=\"Avg Ticket\",SUMIFS(Weekly_Data_Raw[AVG_TICKET],Weekly_Data_Raw[TICKER],'Weekly Metrics'!$A8,Weekly_Data_Raw[END_DATE],'Weekly Metrics'!BJ$5), IF($B8=\"EOP Subscribers\",SUMIFS(Weekly_Data_Raw[EOP_SUBSCRIBERS],Weekly_Data_Raw[TICKER],'Weekly Metrics'!$A8,Weekly_Data_Raw[END_DATE],'Weekly Metrics'!BJ$5), IF($B8=\"Gross Adds\",SUMIFS(Weekly_Data_Raw[GROSS_ADDS],Weekly_Data_Raw[TICKER],'Weekly Metrics'!$A8,Weekly_Data_Raw[END_DATE],'Weekly Metrics'!BJ$5), IF($B8=\"Churn\",SUMIFS(Weekly_Data_Raw[CHURNED_MEMBERS],Weekly_Data_Raw[TICKER],'Weekly Metrics'!$A8,Weekly_Data_Raw[END_DATE],'Weekly Metrics'!BJ$5)))))))","v":923},{"$f":"IF($B8=\"Panel Sales\", SUMIFS(Weekly_Data_Raw[PANEL_AMOUNT],Weekly_Data_Raw[TICKER],'Weekly Metrics'!$A8,Weekly_Data_Raw[END_DATE],'Weekly Metrics'!BK$5),IF($B8=\"Transactions\",SUMIFS(Weekly_Data_Raw[PANEL_TRANSACTIONS],Weekly_Data_Raw[TICKER],'Weekly Metrics'!$A8,Weekly_Data_Raw[END_DATE],'Weekly Metrics'!BK$5), IF($B8=\"Avg Ticket\",SUMIFS(Weekly_Data_Raw[AVG_TICKET],Weekly_Data_Raw[TICKER],'Weekly Metrics'!$A8,Weekly_Data_Raw[END_DATE],'Weekly Metrics'!BK$5), IF($B8=\"EOP Subscribers\",SUMIFS(Weekly_Data_Raw[EOP_SUBSCRIBERS],Weekly_Data_Raw[TICKER],'Weekly Metrics'!$A8,Weekly_Data_Raw[END_DATE],'Weekly Metrics'!BK$5), IF($B8=\"Gross Adds\",SUMIFS(Weekly_Data_Raw[GROSS_ADDS],Weekly_Data_Raw[TICKER],'Weekly Metrics'!$A8,Weekly_Data_Raw[END_DATE],'Weekly Metrics'!BK$5), IF($B8=\"Churn\",SUMIFS(Weekly_Data_Raw[CHURNED_MEMBERS],Weekly_Data_Raw[TICKER],'Weekly Metrics'!$A8,Weekly_Data_Raw[END_DATE],'Weekly Metrics'!BK$5)))))))","v":965},{"$f":"IF($B8=\"Panel Sales\", SUMIFS(Weekly_Data_Raw[PANEL_AMOUNT],Weekly_Data_Raw[TICKER],'Weekly Metrics'!$A8,Weekly_Data_Raw[END_DATE],'Weekly Metrics'!BL$5),IF($B8=\"Transactions\",SUMIFS(Weekly_Data_Raw[PANEL_TRANSACTIONS],Weekly_Data_Raw[TICKER],'Weekly Metrics'!$A8,Weekly_Data_Raw[END_DATE],'Weekly Metrics'!BL$5), IF($B8=\"Avg Ticket\",SUMIFS(Weekly_Data_Raw[AVG_TICKET],Weekly_Data_Raw[TICKER],'Weekly Metrics'!$A8,Weekly_Data_Raw[END_DATE],'Weekly Metrics'!BL$5), IF($B8=\"EOP Subscribers\",SUMIFS(Weekly_Data_Raw[EOP_SUBSCRIBERS],Weekly_Data_Raw[TICKER],'Weekly Metrics'!$A8,Weekly_Data_Raw[END_DATE],'Weekly Metrics'!BL$5), IF($B8=\"Gross Adds\",SUMIFS(Weekly_Data_Raw[GROSS_ADDS],Weekly_Data_Raw[TICKER],'Weekly Metrics'!$A8,Weekly_Data_Raw[END_DATE],'Weekly Metrics'!BL$5), IF($B8=\"Churn\",SUMIFS(Weekly_Data_Raw[CHURNED_MEMBERS],Weekly_Data_Raw[TICKER],'Weekly Metrics'!$A8,Weekly_Data_Raw[END_DATE],'Weekly Metrics'!BL$5)))))))","v":890},{"$f":"IF($B8=\"Panel Sales\", SUMIFS(Weekly_Data_Raw[PANEL_AMOUNT],Weekly_Data_Raw[TICKER],'Weekly Metrics'!$A8,Weekly_Data_Raw[END_DATE],'Weekly Metrics'!BM$5),IF($B8=\"Transactions\",SUMIFS(Weekly_Data_Raw[PANEL_TRANSACTIONS],Weekly_Data_Raw[TICKER],'Weekly Metrics'!$A8,Weekly_Data_Raw[END_DATE],'Weekly Metrics'!BM$5), IF($B8=\"Avg Ticket\",SUMIFS(Weekly_Data_Raw[AVG_TICKET],Weekly_Data_Raw[TICKER],'Weekly Metrics'!$A8,Weekly_Data_Raw[END_DATE],'Weekly Metrics'!BM$5), IF($B8=\"EOP Subscribers\",SUMIFS(Weekly_Data_Raw[EOP_SUBSCRIBERS],Weekly_Data_Raw[TICKER],'Weekly Metrics'!$A8,Weekly_Data_Raw[END_DATE],'Weekly Metrics'!BM$5), IF($B8=\"Gross Adds\",SUMIFS(Weekly_Data_Raw[GROSS_ADDS],Weekly_Data_Raw[TICKER],'Weekly Metrics'!$A8,Weekly_Data_Raw[END_DATE],'Weekly Metrics'!BM$5), IF($B8=\"Churn\",SUMIFS(Weekly_Data_Raw[CHURNED_MEMBERS],Weekly_Data_Raw[TICKER],'Weekly Metrics'!$A8,Weekly_Data_Raw[END_DATE],'Weekly Metrics'!BM$5)))))))","v":813},{"$f":"IF($B8=\"Panel Sales\", SUMIFS(Weekly_Data_Raw[PANEL_AMOUNT],Weekly_Data_Raw[TICKER],'Weekly Metrics'!$A8,Weekly_Data_Raw[END_DATE],'Weekly Metrics'!BN$5),IF($B8=\"Transactions\",SUMIFS(Weekly_Data_Raw[PANEL_TRANSACTIONS],Weekly_Data_Raw[TICKER],'Weekly Metrics'!$A8,Weekly_Data_Raw[END_DATE],'Weekly Metrics'!BN$5), IF($B8=\"Avg Ticket\",SUMIFS(Weekly_Data_Raw[AVG_TICKET],Weekly_Data_Raw[TICKER],'Weekly Metrics'!$A8,Weekly_Data_Raw[END_DATE],'Weekly Metrics'!BN$5), IF($B8=\"EOP Subscribers\",SUMIFS(Weekly_Data_Raw[EOP_SUBSCRIBERS],Weekly_Data_Raw[TICKER],'Weekly Metrics'!$A8,Weekly_Data_Raw[END_DATE],'Weekly Metrics'!BN$5), IF($B8=\"Gross Adds\",SUMIFS(Weekly_Data_Raw[GROSS_ADDS],Weekly_Data_Raw[TICKER],'Weekly Metrics'!$A8,Weekly_Data_Raw[END_DATE],'Weekly Metrics'!BN$5), IF($B8=\"Churn\",SUMIFS(Weekly_Data_Raw[CHURNED_MEMBERS],Weekly_Data_Raw[TICKER],'Weekly Metrics'!$A8,Weekly_Data_Raw[END_DATE],'Weekly Metrics'!BN$5)))))))","v":1104},{"$f":"IF($B8=\"Panel Sales\", SUMIFS(Weekly_Data_Raw[PANEL_AMOUNT],Weekly_Data_Raw[TICKER],'Weekly Metrics'!$A8,Weekly_Data_Raw[END_DATE],'Weekly Metrics'!BO$5),IF($B8=\"Transactions\",SUMIFS(Weekly_Data_Raw[PANEL_TRANSACTIONS],Weekly_Data_Raw[TICKER],'Weekly Metrics'!$A8,Weekly_Data_Raw[END_DATE],'Weekly Metrics'!BO$5), IF($B8=\"Avg Ticket\",SUMIFS(Weekly_Data_Raw[AVG_TICKET],Weekly_Data_Raw[TICKER],'Weekly Metrics'!$A8,Weekly_Data_Raw[END_DATE],'Weekly Metrics'!BO$5), IF($B8=\"EOP Subscribers\",SUMIFS(Weekly_Data_Raw[EOP_SUBSCRIBERS],Weekly_Data_Raw[TICKER],'Weekly Metrics'!$A8,Weekly_Data_Raw[END_DATE],'Weekly Metrics'!BO$5), IF($B8=\"Gross Adds\",SUMIFS(Weekly_Data_Raw[GROSS_ADDS],Weekly_Data_Raw[TICKER],'Weekly Metrics'!$A8,Weekly_Data_Raw[END_DATE],'Weekly Metrics'!BO$5), IF($B8=\"Churn\",SUMIFS(Weekly_Data_Raw[CHURNED_MEMBERS],Weekly_Data_Raw[TICKER],'Weekly Metrics'!$A8,Weekly_Data_Raw[END_DATE],'Weekly Metrics'!BO$5)))))))","v":1134},{"$f":"IF($B8=\"Panel Sales\", SUMIFS(Weekly_Data_Raw[PANEL_AMOUNT],Weekly_Data_Raw[TICKER],'Weekly Metrics'!$A8,Weekly_Data_Raw[END_DATE],'Weekly Metrics'!BP$5),IF($B8=\"Transactions\",SUMIFS(Weekly_Data_Raw[PANEL_TRANSACTIONS],Weekly_Data_Raw[TICKER],'Weekly Metrics'!$A8,Weekly_Data_Raw[END_DATE],'Weekly Metrics'!BP$5), IF($B8=\"Avg Ticket\",SUMIFS(Weekly_Data_Raw[AVG_TICKET],Weekly_Data_Raw[TICKER],'Weekly Metrics'!$A8,Weekly_Data_Raw[END_DATE],'Weekly Metrics'!BP$5), IF($B8=\"EOP Subscribers\",SUMIFS(Weekly_Data_Raw[EOP_SUBSCRIBERS],Weekly_Data_Raw[TICKER],'Weekly Metrics'!$A8,Weekly_Data_Raw[END_DATE],'Weekly Metrics'!BP$5), IF($B8=\"Gross Adds\",SUMIFS(Weekly_Data_Raw[GROSS_ADDS],Weekly_Data_Raw[TICKER],'Weekly Metrics'!$A8,Weekly_Data_Raw[END_DATE],'Weekly Metrics'!BP$5), IF($B8=\"Churn\",SUMIFS(Weekly_Data_Raw[CHURNED_MEMBERS],Weekly_Data_Raw[TICKER],'Weekly Metrics'!$A8,Weekly_Data_Raw[END_DATE],'Weekly Metrics'!BP$5)))))))","v":1292},{"$f":"IF($B8=\"Panel Sales\", SUMIFS(Weekly_Data_Raw[PANEL_AMOUNT],Weekly_Data_Raw[TICKER],'Weekly Metrics'!$A8,Weekly_Data_Raw[END_DATE],'Weekly Metrics'!BQ$5),IF($B8=\"Transactions\",SUMIFS(Weekly_Data_Raw[PANEL_TRANSACTIONS],Weekly_Data_Raw[TICKER],'Weekly Metrics'!$A8,Weekly_Data_Raw[END_DATE],'Weekly Metrics'!BQ$5), IF($B8=\"Avg Ticket\",SUMIFS(Weekly_Data_Raw[AVG_TICKET],Weekly_Data_Raw[TICKER],'Weekly Metrics'!$A8,Weekly_Data_Raw[END_DATE],'Weekly Metrics'!BQ$5), IF($B8=\"EOP Subscribers\",SUMIFS(Weekly_Data_Raw[EOP_SUBSCRIBERS],Weekly_Data_Raw[TICKER],'Weekly Metrics'!$A8,Weekly_Data_Raw[END_DATE],'Weekly Metrics'!BQ$5), IF($B8=\"Gross Adds\",SUMIFS(Weekly_Data_Raw[GROSS_ADDS],Weekly_Data_Raw[TICKER],'Weekly Metrics'!$A8,Weekly_Data_Raw[END_DATE],'Weekly Metrics'!BQ$5), IF($B8=\"Churn\",SUMIFS(Weekly_Data_Raw[CHURNED_MEMBERS],Weekly_Data_Raw[TICKER],'Weekly Metrics'!$A8,Weekly_Data_Raw[END_DATE],'Weekly Metrics'!BQ$5)))))))","v":994},{"$f":"IF($B8=\"Panel Sales\", SUMIFS(Weekly_Data_Raw[PANEL_AMOUNT],Weekly_Data_Raw[TICKER],'Weekly Metrics'!$A8,Weekly_Data_Raw[END_DATE],'Weekly Metrics'!BR$5),IF($B8=\"Transactions\",SUMIFS(Weekly_Data_Raw[PANEL_TRANSACTIONS],Weekly_Data_Raw[TICKER],'Weekly Metrics'!$A8,Weekly_Data_Raw[END_DATE],'Weekly Metrics'!BR$5), IF($B8=\"Avg Ticket\",SUMIFS(Weekly_Data_Raw[AVG_TICKET],Weekly_Data_Raw[TICKER],'Weekly Metrics'!$A8,Weekly_Data_Raw[END_DATE],'Weekly Metrics'!BR$5), IF($B8=\"EOP Subscribers\",SUMIFS(Weekly_Data_Raw[EOP_SUBSCRIBERS],Weekly_Data_Raw[TICKER],'Weekly Metrics'!$A8,Weekly_Data_Raw[END_DATE],'Weekly Metrics'!BR$5), IF($B8=\"Gross Adds\",SUMIFS(Weekly_Data_Raw[GROSS_ADDS],Weekly_Data_Raw[TICKER],'Weekly Metrics'!$A8,Weekly_Data_Raw[END_DATE],'Weekly Metrics'!BR$5), IF($B8=\"Churn\",SUMIFS(Weekly_Data_Raw[CHURNED_MEMBERS],Weekly_Data_Raw[TICKER],'Weekly Metrics'!$A8,Weekly_Data_Raw[END_DATE],'Weekly Metrics'!BR$5)))))))","v":1133},{"$f":"IF($B8=\"Panel Sales\", SUMIFS(Weekly_Data_Raw[PANEL_AMOUNT],Weekly_Data_Raw[TICKER],'Weekly Metrics'!$A8,Weekly_Data_Raw[END_DATE],'Weekly Metrics'!BS$5),IF($B8=\"Transactions\",SUMIFS(Weekly_Data_Raw[PANEL_TRANSACTIONS],Weekly_Data_Raw[TICKER],'Weekly Metrics'!$A8,Weekly_Data_Raw[END_DATE],'Weekly Metrics'!BS$5), IF($B8=\"Avg Ticket\",SUMIFS(Weekly_Data_Raw[AVG_TICKET],Weekly_Data_Raw[TICKER],'Weekly Metrics'!$A8,Weekly_Data_Raw[END_DATE],'Weekly Metrics'!BS$5), IF($B8=\"EOP Subscribers\",SUMIFS(Weekly_Data_Raw[EOP_SUBSCRIBERS],Weekly_Data_Raw[TICKER],'Weekly Metrics'!$A8,Weekly_Data_Raw[END_DATE],'Weekly Metrics'!BS$5), IF($B8=\"Gross Adds\",SUMIFS(Weekly_Data_Raw[GROSS_ADDS],Weekly_Data_Raw[TICKER],'Weekly Metrics'!$A8,Weekly_Data_Raw[END_DATE],'Weekly Metrics'!BS$5), IF($B8=\"Churn\",SUMIFS(Weekly_Data_Raw[CHURNED_MEMBERS],Weekly_Data_Raw[TICKER],'Weekly Metrics'!$A8,Weekly_Data_Raw[END_DATE],'Weekly Metrics'!BS$5)))))))","v":1276},{"$f":"IF($B8=\"Panel Sales\", SUMIFS(Weekly_Data_Raw[PANEL_AMOUNT],Weekly_Data_Raw[TICKER],'Weekly Metrics'!$A8,Weekly_Data_Raw[END_DATE],'Weekly Metrics'!BT$5),IF($B8=\"Transactions\",SUMIFS(Weekly_Data_Raw[PANEL_TRANSACTIONS],Weekly_Data_Raw[TICKER],'Weekly Metrics'!$A8,Weekly_Data_Raw[END_DATE],'Weekly Metrics'!BT$5), IF($B8=\"Avg Ticket\",SUMIFS(Weekly_Data_Raw[AVG_TICKET],Weekly_Data_Raw[TICKER],'Weekly Metrics'!$A8,Weekly_Data_Raw[END_DATE],'Weekly Metrics'!BT$5), IF($B8=\"EOP Subscribers\",SUMIFS(Weekly_Data_Raw[EOP_SUBSCRIBERS],Weekly_Data_Raw[TICKER],'Weekly Metrics'!$A8,Weekly_Data_Raw[END_DATE],'Weekly Metrics'!BT$5), IF($B8=\"Gross Adds\",SUMIFS(Weekly_Data_Raw[GROSS_ADDS],Weekly_Data_Raw[TICKER],'Weekly Metrics'!$A8,Weekly_Data_Raw[END_DATE],'Weekly Metrics'!BT$5), IF($B8=\"Churn\",SUMIFS(Weekly_Data_Raw[CHURNED_MEMBERS],Weekly_Data_Raw[TICKER],'Weekly Metrics'!$A8,Weekly_Data_Raw[END_DATE],'Weekly Metrics'!BT$5)))))))","v":1538},{"$f":"IF($B8=\"Panel Sales\", SUMIFS(Weekly_Data_Raw[PANEL_AMOUNT],Weekly_Data_Raw[TICKER],'Weekly Metrics'!$A8,Weekly_Data_Raw[END_DATE],'Weekly Metrics'!BU$5),IF($B8=\"Transactions\",SUMIFS(Weekly_Data_Raw[PANEL_TRANSACTIONS],Weekly_Data_Raw[TICKER],'Weekly Metrics'!$A8,Weekly_Data_Raw[END_DATE],'Weekly Metrics'!BU$5), IF($B8=\"Avg Ticket\",SUMIFS(Weekly_Data_Raw[AVG_TICKET],Weekly_Data_Raw[TICKER],'Weekly Metrics'!$A8,Weekly_Data_Raw[END_DATE],'Weekly Metrics'!BU$5), IF($B8=\"EOP Subscribers\",SUMIFS(Weekly_Data_Raw[EOP_SUBSCRIBERS],Weekly_Data_Raw[TICKER],'Weekly Metrics'!$A8,Weekly_Data_Raw[END_DATE],'Weekly Metrics'!BU$5), IF($B8=\"Gross Adds\",SUMIFS(Weekly_Data_Raw[GROSS_ADDS],Weekly_Data_Raw[TICKER],'Weekly Metrics'!$A8,Weekly_Data_Raw[END_DATE],'Weekly Metrics'!BU$5), IF($B8=\"Churn\",SUMIFS(Weekly_Data_Raw[CHURNED_MEMBERS],Weekly_Data_Raw[TICKER],'Weekly Metrics'!$A8,Weekly_Data_Raw[END_DATE],'Weekly Metrics'!BU$5)))))))","v":1267},{"$f":"IF($B8=\"Panel Sales\", SUMIFS(Weekly_Data_Raw[PANEL_AMOUNT],Weekly_Data_Raw[TICKER],'Weekly Metrics'!$A8,Weekly_Data_Raw[END_DATE],'Weekly Metrics'!BV$5),IF($B8=\"Transactions\",SUMIFS(Weekly_Data_Raw[PANEL_TRANSACTIONS],Weekly_Data_Raw[TICKER],'Weekly Metrics'!$A8,Weekly_Data_Raw[END_DATE],'Weekly Metrics'!BV$5), IF($B8=\"Avg Ticket\",SUMIFS(Weekly_Data_Raw[AVG_TICKET],Weekly_Data_Raw[TICKER],'Weekly Metrics'!$A8,Weekly_Data_Raw[END_DATE],'Weekly Metrics'!BV$5), IF($B8=\"EOP Subscribers\",SUMIFS(Weekly_Data_Raw[EOP_SUBSCRIBERS],Weekly_Data_Raw[TICKER],'Weekly Metrics'!$A8,Weekly_Data_Raw[END_DATE],'Weekly Metrics'!BV$5), IF($B8=\"Gross Adds\",SUMIFS(Weekly_Data_Raw[GROSS_ADDS],Weekly_Data_Raw[TICKER],'Weekly Metrics'!$A8,Weekly_Data_Raw[END_DATE],'Weekly Metrics'!BV$5), IF($B8=\"Churn\",SUMIFS(Weekly_Data_Raw[CHURNED_MEMBERS],Weekly_Data_Raw[TICKER],'Weekly Metrics'!$A8,Weekly_Data_Raw[END_DATE],'Weekly Metrics'!BV$5)))))))","v":1197},{"$f":"IF($B8=\"Panel Sales\", SUMIFS(Weekly_Data_Raw[PANEL_AMOUNT],Weekly_Data_Raw[TICKER],'Weekly Metrics'!$A8,Weekly_Data_Raw[END_DATE],'Weekly Metrics'!BW$5),IF($B8=\"Transactions\",SUMIFS(Weekly_Data_Raw[PANEL_TRANSACTIONS],Weekly_Data_Raw[TICKER],'Weekly Metrics'!$A8,Weekly_Data_Raw[END_DATE],'Weekly Metrics'!BW$5), IF($B8=\"Avg Ticket\",SUMIFS(Weekly_Data_Raw[AVG_TICKET],Weekly_Data_Raw[TICKER],'Weekly Metrics'!$A8,Weekly_Data_Raw[END_DATE],'Weekly Metrics'!BW$5), IF($B8=\"EOP Subscribers\",SUMIFS(Weekly_Data_Raw[EOP_SUBSCRIBERS],Weekly_Data_Raw[TICKER],'Weekly Metrics'!$A8,Weekly_Data_Raw[END_DATE],'Weekly Metrics'!BW$5), IF($B8=\"Gross Adds\",SUMIFS(Weekly_Data_Raw[GROSS_ADDS],Weekly_Data_Raw[TICKER],'Weekly Metrics'!$A8,Weekly_Data_Raw[END_DATE],'Weekly Metrics'!BW$5), IF($B8=\"Churn\",SUMIFS(Weekly_Data_Raw[CHURNED_MEMBERS],Weekly_Data_Raw[TICKER],'Weekly Metrics'!$A8,Weekly_Data_Raw[END_DATE],'Weekly Metrics'!BW$5)))))))","v":1462},{"$f":"IF($B8=\"Panel Sales\", SUMIFS(Weekly_Data_Raw[PANEL_AMOUNT],Weekly_Data_Raw[TICKER],'Weekly Metrics'!$A8,Weekly_Data_Raw[END_DATE],'Weekly Metrics'!BX$5),IF($B8=\"Transactions\",SUMIFS(Weekly_Data_Raw[PANEL_TRANSACTIONS],Weekly_Data_Raw[TICKER],'Weekly Metrics'!$A8,Weekly_Data_Raw[END_DATE],'Weekly Metrics'!BX$5), IF($B8=\"Avg Ticket\",SUMIFS(Weekly_Data_Raw[AVG_TICKET],Weekly_Data_Raw[TICKER],'Weekly Metrics'!$A8,Weekly_Data_Raw[END_DATE],'Weekly Metrics'!BX$5), IF($B8=\"EOP Subscribers\",SUMIFS(Weekly_Data_Raw[EOP_SUBSCRIBERS],Weekly_Data_Raw[TICKER],'Weekly Metrics'!$A8,Weekly_Data_Raw[END_DATE],'Weekly Metrics'!BX$5), IF($B8=\"Gross Adds\",SUMIFS(Weekly_Data_Raw[GROSS_ADDS],Weekly_Data_Raw[TICKER],'Weekly Metrics'!$A8,Weekly_Data_Raw[END_DATE],'Weekly Metrics'!BX$5), IF($B8=\"Churn\",SUMIFS(Weekly_Data_Raw[CHURNED_MEMBERS],Weekly_Data_Raw[TICKER],'Weekly Metrics'!$A8,Weekly_Data_Raw[END_DATE],'Weekly Metrics'!BX$5)))))))","v":1358},{"$f":"IF($B8=\"Panel Sales\", SUMIFS(Weekly_Data_Raw[PANEL_AMOUNT],Weekly_Data_Raw[TICKER],'Weekly Metrics'!$A8,Weekly_Data_Raw[END_DATE],'Weekly Metrics'!BY$5),IF($B8=\"Transactions\",SUMIFS(Weekly_Data_Raw[PANEL_TRANSACTIONS],Weekly_Data_Raw[TICKER],'Weekly Metrics'!$A8,Weekly_Data_Raw[END_DATE],'Weekly Metrics'!BY$5), IF($B8=\"Avg Ticket\",SUMIFS(Weekly_Data_Raw[AVG_TICKET],Weekly_Data_Raw[TICKER],'Weekly Metrics'!$A8,Weekly_Data_Raw[END_DATE],'Weekly Metrics'!BY$5), IF($B8=\"EOP Subscribers\",SUMIFS(Weekly_Data_Raw[EOP_SUBSCRIBERS],Weekly_Data_Raw[TICKER],'Weekly Metrics'!$A8,Weekly_Data_Raw[END_DATE],'Weekly Metrics'!BY$5), IF($B8=\"Gross Adds\",SUMIFS(Weekly_Data_Raw[GROSS_ADDS],Weekly_Data_Raw[TICKER],'Weekly Metrics'!$A8,Weekly_Data_Raw[END_DATE],'Weekly Metrics'!BY$5), IF($B8=\"Churn\",SUMIFS(Weekly_Data_Raw[CHURNED_MEMBERS],Weekly_Data_Raw[TICKER],'Weekly Metrics'!$A8,Weekly_Data_Raw[END_DATE],'Weekly Metrics'!BY$5)))))))","v":1236},{"$f":"IF($B8=\"Panel Sales\", SUMIFS(Weekly_Data_Raw[PANEL_AMOUNT],Weekly_Data_Raw[TICKER],'Weekly Metrics'!$A8,Weekly_Data_Raw[END_DATE],'Weekly Metrics'!BZ$5),IF($B8=\"Transactions\",SUMIFS(Weekly_Data_Raw[PANEL_TRANSACTIONS],Weekly_Data_Raw[TICKER],'Weekly Metrics'!$A8,Weekly_Data_Raw[END_DATE],'Weekly Metrics'!BZ$5), IF($B8=\"Avg Ticket\",SUMIFS(Weekly_Data_Raw[AVG_TICKET],Weekly_Data_Raw[TICKER],'Weekly Metrics'!$A8,Weekly_Data_Raw[END_DATE],'Weekly Metrics'!BZ$5), IF($B8=\"EOP Subscribers\",SUMIFS(Weekly_Data_Raw[EOP_SUBSCRIBERS],Weekly_Data_Raw[TICKER],'Weekly Metrics'!$A8,Weekly_Data_Raw[END_DATE],'Weekly Metrics'!BZ$5), IF($B8=\"Gross Adds\",SUMIFS(Weekly_Data_Raw[GROSS_ADDS],Weekly_Data_Raw[TICKER],'Weekly Metrics'!$A8,Weekly_Data_Raw[END_DATE],'Weekly Metrics'!BZ$5), IF($B8=\"Churn\",SUMIFS(Weekly_Data_Raw[CHURNED_MEMBERS],Weekly_Data_Raw[TICKER],'Weekly Metrics'!$A8,Weekly_Data_Raw[END_DATE],'Weekly Metrics'!BZ$5)))))))","v":1137},{"$f":"IF($B8=\"Panel Sales\", SUMIFS(Weekly_Data_Raw[PANEL_AMOUNT],Weekly_Data_Raw[TICKER],'Weekly Metrics'!$A8,Weekly_Data_Raw[END_DATE],'Weekly Metrics'!CA$5),IF($B8=\"Transactions\",SUMIFS(Weekly_Data_Raw[PANEL_TRANSACTIONS],Weekly_Data_Raw[TICKER],'Weekly Metrics'!$A8,Weekly_Data_Raw[END_DATE],'Weekly Metrics'!CA$5), IF($B8=\"Avg Ticket\",SUMIFS(Weekly_Data_Raw[AVG_TICKET],Weekly_Data_Raw[TICKER],'Weekly Metrics'!$A8,Weekly_Data_Raw[END_DATE],'Weekly Metrics'!CA$5), IF($B8=\"EOP Subscribers\",SUMIFS(Weekly_Data_Raw[EOP_SUBSCRIBERS],Weekly_Data_Raw[TICKER],'Weekly Metrics'!$A8,Weekly_Data_Raw[END_DATE],'Weekly Metrics'!CA$5), IF($B8=\"Gross Adds\",SUMIFS(Weekly_Data_Raw[GROSS_ADDS],Weekly_Data_Raw[TICKER],'Weekly Metrics'!$A8,Weekly_Data_Raw[END_DATE],'Weekly Metrics'!CA$5), IF($B8=\"Churn\",SUMIFS(Weekly_Data_Raw[CHURNED_MEMBERS],Weekly_Data_Raw[TICKER],'Weekly Metrics'!$A8,Weekly_Data_Raw[END_DATE],'Weekly Metrics'!CA$5)))))))","v":861},{"$f":"IF($B8=\"Panel Sales\", SUMIFS(Weekly_Data_Raw[PANEL_AMOUNT],Weekly_Data_Raw[TICKER],'Weekly Metrics'!$A8,Weekly_Data_Raw[END_DATE],'Weekly Metrics'!CB$5),IF($B8=\"Transactions\",SUMIFS(Weekly_Data_Raw[PANEL_TRANSACTIONS],Weekly_Data_Raw[TICKER],'Weekly Metrics'!$A8,Weekly_Data_Raw[END_DATE],'Weekly Metrics'!CB$5), IF($B8=\"Avg Ticket\",SUMIFS(Weekly_Data_Raw[AVG_TICKET],Weekly_Data_Raw[TICKER],'Weekly Metrics'!$A8,Weekly_Data_Raw[END_DATE],'Weekly Metrics'!CB$5), IF($B8=\"EOP Subscribers\",SUMIFS(Weekly_Data_Raw[EOP_SUBSCRIBERS],Weekly_Data_Raw[TICKER],'Weekly Metrics'!$A8,Weekly_Data_Raw[END_DATE],'Weekly Metrics'!CB$5), IF($B8=\"Gross Adds\",SUMIFS(Weekly_Data_Raw[GROSS_ADDS],Weekly_Data_Raw[TICKER],'Weekly Metrics'!$A8,Weekly_Data_Raw[END_DATE],'Weekly Metrics'!CB$5), IF($B8=\"Churn\",SUMIFS(Weekly_Data_Raw[CHURNED_MEMBERS],Weekly_Data_Raw[TICKER],'Weekly Metrics'!$A8,Weekly_Data_Raw[END_DATE],'Weekly Metrics'!CB$5)))))))","v":898},{"$f":"IF($B8=\"Panel Sales\", SUMIFS(Weekly_Data_Raw[PANEL_AMOUNT],Weekly_Data_Raw[TICKER],'Weekly Metrics'!$A8,Weekly_Data_Raw[END_DATE],'Weekly Metrics'!CC$5),IF($B8=\"Transactions\",SUMIFS(Weekly_Data_Raw[PANEL_TRANSACTIONS],Weekly_Data_Raw[TICKER],'Weekly Metrics'!$A8,Weekly_Data_Raw[END_DATE],'Weekly Metrics'!CC$5), IF($B8=\"Avg Ticket\",SUMIFS(Weekly_Data_Raw[AVG_TICKET],Weekly_Data_Raw[TICKER],'Weekly Metrics'!$A8,Weekly_Data_Raw[END_DATE],'Weekly Metrics'!CC$5), IF($B8=\"EOP Subscribers\",SUMIFS(Weekly_Data_Raw[EOP_SUBSCRIBERS],Weekly_Data_Raw[TICKER],'Weekly Metrics'!$A8,Weekly_Data_Raw[END_DATE],'Weekly Metrics'!CC$5), IF($B8=\"Gross Adds\",SUMIFS(Weekly_Data_Raw[GROSS_ADDS],Weekly_Data_Raw[TICKER],'Weekly Metrics'!$A8,Weekly_Data_Raw[END_DATE],'Weekly Metrics'!CC$5), IF($B8=\"Churn\",SUMIFS(Weekly_Data_Raw[CHURNED_MEMBERS],Weekly_Data_Raw[TICKER],'Weekly Metrics'!$A8,Weekly_Data_Raw[END_DATE],'Weekly Metrics'!CC$5)))))))","v":750},{"$f":"IF($B8=\"Panel Sales\", SUMIFS(Weekly_Data_Raw[PANEL_AMOUNT],Weekly_Data_Raw[TICKER],'Weekly Metrics'!$A8,Weekly_Data_Raw[END_DATE],'Weekly Metrics'!CD$5),IF($B8=\"Transactions\",SUMIFS(Weekly_Data_Raw[PANEL_TRANSACTIONS],Weekly_Data_Raw[TICKER],'Weekly Metrics'!$A8,Weekly_Data_Raw[END_DATE],'Weekly Metrics'!CD$5), IF($B8=\"Avg Ticket\",SUMIFS(Weekly_Data_Raw[AVG_TICKET],Weekly_Data_Raw[TICKER],'Weekly Metrics'!$A8,Weekly_Data_Raw[END_DATE],'Weekly Metrics'!CD$5), IF($B8=\"EOP Subscribers\",SUMIFS(Weekly_Data_Raw[EOP_SUBSCRIBERS],Weekly_Data_Raw[TICKER],'Weekly Metrics'!$A8,Weekly_Data_Raw[END_DATE],'Weekly Metrics'!CD$5), IF($B8=\"Gross Adds\",SUMIFS(Weekly_Data_Raw[GROSS_ADDS],Weekly_Data_Raw[TICKER],'Weekly Metrics'!$A8,Weekly_Data_Raw[END_DATE],'Weekly Metrics'!CD$5), IF($B8=\"Churn\",SUMIFS(Weekly_Data_Raw[CHURNED_MEMBERS],Weekly_Data_Raw[TICKER],'Weekly Metrics'!$A8,Weekly_Data_Raw[END_DATE],'Weekly Metrics'!CD$5)))))))","v":771},{"$f":"IF($B8=\"Panel Sales\", SUMIFS(Weekly_Data_Raw[PANEL_AMOUNT],Weekly_Data_Raw[TICKER],'Weekly Metrics'!$A8,Weekly_Data_Raw[END_DATE],'Weekly Metrics'!CE$5),IF($B8=\"Transactions\",SUMIFS(Weekly_Data_Raw[PANEL_TRANSACTIONS],Weekly_Data_Raw[TICKER],'Weekly Metrics'!$A8,Weekly_Data_Raw[END_DATE],'Weekly Metrics'!CE$5), IF($B8=\"Avg Ticket\",SUMIFS(Weekly_Data_Raw[AVG_TICKET],Weekly_Data_Raw[TICKER],'Weekly Metrics'!$A8,Weekly_Data_Raw[END_DATE],'Weekly Metrics'!CE$5), IF($B8=\"EOP Subscribers\",SUMIFS(Weekly_Data_Raw[EOP_SUBSCRIBERS],Weekly_Data_Raw[TICKER],'Weekly Metrics'!$A8,Weekly_Data_Raw[END_DATE],'Weekly Metrics'!CE$5), IF($B8=\"Gross Adds\",SUMIFS(Weekly_Data_Raw[GROSS_ADDS],Weekly_Data_Raw[TICKER],'Weekly Metrics'!$A8,Weekly_Data_Raw[END_DATE],'Weekly Metrics'!CE$5), IF($B8=\"Churn\",SUMIFS(Weekly_Data_Raw[CHURNED_MEMBERS],Weekly_Data_Raw[TICKER],'Weekly Metrics'!$A8,Weekly_Data_Raw[END_DATE],'Weekly Metrics'!CE$5)))))))","v":722},{"$f":"IF($B8=\"Panel Sales\", SUMIFS(Weekly_Data_Raw[PANEL_AMOUNT],Weekly_Data_Raw[TICKER],'Weekly Metrics'!$A8,Weekly_Data_Raw[END_DATE],'Weekly Metrics'!CF$5),IF($B8=\"Transactions\",SUMIFS(Weekly_Data_Raw[PANEL_TRANSACTIONS],Weekly_Data_Raw[TICKER],'Weekly Metrics'!$A8,Weekly_Data_Raw[END_DATE],'Weekly Metrics'!CF$5), IF($B8=\"Avg Ticket\",SUMIFS(Weekly_Data_Raw[AVG_TICKET],Weekly_Data_Raw[TICKER],'Weekly Metrics'!$A8,Weekly_Data_Raw[END_DATE],'Weekly Metrics'!CF$5), IF($B8=\"EOP Subscribers\",SUMIFS(Weekly_Data_Raw[EOP_SUBSCRIBERS],Weekly_Data_Raw[TICKER],'Weekly Metrics'!$A8,Weekly_Data_Raw[END_DATE],'Weekly Metrics'!CF$5), IF($B8=\"Gross Adds\",SUMIFS(Weekly_Data_Raw[GROSS_ADDS],Weekly_Data_Raw[TICKER],'Weekly Metrics'!$A8,Weekly_Data_Raw[END_DATE],'Weekly Metrics'!CF$5), IF($B8=\"Churn\",SUMIFS(Weekly_Data_Raw[CHURNED_MEMBERS],Weekly_Data_Raw[TICKER],'Weekly Metrics'!$A8,Weekly_Data_Raw[END_DATE],'Weekly Metrics'!CF$5)))))))","v":676},{"$f":"IF($B8=\"Panel Sales\", SUMIFS(Weekly_Data_Raw[PANEL_AMOUNT],Weekly_Data_Raw[TICKER],'Weekly Metrics'!$A8,Weekly_Data_Raw[END_DATE],'Weekly Metrics'!CG$5),IF($B8=\"Transactions\",SUMIFS(Weekly_Data_Raw[PANEL_TRANSACTIONS],Weekly_Data_Raw[TICKER],'Weekly Metrics'!$A8,Weekly_Data_Raw[END_DATE],'Weekly Metrics'!CG$5), IF($B8=\"Avg Ticket\",SUMIFS(Weekly_Data_Raw[AVG_TICKET],Weekly_Data_Raw[TICKER],'Weekly Metrics'!$A8,Weekly_Data_Raw[END_DATE],'Weekly Metrics'!CG$5), IF($B8=\"EOP Subscribers\",SUMIFS(Weekly_Data_Raw[EOP_SUBSCRIBERS],Weekly_Data_Raw[TICKER],'Weekly Metrics'!$A8,Weekly_Data_Raw[END_DATE],'Weekly Metrics'!CG$5), IF($B8=\"Gross Adds\",SUMIFS(Weekly_Data_Raw[GROSS_ADDS],Weekly_Data_Raw[TICKER],'Weekly Metrics'!$A8,Weekly_Data_Raw[END_DATE],'Weekly Metrics'!CG$5), IF($B8=\"Churn\",SUMIFS(Weekly_Data_Raw[CHURNED_MEMBERS],Weekly_Data_Raw[TICKER],'Weekly Metrics'!$A8,Weekly_Data_Raw[END_DATE],'Weekly Metrics'!CG$5)))))))","v":764},{"$f":"IF($B8=\"Panel Sales\", SUMIFS(Weekly_Data_Raw[PANEL_AMOUNT],Weekly_Data_Raw[TICKER],'Weekly Metrics'!$A8,Weekly_Data_Raw[END_DATE],'Weekly Metrics'!CH$5),IF($B8=\"Transactions\",SUMIFS(Weekly_Data_Raw[PANEL_TRANSACTIONS],Weekly_Data_Raw[TICKER],'Weekly Metrics'!$A8,Weekly_Data_Raw[END_DATE],'Weekly Metrics'!CH$5), IF($B8=\"Avg Ticket\",SUMIFS(Weekly_Data_Raw[AVG_TICKET],Weekly_Data_Raw[TICKER],'Weekly Metrics'!$A8,Weekly_Data_Raw[END_DATE],'Weekly Metrics'!CH$5), IF($B8=\"EOP Subscribers\",SUMIFS(Weekly_Data_Raw[EOP_SUBSCRIBERS],Weekly_Data_Raw[TICKER],'Weekly Metrics'!$A8,Weekly_Data_Raw[END_DATE],'Weekly Metrics'!CH$5), IF($B8=\"Gross Adds\",SUMIFS(Weekly_Data_Raw[GROSS_ADDS],Weekly_Data_Raw[TICKER],'Weekly Metrics'!$A8,Weekly_Data_Raw[END_DATE],'Weekly Metrics'!CH$5), IF($B8=\"Churn\",SUMIFS(Weekly_Data_Raw[CHURNED_MEMBERS],Weekly_Data_Raw[TICKER],'Weekly Metrics'!$A8,Weekly_Data_Raw[END_DATE],'Weekly Metrics'!CH$5)))))))","v":736},{"$f":"IF($B8=\"Panel Sales\", SUMIFS(Weekly_Data_Raw[PANEL_AMOUNT],Weekly_Data_Raw[TICKER],'Weekly Metrics'!$A8,Weekly_Data_Raw[END_DATE],'Weekly Metrics'!CI$5),IF($B8=\"Transactions\",SUMIFS(Weekly_Data_Raw[PANEL_TRANSACTIONS],Weekly_Data_Raw[TICKER],'Weekly Metrics'!$A8,Weekly_Data_Raw[END_DATE],'Weekly Metrics'!CI$5), IF($B8=\"Avg Ticket\",SUMIFS(Weekly_Data_Raw[AVG_TICKET],Weekly_Data_Raw[TICKER],'Weekly Metrics'!$A8,Weekly_Data_Raw[END_DATE],'Weekly Metrics'!CI$5), IF($B8=\"EOP Subscribers\",SUMIFS(Weekly_Data_Raw[EOP_SUBSCRIBERS],Weekly_Data_Raw[TICKER],'Weekly Metrics'!$A8,Weekly_Data_Raw[END_DATE],'Weekly Metrics'!CI$5), IF($B8=\"Gross Adds\",SUMIFS(Weekly_Data_Raw[GROSS_ADDS],Weekly_Data_Raw[TICKER],'Weekly Metrics'!$A8,Weekly_Data_Raw[END_DATE],'Weekly Metrics'!CI$5), IF($B8=\"Churn\",SUMIFS(Weekly_Data_Raw[CHURNED_MEMBERS],Weekly_Data_Raw[TICKER],'Weekly Metrics'!$A8,Weekly_Data_Raw[END_DATE],'Weekly Metrics'!CI$5)))))))","v":666},{"$f":"IF($B8=\"Panel Sales\", SUMIFS(Weekly_Data_Raw[PANEL_AMOUNT],Weekly_Data_Raw[TICKER],'Weekly Metrics'!$A8,Weekly_Data_Raw[END_DATE],'Weekly Metrics'!CJ$5),IF($B8=\"Transactions\",SUMIFS(Weekly_Data_Raw[PANEL_TRANSACTIONS],Weekly_Data_Raw[TICKER],'Weekly Metrics'!$A8,Weekly_Data_Raw[END_DATE],'Weekly Metrics'!CJ$5), IF($B8=\"Avg Ticket\",SUMIFS(Weekly_Data_Raw[AVG_TICKET],Weekly_Data_Raw[TICKER],'Weekly Metrics'!$A8,Weekly_Data_Raw[END_DATE],'Weekly Metrics'!CJ$5), IF($B8=\"EOP Subscribers\",SUMIFS(Weekly_Data_Raw[EOP_SUBSCRIBERS],Weekly_Data_Raw[TICKER],'Weekly Metrics'!$A8,Weekly_Data_Raw[END_DATE],'Weekly Metrics'!CJ$5), IF($B8=\"Gross Adds\",SUMIFS(Weekly_Data_Raw[GROSS_ADDS],Weekly_Data_Raw[TICKER],'Weekly Metrics'!$A8,Weekly_Data_Raw[END_DATE],'Weekly Metrics'!CJ$5), IF($B8=\"Churn\",SUMIFS(Weekly_Data_Raw[CHURNED_MEMBERS],Weekly_Data_Raw[TICKER],'Weekly Metrics'!$A8,Weekly_Data_Raw[END_DATE],'Weekly Metrics'!CJ$5)))))))","v":701},{"$f":"IF($B8=\"Panel Sales\", SUMIFS(Weekly_Data_Raw[PANEL_AMOUNT],Weekly_Data_Raw[TICKER],'Weekly Metrics'!$A8,Weekly_Data_Raw[END_DATE],'Weekly Metrics'!CK$5),IF($B8=\"Transactions\",SUMIFS(Weekly_Data_Raw[PANEL_TRANSACTIONS],Weekly_Data_Raw[TICKER],'Weekly Metrics'!$A8,Weekly_Data_Raw[END_DATE],'Weekly Metrics'!CK$5), IF($B8=\"Avg Ticket\",SUMIFS(Weekly_Data_Raw[AVG_TICKET],Weekly_Data_Raw[TICKER],'Weekly Metrics'!$A8,Weekly_Data_Raw[END_DATE],'Weekly Metrics'!CK$5), IF($B8=\"EOP Subscribers\",SUMIFS(Weekly_Data_Raw[EOP_SUBSCRIBERS],Weekly_Data_Raw[TICKER],'Weekly Metrics'!$A8,Weekly_Data_Raw[END_DATE],'Weekly Metrics'!CK$5), IF($B8=\"Gross Adds\",SUMIFS(Weekly_Data_Raw[GROSS_ADDS],Weekly_Data_Raw[TICKER],'Weekly Metrics'!$A8,Weekly_Data_Raw[END_DATE],'Weekly Metrics'!CK$5), IF($B8=\"Churn\",SUMIFS(Weekly_Data_Raw[CHURNED_MEMBERS],Weekly_Data_Raw[TICKER],'Weekly Metrics'!$A8,Weekly_Data_Raw[END_DATE],'Weekly Metrics'!CK$5)))))))","v":691},{"$f":"IF($B8=\"Panel Sales\", SUMIFS(Weekly_Data_Raw[PANEL_AMOUNT],Weekly_Data_Raw[TICKER],'Weekly Metrics'!$A8,Weekly_Data_Raw[END_DATE],'Weekly Metrics'!CL$5),IF($B8=\"Transactions\",SUMIFS(Weekly_Data_Raw[PANEL_TRANSACTIONS],Weekly_Data_Raw[TICKER],'Weekly Metrics'!$A8,Weekly_Data_Raw[END_DATE],'Weekly Metrics'!CL$5), IF($B8=\"Avg Ticket\",SUMIFS(Weekly_Data_Raw[AVG_TICKET],Weekly_Data_Raw[TICKER],'Weekly Metrics'!$A8,Weekly_Data_Raw[END_DATE],'Weekly Metrics'!CL$5), IF($B8=\"EOP Subscribers\",SUMIFS(Weekly_Data_Raw[EOP_SUBSCRIBERS],Weekly_Data_Raw[TICKER],'Weekly Metrics'!$A8,Weekly_Data_Raw[END_DATE],'Weekly Metrics'!CL$5), IF($B8=\"Gross Adds\",SUMIFS(Weekly_Data_Raw[GROSS_ADDS],Weekly_Data_Raw[TICKER],'Weekly Metrics'!$A8,Weekly_Data_Raw[END_DATE],'Weekly Metrics'!CL$5), IF($B8=\"Churn\",SUMIFS(Weekly_Data_Raw[CHURNED_MEMBERS],Weekly_Data_Raw[TICKER],'Weekly Metrics'!$A8,Weekly_Data_Raw[END_DATE],'Weekly Metrics'!CL$5)))))))","v":721},{"$f":"IF($B8=\"Panel Sales\", SUMIFS(Weekly_Data_Raw[PANEL_AMOUNT],Weekly_Data_Raw[TICKER],'Weekly Metrics'!$A8,Weekly_Data_Raw[END_DATE],'Weekly Metrics'!CM$5),IF($B8=\"Transactions\",SUMIFS(Weekly_Data_Raw[PANEL_TRANSACTIONS],Weekly_Data_Raw[TICKER],'Weekly Metrics'!$A8,Weekly_Data_Raw[END_DATE],'Weekly Metrics'!CM$5), IF($B8=\"Avg Ticket\",SUMIFS(Weekly_Data_Raw[AVG_TICKET],Weekly_Data_Raw[TICKER],'Weekly Metrics'!$A8,Weekly_Data_Raw[END_DATE],'Weekly Metrics'!CM$5), IF($B8=\"EOP Subscribers\",SUMIFS(Weekly_Data_Raw[EOP_SUBSCRIBERS],Weekly_Data_Raw[TICKER],'Weekly Metrics'!$A8,Weekly_Data_Raw[END_DATE],'Weekly Metrics'!CM$5), IF($B8=\"Gross Adds\",SUMIFS(Weekly_Data_Raw[GROSS_ADDS],Weekly_Data_Raw[TICKER],'Weekly Metrics'!$A8,Weekly_Data_Raw[END_DATE],'Weekly Metrics'!CM$5), IF($B8=\"Churn\",SUMIFS(Weekly_Data_Raw[CHURNED_MEMBERS],Weekly_Data_Raw[TICKER],'Weekly Metrics'!$A8,Weekly_Data_Raw[END_DATE],'Weekly Metrics'!CM$5)))))))","v":715},{"$f":"IF($B8=\"Panel Sales\", SUMIFS(Weekly_Data_Raw[PANEL_AMOUNT],Weekly_Data_Raw[TICKER],'Weekly Metrics'!$A8,Weekly_Data_Raw[END_DATE],'Weekly Metrics'!CN$5),IF($B8=\"Transactions\",SUMIFS(Weekly_Data_Raw[PANEL_TRANSACTIONS],Weekly_Data_Raw[TICKER],'Weekly Metrics'!$A8,Weekly_Data_Raw[END_DATE],'Weekly Metrics'!CN$5), IF($B8=\"Avg Ticket\",SUMIFS(Weekly_Data_Raw[AVG_TICKET],Weekly_Data_Raw[TICKER],'Weekly Metrics'!$A8,Weekly_Data_Raw[END_DATE],'Weekly Metrics'!CN$5), IF($B8=\"EOP Subscribers\",SUMIFS(Weekly_Data_Raw[EOP_SUBSCRIBERS],Weekly_Data_Raw[TICKER],'Weekly Metrics'!$A8,Weekly_Data_Raw[END_DATE],'Weekly Metrics'!CN$5), IF($B8=\"Gross Adds\",SUMIFS(Weekly_Data_Raw[GROSS_ADDS],Weekly_Data_Raw[TICKER],'Weekly Metrics'!$A8,Weekly_Data_Raw[END_DATE],'Weekly Metrics'!CN$5), IF($B8=\"Churn\",SUMIFS(Weekly_Data_Raw[CHURNED_MEMBERS],Weekly_Data_Raw[TICKER],'Weekly Metrics'!$A8,Weekly_Data_Raw[END_DATE],'Weekly Metrics'!CN$5)))))))","v":691},{"$f":"IF($B8=\"Panel Sales\", SUMIFS(Weekly_Data_Raw[PANEL_AMOUNT],Weekly_Data_Raw[TICKER],'Weekly Metrics'!$A8,Weekly_Data_Raw[END_DATE],'Weekly Metrics'!CO$5),IF($B8=\"Transactions\",SUMIFS(Weekly_Data_Raw[PANEL_TRANSACTIONS],Weekly_Data_Raw[TICKER],'Weekly Metrics'!$A8,Weekly_Data_Raw[END_DATE],'Weekly Metrics'!CO$5), IF($B8=\"Avg Ticket\",SUMIFS(Weekly_Data_Raw[AVG_TICKET],Weekly_Data_Raw[TICKER],'Weekly Metrics'!$A8,Weekly_Data_Raw[END_DATE],'Weekly Metrics'!CO$5), IF($B8=\"EOP Subscribers\",SUMIFS(Weekly_Data_Raw[EOP_SUBSCRIBERS],Weekly_Data_Raw[TICKER],'Weekly Metrics'!$A8,Weekly_Data_Raw[END_DATE],'Weekly Metrics'!CO$5), IF($B8=\"Gross Adds\",SUMIFS(Weekly_Data_Raw[GROSS_ADDS],Weekly_Data_Raw[TICKER],'Weekly Metrics'!$A8,Weekly_Data_Raw[END_DATE],'Weekly Metrics'!CO$5), IF($B8=\"Churn\",SUMIFS(Weekly_Data_Raw[CHURNED_MEMBERS],Weekly_Data_Raw[TICKER],'Weekly Metrics'!$A8,Weekly_Data_Raw[END_DATE],'Weekly Metrics'!CO$5)))))))","v":717},{"$f":"IF($B8=\"Panel Sales\", SUMIFS(Weekly_Data_Raw[PANEL_AMOUNT],Weekly_Data_Raw[TICKER],'Weekly Metrics'!$A8,Weekly_Data_Raw[END_DATE],'Weekly Metrics'!CP$5),IF($B8=\"Transactions\",SUMIFS(Weekly_Data_Raw[PANEL_TRANSACTIONS],Weekly_Data_Raw[TICKER],'Weekly Metrics'!$A8,Weekly_Data_Raw[END_DATE],'Weekly Metrics'!CP$5), IF($B8=\"Avg Ticket\",SUMIFS(Weekly_Data_Raw[AVG_TICKET],Weekly_Data_Raw[TICKER],'Weekly Metrics'!$A8,Weekly_Data_Raw[END_DATE],'Weekly Metrics'!CP$5), IF($B8=\"EOP Subscribers\",SUMIFS(Weekly_Data_Raw[EOP_SUBSCRIBERS],Weekly_Data_Raw[TICKER],'Weekly Metrics'!$A8,Weekly_Data_Raw[END_DATE],'Weekly Metrics'!CP$5), IF($B8=\"Gross Adds\",SUMIFS(Weekly_Data_Raw[GROSS_ADDS],Weekly_Data_Raw[TICKER],'Weekly Metrics'!$A8,Weekly_Data_Raw[END_DATE],'Weekly Metrics'!CP$5), IF($B8=\"Churn\",SUMIFS(Weekly_Data_Raw[CHURNED_MEMBERS],Weekly_Data_Raw[TICKER],'Weekly Metrics'!$A8,Weekly_Data_Raw[END_DATE],'Weekly Metrics'!CP$5)))))))","v":723},{"$f":"IF($B8=\"Panel Sales\", SUMIFS(Weekly_Data_Raw[PANEL_AMOUNT],Weekly_Data_Raw[TICKER],'Weekly Metrics'!$A8,Weekly_Data_Raw[END_DATE],'Weekly Metrics'!CQ$5),IF($B8=\"Transactions\",SUMIFS(Weekly_Data_Raw[PANEL_TRANSACTIONS],Weekly_Data_Raw[TICKER],'Weekly Metrics'!$A8,Weekly_Data_Raw[END_DATE],'Weekly Metrics'!CQ$5), IF($B8=\"Avg Ticket\",SUMIFS(Weekly_Data_Raw[AVG_TICKET],Weekly_Data_Raw[TICKER],'Weekly Metrics'!$A8,Weekly_Data_Raw[END_DATE],'Weekly Metrics'!CQ$5), IF($B8=\"EOP Subscribers\",SUMIFS(Weekly_Data_Raw[EOP_SUBSCRIBERS],Weekly_Data_Raw[TICKER],'Weekly Metrics'!$A8,Weekly_Data_Raw[END_DATE],'Weekly Metrics'!CQ$5), IF($B8=\"Gross Adds\",SUMIFS(Weekly_Data_Raw[GROSS_ADDS],Weekly_Data_Raw[TICKER],'Weekly Metrics'!$A8,Weekly_Data_Raw[END_DATE],'Weekly Metrics'!CQ$5), IF($B8=\"Churn\",SUMIFS(Weekly_Data_Raw[CHURNED_MEMBERS],Weekly_Data_Raw[TICKER],'Weekly Metrics'!$A8,Weekly_Data_Raw[END_DATE],'Weekly Metrics'!CQ$5)))))))","v":790},{"$f":"IF($B8=\"Panel Sales\", SUMIFS(Weekly_Data_Raw[PANEL_AMOUNT],Weekly_Data_Raw[TICKER],'Weekly Metrics'!$A8,Weekly_Data_Raw[END_DATE],'Weekly Metrics'!CR$5),IF($B8=\"Transactions\",SUMIFS(Weekly_Data_Raw[PANEL_TRANSACTIONS],Weekly_Data_Raw[TICKER],'Weekly Metrics'!$A8,Weekly_Data_Raw[END_DATE],'Weekly Metrics'!CR$5), IF($B8=\"Avg Ticket\",SUMIFS(Weekly_Data_Raw[AVG_TICKET],Weekly_Data_Raw[TICKER],'Weekly Metrics'!$A8,Weekly_Data_Raw[END_DATE],'Weekly Metrics'!CR$5), IF($B8=\"EOP Subscribers\",SUMIFS(Weekly_Data_Raw[EOP_SUBSCRIBERS],Weekly_Data_Raw[TICKER],'Weekly Metrics'!$A8,Weekly_Data_Raw[END_DATE],'Weekly Metrics'!CR$5), IF($B8=\"Gross Adds\",SUMIFS(Weekly_Data_Raw[GROSS_ADDS],Weekly_Data_Raw[TICKER],'Weekly Metrics'!$A8,Weekly_Data_Raw[END_DATE],'Weekly Metrics'!CR$5), IF($B8=\"Churn\",SUMIFS(Weekly_Data_Raw[CHURNED_MEMBERS],Weekly_Data_Raw[TICKER],'Weekly Metrics'!$A8,Weekly_Data_Raw[END_DATE],'Weekly Metrics'!CR$5)))))))","v":886},{"$f":"IF($B8=\"Panel Sales\", SUMIFS(Weekly_Data_Raw[PANEL_AMOUNT],Weekly_Data_Raw[TICKER],'Weekly Metrics'!$A8,Weekly_Data_Raw[END_DATE],'Weekly Metrics'!CS$5),IF($B8=\"Transactions\",SUMIFS(Weekly_Data_Raw[PANEL_TRANSACTIONS],Weekly_Data_Raw[TICKER],'Weekly Metrics'!$A8,Weekly_Data_Raw[END_DATE],'Weekly Metrics'!CS$5), IF($B8=\"Avg Ticket\",SUMIFS(Weekly_Data_Raw[AVG_TICKET],Weekly_Data_Raw[TICKER],'Weekly Metrics'!$A8,Weekly_Data_Raw[END_DATE],'Weekly Metrics'!CS$5), IF($B8=\"EOP Subscribers\",SUMIFS(Weekly_Data_Raw[EOP_SUBSCRIBERS],Weekly_Data_Raw[TICKER],'Weekly Metrics'!$A8,Weekly_Data_Raw[END_DATE],'Weekly Metrics'!CS$5), IF($B8=\"Gross Adds\",SUMIFS(Weekly_Data_Raw[GROSS_ADDS],Weekly_Data_Raw[TICKER],'Weekly Metrics'!$A8,Weekly_Data_Raw[END_DATE],'Weekly Metrics'!CS$5), IF($B8=\"Churn\",SUMIFS(Weekly_Data_Raw[CHURNED_MEMBERS],Weekly_Data_Raw[TICKER],'Weekly Metrics'!$A8,Weekly_Data_Raw[END_DATE],'Weekly Metrics'!CS$5)))))))","v":776},{"$f":"IF($B8=\"Panel Sales\", SUMIFS(Weekly_Data_Raw[PANEL_AMOUNT],Weekly_Data_Raw[TICKER],'Weekly Metrics'!$A8,Weekly_Data_Raw[END_DATE],'Weekly Metrics'!CT$5),IF($B8=\"Transactions\",SUMIFS(Weekly_Data_Raw[PANEL_TRANSACTIONS],Weekly_Data_Raw[TICKER],'Weekly Metrics'!$A8,Weekly_Data_Raw[END_DATE],'Weekly Metrics'!CT$5), IF($B8=\"Avg Ticket\",SUMIFS(Weekly_Data_Raw[AVG_TICKET],Weekly_Data_Raw[TICKER],'Weekly Metrics'!$A8,Weekly_Data_Raw[END_DATE],'Weekly Metrics'!CT$5), IF($B8=\"EOP Subscribers\",SUMIFS(Weekly_Data_Raw[EOP_SUBSCRIBERS],Weekly_Data_Raw[TICKER],'Weekly Metrics'!$A8,Weekly_Data_Raw[END_DATE],'Weekly Metrics'!CT$5), IF($B8=\"Gross Adds\",SUMIFS(Weekly_Data_Raw[GROSS_ADDS],Weekly_Data_Raw[TICKER],'Weekly Metrics'!$A8,Weekly_Data_Raw[END_DATE],'Weekly Metrics'!CT$5), IF($B8=\"Churn\",SUMIFS(Weekly_Data_Raw[CHURNED_MEMBERS],Weekly_Data_Raw[TICKER],'Weekly Metrics'!$A8,Weekly_Data_Raw[END_DATE],'Weekly Metrics'!CT$5)))))))","v":756},{"$f":"IF($B8=\"Panel Sales\", SUMIFS(Weekly_Data_Raw[PANEL_AMOUNT],Weekly_Data_Raw[TICKER],'Weekly Metrics'!$A8,Weekly_Data_Raw[END_DATE],'Weekly Metrics'!CU$5),IF($B8=\"Transactions\",SUMIFS(Weekly_Data_Raw[PANEL_TRANSACTIONS],Weekly_Data_Raw[TICKER],'Weekly Metrics'!$A8,Weekly_Data_Raw[END_DATE],'Weekly Metrics'!CU$5), IF($B8=\"Avg Ticket\",SUMIFS(Weekly_Data_Raw[AVG_TICKET],Weekly_Data_Raw[TICKER],'Weekly Metrics'!$A8,Weekly_Data_Raw[END_DATE],'Weekly Metrics'!CU$5), IF($B8=\"EOP Subscribers\",SUMIFS(Weekly_Data_Raw[EOP_SUBSCRIBERS],Weekly_Data_Raw[TICKER],'Weekly Metrics'!$A8,Weekly_Data_Raw[END_DATE],'Weekly Metrics'!CU$5), IF($B8=\"Gross Adds\",SUMIFS(Weekly_Data_Raw[GROSS_ADDS],Weekly_Data_Raw[TICKER],'Weekly Metrics'!$A8,Weekly_Data_Raw[END_DATE],'Weekly Metrics'!CU$5), IF($B8=\"Churn\",SUMIFS(Weekly_Data_Raw[CHURNED_MEMBERS],Weekly_Data_Raw[TICKER],'Weekly Metrics'!$A8,Weekly_Data_Raw[END_DATE],'Weekly Metrics'!CU$5)))))))","v":772},{"$f":"IF($B8=\"Panel Sales\", SUMIFS(Weekly_Data_Raw[PANEL_AMOUNT],Weekly_Data_Raw[TICKER],'Weekly Metrics'!$A8,Weekly_Data_Raw[END_DATE],'Weekly Metrics'!CV$5),IF($B8=\"Transactions\",SUMIFS(Weekly_Data_Raw[PANEL_TRANSACTIONS],Weekly_Data_Raw[TICKER],'Weekly Metrics'!$A8,Weekly_Data_Raw[END_DATE],'Weekly Metrics'!CV$5), IF($B8=\"Avg Ticket\",SUMIFS(Weekly_Data_Raw[AVG_TICKET],Weekly_Data_Raw[TICKER],'Weekly Metrics'!$A8,Weekly_Data_Raw[END_DATE],'Weekly Metrics'!CV$5), IF($B8=\"EOP Subscribers\",SUMIFS(Weekly_Data_Raw[EOP_SUBSCRIBERS],Weekly_Data_Raw[TICKER],'Weekly Metrics'!$A8,Weekly_Data_Raw[END_DATE],'Weekly Metrics'!CV$5), IF($B8=\"Gross Adds\",SUMIFS(Weekly_Data_Raw[GROSS_ADDS],Weekly_Data_Raw[TICKER],'Weekly Metrics'!$A8,Weekly_Data_Raw[END_DATE],'Weekly Metrics'!CV$5), IF($B8=\"Churn\",SUMIFS(Weekly_Data_Raw[CHURNED_MEMBERS],Weekly_Data_Raw[TICKER],'Weekly Metrics'!$A8,Weekly_Data_Raw[END_DATE],'Weekly Metrics'!CV$5)))))))","v":617},{"$f":"IF($B8=\"Panel Sales\", SUMIFS(Weekly_Data_Raw[PANEL_AMOUNT],Weekly_Data_Raw[TICKER],'Weekly Metrics'!$A8,Weekly_Data_Raw[END_DATE],'Weekly Metrics'!CW$5),IF($B8=\"Transactions\",SUMIFS(Weekly_Data_Raw[PANEL_TRANSACTIONS],Weekly_Data_Raw[TICKER],'Weekly Metrics'!$A8,Weekly_Data_Raw[END_DATE],'Weekly Metrics'!CW$5), IF($B8=\"Avg Ticket\",SUMIFS(Weekly_Data_Raw[AVG_TICKET],Weekly_Data_Raw[TICKER],'Weekly Metrics'!$A8,Weekly_Data_Raw[END_DATE],'Weekly Metrics'!CW$5), IF($B8=\"EOP Subscribers\",SUMIFS(Weekly_Data_Raw[EOP_SUBSCRIBERS],Weekly_Data_Raw[TICKER],'Weekly Metrics'!$A8,Weekly_Data_Raw[END_DATE],'Weekly Metrics'!CW$5), IF($B8=\"Gross Adds\",SUMIFS(Weekly_Data_Raw[GROSS_ADDS],Weekly_Data_Raw[TICKER],'Weekly Metrics'!$A8,Weekly_Data_Raw[END_DATE],'Weekly Metrics'!CW$5), IF($B8=\"Churn\",SUMIFS(Weekly_Data_Raw[CHURNED_MEMBERS],Weekly_Data_Raw[TICKER],'Weekly Metrics'!$A8,Weekly_Data_Raw[END_DATE],'Weekly Metrics'!CW$5)))))))","v":750},{"$f":"IF($B8=\"Panel Sales\", SUMIFS(Weekly_Data_Raw[PANEL_AMOUNT],Weekly_Data_Raw[TICKER],'Weekly Metrics'!$A8,Weekly_Data_Raw[END_DATE],'Weekly Metrics'!CX$5),IF($B8=\"Transactions\",SUMIFS(Weekly_Data_Raw[PANEL_TRANSACTIONS],Weekly_Data_Raw[TICKER],'Weekly Metrics'!$A8,Weekly_Data_Raw[END_DATE],'Weekly Metrics'!CX$5), IF($B8=\"Avg Ticket\",SUMIFS(Weekly_Data_Raw[AVG_TICKET],Weekly_Data_Raw[TICKER],'Weekly Metrics'!$A8,Weekly_Data_Raw[END_DATE],'Weekly Metrics'!CX$5), IF($B8=\"EOP Subscribers\",SUMIFS(Weekly_Data_Raw[EOP_SUBSCRIBERS],Weekly_Data_Raw[TICKER],'Weekly Metrics'!$A8,Weekly_Data_Raw[END_DATE],'Weekly Metrics'!CX$5), IF($B8=\"Gross Adds\",SUMIFS(Weekly_Data_Raw[GROSS_ADDS],Weekly_Data_Raw[TICKER],'Weekly Metrics'!$A8,Weekly_Data_Raw[END_DATE],'Weekly Metrics'!CX$5), IF($B8=\"Churn\",SUMIFS(Weekly_Data_Raw[CHURNED_MEMBERS],Weekly_Data_Raw[TICKER],'Weekly Metrics'!$A8,Weekly_Data_Raw[END_DATE],'Weekly Metrics'!CX$5)))))))","v":767},{"$f":"IF($B8=\"Panel Sales\", SUMIFS(Weekly_Data_Raw[PANEL_AMOUNT],Weekly_Data_Raw[TICKER],'Weekly Metrics'!$A8,Weekly_Data_Raw[END_DATE],'Weekly Metrics'!CY$5),IF($B8=\"Transactions\",SUMIFS(Weekly_Data_Raw[PANEL_TRANSACTIONS],Weekly_Data_Raw[TICKER],'Weekly Metrics'!$A8,Weekly_Data_Raw[END_DATE],'Weekly Metrics'!CY$5), IF($B8=\"Avg Ticket\",SUMIFS(Weekly_Data_Raw[AVG_TICKET],Weekly_Data_Raw[TICKER],'Weekly Metrics'!$A8,Weekly_Data_Raw[END_DATE],'Weekly Metrics'!CY$5), IF($B8=\"EOP Subscribers\",SUMIFS(Weekly_Data_Raw[EOP_SUBSCRIBERS],Weekly_Data_Raw[TICKER],'Weekly Metrics'!$A8,Weekly_Data_Raw[END_DATE],'Weekly Metrics'!CY$5), IF($B8=\"Gross Adds\",SUMIFS(Weekly_Data_Raw[GROSS_ADDS],Weekly_Data_Raw[TICKER],'Weekly Metrics'!$A8,Weekly_Data_Raw[END_DATE],'Weekly Metrics'!CY$5), IF($B8=\"Churn\",SUMIFS(Weekly_Data_Raw[CHURNED_MEMBERS],Weekly_Data_Raw[TICKER],'Weekly Metrics'!$A8,Weekly_Data_Raw[END_DATE],'Weekly Metrics'!CY$5)))))))","v":800},{"$f":"IF($B8=\"Panel Sales\", SUMIFS(Weekly_Data_Raw[PANEL_AMOUNT],Weekly_Data_Raw[TICKER],'Weekly Metrics'!$A8,Weekly_Data_Raw[END_DATE],'Weekly Metrics'!CZ$5),IF($B8=\"Transactions\",SUMIFS(Weekly_Data_Raw[PANEL_TRANSACTIONS],Weekly_Data_Raw[TICKER],'Weekly Metrics'!$A8,Weekly_Data_Raw[END_DATE],'Weekly Metrics'!CZ$5), IF($B8=\"Avg Ticket\",SUMIFS(Weekly_Data_Raw[AVG_TICKET],Weekly_Data_Raw[TICKER],'Weekly Metrics'!$A8,Weekly_Data_Raw[END_DATE],'Weekly Metrics'!CZ$5), IF($B8=\"EOP Subscribers\",SUMIFS(Weekly_Data_Raw[EOP_SUBSCRIBERS],Weekly_Data_Raw[TICKER],'Weekly Metrics'!$A8,Weekly_Data_Raw[END_DATE],'Weekly Metrics'!CZ$5), IF($B8=\"Gross Adds\",SUMIFS(Weekly_Data_Raw[GROSS_ADDS],Weekly_Data_Raw[TICKER],'Weekly Metrics'!$A8,Weekly_Data_Raw[END_DATE],'Weekly Metrics'!CZ$5), IF($B8=\"Churn\",SUMIFS(Weekly_Data_Raw[CHURNED_MEMBERS],Weekly_Data_Raw[TICKER],'Weekly Metrics'!$A8,Weekly_Data_Raw[END_DATE],'Weekly Metrics'!CZ$5)))))))","v":734},{"$f":"IF($B8=\"Panel Sales\", SUMIFS(Weekly_Data_Raw[PANEL_AMOUNT],Weekly_Data_Raw[TICKER],'Weekly Metrics'!$A8,Weekly_Data_Raw[END_DATE],'Weekly Metrics'!DA$5),IF($B8=\"Transactions\",SUMIFS(Weekly_Data_Raw[PANEL_TRANSACTIONS],Weekly_Data_Raw[TICKER],'Weekly Metrics'!$A8,Weekly_Data_Raw[END_DATE],'Weekly Metrics'!DA$5), IF($B8=\"Avg Ticket\",SUMIFS(Weekly_Data_Raw[AVG_TICKET],Weekly_Data_Raw[TICKER],'Weekly Metrics'!$A8,Weekly_Data_Raw[END_DATE],'Weekly Metrics'!DA$5), IF($B8=\"EOP Subscribers\",SUMIFS(Weekly_Data_Raw[EOP_SUBSCRIBERS],Weekly_Data_Raw[TICKER],'Weekly Metrics'!$A8,Weekly_Data_Raw[END_DATE],'Weekly Metrics'!DA$5), IF($B8=\"Gross Adds\",SUMIFS(Weekly_Data_Raw[GROSS_ADDS],Weekly_Data_Raw[TICKER],'Weekly Metrics'!$A8,Weekly_Data_Raw[END_DATE],'Weekly Metrics'!DA$5), IF($B8=\"Churn\",SUMIFS(Weekly_Data_Raw[CHURNED_MEMBERS],Weekly_Data_Raw[TICKER],'Weekly Metrics'!$A8,Weekly_Data_Raw[END_DATE],'Weekly Metrics'!DA$5)))))))","v":705},{"$f":"IF($B8=\"Panel Sales\", SUMIFS(Weekly_Data_Raw[PANEL_AMOUNT],Weekly_Data_Raw[TICKER],'Weekly Metrics'!$A8,Weekly_Data_Raw[END_DATE],'Weekly Metrics'!DB$5),IF($B8=\"Transactions\",SUMIFS(Weekly_Data_Raw[PANEL_TRANSACTIONS],Weekly_Data_Raw[TICKER],'Weekly Metrics'!$A8,Weekly_Data_Raw[END_DATE],'Weekly Metrics'!DB$5), IF($B8=\"Avg Ticket\",SUMIFS(Weekly_Data_Raw[AVG_TICKET],Weekly_Data_Raw[TICKER],'Weekly Metrics'!$A8,Weekly_Data_Raw[END_DATE],'Weekly Metrics'!DB$5), IF($B8=\"EOP Subscribers\",SUMIFS(Weekly_Data_Raw[EOP_SUBSCRIBERS],Weekly_Data_Raw[TICKER],'Weekly Metrics'!$A8,Weekly_Data_Raw[END_DATE],'Weekly Metrics'!DB$5), IF($B8=\"Gross Adds\",SUMIFS(Weekly_Data_Raw[GROSS_ADDS],Weekly_Data_Raw[TICKER],'Weekly Metrics'!$A8,Weekly_Data_Raw[END_DATE],'Weekly Metrics'!DB$5), IF($B8=\"Churn\",SUMIFS(Weekly_Data_Raw[CHURNED_MEMBERS],Weekly_Data_Raw[TICKER],'Weekly Metrics'!$A8,Weekly_Data_Raw[END_DATE],'Weekly Metrics'!DB$5)))))))","v":834},{"$f":"IF($B8=\"Panel Sales\", SUMIFS(Weekly_Data_Raw[PANEL_AMOUNT],Weekly_Data_Raw[TICKER],'Weekly Metrics'!$A8,Weekly_Data_Raw[END_DATE],'Weekly Metrics'!DC$5),IF($B8=\"Transactions\",SUMIFS(Weekly_Data_Raw[PANEL_TRANSACTIONS],Weekly_Data_Raw[TICKER],'Weekly Metrics'!$A8,Weekly_Data_Raw[END_DATE],'Weekly Metrics'!DC$5), IF($B8=\"Avg Ticket\",SUMIFS(Weekly_Data_Raw[AVG_TICKET],Weekly_Data_Raw[TICKER],'Weekly Metrics'!$A8,Weekly_Data_Raw[END_DATE],'Weekly Metrics'!DC$5), IF($B8=\"EOP Subscribers\",SUMIFS(Weekly_Data_Raw[EOP_SUBSCRIBERS],Weekly_Data_Raw[TICKER],'Weekly Metrics'!$A8,Weekly_Data_Raw[END_DATE],'Weekly Metrics'!DC$5), IF($B8=\"Gross Adds\",SUMIFS(Weekly_Data_Raw[GROSS_ADDS],Weekly_Data_Raw[TICKER],'Weekly Metrics'!$A8,Weekly_Data_Raw[END_DATE],'Weekly Metrics'!DC$5), IF($B8=\"Churn\",SUMIFS(Weekly_Data_Raw[CHURNED_MEMBERS],Weekly_Data_Raw[TICKER],'Weekly Metrics'!$A8,Weekly_Data_Raw[END_DATE],'Weekly Metrics'!DC$5)))))))","v":918},{"$f":"IF($B8=\"Panel Sales\", SUMIFS(Weekly_Data_Raw[PANEL_AMOUNT],Weekly_Data_Raw[TICKER],'Weekly Metrics'!$A8,Weekly_Data_Raw[END_DATE],'Weekly Metrics'!DD$5),IF($B8=\"Transactions\",SUMIFS(Weekly_Data_Raw[PANEL_TRANSACTIONS],Weekly_Data_Raw[TICKER],'Weekly Metrics'!$A8,Weekly_Data_Raw[END_DATE],'Weekly Metrics'!DD$5), IF($B8=\"Avg Ticket\",SUMIFS(Weekly_Data_Raw[AVG_TICKET],Weekly_Data_Raw[TICKER],'Weekly Metrics'!$A8,Weekly_Data_Raw[END_DATE],'Weekly Metrics'!DD$5), IF($B8=\"EOP Subscribers\",SUMIFS(Weekly_Data_Raw[EOP_SUBSCRIBERS],Weekly_Data_Raw[TICKER],'Weekly Metrics'!$A8,Weekly_Data_Raw[END_DATE],'Weekly Metrics'!DD$5), IF($B8=\"Gross Adds\",SUMIFS(Weekly_Data_Raw[GROSS_ADDS],Weekly_Data_Raw[TICKER],'Weekly Metrics'!$A8,Weekly_Data_Raw[END_DATE],'Weekly Metrics'!DD$5), IF($B8=\"Churn\",SUMIFS(Weekly_Data_Raw[CHURNED_MEMBERS],Weekly_Data_Raw[TICKER],'Weekly Metrics'!$A8,Weekly_Data_Raw[END_DATE],'Weekly Metrics'!DD$5)))))))","v":794},{"$f":"IF($B8=\"Panel Sales\", SUMIFS(Weekly_Data_Raw[PANEL_AMOUNT],Weekly_Data_Raw[TICKER],'Weekly Metrics'!$A8,Weekly_Data_Raw[END_DATE],'Weekly Metrics'!DE$5),IF($B8=\"Transactions\",SUMIFS(Weekly_Data_Raw[PANEL_TRANSACTIONS],Weekly_Data_Raw[TICKER],'Weekly Metrics'!$A8,Weekly_Data_Raw[END_DATE],'Weekly Metrics'!DE$5), IF($B8=\"Avg Ticket\",SUMIFS(Weekly_Data_Raw[AVG_TICKET],Weekly_Data_Raw[TICKER],'Weekly Metrics'!$A8,Weekly_Data_Raw[END_DATE],'Weekly Metrics'!DE$5), IF($B8=\"EOP Subscribers\",SUMIFS(Weekly_Data_Raw[EOP_SUBSCRIBERS],Weekly_Data_Raw[TICKER],'Weekly Metrics'!$A8,Weekly_Data_Raw[END_DATE],'Weekly Metrics'!DE$5), IF($B8=\"Gross Adds\",SUMIFS(Weekly_Data_Raw[GROSS_ADDS],Weekly_Data_Raw[TICKER],'Weekly Metrics'!$A8,Weekly_Data_Raw[END_DATE],'Weekly Metrics'!DE$5), IF($B8=\"Churn\",SUMIFS(Weekly_Data_Raw[CHURNED_MEMBERS],Weekly_Data_Raw[TICKER],'Weekly Metrics'!$A8,Weekly_Data_Raw[END_DATE],'Weekly Metrics'!DE$5)))))))","v":702},{"$f":"IF($B8=\"Panel Sales\", SUMIFS(Weekly_Data_Raw[PANEL_AMOUNT],Weekly_Data_Raw[TICKER],'Weekly Metrics'!$A8,Weekly_Data_Raw[END_DATE],'Weekly Metrics'!DF$5),IF($B8=\"Transactions\",SUMIFS(Weekly_Data_Raw[PANEL_TRANSACTIONS],Weekly_Data_Raw[TICKER],'Weekly Metrics'!$A8,Weekly_Data_Raw[END_DATE],'Weekly Metrics'!DF$5), IF($B8=\"Avg Ticket\",SUMIFS(Weekly_Data_Raw[AVG_TICKET],Weekly_Data_Raw[TICKER],'Weekly Metrics'!$A8,Weekly_Data_Raw[END_DATE],'Weekly Metrics'!DF$5), IF($B8=\"EOP Subscribers\",SUMIFS(Weekly_Data_Raw[EOP_SUBSCRIBERS],Weekly_Data_Raw[TICKER],'Weekly Metrics'!$A8,Weekly_Data_Raw[END_DATE],'Weekly Metrics'!DF$5), IF($B8=\"Gross Adds\",SUMIFS(Weekly_Data_Raw[GROSS_ADDS],Weekly_Data_Raw[TICKER],'Weekly Metrics'!$A8,Weekly_Data_Raw[END_DATE],'Weekly Metrics'!DF$5), IF($B8=\"Churn\",SUMIFS(Weekly_Data_Raw[CHURNED_MEMBERS],Weekly_Data_Raw[TICKER],'Weekly Metrics'!$A8,Weekly_Data_Raw[END_DATE],'Weekly Metrics'!DF$5)))))))","v":664},{"$f":"IF($B8=\"Panel Sales\", SUMIFS(Weekly_Data_Raw[PANEL_AMOUNT],Weekly_Data_Raw[TICKER],'Weekly Metrics'!$A8,Weekly_Data_Raw[END_DATE],'Weekly Metrics'!DG$5),IF($B8=\"Transactions\",SUMIFS(Weekly_Data_Raw[PANEL_TRANSACTIONS],Weekly_Data_Raw[TICKER],'Weekly Metrics'!$A8,Weekly_Data_Raw[END_DATE],'Weekly Metrics'!DG$5), IF($B8=\"Avg Ticket\",SUMIFS(Weekly_Data_Raw[AVG_TICKET],Weekly_Data_Raw[TICKER],'Weekly Metrics'!$A8,Weekly_Data_Raw[END_DATE],'Weekly Metrics'!DG$5), IF($B8=\"EOP Subscribers\",SUMIFS(Weekly_Data_Raw[EOP_SUBSCRIBERS],Weekly_Data_Raw[TICKER],'Weekly Metrics'!$A8,Weekly_Data_Raw[END_DATE],'Weekly Metrics'!DG$5), IF($B8=\"Gross Adds\",SUMIFS(Weekly_Data_Raw[GROSS_ADDS],Weekly_Data_Raw[TICKER],'Weekly Metrics'!$A8,Weekly_Data_Raw[END_DATE],'Weekly Metrics'!DG$5), IF($B8=\"Churn\",SUMIFS(Weekly_Data_Raw[CHURNED_MEMBERS],Weekly_Data_Raw[TICKER],'Weekly Metrics'!$A8,Weekly_Data_Raw[END_DATE],'Weekly Metrics'!DG$5)))))))","v":620},{"$f":"IF($B8=\"Panel Sales\", SUMIFS(Weekly_Data_Raw[PANEL_AMOUNT],Weekly_Data_Raw[TICKER],'Weekly Metrics'!$A8,Weekly_Data_Raw[END_DATE],'Weekly Metrics'!DH$5),IF($B8=\"Transactions\",SUMIFS(Weekly_Data_Raw[PANEL_TRANSACTIONS],Weekly_Data_Raw[TICKER],'Weekly Metrics'!$A8,Weekly_Data_Raw[END_DATE],'Weekly Metrics'!DH$5), IF($B8=\"Avg Ticket\",SUMIFS(Weekly_Data_Raw[AVG_TICKET],Weekly_Data_Raw[TICKER],'Weekly Metrics'!$A8,Weekly_Data_Raw[END_DATE],'Weekly Metrics'!DH$5), IF($B8=\"EOP Subscribers\",SUMIFS(Weekly_Data_Raw[EOP_SUBSCRIBERS],Weekly_Data_Raw[TICKER],'Weekly Metrics'!$A8,Weekly_Data_Raw[END_DATE],'Weekly Metrics'!DH$5), IF($B8=\"Gross Adds\",SUMIFS(Weekly_Data_Raw[GROSS_ADDS],Weekly_Data_Raw[TICKER],'Weekly Metrics'!$A8,Weekly_Data_Raw[END_DATE],'Weekly Metrics'!DH$5), IF($B8=\"Churn\",SUMIFS(Weekly_Data_Raw[CHURNED_MEMBERS],Weekly_Data_Raw[TICKER],'Weekly Metrics'!$A8,Weekly_Data_Raw[END_DATE],'Weekly Metrics'!DH$5)))))))","v":722},{"$f":"IF($B8=\"Panel Sales\", SUMIFS(Weekly_Data_Raw[PANEL_AMOUNT],Weekly_Data_Raw[TICKER],'Weekly Metrics'!$A8,Weekly_Data_Raw[END_DATE],'Weekly Metrics'!DI$5),IF($B8=\"Transactions\",SUMIFS(Weekly_Data_Raw[PANEL_TRANSACTIONS],Weekly_Data_Raw[TICKER],'Weekly Metrics'!$A8,Weekly_Data_Raw[END_DATE],'Weekly Metrics'!DI$5), IF($B8=\"Avg Ticket\",SUMIFS(Weekly_Data_Raw[AVG_TICKET],Weekly_Data_Raw[TICKER],'Weekly Metrics'!$A8,Weekly_Data_Raw[END_DATE],'Weekly Metrics'!DI$5), IF($B8=\"EOP Subscribers\",SUMIFS(Weekly_Data_Raw[EOP_SUBSCRIBERS],Weekly_Data_Raw[TICKER],'Weekly Metrics'!$A8,Weekly_Data_Raw[END_DATE],'Weekly Metrics'!DI$5), IF($B8=\"Gross Adds\",SUMIFS(Weekly_Data_Raw[GROSS_ADDS],Weekly_Data_Raw[TICKER],'Weekly Metrics'!$A8,Weekly_Data_Raw[END_DATE],'Weekly Metrics'!DI$5), IF($B8=\"Churn\",SUMIFS(Weekly_Data_Raw[CHURNED_MEMBERS],Weekly_Data_Raw[TICKER],'Weekly Metrics'!$A8,Weekly_Data_Raw[END_DATE],'Weekly Metrics'!DI$5)))))))","v":661},{"$f":"IF($B8=\"Panel Sales\", SUMIFS(Weekly_Data_Raw[PANEL_AMOUNT],Weekly_Data_Raw[TICKER],'Weekly Metrics'!$A8,Weekly_Data_Raw[END_DATE],'Weekly Metrics'!DJ$5),IF($B8=\"Transactions\",SUMIFS(Weekly_Data_Raw[PANEL_TRANSACTIONS],Weekly_Data_Raw[TICKER],'Weekly Metrics'!$A8,Weekly_Data_Raw[END_DATE],'Weekly Metrics'!DJ$5), IF($B8=\"Avg Ticket\",SUMIFS(Weekly_Data_Raw[AVG_TICKET],Weekly_Data_Raw[TICKER],'Weekly Metrics'!$A8,Weekly_Data_Raw[END_DATE],'Weekly Metrics'!DJ$5), IF($B8=\"EOP Subscribers\",SUMIFS(Weekly_Data_Raw[EOP_SUBSCRIBERS],Weekly_Data_Raw[TICKER],'Weekly Metrics'!$A8,Weekly_Data_Raw[END_DATE],'Weekly Metrics'!DJ$5), IF($B8=\"Gross Adds\",SUMIFS(Weekly_Data_Raw[GROSS_ADDS],Weekly_Data_Raw[TICKER],'Weekly Metrics'!$A8,Weekly_Data_Raw[END_DATE],'Weekly Metrics'!DJ$5), IF($B8=\"Churn\",SUMIFS(Weekly_Data_Raw[CHURNED_MEMBERS],Weekly_Data_Raw[TICKER],'Weekly Metrics'!$A8,Weekly_Data_Raw[END_DATE],'Weekly Metrics'!DJ$5)))))))","v":715},{"$f":"IF($B8=\"Panel Sales\", SUMIFS(Weekly_Data_Raw[PANEL_AMOUNT],Weekly_Data_Raw[TICKER],'Weekly Metrics'!$A8,Weekly_Data_Raw[END_DATE],'Weekly Metrics'!DK$5),IF($B8=\"Transactions\",SUMIFS(Weekly_Data_Raw[PANEL_TRANSACTIONS],Weekly_Data_Raw[TICKER],'Weekly Metrics'!$A8,Weekly_Data_Raw[END_DATE],'Weekly Metrics'!DK$5), IF($B8=\"Avg Ticket\",SUMIFS(Weekly_Data_Raw[AVG_TICKET],Weekly_Data_Raw[TICKER],'Weekly Metrics'!$A8,Weekly_Data_Raw[END_DATE],'Weekly Metrics'!DK$5), IF($B8=\"EOP Subscribers\",SUMIFS(Weekly_Data_Raw[EOP_SUBSCRIBERS],Weekly_Data_Raw[TICKER],'Weekly Metrics'!$A8,Weekly_Data_Raw[END_DATE],'Weekly Metrics'!DK$5), IF($B8=\"Gross Adds\",SUMIFS(Weekly_Data_Raw[GROSS_ADDS],Weekly_Data_Raw[TICKER],'Weekly Metrics'!$A8,Weekly_Data_Raw[END_DATE],'Weekly Metrics'!DK$5), IF($B8=\"Churn\",SUMIFS(Weekly_Data_Raw[CHURNED_MEMBERS],Weekly_Data_Raw[TICKER],'Weekly Metrics'!$A8,Weekly_Data_Raw[END_DATE],'Weekly Metrics'!DK$5)))))))","v":596},{"$f":"IF($B8=\"Panel Sales\", SUMIFS(Weekly_Data_Raw[PANEL_AMOUNT],Weekly_Data_Raw[TICKER],'Weekly Metrics'!$A8,Weekly_Data_Raw[END_DATE],'Weekly Metrics'!DL$5),IF($B8=\"Transactions\",SUMIFS(Weekly_Data_Raw[PANEL_TRANSACTIONS],Weekly_Data_Raw[TICKER],'Weekly Metrics'!$A8,Weekly_Data_Raw[END_DATE],'Weekly Metrics'!DL$5), IF($B8=\"Avg Ticket\",SUMIFS(Weekly_Data_Raw[AVG_TICKET],Weekly_Data_Raw[TICKER],'Weekly Metrics'!$A8,Weekly_Data_Raw[END_DATE],'Weekly Metrics'!DL$5), IF($B8=\"EOP Subscribers\",SUMIFS(Weekly_Data_Raw[EOP_SUBSCRIBERS],Weekly_Data_Raw[TICKER],'Weekly Metrics'!$A8,Weekly_Data_Raw[END_DATE],'Weekly Metrics'!DL$5), IF($B8=\"Gross Adds\",SUMIFS(Weekly_Data_Raw[GROSS_ADDS],Weekly_Data_Raw[TICKER],'Weekly Metrics'!$A8,Weekly_Data_Raw[END_DATE],'Weekly Metrics'!DL$5), IF($B8=\"Churn\",SUMIFS(Weekly_Data_Raw[CHURNED_MEMBERS],Weekly_Data_Raw[TICKER],'Weekly Metrics'!$A8,Weekly_Data_Raw[END_DATE],'Weekly Metrics'!DL$5)))))))","v":706},{"$f":"IF($B8=\"Panel Sales\", SUMIFS(Weekly_Data_Raw[PANEL_AMOUNT],Weekly_Data_Raw[TICKER],'Weekly Metrics'!$A8,Weekly_Data_Raw[END_DATE],'Weekly Metrics'!DM$5),IF($B8=\"Transactions\",SUMIFS(Weekly_Data_Raw[PANEL_TRANSACTIONS],Weekly_Data_Raw[TICKER],'Weekly Metrics'!$A8,Weekly_Data_Raw[END_DATE],'Weekly Metrics'!DM$5), IF($B8=\"Avg Ticket\",SUMIFS(Weekly_Data_Raw[AVG_TICKET],Weekly_Data_Raw[TICKER],'Weekly Metrics'!$A8,Weekly_Data_Raw[END_DATE],'Weekly Metrics'!DM$5), IF($B8=\"EOP Subscribers\",SUMIFS(Weekly_Data_Raw[EOP_SUBSCRIBERS],Weekly_Data_Raw[TICKER],'Weekly Metrics'!$A8,Weekly_Data_Raw[END_DATE],'Weekly Metrics'!DM$5), IF($B8=\"Gross Adds\",SUMIFS(Weekly_Data_Raw[GROSS_ADDS],Weekly_Data_Raw[TICKER],'Weekly Metrics'!$A8,Weekly_Data_Raw[END_DATE],'Weekly Metrics'!DM$5), IF($B8=\"Churn\",SUMIFS(Weekly_Data_Raw[CHURNED_MEMBERS],Weekly_Data_Raw[TICKER],'Weekly Metrics'!$A8,Weekly_Data_Raw[END_DATE],'Weekly Metrics'!DM$5)))))))","v":612},{"$f":"IF($B8=\"Panel Sales\", SUMIFS(Weekly_Data_Raw[PANEL_AMOUNT],Weekly_Data_Raw[TICKER],'Weekly Metrics'!$A8,Weekly_Data_Raw[END_DATE],'Weekly Metrics'!DN$5),IF($B8=\"Transactions\",SUMIFS(Weekly_Data_Raw[PANEL_TRANSACTIONS],Weekly_Data_Raw[TICKER],'Weekly Metrics'!$A8,Weekly_Data_Raw[END_DATE],'Weekly Metrics'!DN$5), IF($B8=\"Avg Ticket\",SUMIFS(Weekly_Data_Raw[AVG_TICKET],Weekly_Data_Raw[TICKER],'Weekly Metrics'!$A8,Weekly_Data_Raw[END_DATE],'Weekly Metrics'!DN$5), IF($B8=\"EOP Subscribers\",SUMIFS(Weekly_Data_Raw[EOP_SUBSCRIBERS],Weekly_Data_Raw[TICKER],'Weekly Metrics'!$A8,Weekly_Data_Raw[END_DATE],'Weekly Metrics'!DN$5), IF($B8=\"Gross Adds\",SUMIFS(Weekly_Data_Raw[GROSS_ADDS],Weekly_Data_Raw[TICKER],'Weekly Metrics'!$A8,Weekly_Data_Raw[END_DATE],'Weekly Metrics'!DN$5), IF($B8=\"Churn\",SUMIFS(Weekly_Data_Raw[CHURNED_MEMBERS],Weekly_Data_Raw[TICKER],'Weekly Metrics'!$A8,Weekly_Data_Raw[END_DATE],'Weekly Metrics'!DN$5)))))))","v":593},{"$f":"IF($B8=\"Panel Sales\", SUMIFS(Weekly_Data_Raw[PANEL_AMOUNT],Weekly_Data_Raw[TICKER],'Weekly Metrics'!$A8,Weekly_Data_Raw[END_DATE],'Weekly Metrics'!DO$5),IF($B8=\"Transactions\",SUMIFS(Weekly_Data_Raw[PANEL_TRANSACTIONS],Weekly_Data_Raw[TICKER],'Weekly Metrics'!$A8,Weekly_Data_Raw[END_DATE],'Weekly Metrics'!DO$5), IF($B8=\"Avg Ticket\",SUMIFS(Weekly_Data_Raw[AVG_TICKET],Weekly_Data_Raw[TICKER],'Weekly Metrics'!$A8,Weekly_Data_Raw[END_DATE],'Weekly Metrics'!DO$5), IF($B8=\"EOP Subscribers\",SUMIFS(Weekly_Data_Raw[EOP_SUBSCRIBERS],Weekly_Data_Raw[TICKER],'Weekly Metrics'!$A8,Weekly_Data_Raw[END_DATE],'Weekly Metrics'!DO$5), IF($B8=\"Gross Adds\",SUMIFS(Weekly_Data_Raw[GROSS_ADDS],Weekly_Data_Raw[TICKER],'Weekly Metrics'!$A8,Weekly_Data_Raw[END_DATE],'Weekly Metrics'!DO$5), IF($B8=\"Churn\",SUMIFS(Weekly_Data_Raw[CHURNED_MEMBERS],Weekly_Data_Raw[TICKER],'Weekly Metrics'!$A8,Weekly_Data_Raw[END_DATE],'Weekly Metrics'!DO$5)))))))","v":589},{"$f":"IF($B8=\"Panel Sales\", SUMIFS(Weekly_Data_Raw[PANEL_AMOUNT],Weekly_Data_Raw[TICKER],'Weekly Metrics'!$A8,Weekly_Data_Raw[END_DATE],'Weekly Metrics'!DP$5),IF($B8=\"Transactions\",SUMIFS(Weekly_Data_Raw[PANEL_TRANSACTIONS],Weekly_Data_Raw[TICKER],'Weekly Metrics'!$A8,Weekly_Data_Raw[END_DATE],'Weekly Metrics'!DP$5), IF($B8=\"Avg Ticket\",SUMIFS(Weekly_Data_Raw[AVG_TICKET],Weekly_Data_Raw[TICKER],'Weekly Metrics'!$A8,Weekly_Data_Raw[END_DATE],'Weekly Metrics'!DP$5), IF($B8=\"EOP Subscribers\",SUMIFS(Weekly_Data_Raw[EOP_SUBSCRIBERS],Weekly_Data_Raw[TICKER],'Weekly Metrics'!$A8,Weekly_Data_Raw[END_DATE],'Weekly Metrics'!DP$5), IF($B8=\"Gross Adds\",SUMIFS(Weekly_Data_Raw[GROSS_ADDS],Weekly_Data_Raw[TICKER],'Weekly Metrics'!$A8,Weekly_Data_Raw[END_DATE],'Weekly Metrics'!DP$5), IF($B8=\"Churn\",SUMIFS(Weekly_Data_Raw[CHURNED_MEMBERS],Weekly_Data_Raw[TICKER],'Weekly Metrics'!$A8,Weekly_Data_Raw[END_DATE],'Weekly Metrics'!DP$5)))))))","v":594},{"$f":"IF($B8=\"Panel Sales\", SUMIFS(Weekly_Data_Raw[PANEL_AMOUNT],Weekly_Data_Raw[TICKER],'Weekly Metrics'!$A8,Weekly_Data_Raw[END_DATE],'Weekly Metrics'!DQ$5),IF($B8=\"Transactions\",SUMIFS(Weekly_Data_Raw[PANEL_TRANSACTIONS],Weekly_Data_Raw[TICKER],'Weekly Metrics'!$A8,Weekly_Data_Raw[END_DATE],'Weekly Metrics'!DQ$5), IF($B8=\"Avg Ticket\",SUMIFS(Weekly_Data_Raw[AVG_TICKET],Weekly_Data_Raw[TICKER],'Weekly Metrics'!$A8,Weekly_Data_Raw[END_DATE],'Weekly Metrics'!DQ$5), IF($B8=\"EOP Subscribers\",SUMIFS(Weekly_Data_Raw[EOP_SUBSCRIBERS],Weekly_Data_Raw[TICKER],'Weekly Metrics'!$A8,Weekly_Data_Raw[END_DATE],'Weekly Metrics'!DQ$5), IF($B8=\"Gross Adds\",SUMIFS(Weekly_Data_Raw[GROSS_ADDS],Weekly_Data_Raw[TICKER],'Weekly Metrics'!$A8,Weekly_Data_Raw[END_DATE],'Weekly Metrics'!DQ$5), IF($B8=\"Churn\",SUMIFS(Weekly_Data_Raw[CHURNED_MEMBERS],Weekly_Data_Raw[TICKER],'Weekly Metrics'!$A8,Weekly_Data_Raw[END_DATE],'Weekly Metrics'!DQ$5)))))))","v":507},{"$f":"IF($B8=\"Panel Sales\", SUMIFS(Weekly_Data_Raw[PANEL_AMOUNT],Weekly_Data_Raw[TICKER],'Weekly Metrics'!$A8,Weekly_Data_Raw[END_DATE],'Weekly Metrics'!DR$5),IF($B8=\"Transactions\",SUMIFS(Weekly_Data_Raw[PANEL_TRANSACTIONS],Weekly_Data_Raw[TICKER],'Weekly Metrics'!$A8,Weekly_Data_Raw[END_DATE],'Weekly Metrics'!DR$5), IF($B8=\"Avg Ticket\",SUMIFS(Weekly_Data_Raw[AVG_TICKET],Weekly_Data_Raw[TICKER],'Weekly Metrics'!$A8,Weekly_Data_Raw[END_DATE],'Weekly Metrics'!DR$5), IF($B8=\"EOP Subscribers\",SUMIFS(Weekly_Data_Raw[EOP_SUBSCRIBERS],Weekly_Data_Raw[TICKER],'Weekly Metrics'!$A8,Weekly_Data_Raw[END_DATE],'Weekly Metrics'!DR$5), IF($B8=\"Gross Adds\",SUMIFS(Weekly_Data_Raw[GROSS_ADDS],Weekly_Data_Raw[TICKER],'Weekly Metrics'!$A8,Weekly_Data_Raw[END_DATE],'Weekly Metrics'!DR$5), IF($B8=\"Churn\",SUMIFS(Weekly_Data_Raw[CHURNED_MEMBERS],Weekly_Data_Raw[TICKER],'Weekly Metrics'!$A8,Weekly_Data_Raw[END_DATE],'Weekly Metrics'!DR$5)))))))","v":612},{"$f":"IF($B8=\"Panel Sales\", SUMIFS(Weekly_Data_Raw[PANEL_AMOUNT],Weekly_Data_Raw[TICKER],'Weekly Metrics'!$A8,Weekly_Data_Raw[END_DATE],'Weekly Metrics'!DS$5),IF($B8=\"Transactions\",SUMIFS(Weekly_Data_Raw[PANEL_TRANSACTIONS],Weekly_Data_Raw[TICKER],'Weekly Metrics'!$A8,Weekly_Data_Raw[END_DATE],'Weekly Metrics'!DS$5), IF($B8=\"Avg Ticket\",SUMIFS(Weekly_Data_Raw[AVG_TICKET],Weekly_Data_Raw[TICKER],'Weekly Metrics'!$A8,Weekly_Data_Raw[END_DATE],'Weekly Metrics'!DS$5), IF($B8=\"EOP Subscribers\",SUMIFS(Weekly_Data_Raw[EOP_SUBSCRIBERS],Weekly_Data_Raw[TICKER],'Weekly Metrics'!$A8,Weekly_Data_Raw[END_DATE],'Weekly Metrics'!DS$5), IF($B8=\"Gross Adds\",SUMIFS(Weekly_Data_Raw[GROSS_ADDS],Weekly_Data_Raw[TICKER],'Weekly Metrics'!$A8,Weekly_Data_Raw[END_DATE],'Weekly Metrics'!DS$5), IF($B8=\"Churn\",SUMIFS(Weekly_Data_Raw[CHURNED_MEMBERS],Weekly_Data_Raw[TICKER],'Weekly Metrics'!$A8,Weekly_Data_Raw[END_DATE],'Weekly Metrics'!DS$5)))))))","v":587},{"$f":"IF($B8=\"Panel Sales\", SUMIFS(Weekly_Data_Raw[PANEL_AMOUNT],Weekly_Data_Raw[TICKER],'Weekly Metrics'!$A8,Weekly_Data_Raw[END_DATE],'Weekly Metrics'!DT$5),IF($B8=\"Transactions\",SUMIFS(Weekly_Data_Raw[PANEL_TRANSACTIONS],Weekly_Data_Raw[TICKER],'Weekly Metrics'!$A8,Weekly_Data_Raw[END_DATE],'Weekly Metrics'!DT$5), IF($B8=\"Avg Ticket\",SUMIFS(Weekly_Data_Raw[AVG_TICKET],Weekly_Data_Raw[TICKER],'Weekly Metrics'!$A8,Weekly_Data_Raw[END_DATE],'Weekly Metrics'!DT$5), IF($B8=\"EOP Subscribers\",SUMIFS(Weekly_Data_Raw[EOP_SUBSCRIBERS],Weekly_Data_Raw[TICKER],'Weekly Metrics'!$A8,Weekly_Data_Raw[END_DATE],'Weekly Metrics'!DT$5), IF($B8=\"Gross Adds\",SUMIFS(Weekly_Data_Raw[GROSS_ADDS],Weekly_Data_Raw[TICKER],'Weekly Metrics'!$A8,Weekly_Data_Raw[END_DATE],'Weekly Metrics'!DT$5), IF($B8=\"Churn\",SUMIFS(Weekly_Data_Raw[CHURNED_MEMBERS],Weekly_Data_Raw[TICKER],'Weekly Metrics'!$A8,Weekly_Data_Raw[END_DATE],'Weekly Metrics'!DT$5)))))))","v":646},{"$f":"IF($B8=\"Panel Sales\", SUMIFS(Weekly_Data_Raw[PANEL_AMOUNT],Weekly_Data_Raw[TICKER],'Weekly Metrics'!$A8,Weekly_Data_Raw[END_DATE],'Weekly Metrics'!DU$5),IF($B8=\"Transactions\",SUMIFS(Weekly_Data_Raw[PANEL_TRANSACTIONS],Weekly_Data_Raw[TICKER],'Weekly Metrics'!$A8,Weekly_Data_Raw[END_DATE],'Weekly Metrics'!DU$5), IF($B8=\"Avg Ticket\",SUMIFS(Weekly_Data_Raw[AVG_TICKET],Weekly_Data_Raw[TICKER],'Weekly Metrics'!$A8,Weekly_Data_Raw[END_DATE],'Weekly Metrics'!DU$5), IF($B8=\"EOP Subscribers\",SUMIFS(Weekly_Data_Raw[EOP_SUBSCRIBERS],Weekly_Data_Raw[TICKER],'Weekly Metrics'!$A8,Weekly_Data_Raw[END_DATE],'Weekly Metrics'!DU$5), IF($B8=\"Gross Adds\",SUMIFS(Weekly_Data_Raw[GROSS_ADDS],Weekly_Data_Raw[TICKER],'Weekly Metrics'!$A8,Weekly_Data_Raw[END_DATE],'Weekly Metrics'!DU$5), IF($B8=\"Churn\",SUMIFS(Weekly_Data_Raw[CHURNED_MEMBERS],Weekly_Data_Raw[TICKER],'Weekly Metrics'!$A8,Weekly_Data_Raw[END_DATE],'Weekly Metrics'!DU$5)))))))","v":592},{"$f":"IF($B8=\"Panel Sales\", SUMIFS(Weekly_Data_Raw[PANEL_AMOUNT],Weekly_Data_Raw[TICKER],'Weekly Metrics'!$A8,Weekly_Data_Raw[END_DATE],'Weekly Metrics'!DV$5),IF($B8=\"Transactions\",SUMIFS(Weekly_Data_Raw[PANEL_TRANSACTIONS],Weekly_Data_Raw[TICKER],'Weekly Metrics'!$A8,Weekly_Data_Raw[END_DATE],'Weekly Metrics'!DV$5), IF($B8=\"Avg Ticket\",SUMIFS(Weekly_Data_Raw[AVG_TICKET],Weekly_Data_Raw[TICKER],'Weekly Metrics'!$A8,Weekly_Data_Raw[END_DATE],'Weekly Metrics'!DV$5), IF($B8=\"EOP Subscribers\",SUMIFS(Weekly_Data_Raw[EOP_SUBSCRIBERS],Weekly_Data_Raw[TICKER],'Weekly Metrics'!$A8,Weekly_Data_Raw[END_DATE],'Weekly Metrics'!DV$5), IF($B8=\"Gross Adds\",SUMIFS(Weekly_Data_Raw[GROSS_ADDS],Weekly_Data_Raw[TICKER],'Weekly Metrics'!$A8,Weekly_Data_Raw[END_DATE],'Weekly Metrics'!DV$5), IF($B8=\"Churn\",SUMIFS(Weekly_Data_Raw[CHURNED_MEMBERS],Weekly_Data_Raw[TICKER],'Weekly Metrics'!$A8,Weekly_Data_Raw[END_DATE],'Weekly Metrics'!DV$5)))))))","v":541},{"$f":"IF($B8=\"Panel Sales\", SUMIFS(Weekly_Data_Raw[PANEL_AMOUNT],Weekly_Data_Raw[TICKER],'Weekly Metrics'!$A8,Weekly_Data_Raw[END_DATE],'Weekly Metrics'!DW$5),IF($B8=\"Transactions\",SUMIFS(Weekly_Data_Raw[PANEL_TRANSACTIONS],Weekly_Data_Raw[TICKER],'Weekly Metrics'!$A8,Weekly_Data_Raw[END_DATE],'Weekly Metrics'!DW$5), IF($B8=\"Avg Ticket\",SUMIFS(Weekly_Data_Raw[AVG_TICKET],Weekly_Data_Raw[TICKER],'Weekly Metrics'!$A8,Weekly_Data_Raw[END_DATE],'Weekly Metrics'!DW$5), IF($B8=\"EOP Subscribers\",SUMIFS(Weekly_Data_Raw[EOP_SUBSCRIBERS],Weekly_Data_Raw[TICKER],'Weekly Metrics'!$A8,Weekly_Data_Raw[END_DATE],'Weekly Metrics'!DW$5), IF($B8=\"Gross Adds\",SUMIFS(Weekly_Data_Raw[GROSS_ADDS],Weekly_Data_Raw[TICKER],'Weekly Metrics'!$A8,Weekly_Data_Raw[END_DATE],'Weekly Metrics'!DW$5), IF($B8=\"Churn\",SUMIFS(Weekly_Data_Raw[CHURNED_MEMBERS],Weekly_Data_Raw[TICKER],'Weekly Metrics'!$A8,Weekly_Data_Raw[END_DATE],'Weekly Metrics'!DW$5)))))))","v":622},{"$f":"IF($B8=\"Panel Sales\", SUMIFS(Weekly_Data_Raw[PANEL_AMOUNT],Weekly_Data_Raw[TICKER],'Weekly Metrics'!$A8,Weekly_Data_Raw[END_DATE],'Weekly Metrics'!DX$5),IF($B8=\"Transactions\",SUMIFS(Weekly_Data_Raw[PANEL_TRANSACTIONS],Weekly_Data_Raw[TICKER],'Weekly Metrics'!$A8,Weekly_Data_Raw[END_DATE],'Weekly Metrics'!DX$5), IF($B8=\"Avg Ticket\",SUMIFS(Weekly_Data_Raw[AVG_TICKET],Weekly_Data_Raw[TICKER],'Weekly Metrics'!$A8,Weekly_Data_Raw[END_DATE],'Weekly Metrics'!DX$5), IF($B8=\"EOP Subscribers\",SUMIFS(Weekly_Data_Raw[EOP_SUBSCRIBERS],Weekly_Data_Raw[TICKER],'Weekly Metrics'!$A8,Weekly_Data_Raw[END_DATE],'Weekly Metrics'!DX$5), IF($B8=\"Gross Adds\",SUMIFS(Weekly_Data_Raw[GROSS_ADDS],Weekly_Data_Raw[TICKER],'Weekly Metrics'!$A8,Weekly_Data_Raw[END_DATE],'Weekly Metrics'!DX$5), IF($B8=\"Churn\",SUMIFS(Weekly_Data_Raw[CHURNED_MEMBERS],Weekly_Data_Raw[TICKER],'Weekly Metrics'!$A8,Weekly_Data_Raw[END_DATE],'Weekly Metrics'!DX$5)))))))","v":615},{"$f":"IF($B8=\"Panel Sales\", SUMIFS(Weekly_Data_Raw[PANEL_AMOUNT],Weekly_Data_Raw[TICKER],'Weekly Metrics'!$A8,Weekly_Data_Raw[END_DATE],'Weekly Metrics'!DY$5),IF($B8=\"Transactions\",SUMIFS(Weekly_Data_Raw[PANEL_TRANSACTIONS],Weekly_Data_Raw[TICKER],'Weekly Metrics'!$A8,Weekly_Data_Raw[END_DATE],'Weekly Metrics'!DY$5), IF($B8=\"Avg Ticket\",SUMIFS(Weekly_Data_Raw[AVG_TICKET],Weekly_Data_Raw[TICKER],'Weekly Metrics'!$A8,Weekly_Data_Raw[END_DATE],'Weekly Metrics'!DY$5), IF($B8=\"EOP Subscribers\",SUMIFS(Weekly_Data_Raw[EOP_SUBSCRIBERS],Weekly_Data_Raw[TICKER],'Weekly Metrics'!$A8,Weekly_Data_Raw[END_DATE],'Weekly Metrics'!DY$5), IF($B8=\"Gross Adds\",SUMIFS(Weekly_Data_Raw[GROSS_ADDS],Weekly_Data_Raw[TICKER],'Weekly Metrics'!$A8,Weekly_Data_Raw[END_DATE],'Weekly Metrics'!DY$5), IF($B8=\"Churn\",SUMIFS(Weekly_Data_Raw[CHURNED_MEMBERS],Weekly_Data_Raw[TICKER],'Weekly Metrics'!$A8,Weekly_Data_Raw[END_DATE],'Weekly Metrics'!DY$5)))))))","v":602},{"$f":"IF($B8=\"Panel Sales\", SUMIFS(Weekly_Data_Raw[PANEL_AMOUNT],Weekly_Data_Raw[TICKER],'Weekly Metrics'!$A8,Weekly_Data_Raw[END_DATE],'Weekly Metrics'!DZ$5),IF($B8=\"Transactions\",SUMIFS(Weekly_Data_Raw[PANEL_TRANSACTIONS],Weekly_Data_Raw[TICKER],'Weekly Metrics'!$A8,Weekly_Data_Raw[END_DATE],'Weekly Metrics'!DZ$5), IF($B8=\"Avg Ticket\",SUMIFS(Weekly_Data_Raw[AVG_TICKET],Weekly_Data_Raw[TICKER],'Weekly Metrics'!$A8,Weekly_Data_Raw[END_DATE],'Weekly Metrics'!DZ$5), IF($B8=\"EOP Subscribers\",SUMIFS(Weekly_Data_Raw[EOP_SUBSCRIBERS],Weekly_Data_Raw[TICKER],'Weekly Metrics'!$A8,Weekly_Data_Raw[END_DATE],'Weekly Metrics'!DZ$5), IF($B8=\"Gross Adds\",SUMIFS(Weekly_Data_Raw[GROSS_ADDS],Weekly_Data_Raw[TICKER],'Weekly Metrics'!$A8,Weekly_Data_Raw[END_DATE],'Weekly Metrics'!DZ$5), IF($B8=\"Churn\",SUMIFS(Weekly_Data_Raw[CHURNED_MEMBERS],Weekly_Data_Raw[TICKER],'Weekly Metrics'!$A8,Weekly_Data_Raw[END_DATE],'Weekly Metrics'!DZ$5)))))))","v":555},{"$f":"IF($B8=\"Panel Sales\", SUMIFS(Weekly_Data_Raw[PANEL_AMOUNT],Weekly_Data_Raw[TICKER],'Weekly Metrics'!$A8,Weekly_Data_Raw[END_DATE],'Weekly Metrics'!EA$5),IF($B8=\"Transactions\",SUMIFS(Weekly_Data_Raw[PANEL_TRANSACTIONS],Weekly_Data_Raw[TICKER],'Weekly Metrics'!$A8,Weekly_Data_Raw[END_DATE],'Weekly Metrics'!EA$5), IF($B8=\"Avg Ticket\",SUMIFS(Weekly_Data_Raw[AVG_TICKET],Weekly_Data_Raw[TICKER],'Weekly Metrics'!$A8,Weekly_Data_Raw[END_DATE],'Weekly Metrics'!EA$5), IF($B8=\"EOP Subscribers\",SUMIFS(Weekly_Data_Raw[EOP_SUBSCRIBERS],Weekly_Data_Raw[TICKER],'Weekly Metrics'!$A8,Weekly_Data_Raw[END_DATE],'Weekly Metrics'!EA$5), IF($B8=\"Gross Adds\",SUMIFS(Weekly_Data_Raw[GROSS_ADDS],Weekly_Data_Raw[TICKER],'Weekly Metrics'!$A8,Weekly_Data_Raw[END_DATE],'Weekly Metrics'!EA$5), IF($B8=\"Churn\",SUMIFS(Weekly_Data_Raw[CHURNED_MEMBERS],Weekly_Data_Raw[TICKER],'Weekly Metrics'!$A8,Weekly_Data_Raw[END_DATE],'Weekly Metrics'!EA$5)))))))","v":545},{"$f":"IF($B8=\"Panel Sales\", SUMIFS(Weekly_Data_Raw[PANEL_AMOUNT],Weekly_Data_Raw[TICKER],'Weekly Metrics'!$A8,Weekly_Data_Raw[END_DATE],'Weekly Metrics'!EB$5),IF($B8=\"Transactions\",SUMIFS(Weekly_Data_Raw[PANEL_TRANSACTIONS],Weekly_Data_Raw[TICKER],'Weekly Metrics'!$A8,Weekly_Data_Raw[END_DATE],'Weekly Metrics'!EB$5), IF($B8=\"Avg Ticket\",SUMIFS(Weekly_Data_Raw[AVG_TICKET],Weekly_Data_Raw[TICKER],'Weekly Metrics'!$A8,Weekly_Data_Raw[END_DATE],'Weekly Metrics'!EB$5), IF($B8=\"EOP Subscribers\",SUMIFS(Weekly_Data_Raw[EOP_SUBSCRIBERS],Weekly_Data_Raw[TICKER],'Weekly Metrics'!$A8,Weekly_Data_Raw[END_DATE],'Weekly Metrics'!EB$5), IF($B8=\"Gross Adds\",SUMIFS(Weekly_Data_Raw[GROSS_ADDS],Weekly_Data_Raw[TICKER],'Weekly Metrics'!$A8,Weekly_Data_Raw[END_DATE],'Weekly Metrics'!EB$5), IF($B8=\"Churn\",SUMIFS(Weekly_Data_Raw[CHURNED_MEMBERS],Weekly_Data_Raw[TICKER],'Weekly Metrics'!$A8,Weekly_Data_Raw[END_DATE],'Weekly Metrics'!EB$5)))))))","v":552},{"$f":"IF($B8=\"Panel Sales\", SUMIFS(Weekly_Data_Raw[PANEL_AMOUNT],Weekly_Data_Raw[TICKER],'Weekly Metrics'!$A8,Weekly_Data_Raw[END_DATE],'Weekly Metrics'!EC$5),IF($B8=\"Transactions\",SUMIFS(Weekly_Data_Raw[PANEL_TRANSACTIONS],Weekly_Data_Raw[TICKER],'Weekly Metrics'!$A8,Weekly_Data_Raw[END_DATE],'Weekly Metrics'!EC$5), IF($B8=\"Avg Ticket\",SUMIFS(Weekly_Data_Raw[AVG_TICKET],Weekly_Data_Raw[TICKER],'Weekly Metrics'!$A8,Weekly_Data_Raw[END_DATE],'Weekly Metrics'!EC$5), IF($B8=\"EOP Subscribers\",SUMIFS(Weekly_Data_Raw[EOP_SUBSCRIBERS],Weekly_Data_Raw[TICKER],'Weekly Metrics'!$A8,Weekly_Data_Raw[END_DATE],'Weekly Metrics'!EC$5), IF($B8=\"Gross Adds\",SUMIFS(Weekly_Data_Raw[GROSS_ADDS],Weekly_Data_Raw[TICKER],'Weekly Metrics'!$A8,Weekly_Data_Raw[END_DATE],'Weekly Metrics'!EC$5), IF($B8=\"Churn\",SUMIFS(Weekly_Data_Raw[CHURNED_MEMBERS],Weekly_Data_Raw[TICKER],'Weekly Metrics'!$A8,Weekly_Data_Raw[END_DATE],'Weekly Metrics'!EC$5)))))))","v":568},{"$f":"IF($B8=\"Panel Sales\", SUMIFS(Weekly_Data_Raw[PANEL_AMOUNT],Weekly_Data_Raw[TICKER],'Weekly Metrics'!$A8,Weekly_Data_Raw[END_DATE],'Weekly Metrics'!ED$5),IF($B8=\"Transactions\",SUMIFS(Weekly_Data_Raw[PANEL_TRANSACTIONS],Weekly_Data_Raw[TICKER],'Weekly Metrics'!$A8,Weekly_Data_Raw[END_DATE],'Weekly Metrics'!ED$5), IF($B8=\"Avg Ticket\",SUMIFS(Weekly_Data_Raw[AVG_TICKET],Weekly_Data_Raw[TICKER],'Weekly Metrics'!$A8,Weekly_Data_Raw[END_DATE],'Weekly Metrics'!ED$5), IF($B8=\"EOP Subscribers\",SUMIFS(Weekly_Data_Raw[EOP_SUBSCRIBERS],Weekly_Data_Raw[TICKER],'Weekly Metrics'!$A8,Weekly_Data_Raw[END_DATE],'Weekly Metrics'!ED$5), IF($B8=\"Gross Adds\",SUMIFS(Weekly_Data_Raw[GROSS_ADDS],Weekly_Data_Raw[TICKER],'Weekly Metrics'!$A8,Weekly_Data_Raw[END_DATE],'Weekly Metrics'!ED$5), IF($B8=\"Churn\",SUMIFS(Weekly_Data_Raw[CHURNED_MEMBERS],Weekly_Data_Raw[TICKER],'Weekly Metrics'!$A8,Weekly_Data_Raw[END_DATE],'Weekly Metrics'!ED$5)))))))","v":592},{"$f":"IF($B8=\"Panel Sales\", SUMIFS(Weekly_Data_Raw[PANEL_AMOUNT],Weekly_Data_Raw[TICKER],'Weekly Metrics'!$A8,Weekly_Data_Raw[END_DATE],'Weekly Metrics'!EE$5),IF($B8=\"Transactions\",SUMIFS(Weekly_Data_Raw[PANEL_TRANSACTIONS],Weekly_Data_Raw[TICKER],'Weekly Metrics'!$A8,Weekly_Data_Raw[END_DATE],'Weekly Metrics'!EE$5), IF($B8=\"Avg Ticket\",SUMIFS(Weekly_Data_Raw[AVG_TICKET],Weekly_Data_Raw[TICKER],'Weekly Metrics'!$A8,Weekly_Data_Raw[END_DATE],'Weekly Metrics'!EE$5), IF($B8=\"EOP Subscribers\",SUMIFS(Weekly_Data_Raw[EOP_SUBSCRIBERS],Weekly_Data_Raw[TICKER],'Weekly Metrics'!$A8,Weekly_Data_Raw[END_DATE],'Weekly Metrics'!EE$5), IF($B8=\"Gross Adds\",SUMIFS(Weekly_Data_Raw[GROSS_ADDS],Weekly_Data_Raw[TICKER],'Weekly Metrics'!$A8,Weekly_Data_Raw[END_DATE],'Weekly Metrics'!EE$5), IF($B8=\"Churn\",SUMIFS(Weekly_Data_Raw[CHURNED_MEMBERS],Weekly_Data_Raw[TICKER],'Weekly Metrics'!$A8,Weekly_Data_Raw[END_DATE],'Weekly Metrics'!EE$5)))))))","v":553},{"$f":"IF($B8=\"Panel Sales\", SUMIFS(Weekly_Data_Raw[PANEL_AMOUNT],Weekly_Data_Raw[TICKER],'Weekly Metrics'!$A8,Weekly_Data_Raw[END_DATE],'Weekly Metrics'!EF$5),IF($B8=\"Transactions\",SUMIFS(Weekly_Data_Raw[PANEL_TRANSACTIONS],Weekly_Data_Raw[TICKER],'Weekly Metrics'!$A8,Weekly_Data_Raw[END_DATE],'Weekly Metrics'!EF$5), IF($B8=\"Avg Ticket\",SUMIFS(Weekly_Data_Raw[AVG_TICKET],Weekly_Data_Raw[TICKER],'Weekly Metrics'!$A8,Weekly_Data_Raw[END_DATE],'Weekly Metrics'!EF$5), IF($B8=\"EOP Subscribers\",SUMIFS(Weekly_Data_Raw[EOP_SUBSCRIBERS],Weekly_Data_Raw[TICKER],'Weekly Metrics'!$A8,Weekly_Data_Raw[END_DATE],'Weekly Metrics'!EF$5), IF($B8=\"Gross Adds\",SUMIFS(Weekly_Data_Raw[GROSS_ADDS],Weekly_Data_Raw[TICKER],'Weekly Metrics'!$A8,Weekly_Data_Raw[END_DATE],'Weekly Metrics'!EF$5), IF($B8=\"Churn\",SUMIFS(Weekly_Data_Raw[CHURNED_MEMBERS],Weekly_Data_Raw[TICKER],'Weekly Metrics'!$A8,Weekly_Data_Raw[END_DATE],'Weekly Metrics'!EF$5)))))))","v":550},{"$f":"IF($B8=\"Panel Sales\", SUMIFS(Weekly_Data_Raw[PANEL_AMOUNT],Weekly_Data_Raw[TICKER],'Weekly Metrics'!$A8,Weekly_Data_Raw[END_DATE],'Weekly Metrics'!EG$5),IF($B8=\"Transactions\",SUMIFS(Weekly_Data_Raw[PANEL_TRANSACTIONS],Weekly_Data_Raw[TICKER],'Weekly Metrics'!$A8,Weekly_Data_Raw[END_DATE],'Weekly Metrics'!EG$5), IF($B8=\"Avg Ticket\",SUMIFS(Weekly_Data_Raw[AVG_TICKET],Weekly_Data_Raw[TICKER],'Weekly Metrics'!$A8,Weekly_Data_Raw[END_DATE],'Weekly Metrics'!EG$5), IF($B8=\"EOP Subscribers\",SUMIFS(Weekly_Data_Raw[EOP_SUBSCRIBERS],Weekly_Data_Raw[TICKER],'Weekly Metrics'!$A8,Weekly_Data_Raw[END_DATE],'Weekly Metrics'!EG$5), IF($B8=\"Gross Adds\",SUMIFS(Weekly_Data_Raw[GROSS_ADDS],Weekly_Data_Raw[TICKER],'Weekly Metrics'!$A8,Weekly_Data_Raw[END_DATE],'Weekly Metrics'!EG$5), IF($B8=\"Churn\",SUMIFS(Weekly_Data_Raw[CHURNED_MEMBERS],Weekly_Data_Raw[TICKER],'Weekly Metrics'!$A8,Weekly_Data_Raw[END_DATE],'Weekly Metrics'!EG$5)))))))","v":574},{"$f":"IF($B8=\"Panel Sales\", SUMIFS(Weekly_Data_Raw[PANEL_AMOUNT],Weekly_Data_Raw[TICKER],'Weekly Metrics'!$A8,Weekly_Data_Raw[END_DATE],'Weekly Metrics'!EH$5),IF($B8=\"Transactions\",SUMIFS(Weekly_Data_Raw[PANEL_TRANSACTIONS],Weekly_Data_Raw[TICKER],'Weekly Metrics'!$A8,Weekly_Data_Raw[END_DATE],'Weekly Metrics'!EH$5), IF($B8=\"Avg Ticket\",SUMIFS(Weekly_Data_Raw[AVG_TICKET],Weekly_Data_Raw[TICKER],'Weekly Metrics'!$A8,Weekly_Data_Raw[END_DATE],'Weekly Metrics'!EH$5), IF($B8=\"EOP Subscribers\",SUMIFS(Weekly_Data_Raw[EOP_SUBSCRIBERS],Weekly_Data_Raw[TICKER],'Weekly Metrics'!$A8,Weekly_Data_Raw[END_DATE],'Weekly Metrics'!EH$5), IF($B8=\"Gross Adds\",SUMIFS(Weekly_Data_Raw[GROSS_ADDS],Weekly_Data_Raw[TICKER],'Weekly Metrics'!$A8,Weekly_Data_Raw[END_DATE],'Weekly Metrics'!EH$5), IF($B8=\"Churn\",SUMIFS(Weekly_Data_Raw[CHURNED_MEMBERS],Weekly_Data_Raw[TICKER],'Weekly Metrics'!$A8,Weekly_Data_Raw[END_DATE],'Weekly Metrics'!EH$5)))))))","v":690},{"$f":"IF($B8=\"Panel Sales\", SUMIFS(Weekly_Data_Raw[PANEL_AMOUNT],Weekly_Data_Raw[TICKER],'Weekly Metrics'!$A8,Weekly_Data_Raw[END_DATE],'Weekly Metrics'!EI$5),IF($B8=\"Transactions\",SUMIFS(Weekly_Data_Raw[PANEL_TRANSACTIONS],Weekly_Data_Raw[TICKER],'Weekly Metrics'!$A8,Weekly_Data_Raw[END_DATE],'Weekly Metrics'!EI$5), IF($B8=\"Avg Ticket\",SUMIFS(Weekly_Data_Raw[AVG_TICKET],Weekly_Data_Raw[TICKER],'Weekly Metrics'!$A8,Weekly_Data_Raw[END_DATE],'Weekly Metrics'!EI$5), IF($B8=\"EOP Subscribers\",SUMIFS(Weekly_Data_Raw[EOP_SUBSCRIBERS],Weekly_Data_Raw[TICKER],'Weekly Metrics'!$A8,Weekly_Data_Raw[END_DATE],'Weekly Metrics'!EI$5), IF($B8=\"Gross Adds\",SUMIFS(Weekly_Data_Raw[GROSS_ADDS],Weekly_Data_Raw[TICKER],'Weekly Metrics'!$A8,Weekly_Data_Raw[END_DATE],'Weekly Metrics'!EI$5), IF($B8=\"Churn\",SUMIFS(Weekly_Data_Raw[CHURNED_MEMBERS],Weekly_Data_Raw[TICKER],'Weekly Metrics'!$A8,Weekly_Data_Raw[END_DATE],'Weekly Metrics'!EI$5)))))))","v":569},{"$f":"IF($B8=\"Panel Sales\", SUMIFS(Weekly_Data_Raw[PANEL_AMOUNT],Weekly_Data_Raw[TICKER],'Weekly Metrics'!$A8,Weekly_Data_Raw[END_DATE],'Weekly Metrics'!EJ$5),IF($B8=\"Transactions\",SUMIFS(Weekly_Data_Raw[PANEL_TRANSACTIONS],Weekly_Data_Raw[TICKER],'Weekly Metrics'!$A8,Weekly_Data_Raw[END_DATE],'Weekly Metrics'!EJ$5), IF($B8=\"Avg Ticket\",SUMIFS(Weekly_Data_Raw[AVG_TICKET],Weekly_Data_Raw[TICKER],'Weekly Metrics'!$A8,Weekly_Data_Raw[END_DATE],'Weekly Metrics'!EJ$5), IF($B8=\"EOP Subscribers\",SUMIFS(Weekly_Data_Raw[EOP_SUBSCRIBERS],Weekly_Data_Raw[TICKER],'Weekly Metrics'!$A8,Weekly_Data_Raw[END_DATE],'Weekly Metrics'!EJ$5), IF($B8=\"Gross Adds\",SUMIFS(Weekly_Data_Raw[GROSS_ADDS],Weekly_Data_Raw[TICKER],'Weekly Metrics'!$A8,Weekly_Data_Raw[END_DATE],'Weekly Metrics'!EJ$5), IF($B8=\"Churn\",SUMIFS(Weekly_Data_Raw[CHURNED_MEMBERS],Weekly_Data_Raw[TICKER],'Weekly Metrics'!$A8,Weekly_Data_Raw[END_DATE],'Weekly Metrics'!EJ$5)))))))","v":556},{"$f":"IF($B8=\"Panel Sales\", SUMIFS(Weekly_Data_Raw[PANEL_AMOUNT],Weekly_Data_Raw[TICKER],'Weekly Metrics'!$A8,Weekly_Data_Raw[END_DATE],'Weekly Metrics'!EK$5),IF($B8=\"Transactions\",SUMIFS(Weekly_Data_Raw[PANEL_TRANSACTIONS],Weekly_Data_Raw[TICKER],'Weekly Metrics'!$A8,Weekly_Data_Raw[END_DATE],'Weekly Metrics'!EK$5), IF($B8=\"Avg Ticket\",SUMIFS(Weekly_Data_Raw[AVG_TICKET],Weekly_Data_Raw[TICKER],'Weekly Metrics'!$A8,Weekly_Data_Raw[END_DATE],'Weekly Metrics'!EK$5), IF($B8=\"EOP Subscribers\",SUMIFS(Weekly_Data_Raw[EOP_SUBSCRIBERS],Weekly_Data_Raw[TICKER],'Weekly Metrics'!$A8,Weekly_Data_Raw[END_DATE],'Weekly Metrics'!EK$5), IF($B8=\"Gross Adds\",SUMIFS(Weekly_Data_Raw[GROSS_ADDS],Weekly_Data_Raw[TICKER],'Weekly Metrics'!$A8,Weekly_Data_Raw[END_DATE],'Weekly Metrics'!EK$5), IF($B8=\"Churn\",SUMIFS(Weekly_Data_Raw[CHURNED_MEMBERS],Weekly_Data_Raw[TICKER],'Weekly Metrics'!$A8,Weekly_Data_Raw[END_DATE],'Weekly Metrics'!EK$5)))))))","v":534},{"$f":"IF($B8=\"Panel Sales\", SUMIFS(Weekly_Data_Raw[PANEL_AMOUNT],Weekly_Data_Raw[TICKER],'Weekly Metrics'!$A8,Weekly_Data_Raw[END_DATE],'Weekly Metrics'!EL$5),IF($B8=\"Transactions\",SUMIFS(Weekly_Data_Raw[PANEL_TRANSACTIONS],Weekly_Data_Raw[TICKER],'Weekly Metrics'!$A8,Weekly_Data_Raw[END_DATE],'Weekly Metrics'!EL$5), IF($B8=\"Avg Ticket\",SUMIFS(Weekly_Data_Raw[AVG_TICKET],Weekly_Data_Raw[TICKER],'Weekly Metrics'!$A8,Weekly_Data_Raw[END_DATE],'Weekly Metrics'!EL$5), IF($B8=\"EOP Subscribers\",SUMIFS(Weekly_Data_Raw[EOP_SUBSCRIBERS],Weekly_Data_Raw[TICKER],'Weekly Metrics'!$A8,Weekly_Data_Raw[END_DATE],'Weekly Metrics'!EL$5), IF($B8=\"Gross Adds\",SUMIFS(Weekly_Data_Raw[GROSS_ADDS],Weekly_Data_Raw[TICKER],'Weekly Metrics'!$A8,Weekly_Data_Raw[END_DATE],'Weekly Metrics'!EL$5), IF($B8=\"Churn\",SUMIFS(Weekly_Data_Raw[CHURNED_MEMBERS],Weekly_Data_Raw[TICKER],'Weekly Metrics'!$A8,Weekly_Data_Raw[END_DATE],'Weekly Metrics'!EL$5)))))))","v":575},{"$f":"IF($B8=\"Panel Sales\", SUMIFS(Weekly_Data_Raw[PANEL_AMOUNT],Weekly_Data_Raw[TICKER],'Weekly Metrics'!$A8,Weekly_Data_Raw[END_DATE],'Weekly Metrics'!EM$5),IF($B8=\"Transactions\",SUMIFS(Weekly_Data_Raw[PANEL_TRANSACTIONS],Weekly_Data_Raw[TICKER],'Weekly Metrics'!$A8,Weekly_Data_Raw[END_DATE],'Weekly Metrics'!EM$5), IF($B8=\"Avg Ticket\",SUMIFS(Weekly_Data_Raw[AVG_TICKET],Weekly_Data_Raw[TICKER],'Weekly Metrics'!$A8,Weekly_Data_Raw[END_DATE],'Weekly Metrics'!EM$5), IF($B8=\"EOP Subscribers\",SUMIFS(Weekly_Data_Raw[EOP_SUBSCRIBERS],Weekly_Data_Raw[TICKER],'Weekly Metrics'!$A8,Weekly_Data_Raw[END_DATE],'Weekly Metrics'!EM$5), IF($B8=\"Gross Adds\",SUMIFS(Weekly_Data_Raw[GROSS_ADDS],Weekly_Data_Raw[TICKER],'Weekly Metrics'!$A8,Weekly_Data_Raw[END_DATE],'Weekly Metrics'!EM$5), IF($B8=\"Churn\",SUMIFS(Weekly_Data_Raw[CHURNED_MEMBERS],Weekly_Data_Raw[TICKER],'Weekly Metrics'!$A8,Weekly_Data_Raw[END_DATE],'Weekly Metrics'!EM$5)))))))","v":611},{"$f":"IF($B8=\"Panel Sales\", SUMIFS(Weekly_Data_Raw[PANEL_AMOUNT],Weekly_Data_Raw[TICKER],'Weekly Metrics'!$A8,Weekly_Data_Raw[END_DATE],'Weekly Metrics'!EN$5),IF($B8=\"Transactions\",SUMIFS(Weekly_Data_Raw[PANEL_TRANSACTIONS],Weekly_Data_Raw[TICKER],'Weekly Metrics'!$A8,Weekly_Data_Raw[END_DATE],'Weekly Metrics'!EN$5), IF($B8=\"Avg Ticket\",SUMIFS(Weekly_Data_Raw[AVG_TICKET],Weekly_Data_Raw[TICKER],'Weekly Metrics'!$A8,Weekly_Data_Raw[END_DATE],'Weekly Metrics'!EN$5), IF($B8=\"EOP Subscribers\",SUMIFS(Weekly_Data_Raw[EOP_SUBSCRIBERS],Weekly_Data_Raw[TICKER],'Weekly Metrics'!$A8,Weekly_Data_Raw[END_DATE],'Weekly Metrics'!EN$5), IF($B8=\"Gross Adds\",SUMIFS(Weekly_Data_Raw[GROSS_ADDS],Weekly_Data_Raw[TICKER],'Weekly Metrics'!$A8,Weekly_Data_Raw[END_DATE],'Weekly Metrics'!EN$5), IF($B8=\"Churn\",SUMIFS(Weekly_Data_Raw[CHURNED_MEMBERS],Weekly_Data_Raw[TICKER],'Weekly Metrics'!$A8,Weekly_Data_Raw[END_DATE],'Weekly Metrics'!EN$5)))))))","v":542},{"$f":"IF($B8=\"Panel Sales\", SUMIFS(Weekly_Data_Raw[PANEL_AMOUNT],Weekly_Data_Raw[TICKER],'Weekly Metrics'!$A8,Weekly_Data_Raw[END_DATE],'Weekly Metrics'!EO$5),IF($B8=\"Transactions\",SUMIFS(Weekly_Data_Raw[PANEL_TRANSACTIONS],Weekly_Data_Raw[TICKER],'Weekly Metrics'!$A8,Weekly_Data_Raw[END_DATE],'Weekly Metrics'!EO$5), IF($B8=\"Avg Ticket\",SUMIFS(Weekly_Data_Raw[AVG_TICKET],Weekly_Data_Raw[TICKER],'Weekly Metrics'!$A8,Weekly_Data_Raw[END_DATE],'Weekly Metrics'!EO$5), IF($B8=\"EOP Subscribers\",SUMIFS(Weekly_Data_Raw[EOP_SUBSCRIBERS],Weekly_Data_Raw[TICKER],'Weekly Metrics'!$A8,Weekly_Data_Raw[END_DATE],'Weekly Metrics'!EO$5), IF($B8=\"Gross Adds\",SUMIFS(Weekly_Data_Raw[GROSS_ADDS],Weekly_Data_Raw[TICKER],'Weekly Metrics'!$A8,Weekly_Data_Raw[END_DATE],'Weekly Metrics'!EO$5), IF($B8=\"Churn\",SUMIFS(Weekly_Data_Raw[CHURNED_MEMBERS],Weekly_Data_Raw[TICKER],'Weekly Metrics'!$A8,Weekly_Data_Raw[END_DATE],'Weekly Metrics'!EO$5)))))))","v":563},{"$f":"IF($B8=\"Panel Sales\", SUMIFS(Weekly_Data_Raw[PANEL_AMOUNT],Weekly_Data_Raw[TICKER],'Weekly Metrics'!$A8,Weekly_Data_Raw[END_DATE],'Weekly Metrics'!EP$5),IF($B8=\"Transactions\",SUMIFS(Weekly_Data_Raw[PANEL_TRANSACTIONS],Weekly_Data_Raw[TICKER],'Weekly Metrics'!$A8,Weekly_Data_Raw[END_DATE],'Weekly Metrics'!EP$5), IF($B8=\"Avg Ticket\",SUMIFS(Weekly_Data_Raw[AVG_TICKET],Weekly_Data_Raw[TICKER],'Weekly Metrics'!$A8,Weekly_Data_Raw[END_DATE],'Weekly Metrics'!EP$5), IF($B8=\"EOP Subscribers\",SUMIFS(Weekly_Data_Raw[EOP_SUBSCRIBERS],Weekly_Data_Raw[TICKER],'Weekly Metrics'!$A8,Weekly_Data_Raw[END_DATE],'Weekly Metrics'!EP$5), IF($B8=\"Gross Adds\",SUMIFS(Weekly_Data_Raw[GROSS_ADDS],Weekly_Data_Raw[TICKER],'Weekly Metrics'!$A8,Weekly_Data_Raw[END_DATE],'Weekly Metrics'!EP$5), IF($B8=\"Churn\",SUMIFS(Weekly_Data_Raw[CHURNED_MEMBERS],Weekly_Data_Raw[TICKER],'Weekly Metrics'!$A8,Weekly_Data_Raw[END_DATE],'Weekly Metrics'!EP$5)))))))","v":664},{"$f":"IF($B8=\"Panel Sales\", SUMIFS(Weekly_Data_Raw[PANEL_AMOUNT],Weekly_Data_Raw[TICKER],'Weekly Metrics'!$A8,Weekly_Data_Raw[END_DATE],'Weekly Metrics'!EQ$5),IF($B8=\"Transactions\",SUMIFS(Weekly_Data_Raw[PANEL_TRANSACTIONS],Weekly_Data_Raw[TICKER],'Weekly Metrics'!$A8,Weekly_Data_Raw[END_DATE],'Weekly Metrics'!EQ$5), IF($B8=\"Avg Ticket\",SUMIFS(Weekly_Data_Raw[AVG_TICKET],Weekly_Data_Raw[TICKER],'Weekly Metrics'!$A8,Weekly_Data_Raw[END_DATE],'Weekly Metrics'!EQ$5), IF($B8=\"EOP Subscribers\",SUMIFS(Weekly_Data_Raw[EOP_SUBSCRIBERS],Weekly_Data_Raw[TICKER],'Weekly Metrics'!$A8,Weekly_Data_Raw[END_DATE],'Weekly Metrics'!EQ$5), IF($B8=\"Gross Adds\",SUMIFS(Weekly_Data_Raw[GROSS_ADDS],Weekly_Data_Raw[TICKER],'Weekly Metrics'!$A8,Weekly_Data_Raw[END_DATE],'Weekly Metrics'!EQ$5), IF($B8=\"Churn\",SUMIFS(Weekly_Data_Raw[CHURNED_MEMBERS],Weekly_Data_Raw[TICKER],'Weekly Metrics'!$A8,Weekly_Data_Raw[END_DATE],'Weekly Metrics'!EQ$5)))))))","v":734},{"$f":"IF($B8=\"Panel Sales\", SUMIFS(Weekly_Data_Raw[PANEL_AMOUNT],Weekly_Data_Raw[TICKER],'Weekly Metrics'!$A8,Weekly_Data_Raw[END_DATE],'Weekly Metrics'!ER$5),IF($B8=\"Transactions\",SUMIFS(Weekly_Data_Raw[PANEL_TRANSACTIONS],Weekly_Data_Raw[TICKER],'Weekly Metrics'!$A8,Weekly_Data_Raw[END_DATE],'Weekly Metrics'!ER$5), IF($B8=\"Avg Ticket\",SUMIFS(Weekly_Data_Raw[AVG_TICKET],Weekly_Data_Raw[TICKER],'Weekly Metrics'!$A8,Weekly_Data_Raw[END_DATE],'Weekly Metrics'!ER$5), IF($B8=\"EOP Subscribers\",SUMIFS(Weekly_Data_Raw[EOP_SUBSCRIBERS],Weekly_Data_Raw[TICKER],'Weekly Metrics'!$A8,Weekly_Data_Raw[END_DATE],'Weekly Metrics'!ER$5), IF($B8=\"Gross Adds\",SUMIFS(Weekly_Data_Raw[GROSS_ADDS],Weekly_Data_Raw[TICKER],'Weekly Metrics'!$A8,Weekly_Data_Raw[END_DATE],'Weekly Metrics'!ER$5), IF($B8=\"Churn\",SUMIFS(Weekly_Data_Raw[CHURNED_MEMBERS],Weekly_Data_Raw[TICKER],'Weekly Metrics'!$A8,Weekly_Data_Raw[END_DATE],'Weekly Metrics'!ER$5)))))))","v":710},{"$f":"IF($B8=\"Panel Sales\", SUMIFS(Weekly_Data_Raw[PANEL_AMOUNT],Weekly_Data_Raw[TICKER],'Weekly Metrics'!$A8,Weekly_Data_Raw[END_DATE],'Weekly Metrics'!ES$5),IF($B8=\"Transactions\",SUMIFS(Weekly_Data_Raw[PANEL_TRANSACTIONS],Weekly_Data_Raw[TICKER],'Weekly Metrics'!$A8,Weekly_Data_Raw[END_DATE],'Weekly Metrics'!ES$5), IF($B8=\"Avg Ticket\",SUMIFS(Weekly_Data_Raw[AVG_TICKET],Weekly_Data_Raw[TICKER],'Weekly Metrics'!$A8,Weekly_Data_Raw[END_DATE],'Weekly Metrics'!ES$5), IF($B8=\"EOP Subscribers\",SUMIFS(Weekly_Data_Raw[EOP_SUBSCRIBERS],Weekly_Data_Raw[TICKER],'Weekly Metrics'!$A8,Weekly_Data_Raw[END_DATE],'Weekly Metrics'!ES$5), IF($B8=\"Gross Adds\",SUMIFS(Weekly_Data_Raw[GROSS_ADDS],Weekly_Data_Raw[TICKER],'Weekly Metrics'!$A8,Weekly_Data_Raw[END_DATE],'Weekly Metrics'!ES$5), IF($B8=\"Churn\",SUMIFS(Weekly_Data_Raw[CHURNED_MEMBERS],Weekly_Data_Raw[TICKER],'Weekly Metrics'!$A8,Weekly_Data_Raw[END_DATE],'Weekly Metrics'!ES$5)))))))","v":704},{"$f":"IF($B8=\"Panel Sales\", SUMIFS(Weekly_Data_Raw[PANEL_AMOUNT],Weekly_Data_Raw[TICKER],'Weekly Metrics'!$A8,Weekly_Data_Raw[END_DATE],'Weekly Metrics'!ET$5),IF($B8=\"Transactions\",SUMIFS(Weekly_Data_Raw[PANEL_TRANSACTIONS],Weekly_Data_Raw[TICKER],'Weekly Metrics'!$A8,Weekly_Data_Raw[END_DATE],'Weekly Metrics'!ET$5), IF($B8=\"Avg Ticket\",SUMIFS(Weekly_Data_Raw[AVG_TICKET],Weekly_Data_Raw[TICKER],'Weekly Metrics'!$A8,Weekly_Data_Raw[END_DATE],'Weekly Metrics'!ET$5), IF($B8=\"EOP Subscribers\",SUMIFS(Weekly_Data_Raw[EOP_SUBSCRIBERS],Weekly_Data_Raw[TICKER],'Weekly Metrics'!$A8,Weekly_Data_Raw[END_DATE],'Weekly Metrics'!ET$5), IF($B8=\"Gross Adds\",SUMIFS(Weekly_Data_Raw[GROSS_ADDS],Weekly_Data_Raw[TICKER],'Weekly Metrics'!$A8,Weekly_Data_Raw[END_DATE],'Weekly Metrics'!ET$5), IF($B8=\"Churn\",SUMIFS(Weekly_Data_Raw[CHURNED_MEMBERS],Weekly_Data_Raw[TICKER],'Weekly Metrics'!$A8,Weekly_Data_Raw[END_DATE],'Weekly Metrics'!ET$5)))))))","v":629},{"$f":"IF($B8=\"Panel Sales\", SUMIFS(Weekly_Data_Raw[PANEL_AMOUNT],Weekly_Data_Raw[TICKER],'Weekly Metrics'!$A8,Weekly_Data_Raw[END_DATE],'Weekly Metrics'!EU$5),IF($B8=\"Transactions\",SUMIFS(Weekly_Data_Raw[PANEL_TRANSACTIONS],Weekly_Data_Raw[TICKER],'Weekly Metrics'!$A8,Weekly_Data_Raw[END_DATE],'Weekly Metrics'!EU$5), IF($B8=\"Avg Ticket\",SUMIFS(Weekly_Data_Raw[AVG_TICKET],Weekly_Data_Raw[TICKER],'Weekly Metrics'!$A8,Weekly_Data_Raw[END_DATE],'Weekly Metrics'!EU$5), IF($B8=\"EOP Subscribers\",SUMIFS(Weekly_Data_Raw[EOP_SUBSCRIBERS],Weekly_Data_Raw[TICKER],'Weekly Metrics'!$A8,Weekly_Data_Raw[END_DATE],'Weekly Metrics'!EU$5), IF($B8=\"Gross Adds\",SUMIFS(Weekly_Data_Raw[GROSS_ADDS],Weekly_Data_Raw[TICKER],'Weekly Metrics'!$A8,Weekly_Data_Raw[END_DATE],'Weekly Metrics'!EU$5), IF($B8=\"Churn\",SUMIFS(Weekly_Data_Raw[CHURNED_MEMBERS],Weekly_Data_Raw[TICKER],'Weekly Metrics'!$A8,Weekly_Data_Raw[END_DATE],'Weekly Metrics'!EU$5)))))))","v":576},{"$f":"IF($B8=\"Panel Sales\", SUMIFS(Weekly_Data_Raw[PANEL_AMOUNT],Weekly_Data_Raw[TICKER],'Weekly Metrics'!$A8,Weekly_Data_Raw[END_DATE],'Weekly Metrics'!EV$5),IF($B8=\"Transactions\",SUMIFS(Weekly_Data_Raw[PANEL_TRANSACTIONS],Weekly_Data_Raw[TICKER],'Weekly Metrics'!$A8,Weekly_Data_Raw[END_DATE],'Weekly Metrics'!EV$5), IF($B8=\"Avg Ticket\",SUMIFS(Weekly_Data_Raw[AVG_TICKET],Weekly_Data_Raw[TICKER],'Weekly Metrics'!$A8,Weekly_Data_Raw[END_DATE],'Weekly Metrics'!EV$5), IF($B8=\"EOP Subscribers\",SUMIFS(Weekly_Data_Raw[EOP_SUBSCRIBERS],Weekly_Data_Raw[TICKER],'Weekly Metrics'!$A8,Weekly_Data_Raw[END_DATE],'Weekly Metrics'!EV$5), IF($B8=\"Gross Adds\",SUMIFS(Weekly_Data_Raw[GROSS_ADDS],Weekly_Data_Raw[TICKER],'Weekly Metrics'!$A8,Weekly_Data_Raw[END_DATE],'Weekly Metrics'!EV$5), IF($B8=\"Churn\",SUMIFS(Weekly_Data_Raw[CHURNED_MEMBERS],Weekly_Data_Raw[TICKER],'Weekly Metrics'!$A8,Weekly_Data_Raw[END_DATE],'Weekly Metrics'!EV$5)))))))","v":637},{"$f":"IF($B8=\"Panel Sales\", SUMIFS(Weekly_Data_Raw[PANEL_AMOUNT],Weekly_Data_Raw[TICKER],'Weekly Metrics'!$A8,Weekly_Data_Raw[END_DATE],'Weekly Metrics'!EW$5),IF($B8=\"Transactions\",SUMIFS(Weekly_Data_Raw[PANEL_TRANSACTIONS],Weekly_Data_Raw[TICKER],'Weekly Metrics'!$A8,Weekly_Data_Raw[END_DATE],'Weekly Metrics'!EW$5), IF($B8=\"Avg Ticket\",SUMIFS(Weekly_Data_Raw[AVG_TICKET],Weekly_Data_Raw[TICKER],'Weekly Metrics'!$A8,Weekly_Data_Raw[END_DATE],'Weekly Metrics'!EW$5), IF($B8=\"EOP Subscribers\",SUMIFS(Weekly_Data_Raw[EOP_SUBSCRIBERS],Weekly_Data_Raw[TICKER],'Weekly Metrics'!$A8,Weekly_Data_Raw[END_DATE],'Weekly Metrics'!EW$5), IF($B8=\"Gross Adds\",SUMIFS(Weekly_Data_Raw[GROSS_ADDS],Weekly_Data_Raw[TICKER],'Weekly Metrics'!$A8,Weekly_Data_Raw[END_DATE],'Weekly Metrics'!EW$5), IF($B8=\"Churn\",SUMIFS(Weekly_Data_Raw[CHURNED_MEMBERS],Weekly_Data_Raw[TICKER],'Weekly Metrics'!$A8,Weekly_Data_Raw[END_DATE],'Weekly Metrics'!EW$5)))))))","v":580},{"$f":"IF($B8=\"Panel Sales\", SUMIFS(Weekly_Data_Raw[PANEL_AMOUNT],Weekly_Data_Raw[TICKER],'Weekly Metrics'!$A8,Weekly_Data_Raw[END_DATE],'Weekly Metrics'!EX$5),IF($B8=\"Transactions\",SUMIFS(Weekly_Data_Raw[PANEL_TRANSACTIONS],Weekly_Data_Raw[TICKER],'Weekly Metrics'!$A8,Weekly_Data_Raw[END_DATE],'Weekly Metrics'!EX$5), IF($B8=\"Avg Ticket\",SUMIFS(Weekly_Data_Raw[AVG_TICKET],Weekly_Data_Raw[TICKER],'Weekly Metrics'!$A8,Weekly_Data_Raw[END_DATE],'Weekly Metrics'!EX$5), IF($B8=\"EOP Subscribers\",SUMIFS(Weekly_Data_Raw[EOP_SUBSCRIBERS],Weekly_Data_Raw[TICKER],'Weekly Metrics'!$A8,Weekly_Data_Raw[END_DATE],'Weekly Metrics'!EX$5), IF($B8=\"Gross Adds\",SUMIFS(Weekly_Data_Raw[GROSS_ADDS],Weekly_Data_Raw[TICKER],'Weekly Metrics'!$A8,Weekly_Data_Raw[END_DATE],'Weekly Metrics'!EX$5), IF($B8=\"Churn\",SUMIFS(Weekly_Data_Raw[CHURNED_MEMBERS],Weekly_Data_Raw[TICKER],'Weekly Metrics'!$A8,Weekly_Data_Raw[END_DATE],'Weekly Metrics'!EX$5)))))))","v":610},{"$f":"IF($B8=\"Panel Sales\", SUMIFS(Weekly_Data_Raw[PANEL_AMOUNT],Weekly_Data_Raw[TICKER],'Weekly Metrics'!$A8,Weekly_Data_Raw[END_DATE],'Weekly Metrics'!EY$5),IF($B8=\"Transactions\",SUMIFS(Weekly_Data_Raw[PANEL_TRANSACTIONS],Weekly_Data_Raw[TICKER],'Weekly Metrics'!$A8,Weekly_Data_Raw[END_DATE],'Weekly Metrics'!EY$5), IF($B8=\"Avg Ticket\",SUMIFS(Weekly_Data_Raw[AVG_TICKET],Weekly_Data_Raw[TICKER],'Weekly Metrics'!$A8,Weekly_Data_Raw[END_DATE],'Weekly Metrics'!EY$5), IF($B8=\"EOP Subscribers\",SUMIFS(Weekly_Data_Raw[EOP_SUBSCRIBERS],Weekly_Data_Raw[TICKER],'Weekly Metrics'!$A8,Weekly_Data_Raw[END_DATE],'Weekly Metrics'!EY$5), IF($B8=\"Gross Adds\",SUMIFS(Weekly_Data_Raw[GROSS_ADDS],Weekly_Data_Raw[TICKER],'Weekly Metrics'!$A8,Weekly_Data_Raw[END_DATE],'Weekly Metrics'!EY$5), IF($B8=\"Churn\",SUMIFS(Weekly_Data_Raw[CHURNED_MEMBERS],Weekly_Data_Raw[TICKER],'Weekly Metrics'!$A8,Weekly_Data_Raw[END_DATE],'Weekly Metrics'!EY$5)))))))","v":621},{"$f":"IF($B8=\"Panel Sales\", SUMIFS(Weekly_Data_Raw[PANEL_AMOUNT],Weekly_Data_Raw[TICKER],'Weekly Metrics'!$A8,Weekly_Data_Raw[END_DATE],'Weekly Metrics'!EZ$5),IF($B8=\"Transactions\",SUMIFS(Weekly_Data_Raw[PANEL_TRANSACTIONS],Weekly_Data_Raw[TICKER],'Weekly Metrics'!$A8,Weekly_Data_Raw[END_DATE],'Weekly Metrics'!EZ$5), IF($B8=\"Avg Ticket\",SUMIFS(Weekly_Data_Raw[AVG_TICKET],Weekly_Data_Raw[TICKER],'Weekly Metrics'!$A8,Weekly_Data_Raw[END_DATE],'Weekly Metrics'!EZ$5), IF($B8=\"EOP Subscribers\",SUMIFS(Weekly_Data_Raw[EOP_SUBSCRIBERS],Weekly_Data_Raw[TICKER],'Weekly Metrics'!$A8,Weekly_Data_Raw[END_DATE],'Weekly Metrics'!EZ$5), IF($B8=\"Gross Adds\",SUMIFS(Weekly_Data_Raw[GROSS_ADDS],Weekly_Data_Raw[TICKER],'Weekly Metrics'!$A8,Weekly_Data_Raw[END_DATE],'Weekly Metrics'!EZ$5), IF($B8=\"Churn\",SUMIFS(Weekly_Data_Raw[CHURNED_MEMBERS],Weekly_Data_Raw[TICKER],'Weekly Metrics'!$A8,Weekly_Data_Raw[END_DATE],'Weekly Metrics'!EZ$5)))))))","v":519},{"$f":"IF($B8=\"Panel Sales\", SUMIFS(Weekly_Data_Raw[PANEL_AMOUNT],Weekly_Data_Raw[TICKER],'Weekly Metrics'!$A8,Weekly_Data_Raw[END_DATE],'Weekly Metrics'!FA$5),IF($B8=\"Transactions\",SUMIFS(Weekly_Data_Raw[PANEL_TRANSACTIONS],Weekly_Data_Raw[TICKER],'Weekly Metrics'!$A8,Weekly_Data_Raw[END_DATE],'Weekly Metrics'!FA$5), IF($B8=\"Avg Ticket\",SUMIFS(Weekly_Data_Raw[AVG_TICKET],Weekly_Data_Raw[TICKER],'Weekly Metrics'!$A8,Weekly_Data_Raw[END_DATE],'Weekly Metrics'!FA$5), IF($B8=\"EOP Subscribers\",SUMIFS(Weekly_Data_Raw[EOP_SUBSCRIBERS],Weekly_Data_Raw[TICKER],'Weekly Metrics'!$A8,Weekly_Data_Raw[END_DATE],'Weekly Metrics'!FA$5), IF($B8=\"Gross Adds\",SUMIFS(Weekly_Data_Raw[GROSS_ADDS],Weekly_Data_Raw[TICKER],'Weekly Metrics'!$A8,Weekly_Data_Raw[END_DATE],'Weekly Metrics'!FA$5), IF($B8=\"Churn\",SUMIFS(Weekly_Data_Raw[CHURNED_MEMBERS],Weekly_Data_Raw[TICKER],'Weekly Metrics'!$A8,Weekly_Data_Raw[END_DATE],'Weekly Metrics'!FA$5)))))))","v":536},{"$f":"IF($B8=\"Panel Sales\", SUMIFS(Weekly_Data_Raw[PANEL_AMOUNT],Weekly_Data_Raw[TICKER],'Weekly Metrics'!$A8,Weekly_Data_Raw[END_DATE],'Weekly Metrics'!FB$5),IF($B8=\"Transactions\",SUMIFS(Weekly_Data_Raw[PANEL_TRANSACTIONS],Weekly_Data_Raw[TICKER],'Weekly Metrics'!$A8,Weekly_Data_Raw[END_DATE],'Weekly Metrics'!FB$5), IF($B8=\"Avg Ticket\",SUMIFS(Weekly_Data_Raw[AVG_TICKET],Weekly_Data_Raw[TICKER],'Weekly Metrics'!$A8,Weekly_Data_Raw[END_DATE],'Weekly Metrics'!FB$5), IF($B8=\"EOP Subscribers\",SUMIFS(Weekly_Data_Raw[EOP_SUBSCRIBERS],Weekly_Data_Raw[TICKER],'Weekly Metrics'!$A8,Weekly_Data_Raw[END_DATE],'Weekly Metrics'!FB$5), IF($B8=\"Gross Adds\",SUMIFS(Weekly_Data_Raw[GROSS_ADDS],Weekly_Data_Raw[TICKER],'Weekly Metrics'!$A8,Weekly_Data_Raw[END_DATE],'Weekly Metrics'!FB$5), IF($B8=\"Churn\",SUMIFS(Weekly_Data_Raw[CHURNED_MEMBERS],Weekly_Data_Raw[TICKER],'Weekly Metrics'!$A8,Weekly_Data_Raw[END_DATE],'Weekly Metrics'!FB$5)))))))","v":664},{"$f":"IF($B8=\"Panel Sales\", SUMIFS(Weekly_Data_Raw[PANEL_AMOUNT],Weekly_Data_Raw[TICKER],'Weekly Metrics'!$A8,Weekly_Data_Raw[END_DATE],'Weekly Metrics'!FC$5),IF($B8=\"Transactions\",SUMIFS(Weekly_Data_Raw[PANEL_TRANSACTIONS],Weekly_Data_Raw[TICKER],'Weekly Metrics'!$A8,Weekly_Data_Raw[END_DATE],'Weekly Metrics'!FC$5), IF($B8=\"Avg Ticket\",SUMIFS(Weekly_Data_Raw[AVG_TICKET],Weekly_Data_Raw[TICKER],'Weekly Metrics'!$A8,Weekly_Data_Raw[END_DATE],'Weekly Metrics'!FC$5), IF($B8=\"EOP Subscribers\",SUMIFS(Weekly_Data_Raw[EOP_SUBSCRIBERS],Weekly_Data_Raw[TICKER],'Weekly Metrics'!$A8,Weekly_Data_Raw[END_DATE],'Weekly Metrics'!FC$5), IF($B8=\"Gross Adds\",SUMIFS(Weekly_Data_Raw[GROSS_ADDS],Weekly_Data_Raw[TICKER],'Weekly Metrics'!$A8,Weekly_Data_Raw[END_DATE],'Weekly Metrics'!FC$5), IF($B8=\"Churn\",SUMIFS(Weekly_Data_Raw[CHURNED_MEMBERS],Weekly_Data_Raw[TICKER],'Weekly Metrics'!$A8,Weekly_Data_Raw[END_DATE],'Weekly Metrics'!FC$5)))))))","v":760},{"$f":"IF($B8=\"Panel Sales\", SUMIFS(Weekly_Data_Raw[PANEL_AMOUNT],Weekly_Data_Raw[TICKER],'Weekly Metrics'!$A8,Weekly_Data_Raw[END_DATE],'Weekly Metrics'!FD$5),IF($B8=\"Transactions\",SUMIFS(Weekly_Data_Raw[PANEL_TRANSACTIONS],Weekly_Data_Raw[TICKER],'Weekly Metrics'!$A8,Weekly_Data_Raw[END_DATE],'Weekly Metrics'!FD$5), IF($B8=\"Avg Ticket\",SUMIFS(Weekly_Data_Raw[AVG_TICKET],Weekly_Data_Raw[TICKER],'Weekly Metrics'!$A8,Weekly_Data_Raw[END_DATE],'Weekly Metrics'!FD$5), IF($B8=\"EOP Subscribers\",SUMIFS(Weekly_Data_Raw[EOP_SUBSCRIBERS],Weekly_Data_Raw[TICKER],'Weekly Metrics'!$A8,Weekly_Data_Raw[END_DATE],'Weekly Metrics'!FD$5), IF($B8=\"Gross Adds\",SUMIFS(Weekly_Data_Raw[GROSS_ADDS],Weekly_Data_Raw[TICKER],'Weekly Metrics'!$A8,Weekly_Data_Raw[END_DATE],'Weekly Metrics'!FD$5), IF($B8=\"Churn\",SUMIFS(Weekly_Data_Raw[CHURNED_MEMBERS],Weekly_Data_Raw[TICKER],'Weekly Metrics'!$A8,Weekly_Data_Raw[END_DATE],'Weekly Metrics'!FD$5)))))))","v":626},{"$f":"IF($B8=\"Panel Sales\", SUMIFS(Weekly_Data_Raw[PANEL_AMOUNT],Weekly_Data_Raw[TICKER],'Weekly Metrics'!$A8,Weekly_Data_Raw[END_DATE],'Weekly Metrics'!FE$5),IF($B8=\"Transactions\",SUMIFS(Weekly_Data_Raw[PANEL_TRANSACTIONS],Weekly_Data_Raw[TICKER],'Weekly Metrics'!$A8,Weekly_Data_Raw[END_DATE],'Weekly Metrics'!FE$5), IF($B8=\"Avg Ticket\",SUMIFS(Weekly_Data_Raw[AVG_TICKET],Weekly_Data_Raw[TICKER],'Weekly Metrics'!$A8,Weekly_Data_Raw[END_DATE],'Weekly Metrics'!FE$5), IF($B8=\"EOP Subscribers\",SUMIFS(Weekly_Data_Raw[EOP_SUBSCRIBERS],Weekly_Data_Raw[TICKER],'Weekly Metrics'!$A8,Weekly_Data_Raw[END_DATE],'Weekly Metrics'!FE$5), IF($B8=\"Gross Adds\",SUMIFS(Weekly_Data_Raw[GROSS_ADDS],Weekly_Data_Raw[TICKER],'Weekly Metrics'!$A8,Weekly_Data_Raw[END_DATE],'Weekly Metrics'!FE$5), IF($B8=\"Churn\",SUMIFS(Weekly_Data_Raw[CHURNED_MEMBERS],Weekly_Data_Raw[TICKER],'Weekly Metrics'!$A8,Weekly_Data_Raw[END_DATE],'Weekly Metrics'!FE$5)))))))","v":477},{"$f":"IF($B8=\"Panel Sales\", SUMIFS(Weekly_Data_Raw[PANEL_AMOUNT],Weekly_Data_Raw[TICKER],'Weekly Metrics'!$A8,Weekly_Data_Raw[END_DATE],'Weekly Metrics'!FF$5),IF($B8=\"Transactions\",SUMIFS(Weekly_Data_Raw[PANEL_TRANSACTIONS],Weekly_Data_Raw[TICKER],'Weekly Metrics'!$A8,Weekly_Data_Raw[END_DATE],'Weekly Metrics'!FF$5), IF($B8=\"Avg Ticket\",SUMIFS(Weekly_Data_Raw[AVG_TICKET],Weekly_Data_Raw[TICKER],'Weekly Metrics'!$A8,Weekly_Data_Raw[END_DATE],'Weekly Metrics'!FF$5), IF($B8=\"EOP Subscribers\",SUMIFS(Weekly_Data_Raw[EOP_SUBSCRIBERS],Weekly_Data_Raw[TICKER],'Weekly Metrics'!$A8,Weekly_Data_Raw[END_DATE],'Weekly Metrics'!FF$5), IF($B8=\"Gross Adds\",SUMIFS(Weekly_Data_Raw[GROSS_ADDS],Weekly_Data_Raw[TICKER],'Weekly Metrics'!$A8,Weekly_Data_Raw[END_DATE],'Weekly Metrics'!FF$5), IF($B8=\"Churn\",SUMIFS(Weekly_Data_Raw[CHURNED_MEMBERS],Weekly_Data_Raw[TICKER],'Weekly Metrics'!$A8,Weekly_Data_Raw[END_DATE],'Weekly Metrics'!FF$5)))))))","v":559},{"$f":"IF($B8=\"Panel Sales\", SUMIFS(Weekly_Data_Raw[PANEL_AMOUNT],Weekly_Data_Raw[TICKER],'Weekly Metrics'!$A8,Weekly_Data_Raw[END_DATE],'Weekly Metrics'!FG$5),IF($B8=\"Transactions\",SUMIFS(Weekly_Data_Raw[PANEL_TRANSACTIONS],Weekly_Data_Raw[TICKER],'Weekly Metrics'!$A8,Weekly_Data_Raw[END_DATE],'Weekly Metrics'!FG$5), IF($B8=\"Avg Ticket\",SUMIFS(Weekly_Data_Raw[AVG_TICKET],Weekly_Data_Raw[TICKER],'Weekly Metrics'!$A8,Weekly_Data_Raw[END_DATE],'Weekly Metrics'!FG$5), IF($B8=\"EOP Subscribers\",SUMIFS(Weekly_Data_Raw[EOP_SUBSCRIBERS],Weekly_Data_Raw[TICKER],'Weekly Metrics'!$A8,Weekly_Data_Raw[END_DATE],'Weekly Metrics'!FG$5), IF($B8=\"Gross Adds\",SUMIFS(Weekly_Data_Raw[GROSS_ADDS],Weekly_Data_Raw[TICKER],'Weekly Metrics'!$A8,Weekly_Data_Raw[END_DATE],'Weekly Metrics'!FG$5), IF($B8=\"Churn\",SUMIFS(Weekly_Data_Raw[CHURNED_MEMBERS],Weekly_Data_Raw[TICKER],'Weekly Metrics'!$A8,Weekly_Data_Raw[END_DATE],'Weekly Metrics'!FG$5)))))))","v":572},{"$f":"IF($B8=\"Panel Sales\", SUMIFS(Weekly_Data_Raw[PANEL_AMOUNT],Weekly_Data_Raw[TICKER],'Weekly Metrics'!$A8,Weekly_Data_Raw[END_DATE],'Weekly Metrics'!FH$5),IF($B8=\"Transactions\",SUMIFS(Weekly_Data_Raw[PANEL_TRANSACTIONS],Weekly_Data_Raw[TICKER],'Weekly Metrics'!$A8,Weekly_Data_Raw[END_DATE],'Weekly Metrics'!FH$5), IF($B8=\"Avg Ticket\",SUMIFS(Weekly_Data_Raw[AVG_TICKET],Weekly_Data_Raw[TICKER],'Weekly Metrics'!$A8,Weekly_Data_Raw[END_DATE],'Weekly Metrics'!FH$5), IF($B8=\"EOP Subscribers\",SUMIFS(Weekly_Data_Raw[EOP_SUBSCRIBERS],Weekly_Data_Raw[TICKER],'Weekly Metrics'!$A8,Weekly_Data_Raw[END_DATE],'Weekly Metrics'!FH$5), IF($B8=\"Gross Adds\",SUMIFS(Weekly_Data_Raw[GROSS_ADDS],Weekly_Data_Raw[TICKER],'Weekly Metrics'!$A8,Weekly_Data_Raw[END_DATE],'Weekly Metrics'!FH$5), IF($B8=\"Churn\",SUMIFS(Weekly_Data_Raw[CHURNED_MEMBERS],Weekly_Data_Raw[TICKER],'Weekly Metrics'!$A8,Weekly_Data_Raw[END_DATE],'Weekly Metrics'!FH$5)))))))","v":555},{"$f":"IF($B8=\"Panel Sales\", SUMIFS(Weekly_Data_Raw[PANEL_AMOUNT],Weekly_Data_Raw[TICKER],'Weekly Metrics'!$A8,Weekly_Data_Raw[END_DATE],'Weekly Metrics'!FI$5),IF($B8=\"Transactions\",SUMIFS(Weekly_Data_Raw[PANEL_TRANSACTIONS],Weekly_Data_Raw[TICKER],'Weekly Metrics'!$A8,Weekly_Data_Raw[END_DATE],'Weekly Metrics'!FI$5), IF($B8=\"Avg Ticket\",SUMIFS(Weekly_Data_Raw[AVG_TICKET],Weekly_Data_Raw[TICKER],'Weekly Metrics'!$A8,Weekly_Data_Raw[END_DATE],'Weekly Metrics'!FI$5), IF($B8=\"EOP Subscribers\",SUMIFS(Weekly_Data_Raw[EOP_SUBSCRIBERS],Weekly_Data_Raw[TICKER],'Weekly Metrics'!$A8,Weekly_Data_Raw[END_DATE],'Weekly Metrics'!FI$5), IF($B8=\"Gross Adds\",SUMIFS(Weekly_Data_Raw[GROSS_ADDS],Weekly_Data_Raw[TICKER],'Weekly Metrics'!$A8,Weekly_Data_Raw[END_DATE],'Weekly Metrics'!FI$5), IF($B8=\"Churn\",SUMIFS(Weekly_Data_Raw[CHURNED_MEMBERS],Weekly_Data_Raw[TICKER],'Weekly Metrics'!$A8,Weekly_Data_Raw[END_DATE],'Weekly Metrics'!FI$5)))))))","v":496},{"$f":"IF($B8=\"Panel Sales\", SUMIFS(Weekly_Data_Raw[PANEL_AMOUNT],Weekly_Data_Raw[TICKER],'Weekly Metrics'!$A8,Weekly_Data_Raw[END_DATE],'Weekly Metrics'!FJ$5),IF($B8=\"Transactions\",SUMIFS(Weekly_Data_Raw[PANEL_TRANSACTIONS],Weekly_Data_Raw[TICKER],'Weekly Metrics'!$A8,Weekly_Data_Raw[END_DATE],'Weekly Metrics'!FJ$5), IF($B8=\"Avg Ticket\",SUMIFS(Weekly_Data_Raw[AVG_TICKET],Weekly_Data_Raw[TICKER],'Weekly Metrics'!$A8,Weekly_Data_Raw[END_DATE],'Weekly Metrics'!FJ$5), IF($B8=\"EOP Subscribers\",SUMIFS(Weekly_Data_Raw[EOP_SUBSCRIBERS],Weekly_Data_Raw[TICKER],'Weekly Metrics'!$A8,Weekly_Data_Raw[END_DATE],'Weekly Metrics'!FJ$5), IF($B8=\"Gross Adds\",SUMIFS(Weekly_Data_Raw[GROSS_ADDS],Weekly_Data_Raw[TICKER],'Weekly Metrics'!$A8,Weekly_Data_Raw[END_DATE],'Weekly Metrics'!FJ$5), IF($B8=\"Churn\",SUMIFS(Weekly_Data_Raw[CHURNED_MEMBERS],Weekly_Data_Raw[TICKER],'Weekly Metrics'!$A8,Weekly_Data_Raw[END_DATE],'Weekly Metrics'!FJ$5)))))))","v":527},{"$f":"IF($B8=\"Panel Sales\", SUMIFS(Weekly_Data_Raw[PANEL_AMOUNT],Weekly_Data_Raw[TICKER],'Weekly Metrics'!$A8,Weekly_Data_Raw[END_DATE],'Weekly Metrics'!FK$5),IF($B8=\"Transactions\",SUMIFS(Weekly_Data_Raw[PANEL_TRANSACTIONS],Weekly_Data_Raw[TICKER],'Weekly Metrics'!$A8,Weekly_Data_Raw[END_DATE],'Weekly Metrics'!FK$5), IF($B8=\"Avg Ticket\",SUMIFS(Weekly_Data_Raw[AVG_TICKET],Weekly_Data_Raw[TICKER],'Weekly Metrics'!$A8,Weekly_Data_Raw[END_DATE],'Weekly Metrics'!FK$5), IF($B8=\"EOP Subscribers\",SUMIFS(Weekly_Data_Raw[EOP_SUBSCRIBERS],Weekly_Data_Raw[TICKER],'Weekly Metrics'!$A8,Weekly_Data_Raw[END_DATE],'Weekly Metrics'!FK$5), IF($B8=\"Gross Adds\",SUMIFS(Weekly_Data_Raw[GROSS_ADDS],Weekly_Data_Raw[TICKER],'Weekly Metrics'!$A8,Weekly_Data_Raw[END_DATE],'Weekly Metrics'!FK$5), IF($B8=\"Churn\",SUMIFS(Weekly_Data_Raw[CHURNED_MEMBERS],Weekly_Data_Raw[TICKER],'Weekly Metrics'!$A8,Weekly_Data_Raw[END_DATE],'Weekly Metrics'!FK$5)))))))","v":553},{"$f":"IF($B8=\"Panel Sales\", SUMIFS(Weekly_Data_Raw[PANEL_AMOUNT],Weekly_Data_Raw[TICKER],'Weekly Metrics'!$A8,Weekly_Data_Raw[END_DATE],'Weekly Metrics'!FL$5),IF($B8=\"Transactions\",SUMIFS(Weekly_Data_Raw[PANEL_TRANSACTIONS],Weekly_Data_Raw[TICKER],'Weekly Metrics'!$A8,Weekly_Data_Raw[END_DATE],'Weekly Metrics'!FL$5), IF($B8=\"Avg Ticket\",SUMIFS(Weekly_Data_Raw[AVG_TICKET],Weekly_Data_Raw[TICKER],'Weekly Metrics'!$A8,Weekly_Data_Raw[END_DATE],'Weekly Metrics'!FL$5), IF($B8=\"EOP Subscribers\",SUMIFS(Weekly_Data_Raw[EOP_SUBSCRIBERS],Weekly_Data_Raw[TICKER],'Weekly Metrics'!$A8,Weekly_Data_Raw[END_DATE],'Weekly Metrics'!FL$5), IF($B8=\"Gross Adds\",SUMIFS(Weekly_Data_Raw[GROSS_ADDS],Weekly_Data_Raw[TICKER],'Weekly Metrics'!$A8,Weekly_Data_Raw[END_DATE],'Weekly Metrics'!FL$5), IF($B8=\"Churn\",SUMIFS(Weekly_Data_Raw[CHURNED_MEMBERS],Weekly_Data_Raw[TICKER],'Weekly Metrics'!$A8,Weekly_Data_Raw[END_DATE],'Weekly Metrics'!FL$5)))))))","v":572},{"$f":"IF($B8=\"Panel Sales\", SUMIFS(Weekly_Data_Raw[PANEL_AMOUNT],Weekly_Data_Raw[TICKER],'Weekly Metrics'!$A8,Weekly_Data_Raw[END_DATE],'Weekly Metrics'!FM$5),IF($B8=\"Transactions\",SUMIFS(Weekly_Data_Raw[PANEL_TRANSACTIONS],Weekly_Data_Raw[TICKER],'Weekly Metrics'!$A8,Weekly_Data_Raw[END_DATE],'Weekly Metrics'!FM$5), IF($B8=\"Avg Ticket\",SUMIFS(Weekly_Data_Raw[AVG_TICKET],Weekly_Data_Raw[TICKER],'Weekly Metrics'!$A8,Weekly_Data_Raw[END_DATE],'Weekly Metrics'!FM$5), IF($B8=\"EOP Subscribers\",SUMIFS(Weekly_Data_Raw[EOP_SUBSCRIBERS],Weekly_Data_Raw[TICKER],'Weekly Metrics'!$A8,Weekly_Data_Raw[END_DATE],'Weekly Metrics'!FM$5), IF($B8=\"Gross Adds\",SUMIFS(Weekly_Data_Raw[GROSS_ADDS],Weekly_Data_Raw[TICKER],'Weekly Metrics'!$A8,Weekly_Data_Raw[END_DATE],'Weekly Metrics'!FM$5), IF($B8=\"Churn\",SUMIFS(Weekly_Data_Raw[CHURNED_MEMBERS],Weekly_Data_Raw[TICKER],'Weekly Metrics'!$A8,Weekly_Data_Raw[END_DATE],'Weekly Metrics'!FM$5)))))))","v":528},{"$f":"IF($B8=\"Panel Sales\", SUMIFS(Weekly_Data_Raw[PANEL_AMOUNT],Weekly_Data_Raw[TICKER],'Weekly Metrics'!$A8,Weekly_Data_Raw[END_DATE],'Weekly Metrics'!FN$5),IF($B8=\"Transactions\",SUMIFS(Weekly_Data_Raw[PANEL_TRANSACTIONS],Weekly_Data_Raw[TICKER],'Weekly Metrics'!$A8,Weekly_Data_Raw[END_DATE],'Weekly Metrics'!FN$5), IF($B8=\"Avg Ticket\",SUMIFS(Weekly_Data_Raw[AVG_TICKET],Weekly_Data_Raw[TICKER],'Weekly Metrics'!$A8,Weekly_Data_Raw[END_DATE],'Weekly Metrics'!FN$5), IF($B8=\"EOP Subscribers\",SUMIFS(Weekly_Data_Raw[EOP_SUBSCRIBERS],Weekly_Data_Raw[TICKER],'Weekly Metrics'!$A8,Weekly_Data_Raw[END_DATE],'Weekly Metrics'!FN$5), IF($B8=\"Gross Adds\",SUMIFS(Weekly_Data_Raw[GROSS_ADDS],Weekly_Data_Raw[TICKER],'Weekly Metrics'!$A8,Weekly_Data_Raw[END_DATE],'Weekly Metrics'!FN$5), IF($B8=\"Churn\",SUMIFS(Weekly_Data_Raw[CHURNED_MEMBERS],Weekly_Data_Raw[TICKER],'Weekly Metrics'!$A8,Weekly_Data_Raw[END_DATE],'Weekly Metrics'!FN$5)))))))","v":605},{"$f":"IF($B8=\"Panel Sales\", SUMIFS(Weekly_Data_Raw[PANEL_AMOUNT],Weekly_Data_Raw[TICKER],'Weekly Metrics'!$A8,Weekly_Data_Raw[END_DATE],'Weekly Metrics'!FO$5),IF($B8=\"Transactions\",SUMIFS(Weekly_Data_Raw[PANEL_TRANSACTIONS],Weekly_Data_Raw[TICKER],'Weekly Metrics'!$A8,Weekly_Data_Raw[END_DATE],'Weekly Metrics'!FO$5), IF($B8=\"Avg Ticket\",SUMIFS(Weekly_Data_Raw[AVG_TICKET],Weekly_Data_Raw[TICKER],'Weekly Metrics'!$A8,Weekly_Data_Raw[END_DATE],'Weekly Metrics'!FO$5), IF($B8=\"EOP Subscribers\",SUMIFS(Weekly_Data_Raw[EOP_SUBSCRIBERS],Weekly_Data_Raw[TICKER],'Weekly Metrics'!$A8,Weekly_Data_Raw[END_DATE],'Weekly Metrics'!FO$5), IF($B8=\"Gross Adds\",SUMIFS(Weekly_Data_Raw[GROSS_ADDS],Weekly_Data_Raw[TICKER],'Weekly Metrics'!$A8,Weekly_Data_Raw[END_DATE],'Weekly Metrics'!FO$5), IF($B8=\"Churn\",SUMIFS(Weekly_Data_Raw[CHURNED_MEMBERS],Weekly_Data_Raw[TICKER],'Weekly Metrics'!$A8,Weekly_Data_Raw[END_DATE],'Weekly Metrics'!FO$5)))))))","v":574},{"$f":"IF($B8=\"Panel Sales\", SUMIFS(Weekly_Data_Raw[PANEL_AMOUNT],Weekly_Data_Raw[TICKER],'Weekly Metrics'!$A8,Weekly_Data_Raw[END_DATE],'Weekly Metrics'!FP$5),IF($B8=\"Transactions\",SUMIFS(Weekly_Data_Raw[PANEL_TRANSACTIONS],Weekly_Data_Raw[TICKER],'Weekly Metrics'!$A8,Weekly_Data_Raw[END_DATE],'Weekly Metrics'!FP$5), IF($B8=\"Avg Ticket\",SUMIFS(Weekly_Data_Raw[AVG_TICKET],Weekly_Data_Raw[TICKER],'Weekly Metrics'!$A8,Weekly_Data_Raw[END_DATE],'Weekly Metrics'!FP$5), IF($B8=\"EOP Subscribers\",SUMIFS(Weekly_Data_Raw[EOP_SUBSCRIBERS],Weekly_Data_Raw[TICKER],'Weekly Metrics'!$A8,Weekly_Data_Raw[END_DATE],'Weekly Metrics'!FP$5), IF($B8=\"Gross Adds\",SUMIFS(Weekly_Data_Raw[GROSS_ADDS],Weekly_Data_Raw[TICKER],'Weekly Metrics'!$A8,Weekly_Data_Raw[END_DATE],'Weekly Metrics'!FP$5), IF($B8=\"Churn\",SUMIFS(Weekly_Data_Raw[CHURNED_MEMBERS],Weekly_Data_Raw[TICKER],'Weekly Metrics'!$A8,Weekly_Data_Raw[END_DATE],'Weekly Metrics'!FP$5)))))))","v":611},{"$f":"IF($B8=\"Panel Sales\", SUMIFS(Weekly_Data_Raw[PANEL_AMOUNT],Weekly_Data_Raw[TICKER],'Weekly Metrics'!$A8,Weekly_Data_Raw[END_DATE],'Weekly Metrics'!FQ$5),IF($B8=\"Transactions\",SUMIFS(Weekly_Data_Raw[PANEL_TRANSACTIONS],Weekly_Data_Raw[TICKER],'Weekly Metrics'!$A8,Weekly_Data_Raw[END_DATE],'Weekly Metrics'!FQ$5), IF($B8=\"Avg Ticket\",SUMIFS(Weekly_Data_Raw[AVG_TICKET],Weekly_Data_Raw[TICKER],'Weekly Metrics'!$A8,Weekly_Data_Raw[END_DATE],'Weekly Metrics'!FQ$5), IF($B8=\"EOP Subscribers\",SUMIFS(Weekly_Data_Raw[EOP_SUBSCRIBERS],Weekly_Data_Raw[TICKER],'Weekly Metrics'!$A8,Weekly_Data_Raw[END_DATE],'Weekly Metrics'!FQ$5), IF($B8=\"Gross Adds\",SUMIFS(Weekly_Data_Raw[GROSS_ADDS],Weekly_Data_Raw[TICKER],'Weekly Metrics'!$A8,Weekly_Data_Raw[END_DATE],'Weekly Metrics'!FQ$5), IF($B8=\"Churn\",SUMIFS(Weekly_Data_Raw[CHURNED_MEMBERS],Weekly_Data_Raw[TICKER],'Weekly Metrics'!$A8,Weekly_Data_Raw[END_DATE],'Weekly Metrics'!FQ$5)))))))","v":525},{"$f":"IF($B8=\"Panel Sales\", SUMIFS(Weekly_Data_Raw[PANEL_AMOUNT],Weekly_Data_Raw[TICKER],'Weekly Metrics'!$A8,Weekly_Data_Raw[END_DATE],'Weekly Metrics'!FR$5),IF($B8=\"Transactions\",SUMIFS(Weekly_Data_Raw[PANEL_TRANSACTIONS],Weekly_Data_Raw[TICKER],'Weekly Metrics'!$A8,Weekly_Data_Raw[END_DATE],'Weekly Metrics'!FR$5), IF($B8=\"Avg Ticket\",SUMIFS(Weekly_Data_Raw[AVG_TICKET],Weekly_Data_Raw[TICKER],'Weekly Metrics'!$A8,Weekly_Data_Raw[END_DATE],'Weekly Metrics'!FR$5), IF($B8=\"EOP Subscribers\",SUMIFS(Weekly_Data_Raw[EOP_SUBSCRIBERS],Weekly_Data_Raw[TICKER],'Weekly Metrics'!$A8,Weekly_Data_Raw[END_DATE],'Weekly Metrics'!FR$5), IF($B8=\"Gross Adds\",SUMIFS(Weekly_Data_Raw[GROSS_ADDS],Weekly_Data_Raw[TICKER],'Weekly Metrics'!$A8,Weekly_Data_Raw[END_DATE],'Weekly Metrics'!FR$5), IF($B8=\"Churn\",SUMIFS(Weekly_Data_Raw[CHURNED_MEMBERS],Weekly_Data_Raw[TICKER],'Weekly Metrics'!$A8,Weekly_Data_Raw[END_DATE],'Weekly Metrics'!FR$5)))))))","v":506},{"$f":"IF($B8=\"Panel Sales\", SUMIFS(Weekly_Data_Raw[PANEL_AMOUNT],Weekly_Data_Raw[TICKER],'Weekly Metrics'!$A8,Weekly_Data_Raw[END_DATE],'Weekly Metrics'!FS$5),IF($B8=\"Transactions\",SUMIFS(Weekly_Data_Raw[PANEL_TRANSACTIONS],Weekly_Data_Raw[TICKER],'Weekly Metrics'!$A8,Weekly_Data_Raw[END_DATE],'Weekly Metrics'!FS$5), IF($B8=\"Avg Ticket\",SUMIFS(Weekly_Data_Raw[AVG_TICKET],Weekly_Data_Raw[TICKER],'Weekly Metrics'!$A8,Weekly_Data_Raw[END_DATE],'Weekly Metrics'!FS$5), IF($B8=\"EOP Subscribers\",SUMIFS(Weekly_Data_Raw[EOP_SUBSCRIBERS],Weekly_Data_Raw[TICKER],'Weekly Metrics'!$A8,Weekly_Data_Raw[END_DATE],'Weekly Metrics'!FS$5), IF($B8=\"Gross Adds\",SUMIFS(Weekly_Data_Raw[GROSS_ADDS],Weekly_Data_Raw[TICKER],'Weekly Metrics'!$A8,Weekly_Data_Raw[END_DATE],'Weekly Metrics'!FS$5), IF($B8=\"Churn\",SUMIFS(Weekly_Data_Raw[CHURNED_MEMBERS],Weekly_Data_Raw[TICKER],'Weekly Metrics'!$A8,Weekly_Data_Raw[END_DATE],'Weekly Metrics'!FS$5)))))))","v":511},{"$f":"IF($B8=\"Panel Sales\", SUMIFS(Weekly_Data_Raw[PANEL_AMOUNT],Weekly_Data_Raw[TICKER],'Weekly Metrics'!$A8,Weekly_Data_Raw[END_DATE],'Weekly Metrics'!FT$5),IF($B8=\"Transactions\",SUMIFS(Weekly_Data_Raw[PANEL_TRANSACTIONS],Weekly_Data_Raw[TICKER],'Weekly Metrics'!$A8,Weekly_Data_Raw[END_DATE],'Weekly Metrics'!FT$5), IF($B8=\"Avg Ticket\",SUMIFS(Weekly_Data_Raw[AVG_TICKET],Weekly_Data_Raw[TICKER],'Weekly Metrics'!$A8,Weekly_Data_Raw[END_DATE],'Weekly Metrics'!FT$5), IF($B8=\"EOP Subscribers\",SUMIFS(Weekly_Data_Raw[EOP_SUBSCRIBERS],Weekly_Data_Raw[TICKER],'Weekly Metrics'!$A8,Weekly_Data_Raw[END_DATE],'Weekly Metrics'!FT$5), IF($B8=\"Gross Adds\",SUMIFS(Weekly_Data_Raw[GROSS_ADDS],Weekly_Data_Raw[TICKER],'Weekly Metrics'!$A8,Weekly_Data_Raw[END_DATE],'Weekly Metrics'!FT$5), IF($B8=\"Churn\",SUMIFS(Weekly_Data_Raw[CHURNED_MEMBERS],Weekly_Data_Raw[TICKER],'Weekly Metrics'!$A8,Weekly_Data_Raw[END_DATE],'Weekly Metrics'!FT$5)))))))","v":492},{"$f":"IF($B8=\"Panel Sales\", SUMIFS(Weekly_Data_Raw[PANEL_AMOUNT],Weekly_Data_Raw[TICKER],'Weekly Metrics'!$A8,Weekly_Data_Raw[END_DATE],'Weekly Metrics'!FU$5),IF($B8=\"Transactions\",SUMIFS(Weekly_Data_Raw[PANEL_TRANSACTIONS],Weekly_Data_Raw[TICKER],'Weekly Metrics'!$A8,Weekly_Data_Raw[END_DATE],'Weekly Metrics'!FU$5), IF($B8=\"Avg Ticket\",SUMIFS(Weekly_Data_Raw[AVG_TICKET],Weekly_Data_Raw[TICKER],'Weekly Metrics'!$A8,Weekly_Data_Raw[END_DATE],'Weekly Metrics'!FU$5), IF($B8=\"EOP Subscribers\",SUMIFS(Weekly_Data_Raw[EOP_SUBSCRIBERS],Weekly_Data_Raw[TICKER],'Weekly Metrics'!$A8,Weekly_Data_Raw[END_DATE],'Weekly Metrics'!FU$5), IF($B8=\"Gross Adds\",SUMIFS(Weekly_Data_Raw[GROSS_ADDS],Weekly_Data_Raw[TICKER],'Weekly Metrics'!$A8,Weekly_Data_Raw[END_DATE],'Weekly Metrics'!FU$5), IF($B8=\"Churn\",SUMIFS(Weekly_Data_Raw[CHURNED_MEMBERS],Weekly_Data_Raw[TICKER],'Weekly Metrics'!$A8,Weekly_Data_Raw[END_DATE],'Weekly Metrics'!FU$5)))))))","v":498},{"$f":"IF($B8=\"Panel Sales\", SUMIFS(Weekly_Data_Raw[PANEL_AMOUNT],Weekly_Data_Raw[TICKER],'Weekly Metrics'!$A8,Weekly_Data_Raw[END_DATE],'Weekly Metrics'!FV$5),IF($B8=\"Transactions\",SUMIFS(Weekly_Data_Raw[PANEL_TRANSACTIONS],Weekly_Data_Raw[TICKER],'Weekly Metrics'!$A8,Weekly_Data_Raw[END_DATE],'Weekly Metrics'!FV$5), IF($B8=\"Avg Ticket\",SUMIFS(Weekly_Data_Raw[AVG_TICKET],Weekly_Data_Raw[TICKER],'Weekly Metrics'!$A8,Weekly_Data_Raw[END_DATE],'Weekly Metrics'!FV$5), IF($B8=\"EOP Subscribers\",SUMIFS(Weekly_Data_Raw[EOP_SUBSCRIBERS],Weekly_Data_Raw[TICKER],'Weekly Metrics'!$A8,Weekly_Data_Raw[END_DATE],'Weekly Metrics'!FV$5), IF($B8=\"Gross Adds\",SUMIFS(Weekly_Data_Raw[GROSS_ADDS],Weekly_Data_Raw[TICKER],'Weekly Metrics'!$A8,Weekly_Data_Raw[END_DATE],'Weekly Metrics'!FV$5), IF($B8=\"Churn\",SUMIFS(Weekly_Data_Raw[CHURNED_MEMBERS],Weekly_Data_Raw[TICKER],'Weekly Metrics'!$A8,Weekly_Data_Raw[END_DATE],'Weekly Metrics'!FV$5)))))))","v":480},{"$f":"IF($B8=\"Panel Sales\", SUMIFS(Weekly_Data_Raw[PANEL_AMOUNT],Weekly_Data_Raw[TICKER],'Weekly Metrics'!$A8,Weekly_Data_Raw[END_DATE],'Weekly Metrics'!FW$5),IF($B8=\"Transactions\",SUMIFS(Weekly_Data_Raw[PANEL_TRANSACTIONS],Weekly_Data_Raw[TICKER],'Weekly Metrics'!$A8,Weekly_Data_Raw[END_DATE],'Weekly Metrics'!FW$5), IF($B8=\"Avg Ticket\",SUMIFS(Weekly_Data_Raw[AVG_TICKET],Weekly_Data_Raw[TICKER],'Weekly Metrics'!$A8,Weekly_Data_Raw[END_DATE],'Weekly Metrics'!FW$5), IF($B8=\"EOP Subscribers\",SUMIFS(Weekly_Data_Raw[EOP_SUBSCRIBERS],Weekly_Data_Raw[TICKER],'Weekly Metrics'!$A8,Weekly_Data_Raw[END_DATE],'Weekly Metrics'!FW$5), IF($B8=\"Gross Adds\",SUMIFS(Weekly_Data_Raw[GROSS_ADDS],Weekly_Data_Raw[TICKER],'Weekly Metrics'!$A8,Weekly_Data_Raw[END_DATE],'Weekly Metrics'!FW$5), IF($B8=\"Churn\",SUMIFS(Weekly_Data_Raw[CHURNED_MEMBERS],Weekly_Data_Raw[TICKER],'Weekly Metrics'!$A8,Weekly_Data_Raw[END_DATE],'Weekly Metrics'!FW$5)))))))","v":471},{"$f":"IF($B8=\"Panel Sales\", SUMIFS(Weekly_Data_Raw[PANEL_AMOUNT],Weekly_Data_Raw[TICKER],'Weekly Metrics'!$A8,Weekly_Data_Raw[END_DATE],'Weekly Metrics'!FX$5),IF($B8=\"Transactions\",SUMIFS(Weekly_Data_Raw[PANEL_TRANSACTIONS],Weekly_Data_Raw[TICKER],'Weekly Metrics'!$A8,Weekly_Data_Raw[END_DATE],'Weekly Metrics'!FX$5), IF($B8=\"Avg Ticket\",SUMIFS(Weekly_Data_Raw[AVG_TICKET],Weekly_Data_Raw[TICKER],'Weekly Metrics'!$A8,Weekly_Data_Raw[END_DATE],'Weekly Metrics'!FX$5), IF($B8=\"EOP Subscribers\",SUMIFS(Weekly_Data_Raw[EOP_SUBSCRIBERS],Weekly_Data_Raw[TICKER],'Weekly Metrics'!$A8,Weekly_Data_Raw[END_DATE],'Weekly Metrics'!FX$5), IF($B8=\"Gross Adds\",SUMIFS(Weekly_Data_Raw[GROSS_ADDS],Weekly_Data_Raw[TICKER],'Weekly Metrics'!$A8,Weekly_Data_Raw[END_DATE],'Weekly Metrics'!FX$5), IF($B8=\"Churn\",SUMIFS(Weekly_Data_Raw[CHURNED_MEMBERS],Weekly_Data_Raw[TICKER],'Weekly Metrics'!$A8,Weekly_Data_Raw[END_DATE],'Weekly Metrics'!FX$5)))))))","v":632},{"$f":"IF($B8=\"Panel Sales\", SUMIFS(Weekly_Data_Raw[PANEL_AMOUNT],Weekly_Data_Raw[TICKER],'Weekly Metrics'!$A8,Weekly_Data_Raw[END_DATE],'Weekly Metrics'!FY$5),IF($B8=\"Transactions\",SUMIFS(Weekly_Data_Raw[PANEL_TRANSACTIONS],Weekly_Data_Raw[TICKER],'Weekly Metrics'!$A8,Weekly_Data_Raw[END_DATE],'Weekly Metrics'!FY$5), IF($B8=\"Avg Ticket\",SUMIFS(Weekly_Data_Raw[AVG_TICKET],Weekly_Data_Raw[TICKER],'Weekly Metrics'!$A8,Weekly_Data_Raw[END_DATE],'Weekly Metrics'!FY$5), IF($B8=\"EOP Subscribers\",SUMIFS(Weekly_Data_Raw[EOP_SUBSCRIBERS],Weekly_Data_Raw[TICKER],'Weekly Metrics'!$A8,Weekly_Data_Raw[END_DATE],'Weekly Metrics'!FY$5), IF($B8=\"Gross Adds\",SUMIFS(Weekly_Data_Raw[GROSS_ADDS],Weekly_Data_Raw[TICKER],'Weekly Metrics'!$A8,Weekly_Data_Raw[END_DATE],'Weekly Metrics'!FY$5), IF($B8=\"Churn\",SUMIFS(Weekly_Data_Raw[CHURNED_MEMBERS],Weekly_Data_Raw[TICKER],'Weekly Metrics'!$A8,Weekly_Data_Raw[END_DATE],'Weekly Metrics'!FY$5)))))))","v":734},{"$f":"IF($B8=\"Panel Sales\", SUMIFS(Weekly_Data_Raw[PANEL_AMOUNT],Weekly_Data_Raw[TICKER],'Weekly Metrics'!$A8,Weekly_Data_Raw[END_DATE],'Weekly Metrics'!FZ$5),IF($B8=\"Transactions\",SUMIFS(Weekly_Data_Raw[PANEL_TRANSACTIONS],Weekly_Data_Raw[TICKER],'Weekly Metrics'!$A8,Weekly_Data_Raw[END_DATE],'Weekly Metrics'!FZ$5), IF($B8=\"Avg Ticket\",SUMIFS(Weekly_Data_Raw[AVG_TICKET],Weekly_Data_Raw[TICKER],'Weekly Metrics'!$A8,Weekly_Data_Raw[END_DATE],'Weekly Metrics'!FZ$5), IF($B8=\"EOP Subscribers\",SUMIFS(Weekly_Data_Raw[EOP_SUBSCRIBERS],Weekly_Data_Raw[TICKER],'Weekly Metrics'!$A8,Weekly_Data_Raw[END_DATE],'Weekly Metrics'!FZ$5), IF($B8=\"Gross Adds\",SUMIFS(Weekly_Data_Raw[GROSS_ADDS],Weekly_Data_Raw[TICKER],'Weekly Metrics'!$A8,Weekly_Data_Raw[END_DATE],'Weekly Metrics'!FZ$5), IF($B8=\"Churn\",SUMIFS(Weekly_Data_Raw[CHURNED_MEMBERS],Weekly_Data_Raw[TICKER],'Weekly Metrics'!$A8,Weekly_Data_Raw[END_DATE],'Weekly Metrics'!FZ$5)))))))","v":635},{"$f":"IF($B8=\"Panel Sales\", SUMIFS(Weekly_Data_Raw[PANEL_AMOUNT],Weekly_Data_Raw[TICKER],'Weekly Metrics'!$A8,Weekly_Data_Raw[END_DATE],'Weekly Metrics'!GA$5),IF($B8=\"Transactions\",SUMIFS(Weekly_Data_Raw[PANEL_TRANSACTIONS],Weekly_Data_Raw[TICKER],'Weekly Metrics'!$A8,Weekly_Data_Raw[END_DATE],'Weekly Metrics'!GA$5), IF($B8=\"Avg Ticket\",SUMIFS(Weekly_Data_Raw[AVG_TICKET],Weekly_Data_Raw[TICKER],'Weekly Metrics'!$A8,Weekly_Data_Raw[END_DATE],'Weekly Metrics'!GA$5), IF($B8=\"EOP Subscribers\",SUMIFS(Weekly_Data_Raw[EOP_SUBSCRIBERS],Weekly_Data_Raw[TICKER],'Weekly Metrics'!$A8,Weekly_Data_Raw[END_DATE],'Weekly Metrics'!GA$5), IF($B8=\"Gross Adds\",SUMIFS(Weekly_Data_Raw[GROSS_ADDS],Weekly_Data_Raw[TICKER],'Weekly Metrics'!$A8,Weekly_Data_Raw[END_DATE],'Weekly Metrics'!GA$5), IF($B8=\"Churn\",SUMIFS(Weekly_Data_Raw[CHURNED_MEMBERS],Weekly_Data_Raw[TICKER],'Weekly Metrics'!$A8,Weekly_Data_Raw[END_DATE],'Weekly Metrics'!GA$5)))))))","v":578},{"$f":"IF($B8=\"Panel Sales\", SUMIFS(Weekly_Data_Raw[PANEL_AMOUNT],Weekly_Data_Raw[TICKER],'Weekly Metrics'!$A8,Weekly_Data_Raw[END_DATE],'Weekly Metrics'!GB$5),IF($B8=\"Transactions\",SUMIFS(Weekly_Data_Raw[PANEL_TRANSACTIONS],Weekly_Data_Raw[TICKER],'Weekly Metrics'!$A8,Weekly_Data_Raw[END_DATE],'Weekly Metrics'!GB$5), IF($B8=\"Avg Ticket\",SUMIFS(Weekly_Data_Raw[AVG_TICKET],Weekly_Data_Raw[TICKER],'Weekly Metrics'!$A8,Weekly_Data_Raw[END_DATE],'Weekly Metrics'!GB$5), IF($B8=\"EOP Subscribers\",SUMIFS(Weekly_Data_Raw[EOP_SUBSCRIBERS],Weekly_Data_Raw[TICKER],'Weekly Metrics'!$A8,Weekly_Data_Raw[END_DATE],'Weekly Metrics'!GB$5), IF($B8=\"Gross Adds\",SUMIFS(Weekly_Data_Raw[GROSS_ADDS],Weekly_Data_Raw[TICKER],'Weekly Metrics'!$A8,Weekly_Data_Raw[END_DATE],'Weekly Metrics'!GB$5), IF($B8=\"Churn\",SUMIFS(Weekly_Data_Raw[CHURNED_MEMBERS],Weekly_Data_Raw[TICKER],'Weekly Metrics'!$A8,Weekly_Data_Raw[END_DATE],'Weekly Metrics'!GB$5)))))))","v":623},{"$f":"IF($B8=\"Panel Sales\", SUMIFS(Weekly_Data_Raw[PANEL_AMOUNT],Weekly_Data_Raw[TICKER],'Weekly Metrics'!$A8,Weekly_Data_Raw[END_DATE],'Weekly Metrics'!GC$5),IF($B8=\"Transactions\",SUMIFS(Weekly_Data_Raw[PANEL_TRANSACTIONS],Weekly_Data_Raw[TICKER],'Weekly Metrics'!$A8,Weekly_Data_Raw[END_DATE],'Weekly Metrics'!GC$5), IF($B8=\"Avg Ticket\",SUMIFS(Weekly_Data_Raw[AVG_TICKET],Weekly_Data_Raw[TICKER],'Weekly Metrics'!$A8,Weekly_Data_Raw[END_DATE],'Weekly Metrics'!GC$5), IF($B8=\"EOP Subscribers\",SUMIFS(Weekly_Data_Raw[EOP_SUBSCRIBERS],Weekly_Data_Raw[TICKER],'Weekly Metrics'!$A8,Weekly_Data_Raw[END_DATE],'Weekly Metrics'!GC$5), IF($B8=\"Gross Adds\",SUMIFS(Weekly_Data_Raw[GROSS_ADDS],Weekly_Data_Raw[TICKER],'Weekly Metrics'!$A8,Weekly_Data_Raw[END_DATE],'Weekly Metrics'!GC$5), IF($B8=\"Churn\",SUMIFS(Weekly_Data_Raw[CHURNED_MEMBERS],Weekly_Data_Raw[TICKER],'Weekly Metrics'!$A8,Weekly_Data_Raw[END_DATE],'Weekly Metrics'!GC$5)))))))","v":634},{"$f":"IF($B8=\"Panel Sales\", SUMIFS(Weekly_Data_Raw[PANEL_AMOUNT],Weekly_Data_Raw[TICKER],'Weekly Metrics'!$A8,Weekly_Data_Raw[END_DATE],'Weekly Metrics'!GD$5),IF($B8=\"Transactions\",SUMIFS(Weekly_Data_Raw[PANEL_TRANSACTIONS],Weekly_Data_Raw[TICKER],'Weekly Metrics'!$A8,Weekly_Data_Raw[END_DATE],'Weekly Metrics'!GD$5), IF($B8=\"Avg Ticket\",SUMIFS(Weekly_Data_Raw[AVG_TICKET],Weekly_Data_Raw[TICKER],'Weekly Metrics'!$A8,Weekly_Data_Raw[END_DATE],'Weekly Metrics'!GD$5), IF($B8=\"EOP Subscribers\",SUMIFS(Weekly_Data_Raw[EOP_SUBSCRIBERS],Weekly_Data_Raw[TICKER],'Weekly Metrics'!$A8,Weekly_Data_Raw[END_DATE],'Weekly Metrics'!GD$5), IF($B8=\"Gross Adds\",SUMIFS(Weekly_Data_Raw[GROSS_ADDS],Weekly_Data_Raw[TICKER],'Weekly Metrics'!$A8,Weekly_Data_Raw[END_DATE],'Weekly Metrics'!GD$5), IF($B8=\"Churn\",SUMIFS(Weekly_Data_Raw[CHURNED_MEMBERS],Weekly_Data_Raw[TICKER],'Weekly Metrics'!$A8,Weekly_Data_Raw[END_DATE],'Weekly Metrics'!GD$5)))))))","v":699},{"$f":"IF($B8=\"Panel Sales\", SUMIFS(Weekly_Data_Raw[PANEL_AMOUNT],Weekly_Data_Raw[TICKER],'Weekly Metrics'!$A8,Weekly_Data_Raw[END_DATE],'Weekly Metrics'!GE$5),IF($B8=\"Transactions\",SUMIFS(Weekly_Data_Raw[PANEL_TRANSACTIONS],Weekly_Data_Raw[TICKER],'Weekly Metrics'!$A8,Weekly_Data_Raw[END_DATE],'Weekly Metrics'!GE$5), IF($B8=\"Avg Ticket\",SUMIFS(Weekly_Data_Raw[AVG_TICKET],Weekly_Data_Raw[TICKER],'Weekly Metrics'!$A8,Weekly_Data_Raw[END_DATE],'Weekly Metrics'!GE$5), IF($B8=\"EOP Subscribers\",SUMIFS(Weekly_Data_Raw[EOP_SUBSCRIBERS],Weekly_Data_Raw[TICKER],'Weekly Metrics'!$A8,Weekly_Data_Raw[END_DATE],'Weekly Metrics'!GE$5), IF($B8=\"Gross Adds\",SUMIFS(Weekly_Data_Raw[GROSS_ADDS],Weekly_Data_Raw[TICKER],'Weekly Metrics'!$A8,Weekly_Data_Raw[END_DATE],'Weekly Metrics'!GE$5), IF($B8=\"Churn\",SUMIFS(Weekly_Data_Raw[CHURNED_MEMBERS],Weekly_Data_Raw[TICKER],'Weekly Metrics'!$A8,Weekly_Data_Raw[END_DATE],'Weekly Metrics'!GE$5)))))))","v":612},{"$f":"IF($B8=\"Panel Sales\", SUMIFS(Weekly_Data_Raw[PANEL_AMOUNT],Weekly_Data_Raw[TICKER],'Weekly Metrics'!$A8,Weekly_Data_Raw[END_DATE],'Weekly Metrics'!GF$5),IF($B8=\"Transactions\",SUMIFS(Weekly_Data_Raw[PANEL_TRANSACTIONS],Weekly_Data_Raw[TICKER],'Weekly Metrics'!$A8,Weekly_Data_Raw[END_DATE],'Weekly Metrics'!GF$5), IF($B8=\"Avg Ticket\",SUMIFS(Weekly_Data_Raw[AVG_TICKET],Weekly_Data_Raw[TICKER],'Weekly Metrics'!$A8,Weekly_Data_Raw[END_DATE],'Weekly Metrics'!GF$5), IF($B8=\"EOP Subscribers\",SUMIFS(Weekly_Data_Raw[EOP_SUBSCRIBERS],Weekly_Data_Raw[TICKER],'Weekly Metrics'!$A8,Weekly_Data_Raw[END_DATE],'Weekly Metrics'!GF$5), IF($B8=\"Gross Adds\",SUMIFS(Weekly_Data_Raw[GROSS_ADDS],Weekly_Data_Raw[TICKER],'Weekly Metrics'!$A8,Weekly_Data_Raw[END_DATE],'Weekly Metrics'!GF$5), IF($B8=\"Churn\",SUMIFS(Weekly_Data_Raw[CHURNED_MEMBERS],Weekly_Data_Raw[TICKER],'Weekly Metrics'!$A8,Weekly_Data_Raw[END_DATE],'Weekly Metrics'!GF$5)))))))","v":628},{"$f":"IF($B8=\"Panel Sales\", SUMIFS(Weekly_Data_Raw[PANEL_AMOUNT],Weekly_Data_Raw[TICKER],'Weekly Metrics'!$A8,Weekly_Data_Raw[END_DATE],'Weekly Metrics'!GG$5),IF($B8=\"Transactions\",SUMIFS(Weekly_Data_Raw[PANEL_TRANSACTIONS],Weekly_Data_Raw[TICKER],'Weekly Metrics'!$A8,Weekly_Data_Raw[END_DATE],'Weekly Metrics'!GG$5), IF($B8=\"Avg Ticket\",SUMIFS(Weekly_Data_Raw[AVG_TICKET],Weekly_Data_Raw[TICKER],'Weekly Metrics'!$A8,Weekly_Data_Raw[END_DATE],'Weekly Metrics'!GG$5), IF($B8=\"EOP Subscribers\",SUMIFS(Weekly_Data_Raw[EOP_SUBSCRIBERS],Weekly_Data_Raw[TICKER],'Weekly Metrics'!$A8,Weekly_Data_Raw[END_DATE],'Weekly Metrics'!GG$5), IF($B8=\"Gross Adds\",SUMIFS(Weekly_Data_Raw[GROSS_ADDS],Weekly_Data_Raw[TICKER],'Weekly Metrics'!$A8,Weekly_Data_Raw[END_DATE],'Weekly Metrics'!GG$5), IF($B8=\"Churn\",SUMIFS(Weekly_Data_Raw[CHURNED_MEMBERS],Weekly_Data_Raw[TICKER],'Weekly Metrics'!$A8,Weekly_Data_Raw[END_DATE],'Weekly Metrics'!GG$5)))))))","v":616},{"$f":"IF($B8=\"Panel Sales\", SUMIFS(Weekly_Data_Raw[PANEL_AMOUNT],Weekly_Data_Raw[TICKER],'Weekly Metrics'!$A8,Weekly_Data_Raw[END_DATE],'Weekly Metrics'!GH$5),IF($B8=\"Transactions\",SUMIFS(Weekly_Data_Raw[PANEL_TRANSACTIONS],Weekly_Data_Raw[TICKER],'Weekly Metrics'!$A8,Weekly_Data_Raw[END_DATE],'Weekly Metrics'!GH$5), IF($B8=\"Avg Ticket\",SUMIFS(Weekly_Data_Raw[AVG_TICKET],Weekly_Data_Raw[TICKER],'Weekly Metrics'!$A8,Weekly_Data_Raw[END_DATE],'Weekly Metrics'!GH$5), IF($B8=\"EOP Subscribers\",SUMIFS(Weekly_Data_Raw[EOP_SUBSCRIBERS],Weekly_Data_Raw[TICKER],'Weekly Metrics'!$A8,Weekly_Data_Raw[END_DATE],'Weekly Metrics'!GH$5), IF($B8=\"Gross Adds\",SUMIFS(Weekly_Data_Raw[GROSS_ADDS],Weekly_Data_Raw[TICKER],'Weekly Metrics'!$A8,Weekly_Data_Raw[END_DATE],'Weekly Metrics'!GH$5), IF($B8=\"Churn\",SUMIFS(Weekly_Data_Raw[CHURNED_MEMBERS],Weekly_Data_Raw[TICKER],'Weekly Metrics'!$A8,Weekly_Data_Raw[END_DATE],'Weekly Metrics'!GH$5)))))))","v":591},{"$f":"IF($B8=\"Panel Sales\", SUMIFS(Weekly_Data_Raw[PANEL_AMOUNT],Weekly_Data_Raw[TICKER],'Weekly Metrics'!$A8,Weekly_Data_Raw[END_DATE],'Weekly Metrics'!GI$5),IF($B8=\"Transactions\",SUMIFS(Weekly_Data_Raw[PANEL_TRANSACTIONS],Weekly_Data_Raw[TICKER],'Weekly Metrics'!$A8,Weekly_Data_Raw[END_DATE],'Weekly Metrics'!GI$5), IF($B8=\"Avg Ticket\",SUMIFS(Weekly_Data_Raw[AVG_TICKET],Weekly_Data_Raw[TICKER],'Weekly Metrics'!$A8,Weekly_Data_Raw[END_DATE],'Weekly Metrics'!GI$5), IF($B8=\"EOP Subscribers\",SUMIFS(Weekly_Data_Raw[EOP_SUBSCRIBERS],Weekly_Data_Raw[TICKER],'Weekly Metrics'!$A8,Weekly_Data_Raw[END_DATE],'Weekly Metrics'!GI$5), IF($B8=\"Gross Adds\",SUMIFS(Weekly_Data_Raw[GROSS_ADDS],Weekly_Data_Raw[TICKER],'Weekly Metrics'!$A8,Weekly_Data_Raw[END_DATE],'Weekly Metrics'!GI$5), IF($B8=\"Churn\",SUMIFS(Weekly_Data_Raw[CHURNED_MEMBERS],Weekly_Data_Raw[TICKER],'Weekly Metrics'!$A8,Weekly_Data_Raw[END_DATE],'Weekly Metrics'!GI$5)))))))","v":555},{"$f":"IF($B8=\"Panel Sales\", SUMIFS(Weekly_Data_Raw[PANEL_AMOUNT],Weekly_Data_Raw[TICKER],'Weekly Metrics'!$A8,Weekly_Data_Raw[END_DATE],'Weekly Metrics'!GJ$5),IF($B8=\"Transactions\",SUMIFS(Weekly_Data_Raw[PANEL_TRANSACTIONS],Weekly_Data_Raw[TICKER],'Weekly Metrics'!$A8,Weekly_Data_Raw[END_DATE],'Weekly Metrics'!GJ$5), IF($B8=\"Avg Ticket\",SUMIFS(Weekly_Data_Raw[AVG_TICKET],Weekly_Data_Raw[TICKER],'Weekly Metrics'!$A8,Weekly_Data_Raw[END_DATE],'Weekly Metrics'!GJ$5), IF($B8=\"EOP Subscribers\",SUMIFS(Weekly_Data_Raw[EOP_SUBSCRIBERS],Weekly_Data_Raw[TICKER],'Weekly Metrics'!$A8,Weekly_Data_Raw[END_DATE],'Weekly Metrics'!GJ$5), IF($B8=\"Gross Adds\",SUMIFS(Weekly_Data_Raw[GROSS_ADDS],Weekly_Data_Raw[TICKER],'Weekly Metrics'!$A8,Weekly_Data_Raw[END_DATE],'Weekly Metrics'!GJ$5), IF($B8=\"Churn\",SUMIFS(Weekly_Data_Raw[CHURNED_MEMBERS],Weekly_Data_Raw[TICKER],'Weekly Metrics'!$A8,Weekly_Data_Raw[END_DATE],'Weekly Metrics'!GJ$5)))))))","v":605},{"$f":"IF($B8=\"Panel Sales\", SUMIFS(Weekly_Data_Raw[PANEL_AMOUNT],Weekly_Data_Raw[TICKER],'Weekly Metrics'!$A8,Weekly_Data_Raw[END_DATE],'Weekly Metrics'!GK$5),IF($B8=\"Transactions\",SUMIFS(Weekly_Data_Raw[PANEL_TRANSACTIONS],Weekly_Data_Raw[TICKER],'Weekly Metrics'!$A8,Weekly_Data_Raw[END_DATE],'Weekly Metrics'!GK$5), IF($B8=\"Avg Ticket\",SUMIFS(Weekly_Data_Raw[AVG_TICKET],Weekly_Data_Raw[TICKER],'Weekly Metrics'!$A8,Weekly_Data_Raw[END_DATE],'Weekly Metrics'!GK$5), IF($B8=\"EOP Subscribers\",SUMIFS(Weekly_Data_Raw[EOP_SUBSCRIBERS],Weekly_Data_Raw[TICKER],'Weekly Metrics'!$A8,Weekly_Data_Raw[END_DATE],'Weekly Metrics'!GK$5), IF($B8=\"Gross Adds\",SUMIFS(Weekly_Data_Raw[GROSS_ADDS],Weekly_Data_Raw[TICKER],'Weekly Metrics'!$A8,Weekly_Data_Raw[END_DATE],'Weekly Metrics'!GK$5), IF($B8=\"Churn\",SUMIFS(Weekly_Data_Raw[CHURNED_MEMBERS],Weekly_Data_Raw[TICKER],'Weekly Metrics'!$A8,Weekly_Data_Raw[END_DATE],'Weekly Metrics'!GK$5)))))))","v":558},{"$f":"IF($B8=\"Panel Sales\", SUMIFS(Weekly_Data_Raw[PANEL_AMOUNT],Weekly_Data_Raw[TICKER],'Weekly Metrics'!$A8,Weekly_Data_Raw[END_DATE],'Weekly Metrics'!GL$5),IF($B8=\"Transactions\",SUMIFS(Weekly_Data_Raw[PANEL_TRANSACTIONS],Weekly_Data_Raw[TICKER],'Weekly Metrics'!$A8,Weekly_Data_Raw[END_DATE],'Weekly Metrics'!GL$5), IF($B8=\"Avg Ticket\",SUMIFS(Weekly_Data_Raw[AVG_TICKET],Weekly_Data_Raw[TICKER],'Weekly Metrics'!$A8,Weekly_Data_Raw[END_DATE],'Weekly Metrics'!GL$5), IF($B8=\"EOP Subscribers\",SUMIFS(Weekly_Data_Raw[EOP_SUBSCRIBERS],Weekly_Data_Raw[TICKER],'Weekly Metrics'!$A8,Weekly_Data_Raw[END_DATE],'Weekly Metrics'!GL$5), IF($B8=\"Gross Adds\",SUMIFS(Weekly_Data_Raw[GROSS_ADDS],Weekly_Data_Raw[TICKER],'Weekly Metrics'!$A8,Weekly_Data_Raw[END_DATE],'Weekly Metrics'!GL$5), IF($B8=\"Churn\",SUMIFS(Weekly_Data_Raw[CHURNED_MEMBERS],Weekly_Data_Raw[TICKER],'Weekly Metrics'!$A8,Weekly_Data_Raw[END_DATE],'Weekly Metrics'!GL$5)))))))","v":547},{"$f":"IF($B8=\"Panel Sales\", SUMIFS(Weekly_Data_Raw[PANEL_AMOUNT],Weekly_Data_Raw[TICKER],'Weekly Metrics'!$A8,Weekly_Data_Raw[END_DATE],'Weekly Metrics'!GM$5),IF($B8=\"Transactions\",SUMIFS(Weekly_Data_Raw[PANEL_TRANSACTIONS],Weekly_Data_Raw[TICKER],'Weekly Metrics'!$A8,Weekly_Data_Raw[END_DATE],'Weekly Metrics'!GM$5), IF($B8=\"Avg Ticket\",SUMIFS(Weekly_Data_Raw[AVG_TICKET],Weekly_Data_Raw[TICKER],'Weekly Metrics'!$A8,Weekly_Data_Raw[END_DATE],'Weekly Metrics'!GM$5), IF($B8=\"EOP Subscribers\",SUMIFS(Weekly_Data_Raw[EOP_SUBSCRIBERS],Weekly_Data_Raw[TICKER],'Weekly Metrics'!$A8,Weekly_Data_Raw[END_DATE],'Weekly Metrics'!GM$5), IF($B8=\"Gross Adds\",SUMIFS(Weekly_Data_Raw[GROSS_ADDS],Weekly_Data_Raw[TICKER],'Weekly Metrics'!$A8,Weekly_Data_Raw[END_DATE],'Weekly Metrics'!GM$5), IF($B8=\"Churn\",SUMIFS(Weekly_Data_Raw[CHURNED_MEMBERS],Weekly_Data_Raw[TICKER],'Weekly Metrics'!$A8,Weekly_Data_Raw[END_DATE],'Weekly Metrics'!GM$5)))))))","v":583},{"$f":"IF($B8=\"Panel Sales\", SUMIFS(Weekly_Data_Raw[PANEL_AMOUNT],Weekly_Data_Raw[TICKER],'Weekly Metrics'!$A8,Weekly_Data_Raw[END_DATE],'Weekly Metrics'!GN$5),IF($B8=\"Transactions\",SUMIFS(Weekly_Data_Raw[PANEL_TRANSACTIONS],Weekly_Data_Raw[TICKER],'Weekly Metrics'!$A8,Weekly_Data_Raw[END_DATE],'Weekly Metrics'!GN$5), IF($B8=\"Avg Ticket\",SUMIFS(Weekly_Data_Raw[AVG_TICKET],Weekly_Data_Raw[TICKER],'Weekly Metrics'!$A8,Weekly_Data_Raw[END_DATE],'Weekly Metrics'!GN$5), IF($B8=\"EOP Subscribers\",SUMIFS(Weekly_Data_Raw[EOP_SUBSCRIBERS],Weekly_Data_Raw[TICKER],'Weekly Metrics'!$A8,Weekly_Data_Raw[END_DATE],'Weekly Metrics'!GN$5), IF($B8=\"Gross Adds\",SUMIFS(Weekly_Data_Raw[GROSS_ADDS],Weekly_Data_Raw[TICKER],'Weekly Metrics'!$A8,Weekly_Data_Raw[END_DATE],'Weekly Metrics'!GN$5), IF($B8=\"Churn\",SUMIFS(Weekly_Data_Raw[CHURNED_MEMBERS],Weekly_Data_Raw[TICKER],'Weekly Metrics'!$A8,Weekly_Data_Raw[END_DATE],'Weekly Metrics'!GN$5)))))))","v":577},{"$f":"IF($B8=\"Panel Sales\", SUMIFS(Weekly_Data_Raw[PANEL_AMOUNT],Weekly_Data_Raw[TICKER],'Weekly Metrics'!$A8,Weekly_Data_Raw[END_DATE],'Weekly Metrics'!GO$5),IF($B8=\"Transactions\",SUMIFS(Weekly_Data_Raw[PANEL_TRANSACTIONS],Weekly_Data_Raw[TICKER],'Weekly Metrics'!$A8,Weekly_Data_Raw[END_DATE],'Weekly Metrics'!GO$5), IF($B8=\"Avg Ticket\",SUMIFS(Weekly_Data_Raw[AVG_TICKET],Weekly_Data_Raw[TICKER],'Weekly Metrics'!$A8,Weekly_Data_Raw[END_DATE],'Weekly Metrics'!GO$5), IF($B8=\"EOP Subscribers\",SUMIFS(Weekly_Data_Raw[EOP_SUBSCRIBERS],Weekly_Data_Raw[TICKER],'Weekly Metrics'!$A8,Weekly_Data_Raw[END_DATE],'Weekly Metrics'!GO$5), IF($B8=\"Gross Adds\",SUMIFS(Weekly_Data_Raw[GROSS_ADDS],Weekly_Data_Raw[TICKER],'Weekly Metrics'!$A8,Weekly_Data_Raw[END_DATE],'Weekly Metrics'!GO$5), IF($B8=\"Churn\",SUMIFS(Weekly_Data_Raw[CHURNED_MEMBERS],Weekly_Data_Raw[TICKER],'Weekly Metrics'!$A8,Weekly_Data_Raw[END_DATE],'Weekly Metrics'!GO$5)))))))","v":621},{"$f":"IF($B8=\"Panel Sales\", SUMIFS(Weekly_Data_Raw[PANEL_AMOUNT],Weekly_Data_Raw[TICKER],'Weekly Metrics'!$A8,Weekly_Data_Raw[END_DATE],'Weekly Metrics'!GP$5),IF($B8=\"Transactions\",SUMIFS(Weekly_Data_Raw[PANEL_TRANSACTIONS],Weekly_Data_Raw[TICKER],'Weekly Metrics'!$A8,Weekly_Data_Raw[END_DATE],'Weekly Metrics'!GP$5), IF($B8=\"Avg Ticket\",SUMIFS(Weekly_Data_Raw[AVG_TICKET],Weekly_Data_Raw[TICKER],'Weekly Metrics'!$A8,Weekly_Data_Raw[END_DATE],'Weekly Metrics'!GP$5), IF($B8=\"EOP Subscribers\",SUMIFS(Weekly_Data_Raw[EOP_SUBSCRIBERS],Weekly_Data_Raw[TICKER],'Weekly Metrics'!$A8,Weekly_Data_Raw[END_DATE],'Weekly Metrics'!GP$5), IF($B8=\"Gross Adds\",SUMIFS(Weekly_Data_Raw[GROSS_ADDS],Weekly_Data_Raw[TICKER],'Weekly Metrics'!$A8,Weekly_Data_Raw[END_DATE],'Weekly Metrics'!GP$5), IF($B8=\"Churn\",SUMIFS(Weekly_Data_Raw[CHURNED_MEMBERS],Weekly_Data_Raw[TICKER],'Weekly Metrics'!$A8,Weekly_Data_Raw[END_DATE],'Weekly Metrics'!GP$5)))))))","v":755},{"$f":"IF($B8=\"Panel Sales\", SUMIFS(Weekly_Data_Raw[PANEL_AMOUNT],Weekly_Data_Raw[TICKER],'Weekly Metrics'!$A8,Weekly_Data_Raw[END_DATE],'Weekly Metrics'!GQ$5),IF($B8=\"Transactions\",SUMIFS(Weekly_Data_Raw[PANEL_TRANSACTIONS],Weekly_Data_Raw[TICKER],'Weekly Metrics'!$A8,Weekly_Data_Raw[END_DATE],'Weekly Metrics'!GQ$5), IF($B8=\"Avg Ticket\",SUMIFS(Weekly_Data_Raw[AVG_TICKET],Weekly_Data_Raw[TICKER],'Weekly Metrics'!$A8,Weekly_Data_Raw[END_DATE],'Weekly Metrics'!GQ$5), IF($B8=\"EOP Subscribers\",SUMIFS(Weekly_Data_Raw[EOP_SUBSCRIBERS],Weekly_Data_Raw[TICKER],'Weekly Metrics'!$A8,Weekly_Data_Raw[END_DATE],'Weekly Metrics'!GQ$5), IF($B8=\"Gross Adds\",SUMIFS(Weekly_Data_Raw[GROSS_ADDS],Weekly_Data_Raw[TICKER],'Weekly Metrics'!$A8,Weekly_Data_Raw[END_DATE],'Weekly Metrics'!GQ$5), IF($B8=\"Churn\",SUMIFS(Weekly_Data_Raw[CHURNED_MEMBERS],Weekly_Data_Raw[TICKER],'Weekly Metrics'!$A8,Weekly_Data_Raw[END_DATE],'Weekly Metrics'!GQ$5)))))))","v":705},{"$f":"IF($B8=\"Panel Sales\", SUMIFS(Weekly_Data_Raw[PANEL_AMOUNT],Weekly_Data_Raw[TICKER],'Weekly Metrics'!$A8,Weekly_Data_Raw[END_DATE],'Weekly Metrics'!GR$5),IF($B8=\"Transactions\",SUMIFS(Weekly_Data_Raw[PANEL_TRANSACTIONS],Weekly_Data_Raw[TICKER],'Weekly Metrics'!$A8,Weekly_Data_Raw[END_DATE],'Weekly Metrics'!GR$5), IF($B8=\"Avg Ticket\",SUMIFS(Weekly_Data_Raw[AVG_TICKET],Weekly_Data_Raw[TICKER],'Weekly Metrics'!$A8,Weekly_Data_Raw[END_DATE],'Weekly Metrics'!GR$5), IF($B8=\"EOP Subscribers\",SUMIFS(Weekly_Data_Raw[EOP_SUBSCRIBERS],Weekly_Data_Raw[TICKER],'Weekly Metrics'!$A8,Weekly_Data_Raw[END_DATE],'Weekly Metrics'!GR$5), IF($B8=\"Gross Adds\",SUMIFS(Weekly_Data_Raw[GROSS_ADDS],Weekly_Data_Raw[TICKER],'Weekly Metrics'!$A8,Weekly_Data_Raw[END_DATE],'Weekly Metrics'!GR$5), IF($B8=\"Churn\",SUMIFS(Weekly_Data_Raw[CHURNED_MEMBERS],Weekly_Data_Raw[TICKER],'Weekly Metrics'!$A8,Weekly_Data_Raw[END_DATE],'Weekly Metrics'!GR$5)))))))","v":551},{"$f":"IF($B8=\"Panel Sales\", SUMIFS(Weekly_Data_Raw[PANEL_AMOUNT],Weekly_Data_Raw[TICKER],'Weekly Metrics'!$A8,Weekly_Data_Raw[END_DATE],'Weekly Metrics'!GS$5),IF($B8=\"Transactions\",SUMIFS(Weekly_Data_Raw[PANEL_TRANSACTIONS],Weekly_Data_Raw[TICKER],'Weekly Metrics'!$A8,Weekly_Data_Raw[END_DATE],'Weekly Metrics'!GS$5), IF($B8=\"Avg Ticket\",SUMIFS(Weekly_Data_Raw[AVG_TICKET],Weekly_Data_Raw[TICKER],'Weekly Metrics'!$A8,Weekly_Data_Raw[END_DATE],'Weekly Metrics'!GS$5), IF($B8=\"EOP Subscribers\",SUMIFS(Weekly_Data_Raw[EOP_SUBSCRIBERS],Weekly_Data_Raw[TICKER],'Weekly Metrics'!$A8,Weekly_Data_Raw[END_DATE],'Weekly Metrics'!GS$5), IF($B8=\"Gross Adds\",SUMIFS(Weekly_Data_Raw[GROSS_ADDS],Weekly_Data_Raw[TICKER],'Weekly Metrics'!$A8,Weekly_Data_Raw[END_DATE],'Weekly Metrics'!GS$5), IF($B8=\"Churn\",SUMIFS(Weekly_Data_Raw[CHURNED_MEMBERS],Weekly_Data_Raw[TICKER],'Weekly Metrics'!$A8,Weekly_Data_Raw[END_DATE],'Weekly Metrics'!GS$5)))))))","v":605},{"$f":"IF($B8=\"Panel Sales\", SUMIFS(Weekly_Data_Raw[PANEL_AMOUNT],Weekly_Data_Raw[TICKER],'Weekly Metrics'!$A8,Weekly_Data_Raw[END_DATE],'Weekly Metrics'!GT$5),IF($B8=\"Transactions\",SUMIFS(Weekly_Data_Raw[PANEL_TRANSACTIONS],Weekly_Data_Raw[TICKER],'Weekly Metrics'!$A8,Weekly_Data_Raw[END_DATE],'Weekly Metrics'!GT$5), IF($B8=\"Avg Ticket\",SUMIFS(Weekly_Data_Raw[AVG_TICKET],Weekly_Data_Raw[TICKER],'Weekly Metrics'!$A8,Weekly_Data_Raw[END_DATE],'Weekly Metrics'!GT$5), IF($B8=\"EOP Subscribers\",SUMIFS(Weekly_Data_Raw[EOP_SUBSCRIBERS],Weekly_Data_Raw[TICKER],'Weekly Metrics'!$A8,Weekly_Data_Raw[END_DATE],'Weekly Metrics'!GT$5), IF($B8=\"Gross Adds\",SUMIFS(Weekly_Data_Raw[GROSS_ADDS],Weekly_Data_Raw[TICKER],'Weekly Metrics'!$A8,Weekly_Data_Raw[END_DATE],'Weekly Metrics'!GT$5), IF($B8=\"Churn\",SUMIFS(Weekly_Data_Raw[CHURNED_MEMBERS],Weekly_Data_Raw[TICKER],'Weekly Metrics'!$A8,Weekly_Data_Raw[END_DATE],'Weekly Metrics'!GT$5)))))))","v":624},{"$f":"IF($B8=\"Panel Sales\", SUMIFS(Weekly_Data_Raw[PANEL_AMOUNT],Weekly_Data_Raw[TICKER],'Weekly Metrics'!$A8,Weekly_Data_Raw[END_DATE],'Weekly Metrics'!GU$5),IF($B8=\"Transactions\",SUMIFS(Weekly_Data_Raw[PANEL_TRANSACTIONS],Weekly_Data_Raw[TICKER],'Weekly Metrics'!$A8,Weekly_Data_Raw[END_DATE],'Weekly Metrics'!GU$5), IF($B8=\"Avg Ticket\",SUMIFS(Weekly_Data_Raw[AVG_TICKET],Weekly_Data_Raw[TICKER],'Weekly Metrics'!$A8,Weekly_Data_Raw[END_DATE],'Weekly Metrics'!GU$5), IF($B8=\"EOP Subscribers\",SUMIFS(Weekly_Data_Raw[EOP_SUBSCRIBERS],Weekly_Data_Raw[TICKER],'Weekly Metrics'!$A8,Weekly_Data_Raw[END_DATE],'Weekly Metrics'!GU$5), IF($B8=\"Gross Adds\",SUMIFS(Weekly_Data_Raw[GROSS_ADDS],Weekly_Data_Raw[TICKER],'Weekly Metrics'!$A8,Weekly_Data_Raw[END_DATE],'Weekly Metrics'!GU$5), IF($B8=\"Churn\",SUMIFS(Weekly_Data_Raw[CHURNED_MEMBERS],Weekly_Data_Raw[TICKER],'Weekly Metrics'!$A8,Weekly_Data_Raw[END_DATE],'Weekly Metrics'!GU$5)))))))","v":576},{"$f":"IF($B8=\"Panel Sales\", SUMIFS(Weekly_Data_Raw[PANEL_AMOUNT],Weekly_Data_Raw[TICKER],'Weekly Metrics'!$A8,Weekly_Data_Raw[END_DATE],'Weekly Metrics'!GV$5),IF($B8=\"Transactions\",SUMIFS(Weekly_Data_Raw[PANEL_TRANSACTIONS],Weekly_Data_Raw[TICKER],'Weekly Metrics'!$A8,Weekly_Data_Raw[END_DATE],'Weekly Metrics'!GV$5), IF($B8=\"Avg Ticket\",SUMIFS(Weekly_Data_Raw[AVG_TICKET],Weekly_Data_Raw[TICKER],'Weekly Metrics'!$A8,Weekly_Data_Raw[END_DATE],'Weekly Metrics'!GV$5), IF($B8=\"EOP Subscribers\",SUMIFS(Weekly_Data_Raw[EOP_SUBSCRIBERS],Weekly_Data_Raw[TICKER],'Weekly Metrics'!$A8,Weekly_Data_Raw[END_DATE],'Weekly Metrics'!GV$5), IF($B8=\"Gross Adds\",SUMIFS(Weekly_Data_Raw[GROSS_ADDS],Weekly_Data_Raw[TICKER],'Weekly Metrics'!$A8,Weekly_Data_Raw[END_DATE],'Weekly Metrics'!GV$5), IF($B8=\"Churn\",SUMIFS(Weekly_Data_Raw[CHURNED_MEMBERS],Weekly_Data_Raw[TICKER],'Weekly Metrics'!$A8,Weekly_Data_Raw[END_DATE],'Weekly Metrics'!GV$5)))))))","v":694},{"$f":"IF($B8=\"Panel Sales\", SUMIFS(Weekly_Data_Raw[PANEL_AMOUNT],Weekly_Data_Raw[TICKER],'Weekly Metrics'!$A8,Weekly_Data_Raw[END_DATE],'Weekly Metrics'!GW$5),IF($B8=\"Transactions\",SUMIFS(Weekly_Data_Raw[PANEL_TRANSACTIONS],Weekly_Data_Raw[TICKER],'Weekly Metrics'!$A8,Weekly_Data_Raw[END_DATE],'Weekly Metrics'!GW$5), IF($B8=\"Avg Ticket\",SUMIFS(Weekly_Data_Raw[AVG_TICKET],Weekly_Data_Raw[TICKER],'Weekly Metrics'!$A8,Weekly_Data_Raw[END_DATE],'Weekly Metrics'!GW$5), IF($B8=\"EOP Subscribers\",SUMIFS(Weekly_Data_Raw[EOP_SUBSCRIBERS],Weekly_Data_Raw[TICKER],'Weekly Metrics'!$A8,Weekly_Data_Raw[END_DATE],'Weekly Metrics'!GW$5), IF($B8=\"Gross Adds\",SUMIFS(Weekly_Data_Raw[GROSS_ADDS],Weekly_Data_Raw[TICKER],'Weekly Metrics'!$A8,Weekly_Data_Raw[END_DATE],'Weekly Metrics'!GW$5), IF($B8=\"Churn\",SUMIFS(Weekly_Data_Raw[CHURNED_MEMBERS],Weekly_Data_Raw[TICKER],'Weekly Metrics'!$A8,Weekly_Data_Raw[END_DATE],'Weekly Metrics'!GW$5)))))))","v":659},{"$f":"IF($B8=\"Panel Sales\", SUMIFS(Weekly_Data_Raw[PANEL_AMOUNT],Weekly_Data_Raw[TICKER],'Weekly Metrics'!$A8,Weekly_Data_Raw[END_DATE],'Weekly Metrics'!GX$5),IF($B8=\"Transactions\",SUMIFS(Weekly_Data_Raw[PANEL_TRANSACTIONS],Weekly_Data_Raw[TICKER],'Weekly Metrics'!$A8,Weekly_Data_Raw[END_DATE],'Weekly Metrics'!GX$5), IF($B8=\"Avg Ticket\",SUMIFS(Weekly_Data_Raw[AVG_TICKET],Weekly_Data_Raw[TICKER],'Weekly Metrics'!$A8,Weekly_Data_Raw[END_DATE],'Weekly Metrics'!GX$5), IF($B8=\"EOP Subscribers\",SUMIFS(Weekly_Data_Raw[EOP_SUBSCRIBERS],Weekly_Data_Raw[TICKER],'Weekly Metrics'!$A8,Weekly_Data_Raw[END_DATE],'Weekly Metrics'!GX$5), IF($B8=\"Gross Adds\",SUMIFS(Weekly_Data_Raw[GROSS_ADDS],Weekly_Data_Raw[TICKER],'Weekly Metrics'!$A8,Weekly_Data_Raw[END_DATE],'Weekly Metrics'!GX$5), IF($B8=\"Churn\",SUMIFS(Weekly_Data_Raw[CHURNED_MEMBERS],Weekly_Data_Raw[TICKER],'Weekly Metrics'!$A8,Weekly_Data_Raw[END_DATE],'Weekly Metrics'!GX$5)))))))","v":715},{"$f":"IF($B8=\"Panel Sales\", SUMIFS(Weekly_Data_Raw[PANEL_AMOUNT],Weekly_Data_Raw[TICKER],'Weekly Metrics'!$A8,Weekly_Data_Raw[END_DATE],'Weekly Metrics'!GY$5),IF($B8=\"Transactions\",SUMIFS(Weekly_Data_Raw[PANEL_TRANSACTIONS],Weekly_Data_Raw[TICKER],'Weekly Metrics'!$A8,Weekly_Data_Raw[END_DATE],'Weekly Metrics'!GY$5), IF($B8=\"Avg Ticket\",SUMIFS(Weekly_Data_Raw[AVG_TICKET],Weekly_Data_Raw[TICKER],'Weekly Metrics'!$A8,Weekly_Data_Raw[END_DATE],'Weekly Metrics'!GY$5), IF($B8=\"EOP Subscribers\",SUMIFS(Weekly_Data_Raw[EOP_SUBSCRIBERS],Weekly_Data_Raw[TICKER],'Weekly Metrics'!$A8,Weekly_Data_Raw[END_DATE],'Weekly Metrics'!GY$5), IF($B8=\"Gross Adds\",SUMIFS(Weekly_Data_Raw[GROSS_ADDS],Weekly_Data_Raw[TICKER],'Weekly Metrics'!$A8,Weekly_Data_Raw[END_DATE],'Weekly Metrics'!GY$5), IF($B8=\"Churn\",SUMIFS(Weekly_Data_Raw[CHURNED_MEMBERS],Weekly_Data_Raw[TICKER],'Weekly Metrics'!$A8,Weekly_Data_Raw[END_DATE],'Weekly Metrics'!GY$5)))))))","v":638},{"$f":"IF($B8=\"Panel Sales\", SUMIFS(Weekly_Data_Raw[PANEL_AMOUNT],Weekly_Data_Raw[TICKER],'Weekly Metrics'!$A8,Weekly_Data_Raw[END_DATE],'Weekly Metrics'!GZ$5),IF($B8=\"Transactions\",SUMIFS(Weekly_Data_Raw[PANEL_TRANSACTIONS],Weekly_Data_Raw[TICKER],'Weekly Metrics'!$A8,Weekly_Data_Raw[END_DATE],'Weekly Metrics'!GZ$5), IF($B8=\"Avg Ticket\",SUMIFS(Weekly_Data_Raw[AVG_TICKET],Weekly_Data_Raw[TICKER],'Weekly Metrics'!$A8,Weekly_Data_Raw[END_DATE],'Weekly Metrics'!GZ$5), IF($B8=\"EOP Subscribers\",SUMIFS(Weekly_Data_Raw[EOP_SUBSCRIBERS],Weekly_Data_Raw[TICKER],'Weekly Metrics'!$A8,Weekly_Data_Raw[END_DATE],'Weekly Metrics'!GZ$5), IF($B8=\"Gross Adds\",SUMIFS(Weekly_Data_Raw[GROSS_ADDS],Weekly_Data_Raw[TICKER],'Weekly Metrics'!$A8,Weekly_Data_Raw[END_DATE],'Weekly Metrics'!GZ$5), IF($B8=\"Churn\",SUMIFS(Weekly_Data_Raw[CHURNED_MEMBERS],Weekly_Data_Raw[TICKER],'Weekly Metrics'!$A8,Weekly_Data_Raw[END_DATE],'Weekly Metrics'!GZ$5)))))))","v":623},{"$f":"IF($B8=\"Panel Sales\", SUMIFS(Weekly_Data_Raw[PANEL_AMOUNT],Weekly_Data_Raw[TICKER],'Weekly Metrics'!$A8,Weekly_Data_Raw[END_DATE],'Weekly Metrics'!HA$5),IF($B8=\"Transactions\",SUMIFS(Weekly_Data_Raw[PANEL_TRANSACTIONS],Weekly_Data_Raw[TICKER],'Weekly Metrics'!$A8,Weekly_Data_Raw[END_DATE],'Weekly Metrics'!HA$5), IF($B8=\"Avg Ticket\",SUMIFS(Weekly_Data_Raw[AVG_TICKET],Weekly_Data_Raw[TICKER],'Weekly Metrics'!$A8,Weekly_Data_Raw[END_DATE],'Weekly Metrics'!HA$5), IF($B8=\"EOP Subscribers\",SUMIFS(Weekly_Data_Raw[EOP_SUBSCRIBERS],Weekly_Data_Raw[TICKER],'Weekly Metrics'!$A8,Weekly_Data_Raw[END_DATE],'Weekly Metrics'!HA$5), IF($B8=\"Gross Adds\",SUMIFS(Weekly_Data_Raw[GROSS_ADDS],Weekly_Data_Raw[TICKER],'Weekly Metrics'!$A8,Weekly_Data_Raw[END_DATE],'Weekly Metrics'!HA$5), IF($B8=\"Churn\",SUMIFS(Weekly_Data_Raw[CHURNED_MEMBERS],Weekly_Data_Raw[TICKER],'Weekly Metrics'!$A8,Weekly_Data_Raw[END_DATE],'Weekly Metrics'!HA$5)))))))","v":644},{"$f":"IF($B8=\"Panel Sales\", SUMIFS(Weekly_Data_Raw[PANEL_AMOUNT],Weekly_Data_Raw[TICKER],'Weekly Metrics'!$A8,Weekly_Data_Raw[END_DATE],'Weekly Metrics'!HB$5),IF($B8=\"Transactions\",SUMIFS(Weekly_Data_Raw[PANEL_TRANSACTIONS],Weekly_Data_Raw[TICKER],'Weekly Metrics'!$A8,Weekly_Data_Raw[END_DATE],'Weekly Metrics'!HB$5), IF($B8=\"Avg Ticket\",SUMIFS(Weekly_Data_Raw[AVG_TICKET],Weekly_Data_Raw[TICKER],'Weekly Metrics'!$A8,Weekly_Data_Raw[END_DATE],'Weekly Metrics'!HB$5), IF($B8=\"EOP Subscribers\",SUMIFS(Weekly_Data_Raw[EOP_SUBSCRIBERS],Weekly_Data_Raw[TICKER],'Weekly Metrics'!$A8,Weekly_Data_Raw[END_DATE],'Weekly Metrics'!HB$5), IF($B8=\"Gross Adds\",SUMIFS(Weekly_Data_Raw[GROSS_ADDS],Weekly_Data_Raw[TICKER],'Weekly Metrics'!$A8,Weekly_Data_Raw[END_DATE],'Weekly Metrics'!HB$5), IF($B8=\"Churn\",SUMIFS(Weekly_Data_Raw[CHURNED_MEMBERS],Weekly_Data_Raw[TICKER],'Weekly Metrics'!$A8,Weekly_Data_Raw[END_DATE],'Weekly Metrics'!HB$5)))))))","v":653},{"$f":"IF($B8=\"Panel Sales\", SUMIFS(Weekly_Data_Raw[PANEL_AMOUNT],Weekly_Data_Raw[TICKER],'Weekly Metrics'!$A8,Weekly_Data_Raw[END_DATE],'Weekly Metrics'!HC$5),IF($B8=\"Transactions\",SUMIFS(Weekly_Data_Raw[PANEL_TRANSACTIONS],Weekly_Data_Raw[TICKER],'Weekly Metrics'!$A8,Weekly_Data_Raw[END_DATE],'Weekly Metrics'!HC$5), IF($B8=\"Avg Ticket\",SUMIFS(Weekly_Data_Raw[AVG_TICKET],Weekly_Data_Raw[TICKER],'Weekly Metrics'!$A8,Weekly_Data_Raw[END_DATE],'Weekly Metrics'!HC$5), IF($B8=\"EOP Subscribers\",SUMIFS(Weekly_Data_Raw[EOP_SUBSCRIBERS],Weekly_Data_Raw[TICKER],'Weekly Metrics'!$A8,Weekly_Data_Raw[END_DATE],'Weekly Metrics'!HC$5), IF($B8=\"Gross Adds\",SUMIFS(Weekly_Data_Raw[GROSS_ADDS],Weekly_Data_Raw[TICKER],'Weekly Metrics'!$A8,Weekly_Data_Raw[END_DATE],'Weekly Metrics'!HC$5), IF($B8=\"Churn\",SUMIFS(Weekly_Data_Raw[CHURNED_MEMBERS],Weekly_Data_Raw[TICKER],'Weekly Metrics'!$A8,Weekly_Data_Raw[END_DATE],'Weekly Metrics'!HC$5)))))))","v":741},{"$f":"IF($B8=\"Panel Sales\", SUMIFS(Weekly_Data_Raw[PANEL_AMOUNT],Weekly_Data_Raw[TICKER],'Weekly Metrics'!$A8,Weekly_Data_Raw[END_DATE],'Weekly Metrics'!HD$5),IF($B8=\"Transactions\",SUMIFS(Weekly_Data_Raw[PANEL_TRANSACTIONS],Weekly_Data_Raw[TICKER],'Weekly Metrics'!$A8,Weekly_Data_Raw[END_DATE],'Weekly Metrics'!HD$5), IF($B8=\"Avg Ticket\",SUMIFS(Weekly_Data_Raw[AVG_TICKET],Weekly_Data_Raw[TICKER],'Weekly Metrics'!$A8,Weekly_Data_Raw[END_DATE],'Weekly Metrics'!HD$5), IF($B8=\"EOP Subscribers\",SUMIFS(Weekly_Data_Raw[EOP_SUBSCRIBERS],Weekly_Data_Raw[TICKER],'Weekly Metrics'!$A8,Weekly_Data_Raw[END_DATE],'Weekly Metrics'!HD$5), IF($B8=\"Gross Adds\",SUMIFS(Weekly_Data_Raw[GROSS_ADDS],Weekly_Data_Raw[TICKER],'Weekly Metrics'!$A8,Weekly_Data_Raw[END_DATE],'Weekly Metrics'!HD$5), IF($B8=\"Churn\",SUMIFS(Weekly_Data_Raw[CHURNED_MEMBERS],Weekly_Data_Raw[TICKER],'Weekly Metrics'!$A8,Weekly_Data_Raw[END_DATE],'Weekly Metrics'!HD$5)))))))","v":669},{"$f":"IF($B8=\"Panel Sales\", SUMIFS(Weekly_Data_Raw[PANEL_AMOUNT],Weekly_Data_Raw[TICKER],'Weekly Metrics'!$A8,Weekly_Data_Raw[END_DATE],'Weekly Metrics'!HE$5),IF($B8=\"Transactions\",SUMIFS(Weekly_Data_Raw[PANEL_TRANSACTIONS],Weekly_Data_Raw[TICKER],'Weekly Metrics'!$A8,Weekly_Data_Raw[END_DATE],'Weekly Metrics'!HE$5), IF($B8=\"Avg Ticket\",SUMIFS(Weekly_Data_Raw[AVG_TICKET],Weekly_Data_Raw[TICKER],'Weekly Metrics'!$A8,Weekly_Data_Raw[END_DATE],'Weekly Metrics'!HE$5), IF($B8=\"EOP Subscribers\",SUMIFS(Weekly_Data_Raw[EOP_SUBSCRIBERS],Weekly_Data_Raw[TICKER],'Weekly Metrics'!$A8,Weekly_Data_Raw[END_DATE],'Weekly Metrics'!HE$5), IF($B8=\"Gross Adds\",SUMIFS(Weekly_Data_Raw[GROSS_ADDS],Weekly_Data_Raw[TICKER],'Weekly Metrics'!$A8,Weekly_Data_Raw[END_DATE],'Weekly Metrics'!HE$5), IF($B8=\"Churn\",SUMIFS(Weekly_Data_Raw[CHURNED_MEMBERS],Weekly_Data_Raw[TICKER],'Weekly Metrics'!$A8,Weekly_Data_Raw[END_DATE],'Weekly Metrics'!HE$5)))))))","v":598},{"$f":"IF($B8=\"Panel Sales\", SUMIFS(Weekly_Data_Raw[PANEL_AMOUNT],Weekly_Data_Raw[TICKER],'Weekly Metrics'!$A8,Weekly_Data_Raw[END_DATE],'Weekly Metrics'!HF$5),IF($B8=\"Transactions\",SUMIFS(Weekly_Data_Raw[PANEL_TRANSACTIONS],Weekly_Data_Raw[TICKER],'Weekly Metrics'!$A8,Weekly_Data_Raw[END_DATE],'Weekly Metrics'!HF$5), IF($B8=\"Avg Ticket\",SUMIFS(Weekly_Data_Raw[AVG_TICKET],Weekly_Data_Raw[TICKER],'Weekly Metrics'!$A8,Weekly_Data_Raw[END_DATE],'Weekly Metrics'!HF$5), IF($B8=\"EOP Subscribers\",SUMIFS(Weekly_Data_Raw[EOP_SUBSCRIBERS],Weekly_Data_Raw[TICKER],'Weekly Metrics'!$A8,Weekly_Data_Raw[END_DATE],'Weekly Metrics'!HF$5), IF($B8=\"Gross Adds\",SUMIFS(Weekly_Data_Raw[GROSS_ADDS],Weekly_Data_Raw[TICKER],'Weekly Metrics'!$A8,Weekly_Data_Raw[END_DATE],'Weekly Metrics'!HF$5), IF($B8=\"Churn\",SUMIFS(Weekly_Data_Raw[CHURNED_MEMBERS],Weekly_Data_Raw[TICKER],'Weekly Metrics'!$A8,Weekly_Data_Raw[END_DATE],'Weekly Metrics'!HF$5)))))))","v":602},{"$f":"IF($B8=\"Panel Sales\", SUMIFS(Weekly_Data_Raw[PANEL_AMOUNT],Weekly_Data_Raw[TICKER],'Weekly Metrics'!$A8,Weekly_Data_Raw[END_DATE],'Weekly Metrics'!HG$5),IF($B8=\"Transactions\",SUMIFS(Weekly_Data_Raw[PANEL_TRANSACTIONS],Weekly_Data_Raw[TICKER],'Weekly Metrics'!$A8,Weekly_Data_Raw[END_DATE],'Weekly Metrics'!HG$5), IF($B8=\"Avg Ticket\",SUMIFS(Weekly_Data_Raw[AVG_TICKET],Weekly_Data_Raw[TICKER],'Weekly Metrics'!$A8,Weekly_Data_Raw[END_DATE],'Weekly Metrics'!HG$5), IF($B8=\"EOP Subscribers\",SUMIFS(Weekly_Data_Raw[EOP_SUBSCRIBERS],Weekly_Data_Raw[TICKER],'Weekly Metrics'!$A8,Weekly_Data_Raw[END_DATE],'Weekly Metrics'!HG$5), IF($B8=\"Gross Adds\",SUMIFS(Weekly_Data_Raw[GROSS_ADDS],Weekly_Data_Raw[TICKER],'Weekly Metrics'!$A8,Weekly_Data_Raw[END_DATE],'Weekly Metrics'!HG$5), IF($B8=\"Churn\",SUMIFS(Weekly_Data_Raw[CHURNED_MEMBERS],Weekly_Data_Raw[TICKER],'Weekly Metrics'!$A8,Weekly_Data_Raw[END_DATE],'Weekly Metrics'!HG$5)))))))","v":637},{"$f":"IF($B8=\"Panel Sales\", SUMIFS(Weekly_Data_Raw[PANEL_AMOUNT],Weekly_Data_Raw[TICKER],'Weekly Metrics'!$A8,Weekly_Data_Raw[END_DATE],'Weekly Metrics'!HH$5),IF($B8=\"Transactions\",SUMIFS(Weekly_Data_Raw[PANEL_TRANSACTIONS],Weekly_Data_Raw[TICKER],'Weekly Metrics'!$A8,Weekly_Data_Raw[END_DATE],'Weekly Metrics'!HH$5), IF($B8=\"Avg Ticket\",SUMIFS(Weekly_Data_Raw[AVG_TICKET],Weekly_Data_Raw[TICKER],'Weekly Metrics'!$A8,Weekly_Data_Raw[END_DATE],'Weekly Metrics'!HH$5), IF($B8=\"EOP Subscribers\",SUMIFS(Weekly_Data_Raw[EOP_SUBSCRIBERS],Weekly_Data_Raw[TICKER],'Weekly Metrics'!$A8,Weekly_Data_Raw[END_DATE],'Weekly Metrics'!HH$5), IF($B8=\"Gross Adds\",SUMIFS(Weekly_Data_Raw[GROSS_ADDS],Weekly_Data_Raw[TICKER],'Weekly Metrics'!$A8,Weekly_Data_Raw[END_DATE],'Weekly Metrics'!HH$5), IF($B8=\"Churn\",SUMIFS(Weekly_Data_Raw[CHURNED_MEMBERS],Weekly_Data_Raw[TICKER],'Weekly Metrics'!$A8,Weekly_Data_Raw[END_DATE],'Weekly Metrics'!HH$5)))))))","v":610},{"$f":"IF($B8=\"Panel Sales\", SUMIFS(Weekly_Data_Raw[PANEL_AMOUNT],Weekly_Data_Raw[TICKER],'Weekly Metrics'!$A8,Weekly_Data_Raw[END_DATE],'Weekly Metrics'!HI$5),IF($B8=\"Transactions\",SUMIFS(Weekly_Data_Raw[PANEL_TRANSACTIONS],Weekly_Data_Raw[TICKER],'Weekly Metrics'!$A8,Weekly_Data_Raw[END_DATE],'Weekly Metrics'!HI$5), IF($B8=\"Avg Ticket\",SUMIFS(Weekly_Data_Raw[AVG_TICKET],Weekly_Data_Raw[TICKER],'Weekly Metrics'!$A8,Weekly_Data_Raw[END_DATE],'Weekly Metrics'!HI$5), IF($B8=\"EOP Subscribers\",SUMIFS(Weekly_Data_Raw[EOP_SUBSCRIBERS],Weekly_Data_Raw[TICKER],'Weekly Metrics'!$A8,Weekly_Data_Raw[END_DATE],'Weekly Metrics'!HI$5), IF($B8=\"Gross Adds\",SUMIFS(Weekly_Data_Raw[GROSS_ADDS],Weekly_Data_Raw[TICKER],'Weekly Metrics'!$A8,Weekly_Data_Raw[END_DATE],'Weekly Metrics'!HI$5), IF($B8=\"Churn\",SUMIFS(Weekly_Data_Raw[CHURNED_MEMBERS],Weekly_Data_Raw[TICKER],'Weekly Metrics'!$A8,Weekly_Data_Raw[END_DATE],'Weekly Metrics'!HI$5)))))))","v":589},{"$f":"IF($B8=\"Panel Sales\", SUMIFS(Weekly_Data_Raw[PANEL_AMOUNT],Weekly_Data_Raw[TICKER],'Weekly Metrics'!$A8,Weekly_Data_Raw[END_DATE],'Weekly Metrics'!HJ$5),IF($B8=\"Transactions\",SUMIFS(Weekly_Data_Raw[PANEL_TRANSACTIONS],Weekly_Data_Raw[TICKER],'Weekly Metrics'!$A8,Weekly_Data_Raw[END_DATE],'Weekly Metrics'!HJ$5), IF($B8=\"Avg Ticket\",SUMIFS(Weekly_Data_Raw[AVG_TICKET],Weekly_Data_Raw[TICKER],'Weekly Metrics'!$A8,Weekly_Data_Raw[END_DATE],'Weekly Metrics'!HJ$5), IF($B8=\"EOP Subscribers\",SUMIFS(Weekly_Data_Raw[EOP_SUBSCRIBERS],Weekly_Data_Raw[TICKER],'Weekly Metrics'!$A8,Weekly_Data_Raw[END_DATE],'Weekly Metrics'!HJ$5), IF($B8=\"Gross Adds\",SUMIFS(Weekly_Data_Raw[GROSS_ADDS],Weekly_Data_Raw[TICKER],'Weekly Metrics'!$A8,Weekly_Data_Raw[END_DATE],'Weekly Metrics'!HJ$5), IF($B8=\"Churn\",SUMIFS(Weekly_Data_Raw[CHURNED_MEMBERS],Weekly_Data_Raw[TICKER],'Weekly Metrics'!$A8,Weekly_Data_Raw[END_DATE],'Weekly Metrics'!HJ$5)))))))","v":591},{"$f":"IF($B8=\"Panel Sales\", SUMIFS(Weekly_Data_Raw[PANEL_AMOUNT],Weekly_Data_Raw[TICKER],'Weekly Metrics'!$A8,Weekly_Data_Raw[END_DATE],'Weekly Metrics'!HK$5),IF($B8=\"Transactions\",SUMIFS(Weekly_Data_Raw[PANEL_TRANSACTIONS],Weekly_Data_Raw[TICKER],'Weekly Metrics'!$A8,Weekly_Data_Raw[END_DATE],'Weekly Metrics'!HK$5), IF($B8=\"Avg Ticket\",SUMIFS(Weekly_Data_Raw[AVG_TICKET],Weekly_Data_Raw[TICKER],'Weekly Metrics'!$A8,Weekly_Data_Raw[END_DATE],'Weekly Metrics'!HK$5), IF($B8=\"EOP Subscribers\",SUMIFS(Weekly_Data_Raw[EOP_SUBSCRIBERS],Weekly_Data_Raw[TICKER],'Weekly Metrics'!$A8,Weekly_Data_Raw[END_DATE],'Weekly Metrics'!HK$5), IF($B8=\"Gross Adds\",SUMIFS(Weekly_Data_Raw[GROSS_ADDS],Weekly_Data_Raw[TICKER],'Weekly Metrics'!$A8,Weekly_Data_Raw[END_DATE],'Weekly Metrics'!HK$5), IF($B8=\"Churn\",SUMIFS(Weekly_Data_Raw[CHURNED_MEMBERS],Weekly_Data_Raw[TICKER],'Weekly Metrics'!$A8,Weekly_Data_Raw[END_DATE],'Weekly Metrics'!HK$5)))))))","v":616},{"$f":"IF($B8=\"Panel Sales\", SUMIFS(Weekly_Data_Raw[PANEL_AMOUNT],Weekly_Data_Raw[TICKER],'Weekly Metrics'!$A8,Weekly_Data_Raw[END_DATE],'Weekly Metrics'!HL$5),IF($B8=\"Transactions\",SUMIFS(Weekly_Data_Raw[PANEL_TRANSACTIONS],Weekly_Data_Raw[TICKER],'Weekly Metrics'!$A8,Weekly_Data_Raw[END_DATE],'Weekly Metrics'!HL$5), IF($B8=\"Avg Ticket\",SUMIFS(Weekly_Data_Raw[AVG_TICKET],Weekly_Data_Raw[TICKER],'Weekly Metrics'!$A8,Weekly_Data_Raw[END_DATE],'Weekly Metrics'!HL$5), IF($B8=\"EOP Subscribers\",SUMIFS(Weekly_Data_Raw[EOP_SUBSCRIBERS],Weekly_Data_Raw[TICKER],'Weekly Metrics'!$A8,Weekly_Data_Raw[END_DATE],'Weekly Metrics'!HL$5), IF($B8=\"Gross Adds\",SUMIFS(Weekly_Data_Raw[GROSS_ADDS],Weekly_Data_Raw[TICKER],'Weekly Metrics'!$A8,Weekly_Data_Raw[END_DATE],'Weekly Metrics'!HL$5), IF($B8=\"Churn\",SUMIFS(Weekly_Data_Raw[CHURNED_MEMBERS],Weekly_Data_Raw[TICKER],'Weekly Metrics'!$A8,Weekly_Data_Raw[END_DATE],'Weekly Metrics'!HL$5)))))))","v":710},{"$f":"IF($B8=\"Panel Sales\", SUMIFS(Weekly_Data_Raw[PANEL_AMOUNT],Weekly_Data_Raw[TICKER],'Weekly Metrics'!$A8,Weekly_Data_Raw[END_DATE],'Weekly Metrics'!HM$5),IF($B8=\"Transactions\",SUMIFS(Weekly_Data_Raw[PANEL_TRANSACTIONS],Weekly_Data_Raw[TICKER],'Weekly Metrics'!$A8,Weekly_Data_Raw[END_DATE],'Weekly Metrics'!HM$5), IF($B8=\"Avg Ticket\",SUMIFS(Weekly_Data_Raw[AVG_TICKET],Weekly_Data_Raw[TICKER],'Weekly Metrics'!$A8,Weekly_Data_Raw[END_DATE],'Weekly Metrics'!HM$5), IF($B8=\"EOP Subscribers\",SUMIFS(Weekly_Data_Raw[EOP_SUBSCRIBERS],Weekly_Data_Raw[TICKER],'Weekly Metrics'!$A8,Weekly_Data_Raw[END_DATE],'Weekly Metrics'!HM$5), IF($B8=\"Gross Adds\",SUMIFS(Weekly_Data_Raw[GROSS_ADDS],Weekly_Data_Raw[TICKER],'Weekly Metrics'!$A8,Weekly_Data_Raw[END_DATE],'Weekly Metrics'!HM$5), IF($B8=\"Churn\",SUMIFS(Weekly_Data_Raw[CHURNED_MEMBERS],Weekly_Data_Raw[TICKER],'Weekly Metrics'!$A8,Weekly_Data_Raw[END_DATE],'Weekly Metrics'!HM$5)))))))","v":574},{"$f":"IF($B8=\"Panel Sales\", SUMIFS(Weekly_Data_Raw[PANEL_AMOUNT],Weekly_Data_Raw[TICKER],'Weekly Metrics'!$A8,Weekly_Data_Raw[END_DATE],'Weekly Metrics'!HN$5),IF($B8=\"Transactions\",SUMIFS(Weekly_Data_Raw[PANEL_TRANSACTIONS],Weekly_Data_Raw[TICKER],'Weekly Metrics'!$A8,Weekly_Data_Raw[END_DATE],'Weekly Metrics'!HN$5), IF($B8=\"Avg Ticket\",SUMIFS(Weekly_Data_Raw[AVG_TICKET],Weekly_Data_Raw[TICKER],'Weekly Metrics'!$A8,Weekly_Data_Raw[END_DATE],'Weekly Metrics'!HN$5), IF($B8=\"EOP Subscribers\",SUMIFS(Weekly_Data_Raw[EOP_SUBSCRIBERS],Weekly_Data_Raw[TICKER],'Weekly Metrics'!$A8,Weekly_Data_Raw[END_DATE],'Weekly Metrics'!HN$5), IF($B8=\"Gross Adds\",SUMIFS(Weekly_Data_Raw[GROSS_ADDS],Weekly_Data_Raw[TICKER],'Weekly Metrics'!$A8,Weekly_Data_Raw[END_DATE],'Weekly Metrics'!HN$5), IF($B8=\"Churn\",SUMIFS(Weekly_Data_Raw[CHURNED_MEMBERS],Weekly_Data_Raw[TICKER],'Weekly Metrics'!$A8,Weekly_Data_Raw[END_DATE],'Weekly Metrics'!HN$5)))))))","v":550},{"$f":"IF($B8=\"Panel Sales\", SUMIFS(Weekly_Data_Raw[PANEL_AMOUNT],Weekly_Data_Raw[TICKER],'Weekly Metrics'!$A8,Weekly_Data_Raw[END_DATE],'Weekly Metrics'!HO$5),IF($B8=\"Transactions\",SUMIFS(Weekly_Data_Raw[PANEL_TRANSACTIONS],Weekly_Data_Raw[TICKER],'Weekly Metrics'!$A8,Weekly_Data_Raw[END_DATE],'Weekly Metrics'!HO$5), IF($B8=\"Avg Ticket\",SUMIFS(Weekly_Data_Raw[AVG_TICKET],Weekly_Data_Raw[TICKER],'Weekly Metrics'!$A8,Weekly_Data_Raw[END_DATE],'Weekly Metrics'!HO$5), IF($B8=\"EOP Subscribers\",SUMIFS(Weekly_Data_Raw[EOP_SUBSCRIBERS],Weekly_Data_Raw[TICKER],'Weekly Metrics'!$A8,Weekly_Data_Raw[END_DATE],'Weekly Metrics'!HO$5), IF($B8=\"Gross Adds\",SUMIFS(Weekly_Data_Raw[GROSS_ADDS],Weekly_Data_Raw[TICKER],'Weekly Metrics'!$A8,Weekly_Data_Raw[END_DATE],'Weekly Metrics'!HO$5), IF($B8=\"Churn\",SUMIFS(Weekly_Data_Raw[CHURNED_MEMBERS],Weekly_Data_Raw[TICKER],'Weekly Metrics'!$A8,Weekly_Data_Raw[END_DATE],'Weekly Metrics'!HO$5)))))))","v":499},{"$f":"IF($B8=\"Panel Sales\", SUMIFS(Weekly_Data_Raw[PANEL_AMOUNT],Weekly_Data_Raw[TICKER],'Weekly Metrics'!$A8,Weekly_Data_Raw[END_DATE],'Weekly Metrics'!HP$5),IF($B8=\"Transactions\",SUMIFS(Weekly_Data_Raw[PANEL_TRANSACTIONS],Weekly_Data_Raw[TICKER],'Weekly Metrics'!$A8,Weekly_Data_Raw[END_DATE],'Weekly Metrics'!HP$5), IF($B8=\"Avg Ticket\",SUMIFS(Weekly_Data_Raw[AVG_TICKET],Weekly_Data_Raw[TICKER],'Weekly Metrics'!$A8,Weekly_Data_Raw[END_DATE],'Weekly Metrics'!HP$5), IF($B8=\"EOP Subscribers\",SUMIFS(Weekly_Data_Raw[EOP_SUBSCRIBERS],Weekly_Data_Raw[TICKER],'Weekly Metrics'!$A8,Weekly_Data_Raw[END_DATE],'Weekly Metrics'!HP$5), IF($B8=\"Gross Adds\",SUMIFS(Weekly_Data_Raw[GROSS_ADDS],Weekly_Data_Raw[TICKER],'Weekly Metrics'!$A8,Weekly_Data_Raw[END_DATE],'Weekly Metrics'!HP$5), IF($B8=\"Churn\",SUMIFS(Weekly_Data_Raw[CHURNED_MEMBERS],Weekly_Data_Raw[TICKER],'Weekly Metrics'!$A8,Weekly_Data_Raw[END_DATE],'Weekly Metrics'!HP$5)))))))","v":497},{"$f":"IF($B8=\"Panel Sales\", SUMIFS(Weekly_Data_Raw[PANEL_AMOUNT],Weekly_Data_Raw[TICKER],'Weekly Metrics'!$A8,Weekly_Data_Raw[END_DATE],'Weekly Metrics'!HQ$5),IF($B8=\"Transactions\",SUMIFS(Weekly_Data_Raw[PANEL_TRANSACTIONS],Weekly_Data_Raw[TICKER],'Weekly Metrics'!$A8,Weekly_Data_Raw[END_DATE],'Weekly Metrics'!HQ$5), IF($B8=\"Avg Ticket\",SUMIFS(Weekly_Data_Raw[AVG_TICKET],Weekly_Data_Raw[TICKER],'Weekly Metrics'!$A8,Weekly_Data_Raw[END_DATE],'Weekly Metrics'!HQ$5), IF($B8=\"EOP Subscribers\",SUMIFS(Weekly_Data_Raw[EOP_SUBSCRIBERS],Weekly_Data_Raw[TICKER],'Weekly Metrics'!$A8,Weekly_Data_Raw[END_DATE],'Weekly Metrics'!HQ$5), IF($B8=\"Gross Adds\",SUMIFS(Weekly_Data_Raw[GROSS_ADDS],Weekly_Data_Raw[TICKER],'Weekly Metrics'!$A8,Weekly_Data_Raw[END_DATE],'Weekly Metrics'!HQ$5), IF($B8=\"Churn\",SUMIFS(Weekly_Data_Raw[CHURNED_MEMBERS],Weekly_Data_Raw[TICKER],'Weekly Metrics'!$A8,Weekly_Data_Raw[END_DATE],'Weekly Metrics'!HQ$5)))))))","v":540},{"$f":"IF($B8=\"Panel Sales\", SUMIFS(Weekly_Data_Raw[PANEL_AMOUNT],Weekly_Data_Raw[TICKER],'Weekly Metrics'!$A8,Weekly_Data_Raw[END_DATE],'Weekly Metrics'!HR$5),IF($B8=\"Transactions\",SUMIFS(Weekly_Data_Raw[PANEL_TRANSACTIONS],Weekly_Data_Raw[TICKER],'Weekly Metrics'!$A8,Weekly_Data_Raw[END_DATE],'Weekly Metrics'!HR$5), IF($B8=\"Avg Ticket\",SUMIFS(Weekly_Data_Raw[AVG_TICKET],Weekly_Data_Raw[TICKER],'Weekly Metrics'!$A8,Weekly_Data_Raw[END_DATE],'Weekly Metrics'!HR$5), IF($B8=\"EOP Subscribers\",SUMIFS(Weekly_Data_Raw[EOP_SUBSCRIBERS],Weekly_Data_Raw[TICKER],'Weekly Metrics'!$A8,Weekly_Data_Raw[END_DATE],'Weekly Metrics'!HR$5), IF($B8=\"Gross Adds\",SUMIFS(Weekly_Data_Raw[GROSS_ADDS],Weekly_Data_Raw[TICKER],'Weekly Metrics'!$A8,Weekly_Data_Raw[END_DATE],'Weekly Metrics'!HR$5), IF($B8=\"Churn\",SUMIFS(Weekly_Data_Raw[CHURNED_MEMBERS],Weekly_Data_Raw[TICKER],'Weekly Metrics'!$A8,Weekly_Data_Raw[END_DATE],'Weekly Metrics'!HR$5)))))))","v":506},{"$f":"IF($B8=\"Panel Sales\", SUMIFS(Weekly_Data_Raw[PANEL_AMOUNT],Weekly_Data_Raw[TICKER],'Weekly Metrics'!$A8,Weekly_Data_Raw[END_DATE],'Weekly Metrics'!HS$5),IF($B8=\"Transactions\",SUMIFS(Weekly_Data_Raw[PANEL_TRANSACTIONS],Weekly_Data_Raw[TICKER],'Weekly Metrics'!$A8,Weekly_Data_Raw[END_DATE],'Weekly Metrics'!HS$5), IF($B8=\"Avg Ticket\",SUMIFS(Weekly_Data_Raw[AVG_TICKET],Weekly_Data_Raw[TICKER],'Weekly Metrics'!$A8,Weekly_Data_Raw[END_DATE],'Weekly Metrics'!HS$5), IF($B8=\"EOP Subscribers\",SUMIFS(Weekly_Data_Raw[EOP_SUBSCRIBERS],Weekly_Data_Raw[TICKER],'Weekly Metrics'!$A8,Weekly_Data_Raw[END_DATE],'Weekly Metrics'!HS$5), IF($B8=\"Gross Adds\",SUMIFS(Weekly_Data_Raw[GROSS_ADDS],Weekly_Data_Raw[TICKER],'Weekly Metrics'!$A8,Weekly_Data_Raw[END_DATE],'Weekly Metrics'!HS$5), IF($B8=\"Churn\",SUMIFS(Weekly_Data_Raw[CHURNED_MEMBERS],Weekly_Data_Raw[TICKER],'Weekly Metrics'!$A8,Weekly_Data_Raw[END_DATE],'Weekly Metrics'!HS$5)))))))","v":539},{"$f":"IF($B8=\"Panel Sales\", SUMIFS(Weekly_Data_Raw[PANEL_AMOUNT],Weekly_Data_Raw[TICKER],'Weekly Metrics'!$A8,Weekly_Data_Raw[END_DATE],'Weekly Metrics'!HT$5),IF($B8=\"Transactions\",SUMIFS(Weekly_Data_Raw[PANEL_TRANSACTIONS],Weekly_Data_Raw[TICKER],'Weekly Metrics'!$A8,Weekly_Data_Raw[END_DATE],'Weekly Metrics'!HT$5), IF($B8=\"Avg Ticket\",SUMIFS(Weekly_Data_Raw[AVG_TICKET],Weekly_Data_Raw[TICKER],'Weekly Metrics'!$A8,Weekly_Data_Raw[END_DATE],'Weekly Metrics'!HT$5), IF($B8=\"EOP Subscribers\",SUMIFS(Weekly_Data_Raw[EOP_SUBSCRIBERS],Weekly_Data_Raw[TICKER],'Weekly Metrics'!$A8,Weekly_Data_Raw[END_DATE],'Weekly Metrics'!HT$5), IF($B8=\"Gross Adds\",SUMIFS(Weekly_Data_Raw[GROSS_ADDS],Weekly_Data_Raw[TICKER],'Weekly Metrics'!$A8,Weekly_Data_Raw[END_DATE],'Weekly Metrics'!HT$5), IF($B8=\"Churn\",SUMIFS(Weekly_Data_Raw[CHURNED_MEMBERS],Weekly_Data_Raw[TICKER],'Weekly Metrics'!$A8,Weekly_Data_Raw[END_DATE],'Weekly Metrics'!HT$5)))))))","v":462}]
["PYPL","Transactions",{"$f":"IF($B9=\"Panel Sales\", SUMIFS(Weekly_Data_Raw[PANEL_AMOUNT],Weekly_Data_Raw[TICKER],'Weekly Metrics'!$A9,Weekly_Data_Raw[END_DATE],'Weekly Metrics'!C$5),IF($B9=\"Transactions\",SUMIFS(Weekly_Data_Raw[PANEL_TRANSACTIONS],Weekly_Data_Raw[TICKER],'Weekly Metrics'!$A9,Weekly_Data_Raw[END_DATE],'Weekly Metrics'!C$5), IF($B9=\"Avg Ticket\",SUMIFS(Weekly_Data_Raw[AVG_TICKET],Weekly_Data_Raw[TICKER],'Weekly Metrics'!$A9,Weekly_Data_Raw[END_DATE],'Weekly Metrics'!C$5), IF($B9=\"EOP Subscribers\",SUMIFS(Weekly_Data_Raw[EOP_SUBSCRIBERS],Weekly_Data_Raw[TICKER],'Weekly Metrics'!$A9,Weekly_Data_Raw[END_DATE],'Weekly Metrics'!C$5), IF($B9=\"Gross Adds\",SUMIFS(Weekly_Data_Raw[GROSS_ADDS],Weekly_Data_Raw[TICKER],'Weekly Metrics'!$A9,Weekly_Data_Raw[END_DATE],'Weekly Metrics'!C$5), IF($B9=\"Churn\",SUMIFS(Weekly_Data_Raw[CHURNED_MEMBERS],Weekly_Data_Raw[TICKER],'Weekly Metrics'!$A9,Weekly_Data_Raw[END_DATE],'Weekly Metrics'!C$5)))))))","v":0},{"$f":"IF($B9=\"Panel Sales\", SUMIFS(Weekly_Data_Raw[PANEL_AMOUNT],Weekly_Data_Raw[TICKER],'Weekly Metrics'!$A9,Weekly_Data_Raw[END_DATE],'Weekly Metrics'!D$5),IF($B9=\"Transactions\",SUMIFS(Weekly_Data_Raw[PANEL_TRANSACTIONS],Weekly_Data_Raw[TICKER],'Weekly Metrics'!$A9,Weekly_Data_Raw[END_DATE],'Weekly Metrics'!D$5), IF($B9=\"Avg Ticket\",SUMIFS(Weekly_Data_Raw[AVG_TICKET],Weekly_Data_Raw[TICKER],'Weekly Metrics'!$A9,Weekly_Data_Raw[END_DATE],'Weekly Metrics'!D$5), IF($B9=\"EOP Subscribers\",SUMIFS(Weekly_Data_Raw[EOP_SUBSCRIBERS],Weekly_Data_Raw[TICKER],'Weekly Metrics'!$A9,Weekly_Data_Raw[END_DATE],'Weekly Metrics'!D$5), IF($B9=\"Gross Adds\",SUMIFS(Weekly_Data_Raw[GROSS_ADDS],Weekly_Data_Raw[TICKER],'Weekly Metrics'!$A9,Weekly_Data_Raw[END_DATE],'Weekly Metrics'!D$5), IF($B9=\"Churn\",SUMIFS(Weekly_Data_Raw[CHURNED_MEMBERS],Weekly_Data_Raw[TICKER],'Weekly Metrics'!$A9,Weekly_Data_Raw[END_DATE],'Weekly Metrics'!D$5)))))))","v":307516},{"$f":"IF($B9=\"Panel Sales\", SUMIFS(Weekly_Data_Raw[PANEL_AMOUNT],Weekly_Data_Raw[TICKER],'Weekly Metrics'!$A9,Weekly_Data_Raw[END_DATE],'Weekly Metrics'!E$5),IF($B9=\"Transactions\",SUMIFS(Weekly_Data_Raw[PANEL_TRANSACTIONS],Weekly_Data_Raw[TICKER],'Weekly Metrics'!$A9,Weekly_Data_Raw[END_DATE],'Weekly Metrics'!E$5), IF($B9=\"Avg Ticket\",SUMIFS(Weekly_Data_Raw[AVG_TICKET],Weekly_Data_Raw[TICKER],'Weekly Metrics'!$A9,Weekly_Data_Raw[END_DATE],'Weekly Metrics'!E$5), IF($B9=\"EOP Subscribers\",SUMIFS(Weekly_Data_Raw[EOP_SUBSCRIBERS],Weekly_Data_Raw[TICKER],'Weekly Metrics'!$A9,Weekly_Data_Raw[END_DATE],'Weekly Metrics'!E$5), IF($B9=\"Gross Adds\",SUMIFS(Weekly_Data_Raw[GROSS_ADDS],Weekly_Data_Raw[TICKER],'Weekly Metrics'!$A9,Weekly_Data_Raw[END_DATE],'Weekly Metrics'!E$5), IF($B9=\"Churn\",SUMIFS(Weekly_Data_Raw[CHURNED_MEMBERS],Weekly_Data_Raw[TICKER],'Weekly Metrics'!$A9,Weekly_Data_Raw[END_DATE],'Weekly Metrics'!E$5)))))))","v":317222},{"$f":"IF($B9=\"Panel Sales\", SUMIFS(Weekly_Data_Raw[PANEL_AMOUNT],Weekly_Data_Raw[TICKER],'Weekly Metrics'!$A9,Weekly_Data_Raw[END_DATE],'Weekly Metrics'!F$5),IF($B9=\"Transactions\",SUMIFS(Weekly_Data_Raw[PANEL_TRANSACTIONS],Weekly_Data_Raw[TICKER],'Weekly Metrics'!$A9,Weekly_Data_Raw[END_DATE],'Weekly Metrics'!F$5), IF($B9=\"Avg Ticket\",SUMIFS(Weekly_Data_Raw[AVG_TICKET],Weekly_Data_Raw[TICKER],'Weekly Metrics'!$A9,Weekly_Data_Raw[END_DATE],'Weekly Metrics'!F$5), IF($B9=\"EOP Subscribers\",SUMIFS(Weekly_Data_Raw[EOP_SUBSCRIBERS],Weekly_Data_Raw[TICKER],'Weekly Metrics'!$A9,Weekly_Data_Raw[END_DATE],'Weekly Metrics'!F$5), IF($B9=\"Gross Adds\",SUMIFS(Weekly_Data_Raw[GROSS_ADDS],Weekly_Data_Raw[TICKER],'Weekly Metrics'!$A9,Weekly_Data_Raw[END_DATE],'Weekly Metrics'!F$5), IF($B9=\"Churn\",SUMIFS(Weekly_Data_Raw[CHURNED_MEMBERS],Weekly_Data_Raw[TICKER],'Weekly Metrics'!$A9,Weekly_Data_Raw[END_DATE],'Weekly Metrics'!F$5)))))))","v":319097},{"$f":"IF($B9=\"Panel Sales\", SUMIFS(Weekly_Data_Raw[PANEL_AMOUNT],Weekly_Data_Raw[TICKER],'Weekly Metrics'!$A9,Weekly_Data_Raw[END_DATE],'Weekly Metrics'!G$5),IF($B9=\"Transactions\",SUMIFS(Weekly_Data_Raw[PANEL_TRANSACTIONS],Weekly_Data_Raw[TICKER],'Weekly Metrics'!$A9,Weekly_Data_Raw[END_DATE],'Weekly Metrics'!G$5), IF($B9=\"Avg Ticket\",SUMIFS(Weekly_Data_Raw[AVG_TICKET],Weekly_Data_Raw[TICKER],'Weekly Metrics'!$A9,Weekly_Data_Raw[END_DATE],'Weekly Metrics'!G$5), IF($B9=\"EOP Subscribers\",SUMIFS(Weekly_Data_Raw[EOP_SUBSCRIBERS],Weekly_Data_Raw[TICKER],'Weekly Metrics'!$A9,Weekly_Data_Raw[END_DATE],'Weekly Metrics'!G$5), IF($B9=\"Gross Adds\",SUMIFS(Weekly_Data_Raw[GROSS_ADDS],Weekly_Data_Raw[TICKER],'Weekly Metrics'!$A9,Weekly_Data_Raw[END_DATE],'Weekly Metrics'!G$5), IF($B9=\"Churn\",SUMIFS(Weekly_Data_Raw[CHURNED_MEMBERS],Weekly_Data_Raw[TICKER],'Weekly Metrics'!$A9,Weekly_Data_Raw[END_DATE],'Weekly Metrics'!G$5)))))))","v":342664},{"$f":"IF($B9=\"Panel Sales\", SUMIFS(Weekly_Data_Raw[PANEL_AMOUNT],Weekly_Data_Raw[TICKER],'Weekly Metrics'!$A9,Weekly_Data_Raw[END_DATE],'Weekly Metrics'!H$5),IF($B9=\"Transactions\",SUMIFS(Weekly_Data_Raw[PANEL_TRANSACTIONS],Weekly_Data_Raw[TICKER],'Weekly Metrics'!$A9,Weekly_Data_Raw[END_DATE],'Weekly Metrics'!H$5), IF($B9=\"Avg Ticket\",SUMIFS(Weekly_Data_Raw[AVG_TICKET],Weekly_Data_Raw[TICKER],'Weekly Metrics'!$A9,Weekly_Data_Raw[END_DATE],'Weekly Metrics'!H$5), IF($B9=\"EOP Subscribers\",SUMIFS(Weekly_Data_Raw[EOP_SUBSCRIBERS],Weekly_Data_Raw[TICKER],'Weekly Metrics'!$A9,Weekly_Data_Raw[END_DATE],'Weekly Metrics'!H$5), IF($B9=\"Gross Adds\",SUMIFS(Weekly_Data_Raw[GROSS_ADDS],Weekly_Data_Raw[TICKER],'Weekly Metrics'!$A9,Weekly_Data_Raw[END_DATE],'Weekly Metrics'!H$5), IF($B9=\"Churn\",SUMIFS(Weekly_Data_Raw[CHURNED_MEMBERS],Weekly_Data_Raw[TICKER],'Weekly Metrics'!$A9,Weekly_Data_Raw[END_DATE],'Weekly Metrics'!H$5)))))))","v":358604},{"$f":"IF($B9=\"Panel Sales\", SUMIFS(Weekly_Data_Raw[PANEL_AMOUNT],Weekly_Data_Raw[TICKER],'Weekly Metrics'!$A9,Weekly_Data_Raw[END_DATE],'Weekly Metrics'!I$5),IF($B9=\"Transactions\",SUMIFS(Weekly_Data_Raw[PANEL_TRANSACTIONS],Weekly_Data_Raw[TICKER],'Weekly Metrics'!$A9,Weekly_Data_Raw[END_DATE],'Weekly Metrics'!I$5), IF($B9=\"Avg Ticket\",SUMIFS(Weekly_Data_Raw[AVG_TICKET],Weekly_Data_Raw[TICKER],'Weekly Metrics'!$A9,Weekly_Data_Raw[END_DATE],'Weekly Metrics'!I$5), IF($B9=\"EOP Subscribers\",SUMIFS(Weekly_Data_Raw[EOP_SUBSCRIBERS],Weekly_Data_Raw[TICKER],'Weekly Metrics'!$A9,Weekly_Data_Raw[END_DATE],'Weekly Metrics'!I$5), IF($B9=\"Gross Adds\",SUMIFS(Weekly_Data_Raw[GROSS_ADDS],Weekly_Data_Raw[TICKER],'Weekly Metrics'!$A9,Weekly_Data_Raw[END_DATE],'Weekly Metrics'!I$5), IF($B9=\"Churn\",SUMIFS(Weekly_Data_Raw[CHURNED_MEMBERS],Weekly_Data_Raw[TICKER],'Weekly Metrics'!$A9,Weekly_Data_Raw[END_DATE],'Weekly Metrics'!I$5)))))))","v":342887},{"$f":"IF($B9=\"Panel Sales\", SUMIFS(Weekly_Data_Raw[PANEL_AMOUNT],Weekly_Data_Raw[TICKER],'Weekly Metrics'!$A9,Weekly_Data_Raw[END_DATE],'Weekly Metrics'!J$5),IF($B9=\"Transactions\",SUMIFS(Weekly_Data_Raw[PANEL_TRANSACTIONS],Weekly_Data_Raw[TICKER],'Weekly Metrics'!$A9,Weekly_Data_Raw[END_DATE],'Weekly Metrics'!J$5), IF($B9=\"Avg Ticket\",SUMIFS(Weekly_Data_Raw[AVG_TICKET],Weekly_Data_Raw[TICKER],'Weekly Metrics'!$A9,Weekly_Data_Raw[END_DATE],'Weekly Metrics'!J$5), IF($B9=\"EOP Subscribers\",SUMIFS(Weekly_Data_Raw[EOP_SUBSCRIBERS],Weekly_Data_Raw[TICKER],'Weekly Metrics'!$A9,Weekly_Data_Raw[END_DATE],'Weekly Metrics'!J$5), IF($B9=\"Gross Adds\",SUMIFS(Weekly_Data_Raw[GROSS_ADDS],Weekly_Data_Raw[TICKER],'Weekly Metrics'!$A9,Weekly_Data_Raw[END_DATE],'Weekly Metrics'!J$5), IF($B9=\"Churn\",SUMIFS(Weekly_Data_Raw[CHURNED_MEMBERS],Weekly_Data_Raw[TICKER],'Weekly Metrics'!$A9,Weekly_Data_Raw[END_DATE],'Weekly Metrics'!J$5)))))))","v":349647},{"$f":"IF($B9=\"Panel Sales\", SUMIFS(Weekly_Data_Raw[PANEL_AMOUNT],Weekly_Data_Raw[TICKER],'Weekly Metrics'!$A9,Weekly_Data_Raw[END_DATE],'Weekly Metrics'!K$5),IF($B9=\"Transactions\",SUMIFS(Weekly_Data_Raw[PANEL_TRANSACTIONS],Weekly_Data_Raw[TICKER],'Weekly Metrics'!$A9,Weekly_Data_Raw[END_DATE],'Weekly Metrics'!K$5), IF($B9=\"Avg Ticket\",SUMIFS(Weekly_Data_Raw[AVG_TICKET],Weekly_Data_Raw[TICKER],'Weekly Metrics'!$A9,Weekly_Data_Raw[END_DATE],'Weekly Metrics'!K$5), IF($B9=\"EOP Subscribers\",SUMIFS(Weekly_Data_Raw[EOP_SUBSCRIBERS],Weekly_Data_Raw[TICKER],'Weekly Metrics'!$A9,Weekly_Data_Raw[END_DATE],'Weekly Metrics'!K$5), IF($B9=\"Gross Adds\",SUMIFS(Weekly_Data_Raw[GROSS_ADDS],Weekly_Data_Raw[TICKER],'Weekly Metrics'!$A9,Weekly_Data_Raw[END_DATE],'Weekly Metrics'!K$5), IF($B9=\"Churn\",SUMIFS(Weekly_Data_Raw[CHURNED_MEMBERS],Weekly_Data_Raw[TICKER],'Weekly Metrics'!$A9,Weekly_Data_Raw[END_DATE],'Weekly Metrics'!K$5)))))))","v":381707},{"$f":"IF($B9=\"Panel Sales\", SUMIFS(Weekly_Data_Raw[PANEL_AMOUNT],Weekly_Data_Raw[TICKER],'Weekly Metrics'!$A9,Weekly_Data_Raw[END_DATE],'Weekly Metrics'!L$5),IF($B9=\"Transactions\",SUMIFS(Weekly_Data_Raw[PANEL_TRANSACTIONS],Weekly_Data_Raw[TICKER],'Weekly Metrics'!$A9,Weekly_Data_Raw[END_DATE],'Weekly Metrics'!L$5), IF($B9=\"Avg Ticket\",SUMIFS(Weekly_Data_Raw[AVG_TICKET],Weekly_Data_Raw[TICKER],'Weekly Metrics'!$A9,Weekly_Data_Raw[END_DATE],'Weekly Metrics'!L$5), IF($B9=\"EOP Subscribers\",SUMIFS(Weekly_Data_Raw[EOP_SUBSCRIBERS],Weekly_Data_Raw[TICKER],'Weekly Metrics'!$A9,Weekly_Data_Raw[END_DATE],'Weekly Metrics'!L$5), IF($B9=\"Gross Adds\",SUMIFS(Weekly_Data_Raw[GROSS_ADDS],Weekly_Data_Raw[TICKER],'Weekly Metrics'!$A9,Weekly_Data_Raw[END_DATE],'Weekly Metrics'!L$5), IF($B9=\"Churn\",SUMIFS(Weekly_Data_Raw[CHURNED_MEMBERS],Weekly_Data_Raw[TICKER],'Weekly Metrics'!$A9,Weekly_Data_Raw[END_DATE],'Weekly Metrics'!L$5)))))))","v":383255},{"$f":"IF($B9=\"Panel Sales\", SUMIFS(Weekly_Data_Raw[PANEL_AMOUNT],Weekly_Data_Raw[TICKER],'Weekly Metrics'!$A9,Weekly_Data_Raw[END_DATE],'Weekly Metrics'!M$5),IF($B9=\"Transactions\",SUMIFS(Weekly_Data_Raw[PANEL_TRANSACTIONS],Weekly_Data_Raw[TICKER],'Weekly Metrics'!$A9,Weekly_Data_Raw[END_DATE],'Weekly Metrics'!M$5), IF($B9=\"Avg Ticket\",SUMIFS(Weekly_Data_Raw[AVG_TICKET],Weekly_Data_Raw[TICKER],'Weekly Metrics'!$A9,Weekly_Data_Raw[END_DATE],'Weekly Metrics'!M$5), IF($B9=\"EOP Subscribers\",SUMIFS(Weekly_Data_Raw[EOP_SUBSCRIBERS],Weekly_Data_Raw[TICKER],'Weekly Metrics'!$A9,Weekly_Data_Raw[END_DATE],'Weekly Metrics'!M$5), IF($B9=\"Gross Adds\",SUMIFS(Weekly_Data_Raw[GROSS_ADDS],Weekly_Data_Raw[TICKER],'Weekly Metrics'!$A9,Weekly_Data_Raw[END_DATE],'Weekly Metrics'!M$5), IF($B9=\"Churn\",SUMIFS(Weekly_Data_Raw[CHURNED_MEMBERS],Weekly_Data_Raw[TICKER],'Weekly Metrics'!$A9,Weekly_Data_Raw[END_DATE],'Weekly Metrics'!M$5)))))))","v":362533},{"$f":"IF($B9=\"Panel Sales\", SUMIFS(Weekly_Data_Raw[PANEL_AMOUNT],Weekly_Data_Raw[TICKER],'Weekly Metrics'!$A9,Weekly_Data_Raw[END_DATE],'Weekly Metrics'!N$5),IF($B9=\"Transactions\",SUMIFS(Weekly_Data_Raw[PANEL_TRANSACTIONS],Weekly_Data_Raw[TICKER],'Weekly Metrics'!$A9,Weekly_Data_Raw[END_DATE],'Weekly Metrics'!N$5), IF($B9=\"Avg Ticket\",SUMIFS(Weekly_Data_Raw[AVG_TICKET],Weekly_Data_Raw[TICKER],'Weekly Metrics'!$A9,Weekly_Data_Raw[END_DATE],'Weekly Metrics'!N$5), IF($B9=\"EOP Subscribers\",SUMIFS(Weekly_Data_Raw[EOP_SUBSCRIBERS],Weekly_Data_Raw[TICKER],'Weekly Metrics'!$A9,Weekly_Data_Raw[END_DATE],'Weekly Metrics'!N$5), IF($B9=\"Gross Adds\",SUMIFS(Weekly_Data_Raw[GROSS_ADDS],Weekly_Data_Raw[TICKER],'Weekly Metrics'!$A9,Weekly_Data_Raw[END_DATE],'Weekly Metrics'!N$5), IF($B9=\"Churn\",SUMIFS(Weekly_Data_Raw[CHURNED_MEMBERS],Weekly_Data_Raw[TICKER],'Weekly Metrics'!$A9,Weekly_Data_Raw[END_DATE],'Weekly Metrics'!N$5)))))))","v":379532},{"$f":"IF($B9=\"Panel Sales\", SUMIFS(Weekly_Data_Raw[PANEL_AMOUNT],Weekly_Data_Raw[TICKER],'Weekly Metrics'!$A9,Weekly_Data_Raw[END_DATE],'Weekly Metrics'!O$5),IF($B9=\"Transactions\",SUMIFS(Weekly_Data_Raw[PANEL_TRANSACTIONS],Weekly_Data_Raw[TICKER],'Weekly Metrics'!$A9,Weekly_Data_Raw[END_DATE],'Weekly Metrics'!O$5), IF($B9=\"Avg Ticket\",SUMIFS(Weekly_Data_Raw[AVG_TICKET],Weekly_Data_Raw[TICKER],'Weekly Metrics'!$A9,Weekly_Data_Raw[END_DATE],'Weekly Metrics'!O$5), IF($B9=\"EOP Subscribers\",SUMIFS(Weekly_Data_Raw[EOP_SUBSCRIBERS],Weekly_Data_Raw[TICKER],'Weekly Metrics'!$A9,Weekly_Data_Raw[END_DATE],'Weekly Metrics'!O$5), IF($B9=\"Gross Adds\",SUMIFS(Weekly_Data_Raw[GROSS_ADDS],Weekly_Data_Raw[TICKER],'Weekly Metrics'!$A9,Weekly_Data_Raw[END_DATE],'Weekly Metrics'!O$5), IF($B9=\"Churn\",SUMIFS(Weekly_Data_Raw[CHURNED_MEMBERS],Weekly_Data_Raw[TICKER],'Weekly Metrics'!$A9,Weekly_Data_Raw[END_DATE],'Weekly Metrics'!O$5)))))))","v":369707},{"$f":"IF($B9=\"Panel Sales\", SUMIFS(Weekly_Data_Raw[PANEL_AMOUNT],Weekly_Data_Raw[TICKER],'Weekly Metrics'!$A9,Weekly_Data_Raw[END_DATE],'Weekly Metrics'!P$5),IF($B9=\"Transactions\",SUMIFS(Weekly_Data_Raw[PANEL_TRANSACTIONS],Weekly_Data_Raw[TICKER],'Weekly Metrics'!$A9,Weekly_Data_Raw[END_DATE],'Weekly Metrics'!P$5), IF($B9=\"Avg Ticket\",SUMIFS(Weekly_Data_Raw[AVG_TICKET],Weekly_Data_Raw[TICKER],'Weekly Metrics'!$A9,Weekly_Data_Raw[END_DATE],'Weekly Metrics'!P$5), IF($B9=\"EOP Subscribers\",SUMIFS(Weekly_Data_Raw[EOP_SUBSCRIBERS],Weekly_Data_Raw[TICKER],'Weekly Metrics'!$A9,Weekly_Data_Raw[END_DATE],'Weekly Metrics'!P$5), IF($B9=\"Gross Adds\",SUMIFS(Weekly_Data_Raw[GROSS_ADDS],Weekly_Data_Raw[TICKER],'Weekly Metrics'!$A9,Weekly_Data_Raw[END_DATE],'Weekly Metrics'!P$5), IF($B9=\"Churn\",SUMIFS(Weekly_Data_Raw[CHURNED_MEMBERS],Weekly_Data_Raw[TICKER],'Weekly Metrics'!$A9,Weekly_Data_Raw[END_DATE],'Weekly Metrics'!P$5)))))))","v":393133},{"$f":"IF($B9=\"Panel Sales\", SUMIFS(Weekly_Data_Raw[PANEL_AMOUNT],Weekly_Data_Raw[TICKER],'Weekly Metrics'!$A9,Weekly_Data_Raw[END_DATE],'Weekly Metrics'!Q$5),IF($B9=\"Transactions\",SUMIFS(Weekly_Data_Raw[PANEL_TRANSACTIONS],Weekly_Data_Raw[TICKER],'Weekly Metrics'!$A9,Weekly_Data_Raw[END_DATE],'Weekly Metrics'!Q$5), IF($B9=\"Avg Ticket\",SUMIFS(Weekly_Data_Raw[AVG_TICKET],Weekly_Data_Raw[TICKER],'Weekly Metrics'!$A9,Weekly_Data_Raw[END_DATE],'Weekly Metrics'!Q$5), IF($B9=\"EOP Subscribers\",SUMIFS(Weekly_Data_Raw[EOP_SUBSCRIBERS],Weekly_Data_Raw[TICKER],'Weekly Metrics'!$A9,Weekly_Data_Raw[END_DATE],'Weekly Metrics'!Q$5), IF($B9=\"Gross Adds\",SUMIFS(Weekly_Data_Raw[GROSS_ADDS],Weekly_Data_Raw[TICKER],'Weekly Metrics'!$A9,Weekly_Data_Raw[END_DATE],'Weekly Metrics'!Q$5), IF($B9=\"Churn\",SUMIFS(Weekly_Data_Raw[CHURNED_MEMBERS],Weekly_Data_Raw[TICKER],'Weekly Metrics'!$A9,Weekly_Data_Raw[END_DATE],'Weekly Metrics'!Q$5)))))))","v":369090},{"$f":"IF($B9=\"Panel Sales\", SUMIFS(Weekly_Data_Raw[PANEL_AMOUNT],Weekly_Data_Raw[TICKER],'Weekly Metrics'!$A9,Weekly_Data_Raw[END_DATE],'Weekly Metrics'!R$5),IF($B9=\"Transactions\",SUMIFS(Weekly_Data_Raw[PANEL_TRANSACTIONS],Weekly_Data_Raw[TICKER],'Weekly Metrics'!$A9,Weekly_Data_Raw[END_DATE],'Weekly Metrics'!R$5), IF($B9=\"Avg Ticket\",SUMIFS(Weekly_Data_Raw[AVG_TICKET],Weekly_Data_Raw[TICKER],'Weekly Metrics'!$A9,Weekly_Data_Raw[END_DATE],'Weekly Metrics'!R$5), IF($B9=\"EOP Subscribers\",SUMIFS(Weekly_Data_Raw[EOP_SUBSCRIBERS],Weekly_Data_Raw[TICKER],'Weekly Metrics'!$A9,Weekly_Data_Raw[END_DATE],'Weekly Metrics'!R$5), IF($B9=\"Gross Adds\",SUMIFS(Weekly_Data_Raw[GROSS_ADDS],Weekly_Data_Raw[TICKER],'Weekly Metrics'!$A9,Weekly_Data_Raw[END_DATE],'Weekly Metrics'!R$5), IF($B9=\"Churn\",SUMIFS(Weekly_Data_Raw[CHURNED_MEMBERS],Weekly_Data_Raw[TICKER],'Weekly Metrics'!$A9,Weekly_Data_Raw[END_DATE],'Weekly Metrics'!R$5)))))))","v":370793},{"$f":"IF($B9=\"Panel Sales\", SUMIFS(Weekly_Data_Raw[PANEL_AMOUNT],Weekly_Data_Raw[TICKER],'Weekly Metrics'!$A9,Weekly_Data_Raw[END_DATE],'Weekly Metrics'!S$5),IF($B9=\"Transactions\",SUMIFS(Weekly_Data_Raw[PANEL_TRANSACTIONS],Weekly_Data_Raw[TICKER],'Weekly Metrics'!$A9,Weekly_Data_Raw[END_DATE],'Weekly Metrics'!S$5), IF($B9=\"Avg Ticket\",SUMIFS(Weekly_Data_Raw[AVG_TICKET],Weekly_Data_Raw[TICKER],'Weekly Metrics'!$A9,Weekly_Data_Raw[END_DATE],'Weekly Metrics'!S$5), IF($B9=\"EOP Subscribers\",SUMIFS(Weekly_Data_Raw[EOP_SUBSCRIBERS],Weekly_Data_Raw[TICKER],'Weekly Metrics'!$A9,Weekly_Data_Raw[END_DATE],'Weekly Metrics'!S$5), IF($B9=\"Gross Adds\",SUMIFS(Weekly_Data_Raw[GROSS_ADDS],Weekly_Data_Raw[TICKER],'Weekly Metrics'!$A9,Weekly_Data_Raw[END_DATE],'Weekly Metrics'!S$5), IF($B9=\"Churn\",SUMIFS(Weekly_Data_Raw[CHURNED_MEMBERS],Weekly_Data_Raw[TICKER],'Weekly Metrics'!$A9,Weekly_Data_Raw[END_DATE],'Weekly Metrics'!S$5)))))))","v":360295},{"$f":"IF($B9=\"Panel Sales\", SUMIFS(Weekly_Data_Raw[PANEL_AMOUNT],Weekly_Data_Raw[TICKER],'Weekly Metrics'!$A9,Weekly_Data_Raw[END_DATE],'Weekly Metrics'!T$5),IF($B9=\"Transactions\",SUMIFS(Weekly_Data_Raw[PANEL_TRANSACTIONS],Weekly_Data_Raw[TICKER],'Weekly Metrics'!$A9,Weekly_Data_Raw[END_DATE],'Weekly Metrics'!T$5), IF($B9=\"Avg Ticket\",SUMIFS(Weekly_Data_Raw[AVG_TICKET],Weekly_Data_Raw[TICKER],'Weekly Metrics'!$A9,Weekly_Data_Raw[END_DATE],'Weekly Metrics'!T$5), IF($B9=\"EOP Subscribers\",SUMIFS(Weekly_Data_Raw[EOP_SUBSCRIBERS],Weekly_Data_Raw[TICKER],'Weekly Metrics'!$A9,Weekly_Data_Raw[END_DATE],'Weekly Metrics'!T$5), IF($B9=\"Gross Adds\",SUMIFS(Weekly_Data_Raw[GROSS_ADDS],Weekly_Data_Raw[TICKER],'Weekly Metrics'!$A9,Weekly_Data_Raw[END_DATE],'Weekly Metrics'!T$5), IF($B9=\"Churn\",SUMIFS(Weekly_Data_Raw[CHURNED_MEMBERS],Weekly_Data_Raw[TICKER],'Weekly Metrics'!$A9,Weekly_Data_Raw[END_DATE],'Weekly Metrics'!T$5)))))))","v":407959},{"$f":"IF($B9=\"Panel Sales\", SUMIFS(Weekly_Data_Raw[PANEL_AMOUNT],Weekly_Data_Raw[TICKER],'Weekly Metrics'!$A9,Weekly_Data_Raw[END_DATE],'Weekly Metrics'!U$5),IF($B9=\"Transactions\",SUMIFS(Weekly_Data_Raw[PANEL_TRANSACTIONS],Weekly_Data_Raw[TICKER],'Weekly Metrics'!$A9,Weekly_Data_Raw[END_DATE],'Weekly Metrics'!U$5), IF($B9=\"Avg Ticket\",SUMIFS(Weekly_Data_Raw[AVG_TICKET],Weekly_Data_Raw[TICKER],'Weekly Metrics'!$A9,Weekly_Data_Raw[END_DATE],'Weekly Metrics'!U$5), IF($B9=\"EOP Subscribers\",SUMIFS(Weekly_Data_Raw[EOP_SUBSCRIBERS],Weekly_Data_Raw[TICKER],'Weekly Metrics'!$A9,Weekly_Data_Raw[END_DATE],'Weekly Metrics'!U$5), IF($B9=\"Gross Adds\",SUMIFS(Weekly_Data_Raw[GROSS_ADDS],Weekly_Data_Raw[TICKER],'Weekly Metrics'!$A9,Weekly_Data_Raw[END_DATE],'Weekly Metrics'!U$5), IF($B9=\"Churn\",SUMIFS(Weekly_Data_Raw[CHURNED_MEMBERS],Weekly_Data_Raw[TICKER],'Weekly Metrics'!$A9,Weekly_Data_Raw[END_DATE],'Weekly Metrics'!U$5)))))))","v":381650},{"$f":"IF($B9=\"Panel Sales\", SUMIFS(Weekly_Data_Raw[PANEL_AMOUNT],Weekly_Data_Raw[TICKER],'Weekly Metrics'!$A9,Weekly_Data_Raw[END_DATE],'Weekly Metrics'!V$5),IF($B9=\"Transactions\",SUMIFS(Weekly_Data_Raw[PANEL_TRANSACTIONS],Weekly_Data_Raw[TICKER],'Weekly Metrics'!$A9,Weekly_Data_Raw[END_DATE],'Weekly Metrics'!V$5), IF($B9=\"Avg Ticket\",SUMIFS(Weekly_Data_Raw[AVG_TICKET],Weekly_Data_Raw[TICKER],'Weekly Metrics'!$A9,Weekly_Data_Raw[END_DATE],'Weekly Metrics'!V$5), IF($B9=\"EOP Subscribers\",SUMIFS(Weekly_Data_Raw[EOP_SUBSCRIBERS],Weekly_Data_Raw[TICKER],'Weekly Metrics'!$A9,Weekly_Data_Raw[END_DATE],'Weekly Metrics'!V$5), IF($B9=\"Gross Adds\",SUMIFS(Weekly_Data_Raw[GROSS_ADDS],Weekly_Data_Raw[TICKER],'Weekly Metrics'!$A9,Weekly_Data_Raw[END_DATE],'Weekly Metrics'!V$5), IF($B9=\"Churn\",SUMIFS(Weekly_Data_Raw[CHURNED_MEMBERS],Weekly_Data_Raw[TICKER],'Weekly Metrics'!$A9,Weekly_Data_Raw[END_DATE],'Weekly Metrics'!V$5)))))))","v":365741},{"$f":"IF($B9=\"Panel Sales\", SUMIFS(Weekly_Data_Raw[PANEL_AMOUNT],Weekly_Data_Raw[TICKER],'Weekly Metrics'!$A9,Weekly_Data_Raw[END_DATE],'Weekly Metrics'!W$5),IF($B9=\"Transactions\",SUMIFS(Weekly_Data_Raw[PANEL_TRANSACTIONS],Weekly_Data_Raw[TICKER],'Weekly Metrics'!$A9,Weekly_Data_Raw[END_DATE],'Weekly Metrics'!W$5), IF($B9=\"Avg Ticket\",SUMIFS(Weekly_Data_Raw[AVG_TICKET],Weekly_Data_Raw[TICKER],'Weekly Metrics'!$A9,Weekly_Data_Raw[END_DATE],'Weekly Metrics'!W$5), IF($B9=\"EOP Subscribers\",SUMIFS(Weekly_Data_Raw[EOP_SUBSCRIBERS],Weekly_Data_Raw[TICKER],'Weekly Metrics'!$A9,Weekly_Data_Raw[END_DATE],'Weekly Metrics'!W$5), IF($B9=\"Gross Adds\",SUMIFS(Weekly_Data_Raw[GROSS_ADDS],Weekly_Data_Raw[TICKER],'Weekly Metrics'!$A9,Weekly_Data_Raw[END_DATE],'Weekly Metrics'!W$5), IF($B9=\"Churn\",SUMIFS(Weekly_Data_Raw[CHURNED_MEMBERS],Weekly_Data_Raw[TICKER],'Weekly Metrics'!$A9,Weekly_Data_Raw[END_DATE],'Weekly Metrics'!W$5)))))))","v":355700},{"$f":"IF($B9=\"Panel Sales\", SUMIFS(Weekly_Data_Raw[PANEL_AMOUNT],Weekly_Data_Raw[TICKER],'Weekly Metrics'!$A9,Weekly_Data_Raw[END_DATE],'Weekly Metrics'!X$5),IF($B9=\"Transactions\",SUMIFS(Weekly_Data_Raw[PANEL_TRANSACTIONS],Weekly_Data_Raw[TICKER],'Weekly Metrics'!$A9,Weekly_Data_Raw[END_DATE],'Weekly Metrics'!X$5), IF($B9=\"Avg Ticket\",SUMIFS(Weekly_Data_Raw[AVG_TICKET],Weekly_Data_Raw[TICKER],'Weekly Metrics'!$A9,Weekly_Data_Raw[END_DATE],'Weekly Metrics'!X$5), IF($B9=\"EOP Subscribers\",SUMIFS(Weekly_Data_Raw[EOP_SUBSCRIBERS],Weekly_Data_Raw[TICKER],'Weekly Metrics'!$A9,Weekly_Data_Raw[END_DATE],'Weekly Metrics'!X$5), IF($B9=\"Gross Adds\",SUMIFS(Weekly_Data_Raw[GROSS_ADDS],Weekly_Data_Raw[TICKER],'Weekly Metrics'!$A9,Weekly_Data_Raw[END_DATE],'Weekly Metrics'!X$5), IF($B9=\"Churn\",SUMIFS(Weekly_Data_Raw[CHURNED_MEMBERS],Weekly_Data_Raw[TICKER],'Weekly Metrics'!$A9,Weekly_Data_Raw[END_DATE],'Weekly Metrics'!X$5)))))))","v":362228},{"$f":"IF($B9=\"Panel Sales\", SUMIFS(Weekly_Data_Raw[PANEL_AMOUNT],Weekly_Data_Raw[TICKER],'Weekly Metrics'!$A9,Weekly_Data_Raw[END_DATE],'Weekly Metrics'!Y$5),IF($B9=\"Transactions\",SUMIFS(Weekly_Data_Raw[PANEL_TRANSACTIONS],Weekly_Data_Raw[TICKER],'Weekly Metrics'!$A9,Weekly_Data_Raw[END_DATE],'Weekly Metrics'!Y$5), IF($B9=\"Avg Ticket\",SUMIFS(Weekly_Data_Raw[AVG_TICKET],Weekly_Data_Raw[TICKER],'Weekly Metrics'!$A9,Weekly_Data_Raw[END_DATE],'Weekly Metrics'!Y$5), IF($B9=\"EOP Subscribers\",SUMIFS(Weekly_Data_Raw[EOP_SUBSCRIBERS],Weekly_Data_Raw[TICKER],'Weekly Metrics'!$A9,Weekly_Data_Raw[END_DATE],'Weekly Metrics'!Y$5), IF($B9=\"Gross Adds\",SUMIFS(Weekly_Data_Raw[GROSS_ADDS],Weekly_Data_Raw[TICKER],'Weekly Metrics'!$A9,Weekly_Data_Raw[END_DATE],'Weekly Metrics'!Y$5), IF($B9=\"Churn\",SUMIFS(Weekly_Data_Raw[CHURNED_MEMBERS],Weekly_Data_Raw[TICKER],'Weekly Metrics'!$A9,Weekly_Data_Raw[END_DATE],'Weekly Metrics'!Y$5)))))))","v":391614},{"$f":"IF($B9=\"Panel Sales\", SUMIFS(Weekly_Data_Raw[PANEL_AMOUNT],Weekly_Data_Raw[TICKER],'Weekly Metrics'!$A9,Weekly_Data_Raw[END_DATE],'Weekly Metrics'!Z$5),IF($B9=\"Transactions\",SUMIFS(Weekly_Data_Raw[PANEL_TRANSACTIONS],Weekly_Data_Raw[TICKER],'Weekly Metrics'!$A9,Weekly_Data_Raw[END_DATE],'Weekly Metrics'!Z$5), IF($B9=\"Avg Ticket\",SUMIFS(Weekly_Data_Raw[AVG_TICKET],Weekly_Data_Raw[TICKER],'Weekly Metrics'!$A9,Weekly_Data_Raw[END_DATE],'Weekly Metrics'!Z$5), IF($B9=\"EOP Subscribers\",SUMIFS(Weekly_Data_Raw[EOP_SUBSCRIBERS],Weekly_Data_Raw[TICKER],'Weekly Metrics'!$A9,Weekly_Data_Raw[END_DATE],'Weekly Metrics'!Z$5), IF($B9=\"Gross Adds\",SUMIFS(Weekly_Data_Raw[GROSS_ADDS],Weekly_Data_Raw[TICKER],'Weekly Metrics'!$A9,Weekly_Data_Raw[END_DATE],'Weekly Metrics'!Z$5), IF($B9=\"Churn\",SUMIFS(Weekly_Data_Raw[CHURNED_MEMBERS],Weekly_Data_Raw[TICKER],'Weekly Metrics'!$A9,Weekly_Data_Raw[END_DATE],'Weekly Metrics'!Z$5)))))))","v":369313},{"$f":"IF($B9=\"Panel Sales\", SUMIFS(Weekly_Data_Raw[PANEL_AMOUNT],Weekly_Data_Raw[TICKER],'Weekly Metrics'!$A9,Weekly_Data_Raw[END_DATE],'Weekly Metrics'!AA$5),IF($B9=\"Transactions\",SUMIFS(Weekly_Data_Raw[PANEL_TRANSACTIONS],Weekly_Data_Raw[TICKER],'Weekly Metrics'!$A9,Weekly_Data_Raw[END_DATE],'Weekly Metrics'!AA$5), IF($B9=\"Avg Ticket\",SUMIFS(Weekly_Data_Raw[AVG_TICKET],Weekly_Data_Raw[TICKER],'Weekly Metrics'!$A9,Weekly_Data_Raw[END_DATE],'Weekly Metrics'!AA$5), IF($B9=\"EOP Subscribers\",SUMIFS(Weekly_Data_Raw[EOP_SUBSCRIBERS],Weekly_Data_Raw[TICKER],'Weekly Metrics'!$A9,Weekly_Data_Raw[END_DATE],'Weekly Metrics'!AA$5), IF($B9=\"Gross Adds\",SUMIFS(Weekly_Data_Raw[GROSS_ADDS],Weekly_Data_Raw[TICKER],'Weekly Metrics'!$A9,Weekly_Data_Raw[END_DATE],'Weekly Metrics'!AA$5), IF($B9=\"Churn\",SUMIFS(Weekly_Data_Raw[CHURNED_MEMBERS],Weekly_Data_Raw[TICKER],'Weekly Metrics'!$A9,Weekly_Data_Raw[END_DATE],'Weekly Metrics'!AA$5)))))))","v":364897},{"$f":"IF($B9=\"Panel Sales\", SUMIFS(Weekly_Data_Raw[PANEL_AMOUNT],Weekly_Data_Raw[TICKER],'Weekly Metrics'!$A9,Weekly_Data_Raw[END_DATE],'Weekly Metrics'!AB$5),IF($B9=\"Transactions\",SUMIFS(Weekly_Data_Raw[PANEL_TRANSACTIONS],Weekly_Data_Raw[TICKER],'Weekly Metrics'!$A9,Weekly_Data_Raw[END_DATE],'Weekly Metrics'!AB$5), IF($B9=\"Avg Ticket\",SUMIFS(Weekly_Data_Raw[AVG_TICKET],Weekly_Data_Raw[TICKER],'Weekly Metrics'!$A9,Weekly_Data_Raw[END_DATE],'Weekly Metrics'!AB$5), IF($B9=\"EOP Subscribers\",SUMIFS(Weekly_Data_Raw[EOP_SUBSCRIBERS],Weekly_Data_Raw[TICKER],'Weekly Metrics'!$A9,Weekly_Data_Raw[END_DATE],'Weekly Metrics'!AB$5), IF($B9=\"Gross Adds\",SUMIFS(Weekly_Data_Raw[GROSS_ADDS],Weekly_Data_Raw[TICKER],'Weekly Metrics'!$A9,Weekly_Data_Raw[END_DATE],'Weekly Metrics'!AB$5), IF($B9=\"Churn\",SUMIFS(Weekly_Data_Raw[CHURNED_MEMBERS],Weekly_Data_Raw[TICKER],'Weekly Metrics'!$A9,Weekly_Data_Raw[END_DATE],'Weekly Metrics'!AB$5)))))))","v":367027},{"$f":"IF($B9=\"Panel Sales\", SUMIFS(Weekly_Data_Raw[PANEL_AMOUNT],Weekly_Data_Raw[TICKER],'Weekly Metrics'!$A9,Weekly_Data_Raw[END_DATE],'Weekly Metrics'!AC$5),IF($B9=\"Transactions\",SUMIFS(Weekly_Data_Raw[PANEL_TRANSACTIONS],Weekly_Data_Raw[TICKER],'Weekly Metrics'!$A9,Weekly_Data_Raw[END_DATE],'Weekly Metrics'!AC$5), IF($B9=\"Avg Ticket\",SUMIFS(Weekly_Data_Raw[AVG_TICKET],Weekly_Data_Raw[TICKER],'Weekly Metrics'!$A9,Weekly_Data_Raw[END_DATE],'Weekly Metrics'!AC$5), IF($B9=\"EOP Subscribers\",SUMIFS(Weekly_Data_Raw[EOP_SUBSCRIBERS],Weekly_Data_Raw[TICKER],'Weekly Metrics'!$A9,Weekly_Data_Raw[END_DATE],'Weekly Metrics'!AC$5), IF($B9=\"Gross Adds\",SUMIFS(Weekly_Data_Raw[GROSS_ADDS],Weekly_Data_Raw[TICKER],'Weekly Metrics'!$A9,Weekly_Data_Raw[END_DATE],'Weekly Metrics'!AC$5), IF($B9=\"Churn\",SUMIFS(Weekly_Data_Raw[CHURNED_MEMBERS],Weekly_Data_Raw[TICKER],'Weekly Metrics'!$A9,Weekly_Data_Raw[END_DATE],'Weekly Metrics'!AC$5)))))))","v":399579},{"$f":"IF($B9=\"Panel Sales\", SUMIFS(Weekly_Data_Raw[PANEL_AMOUNT],Weekly_Data_Raw[TICKER],'Weekly Metrics'!$A9,Weekly_Data_Raw[END_DATE],'Weekly Metrics'!AD$5),IF($B9=\"Transactions\",SUMIFS(Weekly_Data_Raw[PANEL_TRANSACTIONS],Weekly_Data_Raw[TICKER],'Weekly Metrics'!$A9,Weekly_Data_Raw[END_DATE],'Weekly Metrics'!AD$5), IF($B9=\"Avg Ticket\",SUMIFS(Weekly_Data_Raw[AVG_TICKET],Weekly_Data_Raw[TICKER],'Weekly Metrics'!$A9,Weekly_Data_Raw[END_DATE],'Weekly Metrics'!AD$5), IF($B9=\"EOP Subscribers\",SUMIFS(Weekly_Data_Raw[EOP_SUBSCRIBERS],Weekly_Data_Raw[TICKER],'Weekly Metrics'!$A9,Weekly_Data_Raw[END_DATE],'Weekly Metrics'!AD$5), IF($B9=\"Gross Adds\",SUMIFS(Weekly_Data_Raw[GROSS_ADDS],Weekly_Data_Raw[TICKER],'Weekly Metrics'!$A9,Weekly_Data_Raw[END_DATE],'Weekly Metrics'!AD$5), IF($B9=\"Churn\",SUMIFS(Weekly_Data_Raw[CHURNED_MEMBERS],Weekly_Data_Raw[TICKER],'Weekly Metrics'!$A9,Weekly_Data_Raw[END_DATE],'Weekly Metrics'!AD$5)))))))","v":361242},{"$f":"IF($B9=\"Panel Sales\", SUMIFS(Weekly_Data_Raw[PANEL_AMOUNT],Weekly_Data_Raw[TICKER],'Weekly Metrics'!$A9,Weekly_Data_Raw[END_DATE],'Weekly Metrics'!AE$5),IF($B9=\"Transactions\",SUMIFS(Weekly_Data_Raw[PANEL_TRANSACTIONS],Weekly_Data_Raw[TICKER],'Weekly Metrics'!$A9,Weekly_Data_Raw[END_DATE],'Weekly Metrics'!AE$5), IF($B9=\"Avg Ticket\",SUMIFS(Weekly_Data_Raw[AVG_TICKET],Weekly_Data_Raw[TICKER],'Weekly Metrics'!$A9,Weekly_Data_Raw[END_DATE],'Weekly Metrics'!AE$5), IF($B9=\"EOP Subscribers\",SUMIFS(Weekly_Data_Raw[EOP_SUBSCRIBERS],Weekly_Data_Raw[TICKER],'Weekly Metrics'!$A9,Weekly_Data_Raw[END_DATE],'Weekly Metrics'!AE$5), IF($B9=\"Gross Adds\",SUMIFS(Weekly_Data_Raw[GROSS_ADDS],Weekly_Data_Raw[TICKER],'Weekly Metrics'!$A9,Weekly_Data_Raw[END_DATE],'Weekly Metrics'!AE$5), IF($B9=\"Churn\",SUMIFS(Weekly_Data_Raw[CHURNED_MEMBERS],Weekly_Data_Raw[TICKER],'Weekly Metrics'!$A9,Weekly_Data_Raw[END_DATE],'Weekly Metrics'!AE$5)))))))","v":382354},{"$f":"IF($B9=\"Panel Sales\", SUMIFS(Weekly_Data_Raw[PANEL_AMOUNT],Weekly_Data_Raw[TICKER],'Weekly Metrics'!$A9,Weekly_Data_Raw[END_DATE],'Weekly Metrics'!AF$5),IF($B9=\"Transactions\",SUMIFS(Weekly_Data_Raw[PANEL_TRANSACTIONS],Weekly_Data_Raw[TICKER],'Weekly Metrics'!$A9,Weekly_Data_Raw[END_DATE],'Weekly Metrics'!AF$5), IF($B9=\"Avg Ticket\",SUMIFS(Weekly_Data_Raw[AVG_TICKET],Weekly_Data_Raw[TICKER],'Weekly Metrics'!$A9,Weekly_Data_Raw[END_DATE],'Weekly Metrics'!AF$5), IF($B9=\"EOP Subscribers\",SUMIFS(Weekly_Data_Raw[EOP_SUBSCRIBERS],Weekly_Data_Raw[TICKER],'Weekly Metrics'!$A9,Weekly_Data_Raw[END_DATE],'Weekly Metrics'!AF$5), IF($B9=\"Gross Adds\",SUMIFS(Weekly_Data_Raw[GROSS_ADDS],Weekly_Data_Raw[TICKER],'Weekly Metrics'!$A9,Weekly_Data_Raw[END_DATE],'Weekly Metrics'!AF$5), IF($B9=\"Churn\",SUMIFS(Weekly_Data_Raw[CHURNED_MEMBERS],Weekly_Data_Raw[TICKER],'Weekly Metrics'!$A9,Weekly_Data_Raw[END_DATE],'Weekly Metrics'!AF$5)))))))","v":375650},{"$f":"IF($B9=\"Panel Sales\", SUMIFS(Weekly_Data_Raw[PANEL_AMOUNT],Weekly_Data_Raw[TICKER],'Weekly Metrics'!$A9,Weekly_Data_Raw[END_DATE],'Weekly Metrics'!AG$5),IF($B9=\"Transactions\",SUMIFS(Weekly_Data_Raw[PANEL_TRANSACTIONS],Weekly_Data_Raw[TICKER],'Weekly Metrics'!$A9,Weekly_Data_Raw[END_DATE],'Weekly Metrics'!AG$5), IF($B9=\"Avg Ticket\",SUMIFS(Weekly_Data_Raw[AVG_TICKET],Weekly_Data_Raw[TICKER],'Weekly Metrics'!$A9,Weekly_Data_Raw[END_DATE],'Weekly Metrics'!AG$5), IF($B9=\"EOP Subscribers\",SUMIFS(Weekly_Data_Raw[EOP_SUBSCRIBERS],Weekly_Data_Raw[TICKER],'Weekly Metrics'!$A9,Weekly_Data_Raw[END_DATE],'Weekly Metrics'!AG$5), IF($B9=\"Gross Adds\",SUMIFS(Weekly_Data_Raw[GROSS_ADDS],Weekly_Data_Raw[TICKER],'Weekly Metrics'!$A9,Weekly_Data_Raw[END_DATE],'Weekly Metrics'!AG$5), IF($B9=\"Churn\",SUMIFS(Weekly_Data_Raw[CHURNED_MEMBERS],Weekly_Data_Raw[TICKER],'Weekly Metrics'!$A9,Weekly_Data_Raw[END_DATE],'Weekly Metrics'!AG$5)))))))","v":401585},{"$f":"IF($B9=\"Panel Sales\", SUMIFS(Weekly_Data_Raw[PANEL_AMOUNT],Weekly_Data_Raw[TICKER],'Weekly Metrics'!$A9,Weekly_Data_Raw[END_DATE],'Weekly Metrics'!AH$5),IF($B9=\"Transactions\",SUMIFS(Weekly_Data_Raw[PANEL_TRANSACTIONS],Weekly_Data_Raw[TICKER],'Weekly Metrics'!$A9,Weekly_Data_Raw[END_DATE],'Weekly Metrics'!AH$5), IF($B9=\"Avg Ticket\",SUMIFS(Weekly_Data_Raw[AVG_TICKET],Weekly_Data_Raw[TICKER],'Weekly Metrics'!$A9,Weekly_Data_Raw[END_DATE],'Weekly Metrics'!AH$5), IF($B9=\"EOP Subscribers\",SUMIFS(Weekly_Data_Raw[EOP_SUBSCRIBERS],Weekly_Data_Raw[TICKER],'Weekly Metrics'!$A9,Weekly_Data_Raw[END_DATE],'Weekly Metrics'!AH$5), IF($B9=\"Gross Adds\",SUMIFS(Weekly_Data_Raw[GROSS_ADDS],Weekly_Data_Raw[TICKER],'Weekly Metrics'!$A9,Weekly_Data_Raw[END_DATE],'Weekly Metrics'!AH$5), IF($B9=\"Churn\",SUMIFS(Weekly_Data_Raw[CHURNED_MEMBERS],Weekly_Data_Raw[TICKER],'Weekly Metrics'!$A9,Weekly_Data_Raw[END_DATE],'Weekly Metrics'!AH$5)))))))","v":391788},{"$f":"IF($B9=\"Panel Sales\", SUMIFS(Weekly_Data_Raw[PANEL_AMOUNT],Weekly_Data_Raw[TICKER],'Weekly Metrics'!$A9,Weekly_Data_Raw[END_DATE],'Weekly Metrics'!AI$5),IF($B9=\"Transactions\",SUMIFS(Weekly_Data_Raw[PANEL_TRANSACTIONS],Weekly_Data_Raw[TICKER],'Weekly Metrics'!$A9,Weekly_Data_Raw[END_DATE],'Weekly Metrics'!AI$5), IF($B9=\"Avg Ticket\",SUMIFS(Weekly_Data_Raw[AVG_TICKET],Weekly_Data_Raw[TICKER],'Weekly Metrics'!$A9,Weekly_Data_Raw[END_DATE],'Weekly Metrics'!AI$5), IF($B9=\"EOP Subscribers\",SUMIFS(Weekly_Data_Raw[EOP_SUBSCRIBERS],Weekly_Data_Raw[TICKER],'Weekly Metrics'!$A9,Weekly_Data_Raw[END_DATE],'Weekly Metrics'!AI$5), IF($B9=\"Gross Adds\",SUMIFS(Weekly_Data_Raw[GROSS_ADDS],Weekly_Data_Raw[TICKER],'Weekly Metrics'!$A9,Weekly_Data_Raw[END_DATE],'Weekly Metrics'!AI$5), IF($B9=\"Churn\",SUMIFS(Weekly_Data_Raw[CHURNED_MEMBERS],Weekly_Data_Raw[TICKER],'Weekly Metrics'!$A9,Weekly_Data_Raw[END_DATE],'Weekly Metrics'!AI$5)))))))","v":385961},{"$f":"IF($B9=\"Panel Sales\", SUMIFS(Weekly_Data_Raw[PANEL_AMOUNT],Weekly_Data_Raw[TICKER],'Weekly Metrics'!$A9,Weekly_Data_Raw[END_DATE],'Weekly Metrics'!AJ$5),IF($B9=\"Transactions\",SUMIFS(Weekly_Data_Raw[PANEL_TRANSACTIONS],Weekly_Data_Raw[TICKER],'Weekly Metrics'!$A9,Weekly_Data_Raw[END_DATE],'Weekly Metrics'!AJ$5), IF($B9=\"Avg Ticket\",SUMIFS(Weekly_Data_Raw[AVG_TICKET],Weekly_Data_Raw[TICKER],'Weekly Metrics'!$A9,Weekly_Data_Raw[END_DATE],'Weekly Metrics'!AJ$5), IF($B9=\"EOP Subscribers\",SUMIFS(Weekly_Data_Raw[EOP_SUBSCRIBERS],Weekly_Data_Raw[TICKER],'Weekly Metrics'!$A9,Weekly_Data_Raw[END_DATE],'Weekly Metrics'!AJ$5), IF($B9=\"Gross Adds\",SUMIFS(Weekly_Data_Raw[GROSS_ADDS],Weekly_Data_Raw[TICKER],'Weekly Metrics'!$A9,Weekly_Data_Raw[END_DATE],'Weekly Metrics'!AJ$5), IF($B9=\"Churn\",SUMIFS(Weekly_Data_Raw[CHURNED_MEMBERS],Weekly_Data_Raw[TICKER],'Weekly Metrics'!$A9,Weekly_Data_Raw[END_DATE],'Weekly Metrics'!AJ$5)))))))","v":385917},{"$f":"IF($B9=\"Panel Sales\", SUMIFS(Weekly_Data_Raw[PANEL_AMOUNT],Weekly_Data_Raw[TICKER],'Weekly Metrics'!$A9,Weekly_Data_Raw[END_DATE],'Weekly Metrics'!AK$5),IF($B9=\"Transactions\",SUMIFS(Weekly_Data_Raw[PANEL_TRANSACTIONS],Weekly_Data_Raw[TICKER],'Weekly Metrics'!$A9,Weekly_Data_Raw[END_DATE],'Weekly Metrics'!AK$5), IF($B9=\"Avg Ticket\",SUMIFS(Weekly_Data_Raw[AVG_TICKET],Weekly_Data_Raw[TICKER],'Weekly Metrics'!$A9,Weekly_Data_Raw[END_DATE],'Weekly Metrics'!AK$5), IF($B9=\"EOP Subscribers\",SUMIFS(Weekly_Data_Raw[EOP_SUBSCRIBERS],Weekly_Data_Raw[TICKER],'Weekly Metrics'!$A9,Weekly_Data_Raw[END_DATE],'Weekly Metrics'!AK$5), IF($B9=\"Gross Adds\",SUMIFS(Weekly_Data_Raw[GROSS_ADDS],Weekly_Data_Raw[TICKER],'Weekly Metrics'!$A9,Weekly_Data_Raw[END_DATE],'Weekly Metrics'!AK$5), IF($B9=\"Churn\",SUMIFS(Weekly_Data_Raw[CHURNED_MEMBERS],Weekly_Data_Raw[TICKER],'Weekly Metrics'!$A9,Weekly_Data_Raw[END_DATE],'Weekly Metrics'!AK$5)))))))","v":399835},{"$f":"IF($B9=\"Panel Sales\", SUMIFS(Weekly_Data_Raw[PANEL_AMOUNT],Weekly_Data_Raw[TICKER],'Weekly Metrics'!$A9,Weekly_Data_Raw[END_DATE],'Weekly Metrics'!AL$5),IF($B9=\"Transactions\",SUMIFS(Weekly_Data_Raw[PANEL_TRANSACTIONS],Weekly_Data_Raw[TICKER],'Weekly Metrics'!$A9,Weekly_Data_Raw[END_DATE],'Weekly Metrics'!AL$5), IF($B9=\"Avg Ticket\",SUMIFS(Weekly_Data_Raw[AVG_TICKET],Weekly_Data_Raw[TICKER],'Weekly Metrics'!$A9,Weekly_Data_Raw[END_DATE],'Weekly Metrics'!AL$5), IF($B9=\"EOP Subscribers\",SUMIFS(Weekly_Data_Raw[EOP_SUBSCRIBERS],Weekly_Data_Raw[TICKER],'Weekly Metrics'!$A9,Weekly_Data_Raw[END_DATE],'Weekly Metrics'!AL$5), IF($B9=\"Gross Adds\",SUMIFS(Weekly_Data_Raw[GROSS_ADDS],Weekly_Data_Raw[TICKER],'Weekly Metrics'!$A9,Weekly_Data_Raw[END_DATE],'Weekly Metrics'!AL$5), IF($B9=\"Churn\",SUMIFS(Weekly_Data_Raw[CHURNED_MEMBERS],Weekly_Data_Raw[TICKER],'Weekly Metrics'!$A9,Weekly_Data_Raw[END_DATE],'Weekly Metrics'!AL$5)))))))","v":425838},{"$f":"IF($B9=\"Panel Sales\", SUMIFS(Weekly_Data_Raw[PANEL_AMOUNT],Weekly_Data_Raw[TICKER],'Weekly Metrics'!$A9,Weekly_Data_Raw[END_DATE],'Weekly Metrics'!AM$5),IF($B9=\"Transactions\",SUMIFS(Weekly_Data_Raw[PANEL_TRANSACTIONS],Weekly_Data_Raw[TICKER],'Weekly Metrics'!$A9,Weekly_Data_Raw[END_DATE],'Weekly Metrics'!AM$5), IF($B9=\"Avg Ticket\",SUMIFS(Weekly_Data_Raw[AVG_TICKET],Weekly_Data_Raw[TICKER],'Weekly Metrics'!$A9,Weekly_Data_Raw[END_DATE],'Weekly Metrics'!AM$5), IF($B9=\"EOP Subscribers\",SUMIFS(Weekly_Data_Raw[EOP_SUBSCRIBERS],Weekly_Data_Raw[TICKER],'Weekly Metrics'!$A9,Weekly_Data_Raw[END_DATE],'Weekly Metrics'!AM$5), IF($B9=\"Gross Adds\",SUMIFS(Weekly_Data_Raw[GROSS_ADDS],Weekly_Data_Raw[TICKER],'Weekly Metrics'!$A9,Weekly_Data_Raw[END_DATE],'Weekly Metrics'!AM$5), IF($B9=\"Churn\",SUMIFS(Weekly_Data_Raw[CHURNED_MEMBERS],Weekly_Data_Raw[TICKER],'Weekly Metrics'!$A9,Weekly_Data_Raw[END_DATE],'Weekly Metrics'!AM$5)))))))","v":400024},{"$f":"IF($B9=\"Panel Sales\", SUMIFS(Weekly_Data_Raw[PANEL_AMOUNT],Weekly_Data_Raw[TICKER],'Weekly Metrics'!$A9,Weekly_Data_Raw[END_DATE],'Weekly Metrics'!AN$5),IF($B9=\"Transactions\",SUMIFS(Weekly_Data_Raw[PANEL_TRANSACTIONS],Weekly_Data_Raw[TICKER],'Weekly Metrics'!$A9,Weekly_Data_Raw[END_DATE],'Weekly Metrics'!AN$5), IF($B9=\"Avg Ticket\",SUMIFS(Weekly_Data_Raw[AVG_TICKET],Weekly_Data_Raw[TICKER],'Weekly Metrics'!$A9,Weekly_Data_Raw[END_DATE],'Weekly Metrics'!AN$5), IF($B9=\"EOP Subscribers\",SUMIFS(Weekly_Data_Raw[EOP_SUBSCRIBERS],Weekly_Data_Raw[TICKER],'Weekly Metrics'!$A9,Weekly_Data_Raw[END_DATE],'Weekly Metrics'!AN$5), IF($B9=\"Gross Adds\",SUMIFS(Weekly_Data_Raw[GROSS_ADDS],Weekly_Data_Raw[TICKER],'Weekly Metrics'!$A9,Weekly_Data_Raw[END_DATE],'Weekly Metrics'!AN$5), IF($B9=\"Churn\",SUMIFS(Weekly_Data_Raw[CHURNED_MEMBERS],Weekly_Data_Raw[TICKER],'Weekly Metrics'!$A9,Weekly_Data_Raw[END_DATE],'Weekly Metrics'!AN$5)))))))","v":406921},{"$f":"IF($B9=\"Panel Sales\", SUMIFS(Weekly_Data_Raw[PANEL_AMOUNT],Weekly_Data_Raw[TICKER],'Weekly Metrics'!$A9,Weekly_Data_Raw[END_DATE],'Weekly Metrics'!AO$5),IF($B9=\"Transactions\",SUMIFS(Weekly_Data_Raw[PANEL_TRANSACTIONS],Weekly_Data_Raw[TICKER],'Weekly Metrics'!$A9,Weekly_Data_Raw[END_DATE],'Weekly Metrics'!AO$5), IF($B9=\"Avg Ticket\",SUMIFS(Weekly_Data_Raw[AVG_TICKET],Weekly_Data_Raw[TICKER],'Weekly Metrics'!$A9,Weekly_Data_Raw[END_DATE],'Weekly Metrics'!AO$5), IF($B9=\"EOP Subscribers\",SUMIFS(Weekly_Data_Raw[EOP_SUBSCRIBERS],Weekly_Data_Raw[TICKER],'Weekly Metrics'!$A9,Weekly_Data_Raw[END_DATE],'Weekly Metrics'!AO$5), IF($B9=\"Gross Adds\",SUMIFS(Weekly_Data_Raw[GROSS_ADDS],Weekly_Data_Raw[TICKER],'Weekly Metrics'!$A9,Weekly_Data_Raw[END_DATE],'Weekly Metrics'!AO$5), IF($B9=\"Churn\",SUMIFS(Weekly_Data_Raw[CHURNED_MEMBERS],Weekly_Data_Raw[TICKER],'Weekly Metrics'!$A9,Weekly_Data_Raw[END_DATE],'Weekly Metrics'!AO$5)))))))","v":395814},{"$f":"IF($B9=\"Panel Sales\", SUMIFS(Weekly_Data_Raw[PANEL_AMOUNT],Weekly_Data_Raw[TICKER],'Weekly Metrics'!$A9,Weekly_Data_Raw[END_DATE],'Weekly Metrics'!AP$5),IF($B9=\"Transactions\",SUMIFS(Weekly_Data_Raw[PANEL_TRANSACTIONS],Weekly_Data_Raw[TICKER],'Weekly Metrics'!$A9,Weekly_Data_Raw[END_DATE],'Weekly Metrics'!AP$5), IF($B9=\"Avg Ticket\",SUMIFS(Weekly_Data_Raw[AVG_TICKET],Weekly_Data_Raw[TICKER],'Weekly Metrics'!$A9,Weekly_Data_Raw[END_DATE],'Weekly Metrics'!AP$5), IF($B9=\"EOP Subscribers\",SUMIFS(Weekly_Data_Raw[EOP_SUBSCRIBERS],Weekly_Data_Raw[TICKER],'Weekly Metrics'!$A9,Weekly_Data_Raw[END_DATE],'Weekly Metrics'!AP$5), IF($B9=\"Gross Adds\",SUMIFS(Weekly_Data_Raw[GROSS_ADDS],Weekly_Data_Raw[TICKER],'Weekly Metrics'!$A9,Weekly_Data_Raw[END_DATE],'Weekly Metrics'!AP$5), IF($B9=\"Churn\",SUMIFS(Weekly_Data_Raw[CHURNED_MEMBERS],Weekly_Data_Raw[TICKER],'Weekly Metrics'!$A9,Weekly_Data_Raw[END_DATE],'Weekly Metrics'!AP$5)))))))","v":443237},{"$f":"IF($B9=\"Panel Sales\", SUMIFS(Weekly_Data_Raw[PANEL_AMOUNT],Weekly_Data_Raw[TICKER],'Weekly Metrics'!$A9,Weekly_Data_Raw[END_DATE],'Weekly Metrics'!AQ$5),IF($B9=\"Transactions\",SUMIFS(Weekly_Data_Raw[PANEL_TRANSACTIONS],Weekly_Data_Raw[TICKER],'Weekly Metrics'!$A9,Weekly_Data_Raw[END_DATE],'Weekly Metrics'!AQ$5), IF($B9=\"Avg Ticket\",SUMIFS(Weekly_Data_Raw[AVG_TICKET],Weekly_Data_Raw[TICKER],'Weekly Metrics'!$A9,Weekly_Data_Raw[END_DATE],'Weekly Metrics'!AQ$5), IF($B9=\"EOP Subscribers\",SUMIFS(Weekly_Data_Raw[EOP_SUBSCRIBERS],Weekly_Data_Raw[TICKER],'Weekly Metrics'!$A9,Weekly_Data_Raw[END_DATE],'Weekly Metrics'!AQ$5), IF($B9=\"Gross Adds\",SUMIFS(Weekly_Data_Raw[GROSS_ADDS],Weekly_Data_Raw[TICKER],'Weekly Metrics'!$A9,Weekly_Data_Raw[END_DATE],'Weekly Metrics'!AQ$5), IF($B9=\"Churn\",SUMIFS(Weekly_Data_Raw[CHURNED_MEMBERS],Weekly_Data_Raw[TICKER],'Weekly Metrics'!$A9,Weekly_Data_Raw[END_DATE],'Weekly Metrics'!AQ$5)))))))","v":408441},{"$f":"IF($B9=\"Panel Sales\", SUMIFS(Weekly_Data_Raw[PANEL_AMOUNT],Weekly_Data_Raw[TICKER],'Weekly Metrics'!$A9,Weekly_Data_Raw[END_DATE],'Weekly Metrics'!AR$5),IF($B9=\"Transactions\",SUMIFS(Weekly_Data_Raw[PANEL_TRANSACTIONS],Weekly_Data_Raw[TICKER],'Weekly Metrics'!$A9,Weekly_Data_Raw[END_DATE],'Weekly Metrics'!AR$5), IF($B9=\"Avg Ticket\",SUMIFS(Weekly_Data_Raw[AVG_TICKET],Weekly_Data_Raw[TICKER],'Weekly Metrics'!$A9,Weekly_Data_Raw[END_DATE],'Weekly Metrics'!AR$5), IF($B9=\"EOP Subscribers\",SUMIFS(Weekly_Data_Raw[EOP_SUBSCRIBERS],Weekly_Data_Raw[TICKER],'Weekly Metrics'!$A9,Weekly_Data_Raw[END_DATE],'Weekly Metrics'!AR$5), IF($B9=\"Gross Adds\",SUMIFS(Weekly_Data_Raw[GROSS_ADDS],Weekly_Data_Raw[TICKER],'Weekly Metrics'!$A9,Weekly_Data_Raw[END_DATE],'Weekly Metrics'!AR$5), IF($B9=\"Churn\",SUMIFS(Weekly_Data_Raw[CHURNED_MEMBERS],Weekly_Data_Raw[TICKER],'Weekly Metrics'!$A9,Weekly_Data_Raw[END_DATE],'Weekly Metrics'!AR$5)))))))","v":411264},{"$f":"IF($B9=\"Panel Sales\", SUMIFS(Weekly_Data_Raw[PANEL_AMOUNT],Weekly_Data_Raw[TICKER],'Weekly Metrics'!$A9,Weekly_Data_Raw[END_DATE],'Weekly Metrics'!AS$5),IF($B9=\"Transactions\",SUMIFS(Weekly_Data_Raw[PANEL_TRANSACTIONS],Weekly_Data_Raw[TICKER],'Weekly Metrics'!$A9,Weekly_Data_Raw[END_DATE],'Weekly Metrics'!AS$5), IF($B9=\"Avg Ticket\",SUMIFS(Weekly_Data_Raw[AVG_TICKET],Weekly_Data_Raw[TICKER],'Weekly Metrics'!$A9,Weekly_Data_Raw[END_DATE],'Weekly Metrics'!AS$5), IF($B9=\"EOP Subscribers\",SUMIFS(Weekly_Data_Raw[EOP_SUBSCRIBERS],Weekly_Data_Raw[TICKER],'Weekly Metrics'!$A9,Weekly_Data_Raw[END_DATE],'Weekly Metrics'!AS$5), IF($B9=\"Gross Adds\",SUMIFS(Weekly_Data_Raw[GROSS_ADDS],Weekly_Data_Raw[TICKER],'Weekly Metrics'!$A9,Weekly_Data_Raw[END_DATE],'Weekly Metrics'!AS$5), IF($B9=\"Churn\",SUMIFS(Weekly_Data_Raw[CHURNED_MEMBERS],Weekly_Data_Raw[TICKER],'Weekly Metrics'!$A9,Weekly_Data_Raw[END_DATE],'Weekly Metrics'!AS$5)))))))","v":410010},{"$f":"IF($B9=\"Panel Sales\", SUMIFS(Weekly_Data_Raw[PANEL_AMOUNT],Weekly_Data_Raw[TICKER],'Weekly Metrics'!$A9,Weekly_Data_Raw[END_DATE],'Weekly Metrics'!AT$5),IF($B9=\"Transactions\",SUMIFS(Weekly_Data_Raw[PANEL_TRANSACTIONS],Weekly_Data_Raw[TICKER],'Weekly Metrics'!$A9,Weekly_Data_Raw[END_DATE],'Weekly Metrics'!AT$5), IF($B9=\"Avg Ticket\",SUMIFS(Weekly_Data_Raw[AVG_TICKET],Weekly_Data_Raw[TICKER],'Weekly Metrics'!$A9,Weekly_Data_Raw[END_DATE],'Weekly Metrics'!AT$5), IF($B9=\"EOP Subscribers\",SUMIFS(Weekly_Data_Raw[EOP_SUBSCRIBERS],Weekly_Data_Raw[TICKER],'Weekly Metrics'!$A9,Weekly_Data_Raw[END_DATE],'Weekly Metrics'!AT$5), IF($B9=\"Gross Adds\",SUMIFS(Weekly_Data_Raw[GROSS_ADDS],Weekly_Data_Raw[TICKER],'Weekly Metrics'!$A9,Weekly_Data_Raw[END_DATE],'Weekly Metrics'!AT$5), IF($B9=\"Churn\",SUMIFS(Weekly_Data_Raw[CHURNED_MEMBERS],Weekly_Data_Raw[TICKER],'Weekly Metrics'!$A9,Weekly_Data_Raw[END_DATE],'Weekly Metrics'!AT$5)))))))","v":422671},{"$f":"IF($B9=\"Panel Sales\", SUMIFS(Weekly_Data_Raw[PANEL_AMOUNT],Weekly_Data_Raw[TICKER],'Weekly Metrics'!$A9,Weekly_Data_Raw[END_DATE],'Weekly Metrics'!AU$5),IF($B9=\"Transactions\",SUMIFS(Weekly_Data_Raw[PANEL_TRANSACTIONS],Weekly_Data_Raw[TICKER],'Weekly Metrics'!$A9,Weekly_Data_Raw[END_DATE],'Weekly Metrics'!AU$5), IF($B9=\"Avg Ticket\",SUMIFS(Weekly_Data_Raw[AVG_TICKET],Weekly_Data_Raw[TICKER],'Weekly Metrics'!$A9,Weekly_Data_Raw[END_DATE],'Weekly Metrics'!AU$5), IF($B9=\"EOP Subscribers\",SUMIFS(Weekly_Data_Raw[EOP_SUBSCRIBERS],Weekly_Data_Raw[TICKER],'Weekly Metrics'!$A9,Weekly_Data_Raw[END_DATE],'Weekly Metrics'!AU$5), IF($B9=\"Gross Adds\",SUMIFS(Weekly_Data_Raw[GROSS_ADDS],Weekly_Data_Raw[TICKER],'Weekly Metrics'!$A9,Weekly_Data_Raw[END_DATE],'Weekly Metrics'!AU$5), IF($B9=\"Churn\",SUMIFS(Weekly_Data_Raw[CHURNED_MEMBERS],Weekly_Data_Raw[TICKER],'Weekly Metrics'!$A9,Weekly_Data_Raw[END_DATE],'Weekly Metrics'!AU$5)))))))","v":427496},{"$f":"IF($B9=\"Panel Sales\", SUMIFS(Weekly_Data_Raw[PANEL_AMOUNT],Weekly_Data_Raw[TICKER],'Weekly Metrics'!$A9,Weekly_Data_Raw[END_DATE],'Weekly Metrics'!AV$5),IF($B9=\"Transactions\",SUMIFS(Weekly_Data_Raw[PANEL_TRANSACTIONS],Weekly_Data_Raw[TICKER],'Weekly Metrics'!$A9,Weekly_Data_Raw[END_DATE],'Weekly Metrics'!AV$5), IF($B9=\"Avg Ticket\",SUMIFS(Weekly_Data_Raw[AVG_TICKET],Weekly_Data_Raw[TICKER],'Weekly Metrics'!$A9,Weekly_Data_Raw[END_DATE],'Weekly Metrics'!AV$5), IF($B9=\"EOP Subscribers\",SUMIFS(Weekly_Data_Raw[EOP_SUBSCRIBERS],Weekly_Data_Raw[TICKER],'Weekly Metrics'!$A9,Weekly_Data_Raw[END_DATE],'Weekly Metrics'!AV$5), IF($B9=\"Gross Adds\",SUMIFS(Weekly_Data_Raw[GROSS_ADDS],Weekly_Data_Raw[TICKER],'Weekly Metrics'!$A9,Weekly_Data_Raw[END_DATE],'Weekly Metrics'!AV$5), IF($B9=\"Churn\",SUMIFS(Weekly_Data_Raw[CHURNED_MEMBERS],Weekly_Data_Raw[TICKER],'Weekly Metrics'!$A9,Weekly_Data_Raw[END_DATE],'Weekly Metrics'!AV$5)))))))","v":405193},{"$f":"IF($B9=\"Panel Sales\", SUMIFS(Weekly_Data_Raw[PANEL_AMOUNT],Weekly_Data_Raw[TICKER],'Weekly Metrics'!$A9,Weekly_Data_Raw[END_DATE],'Weekly Metrics'!AW$5),IF($B9=\"Transactions\",SUMIFS(Weekly_Data_Raw[PANEL_TRANSACTIONS],Weekly_Data_Raw[TICKER],'Weekly Metrics'!$A9,Weekly_Data_Raw[END_DATE],'Weekly Metrics'!AW$5), IF($B9=\"Avg Ticket\",SUMIFS(Weekly_Data_Raw[AVG_TICKET],Weekly_Data_Raw[TICKER],'Weekly Metrics'!$A9,Weekly_Data_Raw[END_DATE],'Weekly Metrics'!AW$5), IF($B9=\"EOP Subscribers\",SUMIFS(Weekly_Data_Raw[EOP_SUBSCRIBERS],Weekly_Data_Raw[TICKER],'Weekly Metrics'!$A9,Weekly_Data_Raw[END_DATE],'Weekly Metrics'!AW$5), IF($B9=\"Gross Adds\",SUMIFS(Weekly_Data_Raw[GROSS_ADDS],Weekly_Data_Raw[TICKER],'Weekly Metrics'!$A9,Weekly_Data_Raw[END_DATE],'Weekly Metrics'!AW$5), IF($B9=\"Churn\",SUMIFS(Weekly_Data_Raw[CHURNED_MEMBERS],Weekly_Data_Raw[TICKER],'Weekly Metrics'!$A9,Weekly_Data_Raw[END_DATE],'Weekly Metrics'!AW$5)))))))","v":426302},{"$f":"IF($B9=\"Panel Sales\", SUMIFS(Weekly_Data_Raw[PANEL_AMOUNT],Weekly_Data_Raw[TICKER],'Weekly Metrics'!$A9,Weekly_Data_Raw[END_DATE],'Weekly Metrics'!AX$5),IF($B9=\"Transactions\",SUMIFS(Weekly_Data_Raw[PANEL_TRANSACTIONS],Weekly_Data_Raw[TICKER],'Weekly Metrics'!$A9,Weekly_Data_Raw[END_DATE],'Weekly Metrics'!AX$5), IF($B9=\"Avg Ticket\",SUMIFS(Weekly_Data_Raw[AVG_TICKET],Weekly_Data_Raw[TICKER],'Weekly Metrics'!$A9,Weekly_Data_Raw[END_DATE],'Weekly Metrics'!AX$5), IF($B9=\"EOP Subscribers\",SUMIFS(Weekly_Data_Raw[EOP_SUBSCRIBERS],Weekly_Data_Raw[TICKER],'Weekly Metrics'!$A9,Weekly_Data_Raw[END_DATE],'Weekly Metrics'!AX$5), IF($B9=\"Gross Adds\",SUMIFS(Weekly_Data_Raw[GROSS_ADDS],Weekly_Data_Raw[TICKER],'Weekly Metrics'!$A9,Weekly_Data_Raw[END_DATE],'Weekly Metrics'!AX$5), IF($B9=\"Churn\",SUMIFS(Weekly_Data_Raw[CHURNED_MEMBERS],Weekly_Data_Raw[TICKER],'Weekly Metrics'!$A9,Weekly_Data_Raw[END_DATE],'Weekly Metrics'!AX$5)))))))","v":452500},{"$f":"IF($B9=\"Panel Sales\", SUMIFS(Weekly_Data_Raw[PANEL_AMOUNT],Weekly_Data_Raw[TICKER],'Weekly Metrics'!$A9,Weekly_Data_Raw[END_DATE],'Weekly Metrics'!AY$5),IF($B9=\"Transactions\",SUMIFS(Weekly_Data_Raw[PANEL_TRANSACTIONS],Weekly_Data_Raw[TICKER],'Weekly Metrics'!$A9,Weekly_Data_Raw[END_DATE],'Weekly Metrics'!AY$5), IF($B9=\"Avg Ticket\",SUMIFS(Weekly_Data_Raw[AVG_TICKET],Weekly_Data_Raw[TICKER],'Weekly Metrics'!$A9,Weekly_Data_Raw[END_DATE],'Weekly Metrics'!AY$5), IF($B9=\"EOP Subscribers\",SUMIFS(Weekly_Data_Raw[EOP_SUBSCRIBERS],Weekly_Data_Raw[TICKER],'Weekly Metrics'!$A9,Weekly_Data_Raw[END_DATE],'Weekly Metrics'!AY$5), IF($B9=\"Gross Adds\",SUMIFS(Weekly_Data_Raw[GROSS_ADDS],Weekly_Data_Raw[TICKER],'Weekly Metrics'!$A9,Weekly_Data_Raw[END_DATE],'Weekly Metrics'!AY$5), IF($B9=\"Churn\",SUMIFS(Weekly_Data_Raw[CHURNED_MEMBERS],Weekly_Data_Raw[TICKER],'Weekly Metrics'!$A9,Weekly_Data_Raw[END_DATE],'Weekly Metrics'!AY$5)))))))","v":549702},{"$f":"IF($B9=\"Panel Sales\", SUMIFS(Weekly_Data_Raw[PANEL_AMOUNT],Weekly_Data_Raw[TICKER],'Weekly Metrics'!$A9,Weekly_Data_Raw[END_DATE],'Weekly Metrics'!AZ$5),IF($B9=\"Transactions\",SUMIFS(Weekly_Data_Raw[PANEL_TRANSACTIONS],Weekly_Data_Raw[TICKER],'Weekly Metrics'!$A9,Weekly_Data_Raw[END_DATE],'Weekly Metrics'!AZ$5), IF($B9=\"Avg Ticket\",SUMIFS(Weekly_Data_Raw[AVG_TICKET],Weekly_Data_Raw[TICKER],'Weekly Metrics'!$A9,Weekly_Data_Raw[END_DATE],'Weekly Metrics'!AZ$5), IF($B9=\"EOP Subscribers\",SUMIFS(Weekly_Data_Raw[EOP_SUBSCRIBERS],Weekly_Data_Raw[TICKER],'Weekly Metrics'!$A9,Weekly_Data_Raw[END_DATE],'Weekly Metrics'!AZ$5), IF($B9=\"Gross Adds\",SUMIFS(Weekly_Data_Raw[GROSS_ADDS],Weekly_Data_Raw[TICKER],'Weekly Metrics'!$A9,Weekly_Data_Raw[END_DATE],'Weekly Metrics'!AZ$5), IF($B9=\"Churn\",SUMIFS(Weekly_Data_Raw[CHURNED_MEMBERS],Weekly_Data_Raw[TICKER],'Weekly Metrics'!$A9,Weekly_Data_Raw[END_DATE],'Weekly Metrics'!AZ$5)))))))","v":486025},{"$f":"IF($B9=\"Panel Sales\", SUMIFS(Weekly_Data_Raw[PANEL_AMOUNT],Weekly_Data_Raw[TICKER],'Weekly Metrics'!$A9,Weekly_Data_Raw[END_DATE],'Weekly Metrics'!BA$5),IF($B9=\"Transactions\",SUMIFS(Weekly_Data_Raw[PANEL_TRANSACTIONS],Weekly_Data_Raw[TICKER],'Weekly Metrics'!$A9,Weekly_Data_Raw[END_DATE],'Weekly Metrics'!BA$5), IF($B9=\"Avg Ticket\",SUMIFS(Weekly_Data_Raw[AVG_TICKET],Weekly_Data_Raw[TICKER],'Weekly Metrics'!$A9,Weekly_Data_Raw[END_DATE],'Weekly Metrics'!BA$5), IF($B9=\"EOP Subscribers\",SUMIFS(Weekly_Data_Raw[EOP_SUBSCRIBERS],Weekly_Data_Raw[TICKER],'Weekly Metrics'!$A9,Weekly_Data_Raw[END_DATE],'Weekly Metrics'!BA$5), IF($B9=\"Gross Adds\",SUMIFS(Weekly_Data_Raw[GROSS_ADDS],Weekly_Data_Raw[TICKER],'Weekly Metrics'!$A9,Weekly_Data_Raw[END_DATE],'Weekly Metrics'!BA$5), IF($B9=\"Churn\",SUMIFS(Weekly_Data_Raw[CHURNED_MEMBERS],Weekly_Data_Raw[TICKER],'Weekly Metrics'!$A9,Weekly_Data_Raw[END_DATE],'Weekly Metrics'!BA$5)))))))","v":474974},{"$f":"IF($B9=\"Panel Sales\", SUMIFS(Weekly_Data_Raw[PANEL_AMOUNT],Weekly_Data_Raw[TICKER],'Weekly Metrics'!$A9,Weekly_Data_Raw[END_DATE],'Weekly Metrics'!BB$5),IF($B9=\"Transactions\",SUMIFS(Weekly_Data_Raw[PANEL_TRANSACTIONS],Weekly_Data_Raw[TICKER],'Weekly Metrics'!$A9,Weekly_Data_Raw[END_DATE],'Weekly Metrics'!BB$5), IF($B9=\"Avg Ticket\",SUMIFS(Weekly_Data_Raw[AVG_TICKET],Weekly_Data_Raw[TICKER],'Weekly Metrics'!$A9,Weekly_Data_Raw[END_DATE],'Weekly Metrics'!BB$5), IF($B9=\"EOP Subscribers\",SUMIFS(Weekly_Data_Raw[EOP_SUBSCRIBERS],Weekly_Data_Raw[TICKER],'Weekly Metrics'!$A9,Weekly_Data_Raw[END_DATE],'Weekly Metrics'!BB$5), IF($B9=\"Gross Adds\",SUMIFS(Weekly_Data_Raw[GROSS_ADDS],Weekly_Data_Raw[TICKER],'Weekly Metrics'!$A9,Weekly_Data_Raw[END_DATE],'Weekly Metrics'!BB$5), IF($B9=\"Churn\",SUMIFS(Weekly_Data_Raw[CHURNED_MEMBERS],Weekly_Data_Raw[TICKER],'Weekly Metrics'!$A9,Weekly_Data_Raw[END_DATE],'Weekly Metrics'!BB$5)))))))","v":369998},{"$f":"IF($B9=\"Panel Sales\", SUMIFS(Weekly_Data_Raw[PANEL_AMOUNT],Weekly_Data_Raw[TICKER],'Weekly Metrics'!$A9,Weekly_Data_Raw[END_DATE],'Weekly Metrics'!BC$5),IF($B9=\"Transactions\",SUMIFS(Weekly_Data_Raw[PANEL_TRANSACTIONS],Weekly_Data_Raw[TICKER],'Weekly Metrics'!$A9,Weekly_Data_Raw[END_DATE],'Weekly Metrics'!BC$5), IF($B9=\"Avg Ticket\",SUMIFS(Weekly_Data_Raw[AVG_TICKET],Weekly_Data_Raw[TICKER],'Weekly Metrics'!$A9,Weekly_Data_Raw[END_DATE],'Weekly Metrics'!BC$5), IF($B9=\"EOP Subscribers\",SUMIFS(Weekly_Data_Raw[EOP_SUBSCRIBERS],Weekly_Data_Raw[TICKER],'Weekly Metrics'!$A9,Weekly_Data_Raw[END_DATE],'Weekly Metrics'!BC$5), IF($B9=\"Gross Adds\",SUMIFS(Weekly_Data_Raw[GROSS_ADDS],Weekly_Data_Raw[TICKER],'Weekly Metrics'!$A9,Weekly_Data_Raw[END_DATE],'Weekly Metrics'!BC$5), IF($B9=\"Churn\",SUMIFS(Weekly_Data_Raw[CHURNED_MEMBERS],Weekly_Data_Raw[TICKER],'Weekly Metrics'!$A9,Weekly_Data_Raw[END_DATE],'Weekly Metrics'!BC$5)))))))","v":419850},{"$f":"IF($B9=\"Panel Sales\", SUMIFS(Weekly_Data_Raw[PANEL_AMOUNT],Weekly_Data_Raw[TICKER],'Weekly Metrics'!$A9,Weekly_Data_Raw[END_DATE],'Weekly Metrics'!BD$5),IF($B9=\"Transactions\",SUMIFS(Weekly_Data_Raw[PANEL_TRANSACTIONS],Weekly_Data_Raw[TICKER],'Weekly Metrics'!$A9,Weekly_Data_Raw[END_DATE],'Weekly Metrics'!BD$5), IF($B9=\"Avg Ticket\",SUMIFS(Weekly_Data_Raw[AVG_TICKET],Weekly_Data_Raw[TICKER],'Weekly Metrics'!$A9,Weekly_Data_Raw[END_DATE],'Weekly Metrics'!BD$5), IF($B9=\"EOP Subscribers\",SUMIFS(Weekly_Data_Raw[EOP_SUBSCRIBERS],Weekly_Data_Raw[TICKER],'Weekly Metrics'!$A9,Weekly_Data_Raw[END_DATE],'Weekly Metrics'!BD$5), IF($B9=\"Gross Adds\",SUMIFS(Weekly_Data_Raw[GROSS_ADDS],Weekly_Data_Raw[TICKER],'Weekly Metrics'!$A9,Weekly_Data_Raw[END_DATE],'Weekly Metrics'!BD$5), IF($B9=\"Churn\",SUMIFS(Weekly_Data_Raw[CHURNED_MEMBERS],Weekly_Data_Raw[TICKER],'Weekly Metrics'!$A9,Weekly_Data_Raw[END_DATE],'Weekly Metrics'!BD$5)))))))","v":392728},{"$f":"IF($B9=\"Panel Sales\", SUMIFS(Weekly_Data_Raw[PANEL_AMOUNT],Weekly_Data_Raw[TICKER],'Weekly Metrics'!$A9,Weekly_Data_Raw[END_DATE],'Weekly Metrics'!BE$5),IF($B9=\"Transactions\",SUMIFS(Weekly_Data_Raw[PANEL_TRANSACTIONS],Weekly_Data_Raw[TICKER],'Weekly Metrics'!$A9,Weekly_Data_Raw[END_DATE],'Weekly Metrics'!BE$5), IF($B9=\"Avg Ticket\",SUMIFS(Weekly_Data_Raw[AVG_TICKET],Weekly_Data_Raw[TICKER],'Weekly Metrics'!$A9,Weekly_Data_Raw[END_DATE],'Weekly Metrics'!BE$5), IF($B9=\"EOP Subscribers\",SUMIFS(Weekly_Data_Raw[EOP_SUBSCRIBERS],Weekly_Data_Raw[TICKER],'Weekly Metrics'!$A9,Weekly_Data_Raw[END_DATE],'Weekly Metrics'!BE$5), IF($B9=\"Gross Adds\",SUMIFS(Weekly_Data_Raw[GROSS_ADDS],Weekly_Data_Raw[TICKER],'Weekly Metrics'!$A9,Weekly_Data_Raw[END_DATE],'Weekly Metrics'!BE$5), IF($B9=\"Churn\",SUMIFS(Weekly_Data_Raw[CHURNED_MEMBERS],Weekly_Data_Raw[TICKER],'Weekly Metrics'!$A9,Weekly_Data_Raw[END_DATE],'Weekly Metrics'!BE$5)))))))","v":402367},{"$f":"IF($B9=\"Panel Sales\", SUMIFS(Weekly_Data_Raw[PANEL_AMOUNT],Weekly_Data_Raw[TICKER],'Weekly Metrics'!$A9,Weekly_Data_Raw[END_DATE],'Weekly Metrics'!BF$5),IF($B9=\"Transactions\",SUMIFS(Weekly_Data_Raw[PANEL_TRANSACTIONS],Weekly_Data_Raw[TICKER],'Weekly Metrics'!$A9,Weekly_Data_Raw[END_DATE],'Weekly Metrics'!BF$5), IF($B9=\"Avg Ticket\",SUMIFS(Weekly_Data_Raw[AVG_TICKET],Weekly_Data_Raw[TICKER],'Weekly Metrics'!$A9,Weekly_Data_Raw[END_DATE],'Weekly Metrics'!BF$5), IF($B9=\"EOP Subscribers\",SUMIFS(Weekly_Data_Raw[EOP_SUBSCRIBERS],Weekly_Data_Raw[TICKER],'Weekly Metrics'!$A9,Weekly_Data_Raw[END_DATE],'Weekly Metrics'!BF$5), IF($B9=\"Gross Adds\",SUMIFS(Weekly_Data_Raw[GROSS_ADDS],Weekly_Data_Raw[TICKER],'Weekly Metrics'!$A9,Weekly_Data_Raw[END_DATE],'Weekly Metrics'!BF$5), IF($B9=\"Churn\",SUMIFS(Weekly_Data_Raw[CHURNED_MEMBERS],Weekly_Data_Raw[TICKER],'Weekly Metrics'!$A9,Weekly_Data_Raw[END_DATE],'Weekly Metrics'!BF$5)))))))","v":405035},{"$f":"IF($B9=\"Panel Sales\", SUMIFS(Weekly_Data_Raw[PANEL_AMOUNT],Weekly_Data_Raw[TICKER],'Weekly Metrics'!$A9,Weekly_Data_Raw[END_DATE],'Weekly Metrics'!BG$5),IF($B9=\"Transactions\",SUMIFS(Weekly_Data_Raw[PANEL_TRANSACTIONS],Weekly_Data_Raw[TICKER],'Weekly Metrics'!$A9,Weekly_Data_Raw[END_DATE],'Weekly Metrics'!BG$5), IF($B9=\"Avg Ticket\",SUMIFS(Weekly_Data_Raw[AVG_TICKET],Weekly_Data_Raw[TICKER],'Weekly Metrics'!$A9,Weekly_Data_Raw[END_DATE],'Weekly Metrics'!BG$5), IF($B9=\"EOP Subscribers\",SUMIFS(Weekly_Data_Raw[EOP_SUBSCRIBERS],Weekly_Data_Raw[TICKER],'Weekly Metrics'!$A9,Weekly_Data_Raw[END_DATE],'Weekly Metrics'!BG$5), IF($B9=\"Gross Adds\",SUMIFS(Weekly_Data_Raw[GROSS_ADDS],Weekly_Data_Raw[TICKER],'Weekly Metrics'!$A9,Weekly_Data_Raw[END_DATE],'Weekly Metrics'!BG$5), IF($B9=\"Churn\",SUMIFS(Weekly_Data_Raw[CHURNED_MEMBERS],Weekly_Data_Raw[TICKER],'Weekly Metrics'!$A9,Weekly_Data_Raw[END_DATE],'Weekly Metrics'!BG$5)))))))","v":413244},{"$f":"IF($B9=\"Panel Sales\", SUMIFS(Weekly_Data_Raw[PANEL_AMOUNT],Weekly_Data_Raw[TICKER],'Weekly Metrics'!$A9,Weekly_Data_Raw[END_DATE],'Weekly Metrics'!BH$5),IF($B9=\"Transactions\",SUMIFS(Weekly_Data_Raw[PANEL_TRANSACTIONS],Weekly_Data_Raw[TICKER],'Weekly Metrics'!$A9,Weekly_Data_Raw[END_DATE],'Weekly Metrics'!BH$5), IF($B9=\"Avg Ticket\",SUMIFS(Weekly_Data_Raw[AVG_TICKET],Weekly_Data_Raw[TICKER],'Weekly Metrics'!$A9,Weekly_Data_Raw[END_DATE],'Weekly Metrics'!BH$5), IF($B9=\"EOP Subscribers\",SUMIFS(Weekly_Data_Raw[EOP_SUBSCRIBERS],Weekly_Data_Raw[TICKER],'Weekly Metrics'!$A9,Weekly_Data_Raw[END_DATE],'Weekly Metrics'!BH$5), IF($B9=\"Gross Adds\",SUMIFS(Weekly_Data_Raw[GROSS_ADDS],Weekly_Data_Raw[TICKER],'Weekly Metrics'!$A9,Weekly_Data_Raw[END_DATE],'Weekly Metrics'!BH$5), IF($B9=\"Churn\",SUMIFS(Weekly_Data_Raw[CHURNED_MEMBERS],Weekly_Data_Raw[TICKER],'Weekly Metrics'!$A9,Weekly_Data_Raw[END_DATE],'Weekly Metrics'!BH$5)))))))","v":438343},{"$f":"IF($B9=\"Panel Sales\", SUMIFS(Weekly_Data_Raw[PANEL_AMOUNT],Weekly_Data_Raw[TICKER],'Weekly Metrics'!$A9,Weekly_Data_Raw[END_DATE],'Weekly Metrics'!BI$5),IF($B9=\"Transactions\",SUMIFS(Weekly_Data_Raw[PANEL_TRANSACTIONS],Weekly_Data_Raw[TICKER],'Weekly Metrics'!$A9,Weekly_Data_Raw[END_DATE],'Weekly Metrics'!BI$5), IF($B9=\"Avg Ticket\",SUMIFS(Weekly_Data_Raw[AVG_TICKET],Weekly_Data_Raw[TICKER],'Weekly Metrics'!$A9,Weekly_Data_Raw[END_DATE],'Weekly Metrics'!BI$5), IF($B9=\"EOP Subscribers\",SUMIFS(Weekly_Data_Raw[EOP_SUBSCRIBERS],Weekly_Data_Raw[TICKER],'Weekly Metrics'!$A9,Weekly_Data_Raw[END_DATE],'Weekly Metrics'!BI$5), IF($B9=\"Gross Adds\",SUMIFS(Weekly_Data_Raw[GROSS_ADDS],Weekly_Data_Raw[TICKER],'Weekly Metrics'!$A9,Weekly_Data_Raw[END_DATE],'Weekly Metrics'!BI$5), IF($B9=\"Churn\",SUMIFS(Weekly_Data_Raw[CHURNED_MEMBERS],Weekly_Data_Raw[TICKER],'Weekly Metrics'!$A9,Weekly_Data_Raw[END_DATE],'Weekly Metrics'!BI$5)))))))","v":416990},{"$f":"IF($B9=\"Panel Sales\", SUMIFS(Weekly_Data_Raw[PANEL_AMOUNT],Weekly_Data_Raw[TICKER],'Weekly Metrics'!$A9,Weekly_Data_Raw[END_DATE],'Weekly Metrics'!BJ$5),IF($B9=\"Transactions\",SUMIFS(Weekly_Data_Raw[PANEL_TRANSACTIONS],Weekly_Data_Raw[TICKER],'Weekly Metrics'!$A9,Weekly_Data_Raw[END_DATE],'Weekly Metrics'!BJ$5), IF($B9=\"Avg Ticket\",SUMIFS(Weekly_Data_Raw[AVG_TICKET],Weekly_Data_Raw[TICKER],'Weekly Metrics'!$A9,Weekly_Data_Raw[END_DATE],'Weekly Metrics'!BJ$5), IF($B9=\"EOP Subscribers\",SUMIFS(Weekly_Data_Raw[EOP_SUBSCRIBERS],Weekly_Data_Raw[TICKER],'Weekly Metrics'!$A9,Weekly_Data_Raw[END_DATE],'Weekly Metrics'!BJ$5), IF($B9=\"Gross Adds\",SUMIFS(Weekly_Data_Raw[GROSS_ADDS],Weekly_Data_Raw[TICKER],'Weekly Metrics'!$A9,Weekly_Data_Raw[END_DATE],'Weekly Metrics'!BJ$5), IF($B9=\"Churn\",SUMIFS(Weekly_Data_Raw[CHURNED_MEMBERS],Weekly_Data_Raw[TICKER],'Weekly Metrics'!$A9,Weekly_Data_Raw[END_DATE],'Weekly Metrics'!BJ$5)))))))","v":417262},{"$f":"IF($B9=\"Panel Sales\", SUMIFS(Weekly_Data_Raw[PANEL_AMOUNT],Weekly_Data_Raw[TICKER],'Weekly Metrics'!$A9,Weekly_Data_Raw[END_DATE],'Weekly Metrics'!BK$5),IF($B9=\"Transactions\",SUMIFS(Weekly_Data_Raw[PANEL_TRANSACTIONS],Weekly_Data_Raw[TICKER],'Weekly Metrics'!$A9,Weekly_Data_Raw[END_DATE],'Weekly Metrics'!BK$5), IF($B9=\"Avg Ticket\",SUMIFS(Weekly_Data_Raw[AVG_TICKET],Weekly_Data_Raw[TICKER],'Weekly Metrics'!$A9,Weekly_Data_Raw[END_DATE],'Weekly Metrics'!BK$5), IF($B9=\"EOP Subscribers\",SUMIFS(Weekly_Data_Raw[EOP_SUBSCRIBERS],Weekly_Data_Raw[TICKER],'Weekly Metrics'!$A9,Weekly_Data_Raw[END_DATE],'Weekly Metrics'!BK$5), IF($B9=\"Gross Adds\",SUMIFS(Weekly_Data_Raw[GROSS_ADDS],Weekly_Data_Raw[TICKER],'Weekly Metrics'!$A9,Weekly_Data_Raw[END_DATE],'Weekly Metrics'!BK$5), IF($B9=\"Churn\",SUMIFS(Weekly_Data_Raw[CHURNED_MEMBERS],Weekly_Data_Raw[TICKER],'Weekly Metrics'!$A9,Weekly_Data_Raw[END_DATE],'Weekly Metrics'!BK$5)))))))","v":440670},{"$f":"IF($B9=\"Panel Sales\", SUMIFS(Weekly_Data_Raw[PANEL_AMOUNT],Weekly_Data_Raw[TICKER],'Weekly Metrics'!$A9,Weekly_Data_Raw[END_DATE],'Weekly Metrics'!BL$5),IF($B9=\"Transactions\",SUMIFS(Weekly_Data_Raw[PANEL_TRANSACTIONS],Weekly_Data_Raw[TICKER],'Weekly Metrics'!$A9,Weekly_Data_Raw[END_DATE],'Weekly Metrics'!BL$5), IF($B9=\"Avg Ticket\",SUMIFS(Weekly_Data_Raw[AVG_TICKET],Weekly_Data_Raw[TICKER],'Weekly Metrics'!$A9,Weekly_Data_Raw[END_DATE],'Weekly Metrics'!BL$5), IF($B9=\"EOP Subscribers\",SUMIFS(Weekly_Data_Raw[EOP_SUBSCRIBERS],Weekly_Data_Raw[TICKER],'Weekly Metrics'!$A9,Weekly_Data_Raw[END_DATE],'Weekly Metrics'!BL$5), IF($B9=\"Gross Adds\",SUMIFS(Weekly_Data_Raw[GROSS_ADDS],Weekly_Data_Raw[TICKER],'Weekly Metrics'!$A9,Weekly_Data_Raw[END_DATE],'Weekly Metrics'!BL$5), IF($B9=\"Churn\",SUMIFS(Weekly_Data_Raw[CHURNED_MEMBERS],Weekly_Data_Raw[TICKER],'Weekly Metrics'!$A9,Weekly_Data_Raw[END_DATE],'Weekly Metrics'!BL$5)))))))","v":468166},{"$f":"IF($B9=\"Panel Sales\", SUMIFS(Weekly_Data_Raw[PANEL_AMOUNT],Weekly_Data_Raw[TICKER],'Weekly Metrics'!$A9,Weekly_Data_Raw[END_DATE],'Weekly Metrics'!BM$5),IF($B9=\"Transactions\",SUMIFS(Weekly_Data_Raw[PANEL_TRANSACTIONS],Weekly_Data_Raw[TICKER],'Weekly Metrics'!$A9,Weekly_Data_Raw[END_DATE],'Weekly Metrics'!BM$5), IF($B9=\"Avg Ticket\",SUMIFS(Weekly_Data_Raw[AVG_TICKET],Weekly_Data_Raw[TICKER],'Weekly Metrics'!$A9,Weekly_Data_Raw[END_DATE],'Weekly Metrics'!BM$5), IF($B9=\"EOP Subscribers\",SUMIFS(Weekly_Data_Raw[EOP_SUBSCRIBERS],Weekly_Data_Raw[TICKER],'Weekly Metrics'!$A9,Weekly_Data_Raw[END_DATE],'Weekly Metrics'!BM$5), IF($B9=\"Gross Adds\",SUMIFS(Weekly_Data_Raw[GROSS_ADDS],Weekly_Data_Raw[TICKER],'Weekly Metrics'!$A9,Weekly_Data_Raw[END_DATE],'Weekly Metrics'!BM$5), IF($B9=\"Churn\",SUMIFS(Weekly_Data_Raw[CHURNED_MEMBERS],Weekly_Data_Raw[TICKER],'Weekly Metrics'!$A9,Weekly_Data_Raw[END_DATE],'Weekly Metrics'!BM$5)))))))","v":418499},{"$f":"IF($B9=\"Panel Sales\", SUMIFS(Weekly_Data_Raw[PANEL_AMOUNT],Weekly_Data_Raw[TICKER],'Weekly Metrics'!$A9,Weekly_Data_Raw[END_DATE],'Weekly Metrics'!BN$5),IF($B9=\"Transactions\",SUMIFS(Weekly_Data_Raw[PANEL_TRANSACTIONS],Weekly_Data_Raw[TICKER],'Weekly Metrics'!$A9,Weekly_Data_Raw[END_DATE],'Weekly Metrics'!BN$5), IF($B9=\"Avg Ticket\",SUMIFS(Weekly_Data_Raw[AVG_TICKET],Weekly_Data_Raw[TICKER],'Weekly Metrics'!$A9,Weekly_Data_Raw[END_DATE],'Weekly Metrics'!BN$5), IF($B9=\"EOP Subscribers\",SUMIFS(Weekly_Data_Raw[EOP_SUBSCRIBERS],Weekly_Data_Raw[TICKER],'Weekly Metrics'!$A9,Weekly_Data_Raw[END_DATE],'Weekly Metrics'!BN$5), IF($B9=\"Gross Adds\",SUMIFS(Weekly_Data_Raw[GROSS_ADDS],Weekly_Data_Raw[TICKER],'Weekly Metrics'!$A9,Weekly_Data_Raw[END_DATE],'Weekly Metrics'!BN$5), IF($B9=\"Churn\",SUMIFS(Weekly_Data_Raw[CHURNED_MEMBERS],Weekly_Data_Raw[TICKER],'Weekly Metrics'!$A9,Weekly_Data_Raw[END_DATE],'Weekly Metrics'!BN$5)))))))","v":398120},{"$f":"IF($B9=\"Panel Sales\", SUMIFS(Weekly_Data_Raw[PANEL_AMOUNT],Weekly_Data_Raw[TICKER],'Weekly Metrics'!$A9,Weekly_Data_Raw[END_DATE],'Weekly Metrics'!BO$5),IF($B9=\"Transactions\",SUMIFS(Weekly_Data_Raw[PANEL_TRANSACTIONS],Weekly_Data_Raw[TICKER],'Weekly Metrics'!$A9,Weekly_Data_Raw[END_DATE],'Weekly Metrics'!BO$5), IF($B9=\"Avg Ticket\",SUMIFS(Weekly_Data_Raw[AVG_TICKET],Weekly_Data_Raw[TICKER],'Weekly Metrics'!$A9,Weekly_Data_Raw[END_DATE],'Weekly Metrics'!BO$5), IF($B9=\"EOP Subscribers\",SUMIFS(Weekly_Data_Raw[EOP_SUBSCRIBERS],Weekly_Data_Raw[TICKER],'Weekly Metrics'!$A9,Weekly_Data_Raw[END_DATE],'Weekly Metrics'!BO$5), IF($B9=\"Gross Adds\",SUMIFS(Weekly_Data_Raw[GROSS_ADDS],Weekly_Data_Raw[TICKER],'Weekly Metrics'!$A9,Weekly_Data_Raw[END_DATE],'Weekly Metrics'!BO$5), IF($B9=\"Churn\",SUMIFS(Weekly_Data_Raw[CHURNED_MEMBERS],Weekly_Data_Raw[TICKER],'Weekly Metrics'!$A9,Weekly_Data_Raw[END_DATE],'Weekly Metrics'!BO$5)))))))","v":401549},{"$f":"IF($B9=\"Panel Sales\", SUMIFS(Weekly_Data_Raw[PANEL_AMOUNT],Weekly_Data_Raw[TICKER],'Weekly Metrics'!$A9,Weekly_Data_Raw[END_DATE],'Weekly Metrics'!BP$5),IF($B9=\"Transactions\",SUMIFS(Weekly_Data_Raw[PANEL_TRANSACTIONS],Weekly_Data_Raw[TICKER],'Weekly Metrics'!$A9,Weekly_Data_Raw[END_DATE],'Weekly Metrics'!BP$5), IF($B9=\"Avg Ticket\",SUMIFS(Weekly_Data_Raw[AVG_TICKET],Weekly_Data_Raw[TICKER],'Weekly Metrics'!$A9,Weekly_Data_Raw[END_DATE],'Weekly Metrics'!BP$5), IF($B9=\"EOP Subscribers\",SUMIFS(Weekly_Data_Raw[EOP_SUBSCRIBERS],Weekly_Data_Raw[TICKER],'Weekly Metrics'!$A9,Weekly_Data_Raw[END_DATE],'Weekly Metrics'!BP$5), IF($B9=\"Gross Adds\",SUMIFS(Weekly_Data_Raw[GROSS_ADDS],Weekly_Data_Raw[TICKER],'Weekly Metrics'!$A9,Weekly_Data_Raw[END_DATE],'Weekly Metrics'!BP$5), IF($B9=\"Churn\",SUMIFS(Weekly_Data_Raw[CHURNED_MEMBERS],Weekly_Data_Raw[TICKER],'Weekly Metrics'!$A9,Weekly_Data_Raw[END_DATE],'Weekly Metrics'!BP$5)))))))","v":470010},{"$f":"IF($B9=\"Panel Sales\", SUMIFS(Weekly_Data_Raw[PANEL_AMOUNT],Weekly_Data_Raw[TICKER],'Weekly Metrics'!$A9,Weekly_Data_Raw[END_DATE],'Weekly Metrics'!BQ$5),IF($B9=\"Transactions\",SUMIFS(Weekly_Data_Raw[PANEL_TRANSACTIONS],Weekly_Data_Raw[TICKER],'Weekly Metrics'!$A9,Weekly_Data_Raw[END_DATE],'Weekly Metrics'!BQ$5), IF($B9=\"Avg Ticket\",SUMIFS(Weekly_Data_Raw[AVG_TICKET],Weekly_Data_Raw[TICKER],'Weekly Metrics'!$A9,Weekly_Data_Raw[END_DATE],'Weekly Metrics'!BQ$5), IF($B9=\"EOP Subscribers\",SUMIFS(Weekly_Data_Raw[EOP_SUBSCRIBERS],Weekly_Data_Raw[TICKER],'Weekly Metrics'!$A9,Weekly_Data_Raw[END_DATE],'Weekly Metrics'!BQ$5), IF($B9=\"Gross Adds\",SUMIFS(Weekly_Data_Raw[GROSS_ADDS],Weekly_Data_Raw[TICKER],'Weekly Metrics'!$A9,Weekly_Data_Raw[END_DATE],'Weekly Metrics'!BQ$5), IF($B9=\"Churn\",SUMIFS(Weekly_Data_Raw[CHURNED_MEMBERS],Weekly_Data_Raw[TICKER],'Weekly Metrics'!$A9,Weekly_Data_Raw[END_DATE],'Weekly Metrics'!BQ$5)))))))","v":470343},{"$f":"IF($B9=\"Panel Sales\", SUMIFS(Weekly_Data_Raw[PANEL_AMOUNT],Weekly_Data_Raw[TICKER],'Weekly Metrics'!$A9,Weekly_Data_Raw[END_DATE],'Weekly Metrics'!BR$5),IF($B9=\"Transactions\",SUMIFS(Weekly_Data_Raw[PANEL_TRANSACTIONS],Weekly_Data_Raw[TICKER],'Weekly Metrics'!$A9,Weekly_Data_Raw[END_DATE],'Weekly Metrics'!BR$5), IF($B9=\"Avg Ticket\",SUMIFS(Weekly_Data_Raw[AVG_TICKET],Weekly_Data_Raw[TICKER],'Weekly Metrics'!$A9,Weekly_Data_Raw[END_DATE],'Weekly Metrics'!BR$5), IF($B9=\"EOP Subscribers\",SUMIFS(Weekly_Data_Raw[EOP_SUBSCRIBERS],Weekly_Data_Raw[TICKER],'Weekly Metrics'!$A9,Weekly_Data_Raw[END_DATE],'Weekly Metrics'!BR$5), IF($B9=\"Gross Adds\",SUMIFS(Weekly_Data_Raw[GROSS_ADDS],Weekly_Data_Raw[TICKER],'Weekly Metrics'!$A9,Weekly_Data_Raw[END_DATE],'Weekly Metrics'!BR$5), IF($B9=\"Churn\",SUMIFS(Weekly_Data_Raw[CHURNED_MEMBERS],Weekly_Data_Raw[TICKER],'Weekly Metrics'!$A9,Weekly_Data_Raw[END_DATE],'Weekly Metrics'!BR$5)))))))","v":512856},{"$f":"IF($B9=\"Panel Sales\", SUMIFS(Weekly_Data_Raw[PANEL_AMOUNT],Weekly_Data_Raw[TICKER],'Weekly Metrics'!$A9,Weekly_Data_Raw[END_DATE],'Weekly Metrics'!BS$5),IF($B9=\"Transactions\",SUMIFS(Weekly_Data_Raw[PANEL_TRANSACTIONS],Weekly_Data_Raw[TICKER],'Weekly Metrics'!$A9,Weekly_Data_Raw[END_DATE],'Weekly Metrics'!BS$5), IF($B9=\"Avg Ticket\",SUMIFS(Weekly_Data_Raw[AVG_TICKET],Weekly_Data_Raw[TICKER],'Weekly Metrics'!$A9,Weekly_Data_Raw[END_DATE],'Weekly Metrics'!BS$5), IF($B9=\"EOP Subscribers\",SUMIFS(Weekly_Data_Raw[EOP_SUBSCRIBERS],Weekly_Data_Raw[TICKER],'Weekly Metrics'!$A9,Weekly_Data_Raw[END_DATE],'Weekly Metrics'!BS$5), IF($B9=\"Gross Adds\",SUMIFS(Weekly_Data_Raw[GROSS_ADDS],Weekly_Data_Raw[TICKER],'Weekly Metrics'!$A9,Weekly_Data_Raw[END_DATE],'Weekly Metrics'!BS$5), IF($B9=\"Churn\",SUMIFS(Weekly_Data_Raw[CHURNED_MEMBERS],Weekly_Data_Raw[TICKER],'Weekly Metrics'!$A9,Weekly_Data_Raw[END_DATE],'Weekly Metrics'!BS$5)))))))","v":539867},{"$f":"IF($B9=\"Panel Sales\", SUMIFS(Weekly_Data_Raw[PANEL_AMOUNT],Weekly_Data_Raw[TICKER],'Weekly Metrics'!$A9,Weekly_Data_Raw[END_DATE],'Weekly Metrics'!BT$5),IF($B9=\"Transactions\",SUMIFS(Weekly_Data_Raw[PANEL_TRANSACTIONS],Weekly_Data_Raw[TICKER],'Weekly Metrics'!$A9,Weekly_Data_Raw[END_DATE],'Weekly Metrics'!BT$5), IF($B9=\"Avg Ticket\",SUMIFS(Weekly_Data_Raw[AVG_TICKET],Weekly_Data_Raw[TICKER],'Weekly Metrics'!$A9,Weekly_Data_Raw[END_DATE],'Weekly Metrics'!BT$5), IF($B9=\"EOP Subscribers\",SUMIFS(Weekly_Data_Raw[EOP_SUBSCRIBERS],Weekly_Data_Raw[TICKER],'Weekly Metrics'!$A9,Weekly_Data_Raw[END_DATE],'Weekly Metrics'!BT$5), IF($B9=\"Gross Adds\",SUMIFS(Weekly_Data_Raw[GROSS_ADDS],Weekly_Data_Raw[TICKER],'Weekly Metrics'!$A9,Weekly_Data_Raw[END_DATE],'Weekly Metrics'!BT$5), IF($B9=\"Churn\",SUMIFS(Weekly_Data_Raw[CHURNED_MEMBERS],Weekly_Data_Raw[TICKER],'Weekly Metrics'!$A9,Weekly_Data_Raw[END_DATE],'Weekly Metrics'!BT$5)))))))","v":554558},{"$f":"IF($B9=\"Panel Sales\", SUMIFS(Weekly_Data_Raw[PANEL_AMOUNT],Weekly_Data_Raw[TICKER],'Weekly Metrics'!$A9,Weekly_Data_Raw[END_DATE],'Weekly Metrics'!BU$5),IF($B9=\"Transactions\",SUMIFS(Weekly_Data_Raw[PANEL_TRANSACTIONS],Weekly_Data_Raw[TICKER],'Weekly Metrics'!$A9,Weekly_Data_Raw[END_DATE],'Weekly Metrics'!BU$5), IF($B9=\"Avg Ticket\",SUMIFS(Weekly_Data_Raw[AVG_TICKET],Weekly_Data_Raw[TICKER],'Weekly Metrics'!$A9,Weekly_Data_Raw[END_DATE],'Weekly Metrics'!BU$5), IF($B9=\"EOP Subscribers\",SUMIFS(Weekly_Data_Raw[EOP_SUBSCRIBERS],Weekly_Data_Raw[TICKER],'Weekly Metrics'!$A9,Weekly_Data_Raw[END_DATE],'Weekly Metrics'!BU$5), IF($B9=\"Gross Adds\",SUMIFS(Weekly_Data_Raw[GROSS_ADDS],Weekly_Data_Raw[TICKER],'Weekly Metrics'!$A9,Weekly_Data_Raw[END_DATE],'Weekly Metrics'!BU$5), IF($B9=\"Churn\",SUMIFS(Weekly_Data_Raw[CHURNED_MEMBERS],Weekly_Data_Raw[TICKER],'Weekly Metrics'!$A9,Weekly_Data_Raw[END_DATE],'Weekly Metrics'!BU$5)))))))","v":569190},{"$f":"IF($B9=\"Panel Sales\", SUMIFS(Weekly_Data_Raw[PANEL_AMOUNT],Weekly_Data_Raw[TICKER],'Weekly Metrics'!$A9,Weekly_Data_Raw[END_DATE],'Weekly Metrics'!BV$5),IF($B9=\"Transactions\",SUMIFS(Weekly_Data_Raw[PANEL_TRANSACTIONS],Weekly_Data_Raw[TICKER],'Weekly Metrics'!$A9,Weekly_Data_Raw[END_DATE],'Weekly Metrics'!BV$5), IF($B9=\"Avg Ticket\",SUMIFS(Weekly_Data_Raw[AVG_TICKET],Weekly_Data_Raw[TICKER],'Weekly Metrics'!$A9,Weekly_Data_Raw[END_DATE],'Weekly Metrics'!BV$5), IF($B9=\"EOP Subscribers\",SUMIFS(Weekly_Data_Raw[EOP_SUBSCRIBERS],Weekly_Data_Raw[TICKER],'Weekly Metrics'!$A9,Weekly_Data_Raw[END_DATE],'Weekly Metrics'!BV$5), IF($B9=\"Gross Adds\",SUMIFS(Weekly_Data_Raw[GROSS_ADDS],Weekly_Data_Raw[TICKER],'Weekly Metrics'!$A9,Weekly_Data_Raw[END_DATE],'Weekly Metrics'!BV$5), IF($B9=\"Churn\",SUMIFS(Weekly_Data_Raw[CHURNED_MEMBERS],Weekly_Data_Raw[TICKER],'Weekly Metrics'!$A9,Weekly_Data_Raw[END_DATE],'Weekly Metrics'!BV$5)))))))","v":528561},{"$f":"IF($B9=\"Panel Sales\", SUMIFS(Weekly_Data_Raw[PANEL_AMOUNT],Weekly_Data_Raw[TICKER],'Weekly Metrics'!$A9,Weekly_Data_Raw[END_DATE],'Weekly Metrics'!BW$5),IF($B9=\"Transactions\",SUMIFS(Weekly_Data_Raw[PANEL_TRANSACTIONS],Weekly_Data_Raw[TICKER],'Weekly Metrics'!$A9,Weekly_Data_Raw[END_DATE],'Weekly Metrics'!BW$5), IF($B9=\"Avg Ticket\",SUMIFS(Weekly_Data_Raw[AVG_TICKET],Weekly_Data_Raw[TICKER],'Weekly Metrics'!$A9,Weekly_Data_Raw[END_DATE],'Weekly Metrics'!BW$5), IF($B9=\"EOP Subscribers\",SUMIFS(Weekly_Data_Raw[EOP_SUBSCRIBERS],Weekly_Data_Raw[TICKER],'Weekly Metrics'!$A9,Weekly_Data_Raw[END_DATE],'Weekly Metrics'!BW$5), IF($B9=\"Gross Adds\",SUMIFS(Weekly_Data_Raw[GROSS_ADDS],Weekly_Data_Raw[TICKER],'Weekly Metrics'!$A9,Weekly_Data_Raw[END_DATE],'Weekly Metrics'!BW$5), IF($B9=\"Churn\",SUMIFS(Weekly_Data_Raw[CHURNED_MEMBERS],Weekly_Data_Raw[TICKER],'Weekly Metrics'!$A9,Weekly_Data_Raw[END_DATE],'Weekly Metrics'!BW$5)))))))","v":534148},{"$f":"IF($B9=\"Panel Sales\", SUMIFS(Weekly_Data_Raw[PANEL_AMOUNT],Weekly_Data_Raw[TICKER],'Weekly Metrics'!$A9,Weekly_Data_Raw[END_DATE],'Weekly Metrics'!BX$5),IF($B9=\"Transactions\",SUMIFS(Weekly_Data_Raw[PANEL_TRANSACTIONS],Weekly_Data_Raw[TICKER],'Weekly Metrics'!$A9,Weekly_Data_Raw[END_DATE],'Weekly Metrics'!BX$5), IF($B9=\"Avg Ticket\",SUMIFS(Weekly_Data_Raw[AVG_TICKET],Weekly_Data_Raw[TICKER],'Weekly Metrics'!$A9,Weekly_Data_Raw[END_DATE],'Weekly Metrics'!BX$5), IF($B9=\"EOP Subscribers\",SUMIFS(Weekly_Data_Raw[EOP_SUBSCRIBERS],Weekly_Data_Raw[TICKER],'Weekly Metrics'!$A9,Weekly_Data_Raw[END_DATE],'Weekly Metrics'!BX$5), IF($B9=\"Gross Adds\",SUMIFS(Weekly_Data_Raw[GROSS_ADDS],Weekly_Data_Raw[TICKER],'Weekly Metrics'!$A9,Weekly_Data_Raw[END_DATE],'Weekly Metrics'!BX$5), IF($B9=\"Churn\",SUMIFS(Weekly_Data_Raw[CHURNED_MEMBERS],Weekly_Data_Raw[TICKER],'Weekly Metrics'!$A9,Weekly_Data_Raw[END_DATE],'Weekly Metrics'!BX$5)))))))","v":517199},{"$f":"IF($B9=\"Panel Sales\", SUMIFS(Weekly_Data_Raw[PANEL_AMOUNT],Weekly_Data_Raw[TICKER],'Weekly Metrics'!$A9,Weekly_Data_Raw[END_DATE],'Weekly Metrics'!BY$5),IF($B9=\"Transactions\",SUMIFS(Weekly_Data_Raw[PANEL_TRANSACTIONS],Weekly_Data_Raw[TICKER],'Weekly Metrics'!$A9,Weekly_Data_Raw[END_DATE],'Weekly Metrics'!BY$5), IF($B9=\"Avg Ticket\",SUMIFS(Weekly_Data_Raw[AVG_TICKET],Weekly_Data_Raw[TICKER],'Weekly Metrics'!$A9,Weekly_Data_Raw[END_DATE],'Weekly Metrics'!BY$5), IF($B9=\"EOP Subscribers\",SUMIFS(Weekly_Data_Raw[EOP_SUBSCRIBERS],Weekly_Data_Raw[TICKER],'Weekly Metrics'!$A9,Weekly_Data_Raw[END_DATE],'Weekly Metrics'!BY$5), IF($B9=\"Gross Adds\",SUMIFS(Weekly_Data_Raw[GROSS_ADDS],Weekly_Data_Raw[TICKER],'Weekly Metrics'!$A9,Weekly_Data_Raw[END_DATE],'Weekly Metrics'!BY$5), IF($B9=\"Churn\",SUMIFS(Weekly_Data_Raw[CHURNED_MEMBERS],Weekly_Data_Raw[TICKER],'Weekly Metrics'!$A9,Weekly_Data_Raw[END_DATE],'Weekly Metrics'!BY$5)))))))","v":561438},{"$f":"IF($B9=\"Panel Sales\", SUMIFS(Weekly_Data_Raw[PANEL_AMOUNT],Weekly_Data_Raw[TICKER],'Weekly Metrics'!$A9,Weekly_Data_Raw[END_DATE],'Weekly Metrics'!BZ$5),IF($B9=\"Transactions\",SUMIFS(Weekly_Data_Raw[PANEL_TRANSACTIONS],Weekly_Data_Raw[TICKER],'Weekly Metrics'!$A9,Weekly_Data_Raw[END_DATE],'Weekly Metrics'!BZ$5), IF($B9=\"Avg Ticket\",SUMIFS(Weekly_Data_Raw[AVG_TICKET],Weekly_Data_Raw[TICKER],'Weekly Metrics'!$A9,Weekly_Data_Raw[END_DATE],'Weekly Metrics'!BZ$5), IF($B9=\"EOP Subscribers\",SUMIFS(Weekly_Data_Raw[EOP_SUBSCRIBERS],Weekly_Data_Raw[TICKER],'Weekly Metrics'!$A9,Weekly_Data_Raw[END_DATE],'Weekly Metrics'!BZ$5), IF($B9=\"Gross Adds\",SUMIFS(Weekly_Data_Raw[GROSS_ADDS],Weekly_Data_Raw[TICKER],'Weekly Metrics'!$A9,Weekly_Data_Raw[END_DATE],'Weekly Metrics'!BZ$5), IF($B9=\"Churn\",SUMIFS(Weekly_Data_Raw[CHURNED_MEMBERS],Weekly_Data_Raw[TICKER],'Weekly Metrics'!$A9,Weekly_Data_Raw[END_DATE],'Weekly Metrics'!BZ$5)))))))","v":520226},{"$f":"IF($B9=\"Panel Sales\", SUMIFS(Weekly_Data_Raw[PANEL_AMOUNT],Weekly_Data_Raw[TICKER],'Weekly Metrics'!$A9,Weekly_Data_Raw[END_DATE],'Weekly Metrics'!CA$5),IF($B9=\"Transactions\",SUMIFS(Weekly_Data_Raw[PANEL_TRANSACTIONS],Weekly_Data_Raw[TICKER],'Weekly Metrics'!$A9,Weekly_Data_Raw[END_DATE],'Weekly Metrics'!CA$5), IF($B9=\"Avg Ticket\",SUMIFS(Weekly_Data_Raw[AVG_TICKET],Weekly_Data_Raw[TICKER],'Weekly Metrics'!$A9,Weekly_Data_Raw[END_DATE],'Weekly Metrics'!CA$5), IF($B9=\"EOP Subscribers\",SUMIFS(Weekly_Data_Raw[EOP_SUBSCRIBERS],Weekly_Data_Raw[TICKER],'Weekly Metrics'!$A9,Weekly_Data_Raw[END_DATE],'Weekly Metrics'!CA$5), IF($B9=\"Gross Adds\",SUMIFS(Weekly_Data_Raw[GROSS_ADDS],Weekly_Data_Raw[TICKER],'Weekly Metrics'!$A9,Weekly_Data_Raw[END_DATE],'Weekly Metrics'!CA$5), IF($B9=\"Churn\",SUMIFS(Weekly_Data_Raw[CHURNED_MEMBERS],Weekly_Data_Raw[TICKER],'Weekly Metrics'!$A9,Weekly_Data_Raw[END_DATE],'Weekly Metrics'!CA$5)))))))","v":527622},{"$f":"IF($B9=\"Panel Sales\", SUMIFS(Weekly_Data_Raw[PANEL_AMOUNT],Weekly_Data_Raw[TICKER],'Weekly Metrics'!$A9,Weekly_Data_Raw[END_DATE],'Weekly Metrics'!CB$5),IF($B9=\"Transactions\",SUMIFS(Weekly_Data_Raw[PANEL_TRANSACTIONS],Weekly_Data_Raw[TICKER],'Weekly Metrics'!$A9,Weekly_Data_Raw[END_DATE],'Weekly Metrics'!CB$5), IF($B9=\"Avg Ticket\",SUMIFS(Weekly_Data_Raw[AVG_TICKET],Weekly_Data_Raw[TICKER],'Weekly Metrics'!$A9,Weekly_Data_Raw[END_DATE],'Weekly Metrics'!CB$5), IF($B9=\"EOP Subscribers\",SUMIFS(Weekly_Data_Raw[EOP_SUBSCRIBERS],Weekly_Data_Raw[TICKER],'Weekly Metrics'!$A9,Weekly_Data_Raw[END_DATE],'Weekly Metrics'!CB$5), IF($B9=\"Gross Adds\",SUMIFS(Weekly_Data_Raw[GROSS_ADDS],Weekly_Data_Raw[TICKER],'Weekly Metrics'!$A9,Weekly_Data_Raw[END_DATE],'Weekly Metrics'!CB$5), IF($B9=\"Churn\",SUMIFS(Weekly_Data_Raw[CHURNED_MEMBERS],Weekly_Data_Raw[TICKER],'Weekly Metrics'!$A9,Weekly_Data_Raw[END_DATE],'Weekly Metrics'!CB$5)))))))","v":511679},{"$f":"IF($B9=\"Panel Sales\", SUMIFS(Weekly_Data_Raw[PANEL_AMOUNT],Weekly_Data_Raw[TICKER],'Weekly Metrics'!$A9,Weekly_Data_Raw[END_DATE],'Weekly Metrics'!CC$5),IF($B9=\"Transactions\",SUMIFS(Weekly_Data_Raw[PANEL_TRANSACTIONS],Weekly_Data_Raw[TICKER],'Weekly Metrics'!$A9,Weekly_Data_Raw[END_DATE],'Weekly Metrics'!CC$5), IF($B9=\"Avg Ticket\",SUMIFS(Weekly_Data_Raw[AVG_TICKET],Weekly_Data_Raw[TICKER],'Weekly Metrics'!$A9,Weekly_Data_Raw[END_DATE],'Weekly Metrics'!CC$5), IF($B9=\"EOP Subscribers\",SUMIFS(Weekly_Data_Raw[EOP_SUBSCRIBERS],Weekly_Data_Raw[TICKER],'Weekly Metrics'!$A9,Weekly_Data_Raw[END_DATE],'Weekly Metrics'!CC$5), IF($B9=\"Gross Adds\",SUMIFS(Weekly_Data_Raw[GROSS_ADDS],Weekly_Data_Raw[TICKER],'Weekly Metrics'!$A9,Weekly_Data_Raw[END_DATE],'Weekly Metrics'!CC$5), IF($B9=\"Churn\",SUMIFS(Weekly_Data_Raw[CHURNED_MEMBERS],Weekly_Data_Raw[TICKER],'Weekly Metrics'!$A9,Weekly_Data_Raw[END_DATE],'Weekly Metrics'!CC$5)))))))","v":543813},{"$f":"IF($B9=\"Panel Sales\", SUMIFS(Weekly_Data_Raw[PANEL_AMOUNT],Weekly_Data_Raw[TICKER],'Weekly Metrics'!$A9,Weekly_Data_Raw[END_DATE],'Weekly Metrics'!CD$5),IF($B9=\"Transactions\",SUMIFS(Weekly_Data_Raw[PANEL_TRANSACTIONS],Weekly_Data_Raw[TICKER],'Weekly Metrics'!$A9,Weekly_Data_Raw[END_DATE],'Weekly Metrics'!CD$5), IF($B9=\"Avg Ticket\",SUMIFS(Weekly_Data_Raw[AVG_TICKET],Weekly_Data_Raw[TICKER],'Weekly Metrics'!$A9,Weekly_Data_Raw[END_DATE],'Weekly Metrics'!CD$5), IF($B9=\"EOP Subscribers\",SUMIFS(Weekly_Data_Raw[EOP_SUBSCRIBERS],Weekly_Data_Raw[TICKER],'Weekly Metrics'!$A9,Weekly_Data_Raw[END_DATE],'Weekly Metrics'!CD$5), IF($B9=\"Gross Adds\",SUMIFS(Weekly_Data_Raw[GROSS_ADDS],Weekly_Data_Raw[TICKER],'Weekly Metrics'!$A9,Weekly_Data_Raw[END_DATE],'Weekly Metrics'!CD$5), IF($B9=\"Churn\",SUMIFS(Weekly_Data_Raw[CHURNED_MEMBERS],Weekly_Data_Raw[TICKER],'Weekly Metrics'!$A9,Weekly_Data_Raw[END_DATE],'Weekly Metrics'!CD$5)))))))","v":502767},{"$f":"IF($B9=\"Panel Sales\", SUMIFS(Weekly_Data_Raw[PANEL_AMOUNT],Weekly_Data_Raw[TICKER],'Weekly Metrics'!$A9,Weekly_Data_Raw[END_DATE],'Weekly Metrics'!CE$5),IF($B9=\"Transactions\",SUMIFS(Weekly_Data_Raw[PANEL_TRANSACTIONS],Weekly_Data_Raw[TICKER],'Weekly Metrics'!$A9,Weekly_Data_Raw[END_DATE],'Weekly Metrics'!CE$5), IF($B9=\"Avg Ticket\",SUMIFS(Weekly_Data_Raw[AVG_TICKET],Weekly_Data_Raw[TICKER],'Weekly Metrics'!$A9,Weekly_Data_Raw[END_DATE],'Weekly Metrics'!CE$5), IF($B9=\"EOP Subscribers\",SUMIFS(Weekly_Data_Raw[EOP_SUBSCRIBERS],Weekly_Data_Raw[TICKER],'Weekly Metrics'!$A9,Weekly_Data_Raw[END_DATE],'Weekly Metrics'!CE$5), IF($B9=\"Gross Adds\",SUMIFS(Weekly_Data_Raw[GROSS_ADDS],Weekly_Data_Raw[TICKER],'Weekly Metrics'!$A9,Weekly_Data_Raw[END_DATE],'Weekly Metrics'!CE$5), IF($B9=\"Churn\",SUMIFS(Weekly_Data_Raw[CHURNED_MEMBERS],Weekly_Data_Raw[TICKER],'Weekly Metrics'!$A9,Weekly_Data_Raw[END_DATE],'Weekly Metrics'!CE$5)))))))","v":511102},{"$f":"IF($B9=\"Panel Sales\", SUMIFS(Weekly_Data_Raw[PANEL_AMOUNT],Weekly_Data_Raw[TICKER],'Weekly Metrics'!$A9,Weekly_Data_Raw[END_DATE],'Weekly Metrics'!CF$5),IF($B9=\"Transactions\",SUMIFS(Weekly_Data_Raw[PANEL_TRANSACTIONS],Weekly_Data_Raw[TICKER],'Weekly Metrics'!$A9,Weekly_Data_Raw[END_DATE],'Weekly Metrics'!CF$5), IF($B9=\"Avg Ticket\",SUMIFS(Weekly_Data_Raw[AVG_TICKET],Weekly_Data_Raw[TICKER],'Weekly Metrics'!$A9,Weekly_Data_Raw[END_DATE],'Weekly Metrics'!CF$5), IF($B9=\"EOP Subscribers\",SUMIFS(Weekly_Data_Raw[EOP_SUBSCRIBERS],Weekly_Data_Raw[TICKER],'Weekly Metrics'!$A9,Weekly_Data_Raw[END_DATE],'Weekly Metrics'!CF$5), IF($B9=\"Gross Adds\",SUMIFS(Weekly_Data_Raw[GROSS_ADDS],Weekly_Data_Raw[TICKER],'Weekly Metrics'!$A9,Weekly_Data_Raw[END_DATE],'Weekly Metrics'!CF$5), IF($B9=\"Churn\",SUMIFS(Weekly_Data_Raw[CHURNED_MEMBERS],Weekly_Data_Raw[TICKER],'Weekly Metrics'!$A9,Weekly_Data_Raw[END_DATE],'Weekly Metrics'!CF$5)))))))","v":509845},{"$f":"IF($B9=\"Panel Sales\", SUMIFS(Weekly_Data_Raw[PANEL_AMOUNT],Weekly_Data_Raw[TICKER],'Weekly Metrics'!$A9,Weekly_Data_Raw[END_DATE],'Weekly Metrics'!CG$5),IF($B9=\"Transactions\",SUMIFS(Weekly_Data_Raw[PANEL_TRANSACTIONS],Weekly_Data_Raw[TICKER],'Weekly Metrics'!$A9,Weekly_Data_Raw[END_DATE],'Weekly Metrics'!CG$5), IF($B9=\"Avg Ticket\",SUMIFS(Weekly_Data_Raw[AVG_TICKET],Weekly_Data_Raw[TICKER],'Weekly Metrics'!$A9,Weekly_Data_Raw[END_DATE],'Weekly Metrics'!CG$5), IF($B9=\"EOP Subscribers\",SUMIFS(Weekly_Data_Raw[EOP_SUBSCRIBERS],Weekly_Data_Raw[TICKER],'Weekly Metrics'!$A9,Weekly_Data_Raw[END_DATE],'Weekly Metrics'!CG$5), IF($B9=\"Gross Adds\",SUMIFS(Weekly_Data_Raw[GROSS_ADDS],Weekly_Data_Raw[TICKER],'Weekly Metrics'!$A9,Weekly_Data_Raw[END_DATE],'Weekly Metrics'!CG$5), IF($B9=\"Churn\",SUMIFS(Weekly_Data_Raw[CHURNED_MEMBERS],Weekly_Data_Raw[TICKER],'Weekly Metrics'!$A9,Weekly_Data_Raw[END_DATE],'Weekly Metrics'!CG$5)))))))","v":520210},{"$f":"IF($B9=\"Panel Sales\", SUMIFS(Weekly_Data_Raw[PANEL_AMOUNT],Weekly_Data_Raw[TICKER],'Weekly Metrics'!$A9,Weekly_Data_Raw[END_DATE],'Weekly Metrics'!CH$5),IF($B9=\"Transactions\",SUMIFS(Weekly_Data_Raw[PANEL_TRANSACTIONS],Weekly_Data_Raw[TICKER],'Weekly Metrics'!$A9,Weekly_Data_Raw[END_DATE],'Weekly Metrics'!CH$5), IF($B9=\"Avg Ticket\",SUMIFS(Weekly_Data_Raw[AVG_TICKET],Weekly_Data_Raw[TICKER],'Weekly Metrics'!$A9,Weekly_Data_Raw[END_DATE],'Weekly Metrics'!CH$5), IF($B9=\"EOP Subscribers\",SUMIFS(Weekly_Data_Raw[EOP_SUBSCRIBERS],Weekly_Data_Raw[TICKER],'Weekly Metrics'!$A9,Weekly_Data_Raw[END_DATE],'Weekly Metrics'!CH$5), IF($B9=\"Gross Adds\",SUMIFS(Weekly_Data_Raw[GROSS_ADDS],Weekly_Data_Raw[TICKER],'Weekly Metrics'!$A9,Weekly_Data_Raw[END_DATE],'Weekly Metrics'!CH$5), IF($B9=\"Churn\",SUMIFS(Weekly_Data_Raw[CHURNED_MEMBERS],Weekly_Data_Raw[TICKER],'Weekly Metrics'!$A9,Weekly_Data_Raw[END_DATE],'Weekly Metrics'!CH$5)))))))","v":543992},{"$f":"IF($B9=\"Panel Sales\", SUMIFS(Weekly_Data_Raw[PANEL_AMOUNT],Weekly_Data_Raw[TICKER],'Weekly Metrics'!$A9,Weekly_Data_Raw[END_DATE],'Weekly Metrics'!CI$5),IF($B9=\"Transactions\",SUMIFS(Weekly_Data_Raw[PANEL_TRANSACTIONS],Weekly_Data_Raw[TICKER],'Weekly Metrics'!$A9,Weekly_Data_Raw[END_DATE],'Weekly Metrics'!CI$5), IF($B9=\"Avg Ticket\",SUMIFS(Weekly_Data_Raw[AVG_TICKET],Weekly_Data_Raw[TICKER],'Weekly Metrics'!$A9,Weekly_Data_Raw[END_DATE],'Weekly Metrics'!CI$5), IF($B9=\"EOP Subscribers\",SUMIFS(Weekly_Data_Raw[EOP_SUBSCRIBERS],Weekly_Data_Raw[TICKER],'Weekly Metrics'!$A9,Weekly_Data_Raw[END_DATE],'Weekly Metrics'!CI$5), IF($B9=\"Gross Adds\",SUMIFS(Weekly_Data_Raw[GROSS_ADDS],Weekly_Data_Raw[TICKER],'Weekly Metrics'!$A9,Weekly_Data_Raw[END_DATE],'Weekly Metrics'!CI$5), IF($B9=\"Churn\",SUMIFS(Weekly_Data_Raw[CHURNED_MEMBERS],Weekly_Data_Raw[TICKER],'Weekly Metrics'!$A9,Weekly_Data_Raw[END_DATE],'Weekly Metrics'!CI$5)))))))","v":512425},{"$f":"IF($B9=\"Panel Sales\", SUMIFS(Weekly_Data_Raw[PANEL_AMOUNT],Weekly_Data_Raw[TICKER],'Weekly Metrics'!$A9,Weekly_Data_Raw[END_DATE],'Weekly Metrics'!CJ$5),IF($B9=\"Transactions\",SUMIFS(Weekly_Data_Raw[PANEL_TRANSACTIONS],Weekly_Data_Raw[TICKER],'Weekly Metrics'!$A9,Weekly_Data_Raw[END_DATE],'Weekly Metrics'!CJ$5), IF($B9=\"Avg Ticket\",SUMIFS(Weekly_Data_Raw[AVG_TICKET],Weekly_Data_Raw[TICKER],'Weekly Metrics'!$A9,Weekly_Data_Raw[END_DATE],'Weekly Metrics'!CJ$5), IF($B9=\"EOP Subscribers\",SUMIFS(Weekly_Data_Raw[EOP_SUBSCRIBERS],Weekly_Data_Raw[TICKER],'Weekly Metrics'!$A9,Weekly_Data_Raw[END_DATE],'Weekly Metrics'!CJ$5), IF($B9=\"Gross Adds\",SUMIFS(Weekly_Data_Raw[GROSS_ADDS],Weekly_Data_Raw[TICKER],'Weekly Metrics'!$A9,Weekly_Data_Raw[END_DATE],'Weekly Metrics'!CJ$5), IF($B9=\"Churn\",SUMIFS(Weekly_Data_Raw[CHURNED_MEMBERS],Weekly_Data_Raw[TICKER],'Weekly Metrics'!$A9,Weekly_Data_Raw[END_DATE],'Weekly Metrics'!CJ$5)))))))","v":522814},{"$f":"IF($B9=\"Panel Sales\", SUMIFS(Weekly_Data_Raw[PANEL_AMOUNT],Weekly_Data_Raw[TICKER],'Weekly Metrics'!$A9,Weekly_Data_Raw[END_DATE],'Weekly Metrics'!CK$5),IF($B9=\"Transactions\",SUMIFS(Weekly_Data_Raw[PANEL_TRANSACTIONS],Weekly_Data_Raw[TICKER],'Weekly Metrics'!$A9,Weekly_Data_Raw[END_DATE],'Weekly Metrics'!CK$5), IF($B9=\"Avg Ticket\",SUMIFS(Weekly_Data_Raw[AVG_TICKET],Weekly_Data_Raw[TICKER],'Weekly Metrics'!$A9,Weekly_Data_Raw[END_DATE],'Weekly Metrics'!CK$5), IF($B9=\"EOP Subscribers\",SUMIFS(Weekly_Data_Raw[EOP_SUBSCRIBERS],Weekly_Data_Raw[TICKER],'Weekly Metrics'!$A9,Weekly_Data_Raw[END_DATE],'Weekly Metrics'!CK$5), IF($B9=\"Gross Adds\",SUMIFS(Weekly_Data_Raw[GROSS_ADDS],Weekly_Data_Raw[TICKER],'Weekly Metrics'!$A9,Weekly_Data_Raw[END_DATE],'Weekly Metrics'!CK$5), IF($B9=\"Churn\",SUMIFS(Weekly_Data_Raw[CHURNED_MEMBERS],Weekly_Data_Raw[TICKER],'Weekly Metrics'!$A9,Weekly_Data_Raw[END_DATE],'Weekly Metrics'!CK$5)))))))","v":515500},{"$f":"IF($B9=\"Panel Sales\", SUMIFS(Weekly_Data_Raw[PANEL_AMOUNT],Weekly_Data_Raw[TICKER],'Weekly Metrics'!$A9,Weekly_Data_Raw[END_DATE],'Weekly Metrics'!CL$5),IF($B9=\"Transactions\",SUMIFS(Weekly_Data_Raw[PANEL_TRANSACTIONS],Weekly_Data_Raw[TICKER],'Weekly Metrics'!$A9,Weekly_Data_Raw[END_DATE],'Weekly Metrics'!CL$5), IF($B9=\"Avg Ticket\",SUMIFS(Weekly_Data_Raw[AVG_TICKET],Weekly_Data_Raw[TICKER],'Weekly Metrics'!$A9,Weekly_Data_Raw[END_DATE],'Weekly Metrics'!CL$5), IF($B9=\"EOP Subscribers\",SUMIFS(Weekly_Data_Raw[EOP_SUBSCRIBERS],Weekly_Data_Raw[TICKER],'Weekly Metrics'!$A9,Weekly_Data_Raw[END_DATE],'Weekly Metrics'!CL$5), IF($B9=\"Gross Adds\",SUMIFS(Weekly_Data_Raw[GROSS_ADDS],Weekly_Data_Raw[TICKER],'Weekly Metrics'!$A9,Weekly_Data_Raw[END_DATE],'Weekly Metrics'!CL$5), IF($B9=\"Churn\",SUMIFS(Weekly_Data_Raw[CHURNED_MEMBERS],Weekly_Data_Raw[TICKER],'Weekly Metrics'!$A9,Weekly_Data_Raw[END_DATE],'Weekly Metrics'!CL$5)))))))","v":559304},{"$f":"IF($B9=\"Panel Sales\", SUMIFS(Weekly_Data_Raw[PANEL_AMOUNT],Weekly_Data_Raw[TICKER],'Weekly Metrics'!$A9,Weekly_Data_Raw[END_DATE],'Weekly Metrics'!CM$5),IF($B9=\"Transactions\",SUMIFS(Weekly_Data_Raw[PANEL_TRANSACTIONS],Weekly_Data_Raw[TICKER],'Weekly Metrics'!$A9,Weekly_Data_Raw[END_DATE],'Weekly Metrics'!CM$5), IF($B9=\"Avg Ticket\",SUMIFS(Weekly_Data_Raw[AVG_TICKET],Weekly_Data_Raw[TICKER],'Weekly Metrics'!$A9,Weekly_Data_Raw[END_DATE],'Weekly Metrics'!CM$5), IF($B9=\"EOP Subscribers\",SUMIFS(Weekly_Data_Raw[EOP_SUBSCRIBERS],Weekly_Data_Raw[TICKER],'Weekly Metrics'!$A9,Weekly_Data_Raw[END_DATE],'Weekly Metrics'!CM$5), IF($B9=\"Gross Adds\",SUMIFS(Weekly_Data_Raw[GROSS_ADDS],Weekly_Data_Raw[TICKER],'Weekly Metrics'!$A9,Weekly_Data_Raw[END_DATE],'Weekly Metrics'!CM$5), IF($B9=\"Churn\",SUMIFS(Weekly_Data_Raw[CHURNED_MEMBERS],Weekly_Data_Raw[TICKER],'Weekly Metrics'!$A9,Weekly_Data_Raw[END_DATE],'Weekly Metrics'!CM$5)))))))","v":527535},{"$f":"IF($B9=\"Panel Sales\", SUMIFS(Weekly_Data_Raw[PANEL_AMOUNT],Weekly_Data_Raw[TICKER],'Weekly Metrics'!$A9,Weekly_Data_Raw[END_DATE],'Weekly Metrics'!CN$5),IF($B9=\"Transactions\",SUMIFS(Weekly_Data_Raw[PANEL_TRANSACTIONS],Weekly_Data_Raw[TICKER],'Weekly Metrics'!$A9,Weekly_Data_Raw[END_DATE],'Weekly Metrics'!CN$5), IF($B9=\"Avg Ticket\",SUMIFS(Weekly_Data_Raw[AVG_TICKET],Weekly_Data_Raw[TICKER],'Weekly Metrics'!$A9,Weekly_Data_Raw[END_DATE],'Weekly Metrics'!CN$5), IF($B9=\"EOP Subscribers\",SUMIFS(Weekly_Data_Raw[EOP_SUBSCRIBERS],Weekly_Data_Raw[TICKER],'Weekly Metrics'!$A9,Weekly_Data_Raw[END_DATE],'Weekly Metrics'!CN$5), IF($B9=\"Gross Adds\",SUMIFS(Weekly_Data_Raw[GROSS_ADDS],Weekly_Data_Raw[TICKER],'Weekly Metrics'!$A9,Weekly_Data_Raw[END_DATE],'Weekly Metrics'!CN$5), IF($B9=\"Churn\",SUMIFS(Weekly_Data_Raw[CHURNED_MEMBERS],Weekly_Data_Raw[TICKER],'Weekly Metrics'!$A9,Weekly_Data_Raw[END_DATE],'Weekly Metrics'!CN$5)))))))","v":527782},{"$f":"IF($B9=\"Panel Sales\", SUMIFS(Weekly_Data_Raw[PANEL_AMOUNT],Weekly_Data_Raw[TICKER],'Weekly Metrics'!$A9,Weekly_Data_Raw[END_DATE],'Weekly Metrics'!CO$5),IF($B9=\"Transactions\",SUMIFS(Weekly_Data_Raw[PANEL_TRANSACTIONS],Weekly_Data_Raw[TICKER],'Weekly Metrics'!$A9,Weekly_Data_Raw[END_DATE],'Weekly Metrics'!CO$5), IF($B9=\"Avg Ticket\",SUMIFS(Weekly_Data_Raw[AVG_TICKET],Weekly_Data_Raw[TICKER],'Weekly Metrics'!$A9,Weekly_Data_Raw[END_DATE],'Weekly Metrics'!CO$5), IF($B9=\"EOP Subscribers\",SUMIFS(Weekly_Data_Raw[EOP_SUBSCRIBERS],Weekly_Data_Raw[TICKER],'Weekly Metrics'!$A9,Weekly_Data_Raw[END_DATE],'Weekly Metrics'!CO$5), IF($B9=\"Gross Adds\",SUMIFS(Weekly_Data_Raw[GROSS_ADDS],Weekly_Data_Raw[TICKER],'Weekly Metrics'!$A9,Weekly_Data_Raw[END_DATE],'Weekly Metrics'!CO$5), IF($B9=\"Churn\",SUMIFS(Weekly_Data_Raw[CHURNED_MEMBERS],Weekly_Data_Raw[TICKER],'Weekly Metrics'!$A9,Weekly_Data_Raw[END_DATE],'Weekly Metrics'!CO$5)))))))","v":525377},{"$f":"IF($B9=\"Panel Sales\", SUMIFS(Weekly_Data_Raw[PANEL_AMOUNT],Weekly_Data_Raw[TICKER],'Weekly Metrics'!$A9,Weekly_Data_Raw[END_DATE],'Weekly Metrics'!CP$5),IF($B9=\"Transactions\",SUMIFS(Weekly_Data_Raw[PANEL_TRANSACTIONS],Weekly_Data_Raw[TICKER],'Weekly Metrics'!$A9,Weekly_Data_Raw[END_DATE],'Weekly Metrics'!CP$5), IF($B9=\"Avg Ticket\",SUMIFS(Weekly_Data_Raw[AVG_TICKET],Weekly_Data_Raw[TICKER],'Weekly Metrics'!$A9,Weekly_Data_Raw[END_DATE],'Weekly Metrics'!CP$5), IF($B9=\"EOP Subscribers\",SUMIFS(Weekly_Data_Raw[EOP_SUBSCRIBERS],Weekly_Data_Raw[TICKER],'Weekly Metrics'!$A9,Weekly_Data_Raw[END_DATE],'Weekly Metrics'!CP$5), IF($B9=\"Gross Adds\",SUMIFS(Weekly_Data_Raw[GROSS_ADDS],Weekly_Data_Raw[TICKER],'Weekly Metrics'!$A9,Weekly_Data_Raw[END_DATE],'Weekly Metrics'!CP$5), IF($B9=\"Churn\",SUMIFS(Weekly_Data_Raw[CHURNED_MEMBERS],Weekly_Data_Raw[TICKER],'Weekly Metrics'!$A9,Weekly_Data_Raw[END_DATE],'Weekly Metrics'!CP$5)))))))","v":561749},{"$f":"IF($B9=\"Panel Sales\", SUMIFS(Weekly_Data_Raw[PANEL_AMOUNT],Weekly_Data_Raw[TICKER],'Weekly Metrics'!$A9,Weekly_Data_Raw[END_DATE],'Weekly Metrics'!CQ$5),IF($B9=\"Transactions\",SUMIFS(Weekly_Data_Raw[PANEL_TRANSACTIONS],Weekly_Data_Raw[TICKER],'Weekly Metrics'!$A9,Weekly_Data_Raw[END_DATE],'Weekly Metrics'!CQ$5), IF($B9=\"Avg Ticket\",SUMIFS(Weekly_Data_Raw[AVG_TICKET],Weekly_Data_Raw[TICKER],'Weekly Metrics'!$A9,Weekly_Data_Raw[END_DATE],'Weekly Metrics'!CQ$5), IF($B9=\"EOP Subscribers\",SUMIFS(Weekly_Data_Raw[EOP_SUBSCRIBERS],Weekly_Data_Raw[TICKER],'Weekly Metrics'!$A9,Weekly_Data_Raw[END_DATE],'Weekly Metrics'!CQ$5), IF($B9=\"Gross Adds\",SUMIFS(Weekly_Data_Raw[GROSS_ADDS],Weekly_Data_Raw[TICKER],'Weekly Metrics'!$A9,Weekly_Data_Raw[END_DATE],'Weekly Metrics'!CQ$5), IF($B9=\"Churn\",SUMIFS(Weekly_Data_Raw[CHURNED_MEMBERS],Weekly_Data_Raw[TICKER],'Weekly Metrics'!$A9,Weekly_Data_Raw[END_DATE],'Weekly Metrics'!CQ$5)))))))","v":536128},{"$f":"IF($B9=\"Panel Sales\", SUMIFS(Weekly_Data_Raw[PANEL_AMOUNT],Weekly_Data_Raw[TICKER],'Weekly Metrics'!$A9,Weekly_Data_Raw[END_DATE],'Weekly Metrics'!CR$5),IF($B9=\"Transactions\",SUMIFS(Weekly_Data_Raw[PANEL_TRANSACTIONS],Weekly_Data_Raw[TICKER],'Weekly Metrics'!$A9,Weekly_Data_Raw[END_DATE],'Weekly Metrics'!CR$5), IF($B9=\"Avg Ticket\",SUMIFS(Weekly_Data_Raw[AVG_TICKET],Weekly_Data_Raw[TICKER],'Weekly Metrics'!$A9,Weekly_Data_Raw[END_DATE],'Weekly Metrics'!CR$5), IF($B9=\"EOP Subscribers\",SUMIFS(Weekly_Data_Raw[EOP_SUBSCRIBERS],Weekly_Data_Raw[TICKER],'Weekly Metrics'!$A9,Weekly_Data_Raw[END_DATE],'Weekly Metrics'!CR$5), IF($B9=\"Gross Adds\",SUMIFS(Weekly_Data_Raw[GROSS_ADDS],Weekly_Data_Raw[TICKER],'Weekly Metrics'!$A9,Weekly_Data_Raw[END_DATE],'Weekly Metrics'!CR$5), IF($B9=\"Churn\",SUMIFS(Weekly_Data_Raw[CHURNED_MEMBERS],Weekly_Data_Raw[TICKER],'Weekly Metrics'!$A9,Weekly_Data_Raw[END_DATE],'Weekly Metrics'!CR$5)))))))","v":524268},{"$f":"IF($B9=\"Panel Sales\", SUMIFS(Weekly_Data_Raw[PANEL_AMOUNT],Weekly_Data_Raw[TICKER],'Weekly Metrics'!$A9,Weekly_Data_Raw[END_DATE],'Weekly Metrics'!CS$5),IF($B9=\"Transactions\",SUMIFS(Weekly_Data_Raw[PANEL_TRANSACTIONS],Weekly_Data_Raw[TICKER],'Weekly Metrics'!$A9,Weekly_Data_Raw[END_DATE],'Weekly Metrics'!CS$5), IF($B9=\"Avg Ticket\",SUMIFS(Weekly_Data_Raw[AVG_TICKET],Weekly_Data_Raw[TICKER],'Weekly Metrics'!$A9,Weekly_Data_Raw[END_DATE],'Weekly Metrics'!CS$5), IF($B9=\"EOP Subscribers\",SUMIFS(Weekly_Data_Raw[EOP_SUBSCRIBERS],Weekly_Data_Raw[TICKER],'Weekly Metrics'!$A9,Weekly_Data_Raw[END_DATE],'Weekly Metrics'!CS$5), IF($B9=\"Gross Adds\",SUMIFS(Weekly_Data_Raw[GROSS_ADDS],Weekly_Data_Raw[TICKER],'Weekly Metrics'!$A9,Weekly_Data_Raw[END_DATE],'Weekly Metrics'!CS$5), IF($B9=\"Churn\",SUMIFS(Weekly_Data_Raw[CHURNED_MEMBERS],Weekly_Data_Raw[TICKER],'Weekly Metrics'!$A9,Weekly_Data_Raw[END_DATE],'Weekly Metrics'!CS$5)))))))","v":535491},{"$f":"IF($B9=\"Panel Sales\", SUMIFS(Weekly_Data_Raw[PANEL_AMOUNT],Weekly_Data_Raw[TICKER],'Weekly Metrics'!$A9,Weekly_Data_Raw[END_DATE],'Weekly Metrics'!CT$5),IF($B9=\"Transactions\",SUMIFS(Weekly_Data_Raw[PANEL_TRANSACTIONS],Weekly_Data_Raw[TICKER],'Weekly Metrics'!$A9,Weekly_Data_Raw[END_DATE],'Weekly Metrics'!CT$5), IF($B9=\"Avg Ticket\",SUMIFS(Weekly_Data_Raw[AVG_TICKET],Weekly_Data_Raw[TICKER],'Weekly Metrics'!$A9,Weekly_Data_Raw[END_DATE],'Weekly Metrics'!CT$5), IF($B9=\"EOP Subscribers\",SUMIFS(Weekly_Data_Raw[EOP_SUBSCRIBERS],Weekly_Data_Raw[TICKER],'Weekly Metrics'!$A9,Weekly_Data_Raw[END_DATE],'Weekly Metrics'!CT$5), IF($B9=\"Gross Adds\",SUMIFS(Weekly_Data_Raw[GROSS_ADDS],Weekly_Data_Raw[TICKER],'Weekly Metrics'!$A9,Weekly_Data_Raw[END_DATE],'Weekly Metrics'!CT$5), IF($B9=\"Churn\",SUMIFS(Weekly_Data_Raw[CHURNED_MEMBERS],Weekly_Data_Raw[TICKER],'Weekly Metrics'!$A9,Weekly_Data_Raw[END_DATE],'Weekly Metrics'!CT$5)))))))","v":536445},{"$f":"IF($B9=\"Panel Sales\", SUMIFS(Weekly_Data_Raw[PANEL_AMOUNT],Weekly_Data_Raw[TICKER],'Weekly Metrics'!$A9,Weekly_Data_Raw[END_DATE],'Weekly Metrics'!CU$5),IF($B9=\"Transactions\",SUMIFS(Weekly_Data_Raw[PANEL_TRANSACTIONS],Weekly_Data_Raw[TICKER],'Weekly Metrics'!$A9,Weekly_Data_Raw[END_DATE],'Weekly Metrics'!CU$5), IF($B9=\"Avg Ticket\",SUMIFS(Weekly_Data_Raw[AVG_TICKET],Weekly_Data_Raw[TICKER],'Weekly Metrics'!$A9,Weekly_Data_Raw[END_DATE],'Weekly Metrics'!CU$5), IF($B9=\"EOP Subscribers\",SUMIFS(Weekly_Data_Raw[EOP_SUBSCRIBERS],Weekly_Data_Raw[TICKER],'Weekly Metrics'!$A9,Weekly_Data_Raw[END_DATE],'Weekly Metrics'!CU$5), IF($B9=\"Gross Adds\",SUMIFS(Weekly_Data_Raw[GROSS_ADDS],Weekly_Data_Raw[TICKER],'Weekly Metrics'!$A9,Weekly_Data_Raw[END_DATE],'Weekly Metrics'!CU$5), IF($B9=\"Churn\",SUMIFS(Weekly_Data_Raw[CHURNED_MEMBERS],Weekly_Data_Raw[TICKER],'Weekly Metrics'!$A9,Weekly_Data_Raw[END_DATE],'Weekly Metrics'!CU$5)))))))","v":549651},{"$f":"IF($B9=\"Panel Sales\", SUMIFS(Weekly_Data_Raw[PANEL_AMOUNT],Weekly_Data_Raw[TICKER],'Weekly Metrics'!$A9,Weekly_Data_Raw[END_DATE],'Weekly Metrics'!CV$5),IF($B9=\"Transactions\",SUMIFS(Weekly_Data_Raw[PANEL_TRANSACTIONS],Weekly_Data_Raw[TICKER],'Weekly Metrics'!$A9,Weekly_Data_Raw[END_DATE],'Weekly Metrics'!CV$5), IF($B9=\"Avg Ticket\",SUMIFS(Weekly_Data_Raw[AVG_TICKET],Weekly_Data_Raw[TICKER],'Weekly Metrics'!$A9,Weekly_Data_Raw[END_DATE],'Weekly Metrics'!CV$5), IF($B9=\"EOP Subscribers\",SUMIFS(Weekly_Data_Raw[EOP_SUBSCRIBERS],Weekly_Data_Raw[TICKER],'Weekly Metrics'!$A9,Weekly_Data_Raw[END_DATE],'Weekly Metrics'!CV$5), IF($B9=\"Gross Adds\",SUMIFS(Weekly_Data_Raw[GROSS_ADDS],Weekly_Data_Raw[TICKER],'Weekly Metrics'!$A9,Weekly_Data_Raw[END_DATE],'Weekly Metrics'!CV$5), IF($B9=\"Churn\",SUMIFS(Weekly_Data_Raw[CHURNED_MEMBERS],Weekly_Data_Raw[TICKER],'Weekly Metrics'!$A9,Weekly_Data_Raw[END_DATE],'Weekly Metrics'!CV$5)))))))","v":556335},{"$f":"IF($B9=\"Panel Sales\", SUMIFS(Weekly_Data_Raw[PANEL_AMOUNT],Weekly_Data_Raw[TICKER],'Weekly Metrics'!$A9,Weekly_Data_Raw[END_DATE],'Weekly Metrics'!CW$5),IF($B9=\"Transactions\",SUMIFS(Weekly_Data_Raw[PANEL_TRANSACTIONS],Weekly_Data_Raw[TICKER],'Weekly Metrics'!$A9,Weekly_Data_Raw[END_DATE],'Weekly Metrics'!CW$5), IF($B9=\"Avg Ticket\",SUMIFS(Weekly_Data_Raw[AVG_TICKET],Weekly_Data_Raw[TICKER],'Weekly Metrics'!$A9,Weekly_Data_Raw[END_DATE],'Weekly Metrics'!CW$5), IF($B9=\"EOP Subscribers\",SUMIFS(Weekly_Data_Raw[EOP_SUBSCRIBERS],Weekly_Data_Raw[TICKER],'Weekly Metrics'!$A9,Weekly_Data_Raw[END_DATE],'Weekly Metrics'!CW$5), IF($B9=\"Gross Adds\",SUMIFS(Weekly_Data_Raw[GROSS_ADDS],Weekly_Data_Raw[TICKER],'Weekly Metrics'!$A9,Weekly_Data_Raw[END_DATE],'Weekly Metrics'!CW$5), IF($B9=\"Churn\",SUMIFS(Weekly_Data_Raw[CHURNED_MEMBERS],Weekly_Data_Raw[TICKER],'Weekly Metrics'!$A9,Weekly_Data_Raw[END_DATE],'Weekly Metrics'!CW$5)))))))","v":575821},{"$f":"IF($B9=\"Panel Sales\", SUMIFS(Weekly_Data_Raw[PANEL_AMOUNT],Weekly_Data_Raw[TICKER],'Weekly Metrics'!$A9,Weekly_Data_Raw[END_DATE],'Weekly Metrics'!CX$5),IF($B9=\"Transactions\",SUMIFS(Weekly_Data_Raw[PANEL_TRANSACTIONS],Weekly_Data_Raw[TICKER],'Weekly Metrics'!$A9,Weekly_Data_Raw[END_DATE],'Weekly Metrics'!CX$5), IF($B9=\"Avg Ticket\",SUMIFS(Weekly_Data_Raw[AVG_TICKET],Weekly_Data_Raw[TICKER],'Weekly Metrics'!$A9,Weekly_Data_Raw[END_DATE],'Weekly Metrics'!CX$5), IF($B9=\"EOP Subscribers\",SUMIFS(Weekly_Data_Raw[EOP_SUBSCRIBERS],Weekly_Data_Raw[TICKER],'Weekly Metrics'!$A9,Weekly_Data_Raw[END_DATE],'Weekly Metrics'!CX$5), IF($B9=\"Gross Adds\",SUMIFS(Weekly_Data_Raw[GROSS_ADDS],Weekly_Data_Raw[TICKER],'Weekly Metrics'!$A9,Weekly_Data_Raw[END_DATE],'Weekly Metrics'!CX$5), IF($B9=\"Churn\",SUMIFS(Weekly_Data_Raw[CHURNED_MEMBERS],Weekly_Data_Raw[TICKER],'Weekly Metrics'!$A9,Weekly_Data_Raw[END_DATE],'Weekly Metrics'!CX$5)))))))","v":602005},{"$f":"IF($B9=\"Panel Sales\", SUMIFS(Weekly_Data_Raw[PANEL_AMOUNT],Weekly_Data_Raw[TICKER],'Weekly Metrics'!$A9,Weekly_Data_Raw[END_DATE],'Weekly Metrics'!CY$5),IF($B9=\"Transactions\",SUMIFS(Weekly_Data_Raw[PANEL_TRANSACTIONS],Weekly_Data_Raw[TICKER],'Weekly Metrics'!$A9,Weekly_Data_Raw[END_DATE],'Weekly Metrics'!CY$5), IF($B9=\"Avg Ticket\",SUMIFS(Weekly_Data_Raw[AVG_TICKET],Weekly_Data_Raw[TICKER],'Weekly Metrics'!$A9,Weekly_Data_Raw[END_DATE],'Weekly Metrics'!CY$5), IF($B9=\"EOP Subscribers\",SUMIFS(Weekly_Data_Raw[EOP_SUBSCRIBERS],Weekly_Data_Raw[TICKER],'Weekly Metrics'!$A9,Weekly_Data_Raw[END_DATE],'Weekly Metrics'!CY$5), IF($B9=\"Gross Adds\",SUMIFS(Weekly_Data_Raw[GROSS_ADDS],Weekly_Data_Raw[TICKER],'Weekly Metrics'!$A9,Weekly_Data_Raw[END_DATE],'Weekly Metrics'!CY$5), IF($B9=\"Churn\",SUMIFS(Weekly_Data_Raw[CHURNED_MEMBERS],Weekly_Data_Raw[TICKER],'Weekly Metrics'!$A9,Weekly_Data_Raw[END_DATE],'Weekly Metrics'!CY$5)))))))","v":725446},{"$f":"IF($B9=\"Panel Sales\", SUMIFS(Weekly_Data_Raw[PANEL_AMOUNT],Weekly_Data_Raw[TICKER],'Weekly Metrics'!$A9,Weekly_Data_Raw[END_DATE],'Weekly Metrics'!CZ$5),IF($B9=\"Transactions\",SUMIFS(Weekly_Data_Raw[PANEL_TRANSACTIONS],Weekly_Data_Raw[TICKER],'Weekly Metrics'!$A9,Weekly_Data_Raw[END_DATE],'Weekly Metrics'!CZ$5), IF($B9=\"Avg Ticket\",SUMIFS(Weekly_Data_Raw[AVG_TICKET],Weekly_Data_Raw[TICKER],'Weekly Metrics'!$A9,Weekly_Data_Raw[END_DATE],'Weekly Metrics'!CZ$5), IF($B9=\"EOP Subscribers\",SUMIFS(Weekly_Data_Raw[EOP_SUBSCRIBERS],Weekly_Data_Raw[TICKER],'Weekly Metrics'!$A9,Weekly_Data_Raw[END_DATE],'Weekly Metrics'!CZ$5), IF($B9=\"Gross Adds\",SUMIFS(Weekly_Data_Raw[GROSS_ADDS],Weekly_Data_Raw[TICKER],'Weekly Metrics'!$A9,Weekly_Data_Raw[END_DATE],'Weekly Metrics'!CZ$5), IF($B9=\"Churn\",SUMIFS(Weekly_Data_Raw[CHURNED_MEMBERS],Weekly_Data_Raw[TICKER],'Weekly Metrics'!$A9,Weekly_Data_Raw[END_DATE],'Weekly Metrics'!CZ$5)))))))","v":655322},{"$f":"IF($B9=\"Panel Sales\", SUMIFS(Weekly_Data_Raw[PANEL_AMOUNT],Weekly_Data_Raw[TICKER],'Weekly Metrics'!$A9,Weekly_Data_Raw[END_DATE],'Weekly Metrics'!DA$5),IF($B9=\"Transactions\",SUMIFS(Weekly_Data_Raw[PANEL_TRANSACTIONS],Weekly_Data_Raw[TICKER],'Weekly Metrics'!$A9,Weekly_Data_Raw[END_DATE],'Weekly Metrics'!DA$5), IF($B9=\"Avg Ticket\",SUMIFS(Weekly_Data_Raw[AVG_TICKET],Weekly_Data_Raw[TICKER],'Weekly Metrics'!$A9,Weekly_Data_Raw[END_DATE],'Weekly Metrics'!DA$5), IF($B9=\"EOP Subscribers\",SUMIFS(Weekly_Data_Raw[EOP_SUBSCRIBERS],Weekly_Data_Raw[TICKER],'Weekly Metrics'!$A9,Weekly_Data_Raw[END_DATE],'Weekly Metrics'!DA$5), IF($B9=\"Gross Adds\",SUMIFS(Weekly_Data_Raw[GROSS_ADDS],Weekly_Data_Raw[TICKER],'Weekly Metrics'!$A9,Weekly_Data_Raw[END_DATE],'Weekly Metrics'!DA$5), IF($B9=\"Churn\",SUMIFS(Weekly_Data_Raw[CHURNED_MEMBERS],Weekly_Data_Raw[TICKER],'Weekly Metrics'!$A9,Weekly_Data_Raw[END_DATE],'Weekly Metrics'!DA$5)))))))","v":628032},{"$f":"IF($B9=\"Panel Sales\", SUMIFS(Weekly_Data_Raw[PANEL_AMOUNT],Weekly_Data_Raw[TICKER],'Weekly Metrics'!$A9,Weekly_Data_Raw[END_DATE],'Weekly Metrics'!DB$5),IF($B9=\"Transactions\",SUMIFS(Weekly_Data_Raw[PANEL_TRANSACTIONS],Weekly_Data_Raw[TICKER],'Weekly Metrics'!$A9,Weekly_Data_Raw[END_DATE],'Weekly Metrics'!DB$5), IF($B9=\"Avg Ticket\",SUMIFS(Weekly_Data_Raw[AVG_TICKET],Weekly_Data_Raw[TICKER],'Weekly Metrics'!$A9,Weekly_Data_Raw[END_DATE],'Weekly Metrics'!DB$5), IF($B9=\"EOP Subscribers\",SUMIFS(Weekly_Data_Raw[EOP_SUBSCRIBERS],Weekly_Data_Raw[TICKER],'Weekly Metrics'!$A9,Weekly_Data_Raw[END_DATE],'Weekly Metrics'!DB$5), IF($B9=\"Gross Adds\",SUMIFS(Weekly_Data_Raw[GROSS_ADDS],Weekly_Data_Raw[TICKER],'Weekly Metrics'!$A9,Weekly_Data_Raw[END_DATE],'Weekly Metrics'!DB$5), IF($B9=\"Churn\",SUMIFS(Weekly_Data_Raw[CHURNED_MEMBERS],Weekly_Data_Raw[TICKER],'Weekly Metrics'!$A9,Weekly_Data_Raw[END_DATE],'Weekly Metrics'!DB$5)))))))","v":542734},{"$f":"IF($B9=\"Panel Sales\", SUMIFS(Weekly_Data_Raw[PANEL_AMOUNT],Weekly_Data_Raw[TICKER],'Weekly Metrics'!$A9,Weekly_Data_Raw[END_DATE],'Weekly Metrics'!DC$5),IF($B9=\"Transactions\",SUMIFS(Weekly_Data_Raw[PANEL_TRANSACTIONS],Weekly_Data_Raw[TICKER],'Weekly Metrics'!$A9,Weekly_Data_Raw[END_DATE],'Weekly Metrics'!DC$5), IF($B9=\"Avg Ticket\",SUMIFS(Weekly_Data_Raw[AVG_TICKET],Weekly_Data_Raw[TICKER],'Weekly Metrics'!$A9,Weekly_Data_Raw[END_DATE],'Weekly Metrics'!DC$5), IF($B9=\"EOP Subscribers\",SUMIFS(Weekly_Data_Raw[EOP_SUBSCRIBERS],Weekly_Data_Raw[TICKER],'Weekly Metrics'!$A9,Weekly_Data_Raw[END_DATE],'Weekly Metrics'!DC$5), IF($B9=\"Gross Adds\",SUMIFS(Weekly_Data_Raw[GROSS_ADDS],Weekly_Data_Raw[TICKER],'Weekly Metrics'!$A9,Weekly_Data_Raw[END_DATE],'Weekly Metrics'!DC$5), IF($B9=\"Churn\",SUMIFS(Weekly_Data_Raw[CHURNED_MEMBERS],Weekly_Data_Raw[TICKER],'Weekly Metrics'!$A9,Weekly_Data_Raw[END_DATE],'Weekly Metrics'!DC$5)))))))","v":552808},{"$f":"IF($B9=\"Panel Sales\", SUMIFS(Weekly_Data_Raw[PANEL_AMOUNT],Weekly_Data_Raw[TICKER],'Weekly Metrics'!$A9,Weekly_Data_Raw[END_DATE],'Weekly Metrics'!DD$5),IF($B9=\"Transactions\",SUMIFS(Weekly_Data_Raw[PANEL_TRANSACTIONS],Weekly_Data_Raw[TICKER],'Weekly Metrics'!$A9,Weekly_Data_Raw[END_DATE],'Weekly Metrics'!DD$5), IF($B9=\"Avg Ticket\",SUMIFS(Weekly_Data_Raw[AVG_TICKET],Weekly_Data_Raw[TICKER],'Weekly Metrics'!$A9,Weekly_Data_Raw[END_DATE],'Weekly Metrics'!DD$5), IF($B9=\"EOP Subscribers\",SUMIFS(Weekly_Data_Raw[EOP_SUBSCRIBERS],Weekly_Data_Raw[TICKER],'Weekly Metrics'!$A9,Weekly_Data_Raw[END_DATE],'Weekly Metrics'!DD$5), IF($B9=\"Gross Adds\",SUMIFS(Weekly_Data_Raw[GROSS_ADDS],Weekly_Data_Raw[TICKER],'Weekly Metrics'!$A9,Weekly_Data_Raw[END_DATE],'Weekly Metrics'!DD$5), IF($B9=\"Churn\",SUMIFS(Weekly_Data_Raw[CHURNED_MEMBERS],Weekly_Data_Raw[TICKER],'Weekly Metrics'!$A9,Weekly_Data_Raw[END_DATE],'Weekly Metrics'!DD$5)))))))","v":571404},{"$f":"IF($B9=\"Panel Sales\", SUMIFS(Weekly_Data_Raw[PANEL_AMOUNT],Weekly_Data_Raw[TICKER],'Weekly Metrics'!$A9,Weekly_Data_Raw[END_DATE],'Weekly Metrics'!DE$5),IF($B9=\"Transactions\",SUMIFS(Weekly_Data_Raw[PANEL_TRANSACTIONS],Weekly_Data_Raw[TICKER],'Weekly Metrics'!$A9,Weekly_Data_Raw[END_DATE],'Weekly Metrics'!DE$5), IF($B9=\"Avg Ticket\",SUMIFS(Weekly_Data_Raw[AVG_TICKET],Weekly_Data_Raw[TICKER],'Weekly Metrics'!$A9,Weekly_Data_Raw[END_DATE],'Weekly Metrics'!DE$5), IF($B9=\"EOP Subscribers\",SUMIFS(Weekly_Data_Raw[EOP_SUBSCRIBERS],Weekly_Data_Raw[TICKER],'Weekly Metrics'!$A9,Weekly_Data_Raw[END_DATE],'Weekly Metrics'!DE$5), IF($B9=\"Gross Adds\",SUMIFS(Weekly_Data_Raw[GROSS_ADDS],Weekly_Data_Raw[TICKER],'Weekly Metrics'!$A9,Weekly_Data_Raw[END_DATE],'Weekly Metrics'!DE$5), IF($B9=\"Churn\",SUMIFS(Weekly_Data_Raw[CHURNED_MEMBERS],Weekly_Data_Raw[TICKER],'Weekly Metrics'!$A9,Weekly_Data_Raw[END_DATE],'Weekly Metrics'!DE$5)))))))","v":553433},{"$f":"IF($B9=\"Panel Sales\", SUMIFS(Weekly_Data_Raw[PANEL_AMOUNT],Weekly_Data_Raw[TICKER],'Weekly Metrics'!$A9,Weekly_Data_Raw[END_DATE],'Weekly Metrics'!DF$5),IF($B9=\"Transactions\",SUMIFS(Weekly_Data_Raw[PANEL_TRANSACTIONS],Weekly_Data_Raw[TICKER],'Weekly Metrics'!$A9,Weekly_Data_Raw[END_DATE],'Weekly Metrics'!DF$5), IF($B9=\"Avg Ticket\",SUMIFS(Weekly_Data_Raw[AVG_TICKET],Weekly_Data_Raw[TICKER],'Weekly Metrics'!$A9,Weekly_Data_Raw[END_DATE],'Weekly Metrics'!DF$5), IF($B9=\"EOP Subscribers\",SUMIFS(Weekly_Data_Raw[EOP_SUBSCRIBERS],Weekly_Data_Raw[TICKER],'Weekly Metrics'!$A9,Weekly_Data_Raw[END_DATE],'Weekly Metrics'!DF$5), IF($B9=\"Gross Adds\",SUMIFS(Weekly_Data_Raw[GROSS_ADDS],Weekly_Data_Raw[TICKER],'Weekly Metrics'!$A9,Weekly_Data_Raw[END_DATE],'Weekly Metrics'!DF$5), IF($B9=\"Churn\",SUMIFS(Weekly_Data_Raw[CHURNED_MEMBERS],Weekly_Data_Raw[TICKER],'Weekly Metrics'!$A9,Weekly_Data_Raw[END_DATE],'Weekly Metrics'!DF$5)))))))","v":559721},{"$f":"IF($B9=\"Panel Sales\", SUMIFS(Weekly_Data_Raw[PANEL_AMOUNT],Weekly_Data_Raw[TICKER],'Weekly Metrics'!$A9,Weekly_Data_Raw[END_DATE],'Weekly Metrics'!DG$5),IF($B9=\"Transactions\",SUMIFS(Weekly_Data_Raw[PANEL_TRANSACTIONS],Weekly_Data_Raw[TICKER],'Weekly Metrics'!$A9,Weekly_Data_Raw[END_DATE],'Weekly Metrics'!DG$5), IF($B9=\"Avg Ticket\",SUMIFS(Weekly_Data_Raw[AVG_TICKET],Weekly_Data_Raw[TICKER],'Weekly Metrics'!$A9,Weekly_Data_Raw[END_DATE],'Weekly Metrics'!DG$5), IF($B9=\"EOP Subscribers\",SUMIFS(Weekly_Data_Raw[EOP_SUBSCRIBERS],Weekly_Data_Raw[TICKER],'Weekly Metrics'!$A9,Weekly_Data_Raw[END_DATE],'Weekly Metrics'!DG$5), IF($B9=\"Gross Adds\",SUMIFS(Weekly_Data_Raw[GROSS_ADDS],Weekly_Data_Raw[TICKER],'Weekly Metrics'!$A9,Weekly_Data_Raw[END_DATE],'Weekly Metrics'!DG$5), IF($B9=\"Churn\",SUMIFS(Weekly_Data_Raw[CHURNED_MEMBERS],Weekly_Data_Raw[TICKER],'Weekly Metrics'!$A9,Weekly_Data_Raw[END_DATE],'Weekly Metrics'!DG$5)))))))","v":563309},{"$f":"IF($B9=\"Panel Sales\", SUMIFS(Weekly_Data_Raw[PANEL_AMOUNT],Weekly_Data_Raw[TICKER],'Weekly Metrics'!$A9,Weekly_Data_Raw[END_DATE],'Weekly Metrics'!DH$5),IF($B9=\"Transactions\",SUMIFS(Weekly_Data_Raw[PANEL_TRANSACTIONS],Weekly_Data_Raw[TICKER],'Weekly Metrics'!$A9,Weekly_Data_Raw[END_DATE],'Weekly Metrics'!DH$5), IF($B9=\"Avg Ticket\",SUMIFS(Weekly_Data_Raw[AVG_TICKET],Weekly_Data_Raw[TICKER],'Weekly Metrics'!$A9,Weekly_Data_Raw[END_DATE],'Weekly Metrics'!DH$5), IF($B9=\"EOP Subscribers\",SUMIFS(Weekly_Data_Raw[EOP_SUBSCRIBERS],Weekly_Data_Raw[TICKER],'Weekly Metrics'!$A9,Weekly_Data_Raw[END_DATE],'Weekly Metrics'!DH$5), IF($B9=\"Gross Adds\",SUMIFS(Weekly_Data_Raw[GROSS_ADDS],Weekly_Data_Raw[TICKER],'Weekly Metrics'!$A9,Weekly_Data_Raw[END_DATE],'Weekly Metrics'!DH$5), IF($B9=\"Churn\",SUMIFS(Weekly_Data_Raw[CHURNED_MEMBERS],Weekly_Data_Raw[TICKER],'Weekly Metrics'!$A9,Weekly_Data_Raw[END_DATE],'Weekly Metrics'!DH$5)))))))","v":599812},{"$f":"IF($B9=\"Panel Sales\", SUMIFS(Weekly_Data_Raw[PANEL_AMOUNT],Weekly_Data_Raw[TICKER],'Weekly Metrics'!$A9,Weekly_Data_Raw[END_DATE],'Weekly Metrics'!DI$5),IF($B9=\"Transactions\",SUMIFS(Weekly_Data_Raw[PANEL_TRANSACTIONS],Weekly_Data_Raw[TICKER],'Weekly Metrics'!$A9,Weekly_Data_Raw[END_DATE],'Weekly Metrics'!DI$5), IF($B9=\"Avg Ticket\",SUMIFS(Weekly_Data_Raw[AVG_TICKET],Weekly_Data_Raw[TICKER],'Weekly Metrics'!$A9,Weekly_Data_Raw[END_DATE],'Weekly Metrics'!DI$5), IF($B9=\"EOP Subscribers\",SUMIFS(Weekly_Data_Raw[EOP_SUBSCRIBERS],Weekly_Data_Raw[TICKER],'Weekly Metrics'!$A9,Weekly_Data_Raw[END_DATE],'Weekly Metrics'!DI$5), IF($B9=\"Gross Adds\",SUMIFS(Weekly_Data_Raw[GROSS_ADDS],Weekly_Data_Raw[TICKER],'Weekly Metrics'!$A9,Weekly_Data_Raw[END_DATE],'Weekly Metrics'!DI$5), IF($B9=\"Churn\",SUMIFS(Weekly_Data_Raw[CHURNED_MEMBERS],Weekly_Data_Raw[TICKER],'Weekly Metrics'!$A9,Weekly_Data_Raw[END_DATE],'Weekly Metrics'!DI$5)))))))","v":561884},{"$f":"IF($B9=\"Panel Sales\", SUMIFS(Weekly_Data_Raw[PANEL_AMOUNT],Weekly_Data_Raw[TICKER],'Weekly Metrics'!$A9,Weekly_Data_Raw[END_DATE],'Weekly Metrics'!DJ$5),IF($B9=\"Transactions\",SUMIFS(Weekly_Data_Raw[PANEL_TRANSACTIONS],Weekly_Data_Raw[TICKER],'Weekly Metrics'!$A9,Weekly_Data_Raw[END_DATE],'Weekly Metrics'!DJ$5), IF($B9=\"Avg Ticket\",SUMIFS(Weekly_Data_Raw[AVG_TICKET],Weekly_Data_Raw[TICKER],'Weekly Metrics'!$A9,Weekly_Data_Raw[END_DATE],'Weekly Metrics'!DJ$5), IF($B9=\"EOP Subscribers\",SUMIFS(Weekly_Data_Raw[EOP_SUBSCRIBERS],Weekly_Data_Raw[TICKER],'Weekly Metrics'!$A9,Weekly_Data_Raw[END_DATE],'Weekly Metrics'!DJ$5), IF($B9=\"Gross Adds\",SUMIFS(Weekly_Data_Raw[GROSS_ADDS],Weekly_Data_Raw[TICKER],'Weekly Metrics'!$A9,Weekly_Data_Raw[END_DATE],'Weekly Metrics'!DJ$5), IF($B9=\"Churn\",SUMIFS(Weekly_Data_Raw[CHURNED_MEMBERS],Weekly_Data_Raw[TICKER],'Weekly Metrics'!$A9,Weekly_Data_Raw[END_DATE],'Weekly Metrics'!DJ$5)))))))","v":534529},{"$f":"IF($B9=\"Panel Sales\", SUMIFS(Weekly_Data_Raw[PANEL_AMOUNT],Weekly_Data_Raw[TICKER],'Weekly Metrics'!$A9,Weekly_Data_Raw[END_DATE],'Weekly Metrics'!DK$5),IF($B9=\"Transactions\",SUMIFS(Weekly_Data_Raw[PANEL_TRANSACTIONS],Weekly_Data_Raw[TICKER],'Weekly Metrics'!$A9,Weekly_Data_Raw[END_DATE],'Weekly Metrics'!DK$5), IF($B9=\"Avg Ticket\",SUMIFS(Weekly_Data_Raw[AVG_TICKET],Weekly_Data_Raw[TICKER],'Weekly Metrics'!$A9,Weekly_Data_Raw[END_DATE],'Weekly Metrics'!DK$5), IF($B9=\"EOP Subscribers\",SUMIFS(Weekly_Data_Raw[EOP_SUBSCRIBERS],Weekly_Data_Raw[TICKER],'Weekly Metrics'!$A9,Weekly_Data_Raw[END_DATE],'Weekly Metrics'!DK$5), IF($B9=\"Gross Adds\",SUMIFS(Weekly_Data_Raw[GROSS_ADDS],Weekly_Data_Raw[TICKER],'Weekly Metrics'!$A9,Weekly_Data_Raw[END_DATE],'Weekly Metrics'!DK$5), IF($B9=\"Churn\",SUMIFS(Weekly_Data_Raw[CHURNED_MEMBERS],Weekly_Data_Raw[TICKER],'Weekly Metrics'!$A9,Weekly_Data_Raw[END_DATE],'Weekly Metrics'!DK$5)))))))","v":562063},{"$f":"IF($B9=\"Panel Sales\", SUMIFS(Weekly_Data_Raw[PANEL_AMOUNT],Weekly_Data_Raw[TICKER],'Weekly Metrics'!$A9,Weekly_Data_Raw[END_DATE],'Weekly Metrics'!DL$5),IF($B9=\"Transactions\",SUMIFS(Weekly_Data_Raw[PANEL_TRANSACTIONS],Weekly_Data_Raw[TICKER],'Weekly Metrics'!$A9,Weekly_Data_Raw[END_DATE],'Weekly Metrics'!DL$5), IF($B9=\"Avg Ticket\",SUMIFS(Weekly_Data_Raw[AVG_TICKET],Weekly_Data_Raw[TICKER],'Weekly Metrics'!$A9,Weekly_Data_Raw[END_DATE],'Weekly Metrics'!DL$5), IF($B9=\"EOP Subscribers\",SUMIFS(Weekly_Data_Raw[EOP_SUBSCRIBERS],Weekly_Data_Raw[TICKER],'Weekly Metrics'!$A9,Weekly_Data_Raw[END_DATE],'Weekly Metrics'!DL$5), IF($B9=\"Gross Adds\",SUMIFS(Weekly_Data_Raw[GROSS_ADDS],Weekly_Data_Raw[TICKER],'Weekly Metrics'!$A9,Weekly_Data_Raw[END_DATE],'Weekly Metrics'!DL$5), IF($B9=\"Churn\",SUMIFS(Weekly_Data_Raw[CHURNED_MEMBERS],Weekly_Data_Raw[TICKER],'Weekly Metrics'!$A9,Weekly_Data_Raw[END_DATE],'Weekly Metrics'!DL$5)))))))","v":630520},{"$f":"IF($B9=\"Panel Sales\", SUMIFS(Weekly_Data_Raw[PANEL_AMOUNT],Weekly_Data_Raw[TICKER],'Weekly Metrics'!$A9,Weekly_Data_Raw[END_DATE],'Weekly Metrics'!DM$5),IF($B9=\"Transactions\",SUMIFS(Weekly_Data_Raw[PANEL_TRANSACTIONS],Weekly_Data_Raw[TICKER],'Weekly Metrics'!$A9,Weekly_Data_Raw[END_DATE],'Weekly Metrics'!DM$5), IF($B9=\"Avg Ticket\",SUMIFS(Weekly_Data_Raw[AVG_TICKET],Weekly_Data_Raw[TICKER],'Weekly Metrics'!$A9,Weekly_Data_Raw[END_DATE],'Weekly Metrics'!DM$5), IF($B9=\"EOP Subscribers\",SUMIFS(Weekly_Data_Raw[EOP_SUBSCRIBERS],Weekly_Data_Raw[TICKER],'Weekly Metrics'!$A9,Weekly_Data_Raw[END_DATE],'Weekly Metrics'!DM$5), IF($B9=\"Gross Adds\",SUMIFS(Weekly_Data_Raw[GROSS_ADDS],Weekly_Data_Raw[TICKER],'Weekly Metrics'!$A9,Weekly_Data_Raw[END_DATE],'Weekly Metrics'!DM$5), IF($B9=\"Churn\",SUMIFS(Weekly_Data_Raw[CHURNED_MEMBERS],Weekly_Data_Raw[TICKER],'Weekly Metrics'!$A9,Weekly_Data_Raw[END_DATE],'Weekly Metrics'!DM$5)))))))","v":570350},{"$f":"IF($B9=\"Panel Sales\", SUMIFS(Weekly_Data_Raw[PANEL_AMOUNT],Weekly_Data_Raw[TICKER],'Weekly Metrics'!$A9,Weekly_Data_Raw[END_DATE],'Weekly Metrics'!DN$5),IF($B9=\"Transactions\",SUMIFS(Weekly_Data_Raw[PANEL_TRANSACTIONS],Weekly_Data_Raw[TICKER],'Weekly Metrics'!$A9,Weekly_Data_Raw[END_DATE],'Weekly Metrics'!DN$5), IF($B9=\"Avg Ticket\",SUMIFS(Weekly_Data_Raw[AVG_TICKET],Weekly_Data_Raw[TICKER],'Weekly Metrics'!$A9,Weekly_Data_Raw[END_DATE],'Weekly Metrics'!DN$5), IF($B9=\"EOP Subscribers\",SUMIFS(Weekly_Data_Raw[EOP_SUBSCRIBERS],Weekly_Data_Raw[TICKER],'Weekly Metrics'!$A9,Weekly_Data_Raw[END_DATE],'Weekly Metrics'!DN$5), IF($B9=\"Gross Adds\",SUMIFS(Weekly_Data_Raw[GROSS_ADDS],Weekly_Data_Raw[TICKER],'Weekly Metrics'!$A9,Weekly_Data_Raw[END_DATE],'Weekly Metrics'!DN$5), IF($B9=\"Churn\",SUMIFS(Weekly_Data_Raw[CHURNED_MEMBERS],Weekly_Data_Raw[TICKER],'Weekly Metrics'!$A9,Weekly_Data_Raw[END_DATE],'Weekly Metrics'!DN$5)))))))","v":624740},{"$f":"IF($B9=\"Panel Sales\", SUMIFS(Weekly_Data_Raw[PANEL_AMOUNT],Weekly_Data_Raw[TICKER],'Weekly Metrics'!$A9,Weekly_Data_Raw[END_DATE],'Weekly Metrics'!DO$5),IF($B9=\"Transactions\",SUMIFS(Weekly_Data_Raw[PANEL_TRANSACTIONS],Weekly_Data_Raw[TICKER],'Weekly Metrics'!$A9,Weekly_Data_Raw[END_DATE],'Weekly Metrics'!DO$5), IF($B9=\"Avg Ticket\",SUMIFS(Weekly_Data_Raw[AVG_TICKET],Weekly_Data_Raw[TICKER],'Weekly Metrics'!$A9,Weekly_Data_Raw[END_DATE],'Weekly Metrics'!DO$5), IF($B9=\"EOP Subscribers\",SUMIFS(Weekly_Data_Raw[EOP_SUBSCRIBERS],Weekly_Data_Raw[TICKER],'Weekly Metrics'!$A9,Weekly_Data_Raw[END_DATE],'Weekly Metrics'!DO$5), IF($B9=\"Gross Adds\",SUMIFS(Weekly_Data_Raw[GROSS_ADDS],Weekly_Data_Raw[TICKER],'Weekly Metrics'!$A9,Weekly_Data_Raw[END_DATE],'Weekly Metrics'!DO$5), IF($B9=\"Churn\",SUMIFS(Weekly_Data_Raw[CHURNED_MEMBERS],Weekly_Data_Raw[TICKER],'Weekly Metrics'!$A9,Weekly_Data_Raw[END_DATE],'Weekly Metrics'!DO$5)))))))","v":606654},{"$f":"IF($B9=\"Panel Sales\", SUMIFS(Weekly_Data_Raw[PANEL_AMOUNT],Weekly_Data_Raw[TICKER],'Weekly Metrics'!$A9,Weekly_Data_Raw[END_DATE],'Weekly Metrics'!DP$5),IF($B9=\"Transactions\",SUMIFS(Weekly_Data_Raw[PANEL_TRANSACTIONS],Weekly_Data_Raw[TICKER],'Weekly Metrics'!$A9,Weekly_Data_Raw[END_DATE],'Weekly Metrics'!DP$5), IF($B9=\"Avg Ticket\",SUMIFS(Weekly_Data_Raw[AVG_TICKET],Weekly_Data_Raw[TICKER],'Weekly Metrics'!$A9,Weekly_Data_Raw[END_DATE],'Weekly Metrics'!DP$5), IF($B9=\"EOP Subscribers\",SUMIFS(Weekly_Data_Raw[EOP_SUBSCRIBERS],Weekly_Data_Raw[TICKER],'Weekly Metrics'!$A9,Weekly_Data_Raw[END_DATE],'Weekly Metrics'!DP$5), IF($B9=\"Gross Adds\",SUMIFS(Weekly_Data_Raw[GROSS_ADDS],Weekly_Data_Raw[TICKER],'Weekly Metrics'!$A9,Weekly_Data_Raw[END_DATE],'Weekly Metrics'!DP$5), IF($B9=\"Churn\",SUMIFS(Weekly_Data_Raw[CHURNED_MEMBERS],Weekly_Data_Raw[TICKER],'Weekly Metrics'!$A9,Weekly_Data_Raw[END_DATE],'Weekly Metrics'!DP$5)))))))","v":620344},{"$f":"IF($B9=\"Panel Sales\", SUMIFS(Weekly_Data_Raw[PANEL_AMOUNT],Weekly_Data_Raw[TICKER],'Weekly Metrics'!$A9,Weekly_Data_Raw[END_DATE],'Weekly Metrics'!DQ$5),IF($B9=\"Transactions\",SUMIFS(Weekly_Data_Raw[PANEL_TRANSACTIONS],Weekly_Data_Raw[TICKER],'Weekly Metrics'!$A9,Weekly_Data_Raw[END_DATE],'Weekly Metrics'!DQ$5), IF($B9=\"Avg Ticket\",SUMIFS(Weekly_Data_Raw[AVG_TICKET],Weekly_Data_Raw[TICKER],'Weekly Metrics'!$A9,Weekly_Data_Raw[END_DATE],'Weekly Metrics'!DQ$5), IF($B9=\"EOP Subscribers\",SUMIFS(Weekly_Data_Raw[EOP_SUBSCRIBERS],Weekly_Data_Raw[TICKER],'Weekly Metrics'!$A9,Weekly_Data_Raw[END_DATE],'Weekly Metrics'!DQ$5), IF($B9=\"Gross Adds\",SUMIFS(Weekly_Data_Raw[GROSS_ADDS],Weekly_Data_Raw[TICKER],'Weekly Metrics'!$A9,Weekly_Data_Raw[END_DATE],'Weekly Metrics'!DQ$5), IF($B9=\"Churn\",SUMIFS(Weekly_Data_Raw[CHURNED_MEMBERS],Weekly_Data_Raw[TICKER],'Weekly Metrics'!$A9,Weekly_Data_Raw[END_DATE],'Weekly Metrics'!DQ$5)))))))","v":580880},{"$f":"IF($B9=\"Panel Sales\", SUMIFS(Weekly_Data_Raw[PANEL_AMOUNT],Weekly_Data_Raw[TICKER],'Weekly Metrics'!$A9,Weekly_Data_Raw[END_DATE],'Weekly Metrics'!DR$5),IF($B9=\"Transactions\",SUMIFS(Weekly_Data_Raw[PANEL_TRANSACTIONS],Weekly_Data_Raw[TICKER],'Weekly Metrics'!$A9,Weekly_Data_Raw[END_DATE],'Weekly Metrics'!DR$5), IF($B9=\"Avg Ticket\",SUMIFS(Weekly_Data_Raw[AVG_TICKET],Weekly_Data_Raw[TICKER],'Weekly Metrics'!$A9,Weekly_Data_Raw[END_DATE],'Weekly Metrics'!DR$5), IF($B9=\"EOP Subscribers\",SUMIFS(Weekly_Data_Raw[EOP_SUBSCRIBERS],Weekly_Data_Raw[TICKER],'Weekly Metrics'!$A9,Weekly_Data_Raw[END_DATE],'Weekly Metrics'!DR$5), IF($B9=\"Gross Adds\",SUMIFS(Weekly_Data_Raw[GROSS_ADDS],Weekly_Data_Raw[TICKER],'Weekly Metrics'!$A9,Weekly_Data_Raw[END_DATE],'Weekly Metrics'!DR$5), IF($B9=\"Churn\",SUMIFS(Weekly_Data_Raw[CHURNED_MEMBERS],Weekly_Data_Raw[TICKER],'Weekly Metrics'!$A9,Weekly_Data_Raw[END_DATE],'Weekly Metrics'!DR$5)))))))","v":599233},{"$f":"IF($B9=\"Panel Sales\", SUMIFS(Weekly_Data_Raw[PANEL_AMOUNT],Weekly_Data_Raw[TICKER],'Weekly Metrics'!$A9,Weekly_Data_Raw[END_DATE],'Weekly Metrics'!DS$5),IF($B9=\"Transactions\",SUMIFS(Weekly_Data_Raw[PANEL_TRANSACTIONS],Weekly_Data_Raw[TICKER],'Weekly Metrics'!$A9,Weekly_Data_Raw[END_DATE],'Weekly Metrics'!DS$5), IF($B9=\"Avg Ticket\",SUMIFS(Weekly_Data_Raw[AVG_TICKET],Weekly_Data_Raw[TICKER],'Weekly Metrics'!$A9,Weekly_Data_Raw[END_DATE],'Weekly Metrics'!DS$5), IF($B9=\"EOP Subscribers\",SUMIFS(Weekly_Data_Raw[EOP_SUBSCRIBERS],Weekly_Data_Raw[TICKER],'Weekly Metrics'!$A9,Weekly_Data_Raw[END_DATE],'Weekly Metrics'!DS$5), IF($B9=\"Gross Adds\",SUMIFS(Weekly_Data_Raw[GROSS_ADDS],Weekly_Data_Raw[TICKER],'Weekly Metrics'!$A9,Weekly_Data_Raw[END_DATE],'Weekly Metrics'!DS$5), IF($B9=\"Churn\",SUMIFS(Weekly_Data_Raw[CHURNED_MEMBERS],Weekly_Data_Raw[TICKER],'Weekly Metrics'!$A9,Weekly_Data_Raw[END_DATE],'Weekly Metrics'!DS$5)))))))","v":587991},{"$f":"IF($B9=\"Panel Sales\", SUMIFS(Weekly_Data_Raw[PANEL_AMOUNT],Weekly_Data_Raw[TICKER],'Weekly Metrics'!$A9,Weekly_Data_Raw[END_DATE],'Weekly Metrics'!DT$5),IF($B9=\"Transactions\",SUMIFS(Weekly_Data_Raw[PANEL_TRANSACTIONS],Weekly_Data_Raw[TICKER],'Weekly Metrics'!$A9,Weekly_Data_Raw[END_DATE],'Weekly Metrics'!DT$5), IF($B9=\"Avg Ticket\",SUMIFS(Weekly_Data_Raw[AVG_TICKET],Weekly_Data_Raw[TICKER],'Weekly Metrics'!$A9,Weekly_Data_Raw[END_DATE],'Weekly Metrics'!DT$5), IF($B9=\"EOP Subscribers\",SUMIFS(Weekly_Data_Raw[EOP_SUBSCRIBERS],Weekly_Data_Raw[TICKER],'Weekly Metrics'!$A9,Weekly_Data_Raw[END_DATE],'Weekly Metrics'!DT$5), IF($B9=\"Gross Adds\",SUMIFS(Weekly_Data_Raw[GROSS_ADDS],Weekly_Data_Raw[TICKER],'Weekly Metrics'!$A9,Weekly_Data_Raw[END_DATE],'Weekly Metrics'!DT$5), IF($B9=\"Churn\",SUMIFS(Weekly_Data_Raw[CHURNED_MEMBERS],Weekly_Data_Raw[TICKER],'Weekly Metrics'!$A9,Weekly_Data_Raw[END_DATE],'Weekly Metrics'!DT$5)))))))","v":599469},{"$f":"IF($B9=\"Panel Sales\", SUMIFS(Weekly_Data_Raw[PANEL_AMOUNT],Weekly_Data_Raw[TICKER],'Weekly Metrics'!$A9,Weekly_Data_Raw[END_DATE],'Weekly Metrics'!DU$5),IF($B9=\"Transactions\",SUMIFS(Weekly_Data_Raw[PANEL_TRANSACTIONS],Weekly_Data_Raw[TICKER],'Weekly Metrics'!$A9,Weekly_Data_Raw[END_DATE],'Weekly Metrics'!DU$5), IF($B9=\"Avg Ticket\",SUMIFS(Weekly_Data_Raw[AVG_TICKET],Weekly_Data_Raw[TICKER],'Weekly Metrics'!$A9,Weekly_Data_Raw[END_DATE],'Weekly Metrics'!DU$5), IF($B9=\"EOP Subscribers\",SUMIFS(Weekly_Data_Raw[EOP_SUBSCRIBERS],Weekly_Data_Raw[TICKER],'Weekly Metrics'!$A9,Weekly_Data_Raw[END_DATE],'Weekly Metrics'!DU$5), IF($B9=\"Gross Adds\",SUMIFS(Weekly_Data_Raw[GROSS_ADDS],Weekly_Data_Raw[TICKER],'Weekly Metrics'!$A9,Weekly_Data_Raw[END_DATE],'Weekly Metrics'!DU$5), IF($B9=\"Churn\",SUMIFS(Weekly_Data_Raw[CHURNED_MEMBERS],Weekly_Data_Raw[TICKER],'Weekly Metrics'!$A9,Weekly_Data_Raw[END_DATE],'Weekly Metrics'!DU$5)))))))","v":648925},{"$f":"IF($B9=\"Panel Sales\", SUMIFS(Weekly_Data_Raw[PANEL_AMOUNT],Weekly_Data_Raw[TICKER],'Weekly Metrics'!$A9,Weekly_Data_Raw[END_DATE],'Weekly Metrics'!DV$5),IF($B9=\"Transactions\",SUMIFS(Weekly_Data_Raw[PANEL_TRANSACTIONS],Weekly_Data_Raw[TICKER],'Weekly Metrics'!$A9,Weekly_Data_Raw[END_DATE],'Weekly Metrics'!DV$5), IF($B9=\"Avg Ticket\",SUMIFS(Weekly_Data_Raw[AVG_TICKET],Weekly_Data_Raw[TICKER],'Weekly Metrics'!$A9,Weekly_Data_Raw[END_DATE],'Weekly Metrics'!DV$5), IF($B9=\"EOP Subscribers\",SUMIFS(Weekly_Data_Raw[EOP_SUBSCRIBERS],Weekly_Data_Raw[TICKER],'Weekly Metrics'!$A9,Weekly_Data_Raw[END_DATE],'Weekly Metrics'!DV$5), IF($B9=\"Gross Adds\",SUMIFS(Weekly_Data_Raw[GROSS_ADDS],Weekly_Data_Raw[TICKER],'Weekly Metrics'!$A9,Weekly_Data_Raw[END_DATE],'Weekly Metrics'!DV$5), IF($B9=\"Churn\",SUMIFS(Weekly_Data_Raw[CHURNED_MEMBERS],Weekly_Data_Raw[TICKER],'Weekly Metrics'!$A9,Weekly_Data_Raw[END_DATE],'Weekly Metrics'!DV$5)))))))","v":585138},{"$f":"IF($B9=\"Panel Sales\", SUMIFS(Weekly_Data_Raw[PANEL_AMOUNT],Weekly_Data_Raw[TICKER],'Weekly Metrics'!$A9,Weekly_Data_Raw[END_DATE],'Weekly Metrics'!DW$5),IF($B9=\"Transactions\",SUMIFS(Weekly_Data_Raw[PANEL_TRANSACTIONS],Weekly_Data_Raw[TICKER],'Weekly Metrics'!$A9,Weekly_Data_Raw[END_DATE],'Weekly Metrics'!DW$5), IF($B9=\"Avg Ticket\",SUMIFS(Weekly_Data_Raw[AVG_TICKET],Weekly_Data_Raw[TICKER],'Weekly Metrics'!$A9,Weekly_Data_Raw[END_DATE],'Weekly Metrics'!DW$5), IF($B9=\"EOP Subscribers\",SUMIFS(Weekly_Data_Raw[EOP_SUBSCRIBERS],Weekly_Data_Raw[TICKER],'Weekly Metrics'!$A9,Weekly_Data_Raw[END_DATE],'Weekly Metrics'!DW$5), IF($B9=\"Gross Adds\",SUMIFS(Weekly_Data_Raw[GROSS_ADDS],Weekly_Data_Raw[TICKER],'Weekly Metrics'!$A9,Weekly_Data_Raw[END_DATE],'Weekly Metrics'!DW$5), IF($B9=\"Churn\",SUMIFS(Weekly_Data_Raw[CHURNED_MEMBERS],Weekly_Data_Raw[TICKER],'Weekly Metrics'!$A9,Weekly_Data_Raw[END_DATE],'Weekly Metrics'!DW$5)))))))","v":592793},{"$f":"IF($B9=\"Panel Sales\", SUMIFS(Weekly_Data_Raw[PANEL_AMOUNT],Weekly_Data_Raw[TICKER],'Weekly Metrics'!$A9,Weekly_Data_Raw[END_DATE],'Weekly Metrics'!DX$5),IF($B9=\"Transactions\",SUMIFS(Weekly_Data_Raw[PANEL_TRANSACTIONS],Weekly_Data_Raw[TICKER],'Weekly Metrics'!$A9,Weekly_Data_Raw[END_DATE],'Weekly Metrics'!DX$5), IF($B9=\"Avg Ticket\",SUMIFS(Weekly_Data_Raw[AVG_TICKET],Weekly_Data_Raw[TICKER],'Weekly Metrics'!$A9,Weekly_Data_Raw[END_DATE],'Weekly Metrics'!DX$5), IF($B9=\"EOP Subscribers\",SUMIFS(Weekly_Data_Raw[EOP_SUBSCRIBERS],Weekly_Data_Raw[TICKER],'Weekly Metrics'!$A9,Weekly_Data_Raw[END_DATE],'Weekly Metrics'!DX$5), IF($B9=\"Gross Adds\",SUMIFS(Weekly_Data_Raw[GROSS_ADDS],Weekly_Data_Raw[TICKER],'Weekly Metrics'!$A9,Weekly_Data_Raw[END_DATE],'Weekly Metrics'!DX$5), IF($B9=\"Churn\",SUMIFS(Weekly_Data_Raw[CHURNED_MEMBERS],Weekly_Data_Raw[TICKER],'Weekly Metrics'!$A9,Weekly_Data_Raw[END_DATE],'Weekly Metrics'!DX$5)))))))","v":586949},{"$f":"IF($B9=\"Panel Sales\", SUMIFS(Weekly_Data_Raw[PANEL_AMOUNT],Weekly_Data_Raw[TICKER],'Weekly Metrics'!$A9,Weekly_Data_Raw[END_DATE],'Weekly Metrics'!DY$5),IF($B9=\"Transactions\",SUMIFS(Weekly_Data_Raw[PANEL_TRANSACTIONS],Weekly_Data_Raw[TICKER],'Weekly Metrics'!$A9,Weekly_Data_Raw[END_DATE],'Weekly Metrics'!DY$5), IF($B9=\"Avg Ticket\",SUMIFS(Weekly_Data_Raw[AVG_TICKET],Weekly_Data_Raw[TICKER],'Weekly Metrics'!$A9,Weekly_Data_Raw[END_DATE],'Weekly Metrics'!DY$5), IF($B9=\"EOP Subscribers\",SUMIFS(Weekly_Data_Raw[EOP_SUBSCRIBERS],Weekly_Data_Raw[TICKER],'Weekly Metrics'!$A9,Weekly_Data_Raw[END_DATE],'Weekly Metrics'!DY$5), IF($B9=\"Gross Adds\",SUMIFS(Weekly_Data_Raw[GROSS_ADDS],Weekly_Data_Raw[TICKER],'Weekly Metrics'!$A9,Weekly_Data_Raw[END_DATE],'Weekly Metrics'!DY$5), IF($B9=\"Churn\",SUMIFS(Weekly_Data_Raw[CHURNED_MEMBERS],Weekly_Data_Raw[TICKER],'Weekly Metrics'!$A9,Weekly_Data_Raw[END_DATE],'Weekly Metrics'!DY$5)))))))","v":617532},{"$f":"IF($B9=\"Panel Sales\", SUMIFS(Weekly_Data_Raw[PANEL_AMOUNT],Weekly_Data_Raw[TICKER],'Weekly Metrics'!$A9,Weekly_Data_Raw[END_DATE],'Weekly Metrics'!DZ$5),IF($B9=\"Transactions\",SUMIFS(Weekly_Data_Raw[PANEL_TRANSACTIONS],Weekly_Data_Raw[TICKER],'Weekly Metrics'!$A9,Weekly_Data_Raw[END_DATE],'Weekly Metrics'!DZ$5), IF($B9=\"Avg Ticket\",SUMIFS(Weekly_Data_Raw[AVG_TICKET],Weekly_Data_Raw[TICKER],'Weekly Metrics'!$A9,Weekly_Data_Raw[END_DATE],'Weekly Metrics'!DZ$5), IF($B9=\"EOP Subscribers\",SUMIFS(Weekly_Data_Raw[EOP_SUBSCRIBERS],Weekly_Data_Raw[TICKER],'Weekly Metrics'!$A9,Weekly_Data_Raw[END_DATE],'Weekly Metrics'!DZ$5), IF($B9=\"Gross Adds\",SUMIFS(Weekly_Data_Raw[GROSS_ADDS],Weekly_Data_Raw[TICKER],'Weekly Metrics'!$A9,Weekly_Data_Raw[END_DATE],'Weekly Metrics'!DZ$5), IF($B9=\"Churn\",SUMIFS(Weekly_Data_Raw[CHURNED_MEMBERS],Weekly_Data_Raw[TICKER],'Weekly Metrics'!$A9,Weekly_Data_Raw[END_DATE],'Weekly Metrics'!DZ$5)))))))","v":585224},{"$f":"IF($B9=\"Panel Sales\", SUMIFS(Weekly_Data_Raw[PANEL_AMOUNT],Weekly_Data_Raw[TICKER],'Weekly Metrics'!$A9,Weekly_Data_Raw[END_DATE],'Weekly Metrics'!EA$5),IF($B9=\"Transactions\",SUMIFS(Weekly_Data_Raw[PANEL_TRANSACTIONS],Weekly_Data_Raw[TICKER],'Weekly Metrics'!$A9,Weekly_Data_Raw[END_DATE],'Weekly Metrics'!EA$5), IF($B9=\"Avg Ticket\",SUMIFS(Weekly_Data_Raw[AVG_TICKET],Weekly_Data_Raw[TICKER],'Weekly Metrics'!$A9,Weekly_Data_Raw[END_DATE],'Weekly Metrics'!EA$5), IF($B9=\"EOP Subscribers\",SUMIFS(Weekly_Data_Raw[EOP_SUBSCRIBERS],Weekly_Data_Raw[TICKER],'Weekly Metrics'!$A9,Weekly_Data_Raw[END_DATE],'Weekly Metrics'!EA$5), IF($B9=\"Gross Adds\",SUMIFS(Weekly_Data_Raw[GROSS_ADDS],Weekly_Data_Raw[TICKER],'Weekly Metrics'!$A9,Weekly_Data_Raw[END_DATE],'Weekly Metrics'!EA$5), IF($B9=\"Churn\",SUMIFS(Weekly_Data_Raw[CHURNED_MEMBERS],Weekly_Data_Raw[TICKER],'Weekly Metrics'!$A9,Weekly_Data_Raw[END_DATE],'Weekly Metrics'!EA$5)))))))","v":589407},{"$f":"IF($B9=\"Panel Sales\", SUMIFS(Weekly_Data_Raw[PANEL_AMOUNT],Weekly_Data_Raw[TICKER],'Weekly Metrics'!$A9,Weekly_Data_Raw[END_DATE],'Weekly Metrics'!EB$5),IF($B9=\"Transactions\",SUMIFS(Weekly_Data_Raw[PANEL_TRANSACTIONS],Weekly_Data_Raw[TICKER],'Weekly Metrics'!$A9,Weekly_Data_Raw[END_DATE],'Weekly Metrics'!EB$5), IF($B9=\"Avg Ticket\",SUMIFS(Weekly_Data_Raw[AVG_TICKET],Weekly_Data_Raw[TICKER],'Weekly Metrics'!$A9,Weekly_Data_Raw[END_DATE],'Weekly Metrics'!EB$5), IF($B9=\"EOP Subscribers\",SUMIFS(Weekly_Data_Raw[EOP_SUBSCRIBERS],Weekly_Data_Raw[TICKER],'Weekly Metrics'!$A9,Weekly_Data_Raw[END_DATE],'Weekly Metrics'!EB$5), IF($B9=\"Gross Adds\",SUMIFS(Weekly_Data_Raw[GROSS_ADDS],Weekly_Data_Raw[TICKER],'Weekly Metrics'!$A9,Weekly_Data_Raw[END_DATE],'Weekly Metrics'!EB$5), IF($B9=\"Churn\",SUMIFS(Weekly_Data_Raw[CHURNED_MEMBERS],Weekly_Data_Raw[TICKER],'Weekly Metrics'!$A9,Weekly_Data_Raw[END_DATE],'Weekly Metrics'!EB$5)))))))","v":569974},{"$f":"IF($B9=\"Panel Sales\", SUMIFS(Weekly_Data_Raw[PANEL_AMOUNT],Weekly_Data_Raw[TICKER],'Weekly Metrics'!$A9,Weekly_Data_Raw[END_DATE],'Weekly Metrics'!EC$5),IF($B9=\"Transactions\",SUMIFS(Weekly_Data_Raw[PANEL_TRANSACTIONS],Weekly_Data_Raw[TICKER],'Weekly Metrics'!$A9,Weekly_Data_Raw[END_DATE],'Weekly Metrics'!EC$5), IF($B9=\"Avg Ticket\",SUMIFS(Weekly_Data_Raw[AVG_TICKET],Weekly_Data_Raw[TICKER],'Weekly Metrics'!$A9,Weekly_Data_Raw[END_DATE],'Weekly Metrics'!EC$5), IF($B9=\"EOP Subscribers\",SUMIFS(Weekly_Data_Raw[EOP_SUBSCRIBERS],Weekly_Data_Raw[TICKER],'Weekly Metrics'!$A9,Weekly_Data_Raw[END_DATE],'Weekly Metrics'!EC$5), IF($B9=\"Gross Adds\",SUMIFS(Weekly_Data_Raw[GROSS_ADDS],Weekly_Data_Raw[TICKER],'Weekly Metrics'!$A9,Weekly_Data_Raw[END_DATE],'Weekly Metrics'!EC$5), IF($B9=\"Churn\",SUMIFS(Weekly_Data_Raw[CHURNED_MEMBERS],Weekly_Data_Raw[TICKER],'Weekly Metrics'!$A9,Weekly_Data_Raw[END_DATE],'Weekly Metrics'!EC$5)))))))","v":609327},{"$f":"IF($B9=\"Panel Sales\", SUMIFS(Weekly_Data_Raw[PANEL_AMOUNT],Weekly_Data_Raw[TICKER],'Weekly Metrics'!$A9,Weekly_Data_Raw[END_DATE],'Weekly Metrics'!ED$5),IF($B9=\"Transactions\",SUMIFS(Weekly_Data_Raw[PANEL_TRANSACTIONS],Weekly_Data_Raw[TICKER],'Weekly Metrics'!$A9,Weekly_Data_Raw[END_DATE],'Weekly Metrics'!ED$5), IF($B9=\"Avg Ticket\",SUMIFS(Weekly_Data_Raw[AVG_TICKET],Weekly_Data_Raw[TICKER],'Weekly Metrics'!$A9,Weekly_Data_Raw[END_DATE],'Weekly Metrics'!ED$5), IF($B9=\"EOP Subscribers\",SUMIFS(Weekly_Data_Raw[EOP_SUBSCRIBERS],Weekly_Data_Raw[TICKER],'Weekly Metrics'!$A9,Weekly_Data_Raw[END_DATE],'Weekly Metrics'!ED$5), IF($B9=\"Gross Adds\",SUMIFS(Weekly_Data_Raw[GROSS_ADDS],Weekly_Data_Raw[TICKER],'Weekly Metrics'!$A9,Weekly_Data_Raw[END_DATE],'Weekly Metrics'!ED$5), IF($B9=\"Churn\",SUMIFS(Weekly_Data_Raw[CHURNED_MEMBERS],Weekly_Data_Raw[TICKER],'Weekly Metrics'!$A9,Weekly_Data_Raw[END_DATE],'Weekly Metrics'!ED$5)))))))","v":566269},{"$f":"IF($B9=\"Panel Sales\", SUMIFS(Weekly_Data_Raw[PANEL_AMOUNT],Weekly_Data_Raw[TICKER],'Weekly Metrics'!$A9,Weekly_Data_Raw[END_DATE],'Weekly Metrics'!EE$5),IF($B9=\"Transactions\",SUMIFS(Weekly_Data_Raw[PANEL_TRANSACTIONS],Weekly_Data_Raw[TICKER],'Weekly Metrics'!$A9,Weekly_Data_Raw[END_DATE],'Weekly Metrics'!EE$5), IF($B9=\"Avg Ticket\",SUMIFS(Weekly_Data_Raw[AVG_TICKET],Weekly_Data_Raw[TICKER],'Weekly Metrics'!$A9,Weekly_Data_Raw[END_DATE],'Weekly Metrics'!EE$5), IF($B9=\"EOP Subscribers\",SUMIFS(Weekly_Data_Raw[EOP_SUBSCRIBERS],Weekly_Data_Raw[TICKER],'Weekly Metrics'!$A9,Weekly_Data_Raw[END_DATE],'Weekly Metrics'!EE$5), IF($B9=\"Gross Adds\",SUMIFS(Weekly_Data_Raw[GROSS_ADDS],Weekly_Data_Raw[TICKER],'Weekly Metrics'!$A9,Weekly_Data_Raw[END_DATE],'Weekly Metrics'!EE$5), IF($B9=\"Churn\",SUMIFS(Weekly_Data_Raw[CHURNED_MEMBERS],Weekly_Data_Raw[TICKER],'Weekly Metrics'!$A9,Weekly_Data_Raw[END_DATE],'Weekly Metrics'!EE$5)))))))","v":573157},{"$f":"IF($B9=\"Panel Sales\", SUMIFS(Weekly_Data_Raw[PANEL_AMOUNT],Weekly_Data_Raw[TICKER],'Weekly Metrics'!$A9,Weekly_Data_Raw[END_DATE],'Weekly Metrics'!EF$5),IF($B9=\"Transactions\",SUMIFS(Weekly_Data_Raw[PANEL_TRANSACTIONS],Weekly_Data_Raw[TICKER],'Weekly Metrics'!$A9,Weekly_Data_Raw[END_DATE],'Weekly Metrics'!EF$5), IF($B9=\"Avg Ticket\",SUMIFS(Weekly_Data_Raw[AVG_TICKET],Weekly_Data_Raw[TICKER],'Weekly Metrics'!$A9,Weekly_Data_Raw[END_DATE],'Weekly Metrics'!EF$5), IF($B9=\"EOP Subscribers\",SUMIFS(Weekly_Data_Raw[EOP_SUBSCRIBERS],Weekly_Data_Raw[TICKER],'Weekly Metrics'!$A9,Weekly_Data_Raw[END_DATE],'Weekly Metrics'!EF$5), IF($B9=\"Gross Adds\",SUMIFS(Weekly_Data_Raw[GROSS_ADDS],Weekly_Data_Raw[TICKER],'Weekly Metrics'!$A9,Weekly_Data_Raw[END_DATE],'Weekly Metrics'!EF$5), IF($B9=\"Churn\",SUMIFS(Weekly_Data_Raw[CHURNED_MEMBERS],Weekly_Data_Raw[TICKER],'Weekly Metrics'!$A9,Weekly_Data_Raw[END_DATE],'Weekly Metrics'!EF$5)))))))","v":582117},{"$f":"IF($B9=\"Panel Sales\", SUMIFS(Weekly_Data_Raw[PANEL_AMOUNT],Weekly_Data_Raw[TICKER],'Weekly Metrics'!$A9,Weekly_Data_Raw[END_DATE],'Weekly Metrics'!EG$5),IF($B9=\"Transactions\",SUMIFS(Weekly_Data_Raw[PANEL_TRANSACTIONS],Weekly_Data_Raw[TICKER],'Weekly Metrics'!$A9,Weekly_Data_Raw[END_DATE],'Weekly Metrics'!EG$5), IF($B9=\"Avg Ticket\",SUMIFS(Weekly_Data_Raw[AVG_TICKET],Weekly_Data_Raw[TICKER],'Weekly Metrics'!$A9,Weekly_Data_Raw[END_DATE],'Weekly Metrics'!EG$5), IF($B9=\"EOP Subscribers\",SUMIFS(Weekly_Data_Raw[EOP_SUBSCRIBERS],Weekly_Data_Raw[TICKER],'Weekly Metrics'!$A9,Weekly_Data_Raw[END_DATE],'Weekly Metrics'!EG$5), IF($B9=\"Gross Adds\",SUMIFS(Weekly_Data_Raw[GROSS_ADDS],Weekly_Data_Raw[TICKER],'Weekly Metrics'!$A9,Weekly_Data_Raw[END_DATE],'Weekly Metrics'!EG$5), IF($B9=\"Churn\",SUMIFS(Weekly_Data_Raw[CHURNED_MEMBERS],Weekly_Data_Raw[TICKER],'Weekly Metrics'!$A9,Weekly_Data_Raw[END_DATE],'Weekly Metrics'!EG$5)))))))","v":587303},{"$f":"IF($B9=\"Panel Sales\", SUMIFS(Weekly_Data_Raw[PANEL_AMOUNT],Weekly_Data_Raw[TICKER],'Weekly Metrics'!$A9,Weekly_Data_Raw[END_DATE],'Weekly Metrics'!EH$5),IF($B9=\"Transactions\",SUMIFS(Weekly_Data_Raw[PANEL_TRANSACTIONS],Weekly_Data_Raw[TICKER],'Weekly Metrics'!$A9,Weekly_Data_Raw[END_DATE],'Weekly Metrics'!EH$5), IF($B9=\"Avg Ticket\",SUMIFS(Weekly_Data_Raw[AVG_TICKET],Weekly_Data_Raw[TICKER],'Weekly Metrics'!$A9,Weekly_Data_Raw[END_DATE],'Weekly Metrics'!EH$5), IF($B9=\"EOP Subscribers\",SUMIFS(Weekly_Data_Raw[EOP_SUBSCRIBERS],Weekly_Data_Raw[TICKER],'Weekly Metrics'!$A9,Weekly_Data_Raw[END_DATE],'Weekly Metrics'!EH$5), IF($B9=\"Gross Adds\",SUMIFS(Weekly_Data_Raw[GROSS_ADDS],Weekly_Data_Raw[TICKER],'Weekly Metrics'!$A9,Weekly_Data_Raw[END_DATE],'Weekly Metrics'!EH$5), IF($B9=\"Churn\",SUMIFS(Weekly_Data_Raw[CHURNED_MEMBERS],Weekly_Data_Raw[TICKER],'Weekly Metrics'!$A9,Weekly_Data_Raw[END_DATE],'Weekly Metrics'!EH$5)))))))","v":613790},{"$f":"IF($B9=\"Panel Sales\", SUMIFS(Weekly_Data_Raw[PANEL_AMOUNT],Weekly_Data_Raw[TICKER],'Weekly Metrics'!$A9,Weekly_Data_Raw[END_DATE],'Weekly Metrics'!EI$5),IF($B9=\"Transactions\",SUMIFS(Weekly_Data_Raw[PANEL_TRANSACTIONS],Weekly_Data_Raw[TICKER],'Weekly Metrics'!$A9,Weekly_Data_Raw[END_DATE],'Weekly Metrics'!EI$5), IF($B9=\"Avg Ticket\",SUMIFS(Weekly_Data_Raw[AVG_TICKET],Weekly_Data_Raw[TICKER],'Weekly Metrics'!$A9,Weekly_Data_Raw[END_DATE],'Weekly Metrics'!EI$5), IF($B9=\"EOP Subscribers\",SUMIFS(Weekly_Data_Raw[EOP_SUBSCRIBERS],Weekly_Data_Raw[TICKER],'Weekly Metrics'!$A9,Weekly_Data_Raw[END_DATE],'Weekly Metrics'!EI$5), IF($B9=\"Gross Adds\",SUMIFS(Weekly_Data_Raw[GROSS_ADDS],Weekly_Data_Raw[TICKER],'Weekly Metrics'!$A9,Weekly_Data_Raw[END_DATE],'Weekly Metrics'!EI$5), IF($B9=\"Churn\",SUMIFS(Weekly_Data_Raw[CHURNED_MEMBERS],Weekly_Data_Raw[TICKER],'Weekly Metrics'!$A9,Weekly_Data_Raw[END_DATE],'Weekly Metrics'!EI$5)))))))","v":580854},{"$f":"IF($B9=\"Panel Sales\", SUMIFS(Weekly_Data_Raw[PANEL_AMOUNT],Weekly_Data_Raw[TICKER],'Weekly Metrics'!$A9,Weekly_Data_Raw[END_DATE],'Weekly Metrics'!EJ$5),IF($B9=\"Transactions\",SUMIFS(Weekly_Data_Raw[PANEL_TRANSACTIONS],Weekly_Data_Raw[TICKER],'Weekly Metrics'!$A9,Weekly_Data_Raw[END_DATE],'Weekly Metrics'!EJ$5), IF($B9=\"Avg Ticket\",SUMIFS(Weekly_Data_Raw[AVG_TICKET],Weekly_Data_Raw[TICKER],'Weekly Metrics'!$A9,Weekly_Data_Raw[END_DATE],'Weekly Metrics'!EJ$5), IF($B9=\"EOP Subscribers\",SUMIFS(Weekly_Data_Raw[EOP_SUBSCRIBERS],Weekly_Data_Raw[TICKER],'Weekly Metrics'!$A9,Weekly_Data_Raw[END_DATE],'Weekly Metrics'!EJ$5), IF($B9=\"Gross Adds\",SUMIFS(Weekly_Data_Raw[GROSS_ADDS],Weekly_Data_Raw[TICKER],'Weekly Metrics'!$A9,Weekly_Data_Raw[END_DATE],'Weekly Metrics'!EJ$5), IF($B9=\"Churn\",SUMIFS(Weekly_Data_Raw[CHURNED_MEMBERS],Weekly_Data_Raw[TICKER],'Weekly Metrics'!$A9,Weekly_Data_Raw[END_DATE],'Weekly Metrics'!EJ$5)))))))","v":599301},{"$f":"IF($B9=\"Panel Sales\", SUMIFS(Weekly_Data_Raw[PANEL_AMOUNT],Weekly_Data_Raw[TICKER],'Weekly Metrics'!$A9,Weekly_Data_Raw[END_DATE],'Weekly Metrics'!EK$5),IF($B9=\"Transactions\",SUMIFS(Weekly_Data_Raw[PANEL_TRANSACTIONS],Weekly_Data_Raw[TICKER],'Weekly Metrics'!$A9,Weekly_Data_Raw[END_DATE],'Weekly Metrics'!EK$5), IF($B9=\"Avg Ticket\",SUMIFS(Weekly_Data_Raw[AVG_TICKET],Weekly_Data_Raw[TICKER],'Weekly Metrics'!$A9,Weekly_Data_Raw[END_DATE],'Weekly Metrics'!EK$5), IF($B9=\"EOP Subscribers\",SUMIFS(Weekly_Data_Raw[EOP_SUBSCRIBERS],Weekly_Data_Raw[TICKER],'Weekly Metrics'!$A9,Weekly_Data_Raw[END_DATE],'Weekly Metrics'!EK$5), IF($B9=\"Gross Adds\",SUMIFS(Weekly_Data_Raw[GROSS_ADDS],Weekly_Data_Raw[TICKER],'Weekly Metrics'!$A9,Weekly_Data_Raw[END_DATE],'Weekly Metrics'!EK$5), IF($B9=\"Churn\",SUMIFS(Weekly_Data_Raw[CHURNED_MEMBERS],Weekly_Data_Raw[TICKER],'Weekly Metrics'!$A9,Weekly_Data_Raw[END_DATE],'Weekly Metrics'!EK$5)))))))","v":595728},{"$f":"IF($B9=\"Panel Sales\", SUMIFS(Weekly_Data_Raw[PANEL_AMOUNT],Weekly_Data_Raw[TICKER],'Weekly Metrics'!$A9,Weekly_Data_Raw[END_DATE],'Weekly Metrics'!EL$5),IF($B9=\"Transactions\",SUMIFS(Weekly_Data_Raw[PANEL_TRANSACTIONS],Weekly_Data_Raw[TICKER],'Weekly Metrics'!$A9,Weekly_Data_Raw[END_DATE],'Weekly Metrics'!EL$5), IF($B9=\"Avg Ticket\",SUMIFS(Weekly_Data_Raw[AVG_TICKET],Weekly_Data_Raw[TICKER],'Weekly Metrics'!$A9,Weekly_Data_Raw[END_DATE],'Weekly Metrics'!EL$5), IF($B9=\"EOP Subscribers\",SUMIFS(Weekly_Data_Raw[EOP_SUBSCRIBERS],Weekly_Data_Raw[TICKER],'Weekly Metrics'!$A9,Weekly_Data_Raw[END_DATE],'Weekly Metrics'!EL$5), IF($B9=\"Gross Adds\",SUMIFS(Weekly_Data_Raw[GROSS_ADDS],Weekly_Data_Raw[TICKER],'Weekly Metrics'!$A9,Weekly_Data_Raw[END_DATE],'Weekly Metrics'!EL$5), IF($B9=\"Churn\",SUMIFS(Weekly_Data_Raw[CHURNED_MEMBERS],Weekly_Data_Raw[TICKER],'Weekly Metrics'!$A9,Weekly_Data_Raw[END_DATE],'Weekly Metrics'!EL$5)))))))","v":642893},{"$f":"IF($B9=\"Panel Sales\", SUMIFS(Weekly_Data_Raw[PANEL_AMOUNT],Weekly_Data_Raw[TICKER],'Weekly Metrics'!$A9,Weekly_Data_Raw[END_DATE],'Weekly Metrics'!EM$5),IF($B9=\"Transactions\",SUMIFS(Weekly_Data_Raw[PANEL_TRANSACTIONS],Weekly_Data_Raw[TICKER],'Weekly Metrics'!$A9,Weekly_Data_Raw[END_DATE],'Weekly Metrics'!EM$5), IF($B9=\"Avg Ticket\",SUMIFS(Weekly_Data_Raw[AVG_TICKET],Weekly_Data_Raw[TICKER],'Weekly Metrics'!$A9,Weekly_Data_Raw[END_DATE],'Weekly Metrics'!EM$5), IF($B9=\"EOP Subscribers\",SUMIFS(Weekly_Data_Raw[EOP_SUBSCRIBERS],Weekly_Data_Raw[TICKER],'Weekly Metrics'!$A9,Weekly_Data_Raw[END_DATE],'Weekly Metrics'!EM$5), IF($B9=\"Gross Adds\",SUMIFS(Weekly_Data_Raw[GROSS_ADDS],Weekly_Data_Raw[TICKER],'Weekly Metrics'!$A9,Weekly_Data_Raw[END_DATE],'Weekly Metrics'!EM$5), IF($B9=\"Churn\",SUMIFS(Weekly_Data_Raw[CHURNED_MEMBERS],Weekly_Data_Raw[TICKER],'Weekly Metrics'!$A9,Weekly_Data_Raw[END_DATE],'Weekly Metrics'!EM$5)))))))","v":609898},{"$f":"IF($B9=\"Panel Sales\", SUMIFS(Weekly_Data_Raw[PANEL_AMOUNT],Weekly_Data_Raw[TICKER],'Weekly Metrics'!$A9,Weekly_Data_Raw[END_DATE],'Weekly Metrics'!EN$5),IF($B9=\"Transactions\",SUMIFS(Weekly_Data_Raw[PANEL_TRANSACTIONS],Weekly_Data_Raw[TICKER],'Weekly Metrics'!$A9,Weekly_Data_Raw[END_DATE],'Weekly Metrics'!EN$5), IF($B9=\"Avg Ticket\",SUMIFS(Weekly_Data_Raw[AVG_TICKET],Weekly_Data_Raw[TICKER],'Weekly Metrics'!$A9,Weekly_Data_Raw[END_DATE],'Weekly Metrics'!EN$5), IF($B9=\"EOP Subscribers\",SUMIFS(Weekly_Data_Raw[EOP_SUBSCRIBERS],Weekly_Data_Raw[TICKER],'Weekly Metrics'!$A9,Weekly_Data_Raw[END_DATE],'Weekly Metrics'!EN$5), IF($B9=\"Gross Adds\",SUMIFS(Weekly_Data_Raw[GROSS_ADDS],Weekly_Data_Raw[TICKER],'Weekly Metrics'!$A9,Weekly_Data_Raw[END_DATE],'Weekly Metrics'!EN$5), IF($B9=\"Churn\",SUMIFS(Weekly_Data_Raw[CHURNED_MEMBERS],Weekly_Data_Raw[TICKER],'Weekly Metrics'!$A9,Weekly_Data_Raw[END_DATE],'Weekly Metrics'!EN$5)))))))","v":612238},{"$f":"IF($B9=\"Panel Sales\", SUMIFS(Weekly_Data_Raw[PANEL_AMOUNT],Weekly_Data_Raw[TICKER],'Weekly Metrics'!$A9,Weekly_Data_Raw[END_DATE],'Weekly Metrics'!EO$5),IF($B9=\"Transactions\",SUMIFS(Weekly_Data_Raw[PANEL_TRANSACTIONS],Weekly_Data_Raw[TICKER],'Weekly Metrics'!$A9,Weekly_Data_Raw[END_DATE],'Weekly Metrics'!EO$5), IF($B9=\"Avg Ticket\",SUMIFS(Weekly_Data_Raw[AVG_TICKET],Weekly_Data_Raw[TICKER],'Weekly Metrics'!$A9,Weekly_Data_Raw[END_DATE],'Weekly Metrics'!EO$5), IF($B9=\"EOP Subscribers\",SUMIFS(Weekly_Data_Raw[EOP_SUBSCRIBERS],Weekly_Data_Raw[TICKER],'Weekly Metrics'!$A9,Weekly_Data_Raw[END_DATE],'Weekly Metrics'!EO$5), IF($B9=\"Gross Adds\",SUMIFS(Weekly_Data_Raw[GROSS_ADDS],Weekly_Data_Raw[TICKER],'Weekly Metrics'!$A9,Weekly_Data_Raw[END_DATE],'Weekly Metrics'!EO$5), IF($B9=\"Churn\",SUMIFS(Weekly_Data_Raw[CHURNED_MEMBERS],Weekly_Data_Raw[TICKER],'Weekly Metrics'!$A9,Weekly_Data_Raw[END_DATE],'Weekly Metrics'!EO$5)))))))","v":607463},{"$f":"IF($B9=\"Panel Sales\", SUMIFS(Weekly_Data_Raw[PANEL_AMOUNT],Weekly_Data_Raw[TICKER],'Weekly Metrics'!$A9,Weekly_Data_Raw[END_DATE],'Weekly Metrics'!EP$5),IF($B9=\"Transactions\",SUMIFS(Weekly_Data_Raw[PANEL_TRANSACTIONS],Weekly_Data_Raw[TICKER],'Weekly Metrics'!$A9,Weekly_Data_Raw[END_DATE],'Weekly Metrics'!EP$5), IF($B9=\"Avg Ticket\",SUMIFS(Weekly_Data_Raw[AVG_TICKET],Weekly_Data_Raw[TICKER],'Weekly Metrics'!$A9,Weekly_Data_Raw[END_DATE],'Weekly Metrics'!EP$5), IF($B9=\"EOP Subscribers\",SUMIFS(Weekly_Data_Raw[EOP_SUBSCRIBERS],Weekly_Data_Raw[TICKER],'Weekly Metrics'!$A9,Weekly_Data_Raw[END_DATE],'Weekly Metrics'!EP$5), IF($B9=\"Gross Adds\",SUMIFS(Weekly_Data_Raw[GROSS_ADDS],Weekly_Data_Raw[TICKER],'Weekly Metrics'!$A9,Weekly_Data_Raw[END_DATE],'Weekly Metrics'!EP$5), IF($B9=\"Churn\",SUMIFS(Weekly_Data_Raw[CHURNED_MEMBERS],Weekly_Data_Raw[TICKER],'Weekly Metrics'!$A9,Weekly_Data_Raw[END_DATE],'Weekly Metrics'!EP$5)))))))","v":631926},{"$f":"IF($B9=\"Panel Sales\", SUMIFS(Weekly_Data_Raw[PANEL_AMOUNT],Weekly_Data_Raw[TICKER],'Weekly Metrics'!$A9,Weekly_Data_Raw[END_DATE],'Weekly Metrics'!EQ$5),IF($B9=\"Transactions\",SUMIFS(Weekly_Data_Raw[PANEL_TRANSACTIONS],Weekly_Data_Raw[TICKER],'Weekly Metrics'!$A9,Weekly_Data_Raw[END_DATE],'Weekly Metrics'!EQ$5), IF($B9=\"Avg Ticket\",SUMIFS(Weekly_Data_Raw[AVG_TICKET],Weekly_Data_Raw[TICKER],'Weekly Metrics'!$A9,Weekly_Data_Raw[END_DATE],'Weekly Metrics'!EQ$5), IF($B9=\"EOP Subscribers\",SUMIFS(Weekly_Data_Raw[EOP_SUBSCRIBERS],Weekly_Data_Raw[TICKER],'Weekly Metrics'!$A9,Weekly_Data_Raw[END_DATE],'Weekly Metrics'!EQ$5), IF($B9=\"Gross Adds\",SUMIFS(Weekly_Data_Raw[GROSS_ADDS],Weekly_Data_Raw[TICKER],'Weekly Metrics'!$A9,Weekly_Data_Raw[END_DATE],'Weekly Metrics'!EQ$5), IF($B9=\"Churn\",SUMIFS(Weekly_Data_Raw[CHURNED_MEMBERS],Weekly_Data_Raw[TICKER],'Weekly Metrics'!$A9,Weekly_Data_Raw[END_DATE],'Weekly Metrics'!EQ$5)))))))","v":637198},{"$f":"IF($B9=\"Panel Sales\", SUMIFS(Weekly_Data_Raw[PANEL_AMOUNT],Weekly_Data_Raw[TICKER],'Weekly Metrics'!$A9,Weekly_Data_Raw[END_DATE],'Weekly Metrics'!ER$5),IF($B9=\"Transactions\",SUMIFS(Weekly_Data_Raw[PANEL_TRANSACTIONS],Weekly_Data_Raw[TICKER],'Weekly Metrics'!$A9,Weekly_Data_Raw[END_DATE],'Weekly Metrics'!ER$5), IF($B9=\"Avg Ticket\",SUMIFS(Weekly_Data_Raw[AVG_TICKET],Weekly_Data_Raw[TICKER],'Weekly Metrics'!$A9,Weekly_Data_Raw[END_DATE],'Weekly Metrics'!ER$5), IF($B9=\"EOP Subscribers\",SUMIFS(Weekly_Data_Raw[EOP_SUBSCRIBERS],Weekly_Data_Raw[TICKER],'Weekly Metrics'!$A9,Weekly_Data_Raw[END_DATE],'Weekly Metrics'!ER$5), IF($B9=\"Gross Adds\",SUMIFS(Weekly_Data_Raw[GROSS_ADDS],Weekly_Data_Raw[TICKER],'Weekly Metrics'!$A9,Weekly_Data_Raw[END_DATE],'Weekly Metrics'!ER$5), IF($B9=\"Churn\",SUMIFS(Weekly_Data_Raw[CHURNED_MEMBERS],Weekly_Data_Raw[TICKER],'Weekly Metrics'!$A9,Weekly_Data_Raw[END_DATE],'Weekly Metrics'!ER$5)))))))","v":593548},{"$f":"IF($B9=\"Panel Sales\", SUMIFS(Weekly_Data_Raw[PANEL_AMOUNT],Weekly_Data_Raw[TICKER],'Weekly Metrics'!$A9,Weekly_Data_Raw[END_DATE],'Weekly Metrics'!ES$5),IF($B9=\"Transactions\",SUMIFS(Weekly_Data_Raw[PANEL_TRANSACTIONS],Weekly_Data_Raw[TICKER],'Weekly Metrics'!$A9,Weekly_Data_Raw[END_DATE],'Weekly Metrics'!ES$5), IF($B9=\"Avg Ticket\",SUMIFS(Weekly_Data_Raw[AVG_TICKET],Weekly_Data_Raw[TICKER],'Weekly Metrics'!$A9,Weekly_Data_Raw[END_DATE],'Weekly Metrics'!ES$5), IF($B9=\"EOP Subscribers\",SUMIFS(Weekly_Data_Raw[EOP_SUBSCRIBERS],Weekly_Data_Raw[TICKER],'Weekly Metrics'!$A9,Weekly_Data_Raw[END_DATE],'Weekly Metrics'!ES$5), IF($B9=\"Gross Adds\",SUMIFS(Weekly_Data_Raw[GROSS_ADDS],Weekly_Data_Raw[TICKER],'Weekly Metrics'!$A9,Weekly_Data_Raw[END_DATE],'Weekly Metrics'!ES$5), IF($B9=\"Churn\",SUMIFS(Weekly_Data_Raw[CHURNED_MEMBERS],Weekly_Data_Raw[TICKER],'Weekly Metrics'!$A9,Weekly_Data_Raw[END_DATE],'Weekly Metrics'!ES$5)))))))","v":602943},{"$f":"IF($B9=\"Panel Sales\", SUMIFS(Weekly_Data_Raw[PANEL_AMOUNT],Weekly_Data_Raw[TICKER],'Weekly Metrics'!$A9,Weekly_Data_Raw[END_DATE],'Weekly Metrics'!ET$5),IF($B9=\"Transactions\",SUMIFS(Weekly_Data_Raw[PANEL_TRANSACTIONS],Weekly_Data_Raw[TICKER],'Weekly Metrics'!$A9,Weekly_Data_Raw[END_DATE],'Weekly Metrics'!ET$5), IF($B9=\"Avg Ticket\",SUMIFS(Weekly_Data_Raw[AVG_TICKET],Weekly_Data_Raw[TICKER],'Weekly Metrics'!$A9,Weekly_Data_Raw[END_DATE],'Weekly Metrics'!ET$5), IF($B9=\"EOP Subscribers\",SUMIFS(Weekly_Data_Raw[EOP_SUBSCRIBERS],Weekly_Data_Raw[TICKER],'Weekly Metrics'!$A9,Weekly_Data_Raw[END_DATE],'Weekly Metrics'!ET$5), IF($B9=\"Gross Adds\",SUMIFS(Weekly_Data_Raw[GROSS_ADDS],Weekly_Data_Raw[TICKER],'Weekly Metrics'!$A9,Weekly_Data_Raw[END_DATE],'Weekly Metrics'!ET$5), IF($B9=\"Churn\",SUMIFS(Weekly_Data_Raw[CHURNED_MEMBERS],Weekly_Data_Raw[TICKER],'Weekly Metrics'!$A9,Weekly_Data_Raw[END_DATE],'Weekly Metrics'!ET$5)))))))","v":612911},{"$f":"IF($B9=\"Panel Sales\", SUMIFS(Weekly_Data_Raw[PANEL_AMOUNT],Weekly_Data_Raw[TICKER],'Weekly Metrics'!$A9,Weekly_Data_Raw[END_DATE],'Weekly Metrics'!EU$5),IF($B9=\"Transactions\",SUMIFS(Weekly_Data_Raw[PANEL_TRANSACTIONS],Weekly_Data_Raw[TICKER],'Weekly Metrics'!$A9,Weekly_Data_Raw[END_DATE],'Weekly Metrics'!EU$5), IF($B9=\"Avg Ticket\",SUMIFS(Weekly_Data_Raw[AVG_TICKET],Weekly_Data_Raw[TICKER],'Weekly Metrics'!$A9,Weekly_Data_Raw[END_DATE],'Weekly Metrics'!EU$5), IF($B9=\"EOP Subscribers\",SUMIFS(Weekly_Data_Raw[EOP_SUBSCRIBERS],Weekly_Data_Raw[TICKER],'Weekly Metrics'!$A9,Weekly_Data_Raw[END_DATE],'Weekly Metrics'!EU$5), IF($B9=\"Gross Adds\",SUMIFS(Weekly_Data_Raw[GROSS_ADDS],Weekly_Data_Raw[TICKER],'Weekly Metrics'!$A9,Weekly_Data_Raw[END_DATE],'Weekly Metrics'!EU$5), IF($B9=\"Churn\",SUMIFS(Weekly_Data_Raw[CHURNED_MEMBERS],Weekly_Data_Raw[TICKER],'Weekly Metrics'!$A9,Weekly_Data_Raw[END_DATE],'Weekly Metrics'!EU$5)))))))","v":657150},{"$f":"IF($B9=\"Panel Sales\", SUMIFS(Weekly_Data_Raw[PANEL_AMOUNT],Weekly_Data_Raw[TICKER],'Weekly Metrics'!$A9,Weekly_Data_Raw[END_DATE],'Weekly Metrics'!EV$5),IF($B9=\"Transactions\",SUMIFS(Weekly_Data_Raw[PANEL_TRANSACTIONS],Weekly_Data_Raw[TICKER],'Weekly Metrics'!$A9,Weekly_Data_Raw[END_DATE],'Weekly Metrics'!EV$5), IF($B9=\"Avg Ticket\",SUMIFS(Weekly_Data_Raw[AVG_TICKET],Weekly_Data_Raw[TICKER],'Weekly Metrics'!$A9,Weekly_Data_Raw[END_DATE],'Weekly Metrics'!EV$5), IF($B9=\"EOP Subscribers\",SUMIFS(Weekly_Data_Raw[EOP_SUBSCRIBERS],Weekly_Data_Raw[TICKER],'Weekly Metrics'!$A9,Weekly_Data_Raw[END_DATE],'Weekly Metrics'!EV$5), IF($B9=\"Gross Adds\",SUMIFS(Weekly_Data_Raw[GROSS_ADDS],Weekly_Data_Raw[TICKER],'Weekly Metrics'!$A9,Weekly_Data_Raw[END_DATE],'Weekly Metrics'!EV$5), IF($B9=\"Churn\",SUMIFS(Weekly_Data_Raw[CHURNED_MEMBERS],Weekly_Data_Raw[TICKER],'Weekly Metrics'!$A9,Weekly_Data_Raw[END_DATE],'Weekly Metrics'!EV$5)))))))","v":642923},{"$f":"IF($B9=\"Panel Sales\", SUMIFS(Weekly_Data_Raw[PANEL_AMOUNT],Weekly_Data_Raw[TICKER],'Weekly Metrics'!$A9,Weekly_Data_Raw[END_DATE],'Weekly Metrics'!EW$5),IF($B9=\"Transactions\",SUMIFS(Weekly_Data_Raw[PANEL_TRANSACTIONS],Weekly_Data_Raw[TICKER],'Weekly Metrics'!$A9,Weekly_Data_Raw[END_DATE],'Weekly Metrics'!EW$5), IF($B9=\"Avg Ticket\",SUMIFS(Weekly_Data_Raw[AVG_TICKET],Weekly_Data_Raw[TICKER],'Weekly Metrics'!$A9,Weekly_Data_Raw[END_DATE],'Weekly Metrics'!EW$5), IF($B9=\"EOP Subscribers\",SUMIFS(Weekly_Data_Raw[EOP_SUBSCRIBERS],Weekly_Data_Raw[TICKER],'Weekly Metrics'!$A9,Weekly_Data_Raw[END_DATE],'Weekly Metrics'!EW$5), IF($B9=\"Gross Adds\",SUMIFS(Weekly_Data_Raw[GROSS_ADDS],Weekly_Data_Raw[TICKER],'Weekly Metrics'!$A9,Weekly_Data_Raw[END_DATE],'Weekly Metrics'!EW$5), IF($B9=\"Churn\",SUMIFS(Weekly_Data_Raw[CHURNED_MEMBERS],Weekly_Data_Raw[TICKER],'Weekly Metrics'!$A9,Weekly_Data_Raw[END_DATE],'Weekly Metrics'!EW$5)))))))","v":645522},{"$f":"IF($B9=\"Panel Sales\", SUMIFS(Weekly_Data_Raw[PANEL_AMOUNT],Weekly_Data_Raw[TICKER],'Weekly Metrics'!$A9,Weekly_Data_Raw[END_DATE],'Weekly Metrics'!EX$5),IF($B9=\"Transactions\",SUMIFS(Weekly_Data_Raw[PANEL_TRANSACTIONS],Weekly_Data_Raw[TICKER],'Weekly Metrics'!$A9,Weekly_Data_Raw[END_DATE],'Weekly Metrics'!EX$5), IF($B9=\"Avg Ticket\",SUMIFS(Weekly_Data_Raw[AVG_TICKET],Weekly_Data_Raw[TICKER],'Weekly Metrics'!$A9,Weekly_Data_Raw[END_DATE],'Weekly Metrics'!EX$5), IF($B9=\"EOP Subscribers\",SUMIFS(Weekly_Data_Raw[EOP_SUBSCRIBERS],Weekly_Data_Raw[TICKER],'Weekly Metrics'!$A9,Weekly_Data_Raw[END_DATE],'Weekly Metrics'!EX$5), IF($B9=\"Gross Adds\",SUMIFS(Weekly_Data_Raw[GROSS_ADDS],Weekly_Data_Raw[TICKER],'Weekly Metrics'!$A9,Weekly_Data_Raw[END_DATE],'Weekly Metrics'!EX$5), IF($B9=\"Churn\",SUMIFS(Weekly_Data_Raw[CHURNED_MEMBERS],Weekly_Data_Raw[TICKER],'Weekly Metrics'!$A9,Weekly_Data_Raw[END_DATE],'Weekly Metrics'!EX$5)))))))","v":660889},{"$f":"IF($B9=\"Panel Sales\", SUMIFS(Weekly_Data_Raw[PANEL_AMOUNT],Weekly_Data_Raw[TICKER],'Weekly Metrics'!$A9,Weekly_Data_Raw[END_DATE],'Weekly Metrics'!EY$5),IF($B9=\"Transactions\",SUMIFS(Weekly_Data_Raw[PANEL_TRANSACTIONS],Weekly_Data_Raw[TICKER],'Weekly Metrics'!$A9,Weekly_Data_Raw[END_DATE],'Weekly Metrics'!EY$5), IF($B9=\"Avg Ticket\",SUMIFS(Weekly_Data_Raw[AVG_TICKET],Weekly_Data_Raw[TICKER],'Weekly Metrics'!$A9,Weekly_Data_Raw[END_DATE],'Weekly Metrics'!EY$5), IF($B9=\"EOP Subscribers\",SUMIFS(Weekly_Data_Raw[EOP_SUBSCRIBERS],Weekly_Data_Raw[TICKER],'Weekly Metrics'!$A9,Weekly_Data_Raw[END_DATE],'Weekly Metrics'!EY$5), IF($B9=\"Gross Adds\",SUMIFS(Weekly_Data_Raw[GROSS_ADDS],Weekly_Data_Raw[TICKER],'Weekly Metrics'!$A9,Weekly_Data_Raw[END_DATE],'Weekly Metrics'!EY$5), IF($B9=\"Churn\",SUMIFS(Weekly_Data_Raw[CHURNED_MEMBERS],Weekly_Data_Raw[TICKER],'Weekly Metrics'!$A9,Weekly_Data_Raw[END_DATE],'Weekly Metrics'!EY$5)))))))","v":771089},{"$f":"IF($B9=\"Panel Sales\", SUMIFS(Weekly_Data_Raw[PANEL_AMOUNT],Weekly_Data_Raw[TICKER],'Weekly Metrics'!$A9,Weekly_Data_Raw[END_DATE],'Weekly Metrics'!EZ$5),IF($B9=\"Transactions\",SUMIFS(Weekly_Data_Raw[PANEL_TRANSACTIONS],Weekly_Data_Raw[TICKER],'Weekly Metrics'!$A9,Weekly_Data_Raw[END_DATE],'Weekly Metrics'!EZ$5), IF($B9=\"Avg Ticket\",SUMIFS(Weekly_Data_Raw[AVG_TICKET],Weekly_Data_Raw[TICKER],'Weekly Metrics'!$A9,Weekly_Data_Raw[END_DATE],'Weekly Metrics'!EZ$5), IF($B9=\"EOP Subscribers\",SUMIFS(Weekly_Data_Raw[EOP_SUBSCRIBERS],Weekly_Data_Raw[TICKER],'Weekly Metrics'!$A9,Weekly_Data_Raw[END_DATE],'Weekly Metrics'!EZ$5), IF($B9=\"Gross Adds\",SUMIFS(Weekly_Data_Raw[GROSS_ADDS],Weekly_Data_Raw[TICKER],'Weekly Metrics'!$A9,Weekly_Data_Raw[END_DATE],'Weekly Metrics'!EZ$5), IF($B9=\"Churn\",SUMIFS(Weekly_Data_Raw[CHURNED_MEMBERS],Weekly_Data_Raw[TICKER],'Weekly Metrics'!$A9,Weekly_Data_Raw[END_DATE],'Weekly Metrics'!EZ$5)))))))","v":709694},{"$f":"IF($B9=\"Panel Sales\", SUMIFS(Weekly_Data_Raw[PANEL_AMOUNT],Weekly_Data_Raw[TICKER],'Weekly Metrics'!$A9,Weekly_Data_Raw[END_DATE],'Weekly Metrics'!FA$5),IF($B9=\"Transactions\",SUMIFS(Weekly_Data_Raw[PANEL_TRANSACTIONS],Weekly_Data_Raw[TICKER],'Weekly Metrics'!$A9,Weekly_Data_Raw[END_DATE],'Weekly Metrics'!FA$5), IF($B9=\"Avg Ticket\",SUMIFS(Weekly_Data_Raw[AVG_TICKET],Weekly_Data_Raw[TICKER],'Weekly Metrics'!$A9,Weekly_Data_Raw[END_DATE],'Weekly Metrics'!FA$5), IF($B9=\"EOP Subscribers\",SUMIFS(Weekly_Data_Raw[EOP_SUBSCRIBERS],Weekly_Data_Raw[TICKER],'Weekly Metrics'!$A9,Weekly_Data_Raw[END_DATE],'Weekly Metrics'!FA$5), IF($B9=\"Gross Adds\",SUMIFS(Weekly_Data_Raw[GROSS_ADDS],Weekly_Data_Raw[TICKER],'Weekly Metrics'!$A9,Weekly_Data_Raw[END_DATE],'Weekly Metrics'!FA$5), IF($B9=\"Churn\",SUMIFS(Weekly_Data_Raw[CHURNED_MEMBERS],Weekly_Data_Raw[TICKER],'Weekly Metrics'!$A9,Weekly_Data_Raw[END_DATE],'Weekly Metrics'!FA$5)))))))","v":704988},{"$f":"IF($B9=\"Panel Sales\", SUMIFS(Weekly_Data_Raw[PANEL_AMOUNT],Weekly_Data_Raw[TICKER],'Weekly Metrics'!$A9,Weekly_Data_Raw[END_DATE],'Weekly Metrics'!FB$5),IF($B9=\"Transactions\",SUMIFS(Weekly_Data_Raw[PANEL_TRANSACTIONS],Weekly_Data_Raw[TICKER],'Weekly Metrics'!$A9,Weekly_Data_Raw[END_DATE],'Weekly Metrics'!FB$5), IF($B9=\"Avg Ticket\",SUMIFS(Weekly_Data_Raw[AVG_TICKET],Weekly_Data_Raw[TICKER],'Weekly Metrics'!$A9,Weekly_Data_Raw[END_DATE],'Weekly Metrics'!FB$5), IF($B9=\"EOP Subscribers\",SUMIFS(Weekly_Data_Raw[EOP_SUBSCRIBERS],Weekly_Data_Raw[TICKER],'Weekly Metrics'!$A9,Weekly_Data_Raw[END_DATE],'Weekly Metrics'!FB$5), IF($B9=\"Gross Adds\",SUMIFS(Weekly_Data_Raw[GROSS_ADDS],Weekly_Data_Raw[TICKER],'Weekly Metrics'!$A9,Weekly_Data_Raw[END_DATE],'Weekly Metrics'!FB$5), IF($B9=\"Churn\",SUMIFS(Weekly_Data_Raw[CHURNED_MEMBERS],Weekly_Data_Raw[TICKER],'Weekly Metrics'!$A9,Weekly_Data_Raw[END_DATE],'Weekly Metrics'!FB$5)))))))","v":622122},{"$f":"IF($B9=\"Panel Sales\", SUMIFS(Weekly_Data_Raw[PANEL_AMOUNT],Weekly_Data_Raw[TICKER],'Weekly Metrics'!$A9,Weekly_Data_Raw[END_DATE],'Weekly Metrics'!FC$5),IF($B9=\"Transactions\",SUMIFS(Weekly_Data_Raw[PANEL_TRANSACTIONS],Weekly_Data_Raw[TICKER],'Weekly Metrics'!$A9,Weekly_Data_Raw[END_DATE],'Weekly Metrics'!FC$5), IF($B9=\"Avg Ticket\",SUMIFS(Weekly_Data_Raw[AVG_TICKET],Weekly_Data_Raw[TICKER],'Weekly Metrics'!$A9,Weekly_Data_Raw[END_DATE],'Weekly Metrics'!FC$5), IF($B9=\"EOP Subscribers\",SUMIFS(Weekly_Data_Raw[EOP_SUBSCRIBERS],Weekly_Data_Raw[TICKER],'Weekly Metrics'!$A9,Weekly_Data_Raw[END_DATE],'Weekly Metrics'!FC$5), IF($B9=\"Gross Adds\",SUMIFS(Weekly_Data_Raw[GROSS_ADDS],Weekly_Data_Raw[TICKER],'Weekly Metrics'!$A9,Weekly_Data_Raw[END_DATE],'Weekly Metrics'!FC$5), IF($B9=\"Churn\",SUMIFS(Weekly_Data_Raw[CHURNED_MEMBERS],Weekly_Data_Raw[TICKER],'Weekly Metrics'!$A9,Weekly_Data_Raw[END_DATE],'Weekly Metrics'!FC$5)))))))","v":574115},{"$f":"IF($B9=\"Panel Sales\", SUMIFS(Weekly_Data_Raw[PANEL_AMOUNT],Weekly_Data_Raw[TICKER],'Weekly Metrics'!$A9,Weekly_Data_Raw[END_DATE],'Weekly Metrics'!FD$5),IF($B9=\"Transactions\",SUMIFS(Weekly_Data_Raw[PANEL_TRANSACTIONS],Weekly_Data_Raw[TICKER],'Weekly Metrics'!$A9,Weekly_Data_Raw[END_DATE],'Weekly Metrics'!FD$5), IF($B9=\"Avg Ticket\",SUMIFS(Weekly_Data_Raw[AVG_TICKET],Weekly_Data_Raw[TICKER],'Weekly Metrics'!$A9,Weekly_Data_Raw[END_DATE],'Weekly Metrics'!FD$5), IF($B9=\"EOP Subscribers\",SUMIFS(Weekly_Data_Raw[EOP_SUBSCRIBERS],Weekly_Data_Raw[TICKER],'Weekly Metrics'!$A9,Weekly_Data_Raw[END_DATE],'Weekly Metrics'!FD$5), IF($B9=\"Gross Adds\",SUMIFS(Weekly_Data_Raw[GROSS_ADDS],Weekly_Data_Raw[TICKER],'Weekly Metrics'!$A9,Weekly_Data_Raw[END_DATE],'Weekly Metrics'!FD$5), IF($B9=\"Churn\",SUMIFS(Weekly_Data_Raw[CHURNED_MEMBERS],Weekly_Data_Raw[TICKER],'Weekly Metrics'!$A9,Weekly_Data_Raw[END_DATE],'Weekly Metrics'!FD$5)))))))","v":619460},{"$f":"IF($B9=\"Panel Sales\", SUMIFS(Weekly_Data_Raw[PANEL_AMOUNT],Weekly_Data_Raw[TICKER],'Weekly Metrics'!$A9,Weekly_Data_Raw[END_DATE],'Weekly Metrics'!FE$5),IF($B9=\"Transactions\",SUMIFS(Weekly_Data_Raw[PANEL_TRANSACTIONS],Weekly_Data_Raw[TICKER],'Weekly Metrics'!$A9,Weekly_Data_Raw[END_DATE],'Weekly Metrics'!FE$5), IF($B9=\"Avg Ticket\",SUMIFS(Weekly_Data_Raw[AVG_TICKET],Weekly_Data_Raw[TICKER],'Weekly Metrics'!$A9,Weekly_Data_Raw[END_DATE],'Weekly Metrics'!FE$5), IF($B9=\"EOP Subscribers\",SUMIFS(Weekly_Data_Raw[EOP_SUBSCRIBERS],Weekly_Data_Raw[TICKER],'Weekly Metrics'!$A9,Weekly_Data_Raw[END_DATE],'Weekly Metrics'!FE$5), IF($B9=\"Gross Adds\",SUMIFS(Weekly_Data_Raw[GROSS_ADDS],Weekly_Data_Raw[TICKER],'Weekly Metrics'!$A9,Weekly_Data_Raw[END_DATE],'Weekly Metrics'!FE$5), IF($B9=\"Churn\",SUMIFS(Weekly_Data_Raw[CHURNED_MEMBERS],Weekly_Data_Raw[TICKER],'Weekly Metrics'!$A9,Weekly_Data_Raw[END_DATE],'Weekly Metrics'!FE$5)))))))","v":586646},{"$f":"IF($B9=\"Panel Sales\", SUMIFS(Weekly_Data_Raw[PANEL_AMOUNT],Weekly_Data_Raw[TICKER],'Weekly Metrics'!$A9,Weekly_Data_Raw[END_DATE],'Weekly Metrics'!FF$5),IF($B9=\"Transactions\",SUMIFS(Weekly_Data_Raw[PANEL_TRANSACTIONS],Weekly_Data_Raw[TICKER],'Weekly Metrics'!$A9,Weekly_Data_Raw[END_DATE],'Weekly Metrics'!FF$5), IF($B9=\"Avg Ticket\",SUMIFS(Weekly_Data_Raw[AVG_TICKET],Weekly_Data_Raw[TICKER],'Weekly Metrics'!$A9,Weekly_Data_Raw[END_DATE],'Weekly Metrics'!FF$5), IF($B9=\"EOP Subscribers\",SUMIFS(Weekly_Data_Raw[EOP_SUBSCRIBERS],Weekly_Data_Raw[TICKER],'Weekly Metrics'!$A9,Weekly_Data_Raw[END_DATE],'Weekly Metrics'!FF$5), IF($B9=\"Gross Adds\",SUMIFS(Weekly_Data_Raw[GROSS_ADDS],Weekly_Data_Raw[TICKER],'Weekly Metrics'!$A9,Weekly_Data_Raw[END_DATE],'Weekly Metrics'!FF$5), IF($B9=\"Churn\",SUMIFS(Weekly_Data_Raw[CHURNED_MEMBERS],Weekly_Data_Raw[TICKER],'Weekly Metrics'!$A9,Weekly_Data_Raw[END_DATE],'Weekly Metrics'!FF$5)))))))","v":595054},{"$f":"IF($B9=\"Panel Sales\", SUMIFS(Weekly_Data_Raw[PANEL_AMOUNT],Weekly_Data_Raw[TICKER],'Weekly Metrics'!$A9,Weekly_Data_Raw[END_DATE],'Weekly Metrics'!FG$5),IF($B9=\"Transactions\",SUMIFS(Weekly_Data_Raw[PANEL_TRANSACTIONS],Weekly_Data_Raw[TICKER],'Weekly Metrics'!$A9,Weekly_Data_Raw[END_DATE],'Weekly Metrics'!FG$5), IF($B9=\"Avg Ticket\",SUMIFS(Weekly_Data_Raw[AVG_TICKET],Weekly_Data_Raw[TICKER],'Weekly Metrics'!$A9,Weekly_Data_Raw[END_DATE],'Weekly Metrics'!FG$5), IF($B9=\"EOP Subscribers\",SUMIFS(Weekly_Data_Raw[EOP_SUBSCRIBERS],Weekly_Data_Raw[TICKER],'Weekly Metrics'!$A9,Weekly_Data_Raw[END_DATE],'Weekly Metrics'!FG$5), IF($B9=\"Gross Adds\",SUMIFS(Weekly_Data_Raw[GROSS_ADDS],Weekly_Data_Raw[TICKER],'Weekly Metrics'!$A9,Weekly_Data_Raw[END_DATE],'Weekly Metrics'!FG$5), IF($B9=\"Churn\",SUMIFS(Weekly_Data_Raw[CHURNED_MEMBERS],Weekly_Data_Raw[TICKER],'Weekly Metrics'!$A9,Weekly_Data_Raw[END_DATE],'Weekly Metrics'!FG$5)))))))","v":595697},{"$f":"IF($B9=\"Panel Sales\", SUMIFS(Weekly_Data_Raw[PANEL_AMOUNT],Weekly_Data_Raw[TICKER],'Weekly Metrics'!$A9,Weekly_Data_Raw[END_DATE],'Weekly Metrics'!FH$5),IF($B9=\"Transactions\",SUMIFS(Weekly_Data_Raw[PANEL_TRANSACTIONS],Weekly_Data_Raw[TICKER],'Weekly Metrics'!$A9,Weekly_Data_Raw[END_DATE],'Weekly Metrics'!FH$5), IF($B9=\"Avg Ticket\",SUMIFS(Weekly_Data_Raw[AVG_TICKET],Weekly_Data_Raw[TICKER],'Weekly Metrics'!$A9,Weekly_Data_Raw[END_DATE],'Weekly Metrics'!FH$5), IF($B9=\"EOP Subscribers\",SUMIFS(Weekly_Data_Raw[EOP_SUBSCRIBERS],Weekly_Data_Raw[TICKER],'Weekly Metrics'!$A9,Weekly_Data_Raw[END_DATE],'Weekly Metrics'!FH$5), IF($B9=\"Gross Adds\",SUMIFS(Weekly_Data_Raw[GROSS_ADDS],Weekly_Data_Raw[TICKER],'Weekly Metrics'!$A9,Weekly_Data_Raw[END_DATE],'Weekly Metrics'!FH$5), IF($B9=\"Churn\",SUMIFS(Weekly_Data_Raw[CHURNED_MEMBERS],Weekly_Data_Raw[TICKER],'Weekly Metrics'!$A9,Weekly_Data_Raw[END_DATE],'Weekly Metrics'!FH$5)))))))","v":642997},{"$f":"IF($B9=\"Panel Sales\", SUMIFS(Weekly_Data_Raw[PANEL_AMOUNT],Weekly_Data_Raw[TICKER],'Weekly Metrics'!$A9,Weekly_Data_Raw[END_DATE],'Weekly Metrics'!FI$5),IF($B9=\"Transactions\",SUMIFS(Weekly_Data_Raw[PANEL_TRANSACTIONS],Weekly_Data_Raw[TICKER],'Weekly Metrics'!$A9,Weekly_Data_Raw[END_DATE],'Weekly Metrics'!FI$5), IF($B9=\"Avg Ticket\",SUMIFS(Weekly_Data_Raw[AVG_TICKET],Weekly_Data_Raw[TICKER],'Weekly Metrics'!$A9,Weekly_Data_Raw[END_DATE],'Weekly Metrics'!FI$5), IF($B9=\"EOP Subscribers\",SUMIFS(Weekly_Data_Raw[EOP_SUBSCRIBERS],Weekly_Data_Raw[TICKER],'Weekly Metrics'!$A9,Weekly_Data_Raw[END_DATE],'Weekly Metrics'!FI$5), IF($B9=\"Gross Adds\",SUMIFS(Weekly_Data_Raw[GROSS_ADDS],Weekly_Data_Raw[TICKER],'Weekly Metrics'!$A9,Weekly_Data_Raw[END_DATE],'Weekly Metrics'!FI$5), IF($B9=\"Churn\",SUMIFS(Weekly_Data_Raw[CHURNED_MEMBERS],Weekly_Data_Raw[TICKER],'Weekly Metrics'!$A9,Weekly_Data_Raw[END_DATE],'Weekly Metrics'!FI$5)))))))","v":613925},{"$f":"IF($B9=\"Panel Sales\", SUMIFS(Weekly_Data_Raw[PANEL_AMOUNT],Weekly_Data_Raw[TICKER],'Weekly Metrics'!$A9,Weekly_Data_Raw[END_DATE],'Weekly Metrics'!FJ$5),IF($B9=\"Transactions\",SUMIFS(Weekly_Data_Raw[PANEL_TRANSACTIONS],Weekly_Data_Raw[TICKER],'Weekly Metrics'!$A9,Weekly_Data_Raw[END_DATE],'Weekly Metrics'!FJ$5), IF($B9=\"Avg Ticket\",SUMIFS(Weekly_Data_Raw[AVG_TICKET],Weekly_Data_Raw[TICKER],'Weekly Metrics'!$A9,Weekly_Data_Raw[END_DATE],'Weekly Metrics'!FJ$5), IF($B9=\"EOP Subscribers\",SUMIFS(Weekly_Data_Raw[EOP_SUBSCRIBERS],Weekly_Data_Raw[TICKER],'Weekly Metrics'!$A9,Weekly_Data_Raw[END_DATE],'Weekly Metrics'!FJ$5), IF($B9=\"Gross Adds\",SUMIFS(Weekly_Data_Raw[GROSS_ADDS],Weekly_Data_Raw[TICKER],'Weekly Metrics'!$A9,Weekly_Data_Raw[END_DATE],'Weekly Metrics'!FJ$5), IF($B9=\"Churn\",SUMIFS(Weekly_Data_Raw[CHURNED_MEMBERS],Weekly_Data_Raw[TICKER],'Weekly Metrics'!$A9,Weekly_Data_Raw[END_DATE],'Weekly Metrics'!FJ$5)))))))","v":599918},{"$f":"IF($B9=\"Panel Sales\", SUMIFS(Weekly_Data_Raw[PANEL_AMOUNT],Weekly_Data_Raw[TICKER],'Weekly Metrics'!$A9,Weekly_Data_Raw[END_DATE],'Weekly Metrics'!FK$5),IF($B9=\"Transactions\",SUMIFS(Weekly_Data_Raw[PANEL_TRANSACTIONS],Weekly_Data_Raw[TICKER],'Weekly Metrics'!$A9,Weekly_Data_Raw[END_DATE],'Weekly Metrics'!FK$5), IF($B9=\"Avg Ticket\",SUMIFS(Weekly_Data_Raw[AVG_TICKET],Weekly_Data_Raw[TICKER],'Weekly Metrics'!$A9,Weekly_Data_Raw[END_DATE],'Weekly Metrics'!FK$5), IF($B9=\"EOP Subscribers\",SUMIFS(Weekly_Data_Raw[EOP_SUBSCRIBERS],Weekly_Data_Raw[TICKER],'Weekly Metrics'!$A9,Weekly_Data_Raw[END_DATE],'Weekly Metrics'!FK$5), IF($B9=\"Gross Adds\",SUMIFS(Weekly_Data_Raw[GROSS_ADDS],Weekly_Data_Raw[TICKER],'Weekly Metrics'!$A9,Weekly_Data_Raw[END_DATE],'Weekly Metrics'!FK$5), IF($B9=\"Churn\",SUMIFS(Weekly_Data_Raw[CHURNED_MEMBERS],Weekly_Data_Raw[TICKER],'Weekly Metrics'!$A9,Weekly_Data_Raw[END_DATE],'Weekly Metrics'!FK$5)))))))","v":595897},{"$f":"IF($B9=\"Panel Sales\", SUMIFS(Weekly_Data_Raw[PANEL_AMOUNT],Weekly_Data_Raw[TICKER],'Weekly Metrics'!$A9,Weekly_Data_Raw[END_DATE],'Weekly Metrics'!FL$5),IF($B9=\"Transactions\",SUMIFS(Weekly_Data_Raw[PANEL_TRANSACTIONS],Weekly_Data_Raw[TICKER],'Weekly Metrics'!$A9,Weekly_Data_Raw[END_DATE],'Weekly Metrics'!FL$5), IF($B9=\"Avg Ticket\",SUMIFS(Weekly_Data_Raw[AVG_TICKET],Weekly_Data_Raw[TICKER],'Weekly Metrics'!$A9,Weekly_Data_Raw[END_DATE],'Weekly Metrics'!FL$5), IF($B9=\"EOP Subscribers\",SUMIFS(Weekly_Data_Raw[EOP_SUBSCRIBERS],Weekly_Data_Raw[TICKER],'Weekly Metrics'!$A9,Weekly_Data_Raw[END_DATE],'Weekly Metrics'!FL$5), IF($B9=\"Gross Adds\",SUMIFS(Weekly_Data_Raw[GROSS_ADDS],Weekly_Data_Raw[TICKER],'Weekly Metrics'!$A9,Weekly_Data_Raw[END_DATE],'Weekly Metrics'!FL$5), IF($B9=\"Churn\",SUMIFS(Weekly_Data_Raw[CHURNED_MEMBERS],Weekly_Data_Raw[TICKER],'Weekly Metrics'!$A9,Weekly_Data_Raw[END_DATE],'Weekly Metrics'!FL$5)))))))","v":692642},{"$f":"IF($B9=\"Panel Sales\", SUMIFS(Weekly_Data_Raw[PANEL_AMOUNT],Weekly_Data_Raw[TICKER],'Weekly Metrics'!$A9,Weekly_Data_Raw[END_DATE],'Weekly Metrics'!FM$5),IF($B9=\"Transactions\",SUMIFS(Weekly_Data_Raw[PANEL_TRANSACTIONS],Weekly_Data_Raw[TICKER],'Weekly Metrics'!$A9,Weekly_Data_Raw[END_DATE],'Weekly Metrics'!FM$5), IF($B9=\"Avg Ticket\",SUMIFS(Weekly_Data_Raw[AVG_TICKET],Weekly_Data_Raw[TICKER],'Weekly Metrics'!$A9,Weekly_Data_Raw[END_DATE],'Weekly Metrics'!FM$5), IF($B9=\"EOP Subscribers\",SUMIFS(Weekly_Data_Raw[EOP_SUBSCRIBERS],Weekly_Data_Raw[TICKER],'Weekly Metrics'!$A9,Weekly_Data_Raw[END_DATE],'Weekly Metrics'!FM$5), IF($B9=\"Gross Adds\",SUMIFS(Weekly_Data_Raw[GROSS_ADDS],Weekly_Data_Raw[TICKER],'Weekly Metrics'!$A9,Weekly_Data_Raw[END_DATE],'Weekly Metrics'!FM$5), IF($B9=\"Churn\",SUMIFS(Weekly_Data_Raw[CHURNED_MEMBERS],Weekly_Data_Raw[TICKER],'Weekly Metrics'!$A9,Weekly_Data_Raw[END_DATE],'Weekly Metrics'!FM$5)))))))","v":619667},{"$f":"IF($B9=\"Panel Sales\", SUMIFS(Weekly_Data_Raw[PANEL_AMOUNT],Weekly_Data_Raw[TICKER],'Weekly Metrics'!$A9,Weekly_Data_Raw[END_DATE],'Weekly Metrics'!FN$5),IF($B9=\"Transactions\",SUMIFS(Weekly_Data_Raw[PANEL_TRANSACTIONS],Weekly_Data_Raw[TICKER],'Weekly Metrics'!$A9,Weekly_Data_Raw[END_DATE],'Weekly Metrics'!FN$5), IF($B9=\"Avg Ticket\",SUMIFS(Weekly_Data_Raw[AVG_TICKET],Weekly_Data_Raw[TICKER],'Weekly Metrics'!$A9,Weekly_Data_Raw[END_DATE],'Weekly Metrics'!FN$5), IF($B9=\"EOP Subscribers\",SUMIFS(Weekly_Data_Raw[EOP_SUBSCRIBERS],Weekly_Data_Raw[TICKER],'Weekly Metrics'!$A9,Weekly_Data_Raw[END_DATE],'Weekly Metrics'!FN$5), IF($B9=\"Gross Adds\",SUMIFS(Weekly_Data_Raw[GROSS_ADDS],Weekly_Data_Raw[TICKER],'Weekly Metrics'!$A9,Weekly_Data_Raw[END_DATE],'Weekly Metrics'!FN$5), IF($B9=\"Churn\",SUMIFS(Weekly_Data_Raw[CHURNED_MEMBERS],Weekly_Data_Raw[TICKER],'Weekly Metrics'!$A9,Weekly_Data_Raw[END_DATE],'Weekly Metrics'!FN$5)))))))","v":632841},{"$f":"IF($B9=\"Panel Sales\", SUMIFS(Weekly_Data_Raw[PANEL_AMOUNT],Weekly_Data_Raw[TICKER],'Weekly Metrics'!$A9,Weekly_Data_Raw[END_DATE],'Weekly Metrics'!FO$5),IF($B9=\"Transactions\",SUMIFS(Weekly_Data_Raw[PANEL_TRANSACTIONS],Weekly_Data_Raw[TICKER],'Weekly Metrics'!$A9,Weekly_Data_Raw[END_DATE],'Weekly Metrics'!FO$5), IF($B9=\"Avg Ticket\",SUMIFS(Weekly_Data_Raw[AVG_TICKET],Weekly_Data_Raw[TICKER],'Weekly Metrics'!$A9,Weekly_Data_Raw[END_DATE],'Weekly Metrics'!FO$5), IF($B9=\"EOP Subscribers\",SUMIFS(Weekly_Data_Raw[EOP_SUBSCRIBERS],Weekly_Data_Raw[TICKER],'Weekly Metrics'!$A9,Weekly_Data_Raw[END_DATE],'Weekly Metrics'!FO$5), IF($B9=\"Gross Adds\",SUMIFS(Weekly_Data_Raw[GROSS_ADDS],Weekly_Data_Raw[TICKER],'Weekly Metrics'!$A9,Weekly_Data_Raw[END_DATE],'Weekly Metrics'!FO$5), IF($B9=\"Churn\",SUMIFS(Weekly_Data_Raw[CHURNED_MEMBERS],Weekly_Data_Raw[TICKER],'Weekly Metrics'!$A9,Weekly_Data_Raw[END_DATE],'Weekly Metrics'!FO$5)))))))","v":617431},{"$f":"IF($B9=\"Panel Sales\", SUMIFS(Weekly_Data_Raw[PANEL_AMOUNT],Weekly_Data_Raw[TICKER],'Weekly Metrics'!$A9,Weekly_Data_Raw[END_DATE],'Weekly Metrics'!FP$5),IF($B9=\"Transactions\",SUMIFS(Weekly_Data_Raw[PANEL_TRANSACTIONS],Weekly_Data_Raw[TICKER],'Weekly Metrics'!$A9,Weekly_Data_Raw[END_DATE],'Weekly Metrics'!FP$5), IF($B9=\"Avg Ticket\",SUMIFS(Weekly_Data_Raw[AVG_TICKET],Weekly_Data_Raw[TICKER],'Weekly Metrics'!$A9,Weekly_Data_Raw[END_DATE],'Weekly Metrics'!FP$5), IF($B9=\"EOP Subscribers\",SUMIFS(Weekly_Data_Raw[EOP_SUBSCRIBERS],Weekly_Data_Raw[TICKER],'Weekly Metrics'!$A9,Weekly_Data_Raw[END_DATE],'Weekly Metrics'!FP$5), IF($B9=\"Gross Adds\",SUMIFS(Weekly_Data_Raw[GROSS_ADDS],Weekly_Data_Raw[TICKER],'Weekly Metrics'!$A9,Weekly_Data_Raw[END_DATE],'Weekly Metrics'!FP$5), IF($B9=\"Churn\",SUMIFS(Weekly_Data_Raw[CHURNED_MEMBERS],Weekly_Data_Raw[TICKER],'Weekly Metrics'!$A9,Weekly_Data_Raw[END_DATE],'Weekly Metrics'!FP$5)))))))","v":635122},{"$f":"IF($B9=\"Panel Sales\", SUMIFS(Weekly_Data_Raw[PANEL_AMOUNT],Weekly_Data_Raw[TICKER],'Weekly Metrics'!$A9,Weekly_Data_Raw[END_DATE],'Weekly Metrics'!FQ$5),IF($B9=\"Transactions\",SUMIFS(Weekly_Data_Raw[PANEL_TRANSACTIONS],Weekly_Data_Raw[TICKER],'Weekly Metrics'!$A9,Weekly_Data_Raw[END_DATE],'Weekly Metrics'!FQ$5), IF($B9=\"Avg Ticket\",SUMIFS(Weekly_Data_Raw[AVG_TICKET],Weekly_Data_Raw[TICKER],'Weekly Metrics'!$A9,Weekly_Data_Raw[END_DATE],'Weekly Metrics'!FQ$5), IF($B9=\"EOP Subscribers\",SUMIFS(Weekly_Data_Raw[EOP_SUBSCRIBERS],Weekly_Data_Raw[TICKER],'Weekly Metrics'!$A9,Weekly_Data_Raw[END_DATE],'Weekly Metrics'!FQ$5), IF($B9=\"Gross Adds\",SUMIFS(Weekly_Data_Raw[GROSS_ADDS],Weekly_Data_Raw[TICKER],'Weekly Metrics'!$A9,Weekly_Data_Raw[END_DATE],'Weekly Metrics'!FQ$5), IF($B9=\"Churn\",SUMIFS(Weekly_Data_Raw[CHURNED_MEMBERS],Weekly_Data_Raw[TICKER],'Weekly Metrics'!$A9,Weekly_Data_Raw[END_DATE],'Weekly Metrics'!FQ$5)))))))","v":659257},{"$f":"IF($B9=\"Panel Sales\", SUMIFS(Weekly_Data_Raw[PANEL_AMOUNT],Weekly_Data_Raw[TICKER],'Weekly Metrics'!$A9,Weekly_Data_Raw[END_DATE],'Weekly Metrics'!FR$5),IF($B9=\"Transactions\",SUMIFS(Weekly_Data_Raw[PANEL_TRANSACTIONS],Weekly_Data_Raw[TICKER],'Weekly Metrics'!$A9,Weekly_Data_Raw[END_DATE],'Weekly Metrics'!FR$5), IF($B9=\"Avg Ticket\",SUMIFS(Weekly_Data_Raw[AVG_TICKET],Weekly_Data_Raw[TICKER],'Weekly Metrics'!$A9,Weekly_Data_Raw[END_DATE],'Weekly Metrics'!FR$5), IF($B9=\"EOP Subscribers\",SUMIFS(Weekly_Data_Raw[EOP_SUBSCRIBERS],Weekly_Data_Raw[TICKER],'Weekly Metrics'!$A9,Weekly_Data_Raw[END_DATE],'Weekly Metrics'!FR$5), IF($B9=\"Gross Adds\",SUMIFS(Weekly_Data_Raw[GROSS_ADDS],Weekly_Data_Raw[TICKER],'Weekly Metrics'!$A9,Weekly_Data_Raw[END_DATE],'Weekly Metrics'!FR$5), IF($B9=\"Churn\",SUMIFS(Weekly_Data_Raw[CHURNED_MEMBERS],Weekly_Data_Raw[TICKER],'Weekly Metrics'!$A9,Weekly_Data_Raw[END_DATE],'Weekly Metrics'!FR$5)))))))","v":610218},{"$f":"IF($B9=\"Panel Sales\", SUMIFS(Weekly_Data_Raw[PANEL_AMOUNT],Weekly_Data_Raw[TICKER],'Weekly Metrics'!$A9,Weekly_Data_Raw[END_DATE],'Weekly Metrics'!FS$5),IF($B9=\"Transactions\",SUMIFS(Weekly_Data_Raw[PANEL_TRANSACTIONS],Weekly_Data_Raw[TICKER],'Weekly Metrics'!$A9,Weekly_Data_Raw[END_DATE],'Weekly Metrics'!FS$5), IF($B9=\"Avg Ticket\",SUMIFS(Weekly_Data_Raw[AVG_TICKET],Weekly_Data_Raw[TICKER],'Weekly Metrics'!$A9,Weekly_Data_Raw[END_DATE],'Weekly Metrics'!FS$5), IF($B9=\"EOP Subscribers\",SUMIFS(Weekly_Data_Raw[EOP_SUBSCRIBERS],Weekly_Data_Raw[TICKER],'Weekly Metrics'!$A9,Weekly_Data_Raw[END_DATE],'Weekly Metrics'!FS$5), IF($B9=\"Gross Adds\",SUMIFS(Weekly_Data_Raw[GROSS_ADDS],Weekly_Data_Raw[TICKER],'Weekly Metrics'!$A9,Weekly_Data_Raw[END_DATE],'Weekly Metrics'!FS$5), IF($B9=\"Churn\",SUMIFS(Weekly_Data_Raw[CHURNED_MEMBERS],Weekly_Data_Raw[TICKER],'Weekly Metrics'!$A9,Weekly_Data_Raw[END_DATE],'Weekly Metrics'!FS$5)))))))","v":602418},{"$f":"IF($B9=\"Panel Sales\", SUMIFS(Weekly_Data_Raw[PANEL_AMOUNT],Weekly_Data_Raw[TICKER],'Weekly Metrics'!$A9,Weekly_Data_Raw[END_DATE],'Weekly Metrics'!FT$5),IF($B9=\"Transactions\",SUMIFS(Weekly_Data_Raw[PANEL_TRANSACTIONS],Weekly_Data_Raw[TICKER],'Weekly Metrics'!$A9,Weekly_Data_Raw[END_DATE],'Weekly Metrics'!FT$5), IF($B9=\"Avg Ticket\",SUMIFS(Weekly_Data_Raw[AVG_TICKET],Weekly_Data_Raw[TICKER],'Weekly Metrics'!$A9,Weekly_Data_Raw[END_DATE],'Weekly Metrics'!FT$5), IF($B9=\"EOP Subscribers\",SUMIFS(Weekly_Data_Raw[EOP_SUBSCRIBERS],Weekly_Data_Raw[TICKER],'Weekly Metrics'!$A9,Weekly_Data_Raw[END_DATE],'Weekly Metrics'!FT$5), IF($B9=\"Gross Adds\",SUMIFS(Weekly_Data_Raw[GROSS_ADDS],Weekly_Data_Raw[TICKER],'Weekly Metrics'!$A9,Weekly_Data_Raw[END_DATE],'Weekly Metrics'!FT$5), IF($B9=\"Churn\",SUMIFS(Weekly_Data_Raw[CHURNED_MEMBERS],Weekly_Data_Raw[TICKER],'Weekly Metrics'!$A9,Weekly_Data_Raw[END_DATE],'Weekly Metrics'!FT$5)))))))","v":646634},{"$f":"IF($B9=\"Panel Sales\", SUMIFS(Weekly_Data_Raw[PANEL_AMOUNT],Weekly_Data_Raw[TICKER],'Weekly Metrics'!$A9,Weekly_Data_Raw[END_DATE],'Weekly Metrics'!FU$5),IF($B9=\"Transactions\",SUMIFS(Weekly_Data_Raw[PANEL_TRANSACTIONS],Weekly_Data_Raw[TICKER],'Weekly Metrics'!$A9,Weekly_Data_Raw[END_DATE],'Weekly Metrics'!FU$5), IF($B9=\"Avg Ticket\",SUMIFS(Weekly_Data_Raw[AVG_TICKET],Weekly_Data_Raw[TICKER],'Weekly Metrics'!$A9,Weekly_Data_Raw[END_DATE],'Weekly Metrics'!FU$5), IF($B9=\"EOP Subscribers\",SUMIFS(Weekly_Data_Raw[EOP_SUBSCRIBERS],Weekly_Data_Raw[TICKER],'Weekly Metrics'!$A9,Weekly_Data_Raw[END_DATE],'Weekly Metrics'!FU$5), IF($B9=\"Gross Adds\",SUMIFS(Weekly_Data_Raw[GROSS_ADDS],Weekly_Data_Raw[TICKER],'Weekly Metrics'!$A9,Weekly_Data_Raw[END_DATE],'Weekly Metrics'!FU$5), IF($B9=\"Churn\",SUMIFS(Weekly_Data_Raw[CHURNED_MEMBERS],Weekly_Data_Raw[TICKER],'Weekly Metrics'!$A9,Weekly_Data_Raw[END_DATE],'Weekly Metrics'!FU$5)))))))","v":679402},{"$f":"IF($B9=\"Panel Sales\", SUMIFS(Weekly_Data_Raw[PANEL_AMOUNT],Weekly_Data_Raw[TICKER],'Weekly Metrics'!$A9,Weekly_Data_Raw[END_DATE],'Weekly Metrics'!FV$5),IF($B9=\"Transactions\",SUMIFS(Weekly_Data_Raw[PANEL_TRANSACTIONS],Weekly_Data_Raw[TICKER],'Weekly Metrics'!$A9,Weekly_Data_Raw[END_DATE],'Weekly Metrics'!FV$5), IF($B9=\"Avg Ticket\",SUMIFS(Weekly_Data_Raw[AVG_TICKET],Weekly_Data_Raw[TICKER],'Weekly Metrics'!$A9,Weekly_Data_Raw[END_DATE],'Weekly Metrics'!FV$5), IF($B9=\"EOP Subscribers\",SUMIFS(Weekly_Data_Raw[EOP_SUBSCRIBERS],Weekly_Data_Raw[TICKER],'Weekly Metrics'!$A9,Weekly_Data_Raw[END_DATE],'Weekly Metrics'!FV$5), IF($B9=\"Gross Adds\",SUMIFS(Weekly_Data_Raw[GROSS_ADDS],Weekly_Data_Raw[TICKER],'Weekly Metrics'!$A9,Weekly_Data_Raw[END_DATE],'Weekly Metrics'!FV$5), IF($B9=\"Churn\",SUMIFS(Weekly_Data_Raw[CHURNED_MEMBERS],Weekly_Data_Raw[TICKER],'Weekly Metrics'!$A9,Weekly_Data_Raw[END_DATE],'Weekly Metrics'!FV$5)))))))","v":616662},{"$f":"IF($B9=\"Panel Sales\", SUMIFS(Weekly_Data_Raw[PANEL_AMOUNT],Weekly_Data_Raw[TICKER],'Weekly Metrics'!$A9,Weekly_Data_Raw[END_DATE],'Weekly Metrics'!FW$5),IF($B9=\"Transactions\",SUMIFS(Weekly_Data_Raw[PANEL_TRANSACTIONS],Weekly_Data_Raw[TICKER],'Weekly Metrics'!$A9,Weekly_Data_Raw[END_DATE],'Weekly Metrics'!FW$5), IF($B9=\"Avg Ticket\",SUMIFS(Weekly_Data_Raw[AVG_TICKET],Weekly_Data_Raw[TICKER],'Weekly Metrics'!$A9,Weekly_Data_Raw[END_DATE],'Weekly Metrics'!FW$5), IF($B9=\"EOP Subscribers\",SUMIFS(Weekly_Data_Raw[EOP_SUBSCRIBERS],Weekly_Data_Raw[TICKER],'Weekly Metrics'!$A9,Weekly_Data_Raw[END_DATE],'Weekly Metrics'!FW$5), IF($B9=\"Gross Adds\",SUMIFS(Weekly_Data_Raw[GROSS_ADDS],Weekly_Data_Raw[TICKER],'Weekly Metrics'!$A9,Weekly_Data_Raw[END_DATE],'Weekly Metrics'!FW$5), IF($B9=\"Churn\",SUMIFS(Weekly_Data_Raw[CHURNED_MEMBERS],Weekly_Data_Raw[TICKER],'Weekly Metrics'!$A9,Weekly_Data_Raw[END_DATE],'Weekly Metrics'!FW$5)))))))","v":612942},{"$f":"IF($B9=\"Panel Sales\", SUMIFS(Weekly_Data_Raw[PANEL_AMOUNT],Weekly_Data_Raw[TICKER],'Weekly Metrics'!$A9,Weekly_Data_Raw[END_DATE],'Weekly Metrics'!FX$5),IF($B9=\"Transactions\",SUMIFS(Weekly_Data_Raw[PANEL_TRANSACTIONS],Weekly_Data_Raw[TICKER],'Weekly Metrics'!$A9,Weekly_Data_Raw[END_DATE],'Weekly Metrics'!FX$5), IF($B9=\"Avg Ticket\",SUMIFS(Weekly_Data_Raw[AVG_TICKET],Weekly_Data_Raw[TICKER],'Weekly Metrics'!$A9,Weekly_Data_Raw[END_DATE],'Weekly Metrics'!FX$5), IF($B9=\"EOP Subscribers\",SUMIFS(Weekly_Data_Raw[EOP_SUBSCRIBERS],Weekly_Data_Raw[TICKER],'Weekly Metrics'!$A9,Weekly_Data_Raw[END_DATE],'Weekly Metrics'!FX$5), IF($B9=\"Gross Adds\",SUMIFS(Weekly_Data_Raw[GROSS_ADDS],Weekly_Data_Raw[TICKER],'Weekly Metrics'!$A9,Weekly_Data_Raw[END_DATE],'Weekly Metrics'!FX$5), IF($B9=\"Churn\",SUMIFS(Weekly_Data_Raw[CHURNED_MEMBERS],Weekly_Data_Raw[TICKER],'Weekly Metrics'!$A9,Weekly_Data_Raw[END_DATE],'Weekly Metrics'!FX$5)))))))","v":604723},{"$f":"IF($B9=\"Panel Sales\", SUMIFS(Weekly_Data_Raw[PANEL_AMOUNT],Weekly_Data_Raw[TICKER],'Weekly Metrics'!$A9,Weekly_Data_Raw[END_DATE],'Weekly Metrics'!FY$5),IF($B9=\"Transactions\",SUMIFS(Weekly_Data_Raw[PANEL_TRANSACTIONS],Weekly_Data_Raw[TICKER],'Weekly Metrics'!$A9,Weekly_Data_Raw[END_DATE],'Weekly Metrics'!FY$5), IF($B9=\"Avg Ticket\",SUMIFS(Weekly_Data_Raw[AVG_TICKET],Weekly_Data_Raw[TICKER],'Weekly Metrics'!$A9,Weekly_Data_Raw[END_DATE],'Weekly Metrics'!FY$5), IF($B9=\"EOP Subscribers\",SUMIFS(Weekly_Data_Raw[EOP_SUBSCRIBERS],Weekly_Data_Raw[TICKER],'Weekly Metrics'!$A9,Weekly_Data_Raw[END_DATE],'Weekly Metrics'!FY$5), IF($B9=\"Gross Adds\",SUMIFS(Weekly_Data_Raw[GROSS_ADDS],Weekly_Data_Raw[TICKER],'Weekly Metrics'!$A9,Weekly_Data_Raw[END_DATE],'Weekly Metrics'!FY$5), IF($B9=\"Churn\",SUMIFS(Weekly_Data_Raw[CHURNED_MEMBERS],Weekly_Data_Raw[TICKER],'Weekly Metrics'!$A9,Weekly_Data_Raw[END_DATE],'Weekly Metrics'!FY$5)))))))","v":636095},{"$f":"IF($B9=\"Panel Sales\", SUMIFS(Weekly_Data_Raw[PANEL_AMOUNT],Weekly_Data_Raw[TICKER],'Weekly Metrics'!$A9,Weekly_Data_Raw[END_DATE],'Weekly Metrics'!FZ$5),IF($B9=\"Transactions\",SUMIFS(Weekly_Data_Raw[PANEL_TRANSACTIONS],Weekly_Data_Raw[TICKER],'Weekly Metrics'!$A9,Weekly_Data_Raw[END_DATE],'Weekly Metrics'!FZ$5), IF($B9=\"Avg Ticket\",SUMIFS(Weekly_Data_Raw[AVG_TICKET],Weekly_Data_Raw[TICKER],'Weekly Metrics'!$A9,Weekly_Data_Raw[END_DATE],'Weekly Metrics'!FZ$5), IF($B9=\"EOP Subscribers\",SUMIFS(Weekly_Data_Raw[EOP_SUBSCRIBERS],Weekly_Data_Raw[TICKER],'Weekly Metrics'!$A9,Weekly_Data_Raw[END_DATE],'Weekly Metrics'!FZ$5), IF($B9=\"Gross Adds\",SUMIFS(Weekly_Data_Raw[GROSS_ADDS],Weekly_Data_Raw[TICKER],'Weekly Metrics'!$A9,Weekly_Data_Raw[END_DATE],'Weekly Metrics'!FZ$5), IF($B9=\"Churn\",SUMIFS(Weekly_Data_Raw[CHURNED_MEMBERS],Weekly_Data_Raw[TICKER],'Weekly Metrics'!$A9,Weekly_Data_Raw[END_DATE],'Weekly Metrics'!FZ$5)))))))","v":611111},{"$f":"IF($B9=\"Panel Sales\", SUMIFS(Weekly_Data_Raw[PANEL_AMOUNT],Weekly_Data_Raw[TICKER],'Weekly Metrics'!$A9,Weekly_Data_Raw[END_DATE],'Weekly Metrics'!GA$5),IF($B9=\"Transactions\",SUMIFS(Weekly_Data_Raw[PANEL_TRANSACTIONS],Weekly_Data_Raw[TICKER],'Weekly Metrics'!$A9,Weekly_Data_Raw[END_DATE],'Weekly Metrics'!GA$5), IF($B9=\"Avg Ticket\",SUMIFS(Weekly_Data_Raw[AVG_TICKET],Weekly_Data_Raw[TICKER],'Weekly Metrics'!$A9,Weekly_Data_Raw[END_DATE],'Weekly Metrics'!GA$5), IF($B9=\"EOP Subscribers\",SUMIFS(Weekly_Data_Raw[EOP_SUBSCRIBERS],Weekly_Data_Raw[TICKER],'Weekly Metrics'!$A9,Weekly_Data_Raw[END_DATE],'Weekly Metrics'!GA$5), IF($B9=\"Gross Adds\",SUMIFS(Weekly_Data_Raw[GROSS_ADDS],Weekly_Data_Raw[TICKER],'Weekly Metrics'!$A9,Weekly_Data_Raw[END_DATE],'Weekly Metrics'!GA$5), IF($B9=\"Churn\",SUMIFS(Weekly_Data_Raw[CHURNED_MEMBERS],Weekly_Data_Raw[TICKER],'Weekly Metrics'!$A9,Weekly_Data_Raw[END_DATE],'Weekly Metrics'!GA$5)))))))","v":609839},{"$f":"IF($B9=\"Panel Sales\", SUMIFS(Weekly_Data_Raw[PANEL_AMOUNT],Weekly_Data_Raw[TICKER],'Weekly Metrics'!$A9,Weekly_Data_Raw[END_DATE],'Weekly Metrics'!GB$5),IF($B9=\"Transactions\",SUMIFS(Weekly_Data_Raw[PANEL_TRANSACTIONS],Weekly_Data_Raw[TICKER],'Weekly Metrics'!$A9,Weekly_Data_Raw[END_DATE],'Weekly Metrics'!GB$5), IF($B9=\"Avg Ticket\",SUMIFS(Weekly_Data_Raw[AVG_TICKET],Weekly_Data_Raw[TICKER],'Weekly Metrics'!$A9,Weekly_Data_Raw[END_DATE],'Weekly Metrics'!GB$5), IF($B9=\"EOP Subscribers\",SUMIFS(Weekly_Data_Raw[EOP_SUBSCRIBERS],Weekly_Data_Raw[TICKER],'Weekly Metrics'!$A9,Weekly_Data_Raw[END_DATE],'Weekly Metrics'!GB$5), IF($B9=\"Gross Adds\",SUMIFS(Weekly_Data_Raw[GROSS_ADDS],Weekly_Data_Raw[TICKER],'Weekly Metrics'!$A9,Weekly_Data_Raw[END_DATE],'Weekly Metrics'!GB$5), IF($B9=\"Churn\",SUMIFS(Weekly_Data_Raw[CHURNED_MEMBERS],Weekly_Data_Raw[TICKER],'Weekly Metrics'!$A9,Weekly_Data_Raw[END_DATE],'Weekly Metrics'!GB$5)))))))","v":591620},{"$f":"IF($B9=\"Panel Sales\", SUMIFS(Weekly_Data_Raw[PANEL_AMOUNT],Weekly_Data_Raw[TICKER],'Weekly Metrics'!$A9,Weekly_Data_Raw[END_DATE],'Weekly Metrics'!GC$5),IF($B9=\"Transactions\",SUMIFS(Weekly_Data_Raw[PANEL_TRANSACTIONS],Weekly_Data_Raw[TICKER],'Weekly Metrics'!$A9,Weekly_Data_Raw[END_DATE],'Weekly Metrics'!GC$5), IF($B9=\"Avg Ticket\",SUMIFS(Weekly_Data_Raw[AVG_TICKET],Weekly_Data_Raw[TICKER],'Weekly Metrics'!$A9,Weekly_Data_Raw[END_DATE],'Weekly Metrics'!GC$5), IF($B9=\"EOP Subscribers\",SUMIFS(Weekly_Data_Raw[EOP_SUBSCRIBERS],Weekly_Data_Raw[TICKER],'Weekly Metrics'!$A9,Weekly_Data_Raw[END_DATE],'Weekly Metrics'!GC$5), IF($B9=\"Gross Adds\",SUMIFS(Weekly_Data_Raw[GROSS_ADDS],Weekly_Data_Raw[TICKER],'Weekly Metrics'!$A9,Weekly_Data_Raw[END_DATE],'Weekly Metrics'!GC$5), IF($B9=\"Churn\",SUMIFS(Weekly_Data_Raw[CHURNED_MEMBERS],Weekly_Data_Raw[TICKER],'Weekly Metrics'!$A9,Weekly_Data_Raw[END_DATE],'Weekly Metrics'!GC$5)))))))","v":616439},{"$f":"IF($B9=\"Panel Sales\", SUMIFS(Weekly_Data_Raw[PANEL_AMOUNT],Weekly_Data_Raw[TICKER],'Weekly Metrics'!$A9,Weekly_Data_Raw[END_DATE],'Weekly Metrics'!GD$5),IF($B9=\"Transactions\",SUMIFS(Weekly_Data_Raw[PANEL_TRANSACTIONS],Weekly_Data_Raw[TICKER],'Weekly Metrics'!$A9,Weekly_Data_Raw[END_DATE],'Weekly Metrics'!GD$5), IF($B9=\"Avg Ticket\",SUMIFS(Weekly_Data_Raw[AVG_TICKET],Weekly_Data_Raw[TICKER],'Weekly Metrics'!$A9,Weekly_Data_Raw[END_DATE],'Weekly Metrics'!GD$5), IF($B9=\"EOP Subscribers\",SUMIFS(Weekly_Data_Raw[EOP_SUBSCRIBERS],Weekly_Data_Raw[TICKER],'Weekly Metrics'!$A9,Weekly_Data_Raw[END_DATE],'Weekly Metrics'!GD$5), IF($B9=\"Gross Adds\",SUMIFS(Weekly_Data_Raw[GROSS_ADDS],Weekly_Data_Raw[TICKER],'Weekly Metrics'!$A9,Weekly_Data_Raw[END_DATE],'Weekly Metrics'!GD$5), IF($B9=\"Churn\",SUMIFS(Weekly_Data_Raw[CHURNED_MEMBERS],Weekly_Data_Raw[TICKER],'Weekly Metrics'!$A9,Weekly_Data_Raw[END_DATE],'Weekly Metrics'!GD$5)))))))","v":607327},{"$f":"IF($B9=\"Panel Sales\", SUMIFS(Weekly_Data_Raw[PANEL_AMOUNT],Weekly_Data_Raw[TICKER],'Weekly Metrics'!$A9,Weekly_Data_Raw[END_DATE],'Weekly Metrics'!GE$5),IF($B9=\"Transactions\",SUMIFS(Weekly_Data_Raw[PANEL_TRANSACTIONS],Weekly_Data_Raw[TICKER],'Weekly Metrics'!$A9,Weekly_Data_Raw[END_DATE],'Weekly Metrics'!GE$5), IF($B9=\"Avg Ticket\",SUMIFS(Weekly_Data_Raw[AVG_TICKET],Weekly_Data_Raw[TICKER],'Weekly Metrics'!$A9,Weekly_Data_Raw[END_DATE],'Weekly Metrics'!GE$5), IF($B9=\"EOP Subscribers\",SUMIFS(Weekly_Data_Raw[EOP_SUBSCRIBERS],Weekly_Data_Raw[TICKER],'Weekly Metrics'!$A9,Weekly_Data_Raw[END_DATE],'Weekly Metrics'!GE$5), IF($B9=\"Gross Adds\",SUMIFS(Weekly_Data_Raw[GROSS_ADDS],Weekly_Data_Raw[TICKER],'Weekly Metrics'!$A9,Weekly_Data_Raw[END_DATE],'Weekly Metrics'!GE$5), IF($B9=\"Churn\",SUMIFS(Weekly_Data_Raw[CHURNED_MEMBERS],Weekly_Data_Raw[TICKER],'Weekly Metrics'!$A9,Weekly_Data_Raw[END_DATE],'Weekly Metrics'!GE$5)))))))","v":589538},{"$f":"IF($B9=\"Panel Sales\", SUMIFS(Weekly_Data_Raw[PANEL_AMOUNT],Weekly_Data_Raw[TICKER],'Weekly Metrics'!$A9,Weekly_Data_Raw[END_DATE],'Weekly Metrics'!GF$5),IF($B9=\"Transactions\",SUMIFS(Weekly_Data_Raw[PANEL_TRANSACTIONS],Weekly_Data_Raw[TICKER],'Weekly Metrics'!$A9,Weekly_Data_Raw[END_DATE],'Weekly Metrics'!GF$5), IF($B9=\"Avg Ticket\",SUMIFS(Weekly_Data_Raw[AVG_TICKET],Weekly_Data_Raw[TICKER],'Weekly Metrics'!$A9,Weekly_Data_Raw[END_DATE],'Weekly Metrics'!GF$5), IF($B9=\"EOP Subscribers\",SUMIFS(Weekly_Data_Raw[EOP_SUBSCRIBERS],Weekly_Data_Raw[TICKER],'Weekly Metrics'!$A9,Weekly_Data_Raw[END_DATE],'Weekly Metrics'!GF$5), IF($B9=\"Gross Adds\",SUMIFS(Weekly_Data_Raw[GROSS_ADDS],Weekly_Data_Raw[TICKER],'Weekly Metrics'!$A9,Weekly_Data_Raw[END_DATE],'Weekly Metrics'!GF$5), IF($B9=\"Churn\",SUMIFS(Weekly_Data_Raw[CHURNED_MEMBERS],Weekly_Data_Raw[TICKER],'Weekly Metrics'!$A9,Weekly_Data_Raw[END_DATE],'Weekly Metrics'!GF$5)))))))","v":600236},{"$f":"IF($B9=\"Panel Sales\", SUMIFS(Weekly_Data_Raw[PANEL_AMOUNT],Weekly_Data_Raw[TICKER],'Weekly Metrics'!$A9,Weekly_Data_Raw[END_DATE],'Weekly Metrics'!GG$5),IF($B9=\"Transactions\",SUMIFS(Weekly_Data_Raw[PANEL_TRANSACTIONS],Weekly_Data_Raw[TICKER],'Weekly Metrics'!$A9,Weekly_Data_Raw[END_DATE],'Weekly Metrics'!GG$5), IF($B9=\"Avg Ticket\",SUMIFS(Weekly_Data_Raw[AVG_TICKET],Weekly_Data_Raw[TICKER],'Weekly Metrics'!$A9,Weekly_Data_Raw[END_DATE],'Weekly Metrics'!GG$5), IF($B9=\"EOP Subscribers\",SUMIFS(Weekly_Data_Raw[EOP_SUBSCRIBERS],Weekly_Data_Raw[TICKER],'Weekly Metrics'!$A9,Weekly_Data_Raw[END_DATE],'Weekly Metrics'!GG$5), IF($B9=\"Gross Adds\",SUMIFS(Weekly_Data_Raw[GROSS_ADDS],Weekly_Data_Raw[TICKER],'Weekly Metrics'!$A9,Weekly_Data_Raw[END_DATE],'Weekly Metrics'!GG$5), IF($B9=\"Churn\",SUMIFS(Weekly_Data_Raw[CHURNED_MEMBERS],Weekly_Data_Raw[TICKER],'Weekly Metrics'!$A9,Weekly_Data_Raw[END_DATE],'Weekly Metrics'!GG$5)))))))","v":607913},{"$f":"IF($B9=\"Panel Sales\", SUMIFS(Weekly_Data_Raw[PANEL_AMOUNT],Weekly_Data_Raw[TICKER],'Weekly Metrics'!$A9,Weekly_Data_Raw[END_DATE],'Weekly Metrics'!GH$5),IF($B9=\"Transactions\",SUMIFS(Weekly_Data_Raw[PANEL_TRANSACTIONS],Weekly_Data_Raw[TICKER],'Weekly Metrics'!$A9,Weekly_Data_Raw[END_DATE],'Weekly Metrics'!GH$5), IF($B9=\"Avg Ticket\",SUMIFS(Weekly_Data_Raw[AVG_TICKET],Weekly_Data_Raw[TICKER],'Weekly Metrics'!$A9,Weekly_Data_Raw[END_DATE],'Weekly Metrics'!GH$5), IF($B9=\"EOP Subscribers\",SUMIFS(Weekly_Data_Raw[EOP_SUBSCRIBERS],Weekly_Data_Raw[TICKER],'Weekly Metrics'!$A9,Weekly_Data_Raw[END_DATE],'Weekly Metrics'!GH$5), IF($B9=\"Gross Adds\",SUMIFS(Weekly_Data_Raw[GROSS_ADDS],Weekly_Data_Raw[TICKER],'Weekly Metrics'!$A9,Weekly_Data_Raw[END_DATE],'Weekly Metrics'!GH$5), IF($B9=\"Churn\",SUMIFS(Weekly_Data_Raw[CHURNED_MEMBERS],Weekly_Data_Raw[TICKER],'Weekly Metrics'!$A9,Weekly_Data_Raw[END_DATE],'Weekly Metrics'!GH$5)))))))","v":640587},{"$f":"IF($B9=\"Panel Sales\", SUMIFS(Weekly_Data_Raw[PANEL_AMOUNT],Weekly_Data_Raw[TICKER],'Weekly Metrics'!$A9,Weekly_Data_Raw[END_DATE],'Weekly Metrics'!GI$5),IF($B9=\"Transactions\",SUMIFS(Weekly_Data_Raw[PANEL_TRANSACTIONS],Weekly_Data_Raw[TICKER],'Weekly Metrics'!$A9,Weekly_Data_Raw[END_DATE],'Weekly Metrics'!GI$5), IF($B9=\"Avg Ticket\",SUMIFS(Weekly_Data_Raw[AVG_TICKET],Weekly_Data_Raw[TICKER],'Weekly Metrics'!$A9,Weekly_Data_Raw[END_DATE],'Weekly Metrics'!GI$5), IF($B9=\"EOP Subscribers\",SUMIFS(Weekly_Data_Raw[EOP_SUBSCRIBERS],Weekly_Data_Raw[TICKER],'Weekly Metrics'!$A9,Weekly_Data_Raw[END_DATE],'Weekly Metrics'!GI$5), IF($B9=\"Gross Adds\",SUMIFS(Weekly_Data_Raw[GROSS_ADDS],Weekly_Data_Raw[TICKER],'Weekly Metrics'!$A9,Weekly_Data_Raw[END_DATE],'Weekly Metrics'!GI$5), IF($B9=\"Churn\",SUMIFS(Weekly_Data_Raw[CHURNED_MEMBERS],Weekly_Data_Raw[TICKER],'Weekly Metrics'!$A9,Weekly_Data_Raw[END_DATE],'Weekly Metrics'!GI$5)))))))","v":594856},{"$f":"IF($B9=\"Panel Sales\", SUMIFS(Weekly_Data_Raw[PANEL_AMOUNT],Weekly_Data_Raw[TICKER],'Weekly Metrics'!$A9,Weekly_Data_Raw[END_DATE],'Weekly Metrics'!GJ$5),IF($B9=\"Transactions\",SUMIFS(Weekly_Data_Raw[PANEL_TRANSACTIONS],Weekly_Data_Raw[TICKER],'Weekly Metrics'!$A9,Weekly_Data_Raw[END_DATE],'Weekly Metrics'!GJ$5), IF($B9=\"Avg Ticket\",SUMIFS(Weekly_Data_Raw[AVG_TICKET],Weekly_Data_Raw[TICKER],'Weekly Metrics'!$A9,Weekly_Data_Raw[END_DATE],'Weekly Metrics'!GJ$5), IF($B9=\"EOP Subscribers\",SUMIFS(Weekly_Data_Raw[EOP_SUBSCRIBERS],Weekly_Data_Raw[TICKER],'Weekly Metrics'!$A9,Weekly_Data_Raw[END_DATE],'Weekly Metrics'!GJ$5), IF($B9=\"Gross Adds\",SUMIFS(Weekly_Data_Raw[GROSS_ADDS],Weekly_Data_Raw[TICKER],'Weekly Metrics'!$A9,Weekly_Data_Raw[END_DATE],'Weekly Metrics'!GJ$5), IF($B9=\"Churn\",SUMIFS(Weekly_Data_Raw[CHURNED_MEMBERS],Weekly_Data_Raw[TICKER],'Weekly Metrics'!$A9,Weekly_Data_Raw[END_DATE],'Weekly Metrics'!GJ$5)))))))","v":609074},{"$f":"IF($B9=\"Panel Sales\", SUMIFS(Weekly_Data_Raw[PANEL_AMOUNT],Weekly_Data_Raw[TICKER],'Weekly Metrics'!$A9,Weekly_Data_Raw[END_DATE],'Weekly Metrics'!GK$5),IF($B9=\"Transactions\",SUMIFS(Weekly_Data_Raw[PANEL_TRANSACTIONS],Weekly_Data_Raw[TICKER],'Weekly Metrics'!$A9,Weekly_Data_Raw[END_DATE],'Weekly Metrics'!GK$5), IF($B9=\"Avg Ticket\",SUMIFS(Weekly_Data_Raw[AVG_TICKET],Weekly_Data_Raw[TICKER],'Weekly Metrics'!$A9,Weekly_Data_Raw[END_DATE],'Weekly Metrics'!GK$5), IF($B9=\"EOP Subscribers\",SUMIFS(Weekly_Data_Raw[EOP_SUBSCRIBERS],Weekly_Data_Raw[TICKER],'Weekly Metrics'!$A9,Weekly_Data_Raw[END_DATE],'Weekly Metrics'!GK$5), IF($B9=\"Gross Adds\",SUMIFS(Weekly_Data_Raw[GROSS_ADDS],Weekly_Data_Raw[TICKER],'Weekly Metrics'!$A9,Weekly_Data_Raw[END_DATE],'Weekly Metrics'!GK$5), IF($B9=\"Churn\",SUMIFS(Weekly_Data_Raw[CHURNED_MEMBERS],Weekly_Data_Raw[TICKER],'Weekly Metrics'!$A9,Weekly_Data_Raw[END_DATE],'Weekly Metrics'!GK$5)))))))","v":608587},{"$f":"IF($B9=\"Panel Sales\", SUMIFS(Weekly_Data_Raw[PANEL_AMOUNT],Weekly_Data_Raw[TICKER],'Weekly Metrics'!$A9,Weekly_Data_Raw[END_DATE],'Weekly Metrics'!GL$5),IF($B9=\"Transactions\",SUMIFS(Weekly_Data_Raw[PANEL_TRANSACTIONS],Weekly_Data_Raw[TICKER],'Weekly Metrics'!$A9,Weekly_Data_Raw[END_DATE],'Weekly Metrics'!GL$5), IF($B9=\"Avg Ticket\",SUMIFS(Weekly_Data_Raw[AVG_TICKET],Weekly_Data_Raw[TICKER],'Weekly Metrics'!$A9,Weekly_Data_Raw[END_DATE],'Weekly Metrics'!GL$5), IF($B9=\"EOP Subscribers\",SUMIFS(Weekly_Data_Raw[EOP_SUBSCRIBERS],Weekly_Data_Raw[TICKER],'Weekly Metrics'!$A9,Weekly_Data_Raw[END_DATE],'Weekly Metrics'!GL$5), IF($B9=\"Gross Adds\",SUMIFS(Weekly_Data_Raw[GROSS_ADDS],Weekly_Data_Raw[TICKER],'Weekly Metrics'!$A9,Weekly_Data_Raw[END_DATE],'Weekly Metrics'!GL$5), IF($B9=\"Churn\",SUMIFS(Weekly_Data_Raw[CHURNED_MEMBERS],Weekly_Data_Raw[TICKER],'Weekly Metrics'!$A9,Weekly_Data_Raw[END_DATE],'Weekly Metrics'!GL$5)))))))","v":647649},{"$f":"IF($B9=\"Panel Sales\", SUMIFS(Weekly_Data_Raw[PANEL_AMOUNT],Weekly_Data_Raw[TICKER],'Weekly Metrics'!$A9,Weekly_Data_Raw[END_DATE],'Weekly Metrics'!GM$5),IF($B9=\"Transactions\",SUMIFS(Weekly_Data_Raw[PANEL_TRANSACTIONS],Weekly_Data_Raw[TICKER],'Weekly Metrics'!$A9,Weekly_Data_Raw[END_DATE],'Weekly Metrics'!GM$5), IF($B9=\"Avg Ticket\",SUMIFS(Weekly_Data_Raw[AVG_TICKET],Weekly_Data_Raw[TICKER],'Weekly Metrics'!$A9,Weekly_Data_Raw[END_DATE],'Weekly Metrics'!GM$5), IF($B9=\"EOP Subscribers\",SUMIFS(Weekly_Data_Raw[EOP_SUBSCRIBERS],Weekly_Data_Raw[TICKER],'Weekly Metrics'!$A9,Weekly_Data_Raw[END_DATE],'Weekly Metrics'!GM$5), IF($B9=\"Gross Adds\",SUMIFS(Weekly_Data_Raw[GROSS_ADDS],Weekly_Data_Raw[TICKER],'Weekly Metrics'!$A9,Weekly_Data_Raw[END_DATE],'Weekly Metrics'!GM$5), IF($B9=\"Churn\",SUMIFS(Weekly_Data_Raw[CHURNED_MEMBERS],Weekly_Data_Raw[TICKER],'Weekly Metrics'!$A9,Weekly_Data_Raw[END_DATE],'Weekly Metrics'!GM$5)))))))","v":634799},{"$f":"IF($B9=\"Panel Sales\", SUMIFS(Weekly_Data_Raw[PANEL_AMOUNT],Weekly_Data_Raw[TICKER],'Weekly Metrics'!$A9,Weekly_Data_Raw[END_DATE],'Weekly Metrics'!GN$5),IF($B9=\"Transactions\",SUMIFS(Weekly_Data_Raw[PANEL_TRANSACTIONS],Weekly_Data_Raw[TICKER],'Weekly Metrics'!$A9,Weekly_Data_Raw[END_DATE],'Weekly Metrics'!GN$5), IF($B9=\"Avg Ticket\",SUMIFS(Weekly_Data_Raw[AVG_TICKET],Weekly_Data_Raw[TICKER],'Weekly Metrics'!$A9,Weekly_Data_Raw[END_DATE],'Weekly Metrics'!GN$5), IF($B9=\"EOP Subscribers\",SUMIFS(Weekly_Data_Raw[EOP_SUBSCRIBERS],Weekly_Data_Raw[TICKER],'Weekly Metrics'!$A9,Weekly_Data_Raw[END_DATE],'Weekly Metrics'!GN$5), IF($B9=\"Gross Adds\",SUMIFS(Weekly_Data_Raw[GROSS_ADDS],Weekly_Data_Raw[TICKER],'Weekly Metrics'!$A9,Weekly_Data_Raw[END_DATE],'Weekly Metrics'!GN$5), IF($B9=\"Churn\",SUMIFS(Weekly_Data_Raw[CHURNED_MEMBERS],Weekly_Data_Raw[TICKER],'Weekly Metrics'!$A9,Weekly_Data_Raw[END_DATE],'Weekly Metrics'!GN$5)))))))","v":613766},{"$f":"IF($B9=\"Panel Sales\", SUMIFS(Weekly_Data_Raw[PANEL_AMOUNT],Weekly_Data_Raw[TICKER],'Weekly Metrics'!$A9,Weekly_Data_Raw[END_DATE],'Weekly Metrics'!GO$5),IF($B9=\"Transactions\",SUMIFS(Weekly_Data_Raw[PANEL_TRANSACTIONS],Weekly_Data_Raw[TICKER],'Weekly Metrics'!$A9,Weekly_Data_Raw[END_DATE],'Weekly Metrics'!GO$5), IF($B9=\"Avg Ticket\",SUMIFS(Weekly_Data_Raw[AVG_TICKET],Weekly_Data_Raw[TICKER],'Weekly Metrics'!$A9,Weekly_Data_Raw[END_DATE],'Weekly Metrics'!GO$5), IF($B9=\"EOP Subscribers\",SUMIFS(Weekly_Data_Raw[EOP_SUBSCRIBERS],Weekly_Data_Raw[TICKER],'Weekly Metrics'!$A9,Weekly_Data_Raw[END_DATE],'Weekly Metrics'!GO$5), IF($B9=\"Gross Adds\",SUMIFS(Weekly_Data_Raw[GROSS_ADDS],Weekly_Data_Raw[TICKER],'Weekly Metrics'!$A9,Weekly_Data_Raw[END_DATE],'Weekly Metrics'!GO$5), IF($B9=\"Churn\",SUMIFS(Weekly_Data_Raw[CHURNED_MEMBERS],Weekly_Data_Raw[TICKER],'Weekly Metrics'!$A9,Weekly_Data_Raw[END_DATE],'Weekly Metrics'!GO$5)))))))","v":613282},{"$f":"IF($B9=\"Panel Sales\", SUMIFS(Weekly_Data_Raw[PANEL_AMOUNT],Weekly_Data_Raw[TICKER],'Weekly Metrics'!$A9,Weekly_Data_Raw[END_DATE],'Weekly Metrics'!GP$5),IF($B9=\"Transactions\",SUMIFS(Weekly_Data_Raw[PANEL_TRANSACTIONS],Weekly_Data_Raw[TICKER],'Weekly Metrics'!$A9,Weekly_Data_Raw[END_DATE],'Weekly Metrics'!GP$5), IF($B9=\"Avg Ticket\",SUMIFS(Weekly_Data_Raw[AVG_TICKET],Weekly_Data_Raw[TICKER],'Weekly Metrics'!$A9,Weekly_Data_Raw[END_DATE],'Weekly Metrics'!GP$5), IF($B9=\"EOP Subscribers\",SUMIFS(Weekly_Data_Raw[EOP_SUBSCRIBERS],Weekly_Data_Raw[TICKER],'Weekly Metrics'!$A9,Weekly_Data_Raw[END_DATE],'Weekly Metrics'!GP$5), IF($B9=\"Gross Adds\",SUMIFS(Weekly_Data_Raw[GROSS_ADDS],Weekly_Data_Raw[TICKER],'Weekly Metrics'!$A9,Weekly_Data_Raw[END_DATE],'Weekly Metrics'!GP$5), IF($B9=\"Churn\",SUMIFS(Weekly_Data_Raw[CHURNED_MEMBERS],Weekly_Data_Raw[TICKER],'Weekly Metrics'!$A9,Weekly_Data_Raw[END_DATE],'Weekly Metrics'!GP$5)))))))","v":621490},{"$f":"IF($B9=\"Panel Sales\", SUMIFS(Weekly_Data_Raw[PANEL_AMOUNT],Weekly_Data_Raw[TICKER],'Weekly Metrics'!$A9,Weekly_Data_Raw[END_DATE],'Weekly Metrics'!GQ$5),IF($B9=\"Transactions\",SUMIFS(Weekly_Data_Raw[PANEL_TRANSACTIONS],Weekly_Data_Raw[TICKER],'Weekly Metrics'!$A9,Weekly_Data_Raw[END_DATE],'Weekly Metrics'!GQ$5), IF($B9=\"Avg Ticket\",SUMIFS(Weekly_Data_Raw[AVG_TICKET],Weekly_Data_Raw[TICKER],'Weekly Metrics'!$A9,Weekly_Data_Raw[END_DATE],'Weekly Metrics'!GQ$5), IF($B9=\"EOP Subscribers\",SUMIFS(Weekly_Data_Raw[EOP_SUBSCRIBERS],Weekly_Data_Raw[TICKER],'Weekly Metrics'!$A9,Weekly_Data_Raw[END_DATE],'Weekly Metrics'!GQ$5), IF($B9=\"Gross Adds\",SUMIFS(Weekly_Data_Raw[GROSS_ADDS],Weekly_Data_Raw[TICKER],'Weekly Metrics'!$A9,Weekly_Data_Raw[END_DATE],'Weekly Metrics'!GQ$5), IF($B9=\"Churn\",SUMIFS(Weekly_Data_Raw[CHURNED_MEMBERS],Weekly_Data_Raw[TICKER],'Weekly Metrics'!$A9,Weekly_Data_Raw[END_DATE],'Weekly Metrics'!GQ$5)))))))","v":654265},{"$f":"IF($B9=\"Panel Sales\", SUMIFS(Weekly_Data_Raw[PANEL_AMOUNT],Weekly_Data_Raw[TICKER],'Weekly Metrics'!$A9,Weekly_Data_Raw[END_DATE],'Weekly Metrics'!GR$5),IF($B9=\"Transactions\",SUMIFS(Weekly_Data_Raw[PANEL_TRANSACTIONS],Weekly_Data_Raw[TICKER],'Weekly Metrics'!$A9,Weekly_Data_Raw[END_DATE],'Weekly Metrics'!GR$5), IF($B9=\"Avg Ticket\",SUMIFS(Weekly_Data_Raw[AVG_TICKET],Weekly_Data_Raw[TICKER],'Weekly Metrics'!$A9,Weekly_Data_Raw[END_DATE],'Weekly Metrics'!GR$5), IF($B9=\"EOP Subscribers\",SUMIFS(Weekly_Data_Raw[EOP_SUBSCRIBERS],Weekly_Data_Raw[TICKER],'Weekly Metrics'!$A9,Weekly_Data_Raw[END_DATE],'Weekly Metrics'!GR$5), IF($B9=\"Gross Adds\",SUMIFS(Weekly_Data_Raw[GROSS_ADDS],Weekly_Data_Raw[TICKER],'Weekly Metrics'!$A9,Weekly_Data_Raw[END_DATE],'Weekly Metrics'!GR$5), IF($B9=\"Churn\",SUMIFS(Weekly_Data_Raw[CHURNED_MEMBERS],Weekly_Data_Raw[TICKER],'Weekly Metrics'!$A9,Weekly_Data_Raw[END_DATE],'Weekly Metrics'!GR$5)))))))","v":606385},{"$f":"IF($B9=\"Panel Sales\", SUMIFS(Weekly_Data_Raw[PANEL_AMOUNT],Weekly_Data_Raw[TICKER],'Weekly Metrics'!$A9,Weekly_Data_Raw[END_DATE],'Weekly Metrics'!GS$5),IF($B9=\"Transactions\",SUMIFS(Weekly_Data_Raw[PANEL_TRANSACTIONS],Weekly_Data_Raw[TICKER],'Weekly Metrics'!$A9,Weekly_Data_Raw[END_DATE],'Weekly Metrics'!GS$5), IF($B9=\"Avg Ticket\",SUMIFS(Weekly_Data_Raw[AVG_TICKET],Weekly_Data_Raw[TICKER],'Weekly Metrics'!$A9,Weekly_Data_Raw[END_DATE],'Weekly Metrics'!GS$5), IF($B9=\"EOP Subscribers\",SUMIFS(Weekly_Data_Raw[EOP_SUBSCRIBERS],Weekly_Data_Raw[TICKER],'Weekly Metrics'!$A9,Weekly_Data_Raw[END_DATE],'Weekly Metrics'!GS$5), IF($B9=\"Gross Adds\",SUMIFS(Weekly_Data_Raw[GROSS_ADDS],Weekly_Data_Raw[TICKER],'Weekly Metrics'!$A9,Weekly_Data_Raw[END_DATE],'Weekly Metrics'!GS$5), IF($B9=\"Churn\",SUMIFS(Weekly_Data_Raw[CHURNED_MEMBERS],Weekly_Data_Raw[TICKER],'Weekly Metrics'!$A9,Weekly_Data_Raw[END_DATE],'Weekly Metrics'!GS$5)))))))","v":618247},{"$f":"IF($B9=\"Panel Sales\", SUMIFS(Weekly_Data_Raw[PANEL_AMOUNT],Weekly_Data_Raw[TICKER],'Weekly Metrics'!$A9,Weekly_Data_Raw[END_DATE],'Weekly Metrics'!GT$5),IF($B9=\"Transactions\",SUMIFS(Weekly_Data_Raw[PANEL_TRANSACTIONS],Weekly_Data_Raw[TICKER],'Weekly Metrics'!$A9,Weekly_Data_Raw[END_DATE],'Weekly Metrics'!GT$5), IF($B9=\"Avg Ticket\",SUMIFS(Weekly_Data_Raw[AVG_TICKET],Weekly_Data_Raw[TICKER],'Weekly Metrics'!$A9,Weekly_Data_Raw[END_DATE],'Weekly Metrics'!GT$5), IF($B9=\"EOP Subscribers\",SUMIFS(Weekly_Data_Raw[EOP_SUBSCRIBERS],Weekly_Data_Raw[TICKER],'Weekly Metrics'!$A9,Weekly_Data_Raw[END_DATE],'Weekly Metrics'!GT$5), IF($B9=\"Gross Adds\",SUMIFS(Weekly_Data_Raw[GROSS_ADDS],Weekly_Data_Raw[TICKER],'Weekly Metrics'!$A9,Weekly_Data_Raw[END_DATE],'Weekly Metrics'!GT$5), IF($B9=\"Churn\",SUMIFS(Weekly_Data_Raw[CHURNED_MEMBERS],Weekly_Data_Raw[TICKER],'Weekly Metrics'!$A9,Weekly_Data_Raw[END_DATE],'Weekly Metrics'!GT$5)))))))","v":606927},{"$f":"IF($B9=\"Panel Sales\", SUMIFS(Weekly_Data_Raw[PANEL_AMOUNT],Weekly_Data_Raw[TICKER],'Weekly Metrics'!$A9,Weekly_Data_Raw[END_DATE],'Weekly Metrics'!GU$5),IF($B9=\"Transactions\",SUMIFS(Weekly_Data_Raw[PANEL_TRANSACTIONS],Weekly_Data_Raw[TICKER],'Weekly Metrics'!$A9,Weekly_Data_Raw[END_DATE],'Weekly Metrics'!GU$5), IF($B9=\"Avg Ticket\",SUMIFS(Weekly_Data_Raw[AVG_TICKET],Weekly_Data_Raw[TICKER],'Weekly Metrics'!$A9,Weekly_Data_Raw[END_DATE],'Weekly Metrics'!GU$5), IF($B9=\"EOP Subscribers\",SUMIFS(Weekly_Data_Raw[EOP_SUBSCRIBERS],Weekly_Data_Raw[TICKER],'Weekly Metrics'!$A9,Weekly_Data_Raw[END_DATE],'Weekly Metrics'!GU$5), IF($B9=\"Gross Adds\",SUMIFS(Weekly_Data_Raw[GROSS_ADDS],Weekly_Data_Raw[TICKER],'Weekly Metrics'!$A9,Weekly_Data_Raw[END_DATE],'Weekly Metrics'!GU$5), IF($B9=\"Churn\",SUMIFS(Weekly_Data_Raw[CHURNED_MEMBERS],Weekly_Data_Raw[TICKER],'Weekly Metrics'!$A9,Weekly_Data_Raw[END_DATE],'Weekly Metrics'!GU$5)))))))","v":658529},{"$f":"IF($B9=\"Panel Sales\", SUMIFS(Weekly_Data_Raw[PANEL_AMOUNT],Weekly_Data_Raw[TICKER],'Weekly Metrics'!$A9,Weekly_Data_Raw[END_DATE],'Weekly Metrics'!GV$5),IF($B9=\"Transactions\",SUMIFS(Weekly_Data_Raw[PANEL_TRANSACTIONS],Weekly_Data_Raw[TICKER],'Weekly Metrics'!$A9,Weekly_Data_Raw[END_DATE],'Weekly Metrics'!GV$5), IF($B9=\"Avg Ticket\",SUMIFS(Weekly_Data_Raw[AVG_TICKET],Weekly_Data_Raw[TICKER],'Weekly Metrics'!$A9,Weekly_Data_Raw[END_DATE],'Weekly Metrics'!GV$5), IF($B9=\"EOP Subscribers\",SUMIFS(Weekly_Data_Raw[EOP_SUBSCRIBERS],Weekly_Data_Raw[TICKER],'Weekly Metrics'!$A9,Weekly_Data_Raw[END_DATE],'Weekly Metrics'!GV$5), IF($B9=\"Gross Adds\",SUMIFS(Weekly_Data_Raw[GROSS_ADDS],Weekly_Data_Raw[TICKER],'Weekly Metrics'!$A9,Weekly_Data_Raw[END_DATE],'Weekly Metrics'!GV$5), IF($B9=\"Churn\",SUMIFS(Weekly_Data_Raw[CHURNED_MEMBERS],Weekly_Data_Raw[TICKER],'Weekly Metrics'!$A9,Weekly_Data_Raw[END_DATE],'Weekly Metrics'!GV$5)))))))","v":636685},{"$f":"IF($B9=\"Panel Sales\", SUMIFS(Weekly_Data_Raw[PANEL_AMOUNT],Weekly_Data_Raw[TICKER],'Weekly Metrics'!$A9,Weekly_Data_Raw[END_DATE],'Weekly Metrics'!GW$5),IF($B9=\"Transactions\",SUMIFS(Weekly_Data_Raw[PANEL_TRANSACTIONS],Weekly_Data_Raw[TICKER],'Weekly Metrics'!$A9,Weekly_Data_Raw[END_DATE],'Weekly Metrics'!GW$5), IF($B9=\"Avg Ticket\",SUMIFS(Weekly_Data_Raw[AVG_TICKET],Weekly_Data_Raw[TICKER],'Weekly Metrics'!$A9,Weekly_Data_Raw[END_DATE],'Weekly Metrics'!GW$5), IF($B9=\"EOP Subscribers\",SUMIFS(Weekly_Data_Raw[EOP_SUBSCRIBERS],Weekly_Data_Raw[TICKER],'Weekly Metrics'!$A9,Weekly_Data_Raw[END_DATE],'Weekly Metrics'!GW$5), IF($B9=\"Gross Adds\",SUMIFS(Weekly_Data_Raw[GROSS_ADDS],Weekly_Data_Raw[TICKER],'Weekly Metrics'!$A9,Weekly_Data_Raw[END_DATE],'Weekly Metrics'!GW$5), IF($B9=\"Churn\",SUMIFS(Weekly_Data_Raw[CHURNED_MEMBERS],Weekly_Data_Raw[TICKER],'Weekly Metrics'!$A9,Weekly_Data_Raw[END_DATE],'Weekly Metrics'!GW$5)))))))","v":631878},{"$f":"IF($B9=\"Panel Sales\", SUMIFS(Weekly_Data_Raw[PANEL_AMOUNT],Weekly_Data_Raw[TICKER],'Weekly Metrics'!$A9,Weekly_Data_Raw[END_DATE],'Weekly Metrics'!GX$5),IF($B9=\"Transactions\",SUMIFS(Weekly_Data_Raw[PANEL_TRANSACTIONS],Weekly_Data_Raw[TICKER],'Weekly Metrics'!$A9,Weekly_Data_Raw[END_DATE],'Weekly Metrics'!GX$5), IF($B9=\"Avg Ticket\",SUMIFS(Weekly_Data_Raw[AVG_TICKET],Weekly_Data_Raw[TICKER],'Weekly Metrics'!$A9,Weekly_Data_Raw[END_DATE],'Weekly Metrics'!GX$5), IF($B9=\"EOP Subscribers\",SUMIFS(Weekly_Data_Raw[EOP_SUBSCRIBERS],Weekly_Data_Raw[TICKER],'Weekly Metrics'!$A9,Weekly_Data_Raw[END_DATE],'Weekly Metrics'!GX$5), IF($B9=\"Gross Adds\",SUMIFS(Weekly_Data_Raw[GROSS_ADDS],Weekly_Data_Raw[TICKER],'Weekly Metrics'!$A9,Weekly_Data_Raw[END_DATE],'Weekly Metrics'!GX$5), IF($B9=\"Churn\",SUMIFS(Weekly_Data_Raw[CHURNED_MEMBERS],Weekly_Data_Raw[TICKER],'Weekly Metrics'!$A9,Weekly_Data_Raw[END_DATE],'Weekly Metrics'!GX$5)))))))","v":650385},{"$f":"IF($B9=\"Panel Sales\", SUMIFS(Weekly_Data_Raw[PANEL_AMOUNT],Weekly_Data_Raw[TICKER],'Weekly Metrics'!$A9,Weekly_Data_Raw[END_DATE],'Weekly Metrics'!GY$5),IF($B9=\"Transactions\",SUMIFS(Weekly_Data_Raw[PANEL_TRANSACTIONS],Weekly_Data_Raw[TICKER],'Weekly Metrics'!$A9,Weekly_Data_Raw[END_DATE],'Weekly Metrics'!GY$5), IF($B9=\"Avg Ticket\",SUMIFS(Weekly_Data_Raw[AVG_TICKET],Weekly_Data_Raw[TICKER],'Weekly Metrics'!$A9,Weekly_Data_Raw[END_DATE],'Weekly Metrics'!GY$5), IF($B9=\"EOP Subscribers\",SUMIFS(Weekly_Data_Raw[EOP_SUBSCRIBERS],Weekly_Data_Raw[TICKER],'Weekly Metrics'!$A9,Weekly_Data_Raw[END_DATE],'Weekly Metrics'!GY$5), IF($B9=\"Gross Adds\",SUMIFS(Weekly_Data_Raw[GROSS_ADDS],Weekly_Data_Raw[TICKER],'Weekly Metrics'!$A9,Weekly_Data_Raw[END_DATE],'Weekly Metrics'!GY$5), IF($B9=\"Churn\",SUMIFS(Weekly_Data_Raw[CHURNED_MEMBERS],Weekly_Data_Raw[TICKER],'Weekly Metrics'!$A9,Weekly_Data_Raw[END_DATE],'Weekly Metrics'!GY$5)))))))","v":752327},{"$f":"IF($B9=\"Panel Sales\", SUMIFS(Weekly_Data_Raw[PANEL_AMOUNT],Weekly_Data_Raw[TICKER],'Weekly Metrics'!$A9,Weekly_Data_Raw[END_DATE],'Weekly Metrics'!GZ$5),IF($B9=\"Transactions\",SUMIFS(Weekly_Data_Raw[PANEL_TRANSACTIONS],Weekly_Data_Raw[TICKER],'Weekly Metrics'!$A9,Weekly_Data_Raw[END_DATE],'Weekly Metrics'!GZ$5), IF($B9=\"Avg Ticket\",SUMIFS(Weekly_Data_Raw[AVG_TICKET],Weekly_Data_Raw[TICKER],'Weekly Metrics'!$A9,Weekly_Data_Raw[END_DATE],'Weekly Metrics'!GZ$5), IF($B9=\"EOP Subscribers\",SUMIFS(Weekly_Data_Raw[EOP_SUBSCRIBERS],Weekly_Data_Raw[TICKER],'Weekly Metrics'!$A9,Weekly_Data_Raw[END_DATE],'Weekly Metrics'!GZ$5), IF($B9=\"Gross Adds\",SUMIFS(Weekly_Data_Raw[GROSS_ADDS],Weekly_Data_Raw[TICKER],'Weekly Metrics'!$A9,Weekly_Data_Raw[END_DATE],'Weekly Metrics'!GZ$5), IF($B9=\"Churn\",SUMIFS(Weekly_Data_Raw[CHURNED_MEMBERS],Weekly_Data_Raw[TICKER],'Weekly Metrics'!$A9,Weekly_Data_Raw[END_DATE],'Weekly Metrics'!GZ$5)))))))","v":704739},{"$f":"IF($B9=\"Panel Sales\", SUMIFS(Weekly_Data_Raw[PANEL_AMOUNT],Weekly_Data_Raw[TICKER],'Weekly Metrics'!$A9,Weekly_Data_Raw[END_DATE],'Weekly Metrics'!HA$5),IF($B9=\"Transactions\",SUMIFS(Weekly_Data_Raw[PANEL_TRANSACTIONS],Weekly_Data_Raw[TICKER],'Weekly Metrics'!$A9,Weekly_Data_Raw[END_DATE],'Weekly Metrics'!HA$5), IF($B9=\"Avg Ticket\",SUMIFS(Weekly_Data_Raw[AVG_TICKET],Weekly_Data_Raw[TICKER],'Weekly Metrics'!$A9,Weekly_Data_Raw[END_DATE],'Weekly Metrics'!HA$5), IF($B9=\"EOP Subscribers\",SUMIFS(Weekly_Data_Raw[EOP_SUBSCRIBERS],Weekly_Data_Raw[TICKER],'Weekly Metrics'!$A9,Weekly_Data_Raw[END_DATE],'Weekly Metrics'!HA$5), IF($B9=\"Gross Adds\",SUMIFS(Weekly_Data_Raw[GROSS_ADDS],Weekly_Data_Raw[TICKER],'Weekly Metrics'!$A9,Weekly_Data_Raw[END_DATE],'Weekly Metrics'!HA$5), IF($B9=\"Churn\",SUMIFS(Weekly_Data_Raw[CHURNED_MEMBERS],Weekly_Data_Raw[TICKER],'Weekly Metrics'!$A9,Weekly_Data_Raw[END_DATE],'Weekly Metrics'!HA$5)))))))","v":696097},{"$f":"IF($B9=\"Panel Sales\", SUMIFS(Weekly_Data_Raw[PANEL_AMOUNT],Weekly_Data_Raw[TICKER],'Weekly Metrics'!$A9,Weekly_Data_Raw[END_DATE],'Weekly Metrics'!HB$5),IF($B9=\"Transactions\",SUMIFS(Weekly_Data_Raw[PANEL_TRANSACTIONS],Weekly_Data_Raw[TICKER],'Weekly Metrics'!$A9,Weekly_Data_Raw[END_DATE],'Weekly Metrics'!HB$5), IF($B9=\"Avg Ticket\",SUMIFS(Weekly_Data_Raw[AVG_TICKET],Weekly_Data_Raw[TICKER],'Weekly Metrics'!$A9,Weekly_Data_Raw[END_DATE],'Weekly Metrics'!HB$5), IF($B9=\"EOP Subscribers\",SUMIFS(Weekly_Data_Raw[EOP_SUBSCRIBERS],Weekly_Data_Raw[TICKER],'Weekly Metrics'!$A9,Weekly_Data_Raw[END_DATE],'Weekly Metrics'!HB$5), IF($B9=\"Gross Adds\",SUMIFS(Weekly_Data_Raw[GROSS_ADDS],Weekly_Data_Raw[TICKER],'Weekly Metrics'!$A9,Weekly_Data_Raw[END_DATE],'Weekly Metrics'!HB$5), IF($B9=\"Churn\",SUMIFS(Weekly_Data_Raw[CHURNED_MEMBERS],Weekly_Data_Raw[TICKER],'Weekly Metrics'!$A9,Weekly_Data_Raw[END_DATE],'Weekly Metrics'!HB$5)))))))","v":630975},{"$f":"IF($B9=\"Panel Sales\", SUMIFS(Weekly_Data_Raw[PANEL_AMOUNT],Weekly_Data_Raw[TICKER],'Weekly Metrics'!$A9,Weekly_Data_Raw[END_DATE],'Weekly Metrics'!HC$5),IF($B9=\"Transactions\",SUMIFS(Weekly_Data_Raw[PANEL_TRANSACTIONS],Weekly_Data_Raw[TICKER],'Weekly Metrics'!$A9,Weekly_Data_Raw[END_DATE],'Weekly Metrics'!HC$5), IF($B9=\"Avg Ticket\",SUMIFS(Weekly_Data_Raw[AVG_TICKET],Weekly_Data_Raw[TICKER],'Weekly Metrics'!$A9,Weekly_Data_Raw[END_DATE],'Weekly Metrics'!HC$5), IF($B9=\"EOP Subscribers\",SUMIFS(Weekly_Data_Raw[EOP_SUBSCRIBERS],Weekly_Data_Raw[TICKER],'Weekly Metrics'!$A9,Weekly_Data_Raw[END_DATE],'Weekly Metrics'!HC$5), IF($B9=\"Gross Adds\",SUMIFS(Weekly_Data_Raw[GROSS_ADDS],Weekly_Data_Raw[TICKER],'Weekly Metrics'!$A9,Weekly_Data_Raw[END_DATE],'Weekly Metrics'!HC$5), IF($B9=\"Churn\",SUMIFS(Weekly_Data_Raw[CHURNED_MEMBERS],Weekly_Data_Raw[TICKER],'Weekly Metrics'!$A9,Weekly_Data_Raw[END_DATE],'Weekly Metrics'!HC$5)))))))","v":565782},{"$f":"IF($B9=\"Panel Sales\", SUMIFS(Weekly_Data_Raw[PANEL_AMOUNT],Weekly_Data_Raw[TICKER],'Weekly Metrics'!$A9,Weekly_Data_Raw[END_DATE],'Weekly Metrics'!HD$5),IF($B9=\"Transactions\",SUMIFS(Weekly_Data_Raw[PANEL_TRANSACTIONS],Weekly_Data_Raw[TICKER],'Weekly Metrics'!$A9,Weekly_Data_Raw[END_DATE],'Weekly Metrics'!HD$5), IF($B9=\"Avg Ticket\",SUMIFS(Weekly_Data_Raw[AVG_TICKET],Weekly_Data_Raw[TICKER],'Weekly Metrics'!$A9,Weekly_Data_Raw[END_DATE],'Weekly Metrics'!HD$5), IF($B9=\"EOP Subscribers\",SUMIFS(Weekly_Data_Raw[EOP_SUBSCRIBERS],Weekly_Data_Raw[TICKER],'Weekly Metrics'!$A9,Weekly_Data_Raw[END_DATE],'Weekly Metrics'!HD$5), IF($B9=\"Gross Adds\",SUMIFS(Weekly_Data_Raw[GROSS_ADDS],Weekly_Data_Raw[TICKER],'Weekly Metrics'!$A9,Weekly_Data_Raw[END_DATE],'Weekly Metrics'!HD$5), IF($B9=\"Churn\",SUMIFS(Weekly_Data_Raw[CHURNED_MEMBERS],Weekly_Data_Raw[TICKER],'Weekly Metrics'!$A9,Weekly_Data_Raw[END_DATE],'Weekly Metrics'!HD$5)))))))","v":630767},{"$f":"IF($B9=\"Panel Sales\", SUMIFS(Weekly_Data_Raw[PANEL_AMOUNT],Weekly_Data_Raw[TICKER],'Weekly Metrics'!$A9,Weekly_Data_Raw[END_DATE],'Weekly Metrics'!HE$5),IF($B9=\"Transactions\",SUMIFS(Weekly_Data_Raw[PANEL_TRANSACTIONS],Weekly_Data_Raw[TICKER],'Weekly Metrics'!$A9,Weekly_Data_Raw[END_DATE],'Weekly Metrics'!HE$5), IF($B9=\"Avg Ticket\",SUMIFS(Weekly_Data_Raw[AVG_TICKET],Weekly_Data_Raw[TICKER],'Weekly Metrics'!$A9,Weekly_Data_Raw[END_DATE],'Weekly Metrics'!HE$5), IF($B9=\"EOP Subscribers\",SUMIFS(Weekly_Data_Raw[EOP_SUBSCRIBERS],Weekly_Data_Raw[TICKER],'Weekly Metrics'!$A9,Weekly_Data_Raw[END_DATE],'Weekly Metrics'!HE$5), IF($B9=\"Gross Adds\",SUMIFS(Weekly_Data_Raw[GROSS_ADDS],Weekly_Data_Raw[TICKER],'Weekly Metrics'!$A9,Weekly_Data_Raw[END_DATE],'Weekly Metrics'!HE$5), IF($B9=\"Churn\",SUMIFS(Weekly_Data_Raw[CHURNED_MEMBERS],Weekly_Data_Raw[TICKER],'Weekly Metrics'!$A9,Weekly_Data_Raw[END_DATE],'Weekly Metrics'!HE$5)))))))","v":599140},{"$f":"IF($B9=\"Panel Sales\", SUMIFS(Weekly_Data_Raw[PANEL_AMOUNT],Weekly_Data_Raw[TICKER],'Weekly Metrics'!$A9,Weekly_Data_Raw[END_DATE],'Weekly Metrics'!HF$5),IF($B9=\"Transactions\",SUMIFS(Weekly_Data_Raw[PANEL_TRANSACTIONS],Weekly_Data_Raw[TICKER],'Weekly Metrics'!$A9,Weekly_Data_Raw[END_DATE],'Weekly Metrics'!HF$5), IF($B9=\"Avg Ticket\",SUMIFS(Weekly_Data_Raw[AVG_TICKET],Weekly_Data_Raw[TICKER],'Weekly Metrics'!$A9,Weekly_Data_Raw[END_DATE],'Weekly Metrics'!HF$5), IF($B9=\"EOP Subscribers\",SUMIFS(Weekly_Data_Raw[EOP_SUBSCRIBERS],Weekly_Data_Raw[TICKER],'Weekly Metrics'!$A9,Weekly_Data_Raw[END_DATE],'Weekly Metrics'!HF$5), IF($B9=\"Gross Adds\",SUMIFS(Weekly_Data_Raw[GROSS_ADDS],Weekly_Data_Raw[TICKER],'Weekly Metrics'!$A9,Weekly_Data_Raw[END_DATE],'Weekly Metrics'!HF$5), IF($B9=\"Churn\",SUMIFS(Weekly_Data_Raw[CHURNED_MEMBERS],Weekly_Data_Raw[TICKER],'Weekly Metrics'!$A9,Weekly_Data_Raw[END_DATE],'Weekly Metrics'!HF$5)))))))","v":600387},{"$f":"IF($B9=\"Panel Sales\", SUMIFS(Weekly_Data_Raw[PANEL_AMOUNT],Weekly_Data_Raw[TICKER],'Weekly Metrics'!$A9,Weekly_Data_Raw[END_DATE],'Weekly Metrics'!HG$5),IF($B9=\"Transactions\",SUMIFS(Weekly_Data_Raw[PANEL_TRANSACTIONS],Weekly_Data_Raw[TICKER],'Weekly Metrics'!$A9,Weekly_Data_Raw[END_DATE],'Weekly Metrics'!HG$5), IF($B9=\"Avg Ticket\",SUMIFS(Weekly_Data_Raw[AVG_TICKET],Weekly_Data_Raw[TICKER],'Weekly Metrics'!$A9,Weekly_Data_Raw[END_DATE],'Weekly Metrics'!HG$5), IF($B9=\"EOP Subscribers\",SUMIFS(Weekly_Data_Raw[EOP_SUBSCRIBERS],Weekly_Data_Raw[TICKER],'Weekly Metrics'!$A9,Weekly_Data_Raw[END_DATE],'Weekly Metrics'!HG$5), IF($B9=\"Gross Adds\",SUMIFS(Weekly_Data_Raw[GROSS_ADDS],Weekly_Data_Raw[TICKER],'Weekly Metrics'!$A9,Weekly_Data_Raw[END_DATE],'Weekly Metrics'!HG$5), IF($B9=\"Churn\",SUMIFS(Weekly_Data_Raw[CHURNED_MEMBERS],Weekly_Data_Raw[TICKER],'Weekly Metrics'!$A9,Weekly_Data_Raw[END_DATE],'Weekly Metrics'!HG$5)))))))","v":595308},{"$f":"IF($B9=\"Panel Sales\", SUMIFS(Weekly_Data_Raw[PANEL_AMOUNT],Weekly_Data_Raw[TICKER],'Weekly Metrics'!$A9,Weekly_Data_Raw[END_DATE],'Weekly Metrics'!HH$5),IF($B9=\"Transactions\",SUMIFS(Weekly_Data_Raw[PANEL_TRANSACTIONS],Weekly_Data_Raw[TICKER],'Weekly Metrics'!$A9,Weekly_Data_Raw[END_DATE],'Weekly Metrics'!HH$5), IF($B9=\"Avg Ticket\",SUMIFS(Weekly_Data_Raw[AVG_TICKET],Weekly_Data_Raw[TICKER],'Weekly Metrics'!$A9,Weekly_Data_Raw[END_DATE],'Weekly Metrics'!HH$5), IF($B9=\"EOP Subscribers\",SUMIFS(Weekly_Data_Raw[EOP_SUBSCRIBERS],Weekly_Data_Raw[TICKER],'Weekly Metrics'!$A9,Weekly_Data_Raw[END_DATE],'Weekly Metrics'!HH$5), IF($B9=\"Gross Adds\",SUMIFS(Weekly_Data_Raw[GROSS_ADDS],Weekly_Data_Raw[TICKER],'Weekly Metrics'!$A9,Weekly_Data_Raw[END_DATE],'Weekly Metrics'!HH$5), IF($B9=\"Churn\",SUMIFS(Weekly_Data_Raw[CHURNED_MEMBERS],Weekly_Data_Raw[TICKER],'Weekly Metrics'!$A9,Weekly_Data_Raw[END_DATE],'Weekly Metrics'!HH$5)))))))","v":645205},{"$f":"IF($B9=\"Panel Sales\", SUMIFS(Weekly_Data_Raw[PANEL_AMOUNT],Weekly_Data_Raw[TICKER],'Weekly Metrics'!$A9,Weekly_Data_Raw[END_DATE],'Weekly Metrics'!HI$5),IF($B9=\"Transactions\",SUMIFS(Weekly_Data_Raw[PANEL_TRANSACTIONS],Weekly_Data_Raw[TICKER],'Weekly Metrics'!$A9,Weekly_Data_Raw[END_DATE],'Weekly Metrics'!HI$5), IF($B9=\"Avg Ticket\",SUMIFS(Weekly_Data_Raw[AVG_TICKET],Weekly_Data_Raw[TICKER],'Weekly Metrics'!$A9,Weekly_Data_Raw[END_DATE],'Weekly Metrics'!HI$5), IF($B9=\"EOP Subscribers\",SUMIFS(Weekly_Data_Raw[EOP_SUBSCRIBERS],Weekly_Data_Raw[TICKER],'Weekly Metrics'!$A9,Weekly_Data_Raw[END_DATE],'Weekly Metrics'!HI$5), IF($B9=\"Gross Adds\",SUMIFS(Weekly_Data_Raw[GROSS_ADDS],Weekly_Data_Raw[TICKER],'Weekly Metrics'!$A9,Weekly_Data_Raw[END_DATE],'Weekly Metrics'!HI$5), IF($B9=\"Churn\",SUMIFS(Weekly_Data_Raw[CHURNED_MEMBERS],Weekly_Data_Raw[TICKER],'Weekly Metrics'!$A9,Weekly_Data_Raw[END_DATE],'Weekly Metrics'!HI$5)))))))","v":618575},{"$f":"IF($B9=\"Panel Sales\", SUMIFS(Weekly_Data_Raw[PANEL_AMOUNT],Weekly_Data_Raw[TICKER],'Weekly Metrics'!$A9,Weekly_Data_Raw[END_DATE],'Weekly Metrics'!HJ$5),IF($B9=\"Transactions\",SUMIFS(Weekly_Data_Raw[PANEL_TRANSACTIONS],Weekly_Data_Raw[TICKER],'Weekly Metrics'!$A9,Weekly_Data_Raw[END_DATE],'Weekly Metrics'!HJ$5), IF($B9=\"Avg Ticket\",SUMIFS(Weekly_Data_Raw[AVG_TICKET],Weekly_Data_Raw[TICKER],'Weekly Metrics'!$A9,Weekly_Data_Raw[END_DATE],'Weekly Metrics'!HJ$5), IF($B9=\"EOP Subscribers\",SUMIFS(Weekly_Data_Raw[EOP_SUBSCRIBERS],Weekly_Data_Raw[TICKER],'Weekly Metrics'!$A9,Weekly_Data_Raw[END_DATE],'Weekly Metrics'!HJ$5), IF($B9=\"Gross Adds\",SUMIFS(Weekly_Data_Raw[GROSS_ADDS],Weekly_Data_Raw[TICKER],'Weekly Metrics'!$A9,Weekly_Data_Raw[END_DATE],'Weekly Metrics'!HJ$5), IF($B9=\"Churn\",SUMIFS(Weekly_Data_Raw[CHURNED_MEMBERS],Weekly_Data_Raw[TICKER],'Weekly Metrics'!$A9,Weekly_Data_Raw[END_DATE],'Weekly Metrics'!HJ$5)))))))","v":610175},{"$f":"IF($B9=\"Panel Sales\", SUMIFS(Weekly_Data_Raw[PANEL_AMOUNT],Weekly_Data_Raw[TICKER],'Weekly Metrics'!$A9,Weekly_Data_Raw[END_DATE],'Weekly Metrics'!HK$5),IF($B9=\"Transactions\",SUMIFS(Weekly_Data_Raw[PANEL_TRANSACTIONS],Weekly_Data_Raw[TICKER],'Weekly Metrics'!$A9,Weekly_Data_Raw[END_DATE],'Weekly Metrics'!HK$5), IF($B9=\"Avg Ticket\",SUMIFS(Weekly_Data_Raw[AVG_TICKET],Weekly_Data_Raw[TICKER],'Weekly Metrics'!$A9,Weekly_Data_Raw[END_DATE],'Weekly Metrics'!HK$5), IF($B9=\"EOP Subscribers\",SUMIFS(Weekly_Data_Raw[EOP_SUBSCRIBERS],Weekly_Data_Raw[TICKER],'Weekly Metrics'!$A9,Weekly_Data_Raw[END_DATE],'Weekly Metrics'!HK$5), IF($B9=\"Gross Adds\",SUMIFS(Weekly_Data_Raw[GROSS_ADDS],Weekly_Data_Raw[TICKER],'Weekly Metrics'!$A9,Weekly_Data_Raw[END_DATE],'Weekly Metrics'!HK$5), IF($B9=\"Churn\",SUMIFS(Weekly_Data_Raw[CHURNED_MEMBERS],Weekly_Data_Raw[TICKER],'Weekly Metrics'!$A9,Weekly_Data_Raw[END_DATE],'Weekly Metrics'!HK$5)))))))","v":594994},{"$f":"IF($B9=\"Panel Sales\", SUMIFS(Weekly_Data_Raw[PANEL_AMOUNT],Weekly_Data_Raw[TICKER],'Weekly Metrics'!$A9,Weekly_Data_Raw[END_DATE],'Weekly Metrics'!HL$5),IF($B9=\"Transactions\",SUMIFS(Weekly_Data_Raw[PANEL_TRANSACTIONS],Weekly_Data_Raw[TICKER],'Weekly Metrics'!$A9,Weekly_Data_Raw[END_DATE],'Weekly Metrics'!HL$5), IF($B9=\"Avg Ticket\",SUMIFS(Weekly_Data_Raw[AVG_TICKET],Weekly_Data_Raw[TICKER],'Weekly Metrics'!$A9,Weekly_Data_Raw[END_DATE],'Weekly Metrics'!HL$5), IF($B9=\"EOP Subscribers\",SUMIFS(Weekly_Data_Raw[EOP_SUBSCRIBERS],Weekly_Data_Raw[TICKER],'Weekly Metrics'!$A9,Weekly_Data_Raw[END_DATE],'Weekly Metrics'!HL$5), IF($B9=\"Gross Adds\",SUMIFS(Weekly_Data_Raw[GROSS_ADDS],Weekly_Data_Raw[TICKER],'Weekly Metrics'!$A9,Weekly_Data_Raw[END_DATE],'Weekly Metrics'!HL$5), IF($B9=\"Churn\",SUMIFS(Weekly_Data_Raw[CHURNED_MEMBERS],Weekly_Data_Raw[TICKER],'Weekly Metrics'!$A9,Weekly_Data_Raw[END_DATE],'Weekly Metrics'!HL$5)))))))","v":687565},{"$f":"IF($B9=\"Panel Sales\", SUMIFS(Weekly_Data_Raw[PANEL_AMOUNT],Weekly_Data_Raw[TICKER],'Weekly Metrics'!$A9,Weekly_Data_Raw[END_DATE],'Weekly Metrics'!HM$5),IF($B9=\"Transactions\",SUMIFS(Weekly_Data_Raw[PANEL_TRANSACTIONS],Weekly_Data_Raw[TICKER],'Weekly Metrics'!$A9,Weekly_Data_Raw[END_DATE],'Weekly Metrics'!HM$5), IF($B9=\"Avg Ticket\",SUMIFS(Weekly_Data_Raw[AVG_TICKET],Weekly_Data_Raw[TICKER],'Weekly Metrics'!$A9,Weekly_Data_Raw[END_DATE],'Weekly Metrics'!HM$5), IF($B9=\"EOP Subscribers\",SUMIFS(Weekly_Data_Raw[EOP_SUBSCRIBERS],Weekly_Data_Raw[TICKER],'Weekly Metrics'!$A9,Weekly_Data_Raw[END_DATE],'Weekly Metrics'!HM$5), IF($B9=\"Gross Adds\",SUMIFS(Weekly_Data_Raw[GROSS_ADDS],Weekly_Data_Raw[TICKER],'Weekly Metrics'!$A9,Weekly_Data_Raw[END_DATE],'Weekly Metrics'!HM$5), IF($B9=\"Churn\",SUMIFS(Weekly_Data_Raw[CHURNED_MEMBERS],Weekly_Data_Raw[TICKER],'Weekly Metrics'!$A9,Weekly_Data_Raw[END_DATE],'Weekly Metrics'!HM$5)))))))","v":619734},{"$f":"IF($B9=\"Panel Sales\", SUMIFS(Weekly_Data_Raw[PANEL_AMOUNT],Weekly_Data_Raw[TICKER],'Weekly Metrics'!$A9,Weekly_Data_Raw[END_DATE],'Weekly Metrics'!HN$5),IF($B9=\"Transactions\",SUMIFS(Weekly_Data_Raw[PANEL_TRANSACTIONS],Weekly_Data_Raw[TICKER],'Weekly Metrics'!$A9,Weekly_Data_Raw[END_DATE],'Weekly Metrics'!HN$5), IF($B9=\"Avg Ticket\",SUMIFS(Weekly_Data_Raw[AVG_TICKET],Weekly_Data_Raw[TICKER],'Weekly Metrics'!$A9,Weekly_Data_Raw[END_DATE],'Weekly Metrics'!HN$5), IF($B9=\"EOP Subscribers\",SUMIFS(Weekly_Data_Raw[EOP_SUBSCRIBERS],Weekly_Data_Raw[TICKER],'Weekly Metrics'!$A9,Weekly_Data_Raw[END_DATE],'Weekly Metrics'!HN$5), IF($B9=\"Gross Adds\",SUMIFS(Weekly_Data_Raw[GROSS_ADDS],Weekly_Data_Raw[TICKER],'Weekly Metrics'!$A9,Weekly_Data_Raw[END_DATE],'Weekly Metrics'!HN$5), IF($B9=\"Churn\",SUMIFS(Weekly_Data_Raw[CHURNED_MEMBERS],Weekly_Data_Raw[TICKER],'Weekly Metrics'!$A9,Weekly_Data_Raw[END_DATE],'Weekly Metrics'!HN$5)))))))","v":630769},{"$f":"IF($B9=\"Panel Sales\", SUMIFS(Weekly_Data_Raw[PANEL_AMOUNT],Weekly_Data_Raw[TICKER],'Weekly Metrics'!$A9,Weekly_Data_Raw[END_DATE],'Weekly Metrics'!HO$5),IF($B9=\"Transactions\",SUMIFS(Weekly_Data_Raw[PANEL_TRANSACTIONS],Weekly_Data_Raw[TICKER],'Weekly Metrics'!$A9,Weekly_Data_Raw[END_DATE],'Weekly Metrics'!HO$5), IF($B9=\"Avg Ticket\",SUMIFS(Weekly_Data_Raw[AVG_TICKET],Weekly_Data_Raw[TICKER],'Weekly Metrics'!$A9,Weekly_Data_Raw[END_DATE],'Weekly Metrics'!HO$5), IF($B9=\"EOP Subscribers\",SUMIFS(Weekly_Data_Raw[EOP_SUBSCRIBERS],Weekly_Data_Raw[TICKER],'Weekly Metrics'!$A9,Weekly_Data_Raw[END_DATE],'Weekly Metrics'!HO$5), IF($B9=\"Gross Adds\",SUMIFS(Weekly_Data_Raw[GROSS_ADDS],Weekly_Data_Raw[TICKER],'Weekly Metrics'!$A9,Weekly_Data_Raw[END_DATE],'Weekly Metrics'!HO$5), IF($B9=\"Churn\",SUMIFS(Weekly_Data_Raw[CHURNED_MEMBERS],Weekly_Data_Raw[TICKER],'Weekly Metrics'!$A9,Weekly_Data_Raw[END_DATE],'Weekly Metrics'!HO$5)))))))","v":613099},{"$f":"IF($B9=\"Panel Sales\", SUMIFS(Weekly_Data_Raw[PANEL_AMOUNT],Weekly_Data_Raw[TICKER],'Weekly Metrics'!$A9,Weekly_Data_Raw[END_DATE],'Weekly Metrics'!HP$5),IF($B9=\"Transactions\",SUMIFS(Weekly_Data_Raw[PANEL_TRANSACTIONS],Weekly_Data_Raw[TICKER],'Weekly Metrics'!$A9,Weekly_Data_Raw[END_DATE],'Weekly Metrics'!HP$5), IF($B9=\"Avg Ticket\",SUMIFS(Weekly_Data_Raw[AVG_TICKET],Weekly_Data_Raw[TICKER],'Weekly Metrics'!$A9,Weekly_Data_Raw[END_DATE],'Weekly Metrics'!HP$5), IF($B9=\"EOP Subscribers\",SUMIFS(Weekly_Data_Raw[EOP_SUBSCRIBERS],Weekly_Data_Raw[TICKER],'Weekly Metrics'!$A9,Weekly_Data_Raw[END_DATE],'Weekly Metrics'!HP$5), IF($B9=\"Gross Adds\",SUMIFS(Weekly_Data_Raw[GROSS_ADDS],Weekly_Data_Raw[TICKER],'Weekly Metrics'!$A9,Weekly_Data_Raw[END_DATE],'Weekly Metrics'!HP$5), IF($B9=\"Churn\",SUMIFS(Weekly_Data_Raw[CHURNED_MEMBERS],Weekly_Data_Raw[TICKER],'Weekly Metrics'!$A9,Weekly_Data_Raw[END_DATE],'Weekly Metrics'!HP$5)))))))","v":622585},{"$f":"IF($B9=\"Panel Sales\", SUMIFS(Weekly_Data_Raw[PANEL_AMOUNT],Weekly_Data_Raw[TICKER],'Weekly Metrics'!$A9,Weekly_Data_Raw[END_DATE],'Weekly Metrics'!HQ$5),IF($B9=\"Transactions\",SUMIFS(Weekly_Data_Raw[PANEL_TRANSACTIONS],Weekly_Data_Raw[TICKER],'Weekly Metrics'!$A9,Weekly_Data_Raw[END_DATE],'Weekly Metrics'!HQ$5), IF($B9=\"Avg Ticket\",SUMIFS(Weekly_Data_Raw[AVG_TICKET],Weekly_Data_Raw[TICKER],'Weekly Metrics'!$A9,Weekly_Data_Raw[END_DATE],'Weekly Metrics'!HQ$5), IF($B9=\"EOP Subscribers\",SUMIFS(Weekly_Data_Raw[EOP_SUBSCRIBERS],Weekly_Data_Raw[TICKER],'Weekly Metrics'!$A9,Weekly_Data_Raw[END_DATE],'Weekly Metrics'!HQ$5), IF($B9=\"Gross Adds\",SUMIFS(Weekly_Data_Raw[GROSS_ADDS],Weekly_Data_Raw[TICKER],'Weekly Metrics'!$A9,Weekly_Data_Raw[END_DATE],'Weekly Metrics'!HQ$5), IF($B9=\"Churn\",SUMIFS(Weekly_Data_Raw[CHURNED_MEMBERS],Weekly_Data_Raw[TICKER],'Weekly Metrics'!$A9,Weekly_Data_Raw[END_DATE],'Weekly Metrics'!HQ$5)))))))","v":644119},{"$f":"IF($B9=\"Panel Sales\", SUMIFS(Weekly_Data_Raw[PANEL_AMOUNT],Weekly_Data_Raw[TICKER],'Weekly Metrics'!$A9,Weekly_Data_Raw[END_DATE],'Weekly Metrics'!HR$5),IF($B9=\"Transactions\",SUMIFS(Weekly_Data_Raw[PANEL_TRANSACTIONS],Weekly_Data_Raw[TICKER],'Weekly Metrics'!$A9,Weekly_Data_Raw[END_DATE],'Weekly Metrics'!HR$5), IF($B9=\"Avg Ticket\",SUMIFS(Weekly_Data_Raw[AVG_TICKET],Weekly_Data_Raw[TICKER],'Weekly Metrics'!$A9,Weekly_Data_Raw[END_DATE],'Weekly Metrics'!HR$5), IF($B9=\"EOP Subscribers\",SUMIFS(Weekly_Data_Raw[EOP_SUBSCRIBERS],Weekly_Data_Raw[TICKER],'Weekly Metrics'!$A9,Weekly_Data_Raw[END_DATE],'Weekly Metrics'!HR$5), IF($B9=\"Gross Adds\",SUMIFS(Weekly_Data_Raw[GROSS_ADDS],Weekly_Data_Raw[TICKER],'Weekly Metrics'!$A9,Weekly_Data_Raw[END_DATE],'Weekly Metrics'!HR$5), IF($B9=\"Churn\",SUMIFS(Weekly_Data_Raw[CHURNED_MEMBERS],Weekly_Data_Raw[TICKER],'Weekly Metrics'!$A9,Weekly_Data_Raw[END_DATE],'Weekly Metrics'!HR$5)))))))","v":588451},{"$f":"IF($B9=\"Panel Sales\", SUMIFS(Weekly_Data_Raw[PANEL_AMOUNT],Weekly_Data_Raw[TICKER],'Weekly Metrics'!$A9,Weekly_Data_Raw[END_DATE],'Weekly Metrics'!HS$5),IF($B9=\"Transactions\",SUMIFS(Weekly_Data_Raw[PANEL_TRANSACTIONS],Weekly_Data_Raw[TICKER],'Weekly Metrics'!$A9,Weekly_Data_Raw[END_DATE],'Weekly Metrics'!HS$5), IF($B9=\"Avg Ticket\",SUMIFS(Weekly_Data_Raw[AVG_TICKET],Weekly_Data_Raw[TICKER],'Weekly Metrics'!$A9,Weekly_Data_Raw[END_DATE],'Weekly Metrics'!HS$5), IF($B9=\"EOP Subscribers\",SUMIFS(Weekly_Data_Raw[EOP_SUBSCRIBERS],Weekly_Data_Raw[TICKER],'Weekly Metrics'!$A9,Weekly_Data_Raw[END_DATE],'Weekly Metrics'!HS$5), IF($B9=\"Gross Adds\",SUMIFS(Weekly_Data_Raw[GROSS_ADDS],Weekly_Data_Raw[TICKER],'Weekly Metrics'!$A9,Weekly_Data_Raw[END_DATE],'Weekly Metrics'!HS$5), IF($B9=\"Churn\",SUMIFS(Weekly_Data_Raw[CHURNED_MEMBERS],Weekly_Data_Raw[TICKER],'Weekly Metrics'!$A9,Weekly_Data_Raw[END_DATE],'Weekly Metrics'!HS$5)))))))","v":611831},{"$f":"IF($B9=\"Panel Sales\", SUMIFS(Weekly_Data_Raw[PANEL_AMOUNT],Weekly_Data_Raw[TICKER],'Weekly Metrics'!$A9,Weekly_Data_Raw[END_DATE],'Weekly Metrics'!HT$5),IF($B9=\"Transactions\",SUMIFS(Weekly_Data_Raw[PANEL_TRANSACTIONS],Weekly_Data_Raw[TICKER],'Weekly Metrics'!$A9,Weekly_Data_Raw[END_DATE],'Weekly Metrics'!HT$5), IF($B9=\"Avg Ticket\",SUMIFS(Weekly_Data_Raw[AVG_TICKET],Weekly_Data_Raw[TICKER],'Weekly Metrics'!$A9,Weekly_Data_Raw[END_DATE],'Weekly Metrics'!HT$5), IF($B9=\"EOP Subscribers\",SUMIFS(Weekly_Data_Raw[EOP_SUBSCRIBERS],Weekly_Data_Raw[TICKER],'Weekly Metrics'!$A9,Weekly_Data_Raw[END_DATE],'Weekly Metrics'!HT$5), IF($B9=\"Gross Adds\",SUMIFS(Weekly_Data_Raw[GROSS_ADDS],Weekly_Data_Raw[TICKER],'Weekly Metrics'!$A9,Weekly_Data_Raw[END_DATE],'Weekly Metrics'!HT$5), IF($B9=\"Churn\",SUMIFS(Weekly_Data_Raw[CHURNED_MEMBERS],Weekly_Data_Raw[TICKER],'Weekly Metrics'!$A9,Weekly_Data_Raw[END_DATE],'Weekly Metrics'!HT$5)))))))","v":601632}]
["WW-Subs","Avg Ticket",{"$f":"IF($B10=\"Panel Sales\", SUMIFS(Weekly_Data_Raw[PANEL_AMOUNT],Weekly_Data_Raw[TICKER],'Weekly Metrics'!$A10,Weekly_Data_Raw[END_DATE],'Weekly Metrics'!C$5),IF($B10=\"Transactions\",SUMIFS(Weekly_Data_Raw[PANEL_TRANSACTIONS],Weekly_Data_Raw[TICKER],'Weekly Metrics'!$A10,Weekly_Data_Raw[END_DATE],'Weekly Metrics'!C$5), IF($B10=\"Avg Ticket\",SUMIFS(Weekly_Data_Raw[AVG_TICKET],Weekly_Data_Raw[TICKER],'Weekly Metrics'!$A10,Weekly_Data_Raw[END_DATE],'Weekly Metrics'!C$5), IF($B10=\"EOP Subscribers\",SUMIFS(Weekly_Data_Raw[EOP_SUBSCRIBERS],Weekly_Data_Raw[TICKER],'Weekly Metrics'!$A10,Weekly_Data_Raw[END_DATE],'Weekly Metrics'!C$5), IF($B10=\"Gross Adds\",SUMIFS(Weekly_Data_Raw[GROSS_ADDS],Weekly_Data_Raw[TICKER],'Weekly Metrics'!$A10,Weekly_Data_Raw[END_DATE],'Weekly Metrics'!C$5), IF($B10=\"Churn\",SUMIFS(Weekly_Data_Raw[CHURNED_MEMBERS],Weekly_Data_Raw[TICKER],'Weekly Metrics'!$A10,Weekly_Data_Raw[END_DATE],'Weekly Metrics'!C$5)))))))","v":26.092807706999999},{"$f":"IF($B10=\"Panel Sales\", SUMIFS(Weekly_Data_Raw[PANEL_AMOUNT],Weekly_Data_Raw[TICKER],'Weekly Metrics'!$A10,Weekly_Data_Raw[END_DATE],'Weekly Metrics'!D$5),IF($B10=\"Transactions\",SUMIFS(Weekly_Data_Raw[PANEL_TRANSACTIONS],Weekly_Data_Raw[TICKER],'Weekly Metrics'!$A10,Weekly_Data_Raw[END_DATE],'Weekly Metrics'!D$5), IF($B10=\"Avg Ticket\",SUMIFS(Weekly_Data_Raw[AVG_TICKET],Weekly_Data_Raw[TICKER],'Weekly Metrics'!$A10,Weekly_Data_Raw[END_DATE],'Weekly Metrics'!D$5), IF($B10=\"EOP Subscribers\",SUMIFS(Weekly_Data_Raw[EOP_SUBSCRIBERS],Weekly_Data_Raw[TICKER],'Weekly Metrics'!$A10,Weekly_Data_Raw[END_DATE],'Weekly Metrics'!D$5), IF($B10=\"Gross Adds\",SUMIFS(Weekly_Data_Raw[GROSS_ADDS],Weekly_Data_Raw[TICKER],'Weekly Metrics'!$A10,Weekly_Data_Raw[END_DATE],'Weekly Metrics'!D$5), IF($B10=\"Churn\",SUMIFS(Weekly_Data_Raw[CHURNED_MEMBERS],Weekly_Data_Raw[TICKER],'Weekly Metrics'!$A10,Weekly_Data_Raw[END_DATE],'Weekly Metrics'!D$5)))))))","v":26.687634262},{"$f":"IF($B10=\"Panel Sales\", SUMIFS(Weekly_Data_Raw[PANEL_AMOUNT],Weekly_Data_Raw[TICKER],'Weekly Metrics'!$A10,Weekly_Data_Raw[END_DATE],'Weekly Metrics'!E$5),IF($B10=\"Transactions\",SUMIFS(Weekly_Data_Raw[PANEL_TRANSACTIONS],Weekly_Data_Raw[TICKER],'Weekly Metrics'!$A10,Weekly_Data_Raw[END_DATE],'Weekly Metrics'!E$5), IF($B10=\"Avg Ticket\",SUMIFS(Weekly_Data_Raw[AVG_TICKET],Weekly_Data_Raw[TICKER],'Weekly Metrics'!$A10,Weekly_Data_Raw[END_DATE],'Weekly Metrics'!E$5), IF($B10=\"EOP Subscribers\",SUMIFS(Weekly_Data_Raw[EOP_SUBSCRIBERS],Weekly_Data_Raw[TICKER],'Weekly Metrics'!$A10,Weekly_Data_Raw[END_DATE],'Weekly Metrics'!E$5), IF($B10=\"Gross Adds\",SUMIFS(Weekly_Data_Raw[GROSS_ADDS],Weekly_Data_Raw[TICKER],'Weekly Metrics'!$A10,Weekly_Data_Raw[END_DATE],'Weekly Metrics'!E$5), IF($B10=\"Churn\",SUMIFS(Weekly_Data_Raw[CHURNED_MEMBERS],Weekly_Data_Raw[TICKER],'Weekly Metrics'!$A10,Weekly_Data_Raw[END_DATE],'Weekly Metrics'!E$5)))))))","v":25.878125000000001},{"$f":"IF($B10=\"Panel Sales\", SUMIFS(Weekly_Data_Raw[PANEL_AMOUNT],Weekly_Data_Raw[TICKER],'Weekly Metrics'!$A10,Weekly_Data_Raw[END_DATE],'Weekly Metrics'!F$5),IF($B10=\"Transactions\",SUMIFS(Weekly_Data_Raw[PANEL_TRANSACTIONS],Weekly_Data_Raw[TICKER],'Weekly Metrics'!$A10,Weekly_Data_Raw[END_DATE],'Weekly Metrics'!F$5), IF($B10=\"Avg Ticket\",SUMIFS(Weekly_Data_Raw[AVG_TICKET],Weekly_Data_Raw[TICKER],'Weekly Metrics'!$A10,Weekly_Data_Raw[END_DATE],'Weekly Metrics'!F$5), IF($B10=\"EOP Subscribers\",SUMIFS(Weekly_Data_Raw[EOP_SUBSCRIBERS],Weekly_Data_Raw[TICKER],'Weekly Metrics'!$A10,Weekly_Data_Raw[END_DATE],'Weekly Metrics'!F$5), IF($B10=\"Gross Adds\",SUMIFS(Weekly_Data_Raw[GROSS_ADDS],Weekly_Data_Raw[TICKER],'Weekly Metrics'!$A10,Weekly_Data_Raw[END_DATE],'Weekly Metrics'!F$5), IF($B10=\"Churn\",SUMIFS(Weekly_Data_Raw[CHURNED_MEMBERS],Weekly_Data_Raw[TICKER],'Weekly Metrics'!$A10,Weekly_Data_Raw[END_DATE],'Weekly Metrics'!F$5)))))))","v":25.299802137},{"$f":"IF($B10=\"Panel Sales\", SUMIFS(Weekly_Data_Raw[PANEL_AMOUNT],Weekly_Data_Raw[TICKER],'Weekly Metrics'!$A10,Weekly_Data_Raw[END_DATE],'Weekly Metrics'!G$5),IF($B10=\"Transactions\",SUMIFS(Weekly_Data_Raw[PANEL_TRANSACTIONS],Weekly_Data_Raw[TICKER],'Weekly Metrics'!$A10,Weekly_Data_Raw[END_DATE],'Weekly Metrics'!G$5), IF($B10=\"Avg Ticket\",SUMIFS(Weekly_Data_Raw[AVG_TICKET],Weekly_Data_Raw[TICKER],'Weekly Metrics'!$A10,Weekly_Data_Raw[END_DATE],'Weekly Metrics'!G$5), IF($B10=\"EOP Subscribers\",SUMIFS(Weekly_Data_Raw[EOP_SUBSCRIBERS],Weekly_Data_Raw[TICKER],'Weekly Metrics'!$A10,Weekly_Data_Raw[END_DATE],'Weekly Metrics'!G$5), IF($B10=\"Gross Adds\",SUMIFS(Weekly_Data_Raw[GROSS_ADDS],Weekly_Data_Raw[TICKER],'Weekly Metrics'!$A10,Weekly_Data_Raw[END_DATE],'Weekly Metrics'!G$5), IF($B10=\"Churn\",SUMIFS(Weekly_Data_Raw[CHURNED_MEMBERS],Weekly_Data_Raw[TICKER],'Weekly Metrics'!$A10,Weekly_Data_Raw[END_DATE],'Weekly Metrics'!G$5)))))))","v":24.964928131000001},{"$f":"IF($B10=\"Panel Sales\", SUMIFS(Weekly_Data_Raw[PANEL_AMOUNT],Weekly_Data_Raw[TICKER],'Weekly Metrics'!$A10,Weekly_Data_Raw[END_DATE],'Weekly Metrics'!H$5),IF($B10=\"Transactions\",SUMIFS(Weekly_Data_Raw[PANEL_TRANSACTIONS],Weekly_Data_Raw[TICKER],'Weekly Metrics'!$A10,Weekly_Data_Raw[END_DATE],'Weekly Metrics'!H$5), IF($B10=\"Avg Ticket\",SUMIFS(Weekly_Data_Raw[AVG_TICKET],Weekly_Data_Raw[TICKER],'Weekly Metrics'!$A10,Weekly_Data_Raw[END_DATE],'Weekly Metrics'!H$5), IF($B10=\"EOP Subscribers\",SUMIFS(Weekly_Data_Raw[EOP_SUBSCRIBERS],Weekly_Data_Raw[TICKER],'Weekly Metrics'!$A10,Weekly_Data_Raw[END_DATE],'Weekly Metrics'!H$5), IF($B10=\"Gross Adds\",SUMIFS(Weekly_Data_Raw[GROSS_ADDS],Weekly_Data_Raw[TICKER],'Weekly Metrics'!$A10,Weekly_Data_Raw[END_DATE],'Weekly Metrics'!H$5), IF($B10=\"Churn\",SUMIFS(Weekly_Data_Raw[CHURNED_MEMBERS],Weekly_Data_Raw[TICKER],'Weekly Metrics'!$A10,Weekly_Data_Raw[END_DATE],'Weekly Metrics'!H$5)))))))","v":25.257773884999999},{"$f":"IF($B10=\"Panel Sales\", SUMIFS(Weekly_Data_Raw[PANEL_AMOUNT],Weekly_Data_Raw[TICKER],'Weekly Metrics'!$A10,Weekly_Data_Raw[END_DATE],'Weekly Metrics'!I$5),IF($B10=\"Transactions\",SUMIFS(Weekly_Data_Raw[PANEL_TRANSACTIONS],Weekly_Data_Raw[TICKER],'Weekly Metrics'!$A10,Weekly_Data_Raw[END_DATE],'Weekly Metrics'!I$5), IF($B10=\"Avg Ticket\",SUMIFS(Weekly_Data_Raw[AVG_TICKET],Weekly_Data_Raw[TICKER],'Weekly Metrics'!$A10,Weekly_Data_Raw[END_DATE],'Weekly Metrics'!I$5), IF($B10=\"EOP Subscribers\",SUMIFS(Weekly_Data_Raw[EOP_SUBSCRIBERS],Weekly_Data_Raw[TICKER],'Weekly Metrics'!$A10,Weekly_Data_Raw[END_DATE],'Weekly Metrics'!I$5), IF($B10=\"Gross Adds\",SUMIFS(Weekly_Data_Raw[GROSS_ADDS],Weekly_Data_Raw[TICKER],'Weekly Metrics'!$A10,Weekly_Data_Raw[END_DATE],'Weekly Metrics'!I$5), IF($B10=\"Churn\",SUMIFS(Weekly_Data_Raw[CHURNED_MEMBERS],Weekly_Data_Raw[TICKER],'Weekly Metrics'!$A10,Weekly_Data_Raw[END_DATE],'Weekly Metrics'!I$5)))))))","v":25.405340628000001},{"$f":"IF($B10=\"Panel Sales\", SUMIFS(Weekly_Data_Raw[PANEL_AMOUNT],Weekly_Data_Raw[TICKER],'Weekly Metrics'!$A10,Weekly_Data_Raw[END_DATE],'Weekly Metrics'!J$5),IF($B10=\"Transactions\",SUMIFS(Weekly_Data_Raw[PANEL_TRANSACTIONS],Weekly_Data_Raw[TICKER],'Weekly Metrics'!$A10,Weekly_Data_Raw[END_DATE],'Weekly Metrics'!J$5), IF($B10=\"Avg Ticket\",SUMIFS(Weekly_Data_Raw[AVG_TICKET],Weekly_Data_Raw[TICKER],'Weekly Metrics'!$A10,Weekly_Data_Raw[END_DATE],'Weekly Metrics'!J$5), IF($B10=\"EOP Subscribers\",SUMIFS(Weekly_Data_Raw[EOP_SUBSCRIBERS],Weekly_Data_Raw[TICKER],'Weekly Metrics'!$A10,Weekly_Data_Raw[END_DATE],'Weekly Metrics'!J$5), IF($B10=\"Gross Adds\",SUMIFS(Weekly_Data_Raw[GROSS_ADDS],Weekly_Data_Raw[TICKER],'Weekly Metrics'!$A10,Weekly_Data_Raw[END_DATE],'Weekly Metrics'!J$5), IF($B10=\"Churn\",SUMIFS(Weekly_Data_Raw[CHURNED_MEMBERS],Weekly_Data_Raw[TICKER],'Weekly Metrics'!$A10,Weekly_Data_Raw[END_DATE],'Weekly Metrics'!J$5)))))))","v":24.598412584999998},{"$f":"IF($B10=\"Panel Sales\", SUMIFS(Weekly_Data_Raw[PANEL_AMOUNT],Weekly_Data_Raw[TICKER],'Weekly Metrics'!$A10,Weekly_Data_Raw[END_DATE],'Weekly Metrics'!K$5),IF($B10=\"Transactions\",SUMIFS(Weekly_Data_Raw[PANEL_TRANSACTIONS],Weekly_Data_Raw[TICKER],'Weekly Metrics'!$A10,Weekly_Data_Raw[END_DATE],'Weekly Metrics'!K$5), IF($B10=\"Avg Ticket\",SUMIFS(Weekly_Data_Raw[AVG_TICKET],Weekly_Data_Raw[TICKER],'Weekly Metrics'!$A10,Weekly_Data_Raw[END_DATE],'Weekly Metrics'!K$5), IF($B10=\"EOP Subscribers\",SUMIFS(Weekly_Data_Raw[EOP_SUBSCRIBERS],Weekly_Data_Raw[TICKER],'Weekly Metrics'!$A10,Weekly_Data_Raw[END_DATE],'Weekly Metrics'!K$5), IF($B10=\"Gross Adds\",SUMIFS(Weekly_Data_Raw[GROSS_ADDS],Weekly_Data_Raw[TICKER],'Weekly Metrics'!$A10,Weekly_Data_Raw[END_DATE],'Weekly Metrics'!K$5), IF($B10=\"Churn\",SUMIFS(Weekly_Data_Raw[CHURNED_MEMBERS],Weekly_Data_Raw[TICKER],'Weekly Metrics'!$A10,Weekly_Data_Raw[END_DATE],'Weekly Metrics'!K$5)))))))","v":24.865419114000002},{"$f":"IF($B10=\"Panel Sales\", SUMIFS(Weekly_Data_Raw[PANEL_AMOUNT],Weekly_Data_Raw[TICKER],'Weekly Metrics'!$A10,Weekly_Data_Raw[END_DATE],'Weekly Metrics'!L$5),IF($B10=\"Transactions\",SUMIFS(Weekly_Data_Raw[PANEL_TRANSACTIONS],Weekly_Data_Raw[TICKER],'Weekly Metrics'!$A10,Weekly_Data_Raw[END_DATE],'Weekly Metrics'!L$5), IF($B10=\"Avg Ticket\",SUMIFS(Weekly_Data_Raw[AVG_TICKET],Weekly_Data_Raw[TICKER],'Weekly Metrics'!$A10,Weekly_Data_Raw[END_DATE],'Weekly Metrics'!L$5), IF($B10=\"EOP Subscribers\",SUMIFS(Weekly_Data_Raw[EOP_SUBSCRIBERS],Weekly_Data_Raw[TICKER],'Weekly Metrics'!$A10,Weekly_Data_Raw[END_DATE],'Weekly Metrics'!L$5), IF($B10=\"Gross Adds\",SUMIFS(Weekly_Data_Raw[GROSS_ADDS],Weekly_Data_Raw[TICKER],'Weekly Metrics'!$A10,Weekly_Data_Raw[END_DATE],'Weekly Metrics'!L$5), IF($B10=\"Churn\",SUMIFS(Weekly_Data_Raw[CHURNED_MEMBERS],Weekly_Data_Raw[TICKER],'Weekly Metrics'!$A10,Weekly_Data_Raw[END_DATE],'Weekly Metrics'!L$5)))))))","v":25.270838274999999},{"$f":"IF($B10=\"Panel Sales\", SUMIFS(Weekly_Data_Raw[PANEL_AMOUNT],Weekly_Data_Raw[TICKER],'Weekly Metrics'!$A10,Weekly_Data_Raw[END_DATE],'Weekly Metrics'!M$5),IF($B10=\"Transactions\",SUMIFS(Weekly_Data_Raw[PANEL_TRANSACTIONS],Weekly_Data_Raw[TICKER],'Weekly Metrics'!$A10,Weekly_Data_Raw[END_DATE],'Weekly Metrics'!M$5), IF($B10=\"Avg Ticket\",SUMIFS(Weekly_Data_Raw[AVG_TICKET],Weekly_Data_Raw[TICKER],'Weekly Metrics'!$A10,Weekly_Data_Raw[END_DATE],'Weekly Metrics'!M$5), IF($B10=\"EOP Subscribers\",SUMIFS(Weekly_Data_Raw[EOP_SUBSCRIBERS],Weekly_Data_Raw[TICKER],'Weekly Metrics'!$A10,Weekly_Data_Raw[END_DATE],'Weekly Metrics'!M$5), IF($B10=\"Gross Adds\",SUMIFS(Weekly_Data_Raw[GROSS_ADDS],Weekly_Data_Raw[TICKER],'Weekly Metrics'!$A10,Weekly_Data_Raw[END_DATE],'Weekly Metrics'!M$5), IF($B10=\"Churn\",SUMIFS(Weekly_Data_Raw[CHURNED_MEMBERS],Weekly_Data_Raw[TICKER],'Weekly Metrics'!$A10,Weekly_Data_Raw[END_DATE],'Weekly Metrics'!M$5)))))))","v":25.167925728},{"$f":"IF($B10=\"Panel Sales\", SUMIFS(Weekly_Data_Raw[PANEL_AMOUNT],Weekly_Data_Raw[TICKER],'Weekly Metrics'!$A10,Weekly_Data_Raw[END_DATE],'Weekly Metrics'!N$5),IF($B10=\"Transactions\",SUMIFS(Weekly_Data_Raw[PANEL_TRANSACTIONS],Weekly_Data_Raw[TICKER],'Weekly Metrics'!$A10,Weekly_Data_Raw[END_DATE],'Weekly Metrics'!N$5), IF($B10=\"Avg Ticket\",SUMIFS(Weekly_Data_Raw[AVG_TICKET],Weekly_Data_Raw[TICKER],'Weekly Metrics'!$A10,Weekly_Data_Raw[END_DATE],'Weekly Metrics'!N$5), IF($B10=\"EOP Subscribers\",SUMIFS(Weekly_Data_Raw[EOP_SUBSCRIBERS],Weekly_Data_Raw[TICKER],'Weekly Metrics'!$A10,Weekly_Data_Raw[END_DATE],'Weekly Metrics'!N$5), IF($B10=\"Gross Adds\",SUMIFS(Weekly_Data_Raw[GROSS_ADDS],Weekly_Data_Raw[TICKER],'Weekly Metrics'!$A10,Weekly_Data_Raw[END_DATE],'Weekly Metrics'!N$5), IF($B10=\"Churn\",SUMIFS(Weekly_Data_Raw[CHURNED_MEMBERS],Weekly_Data_Raw[TICKER],'Weekly Metrics'!$A10,Weekly_Data_Raw[END_DATE],'Weekly Metrics'!N$5)))))))","v":24.397459774000001},{"$f":"IF($B10=\"Panel Sales\", SUMIFS(Weekly_Data_Raw[PANEL_AMOUNT],Weekly_Data_Raw[TICKER],'Weekly Metrics'!$A10,Weekly_Data_Raw[END_DATE],'Weekly Metrics'!O$5),IF($B10=\"Transactions\",SUMIFS(Weekly_Data_Raw[PANEL_TRANSACTIONS],Weekly_Data_Raw[TICKER],'Weekly Metrics'!$A10,Weekly_Data_Raw[END_DATE],'Weekly Metrics'!O$5), IF($B10=\"Avg Ticket\",SUMIFS(Weekly_Data_Raw[AVG_TICKET],Weekly_Data_Raw[TICKER],'Weekly Metrics'!$A10,Weekly_Data_Raw[END_DATE],'Weekly Metrics'!O$5), IF($B10=\"EOP Subscribers\",SUMIFS(Weekly_Data_Raw[EOP_SUBSCRIBERS],Weekly_Data_Raw[TICKER],'Weekly Metrics'!$A10,Weekly_Data_Raw[END_DATE],'Weekly Metrics'!O$5), IF($B10=\"Gross Adds\",SUMIFS(Weekly_Data_Raw[GROSS_ADDS],Weekly_Data_Raw[TICKER],'Weekly Metrics'!$A10,Weekly_Data_Raw[END_DATE],'Weekly Metrics'!O$5), IF($B10=\"Churn\",SUMIFS(Weekly_Data_Raw[CHURNED_MEMBERS],Weekly_Data_Raw[TICKER],'Weekly Metrics'!$A10,Weekly_Data_Raw[END_DATE],'Weekly Metrics'!O$5)))))))","v":24.248962465999998},{"$f":"IF($B10=\"Panel Sales\", SUMIFS(Weekly_Data_Raw[PANEL_AMOUNT],Weekly_Data_Raw[TICKER],'Weekly Metrics'!$A10,Weekly_Data_Raw[END_DATE],'Weekly Metrics'!P$5),IF($B10=\"Transactions\",SUMIFS(Weekly_Data_Raw[PANEL_TRANSACTIONS],Weekly_Data_Raw[TICKER],'Weekly Metrics'!$A10,Weekly_Data_Raw[END_DATE],'Weekly Metrics'!P$5), IF($B10=\"Avg Ticket\",SUMIFS(Weekly_Data_Raw[AVG_TICKET],Weekly_Data_Raw[TICKER],'Weekly Metrics'!$A10,Weekly_Data_Raw[END_DATE],'Weekly Metrics'!P$5), IF($B10=\"EOP Subscribers\",SUMIFS(Weekly_Data_Raw[EOP_SUBSCRIBERS],Weekly_Data_Raw[TICKER],'Weekly Metrics'!$A10,Weekly_Data_Raw[END_DATE],'Weekly Metrics'!P$5), IF($B10=\"Gross Adds\",SUMIFS(Weekly_Data_Raw[GROSS_ADDS],Weekly_Data_Raw[TICKER],'Weekly Metrics'!$A10,Weekly_Data_Raw[END_DATE],'Weekly Metrics'!P$5), IF($B10=\"Churn\",SUMIFS(Weekly_Data_Raw[CHURNED_MEMBERS],Weekly_Data_Raw[TICKER],'Weekly Metrics'!$A10,Weekly_Data_Raw[END_DATE],'Weekly Metrics'!P$5)))))))","v":25.027295055},{"$f":"IF($B10=\"Panel Sales\", SUMIFS(Weekly_Data_Raw[PANEL_AMOUNT],Weekly_Data_Raw[TICKER],'Weekly Metrics'!$A10,Weekly_Data_Raw[END_DATE],'Weekly Metrics'!Q$5),IF($B10=\"Transactions\",SUMIFS(Weekly_Data_Raw[PANEL_TRANSACTIONS],Weekly_Data_Raw[TICKER],'Weekly Metrics'!$A10,Weekly_Data_Raw[END_DATE],'Weekly Metrics'!Q$5), IF($B10=\"Avg Ticket\",SUMIFS(Weekly_Data_Raw[AVG_TICKET],Weekly_Data_Raw[TICKER],'Weekly Metrics'!$A10,Weekly_Data_Raw[END_DATE],'Weekly Metrics'!Q$5), IF($B10=\"EOP Subscribers\",SUMIFS(Weekly_Data_Raw[EOP_SUBSCRIBERS],Weekly_Data_Raw[TICKER],'Weekly Metrics'!$A10,Weekly_Data_Raw[END_DATE],'Weekly Metrics'!Q$5), IF($B10=\"Gross Adds\",SUMIFS(Weekly_Data_Raw[GROSS_ADDS],Weekly_Data_Raw[TICKER],'Weekly Metrics'!$A10,Weekly_Data_Raw[END_DATE],'Weekly Metrics'!Q$5), IF($B10=\"Churn\",SUMIFS(Weekly_Data_Raw[CHURNED_MEMBERS],Weekly_Data_Raw[TICKER],'Weekly Metrics'!$A10,Weekly_Data_Raw[END_DATE],'Weekly Metrics'!Q$5)))))))","v":25.111618365000002},{"$f":"IF($B10=\"Panel Sales\", SUMIFS(Weekly_Data_Raw[PANEL_AMOUNT],Weekly_Data_Raw[TICKER],'Weekly Metrics'!$A10,Weekly_Data_Raw[END_DATE],'Weekly Metrics'!R$5),IF($B10=\"Transactions\",SUMIFS(Weekly_Data_Raw[PANEL_TRANSACTIONS],Weekly_Data_Raw[TICKER],'Weekly Metrics'!$A10,Weekly_Data_Raw[END_DATE],'Weekly Metrics'!R$5), IF($B10=\"Avg Ticket\",SUMIFS(Weekly_Data_Raw[AVG_TICKET],Weekly_Data_Raw[TICKER],'Weekly Metrics'!$A10,Weekly_Data_Raw[END_DATE],'Weekly Metrics'!R$5), IF($B10=\"EOP Subscribers\",SUMIFS(Weekly_Data_Raw[EOP_SUBSCRIBERS],Weekly_Data_Raw[TICKER],'Weekly Metrics'!$A10,Weekly_Data_Raw[END_DATE],'Weekly Metrics'!R$5), IF($B10=\"Gross Adds\",SUMIFS(Weekly_Data_Raw[GROSS_ADDS],Weekly_Data_Raw[TICKER],'Weekly Metrics'!$A10,Weekly_Data_Raw[END_DATE],'Weekly Metrics'!R$5), IF($B10=\"Churn\",SUMIFS(Weekly_Data_Raw[CHURNED_MEMBERS],Weekly_Data_Raw[TICKER],'Weekly Metrics'!$A10,Weekly_Data_Raw[END_DATE],'Weekly Metrics'!R$5)))))))","v":24.832905178000001},{"$f":"IF($B10=\"Panel Sales\", SUMIFS(Weekly_Data_Raw[PANEL_AMOUNT],Weekly_Data_Raw[TICKER],'Weekly Metrics'!$A10,Weekly_Data_Raw[END_DATE],'Weekly Metrics'!S$5),IF($B10=\"Transactions\",SUMIFS(Weekly_Data_Raw[PANEL_TRANSACTIONS],Weekly_Data_Raw[TICKER],'Weekly Metrics'!$A10,Weekly_Data_Raw[END_DATE],'Weekly Metrics'!S$5), IF($B10=\"Avg Ticket\",SUMIFS(Weekly_Data_Raw[AVG_TICKET],Weekly_Data_Raw[TICKER],'Weekly Metrics'!$A10,Weekly_Data_Raw[END_DATE],'Weekly Metrics'!S$5), IF($B10=\"EOP Subscribers\",SUMIFS(Weekly_Data_Raw[EOP_SUBSCRIBERS],Weekly_Data_Raw[TICKER],'Weekly Metrics'!$A10,Weekly_Data_Raw[END_DATE],'Weekly Metrics'!S$5), IF($B10=\"Gross Adds\",SUMIFS(Weekly_Data_Raw[GROSS_ADDS],Weekly_Data_Raw[TICKER],'Weekly Metrics'!$A10,Weekly_Data_Raw[END_DATE],'Weekly Metrics'!S$5), IF($B10=\"Churn\",SUMIFS(Weekly_Data_Raw[CHURNED_MEMBERS],Weekly_Data_Raw[TICKER],'Weekly Metrics'!$A10,Weekly_Data_Raw[END_DATE],'Weekly Metrics'!S$5)))))))","v":24.674117252999999},{"$f":"IF($B10=\"Panel Sales\", SUMIFS(Weekly_Data_Raw[PANEL_AMOUNT],Weekly_Data_Raw[TICKER],'Weekly Metrics'!$A10,Weekly_Data_Raw[END_DATE],'Weekly Metrics'!T$5),IF($B10=\"Transactions\",SUMIFS(Weekly_Data_Raw[PANEL_TRANSACTIONS],Weekly_Data_Raw[TICKER],'Weekly Metrics'!$A10,Weekly_Data_Raw[END_DATE],'Weekly Metrics'!T$5), IF($B10=\"Avg Ticket\",SUMIFS(Weekly_Data_Raw[AVG_TICKET],Weekly_Data_Raw[TICKER],'Weekly Metrics'!$A10,Weekly_Data_Raw[END_DATE],'Weekly Metrics'!T$5), IF($B10=\"EOP Subscribers\",SUMIFS(Weekly_Data_Raw[EOP_SUBSCRIBERS],Weekly_Data_Raw[TICKER],'Weekly Metrics'!$A10,Weekly_Data_Raw[END_DATE],'Weekly Metrics'!T$5), IF($B10=\"Gross Adds\",SUMIFS(Weekly_Data_Raw[GROSS_ADDS],Weekly_Data_Raw[TICKER],'Weekly Metrics'!$A10,Weekly_Data_Raw[END_DATE],'Weekly Metrics'!T$5), IF($B10=\"Churn\",SUMIFS(Weekly_Data_Raw[CHURNED_MEMBERS],Weekly_Data_Raw[TICKER],'Weekly Metrics'!$A10,Weekly_Data_Raw[END_DATE],'Weekly Metrics'!T$5)))))))","v":24.584928131000002},{"$f":"IF($B10=\"Panel Sales\", SUMIFS(Weekly_Data_Raw[PANEL_AMOUNT],Weekly_Data_Raw[TICKER],'Weekly Metrics'!$A10,Weekly_Data_Raw[END_DATE],'Weekly Metrics'!U$5),IF($B10=\"Transactions\",SUMIFS(Weekly_Data_Raw[PANEL_TRANSACTIONS],Weekly_Data_Raw[TICKER],'Weekly Metrics'!$A10,Weekly_Data_Raw[END_DATE],'Weekly Metrics'!U$5), IF($B10=\"Avg Ticket\",SUMIFS(Weekly_Data_Raw[AVG_TICKET],Weekly_Data_Raw[TICKER],'Weekly Metrics'!$A10,Weekly_Data_Raw[END_DATE],'Weekly Metrics'!U$5), IF($B10=\"EOP Subscribers\",SUMIFS(Weekly_Data_Raw[EOP_SUBSCRIBERS],Weekly_Data_Raw[TICKER],'Weekly Metrics'!$A10,Weekly_Data_Raw[END_DATE],'Weekly Metrics'!U$5), IF($B10=\"Gross Adds\",SUMIFS(Weekly_Data_Raw[GROSS_ADDS],Weekly_Data_Raw[TICKER],'Weekly Metrics'!$A10,Weekly_Data_Raw[END_DATE],'Weekly Metrics'!U$5), IF($B10=\"Churn\",SUMIFS(Weekly_Data_Raw[CHURNED_MEMBERS],Weekly_Data_Raw[TICKER],'Weekly Metrics'!$A10,Weekly_Data_Raw[END_DATE],'Weekly Metrics'!U$5)))))))","v":25.526030834},{"$f":"IF($B10=\"Panel Sales\", SUMIFS(Weekly_Data_Raw[PANEL_AMOUNT],Weekly_Data_Raw[TICKER],'Weekly Metrics'!$A10,Weekly_Data_Raw[END_DATE],'Weekly Metrics'!V$5),IF($B10=\"Transactions\",SUMIFS(Weekly_Data_Raw[PANEL_TRANSACTIONS],Weekly_Data_Raw[TICKER],'Weekly Metrics'!$A10,Weekly_Data_Raw[END_DATE],'Weekly Metrics'!V$5), IF($B10=\"Avg Ticket\",SUMIFS(Weekly_Data_Raw[AVG_TICKET],Weekly_Data_Raw[TICKER],'Weekly Metrics'!$A10,Weekly_Data_Raw[END_DATE],'Weekly Metrics'!V$5), IF($B10=\"EOP Subscribers\",SUMIFS(Weekly_Data_Raw[EOP_SUBSCRIBERS],Weekly_Data_Raw[TICKER],'Weekly Metrics'!$A10,Weekly_Data_Raw[END_DATE],'Weekly Metrics'!V$5), IF($B10=\"Gross Adds\",SUMIFS(Weekly_Data_Raw[GROSS_ADDS],Weekly_Data_Raw[TICKER],'Weekly Metrics'!$A10,Weekly_Data_Raw[END_DATE],'Weekly Metrics'!V$5), IF($B10=\"Churn\",SUMIFS(Weekly_Data_Raw[CHURNED_MEMBERS],Weekly_Data_Raw[TICKER],'Weekly Metrics'!$A10,Weekly_Data_Raw[END_DATE],'Weekly Metrics'!V$5)))))))","v":25.291799477000001},{"$f":"IF($B10=\"Panel Sales\", SUMIFS(Weekly_Data_Raw[PANEL_AMOUNT],Weekly_Data_Raw[TICKER],'Weekly Metrics'!$A10,Weekly_Data_Raw[END_DATE],'Weekly Metrics'!W$5),IF($B10=\"Transactions\",SUMIFS(Weekly_Data_Raw[PANEL_TRANSACTIONS],Weekly_Data_Raw[TICKER],'Weekly Metrics'!$A10,Weekly_Data_Raw[END_DATE],'Weekly Metrics'!W$5), IF($B10=\"Avg Ticket\",SUMIFS(Weekly_Data_Raw[AVG_TICKET],Weekly_Data_Raw[TICKER],'Weekly Metrics'!$A10,Weekly_Data_Raw[END_DATE],'Weekly Metrics'!W$5), IF($B10=\"EOP Subscribers\",SUMIFS(Weekly_Data_Raw[EOP_SUBSCRIBERS],Weekly_Data_Raw[TICKER],'Weekly Metrics'!$A10,Weekly_Data_Raw[END_DATE],'Weekly Metrics'!W$5), IF($B10=\"Gross Adds\",SUMIFS(Weekly_Data_Raw[GROSS_ADDS],Weekly_Data_Raw[TICKER],'Weekly Metrics'!$A10,Weekly_Data_Raw[END_DATE],'Weekly Metrics'!W$5), IF($B10=\"Churn\",SUMIFS(Weekly_Data_Raw[CHURNED_MEMBERS],Weekly_Data_Raw[TICKER],'Weekly Metrics'!$A10,Weekly_Data_Raw[END_DATE],'Weekly Metrics'!W$5)))))))","v":24.528484433999999},{"$f":"IF($B10=\"Panel Sales\", SUMIFS(Weekly_Data_Raw[PANEL_AMOUNT],Weekly_Data_Raw[TICKER],'Weekly Metrics'!$A10,Weekly_Data_Raw[END_DATE],'Weekly Metrics'!X$5),IF($B10=\"Transactions\",SUMIFS(Weekly_Data_Raw[PANEL_TRANSACTIONS],Weekly_Data_Raw[TICKER],'Weekly Metrics'!$A10,Weekly_Data_Raw[END_DATE],'Weekly Metrics'!X$5), IF($B10=\"Avg Ticket\",SUMIFS(Weekly_Data_Raw[AVG_TICKET],Weekly_Data_Raw[TICKER],'Weekly Metrics'!$A10,Weekly_Data_Raw[END_DATE],'Weekly Metrics'!X$5), IF($B10=\"EOP Subscribers\",SUMIFS(Weekly_Data_Raw[EOP_SUBSCRIBERS],Weekly_Data_Raw[TICKER],'Weekly Metrics'!$A10,Weekly_Data_Raw[END_DATE],'Weekly Metrics'!X$5), IF($B10=\"Gross Adds\",SUMIFS(Weekly_Data_Raw[GROSS_ADDS],Weekly_Data_Raw[TICKER],'Weekly Metrics'!$A10,Weekly_Data_Raw[END_DATE],'Weekly Metrics'!X$5), IF($B10=\"Churn\",SUMIFS(Weekly_Data_Raw[CHURNED_MEMBERS],Weekly_Data_Raw[TICKER],'Weekly Metrics'!$A10,Weekly_Data_Raw[END_DATE],'Weekly Metrics'!X$5)))))))","v":24.45534361},{"$f":"IF($B10=\"Panel Sales\", SUMIFS(Weekly_Data_Raw[PANEL_AMOUNT],Weekly_Data_Raw[TICKER],'Weekly Metrics'!$A10,Weekly_Data_Raw[END_DATE],'Weekly Metrics'!Y$5),IF($B10=\"Transactions\",SUMIFS(Weekly_Data_Raw[PANEL_TRANSACTIONS],Weekly_Data_Raw[TICKER],'Weekly Metrics'!$A10,Weekly_Data_Raw[END_DATE],'Weekly Metrics'!Y$5), IF($B10=\"Avg Ticket\",SUMIFS(Weekly_Data_Raw[AVG_TICKET],Weekly_Data_Raw[TICKER],'Weekly Metrics'!$A10,Weekly_Data_Raw[END_DATE],'Weekly Metrics'!Y$5), IF($B10=\"EOP Subscribers\",SUMIFS(Weekly_Data_Raw[EOP_SUBSCRIBERS],Weekly_Data_Raw[TICKER],'Weekly Metrics'!$A10,Weekly_Data_Raw[END_DATE],'Weekly Metrics'!Y$5), IF($B10=\"Gross Adds\",SUMIFS(Weekly_Data_Raw[GROSS_ADDS],Weekly_Data_Raw[TICKER],'Weekly Metrics'!$A10,Weekly_Data_Raw[END_DATE],'Weekly Metrics'!Y$5), IF($B10=\"Churn\",SUMIFS(Weekly_Data_Raw[CHURNED_MEMBERS],Weekly_Data_Raw[TICKER],'Weekly Metrics'!$A10,Weekly_Data_Raw[END_DATE],'Weekly Metrics'!Y$5)))))))","v":25.104957746},{"$f":"IF($B10=\"Panel Sales\", SUMIFS(Weekly_Data_Raw[PANEL_AMOUNT],Weekly_Data_Raw[TICKER],'Weekly Metrics'!$A10,Weekly_Data_Raw[END_DATE],'Weekly Metrics'!Z$5),IF($B10=\"Transactions\",SUMIFS(Weekly_Data_Raw[PANEL_TRANSACTIONS],Weekly_Data_Raw[TICKER],'Weekly Metrics'!$A10,Weekly_Data_Raw[END_DATE],'Weekly Metrics'!Z$5), IF($B10=\"Avg Ticket\",SUMIFS(Weekly_Data_Raw[AVG_TICKET],Weekly_Data_Raw[TICKER],'Weekly Metrics'!$A10,Weekly_Data_Raw[END_DATE],'Weekly Metrics'!Z$5), IF($B10=\"EOP Subscribers\",SUMIFS(Weekly_Data_Raw[EOP_SUBSCRIBERS],Weekly_Data_Raw[TICKER],'Weekly Metrics'!$A10,Weekly_Data_Raw[END_DATE],'Weekly Metrics'!Z$5), IF($B10=\"Gross Adds\",SUMIFS(Weekly_Data_Raw[GROSS_ADDS],Weekly_Data_Raw[TICKER],'Weekly Metrics'!$A10,Weekly_Data_Raw[END_DATE],'Weekly Metrics'!Z$5), IF($B10=\"Churn\",SUMIFS(Weekly_Data_Raw[CHURNED_MEMBERS],Weekly_Data_Raw[TICKER],'Weekly Metrics'!$A10,Weekly_Data_Raw[END_DATE],'Weekly Metrics'!Z$5)))))))","v":25.369821841},{"$f":"IF($B10=\"Panel Sales\", SUMIFS(Weekly_Data_Raw[PANEL_AMOUNT],Weekly_Data_Raw[TICKER],'Weekly Metrics'!$A10,Weekly_Data_Raw[END_DATE],'Weekly Metrics'!AA$5),IF($B10=\"Transactions\",SUMIFS(Weekly_Data_Raw[PANEL_TRANSACTIONS],Weekly_Data_Raw[TICKER],'Weekly Metrics'!$A10,Weekly_Data_Raw[END_DATE],'Weekly Metrics'!AA$5), IF($B10=\"Avg Ticket\",SUMIFS(Weekly_Data_Raw[AVG_TICKET],Weekly_Data_Raw[TICKER],'Weekly Metrics'!$A10,Weekly_Data_Raw[END_DATE],'Weekly Metrics'!AA$5), IF($B10=\"EOP Subscribers\",SUMIFS(Weekly_Data_Raw[EOP_SUBSCRIBERS],Weekly_Data_Raw[TICKER],'Weekly Metrics'!$A10,Weekly_Data_Raw[END_DATE],'Weekly Metrics'!AA$5), IF($B10=\"Gross Adds\",SUMIFS(Weekly_Data_Raw[GROSS_ADDS],Weekly_Data_Raw[TICKER],'Weekly Metrics'!$A10,Weekly_Data_Raw[END_DATE],'Weekly Metrics'!AA$5), IF($B10=\"Churn\",SUMIFS(Weekly_Data_Raw[CHURNED_MEMBERS],Weekly_Data_Raw[TICKER],'Weekly Metrics'!$A10,Weekly_Data_Raw[END_DATE],'Weekly Metrics'!AA$5)))))))","v":24.679088426},{"$f":"IF($B10=\"Panel Sales\", SUMIFS(Weekly_Data_Raw[PANEL_AMOUNT],Weekly_Data_Raw[TICKER],'Weekly Metrics'!$A10,Weekly_Data_Raw[END_DATE],'Weekly Metrics'!AB$5),IF($B10=\"Transactions\",SUMIFS(Weekly_Data_Raw[PANEL_TRANSACTIONS],Weekly_Data_Raw[TICKER],'Weekly Metrics'!$A10,Weekly_Data_Raw[END_DATE],'Weekly Metrics'!AB$5), IF($B10=\"Avg Ticket\",SUMIFS(Weekly_Data_Raw[AVG_TICKET],Weekly_Data_Raw[TICKER],'Weekly Metrics'!$A10,Weekly_Data_Raw[END_DATE],'Weekly Metrics'!AB$5), IF($B10=\"EOP Subscribers\",SUMIFS(Weekly_Data_Raw[EOP_SUBSCRIBERS],Weekly_Data_Raw[TICKER],'Weekly Metrics'!$A10,Weekly_Data_Raw[END_DATE],'Weekly Metrics'!AB$5), IF($B10=\"Gross Adds\",SUMIFS(Weekly_Data_Raw[GROSS_ADDS],Weekly_Data_Raw[TICKER],'Weekly Metrics'!$A10,Weekly_Data_Raw[END_DATE],'Weekly Metrics'!AB$5), IF($B10=\"Churn\",SUMIFS(Weekly_Data_Raw[CHURNED_MEMBERS],Weekly_Data_Raw[TICKER],'Weekly Metrics'!$A10,Weekly_Data_Raw[END_DATE],'Weekly Metrics'!AB$5)))))))","v":24.423103116},{"$f":"IF($B10=\"Panel Sales\", SUMIFS(Weekly_Data_Raw[PANEL_AMOUNT],Weekly_Data_Raw[TICKER],'Weekly Metrics'!$A10,Weekly_Data_Raw[END_DATE],'Weekly Metrics'!AC$5),IF($B10=\"Transactions\",SUMIFS(Weekly_Data_Raw[PANEL_TRANSACTIONS],Weekly_Data_Raw[TICKER],'Weekly Metrics'!$A10,Weekly_Data_Raw[END_DATE],'Weekly Metrics'!AC$5), IF($B10=\"Avg Ticket\",SUMIFS(Weekly_Data_Raw[AVG_TICKET],Weekly_Data_Raw[TICKER],'Weekly Metrics'!$A10,Weekly_Data_Raw[END_DATE],'Weekly Metrics'!AC$5), IF($B10=\"EOP Subscribers\",SUMIFS(Weekly_Data_Raw[EOP_SUBSCRIBERS],Weekly_Data_Raw[TICKER],'Weekly Metrics'!$A10,Weekly_Data_Raw[END_DATE],'Weekly Metrics'!AC$5), IF($B10=\"Gross Adds\",SUMIFS(Weekly_Data_Raw[GROSS_ADDS],Weekly_Data_Raw[TICKER],'Weekly Metrics'!$A10,Weekly_Data_Raw[END_DATE],'Weekly Metrics'!AC$5), IF($B10=\"Churn\",SUMIFS(Weekly_Data_Raw[CHURNED_MEMBERS],Weekly_Data_Raw[TICKER],'Weekly Metrics'!$A10,Weekly_Data_Raw[END_DATE],'Weekly Metrics'!AC$5)))))))","v":24.664624393},{"$f":"IF($B10=\"Panel Sales\", SUMIFS(Weekly_Data_Raw[PANEL_AMOUNT],Weekly_Data_Raw[TICKER],'Weekly Metrics'!$A10,Weekly_Data_Raw[END_DATE],'Weekly Metrics'!AD$5),IF($B10=\"Transactions\",SUMIFS(Weekly_Data_Raw[PANEL_TRANSACTIONS],Weekly_Data_Raw[TICKER],'Weekly Metrics'!$A10,Weekly_Data_Raw[END_DATE],'Weekly Metrics'!AD$5), IF($B10=\"Avg Ticket\",SUMIFS(Weekly_Data_Raw[AVG_TICKET],Weekly_Data_Raw[TICKER],'Weekly Metrics'!$A10,Weekly_Data_Raw[END_DATE],'Weekly Metrics'!AD$5), IF($B10=\"EOP Subscribers\",SUMIFS(Weekly_Data_Raw[EOP_SUBSCRIBERS],Weekly_Data_Raw[TICKER],'Weekly Metrics'!$A10,Weekly_Data_Raw[END_DATE],'Weekly Metrics'!AD$5), IF($B10=\"Gross Adds\",SUMIFS(Weekly_Data_Raw[GROSS_ADDS],Weekly_Data_Raw[TICKER],'Weekly Metrics'!$A10,Weekly_Data_Raw[END_DATE],'Weekly Metrics'!AD$5), IF($B10=\"Churn\",SUMIFS(Weekly_Data_Raw[CHURNED_MEMBERS],Weekly_Data_Raw[TICKER],'Weekly Metrics'!$A10,Weekly_Data_Raw[END_DATE],'Weekly Metrics'!AD$5)))))))","v":25.755452045999998},{"$f":"IF($B10=\"Panel Sales\", SUMIFS(Weekly_Data_Raw[PANEL_AMOUNT],Weekly_Data_Raw[TICKER],'Weekly Metrics'!$A10,Weekly_Data_Raw[END_DATE],'Weekly Metrics'!AE$5),IF($B10=\"Transactions\",SUMIFS(Weekly_Data_Raw[PANEL_TRANSACTIONS],Weekly_Data_Raw[TICKER],'Weekly Metrics'!$A10,Weekly_Data_Raw[END_DATE],'Weekly Metrics'!AE$5), IF($B10=\"Avg Ticket\",SUMIFS(Weekly_Data_Raw[AVG_TICKET],Weekly_Data_Raw[TICKER],'Weekly Metrics'!$A10,Weekly_Data_Raw[END_DATE],'Weekly Metrics'!AE$5), IF($B10=\"EOP Subscribers\",SUMIFS(Weekly_Data_Raw[EOP_SUBSCRIBERS],Weekly_Data_Raw[TICKER],'Weekly Metrics'!$A10,Weekly_Data_Raw[END_DATE],'Weekly Metrics'!AE$5), IF($B10=\"Gross Adds\",SUMIFS(Weekly_Data_Raw[GROSS_ADDS],Weekly_Data_Raw[TICKER],'Weekly Metrics'!$A10,Weekly_Data_Raw[END_DATE],'Weekly Metrics'!AE$5), IF($B10=\"Churn\",SUMIFS(Weekly_Data_Raw[CHURNED_MEMBERS],Weekly_Data_Raw[TICKER],'Weekly Metrics'!$A10,Weekly_Data_Raw[END_DATE],'Weekly Metrics'!AE$5)))))))","v":24.962486263999999},{"$f":"IF($B10=\"Panel Sales\", SUMIFS(Weekly_Data_Raw[PANEL_AMOUNT],Weekly_Data_Raw[TICKER],'Weekly Metrics'!$A10,Weekly_Data_Raw[END_DATE],'Weekly Metrics'!AF$5),IF($B10=\"Transactions\",SUMIFS(Weekly_Data_Raw[PANEL_TRANSACTIONS],Weekly_Data_Raw[TICKER],'Weekly Metrics'!$A10,Weekly_Data_Raw[END_DATE],'Weekly Metrics'!AF$5), IF($B10=\"Avg Ticket\",SUMIFS(Weekly_Data_Raw[AVG_TICKET],Weekly_Data_Raw[TICKER],'Weekly Metrics'!$A10,Weekly_Data_Raw[END_DATE],'Weekly Metrics'!AF$5), IF($B10=\"EOP Subscribers\",SUMIFS(Weekly_Data_Raw[EOP_SUBSCRIBERS],Weekly_Data_Raw[TICKER],'Weekly Metrics'!$A10,Weekly_Data_Raw[END_DATE],'Weekly Metrics'!AF$5), IF($B10=\"Gross Adds\",SUMIFS(Weekly_Data_Raw[GROSS_ADDS],Weekly_Data_Raw[TICKER],'Weekly Metrics'!$A10,Weekly_Data_Raw[END_DATE],'Weekly Metrics'!AF$5), IF($B10=\"Churn\",SUMIFS(Weekly_Data_Raw[CHURNED_MEMBERS],Weekly_Data_Raw[TICKER],'Weekly Metrics'!$A10,Weekly_Data_Raw[END_DATE],'Weekly Metrics'!AF$5)))))))","v":24.465466714000002},{"$f":"IF($B10=\"Panel Sales\", SUMIFS(Weekly_Data_Raw[PANEL_AMOUNT],Weekly_Data_Raw[TICKER],'Weekly Metrics'!$A10,Weekly_Data_Raw[END_DATE],'Weekly Metrics'!AG$5),IF($B10=\"Transactions\",SUMIFS(Weekly_Data_Raw[PANEL_TRANSACTIONS],Weekly_Data_Raw[TICKER],'Weekly Metrics'!$A10,Weekly_Data_Raw[END_DATE],'Weekly Metrics'!AG$5), IF($B10=\"Avg Ticket\",SUMIFS(Weekly_Data_Raw[AVG_TICKET],Weekly_Data_Raw[TICKER],'Weekly Metrics'!$A10,Weekly_Data_Raw[END_DATE],'Weekly Metrics'!AG$5), IF($B10=\"EOP Subscribers\",SUMIFS(Weekly_Data_Raw[EOP_SUBSCRIBERS],Weekly_Data_Raw[TICKER],'Weekly Metrics'!$A10,Weekly_Data_Raw[END_DATE],'Weekly Metrics'!AG$5), IF($B10=\"Gross Adds\",SUMIFS(Weekly_Data_Raw[GROSS_ADDS],Weekly_Data_Raw[TICKER],'Weekly Metrics'!$A10,Weekly_Data_Raw[END_DATE],'Weekly Metrics'!AG$5), IF($B10=\"Churn\",SUMIFS(Weekly_Data_Raw[CHURNED_MEMBERS],Weekly_Data_Raw[TICKER],'Weekly Metrics'!$A10,Weekly_Data_Raw[END_DATE],'Weekly Metrics'!AG$5)))))))","v":24.647474783},{"$f":"IF($B10=\"Panel Sales\", SUMIFS(Weekly_Data_Raw[PANEL_AMOUNT],Weekly_Data_Raw[TICKER],'Weekly Metrics'!$A10,Weekly_Data_Raw[END_DATE],'Weekly Metrics'!AH$5),IF($B10=\"Transactions\",SUMIFS(Weekly_Data_Raw[PANEL_TRANSACTIONS],Weekly_Data_Raw[TICKER],'Weekly Metrics'!$A10,Weekly_Data_Raw[END_DATE],'Weekly Metrics'!AH$5), IF($B10=\"Avg Ticket\",SUMIFS(Weekly_Data_Raw[AVG_TICKET],Weekly_Data_Raw[TICKER],'Weekly Metrics'!$A10,Weekly_Data_Raw[END_DATE],'Weekly Metrics'!AH$5), IF($B10=\"EOP Subscribers\",SUMIFS(Weekly_Data_Raw[EOP_SUBSCRIBERS],Weekly_Data_Raw[TICKER],'Weekly Metrics'!$A10,Weekly_Data_Raw[END_DATE],'Weekly Metrics'!AH$5), IF($B10=\"Gross Adds\",SUMIFS(Weekly_Data_Raw[GROSS_ADDS],Weekly_Data_Raw[TICKER],'Weekly Metrics'!$A10,Weekly_Data_Raw[END_DATE],'Weekly Metrics'!AH$5), IF($B10=\"Churn\",SUMIFS(Weekly_Data_Raw[CHURNED_MEMBERS],Weekly_Data_Raw[TICKER],'Weekly Metrics'!$A10,Weekly_Data_Raw[END_DATE],'Weekly Metrics'!AH$5)))))))","v":24.744844552},{"$f":"IF($B10=\"Panel Sales\", SUMIFS(Weekly_Data_Raw[PANEL_AMOUNT],Weekly_Data_Raw[TICKER],'Weekly Metrics'!$A10,Weekly_Data_Raw[END_DATE],'Weekly Metrics'!AI$5),IF($B10=\"Transactions\",SUMIFS(Weekly_Data_Raw[PANEL_TRANSACTIONS],Weekly_Data_Raw[TICKER],'Weekly Metrics'!$A10,Weekly_Data_Raw[END_DATE],'Weekly Metrics'!AI$5), IF($B10=\"Avg Ticket\",SUMIFS(Weekly_Data_Raw[AVG_TICKET],Weekly_Data_Raw[TICKER],'Weekly Metrics'!$A10,Weekly_Data_Raw[END_DATE],'Weekly Metrics'!AI$5), IF($B10=\"EOP Subscribers\",SUMIFS(Weekly_Data_Raw[EOP_SUBSCRIBERS],Weekly_Data_Raw[TICKER],'Weekly Metrics'!$A10,Weekly_Data_Raw[END_DATE],'Weekly Metrics'!AI$5), IF($B10=\"Gross Adds\",SUMIFS(Weekly_Data_Raw[GROSS_ADDS],Weekly_Data_Raw[TICKER],'Weekly Metrics'!$A10,Weekly_Data_Raw[END_DATE],'Weekly Metrics'!AI$5), IF($B10=\"Churn\",SUMIFS(Weekly_Data_Raw[CHURNED_MEMBERS],Weekly_Data_Raw[TICKER],'Weekly Metrics'!$A10,Weekly_Data_Raw[END_DATE],'Weekly Metrics'!AI$5)))))))","v":24.985995813999999},{"$f":"IF($B10=\"Panel Sales\", SUMIFS(Weekly_Data_Raw[PANEL_AMOUNT],Weekly_Data_Raw[TICKER],'Weekly Metrics'!$A10,Weekly_Data_Raw[END_DATE],'Weekly Metrics'!AJ$5),IF($B10=\"Transactions\",SUMIFS(Weekly_Data_Raw[PANEL_TRANSACTIONS],Weekly_Data_Raw[TICKER],'Weekly Metrics'!$A10,Weekly_Data_Raw[END_DATE],'Weekly Metrics'!AJ$5), IF($B10=\"Avg Ticket\",SUMIFS(Weekly_Data_Raw[AVG_TICKET],Weekly_Data_Raw[TICKER],'Weekly Metrics'!$A10,Weekly_Data_Raw[END_DATE],'Weekly Metrics'!AJ$5), IF($B10=\"EOP Subscribers\",SUMIFS(Weekly_Data_Raw[EOP_SUBSCRIBERS],Weekly_Data_Raw[TICKER],'Weekly Metrics'!$A10,Weekly_Data_Raw[END_DATE],'Weekly Metrics'!AJ$5), IF($B10=\"Gross Adds\",SUMIFS(Weekly_Data_Raw[GROSS_ADDS],Weekly_Data_Raw[TICKER],'Weekly Metrics'!$A10,Weekly_Data_Raw[END_DATE],'Weekly Metrics'!AJ$5), IF($B10=\"Churn\",SUMIFS(Weekly_Data_Raw[CHURNED_MEMBERS],Weekly_Data_Raw[TICKER],'Weekly Metrics'!$A10,Weekly_Data_Raw[END_DATE],'Weekly Metrics'!AJ$5)))))))","v":24.583583016999999},{"$f":"IF($B10=\"Panel Sales\", SUMIFS(Weekly_Data_Raw[PANEL_AMOUNT],Weekly_Data_Raw[TICKER],'Weekly Metrics'!$A10,Weekly_Data_Raw[END_DATE],'Weekly Metrics'!AK$5),IF($B10=\"Transactions\",SUMIFS(Weekly_Data_Raw[PANEL_TRANSACTIONS],Weekly_Data_Raw[TICKER],'Weekly Metrics'!$A10,Weekly_Data_Raw[END_DATE],'Weekly Metrics'!AK$5), IF($B10=\"Avg Ticket\",SUMIFS(Weekly_Data_Raw[AVG_TICKET],Weekly_Data_Raw[TICKER],'Weekly Metrics'!$A10,Weekly_Data_Raw[END_DATE],'Weekly Metrics'!AK$5), IF($B10=\"EOP Subscribers\",SUMIFS(Weekly_Data_Raw[EOP_SUBSCRIBERS],Weekly_Data_Raw[TICKER],'Weekly Metrics'!$A10,Weekly_Data_Raw[END_DATE],'Weekly Metrics'!AK$5), IF($B10=\"Gross Adds\",SUMIFS(Weekly_Data_Raw[GROSS_ADDS],Weekly_Data_Raw[TICKER],'Weekly Metrics'!$A10,Weekly_Data_Raw[END_DATE],'Weekly Metrics'!AK$5), IF($B10=\"Churn\",SUMIFS(Weekly_Data_Raw[CHURNED_MEMBERS],Weekly_Data_Raw[TICKER],'Weekly Metrics'!$A10,Weekly_Data_Raw[END_DATE],'Weekly Metrics'!AK$5)))))))","v":24.524619743999999},{"$f":"IF($B10=\"Panel Sales\", SUMIFS(Weekly_Data_Raw[PANEL_AMOUNT],Weekly_Data_Raw[TICKER],'Weekly Metrics'!$A10,Weekly_Data_Raw[END_DATE],'Weekly Metrics'!AL$5),IF($B10=\"Transactions\",SUMIFS(Weekly_Data_Raw[PANEL_TRANSACTIONS],Weekly_Data_Raw[TICKER],'Weekly Metrics'!$A10,Weekly_Data_Raw[END_DATE],'Weekly Metrics'!AL$5), IF($B10=\"Avg Ticket\",SUMIFS(Weekly_Data_Raw[AVG_TICKET],Weekly_Data_Raw[TICKER],'Weekly Metrics'!$A10,Weekly_Data_Raw[END_DATE],'Weekly Metrics'!AL$5), IF($B10=\"EOP Subscribers\",SUMIFS(Weekly_Data_Raw[EOP_SUBSCRIBERS],Weekly_Data_Raw[TICKER],'Weekly Metrics'!$A10,Weekly_Data_Raw[END_DATE],'Weekly Metrics'!AL$5), IF($B10=\"Gross Adds\",SUMIFS(Weekly_Data_Raw[GROSS_ADDS],Weekly_Data_Raw[TICKER],'Weekly Metrics'!$A10,Weekly_Data_Raw[END_DATE],'Weekly Metrics'!AL$5), IF($B10=\"Churn\",SUMIFS(Weekly_Data_Raw[CHURNED_MEMBERS],Weekly_Data_Raw[TICKER],'Weekly Metrics'!$A10,Weekly_Data_Raw[END_DATE],'Weekly Metrics'!AL$5)))))))","v":24.700519436},{"$f":"IF($B10=\"Panel Sales\", SUMIFS(Weekly_Data_Raw[PANEL_AMOUNT],Weekly_Data_Raw[TICKER],'Weekly Metrics'!$A10,Weekly_Data_Raw[END_DATE],'Weekly Metrics'!AM$5),IF($B10=\"Transactions\",SUMIFS(Weekly_Data_Raw[PANEL_TRANSACTIONS],Weekly_Data_Raw[TICKER],'Weekly Metrics'!$A10,Weekly_Data_Raw[END_DATE],'Weekly Metrics'!AM$5), IF($B10=\"Avg Ticket\",SUMIFS(Weekly_Data_Raw[AVG_TICKET],Weekly_Data_Raw[TICKER],'Weekly Metrics'!$A10,Weekly_Data_Raw[END_DATE],'Weekly Metrics'!AM$5), IF($B10=\"EOP Subscribers\",SUMIFS(Weekly_Data_Raw[EOP_SUBSCRIBERS],Weekly_Data_Raw[TICKER],'Weekly Metrics'!$A10,Weekly_Data_Raw[END_DATE],'Weekly Metrics'!AM$5), IF($B10=\"Gross Adds\",SUMIFS(Weekly_Data_Raw[GROSS_ADDS],Weekly_Data_Raw[TICKER],'Weekly Metrics'!$A10,Weekly_Data_Raw[END_DATE],'Weekly Metrics'!AM$5), IF($B10=\"Churn\",SUMIFS(Weekly_Data_Raw[CHURNED_MEMBERS],Weekly_Data_Raw[TICKER],'Weekly Metrics'!$A10,Weekly_Data_Raw[END_DATE],'Weekly Metrics'!AM$5)))))))","v":24.933084204},{"$f":"IF($B10=\"Panel Sales\", SUMIFS(Weekly_Data_Raw[PANEL_AMOUNT],Weekly_Data_Raw[TICKER],'Weekly Metrics'!$A10,Weekly_Data_Raw[END_DATE],'Weekly Metrics'!AN$5),IF($B10=\"Transactions\",SUMIFS(Weekly_Data_Raw[PANEL_TRANSACTIONS],Weekly_Data_Raw[TICKER],'Weekly Metrics'!$A10,Weekly_Data_Raw[END_DATE],'Weekly Metrics'!AN$5), IF($B10=\"Avg Ticket\",SUMIFS(Weekly_Data_Raw[AVG_TICKET],Weekly_Data_Raw[TICKER],'Weekly Metrics'!$A10,Weekly_Data_Raw[END_DATE],'Weekly Metrics'!AN$5), IF($B10=\"EOP Subscribers\",SUMIFS(Weekly_Data_Raw[EOP_SUBSCRIBERS],Weekly_Data_Raw[TICKER],'Weekly Metrics'!$A10,Weekly_Data_Raw[END_DATE],'Weekly Metrics'!AN$5), IF($B10=\"Gross Adds\",SUMIFS(Weekly_Data_Raw[GROSS_ADDS],Weekly_Data_Raw[TICKER],'Weekly Metrics'!$A10,Weekly_Data_Raw[END_DATE],'Weekly Metrics'!AN$5), IF($B10=\"Churn\",SUMIFS(Weekly_Data_Raw[CHURNED_MEMBERS],Weekly_Data_Raw[TICKER],'Weekly Metrics'!$A10,Weekly_Data_Raw[END_DATE],'Weekly Metrics'!AN$5)))))))","v":24.545082084000001},{"$f":"IF($B10=\"Panel Sales\", SUMIFS(Weekly_Data_Raw[PANEL_AMOUNT],Weekly_Data_Raw[TICKER],'Weekly Metrics'!$A10,Weekly_Data_Raw[END_DATE],'Weekly Metrics'!AO$5),IF($B10=\"Transactions\",SUMIFS(Weekly_Data_Raw[PANEL_TRANSACTIONS],Weekly_Data_Raw[TICKER],'Weekly Metrics'!$A10,Weekly_Data_Raw[END_DATE],'Weekly Metrics'!AO$5), IF($B10=\"Avg Ticket\",SUMIFS(Weekly_Data_Raw[AVG_TICKET],Weekly_Data_Raw[TICKER],'Weekly Metrics'!$A10,Weekly_Data_Raw[END_DATE],'Weekly Metrics'!AO$5), IF($B10=\"EOP Subscribers\",SUMIFS(Weekly_Data_Raw[EOP_SUBSCRIBERS],Weekly_Data_Raw[TICKER],'Weekly Metrics'!$A10,Weekly_Data_Raw[END_DATE],'Weekly Metrics'!AO$5), IF($B10=\"Gross Adds\",SUMIFS(Weekly_Data_Raw[GROSS_ADDS],Weekly_Data_Raw[TICKER],'Weekly Metrics'!$A10,Weekly_Data_Raw[END_DATE],'Weekly Metrics'!AO$5), IF($B10=\"Churn\",SUMIFS(Weekly_Data_Raw[CHURNED_MEMBERS],Weekly_Data_Raw[TICKER],'Weekly Metrics'!$A10,Weekly_Data_Raw[END_DATE],'Weekly Metrics'!AO$5)))))))","v":24.513566700999998},{"$f":"IF($B10=\"Panel Sales\", SUMIFS(Weekly_Data_Raw[PANEL_AMOUNT],Weekly_Data_Raw[TICKER],'Weekly Metrics'!$A10,Weekly_Data_Raw[END_DATE],'Weekly Metrics'!AP$5),IF($B10=\"Transactions\",SUMIFS(Weekly_Data_Raw[PANEL_TRANSACTIONS],Weekly_Data_Raw[TICKER],'Weekly Metrics'!$A10,Weekly_Data_Raw[END_DATE],'Weekly Metrics'!AP$5), IF($B10=\"Avg Ticket\",SUMIFS(Weekly_Data_Raw[AVG_TICKET],Weekly_Data_Raw[TICKER],'Weekly Metrics'!$A10,Weekly_Data_Raw[END_DATE],'Weekly Metrics'!AP$5), IF($B10=\"EOP Subscribers\",SUMIFS(Weekly_Data_Raw[EOP_SUBSCRIBERS],Weekly_Data_Raw[TICKER],'Weekly Metrics'!$A10,Weekly_Data_Raw[END_DATE],'Weekly Metrics'!AP$5), IF($B10=\"Gross Adds\",SUMIFS(Weekly_Data_Raw[GROSS_ADDS],Weekly_Data_Raw[TICKER],'Weekly Metrics'!$A10,Weekly_Data_Raw[END_DATE],'Weekly Metrics'!AP$5), IF($B10=\"Churn\",SUMIFS(Weekly_Data_Raw[CHURNED_MEMBERS],Weekly_Data_Raw[TICKER],'Weekly Metrics'!$A10,Weekly_Data_Raw[END_DATE],'Weekly Metrics'!AP$5)))))))","v":24.392040936000001},{"$f":"IF($B10=\"Panel Sales\", SUMIFS(Weekly_Data_Raw[PANEL_AMOUNT],Weekly_Data_Raw[TICKER],'Weekly Metrics'!$A10,Weekly_Data_Raw[END_DATE],'Weekly Metrics'!AQ$5),IF($B10=\"Transactions\",SUMIFS(Weekly_Data_Raw[PANEL_TRANSACTIONS],Weekly_Data_Raw[TICKER],'Weekly Metrics'!$A10,Weekly_Data_Raw[END_DATE],'Weekly Metrics'!AQ$5), IF($B10=\"Avg Ticket\",SUMIFS(Weekly_Data_Raw[AVG_TICKET],Weekly_Data_Raw[TICKER],'Weekly Metrics'!$A10,Weekly_Data_Raw[END_DATE],'Weekly Metrics'!AQ$5), IF($B10=\"EOP Subscribers\",SUMIFS(Weekly_Data_Raw[EOP_SUBSCRIBERS],Weekly_Data_Raw[TICKER],'Weekly Metrics'!$A10,Weekly_Data_Raw[END_DATE],'Weekly Metrics'!AQ$5), IF($B10=\"Gross Adds\",SUMIFS(Weekly_Data_Raw[GROSS_ADDS],Weekly_Data_Raw[TICKER],'Weekly Metrics'!$A10,Weekly_Data_Raw[END_DATE],'Weekly Metrics'!AQ$5), IF($B10=\"Churn\",SUMIFS(Weekly_Data_Raw[CHURNED_MEMBERS],Weekly_Data_Raw[TICKER],'Weekly Metrics'!$A10,Weekly_Data_Raw[END_DATE],'Weekly Metrics'!AQ$5)))))))","v":24.691844726999999},{"$f":"IF($B10=\"Panel Sales\", SUMIFS(Weekly_Data_Raw[PANEL_AMOUNT],Weekly_Data_Raw[TICKER],'Weekly Metrics'!$A10,Weekly_Data_Raw[END_DATE],'Weekly Metrics'!AR$5),IF($B10=\"Transactions\",SUMIFS(Weekly_Data_Raw[PANEL_TRANSACTIONS],Weekly_Data_Raw[TICKER],'Weekly Metrics'!$A10,Weekly_Data_Raw[END_DATE],'Weekly Metrics'!AR$5), IF($B10=\"Avg Ticket\",SUMIFS(Weekly_Data_Raw[AVG_TICKET],Weekly_Data_Raw[TICKER],'Weekly Metrics'!$A10,Weekly_Data_Raw[END_DATE],'Weekly Metrics'!AR$5), IF($B10=\"EOP Subscribers\",SUMIFS(Weekly_Data_Raw[EOP_SUBSCRIBERS],Weekly_Data_Raw[TICKER],'Weekly Metrics'!$A10,Weekly_Data_Raw[END_DATE],'Weekly Metrics'!AR$5), IF($B10=\"Gross Adds\",SUMIFS(Weekly_Data_Raw[GROSS_ADDS],Weekly_Data_Raw[TICKER],'Weekly Metrics'!$A10,Weekly_Data_Raw[END_DATE],'Weekly Metrics'!AR$5), IF($B10=\"Churn\",SUMIFS(Weekly_Data_Raw[CHURNED_MEMBERS],Weekly_Data_Raw[TICKER],'Weekly Metrics'!$A10,Weekly_Data_Raw[END_DATE],'Weekly Metrics'!AR$5)))))))","v":24.671748089000001},{"$f":"IF($B10=\"Panel Sales\", SUMIFS(Weekly_Data_Raw[PANEL_AMOUNT],Weekly_Data_Raw[TICKER],'Weekly Metrics'!$A10,Weekly_Data_Raw[END_DATE],'Weekly Metrics'!AS$5),IF($B10=\"Transactions\",SUMIFS(Weekly_Data_Raw[PANEL_TRANSACTIONS],Weekly_Data_Raw[TICKER],'Weekly Metrics'!$A10,Weekly_Data_Raw[END_DATE],'Weekly Metrics'!AS$5), IF($B10=\"Avg Ticket\",SUMIFS(Weekly_Data_Raw[AVG_TICKET],Weekly_Data_Raw[TICKER],'Weekly Metrics'!$A10,Weekly_Data_Raw[END_DATE],'Weekly Metrics'!AS$5), IF($B10=\"EOP Subscribers\",SUMIFS(Weekly_Data_Raw[EOP_SUBSCRIBERS],Weekly_Data_Raw[TICKER],'Weekly Metrics'!$A10,Weekly_Data_Raw[END_DATE],'Weekly Metrics'!AS$5), IF($B10=\"Gross Adds\",SUMIFS(Weekly_Data_Raw[GROSS_ADDS],Weekly_Data_Raw[TICKER],'Weekly Metrics'!$A10,Weekly_Data_Raw[END_DATE],'Weekly Metrics'!AS$5), IF($B10=\"Churn\",SUMIFS(Weekly_Data_Raw[CHURNED_MEMBERS],Weekly_Data_Raw[TICKER],'Weekly Metrics'!$A10,Weekly_Data_Raw[END_DATE],'Weekly Metrics'!AS$5)))))))","v":23.697156348},{"$f":"IF($B10=\"Panel Sales\", SUMIFS(Weekly_Data_Raw[PANEL_AMOUNT],Weekly_Data_Raw[TICKER],'Weekly Metrics'!$A10,Weekly_Data_Raw[END_DATE],'Weekly Metrics'!AT$5),IF($B10=\"Transactions\",SUMIFS(Weekly_Data_Raw[PANEL_TRANSACTIONS],Weekly_Data_Raw[TICKER],'Weekly Metrics'!$A10,Weekly_Data_Raw[END_DATE],'Weekly Metrics'!AT$5), IF($B10=\"Avg Ticket\",SUMIFS(Weekly_Data_Raw[AVG_TICKET],Weekly_Data_Raw[TICKER],'Weekly Metrics'!$A10,Weekly_Data_Raw[END_DATE],'Weekly Metrics'!AT$5), IF($B10=\"EOP Subscribers\",SUMIFS(Weekly_Data_Raw[EOP_SUBSCRIBERS],Weekly_Data_Raw[TICKER],'Weekly Metrics'!$A10,Weekly_Data_Raw[END_DATE],'Weekly Metrics'!AT$5), IF($B10=\"Gross Adds\",SUMIFS(Weekly_Data_Raw[GROSS_ADDS],Weekly_Data_Raw[TICKER],'Weekly Metrics'!$A10,Weekly_Data_Raw[END_DATE],'Weekly Metrics'!AT$5), IF($B10=\"Churn\",SUMIFS(Weekly_Data_Raw[CHURNED_MEMBERS],Weekly_Data_Raw[TICKER],'Weekly Metrics'!$A10,Weekly_Data_Raw[END_DATE],'Weekly Metrics'!AT$5)))))))","v":23.567992552},{"$f":"IF($B10=\"Panel Sales\", SUMIFS(Weekly_Data_Raw[PANEL_AMOUNT],Weekly_Data_Raw[TICKER],'Weekly Metrics'!$A10,Weekly_Data_Raw[END_DATE],'Weekly Metrics'!AU$5),IF($B10=\"Transactions\",SUMIFS(Weekly_Data_Raw[PANEL_TRANSACTIONS],Weekly_Data_Raw[TICKER],'Weekly Metrics'!$A10,Weekly_Data_Raw[END_DATE],'Weekly Metrics'!AU$5), IF($B10=\"Avg Ticket\",SUMIFS(Weekly_Data_Raw[AVG_TICKET],Weekly_Data_Raw[TICKER],'Weekly Metrics'!$A10,Weekly_Data_Raw[END_DATE],'Weekly Metrics'!AU$5), IF($B10=\"EOP Subscribers\",SUMIFS(Weekly_Data_Raw[EOP_SUBSCRIBERS],Weekly_Data_Raw[TICKER],'Weekly Metrics'!$A10,Weekly_Data_Raw[END_DATE],'Weekly Metrics'!AU$5), IF($B10=\"Gross Adds\",SUMIFS(Weekly_Data_Raw[GROSS_ADDS],Weekly_Data_Raw[TICKER],'Weekly Metrics'!$A10,Weekly_Data_Raw[END_DATE],'Weekly Metrics'!AU$5), IF($B10=\"Churn\",SUMIFS(Weekly_Data_Raw[CHURNED_MEMBERS],Weekly_Data_Raw[TICKER],'Weekly Metrics'!$A10,Weekly_Data_Raw[END_DATE],'Weekly Metrics'!AU$5)))))))","v":24.650552224999998},{"$f":"IF($B10=\"Panel Sales\", SUMIFS(Weekly_Data_Raw[PANEL_AMOUNT],Weekly_Data_Raw[TICKER],'Weekly Metrics'!$A10,Weekly_Data_Raw[END_DATE],'Weekly Metrics'!AV$5),IF($B10=\"Transactions\",SUMIFS(Weekly_Data_Raw[PANEL_TRANSACTIONS],Weekly_Data_Raw[TICKER],'Weekly Metrics'!$A10,Weekly_Data_Raw[END_DATE],'Weekly Metrics'!AV$5), IF($B10=\"Avg Ticket\",SUMIFS(Weekly_Data_Raw[AVG_TICKET],Weekly_Data_Raw[TICKER],'Weekly Metrics'!$A10,Weekly_Data_Raw[END_DATE],'Weekly Metrics'!AV$5), IF($B10=\"EOP Subscribers\",SUMIFS(Weekly_Data_Raw[EOP_SUBSCRIBERS],Weekly_Data_Raw[TICKER],'Weekly Metrics'!$A10,Weekly_Data_Raw[END_DATE],'Weekly Metrics'!AV$5), IF($B10=\"Gross Adds\",SUMIFS(Weekly_Data_Raw[GROSS_ADDS],Weekly_Data_Raw[TICKER],'Weekly Metrics'!$A10,Weekly_Data_Raw[END_DATE],'Weekly Metrics'!AV$5), IF($B10=\"Churn\",SUMIFS(Weekly_Data_Raw[CHURNED_MEMBERS],Weekly_Data_Raw[TICKER],'Weekly Metrics'!$A10,Weekly_Data_Raw[END_DATE],'Weekly Metrics'!AV$5)))))))","v":24.327612597000002},{"$f":"IF($B10=\"Panel Sales\", SUMIFS(Weekly_Data_Raw[PANEL_AMOUNT],Weekly_Data_Raw[TICKER],'Weekly Metrics'!$A10,Weekly_Data_Raw[END_DATE],'Weekly Metrics'!AW$5),IF($B10=\"Transactions\",SUMIFS(Weekly_Data_Raw[PANEL_TRANSACTIONS],Weekly_Data_Raw[TICKER],'Weekly Metrics'!$A10,Weekly_Data_Raw[END_DATE],'Weekly Metrics'!AW$5), IF($B10=\"Avg Ticket\",SUMIFS(Weekly_Data_Raw[AVG_TICKET],Weekly_Data_Raw[TICKER],'Weekly Metrics'!$A10,Weekly_Data_Raw[END_DATE],'Weekly Metrics'!AW$5), IF($B10=\"EOP Subscribers\",SUMIFS(Weekly_Data_Raw[EOP_SUBSCRIBERS],Weekly_Data_Raw[TICKER],'Weekly Metrics'!$A10,Weekly_Data_Raw[END_DATE],'Weekly Metrics'!AW$5), IF($B10=\"Gross Adds\",SUMIFS(Weekly_Data_Raw[GROSS_ADDS],Weekly_Data_Raw[TICKER],'Weekly Metrics'!$A10,Weekly_Data_Raw[END_DATE],'Weekly Metrics'!AW$5), IF($B10=\"Churn\",SUMIFS(Weekly_Data_Raw[CHURNED_MEMBERS],Weekly_Data_Raw[TICKER],'Weekly Metrics'!$A10,Weekly_Data_Raw[END_DATE],'Weekly Metrics'!AW$5)))))))","v":23.971889251},{"$f":"IF($B10=\"Panel Sales\", SUMIFS(Weekly_Data_Raw[PANEL_AMOUNT],Weekly_Data_Raw[TICKER],'Weekly Metrics'!$A10,Weekly_Data_Raw[END_DATE],'Weekly Metrics'!AX$5),IF($B10=\"Transactions\",SUMIFS(Weekly_Data_Raw[PANEL_TRANSACTIONS],Weekly_Data_Raw[TICKER],'Weekly Metrics'!$A10,Weekly_Data_Raw[END_DATE],'Weekly Metrics'!AX$5), IF($B10=\"Avg Ticket\",SUMIFS(Weekly_Data_Raw[AVG_TICKET],Weekly_Data_Raw[TICKER],'Weekly Metrics'!$A10,Weekly_Data_Raw[END_DATE],'Weekly Metrics'!AX$5), IF($B10=\"EOP Subscribers\",SUMIFS(Weekly_Data_Raw[EOP_SUBSCRIBERS],Weekly_Data_Raw[TICKER],'Weekly Metrics'!$A10,Weekly_Data_Raw[END_DATE],'Weekly Metrics'!AX$5), IF($B10=\"Gross Adds\",SUMIFS(Weekly_Data_Raw[GROSS_ADDS],Weekly_Data_Raw[TICKER],'Weekly Metrics'!$A10,Weekly_Data_Raw[END_DATE],'Weekly Metrics'!AX$5), IF($B10=\"Churn\",SUMIFS(Weekly_Data_Raw[CHURNED_MEMBERS],Weekly_Data_Raw[TICKER],'Weekly Metrics'!$A10,Weekly_Data_Raw[END_DATE],'Weekly Metrics'!AX$5)))))))","v":24.577351240999999},{"$f":"IF($B10=\"Panel Sales\", SUMIFS(Weekly_Data_Raw[PANEL_AMOUNT],Weekly_Data_Raw[TICKER],'Weekly Metrics'!$A10,Weekly_Data_Raw[END_DATE],'Weekly Metrics'!AY$5),IF($B10=\"Transactions\",SUMIFS(Weekly_Data_Raw[PANEL_TRANSACTIONS],Weekly_Data_Raw[TICKER],'Weekly Metrics'!$A10,Weekly_Data_Raw[END_DATE],'Weekly Metrics'!AY$5), IF($B10=\"Avg Ticket\",SUMIFS(Weekly_Data_Raw[AVG_TICKET],Weekly_Data_Raw[TICKER],'Weekly Metrics'!$A10,Weekly_Data_Raw[END_DATE],'Weekly Metrics'!AY$5), IF($B10=\"EOP Subscribers\",SUMIFS(Weekly_Data_Raw[EOP_SUBSCRIBERS],Weekly_Data_Raw[TICKER],'Weekly Metrics'!$A10,Weekly_Data_Raw[END_DATE],'Weekly Metrics'!AY$5), IF($B10=\"Gross Adds\",SUMIFS(Weekly_Data_Raw[GROSS_ADDS],Weekly_Data_Raw[TICKER],'Weekly Metrics'!$A10,Weekly_Data_Raw[END_DATE],'Weekly Metrics'!AY$5), IF($B10=\"Churn\",SUMIFS(Weekly_Data_Raw[CHURNED_MEMBERS],Weekly_Data_Raw[TICKER],'Weekly Metrics'!$A10,Weekly_Data_Raw[END_DATE],'Weekly Metrics'!AY$5)))))))","v":23.86659822},{"$f":"IF($B10=\"Panel Sales\", SUMIFS(Weekly_Data_Raw[PANEL_AMOUNT],Weekly_Data_Raw[TICKER],'Weekly Metrics'!$A10,Weekly_Data_Raw[END_DATE],'Weekly Metrics'!AZ$5),IF($B10=\"Transactions\",SUMIFS(Weekly_Data_Raw[PANEL_TRANSACTIONS],Weekly_Data_Raw[TICKER],'Weekly Metrics'!$A10,Weekly_Data_Raw[END_DATE],'Weekly Metrics'!AZ$5), IF($B10=\"Avg Ticket\",SUMIFS(Weekly_Data_Raw[AVG_TICKET],Weekly_Data_Raw[TICKER],'Weekly Metrics'!$A10,Weekly_Data_Raw[END_DATE],'Weekly Metrics'!AZ$5), IF($B10=\"EOP Subscribers\",SUMIFS(Weekly_Data_Raw[EOP_SUBSCRIBERS],Weekly_Data_Raw[TICKER],'Weekly Metrics'!$A10,Weekly_Data_Raw[END_DATE],'Weekly Metrics'!AZ$5), IF($B10=\"Gross Adds\",SUMIFS(Weekly_Data_Raw[GROSS_ADDS],Weekly_Data_Raw[TICKER],'Weekly Metrics'!$A10,Weekly_Data_Raw[END_DATE],'Weekly Metrics'!AZ$5), IF($B10=\"Churn\",SUMIFS(Weekly_Data_Raw[CHURNED_MEMBERS],Weekly_Data_Raw[TICKER],'Weekly Metrics'!$A10,Weekly_Data_Raw[END_DATE],'Weekly Metrics'!AZ$5)))))))","v":24.650309917000001},{"$f":"IF($B10=\"Panel Sales\", SUMIFS(Weekly_Data_Raw[PANEL_AMOUNT],Weekly_Data_Raw[TICKER],'Weekly Metrics'!$A10,Weekly_Data_Raw[END_DATE],'Weekly Metrics'!BA$5),IF($B10=\"Transactions\",SUMIFS(Weekly_Data_Raw[PANEL_TRANSACTIONS],Weekly_Data_Raw[TICKER],'Weekly Metrics'!$A10,Weekly_Data_Raw[END_DATE],'Weekly Metrics'!BA$5), IF($B10=\"Avg Ticket\",SUMIFS(Weekly_Data_Raw[AVG_TICKET],Weekly_Data_Raw[TICKER],'Weekly Metrics'!$A10,Weekly_Data_Raw[END_DATE],'Weekly Metrics'!BA$5), IF($B10=\"EOP Subscribers\",SUMIFS(Weekly_Data_Raw[EOP_SUBSCRIBERS],Weekly_Data_Raw[TICKER],'Weekly Metrics'!$A10,Weekly_Data_Raw[END_DATE],'Weekly Metrics'!BA$5), IF($B10=\"Gross Adds\",SUMIFS(Weekly_Data_Raw[GROSS_ADDS],Weekly_Data_Raw[TICKER],'Weekly Metrics'!$A10,Weekly_Data_Raw[END_DATE],'Weekly Metrics'!BA$5), IF($B10=\"Churn\",SUMIFS(Weekly_Data_Raw[CHURNED_MEMBERS],Weekly_Data_Raw[TICKER],'Weekly Metrics'!$A10,Weekly_Data_Raw[END_DATE],'Weekly Metrics'!BA$5)))))))","v":24.159433894999999},{"$f":"IF($B10=\"Panel Sales\", SUMIFS(Weekly_Data_Raw[PANEL_AMOUNT],Weekly_Data_Raw[TICKER],'Weekly Metrics'!$A10,Weekly_Data_Raw[END_DATE],'Weekly Metrics'!BB$5),IF($B10=\"Transactions\",SUMIFS(Weekly_Data_Raw[PANEL_TRANSACTIONS],Weekly_Data_Raw[TICKER],'Weekly Metrics'!$A10,Weekly_Data_Raw[END_DATE],'Weekly Metrics'!BB$5), IF($B10=\"Avg Ticket\",SUMIFS(Weekly_Data_Raw[AVG_TICKET],Weekly_Data_Raw[TICKER],'Weekly Metrics'!$A10,Weekly_Data_Raw[END_DATE],'Weekly Metrics'!BB$5), IF($B10=\"EOP Subscribers\",SUMIFS(Weekly_Data_Raw[EOP_SUBSCRIBERS],Weekly_Data_Raw[TICKER],'Weekly Metrics'!$A10,Weekly_Data_Raw[END_DATE],'Weekly Metrics'!BB$5), IF($B10=\"Gross Adds\",SUMIFS(Weekly_Data_Raw[GROSS_ADDS],Weekly_Data_Raw[TICKER],'Weekly Metrics'!$A10,Weekly_Data_Raw[END_DATE],'Weekly Metrics'!BB$5), IF($B10=\"Churn\",SUMIFS(Weekly_Data_Raw[CHURNED_MEMBERS],Weekly_Data_Raw[TICKER],'Weekly Metrics'!$A10,Weekly_Data_Raw[END_DATE],'Weekly Metrics'!BB$5)))))))","v":24.711391794000001},{"$f":"IF($B10=\"Panel Sales\", SUMIFS(Weekly_Data_Raw[PANEL_AMOUNT],Weekly_Data_Raw[TICKER],'Weekly Metrics'!$A10,Weekly_Data_Raw[END_DATE],'Weekly Metrics'!BC$5),IF($B10=\"Transactions\",SUMIFS(Weekly_Data_Raw[PANEL_TRANSACTIONS],Weekly_Data_Raw[TICKER],'Weekly Metrics'!$A10,Weekly_Data_Raw[END_DATE],'Weekly Metrics'!BC$5), IF($B10=\"Avg Ticket\",SUMIFS(Weekly_Data_Raw[AVG_TICKET],Weekly_Data_Raw[TICKER],'Weekly Metrics'!$A10,Weekly_Data_Raw[END_DATE],'Weekly Metrics'!BC$5), IF($B10=\"EOP Subscribers\",SUMIFS(Weekly_Data_Raw[EOP_SUBSCRIBERS],Weekly_Data_Raw[TICKER],'Weekly Metrics'!$A10,Weekly_Data_Raw[END_DATE],'Weekly Metrics'!BC$5), IF($B10=\"Gross Adds\",SUMIFS(Weekly_Data_Raw[GROSS_ADDS],Weekly_Data_Raw[TICKER],'Weekly Metrics'!$A10,Weekly_Data_Raw[END_DATE],'Weekly Metrics'!BC$5), IF($B10=\"Churn\",SUMIFS(Weekly_Data_Raw[CHURNED_MEMBERS],Weekly_Data_Raw[TICKER],'Weekly Metrics'!$A10,Weekly_Data_Raw[END_DATE],'Weekly Metrics'!BC$5)))))))","v":24.625828895000001},{"$f":"IF($B10=\"Panel Sales\", SUMIFS(Weekly_Data_Raw[PANEL_AMOUNT],Weekly_Data_Raw[TICKER],'Weekly Metrics'!$A10,Weekly_Data_Raw[END_DATE],'Weekly Metrics'!BD$5),IF($B10=\"Transactions\",SUMIFS(Weekly_Data_Raw[PANEL_TRANSACTIONS],Weekly_Data_Raw[TICKER],'Weekly Metrics'!$A10,Weekly_Data_Raw[END_DATE],'Weekly Metrics'!BD$5), IF($B10=\"Avg Ticket\",SUMIFS(Weekly_Data_Raw[AVG_TICKET],Weekly_Data_Raw[TICKER],'Weekly Metrics'!$A10,Weekly_Data_Raw[END_DATE],'Weekly Metrics'!BD$5), IF($B10=\"EOP Subscribers\",SUMIFS(Weekly_Data_Raw[EOP_SUBSCRIBERS],Weekly_Data_Raw[TICKER],'Weekly Metrics'!$A10,Weekly_Data_Raw[END_DATE],'Weekly Metrics'!BD$5), IF($B10=\"Gross Adds\",SUMIFS(Weekly_Data_Raw[GROSS_ADDS],Weekly_Data_Raw[TICKER],'Weekly Metrics'!$A10,Weekly_Data_Raw[END_DATE],'Weekly Metrics'!BD$5), IF($B10=\"Churn\",SUMIFS(Weekly_Data_Raw[CHURNED_MEMBERS],Weekly_Data_Raw[TICKER],'Weekly Metrics'!$A10,Weekly_Data_Raw[END_DATE],'Weekly Metrics'!BD$5)))))))","v":24.724411027999999},{"$f":"IF($B10=\"Panel Sales\", SUMIFS(Weekly_Data_Raw[PANEL_AMOUNT],Weekly_Data_Raw[TICKER],'Weekly Metrics'!$A10,Weekly_Data_Raw[END_DATE],'Weekly Metrics'!BE$5),IF($B10=\"Transactions\",SUMIFS(Weekly_Data_Raw[PANEL_TRANSACTIONS],Weekly_Data_Raw[TICKER],'Weekly Metrics'!$A10,Weekly_Data_Raw[END_DATE],'Weekly Metrics'!BE$5), IF($B10=\"Avg Ticket\",SUMIFS(Weekly_Data_Raw[AVG_TICKET],Weekly_Data_Raw[TICKER],'Weekly Metrics'!$A10,Weekly_Data_Raw[END_DATE],'Weekly Metrics'!BE$5), IF($B10=\"EOP Subscribers\",SUMIFS(Weekly_Data_Raw[EOP_SUBSCRIBERS],Weekly_Data_Raw[TICKER],'Weekly Metrics'!$A10,Weekly_Data_Raw[END_DATE],'Weekly Metrics'!BE$5), IF($B10=\"Gross Adds\",SUMIFS(Weekly_Data_Raw[GROSS_ADDS],Weekly_Data_Raw[TICKER],'Weekly Metrics'!$A10,Weekly_Data_Raw[END_DATE],'Weekly Metrics'!BE$5), IF($B10=\"Churn\",SUMIFS(Weekly_Data_Raw[CHURNED_MEMBERS],Weekly_Data_Raw[TICKER],'Weekly Metrics'!$A10,Weekly_Data_Raw[END_DATE],'Weekly Metrics'!BE$5)))))))","v":24.458932331},{"$f":"IF($B10=\"Panel Sales\", SUMIFS(Weekly_Data_Raw[PANEL_AMOUNT],Weekly_Data_Raw[TICKER],'Weekly Metrics'!$A10,Weekly_Data_Raw[END_DATE],'Weekly Metrics'!BF$5),IF($B10=\"Transactions\",SUMIFS(Weekly_Data_Raw[PANEL_TRANSACTIONS],Weekly_Data_Raw[TICKER],'Weekly Metrics'!$A10,Weekly_Data_Raw[END_DATE],'Weekly Metrics'!BF$5), IF($B10=\"Avg Ticket\",SUMIFS(Weekly_Data_Raw[AVG_TICKET],Weekly_Data_Raw[TICKER],'Weekly Metrics'!$A10,Weekly_Data_Raw[END_DATE],'Weekly Metrics'!BF$5), IF($B10=\"EOP Subscribers\",SUMIFS(Weekly_Data_Raw[EOP_SUBSCRIBERS],Weekly_Data_Raw[TICKER],'Weekly Metrics'!$A10,Weekly_Data_Raw[END_DATE],'Weekly Metrics'!BF$5), IF($B10=\"Gross Adds\",SUMIFS(Weekly_Data_Raw[GROSS_ADDS],Weekly_Data_Raw[TICKER],'Weekly Metrics'!$A10,Weekly_Data_Raw[END_DATE],'Weekly Metrics'!BF$5), IF($B10=\"Churn\",SUMIFS(Weekly_Data_Raw[CHURNED_MEMBERS],Weekly_Data_Raw[TICKER],'Weekly Metrics'!$A10,Weekly_Data_Raw[END_DATE],'Weekly Metrics'!BF$5)))))))","v":23.519636919},{"$f":"IF($B10=\"Panel Sales\", SUMIFS(Weekly_Data_Raw[PANEL_AMOUNT],Weekly_Data_Raw[TICKER],'Weekly Metrics'!$A10,Weekly_Data_Raw[END_DATE],'Weekly Metrics'!BG$5),IF($B10=\"Transactions\",SUMIFS(Weekly_Data_Raw[PANEL_TRANSACTIONS],Weekly_Data_Raw[TICKER],'Weekly Metrics'!$A10,Weekly_Data_Raw[END_DATE],'Weekly Metrics'!BG$5), IF($B10=\"Avg Ticket\",SUMIFS(Weekly_Data_Raw[AVG_TICKET],Weekly_Data_Raw[TICKER],'Weekly Metrics'!$A10,Weekly_Data_Raw[END_DATE],'Weekly Metrics'!BG$5), IF($B10=\"EOP Subscribers\",SUMIFS(Weekly_Data_Raw[EOP_SUBSCRIBERS],Weekly_Data_Raw[TICKER],'Weekly Metrics'!$A10,Weekly_Data_Raw[END_DATE],'Weekly Metrics'!BG$5), IF($B10=\"Gross Adds\",SUMIFS(Weekly_Data_Raw[GROSS_ADDS],Weekly_Data_Raw[TICKER],'Weekly Metrics'!$A10,Weekly_Data_Raw[END_DATE],'Weekly Metrics'!BG$5), IF($B10=\"Churn\",SUMIFS(Weekly_Data_Raw[CHURNED_MEMBERS],Weekly_Data_Raw[TICKER],'Weekly Metrics'!$A10,Weekly_Data_Raw[END_DATE],'Weekly Metrics'!BG$5)))))))","v":24.169057698},{"$f":"IF($B10=\"Panel Sales\", SUMIFS(Weekly_Data_Raw[PANEL_AMOUNT],Weekly_Data_Raw[TICKER],'Weekly Metrics'!$A10,Weekly_Data_Raw[END_DATE],'Weekly Metrics'!BH$5),IF($B10=\"Transactions\",SUMIFS(Weekly_Data_Raw[PANEL_TRANSACTIONS],Weekly_Data_Raw[TICKER],'Weekly Metrics'!$A10,Weekly_Data_Raw[END_DATE],'Weekly Metrics'!BH$5), IF($B10=\"Avg Ticket\",SUMIFS(Weekly_Data_Raw[AVG_TICKET],Weekly_Data_Raw[TICKER],'Weekly Metrics'!$A10,Weekly_Data_Raw[END_DATE],'Weekly Metrics'!BH$5), IF($B10=\"EOP Subscribers\",SUMIFS(Weekly_Data_Raw[EOP_SUBSCRIBERS],Weekly_Data_Raw[TICKER],'Weekly Metrics'!$A10,Weekly_Data_Raw[END_DATE],'Weekly Metrics'!BH$5), IF($B10=\"Gross Adds\",SUMIFS(Weekly_Data_Raw[GROSS_ADDS],Weekly_Data_Raw[TICKER],'Weekly Metrics'!$A10,Weekly_Data_Raw[END_DATE],'Weekly Metrics'!BH$5), IF($B10=\"Churn\",SUMIFS(Weekly_Data_Raw[CHURNED_MEMBERS],Weekly_Data_Raw[TICKER],'Weekly Metrics'!$A10,Weekly_Data_Raw[END_DATE],'Weekly Metrics'!BH$5)))))))","v":24.453957370000001},{"$f":"IF($B10=\"Panel Sales\", SUMIFS(Weekly_Data_Raw[PANEL_AMOUNT],Weekly_Data_Raw[TICKER],'Weekly Metrics'!$A10,Weekly_Data_Raw[END_DATE],'Weekly Metrics'!BI$5),IF($B10=\"Transactions\",SUMIFS(Weekly_Data_Raw[PANEL_TRANSACTIONS],Weekly_Data_Raw[TICKER],'Weekly Metrics'!$A10,Weekly_Data_Raw[END_DATE],'Weekly Metrics'!BI$5), IF($B10=\"Avg Ticket\",SUMIFS(Weekly_Data_Raw[AVG_TICKET],Weekly_Data_Raw[TICKER],'Weekly Metrics'!$A10,Weekly_Data_Raw[END_DATE],'Weekly Metrics'!BI$5), IF($B10=\"EOP Subscribers\",SUMIFS(Weekly_Data_Raw[EOP_SUBSCRIBERS],Weekly_Data_Raw[TICKER],'Weekly Metrics'!$A10,Weekly_Data_Raw[END_DATE],'Weekly Metrics'!BI$5), IF($B10=\"Gross Adds\",SUMIFS(Weekly_Data_Raw[GROSS_ADDS],Weekly_Data_Raw[TICKER],'Weekly Metrics'!$A10,Weekly_Data_Raw[END_DATE],'Weekly Metrics'!BI$5), IF($B10=\"Churn\",SUMIFS(Weekly_Data_Raw[CHURNED_MEMBERS],Weekly_Data_Raw[TICKER],'Weekly Metrics'!$A10,Weekly_Data_Raw[END_DATE],'Weekly Metrics'!BI$5)))))))","v":24.543718593000001},{"$f":"IF($B10=\"Panel Sales\", SUMIFS(Weekly_Data_Raw[PANEL_AMOUNT],Weekly_Data_Raw[TICKER],'Weekly Metrics'!$A10,Weekly_Data_Raw[END_DATE],'Weekly Metrics'!BJ$5),IF($B10=\"Transactions\",SUMIFS(Weekly_Data_Raw[PANEL_TRANSACTIONS],Weekly_Data_Raw[TICKER],'Weekly Metrics'!$A10,Weekly_Data_Raw[END_DATE],'Weekly Metrics'!BJ$5), IF($B10=\"Avg Ticket\",SUMIFS(Weekly_Data_Raw[AVG_TICKET],Weekly_Data_Raw[TICKER],'Weekly Metrics'!$A10,Weekly_Data_Raw[END_DATE],'Weekly Metrics'!BJ$5), IF($B10=\"EOP Subscribers\",SUMIFS(Weekly_Data_Raw[EOP_SUBSCRIBERS],Weekly_Data_Raw[TICKER],'Weekly Metrics'!$A10,Weekly_Data_Raw[END_DATE],'Weekly Metrics'!BJ$5), IF($B10=\"Gross Adds\",SUMIFS(Weekly_Data_Raw[GROSS_ADDS],Weekly_Data_Raw[TICKER],'Weekly Metrics'!$A10,Weekly_Data_Raw[END_DATE],'Weekly Metrics'!BJ$5), IF($B10=\"Churn\",SUMIFS(Weekly_Data_Raw[CHURNED_MEMBERS],Weekly_Data_Raw[TICKER],'Weekly Metrics'!$A10,Weekly_Data_Raw[END_DATE],'Weekly Metrics'!BJ$5)))))))","v":23.275527622999999},{"$f":"IF($B10=\"Panel Sales\", SUMIFS(Weekly_Data_Raw[PANEL_AMOUNT],Weekly_Data_Raw[TICKER],'Weekly Metrics'!$A10,Weekly_Data_Raw[END_DATE],'Weekly Metrics'!BK$5),IF($B10=\"Transactions\",SUMIFS(Weekly_Data_Raw[PANEL_TRANSACTIONS],Weekly_Data_Raw[TICKER],'Weekly Metrics'!$A10,Weekly_Data_Raw[END_DATE],'Weekly Metrics'!BK$5), IF($B10=\"Avg Ticket\",SUMIFS(Weekly_Data_Raw[AVG_TICKET],Weekly_Data_Raw[TICKER],'Weekly Metrics'!$A10,Weekly_Data_Raw[END_DATE],'Weekly Metrics'!BK$5), IF($B10=\"EOP Subscribers\",SUMIFS(Weekly_Data_Raw[EOP_SUBSCRIBERS],Weekly_Data_Raw[TICKER],'Weekly Metrics'!$A10,Weekly_Data_Raw[END_DATE],'Weekly Metrics'!BK$5), IF($B10=\"Gross Adds\",SUMIFS(Weekly_Data_Raw[GROSS_ADDS],Weekly_Data_Raw[TICKER],'Weekly Metrics'!$A10,Weekly_Data_Raw[END_DATE],'Weekly Metrics'!BK$5), IF($B10=\"Churn\",SUMIFS(Weekly_Data_Raw[CHURNED_MEMBERS],Weekly_Data_Raw[TICKER],'Weekly Metrics'!$A10,Weekly_Data_Raw[END_DATE],'Weekly Metrics'!BK$5)))))))","v":24.098783574999999},{"$f":"IF($B10=\"Panel Sales\", SUMIFS(Weekly_Data_Raw[PANEL_AMOUNT],Weekly_Data_Raw[TICKER],'Weekly Metrics'!$A10,Weekly_Data_Raw[END_DATE],'Weekly Metrics'!BL$5),IF($B10=\"Transactions\",SUMIFS(Weekly_Data_Raw[PANEL_TRANSACTIONS],Weekly_Data_Raw[TICKER],'Weekly Metrics'!$A10,Weekly_Data_Raw[END_DATE],'Weekly Metrics'!BL$5), IF($B10=\"Avg Ticket\",SUMIFS(Weekly_Data_Raw[AVG_TICKET],Weekly_Data_Raw[TICKER],'Weekly Metrics'!$A10,Weekly_Data_Raw[END_DATE],'Weekly Metrics'!BL$5), IF($B10=\"EOP Subscribers\",SUMIFS(Weekly_Data_Raw[EOP_SUBSCRIBERS],Weekly_Data_Raw[TICKER],'Weekly Metrics'!$A10,Weekly_Data_Raw[END_DATE],'Weekly Metrics'!BL$5), IF($B10=\"Gross Adds\",SUMIFS(Weekly_Data_Raw[GROSS_ADDS],Weekly_Data_Raw[TICKER],'Weekly Metrics'!$A10,Weekly_Data_Raw[END_DATE],'Weekly Metrics'!BL$5), IF($B10=\"Churn\",SUMIFS(Weekly_Data_Raw[CHURNED_MEMBERS],Weekly_Data_Raw[TICKER],'Weekly Metrics'!$A10,Weekly_Data_Raw[END_DATE],'Weekly Metrics'!BL$5)))))))","v":24.396120265},{"$f":"IF($B10=\"Panel Sales\", SUMIFS(Weekly_Data_Raw[PANEL_AMOUNT],Weekly_Data_Raw[TICKER],'Weekly Metrics'!$A10,Weekly_Data_Raw[END_DATE],'Weekly Metrics'!BM$5),IF($B10=\"Transactions\",SUMIFS(Weekly_Data_Raw[PANEL_TRANSACTIONS],Weekly_Data_Raw[TICKER],'Weekly Metrics'!$A10,Weekly_Data_Raw[END_DATE],'Weekly Metrics'!BM$5), IF($B10=\"Avg Ticket\",SUMIFS(Weekly_Data_Raw[AVG_TICKET],Weekly_Data_Raw[TICKER],'Weekly Metrics'!$A10,Weekly_Data_Raw[END_DATE],'Weekly Metrics'!BM$5), IF($B10=\"EOP Subscribers\",SUMIFS(Weekly_Data_Raw[EOP_SUBSCRIBERS],Weekly_Data_Raw[TICKER],'Weekly Metrics'!$A10,Weekly_Data_Raw[END_DATE],'Weekly Metrics'!BM$5), IF($B10=\"Gross Adds\",SUMIFS(Weekly_Data_Raw[GROSS_ADDS],Weekly_Data_Raw[TICKER],'Weekly Metrics'!$A10,Weekly_Data_Raw[END_DATE],'Weekly Metrics'!BM$5), IF($B10=\"Churn\",SUMIFS(Weekly_Data_Raw[CHURNED_MEMBERS],Weekly_Data_Raw[TICKER],'Weekly Metrics'!$A10,Weekly_Data_Raw[END_DATE],'Weekly Metrics'!BM$5)))))))","v":24.231493595},{"$f":"IF($B10=\"Panel Sales\", SUMIFS(Weekly_Data_Raw[PANEL_AMOUNT],Weekly_Data_Raw[TICKER],'Weekly Metrics'!$A10,Weekly_Data_Raw[END_DATE],'Weekly Metrics'!BN$5),IF($B10=\"Transactions\",SUMIFS(Weekly_Data_Raw[PANEL_TRANSACTIONS],Weekly_Data_Raw[TICKER],'Weekly Metrics'!$A10,Weekly_Data_Raw[END_DATE],'Weekly Metrics'!BN$5), IF($B10=\"Avg Ticket\",SUMIFS(Weekly_Data_Raw[AVG_TICKET],Weekly_Data_Raw[TICKER],'Weekly Metrics'!$A10,Weekly_Data_Raw[END_DATE],'Weekly Metrics'!BN$5), IF($B10=\"EOP Subscribers\",SUMIFS(Weekly_Data_Raw[EOP_SUBSCRIBERS],Weekly_Data_Raw[TICKER],'Weekly Metrics'!$A10,Weekly_Data_Raw[END_DATE],'Weekly Metrics'!BN$5), IF($B10=\"Gross Adds\",SUMIFS(Weekly_Data_Raw[GROSS_ADDS],Weekly_Data_Raw[TICKER],'Weekly Metrics'!$A10,Weekly_Data_Raw[END_DATE],'Weekly Metrics'!BN$5), IF($B10=\"Churn\",SUMIFS(Weekly_Data_Raw[CHURNED_MEMBERS],Weekly_Data_Raw[TICKER],'Weekly Metrics'!$A10,Weekly_Data_Raw[END_DATE],'Weekly Metrics'!BN$5)))))))","v":23.988285988000001},{"$f":"IF($B10=\"Panel Sales\", SUMIFS(Weekly_Data_Raw[PANEL_AMOUNT],Weekly_Data_Raw[TICKER],'Weekly Metrics'!$A10,Weekly_Data_Raw[END_DATE],'Weekly Metrics'!BO$5),IF($B10=\"Transactions\",SUMIFS(Weekly_Data_Raw[PANEL_TRANSACTIONS],Weekly_Data_Raw[TICKER],'Weekly Metrics'!$A10,Weekly_Data_Raw[END_DATE],'Weekly Metrics'!BO$5), IF($B10=\"Avg Ticket\",SUMIFS(Weekly_Data_Raw[AVG_TICKET],Weekly_Data_Raw[TICKER],'Weekly Metrics'!$A10,Weekly_Data_Raw[END_DATE],'Weekly Metrics'!BO$5), IF($B10=\"EOP Subscribers\",SUMIFS(Weekly_Data_Raw[EOP_SUBSCRIBERS],Weekly_Data_Raw[TICKER],'Weekly Metrics'!$A10,Weekly_Data_Raw[END_DATE],'Weekly Metrics'!BO$5), IF($B10=\"Gross Adds\",SUMIFS(Weekly_Data_Raw[GROSS_ADDS],Weekly_Data_Raw[TICKER],'Weekly Metrics'!$A10,Weekly_Data_Raw[END_DATE],'Weekly Metrics'!BO$5), IF($B10=\"Churn\",SUMIFS(Weekly_Data_Raw[CHURNED_MEMBERS],Weekly_Data_Raw[TICKER],'Weekly Metrics'!$A10,Weekly_Data_Raw[END_DATE],'Weekly Metrics'!BO$5)))))))","v":24.756940800999999},{"$f":"IF($B10=\"Panel Sales\", SUMIFS(Weekly_Data_Raw[PANEL_AMOUNT],Weekly_Data_Raw[TICKER],'Weekly Metrics'!$A10,Weekly_Data_Raw[END_DATE],'Weekly Metrics'!BP$5),IF($B10=\"Transactions\",SUMIFS(Weekly_Data_Raw[PANEL_TRANSACTIONS],Weekly_Data_Raw[TICKER],'Weekly Metrics'!$A10,Weekly_Data_Raw[END_DATE],'Weekly Metrics'!BP$5), IF($B10=\"Avg Ticket\",SUMIFS(Weekly_Data_Raw[AVG_TICKET],Weekly_Data_Raw[TICKER],'Weekly Metrics'!$A10,Weekly_Data_Raw[END_DATE],'Weekly Metrics'!BP$5), IF($B10=\"EOP Subscribers\",SUMIFS(Weekly_Data_Raw[EOP_SUBSCRIBERS],Weekly_Data_Raw[TICKER],'Weekly Metrics'!$A10,Weekly_Data_Raw[END_DATE],'Weekly Metrics'!BP$5), IF($B10=\"Gross Adds\",SUMIFS(Weekly_Data_Raw[GROSS_ADDS],Weekly_Data_Raw[TICKER],'Weekly Metrics'!$A10,Weekly_Data_Raw[END_DATE],'Weekly Metrics'!BP$5), IF($B10=\"Churn\",SUMIFS(Weekly_Data_Raw[CHURNED_MEMBERS],Weekly_Data_Raw[TICKER],'Weekly Metrics'!$A10,Weekly_Data_Raw[END_DATE],'Weekly Metrics'!BP$5)))))))","v":24.856515252000001},{"$f":"IF($B10=\"Panel Sales\", SUMIFS(Weekly_Data_Raw[PANEL_AMOUNT],Weekly_Data_Raw[TICKER],'Weekly Metrics'!$A10,Weekly_Data_Raw[END_DATE],'Weekly Metrics'!BQ$5),IF($B10=\"Transactions\",SUMIFS(Weekly_Data_Raw[PANEL_TRANSACTIONS],Weekly_Data_Raw[TICKER],'Weekly Metrics'!$A10,Weekly_Data_Raw[END_DATE],'Weekly Metrics'!BQ$5), IF($B10=\"Avg Ticket\",SUMIFS(Weekly_Data_Raw[AVG_TICKET],Weekly_Data_Raw[TICKER],'Weekly Metrics'!$A10,Weekly_Data_Raw[END_DATE],'Weekly Metrics'!BQ$5), IF($B10=\"EOP Subscribers\",SUMIFS(Weekly_Data_Raw[EOP_SUBSCRIBERS],Weekly_Data_Raw[TICKER],'Weekly Metrics'!$A10,Weekly_Data_Raw[END_DATE],'Weekly Metrics'!BQ$5), IF($B10=\"Gross Adds\",SUMIFS(Weekly_Data_Raw[GROSS_ADDS],Weekly_Data_Raw[TICKER],'Weekly Metrics'!$A10,Weekly_Data_Raw[END_DATE],'Weekly Metrics'!BQ$5), IF($B10=\"Churn\",SUMIFS(Weekly_Data_Raw[CHURNED_MEMBERS],Weekly_Data_Raw[TICKER],'Weekly Metrics'!$A10,Weekly_Data_Raw[END_DATE],'Weekly Metrics'!BQ$5)))))))","v":25.181656088},{"$f":"IF($B10=\"Panel Sales\", SUMIFS(Weekly_Data_Raw[PANEL_AMOUNT],Weekly_Data_Raw[TICKER],'Weekly Metrics'!$A10,Weekly_Data_Raw[END_DATE],'Weekly Metrics'!BR$5),IF($B10=\"Transactions\",SUMIFS(Weekly_Data_Raw[PANEL_TRANSACTIONS],Weekly_Data_Raw[TICKER],'Weekly Metrics'!$A10,Weekly_Data_Raw[END_DATE],'Weekly Metrics'!BR$5), IF($B10=\"Avg Ticket\",SUMIFS(Weekly_Data_Raw[AVG_TICKET],Weekly_Data_Raw[TICKER],'Weekly Metrics'!$A10,Weekly_Data_Raw[END_DATE],'Weekly Metrics'!BR$5), IF($B10=\"EOP Subscribers\",SUMIFS(Weekly_Data_Raw[EOP_SUBSCRIBERS],Weekly_Data_Raw[TICKER],'Weekly Metrics'!$A10,Weekly_Data_Raw[END_DATE],'Weekly Metrics'!BR$5), IF($B10=\"Gross Adds\",SUMIFS(Weekly_Data_Raw[GROSS_ADDS],Weekly_Data_Raw[TICKER],'Weekly Metrics'!$A10,Weekly_Data_Raw[END_DATE],'Weekly Metrics'!BR$5), IF($B10=\"Churn\",SUMIFS(Weekly_Data_Raw[CHURNED_MEMBERS],Weekly_Data_Raw[TICKER],'Weekly Metrics'!$A10,Weekly_Data_Raw[END_DATE],'Weekly Metrics'!BR$5)))))))","v":24.561935483999999},{"$f":"IF($B10=\"Panel Sales\", SUMIFS(Weekly_Data_Raw[PANEL_AMOUNT],Weekly_Data_Raw[TICKER],'Weekly Metrics'!$A10,Weekly_Data_Raw[END_DATE],'Weekly Metrics'!BS$5),IF($B10=\"Transactions\",SUMIFS(Weekly_Data_Raw[PANEL_TRANSACTIONS],Weekly_Data_Raw[TICKER],'Weekly Metrics'!$A10,Weekly_Data_Raw[END_DATE],'Weekly Metrics'!BS$5), IF($B10=\"Avg Ticket\",SUMIFS(Weekly_Data_Raw[AVG_TICKET],Weekly_Data_Raw[TICKER],'Weekly Metrics'!$A10,Weekly_Data_Raw[END_DATE],'Weekly Metrics'!BS$5), IF($B10=\"EOP Subscribers\",SUMIFS(Weekly_Data_Raw[EOP_SUBSCRIBERS],Weekly_Data_Raw[TICKER],'Weekly Metrics'!$A10,Weekly_Data_Raw[END_DATE],'Weekly Metrics'!BS$5), IF($B10=\"Gross Adds\",SUMIFS(Weekly_Data_Raw[GROSS_ADDS],Weekly_Data_Raw[TICKER],'Weekly Metrics'!$A10,Weekly_Data_Raw[END_DATE],'Weekly Metrics'!BS$5), IF($B10=\"Churn\",SUMIFS(Weekly_Data_Raw[CHURNED_MEMBERS],Weekly_Data_Raw[TICKER],'Weekly Metrics'!$A10,Weekly_Data_Raw[END_DATE],'Weekly Metrics'!BS$5)))))))","v":24.669607692},{"$f":"IF($B10=\"Panel Sales\", SUMIFS(Weekly_Data_Raw[PANEL_AMOUNT],Weekly_Data_Raw[TICKER],'Weekly Metrics'!$A10,Weekly_Data_Raw[END_DATE],'Weekly Metrics'!BT$5),IF($B10=\"Transactions\",SUMIFS(Weekly_Data_Raw[PANEL_TRANSACTIONS],Weekly_Data_Raw[TICKER],'Weekly Metrics'!$A10,Weekly_Data_Raw[END_DATE],'Weekly Metrics'!BT$5), IF($B10=\"Avg Ticket\",SUMIFS(Weekly_Data_Raw[AVG_TICKET],Weekly_Data_Raw[TICKER],'Weekly Metrics'!$A10,Weekly_Data_Raw[END_DATE],'Weekly Metrics'!BT$5), IF($B10=\"EOP Subscribers\",SUMIFS(Weekly_Data_Raw[EOP_SUBSCRIBERS],Weekly_Data_Raw[TICKER],'Weekly Metrics'!$A10,Weekly_Data_Raw[END_DATE],'Weekly Metrics'!BT$5), IF($B10=\"Gross Adds\",SUMIFS(Weekly_Data_Raw[GROSS_ADDS],Weekly_Data_Raw[TICKER],'Weekly Metrics'!$A10,Weekly_Data_Raw[END_DATE],'Weekly Metrics'!BT$5), IF($B10=\"Churn\",SUMIFS(Weekly_Data_Raw[CHURNED_MEMBERS],Weekly_Data_Raw[TICKER],'Weekly Metrics'!$A10,Weekly_Data_Raw[END_DATE],'Weekly Metrics'!BT$5)))))))","v":25.037063322000002},{"$f":"IF($B10=\"Panel Sales\", SUMIFS(Weekly_Data_Raw[PANEL_AMOUNT],Weekly_Data_Raw[TICKER],'Weekly Metrics'!$A10,Weekly_Data_Raw[END_DATE],'Weekly Metrics'!BU$5),IF($B10=\"Transactions\",SUMIFS(Weekly_Data_Raw[PANEL_TRANSACTIONS],Weekly_Data_Raw[TICKER],'Weekly Metrics'!$A10,Weekly_Data_Raw[END_DATE],'Weekly Metrics'!BU$5), IF($B10=\"Avg Ticket\",SUMIFS(Weekly_Data_Raw[AVG_TICKET],Weekly_Data_Raw[TICKER],'Weekly Metrics'!$A10,Weekly_Data_Raw[END_DATE],'Weekly Metrics'!BU$5), IF($B10=\"EOP Subscribers\",SUMIFS(Weekly_Data_Raw[EOP_SUBSCRIBERS],Weekly_Data_Raw[TICKER],'Weekly Metrics'!$A10,Weekly_Data_Raw[END_DATE],'Weekly Metrics'!BU$5), IF($B10=\"Gross Adds\",SUMIFS(Weekly_Data_Raw[GROSS_ADDS],Weekly_Data_Raw[TICKER],'Weekly Metrics'!$A10,Weekly_Data_Raw[END_DATE],'Weekly Metrics'!BU$5), IF($B10=\"Churn\",SUMIFS(Weekly_Data_Raw[CHURNED_MEMBERS],Weekly_Data_Raw[TICKER],'Weekly Metrics'!$A10,Weekly_Data_Raw[END_DATE],'Weekly Metrics'!BU$5)))))))","v":25.311887227},{"$f":"IF($B10=\"Panel Sales\", SUMIFS(Weekly_Data_Raw[PANEL_AMOUNT],Weekly_Data_Raw[TICKER],'Weekly Metrics'!$A10,Weekly_Data_Raw[END_DATE],'Weekly Metrics'!BV$5),IF($B10=\"Transactions\",SUMIFS(Weekly_Data_Raw[PANEL_TRANSACTIONS],Weekly_Data_Raw[TICKER],'Weekly Metrics'!$A10,Weekly_Data_Raw[END_DATE],'Weekly Metrics'!BV$5), IF($B10=\"Avg Ticket\",SUMIFS(Weekly_Data_Raw[AVG_TICKET],Weekly_Data_Raw[TICKER],'Weekly Metrics'!$A10,Weekly_Data_Raw[END_DATE],'Weekly Metrics'!BV$5), IF($B10=\"EOP Subscribers\",SUMIFS(Weekly_Data_Raw[EOP_SUBSCRIBERS],Weekly_Data_Raw[TICKER],'Weekly Metrics'!$A10,Weekly_Data_Raw[END_DATE],'Weekly Metrics'!BV$5), IF($B10=\"Gross Adds\",SUMIFS(Weekly_Data_Raw[GROSS_ADDS],Weekly_Data_Raw[TICKER],'Weekly Metrics'!$A10,Weekly_Data_Raw[END_DATE],'Weekly Metrics'!BV$5), IF($B10=\"Churn\",SUMIFS(Weekly_Data_Raw[CHURNED_MEMBERS],Weekly_Data_Raw[TICKER],'Weekly Metrics'!$A10,Weekly_Data_Raw[END_DATE],'Weekly Metrics'!BV$5)))))))","v":24.348317663},{"$f":"IF($B10=\"Panel Sales\", SUMIFS(Weekly_Data_Raw[PANEL_AMOUNT],Weekly_Data_Raw[TICKER],'Weekly Metrics'!$A10,Weekly_Data_Raw[END_DATE],'Weekly Metrics'!BW$5),IF($B10=\"Transactions\",SUMIFS(Weekly_Data_Raw[PANEL_TRANSACTIONS],Weekly_Data_Raw[TICKER],'Weekly Metrics'!$A10,Weekly_Data_Raw[END_DATE],'Weekly Metrics'!BW$5), IF($B10=\"Avg Ticket\",SUMIFS(Weekly_Data_Raw[AVG_TICKET],Weekly_Data_Raw[TICKER],'Weekly Metrics'!$A10,Weekly_Data_Raw[END_DATE],'Weekly Metrics'!BW$5), IF($B10=\"EOP Subscribers\",SUMIFS(Weekly_Data_Raw[EOP_SUBSCRIBERS],Weekly_Data_Raw[TICKER],'Weekly Metrics'!$A10,Weekly_Data_Raw[END_DATE],'Weekly Metrics'!BW$5), IF($B10=\"Gross Adds\",SUMIFS(Weekly_Data_Raw[GROSS_ADDS],Weekly_Data_Raw[TICKER],'Weekly Metrics'!$A10,Weekly_Data_Raw[END_DATE],'Weekly Metrics'!BW$5), IF($B10=\"Churn\",SUMIFS(Weekly_Data_Raw[CHURNED_MEMBERS],Weekly_Data_Raw[TICKER],'Weekly Metrics'!$A10,Weekly_Data_Raw[END_DATE],'Weekly Metrics'!BW$5)))))))","v":24.258907502},{"$f":"IF($B10=\"Panel Sales\", SUMIFS(Weekly_Data_Raw[PANEL_AMOUNT],Weekly_Data_Raw[TICKER],'Weekly Metrics'!$A10,Weekly_Data_Raw[END_DATE],'Weekly Metrics'!BX$5),IF($B10=\"Transactions\",SUMIFS(Weekly_Data_Raw[PANEL_TRANSACTIONS],Weekly_Data_Raw[TICKER],'Weekly Metrics'!$A10,Weekly_Data_Raw[END_DATE],'Weekly Metrics'!BX$5), IF($B10=\"Avg Ticket\",SUMIFS(Weekly_Data_Raw[AVG_TICKET],Weekly_Data_Raw[TICKER],'Weekly Metrics'!$A10,Weekly_Data_Raw[END_DATE],'Weekly Metrics'!BX$5), IF($B10=\"EOP Subscribers\",SUMIFS(Weekly_Data_Raw[EOP_SUBSCRIBERS],Weekly_Data_Raw[TICKER],'Weekly Metrics'!$A10,Weekly_Data_Raw[END_DATE],'Weekly Metrics'!BX$5), IF($B10=\"Gross Adds\",SUMIFS(Weekly_Data_Raw[GROSS_ADDS],Weekly_Data_Raw[TICKER],'Weekly Metrics'!$A10,Weekly_Data_Raw[END_DATE],'Weekly Metrics'!BX$5), IF($B10=\"Churn\",SUMIFS(Weekly_Data_Raw[CHURNED_MEMBERS],Weekly_Data_Raw[TICKER],'Weekly Metrics'!$A10,Weekly_Data_Raw[END_DATE],'Weekly Metrics'!BX$5)))))))","v":24.809561781999999},{"$f":"IF($B10=\"Panel Sales\", SUMIFS(Weekly_Data_Raw[PANEL_AMOUNT],Weekly_Data_Raw[TICKER],'Weekly Metrics'!$A10,Weekly_Data_Raw[END_DATE],'Weekly Metrics'!BY$5),IF($B10=\"Transactions\",SUMIFS(Weekly_Data_Raw[PANEL_TRANSACTIONS],Weekly_Data_Raw[TICKER],'Weekly Metrics'!$A10,Weekly_Data_Raw[END_DATE],'Weekly Metrics'!BY$5), IF($B10=\"Avg Ticket\",SUMIFS(Weekly_Data_Raw[AVG_TICKET],Weekly_Data_Raw[TICKER],'Weekly Metrics'!$A10,Weekly_Data_Raw[END_DATE],'Weekly Metrics'!BY$5), IF($B10=\"EOP Subscribers\",SUMIFS(Weekly_Data_Raw[EOP_SUBSCRIBERS],Weekly_Data_Raw[TICKER],'Weekly Metrics'!$A10,Weekly_Data_Raw[END_DATE],'Weekly Metrics'!BY$5), IF($B10=\"Gross Adds\",SUMIFS(Weekly_Data_Raw[GROSS_ADDS],Weekly_Data_Raw[TICKER],'Weekly Metrics'!$A10,Weekly_Data_Raw[END_DATE],'Weekly Metrics'!BY$5), IF($B10=\"Churn\",SUMIFS(Weekly_Data_Raw[CHURNED_MEMBERS],Weekly_Data_Raw[TICKER],'Weekly Metrics'!$A10,Weekly_Data_Raw[END_DATE],'Weekly Metrics'!BY$5)))))))","v":24.387417240000001},{"$f":"IF($B10=\"Panel Sales\", SUMIFS(Weekly_Data_Raw[PANEL_AMOUNT],Weekly_Data_Raw[TICKER],'Weekly Metrics'!$A10,Weekly_Data_Raw[END_DATE],'Weekly Metrics'!BZ$5),IF($B10=\"Transactions\",SUMIFS(Weekly_Data_Raw[PANEL_TRANSACTIONS],Weekly_Data_Raw[TICKER],'Weekly Metrics'!$A10,Weekly_Data_Raw[END_DATE],'Weekly Metrics'!BZ$5), IF($B10=\"Avg Ticket\",SUMIFS(Weekly_Data_Raw[AVG_TICKET],Weekly_Data_Raw[TICKER],'Weekly Metrics'!$A10,Weekly_Data_Raw[END_DATE],'Weekly Metrics'!BZ$5), IF($B10=\"EOP Subscribers\",SUMIFS(Weekly_Data_Raw[EOP_SUBSCRIBERS],Weekly_Data_Raw[TICKER],'Weekly Metrics'!$A10,Weekly_Data_Raw[END_DATE],'Weekly Metrics'!BZ$5), IF($B10=\"Gross Adds\",SUMIFS(Weekly_Data_Raw[GROSS_ADDS],Weekly_Data_Raw[TICKER],'Weekly Metrics'!$A10,Weekly_Data_Raw[END_DATE],'Weekly Metrics'!BZ$5), IF($B10=\"Churn\",SUMIFS(Weekly_Data_Raw[CHURNED_MEMBERS],Weekly_Data_Raw[TICKER],'Weekly Metrics'!$A10,Weekly_Data_Raw[END_DATE],'Weekly Metrics'!BZ$5)))))))","v":23.905169142999998},{"$f":"IF($B10=\"Panel Sales\", SUMIFS(Weekly_Data_Raw[PANEL_AMOUNT],Weekly_Data_Raw[TICKER],'Weekly Metrics'!$A10,Weekly_Data_Raw[END_DATE],'Weekly Metrics'!CA$5),IF($B10=\"Transactions\",SUMIFS(Weekly_Data_Raw[PANEL_TRANSACTIONS],Weekly_Data_Raw[TICKER],'Weekly Metrics'!$A10,Weekly_Data_Raw[END_DATE],'Weekly Metrics'!CA$5), IF($B10=\"Avg Ticket\",SUMIFS(Weekly_Data_Raw[AVG_TICKET],Weekly_Data_Raw[TICKER],'Weekly Metrics'!$A10,Weekly_Data_Raw[END_DATE],'Weekly Metrics'!CA$5), IF($B10=\"EOP Subscribers\",SUMIFS(Weekly_Data_Raw[EOP_SUBSCRIBERS],Weekly_Data_Raw[TICKER],'Weekly Metrics'!$A10,Weekly_Data_Raw[END_DATE],'Weekly Metrics'!CA$5), IF($B10=\"Gross Adds\",SUMIFS(Weekly_Data_Raw[GROSS_ADDS],Weekly_Data_Raw[TICKER],'Weekly Metrics'!$A10,Weekly_Data_Raw[END_DATE],'Weekly Metrics'!CA$5), IF($B10=\"Churn\",SUMIFS(Weekly_Data_Raw[CHURNED_MEMBERS],Weekly_Data_Raw[TICKER],'Weekly Metrics'!$A10,Weekly_Data_Raw[END_DATE],'Weekly Metrics'!CA$5)))))))","v":23.440669378999999},{"$f":"IF($B10=\"Panel Sales\", SUMIFS(Weekly_Data_Raw[PANEL_AMOUNT],Weekly_Data_Raw[TICKER],'Weekly Metrics'!$A10,Weekly_Data_Raw[END_DATE],'Weekly Metrics'!CB$5),IF($B10=\"Transactions\",SUMIFS(Weekly_Data_Raw[PANEL_TRANSACTIONS],Weekly_Data_Raw[TICKER],'Weekly Metrics'!$A10,Weekly_Data_Raw[END_DATE],'Weekly Metrics'!CB$5), IF($B10=\"Avg Ticket\",SUMIFS(Weekly_Data_Raw[AVG_TICKET],Weekly_Data_Raw[TICKER],'Weekly Metrics'!$A10,Weekly_Data_Raw[END_DATE],'Weekly Metrics'!CB$5), IF($B10=\"EOP Subscribers\",SUMIFS(Weekly_Data_Raw[EOP_SUBSCRIBERS],Weekly_Data_Raw[TICKER],'Weekly Metrics'!$A10,Weekly_Data_Raw[END_DATE],'Weekly Metrics'!CB$5), IF($B10=\"Gross Adds\",SUMIFS(Weekly_Data_Raw[GROSS_ADDS],Weekly_Data_Raw[TICKER],'Weekly Metrics'!$A10,Weekly_Data_Raw[END_DATE],'Weekly Metrics'!CB$5), IF($B10=\"Churn\",SUMIFS(Weekly_Data_Raw[CHURNED_MEMBERS],Weekly_Data_Raw[TICKER],'Weekly Metrics'!$A10,Weekly_Data_Raw[END_DATE],'Weekly Metrics'!CB$5)))))))","v":23.835260054999999},{"$f":"IF($B10=\"Panel Sales\", SUMIFS(Weekly_Data_Raw[PANEL_AMOUNT],Weekly_Data_Raw[TICKER],'Weekly Metrics'!$A10,Weekly_Data_Raw[END_DATE],'Weekly Metrics'!CC$5),IF($B10=\"Transactions\",SUMIFS(Weekly_Data_Raw[PANEL_TRANSACTIONS],Weekly_Data_Raw[TICKER],'Weekly Metrics'!$A10,Weekly_Data_Raw[END_DATE],'Weekly Metrics'!CC$5), IF($B10=\"Avg Ticket\",SUMIFS(Weekly_Data_Raw[AVG_TICKET],Weekly_Data_Raw[TICKER],'Weekly Metrics'!$A10,Weekly_Data_Raw[END_DATE],'Weekly Metrics'!CC$5), IF($B10=\"EOP Subscribers\",SUMIFS(Weekly_Data_Raw[EOP_SUBSCRIBERS],Weekly_Data_Raw[TICKER],'Weekly Metrics'!$A10,Weekly_Data_Raw[END_DATE],'Weekly Metrics'!CC$5), IF($B10=\"Gross Adds\",SUMIFS(Weekly_Data_Raw[GROSS_ADDS],Weekly_Data_Raw[TICKER],'Weekly Metrics'!$A10,Weekly_Data_Raw[END_DATE],'Weekly Metrics'!CC$5), IF($B10=\"Churn\",SUMIFS(Weekly_Data_Raw[CHURNED_MEMBERS],Weekly_Data_Raw[TICKER],'Weekly Metrics'!$A10,Weekly_Data_Raw[END_DATE],'Weekly Metrics'!CC$5)))))))","v":24.554892457000001},{"$f":"IF($B10=\"Panel Sales\", SUMIFS(Weekly_Data_Raw[PANEL_AMOUNT],Weekly_Data_Raw[TICKER],'Weekly Metrics'!$A10,Weekly_Data_Raw[END_DATE],'Weekly Metrics'!CD$5),IF($B10=\"Transactions\",SUMIFS(Weekly_Data_Raw[PANEL_TRANSACTIONS],Weekly_Data_Raw[TICKER],'Weekly Metrics'!$A10,Weekly_Data_Raw[END_DATE],'Weekly Metrics'!CD$5), IF($B10=\"Avg Ticket\",SUMIFS(Weekly_Data_Raw[AVG_TICKET],Weekly_Data_Raw[TICKER],'Weekly Metrics'!$A10,Weekly_Data_Raw[END_DATE],'Weekly Metrics'!CD$5), IF($B10=\"EOP Subscribers\",SUMIFS(Weekly_Data_Raw[EOP_SUBSCRIBERS],Weekly_Data_Raw[TICKER],'Weekly Metrics'!$A10,Weekly_Data_Raw[END_DATE],'Weekly Metrics'!CD$5), IF($B10=\"Gross Adds\",SUMIFS(Weekly_Data_Raw[GROSS_ADDS],Weekly_Data_Raw[TICKER],'Weekly Metrics'!$A10,Weekly_Data_Raw[END_DATE],'Weekly Metrics'!CD$5), IF($B10=\"Churn\",SUMIFS(Weekly_Data_Raw[CHURNED_MEMBERS],Weekly_Data_Raw[TICKER],'Weekly Metrics'!$A10,Weekly_Data_Raw[END_DATE],'Weekly Metrics'!CD$5)))))))","v":24.307655298},{"$f":"IF($B10=\"Panel Sales\", SUMIFS(Weekly_Data_Raw[PANEL_AMOUNT],Weekly_Data_Raw[TICKER],'Weekly Metrics'!$A10,Weekly_Data_Raw[END_DATE],'Weekly Metrics'!CE$5),IF($B10=\"Transactions\",SUMIFS(Weekly_Data_Raw[PANEL_TRANSACTIONS],Weekly_Data_Raw[TICKER],'Weekly Metrics'!$A10,Weekly_Data_Raw[END_DATE],'Weekly Metrics'!CE$5), IF($B10=\"Avg Ticket\",SUMIFS(Weekly_Data_Raw[AVG_TICKET],Weekly_Data_Raw[TICKER],'Weekly Metrics'!$A10,Weekly_Data_Raw[END_DATE],'Weekly Metrics'!CE$5), IF($B10=\"EOP Subscribers\",SUMIFS(Weekly_Data_Raw[EOP_SUBSCRIBERS],Weekly_Data_Raw[TICKER],'Weekly Metrics'!$A10,Weekly_Data_Raw[END_DATE],'Weekly Metrics'!CE$5), IF($B10=\"Gross Adds\",SUMIFS(Weekly_Data_Raw[GROSS_ADDS],Weekly_Data_Raw[TICKER],'Weekly Metrics'!$A10,Weekly_Data_Raw[END_DATE],'Weekly Metrics'!CE$5), IF($B10=\"Churn\",SUMIFS(Weekly_Data_Raw[CHURNED_MEMBERS],Weekly_Data_Raw[TICKER],'Weekly Metrics'!$A10,Weekly_Data_Raw[END_DATE],'Weekly Metrics'!CE$5)))))))","v":23.235961277000001},{"$f":"IF($B10=\"Panel Sales\", SUMIFS(Weekly_Data_Raw[PANEL_AMOUNT],Weekly_Data_Raw[TICKER],'Weekly Metrics'!$A10,Weekly_Data_Raw[END_DATE],'Weekly Metrics'!CF$5),IF($B10=\"Transactions\",SUMIFS(Weekly_Data_Raw[PANEL_TRANSACTIONS],Weekly_Data_Raw[TICKER],'Weekly Metrics'!$A10,Weekly_Data_Raw[END_DATE],'Weekly Metrics'!CF$5), IF($B10=\"Avg Ticket\",SUMIFS(Weekly_Data_Raw[AVG_TICKET],Weekly_Data_Raw[TICKER],'Weekly Metrics'!$A10,Weekly_Data_Raw[END_DATE],'Weekly Metrics'!CF$5), IF($B10=\"EOP Subscribers\",SUMIFS(Weekly_Data_Raw[EOP_SUBSCRIBERS],Weekly_Data_Raw[TICKER],'Weekly Metrics'!$A10,Weekly_Data_Raw[END_DATE],'Weekly Metrics'!CF$5), IF($B10=\"Gross Adds\",SUMIFS(Weekly_Data_Raw[GROSS_ADDS],Weekly_Data_Raw[TICKER],'Weekly Metrics'!$A10,Weekly_Data_Raw[END_DATE],'Weekly Metrics'!CF$5), IF($B10=\"Churn\",SUMIFS(Weekly_Data_Raw[CHURNED_MEMBERS],Weekly_Data_Raw[TICKER],'Weekly Metrics'!$A10,Weekly_Data_Raw[END_DATE],'Weekly Metrics'!CF$5)))))))","v":23.875322695000001},{"$f":"IF($B10=\"Panel Sales\", SUMIFS(Weekly_Data_Raw[PANEL_AMOUNT],Weekly_Data_Raw[TICKER],'Weekly Metrics'!$A10,Weekly_Data_Raw[END_DATE],'Weekly Metrics'!CG$5),IF($B10=\"Transactions\",SUMIFS(Weekly_Data_Raw[PANEL_TRANSACTIONS],Weekly_Data_Raw[TICKER],'Weekly Metrics'!$A10,Weekly_Data_Raw[END_DATE],'Weekly Metrics'!CG$5), IF($B10=\"Avg Ticket\",SUMIFS(Weekly_Data_Raw[AVG_TICKET],Weekly_Data_Raw[TICKER],'Weekly Metrics'!$A10,Weekly_Data_Raw[END_DATE],'Weekly Metrics'!CG$5), IF($B10=\"EOP Subscribers\",SUMIFS(Weekly_Data_Raw[EOP_SUBSCRIBERS],Weekly_Data_Raw[TICKER],'Weekly Metrics'!$A10,Weekly_Data_Raw[END_DATE],'Weekly Metrics'!CG$5), IF($B10=\"Gross Adds\",SUMIFS(Weekly_Data_Raw[GROSS_ADDS],Weekly_Data_Raw[TICKER],'Weekly Metrics'!$A10,Weekly_Data_Raw[END_DATE],'Weekly Metrics'!CG$5), IF($B10=\"Churn\",SUMIFS(Weekly_Data_Raw[CHURNED_MEMBERS],Weekly_Data_Raw[TICKER],'Weekly Metrics'!$A10,Weekly_Data_Raw[END_DATE],'Weekly Metrics'!CG$5)))))))","v":24.285100428},{"$f":"IF($B10=\"Panel Sales\", SUMIFS(Weekly_Data_Raw[PANEL_AMOUNT],Weekly_Data_Raw[TICKER],'Weekly Metrics'!$A10,Weekly_Data_Raw[END_DATE],'Weekly Metrics'!CH$5),IF($B10=\"Transactions\",SUMIFS(Weekly_Data_Raw[PANEL_TRANSACTIONS],Weekly_Data_Raw[TICKER],'Weekly Metrics'!$A10,Weekly_Data_Raw[END_DATE],'Weekly Metrics'!CH$5), IF($B10=\"Avg Ticket\",SUMIFS(Weekly_Data_Raw[AVG_TICKET],Weekly_Data_Raw[TICKER],'Weekly Metrics'!$A10,Weekly_Data_Raw[END_DATE],'Weekly Metrics'!CH$5), IF($B10=\"EOP Subscribers\",SUMIFS(Weekly_Data_Raw[EOP_SUBSCRIBERS],Weekly_Data_Raw[TICKER],'Weekly Metrics'!$A10,Weekly_Data_Raw[END_DATE],'Weekly Metrics'!CH$5), IF($B10=\"Gross Adds\",SUMIFS(Weekly_Data_Raw[GROSS_ADDS],Weekly_Data_Raw[TICKER],'Weekly Metrics'!$A10,Weekly_Data_Raw[END_DATE],'Weekly Metrics'!CH$5), IF($B10=\"Churn\",SUMIFS(Weekly_Data_Raw[CHURNED_MEMBERS],Weekly_Data_Raw[TICKER],'Weekly Metrics'!$A10,Weekly_Data_Raw[END_DATE],'Weekly Metrics'!CH$5)))))))","v":23.487377048999999},{"$f":"IF($B10=\"Panel Sales\", SUMIFS(Weekly_Data_Raw[PANEL_AMOUNT],Weekly_Data_Raw[TICKER],'Weekly Metrics'!$A10,Weekly_Data_Raw[END_DATE],'Weekly Metrics'!CI$5),IF($B10=\"Transactions\",SUMIFS(Weekly_Data_Raw[PANEL_TRANSACTIONS],Weekly_Data_Raw[TICKER],'Weekly Metrics'!$A10,Weekly_Data_Raw[END_DATE],'Weekly Metrics'!CI$5), IF($B10=\"Avg Ticket\",SUMIFS(Weekly_Data_Raw[AVG_TICKET],Weekly_Data_Raw[TICKER],'Weekly Metrics'!$A10,Weekly_Data_Raw[END_DATE],'Weekly Metrics'!CI$5), IF($B10=\"EOP Subscribers\",SUMIFS(Weekly_Data_Raw[EOP_SUBSCRIBERS],Weekly_Data_Raw[TICKER],'Weekly Metrics'!$A10,Weekly_Data_Raw[END_DATE],'Weekly Metrics'!CI$5), IF($B10=\"Gross Adds\",SUMIFS(Weekly_Data_Raw[GROSS_ADDS],Weekly_Data_Raw[TICKER],'Weekly Metrics'!$A10,Weekly_Data_Raw[END_DATE],'Weekly Metrics'!CI$5), IF($B10=\"Churn\",SUMIFS(Weekly_Data_Raw[CHURNED_MEMBERS],Weekly_Data_Raw[TICKER],'Weekly Metrics'!$A10,Weekly_Data_Raw[END_DATE],'Weekly Metrics'!CI$5)))))))","v":23.194329699000001},{"$f":"IF($B10=\"Panel Sales\", SUMIFS(Weekly_Data_Raw[PANEL_AMOUNT],Weekly_Data_Raw[TICKER],'Weekly Metrics'!$A10,Weekly_Data_Raw[END_DATE],'Weekly Metrics'!CJ$5),IF($B10=\"Transactions\",SUMIFS(Weekly_Data_Raw[PANEL_TRANSACTIONS],Weekly_Data_Raw[TICKER],'Weekly Metrics'!$A10,Weekly_Data_Raw[END_DATE],'Weekly Metrics'!CJ$5), IF($B10=\"Avg Ticket\",SUMIFS(Weekly_Data_Raw[AVG_TICKET],Weekly_Data_Raw[TICKER],'Weekly Metrics'!$A10,Weekly_Data_Raw[END_DATE],'Weekly Metrics'!CJ$5), IF($B10=\"EOP Subscribers\",SUMIFS(Weekly_Data_Raw[EOP_SUBSCRIBERS],Weekly_Data_Raw[TICKER],'Weekly Metrics'!$A10,Weekly_Data_Raw[END_DATE],'Weekly Metrics'!CJ$5), IF($B10=\"Gross Adds\",SUMIFS(Weekly_Data_Raw[GROSS_ADDS],Weekly_Data_Raw[TICKER],'Weekly Metrics'!$A10,Weekly_Data_Raw[END_DATE],'Weekly Metrics'!CJ$5), IF($B10=\"Churn\",SUMIFS(Weekly_Data_Raw[CHURNED_MEMBERS],Weekly_Data_Raw[TICKER],'Weekly Metrics'!$A10,Weekly_Data_Raw[END_DATE],'Weekly Metrics'!CJ$5)))))))","v":23.390379049},{"$f":"IF($B10=\"Panel Sales\", SUMIFS(Weekly_Data_Raw[PANEL_AMOUNT],Weekly_Data_Raw[TICKER],'Weekly Metrics'!$A10,Weekly_Data_Raw[END_DATE],'Weekly Metrics'!CK$5),IF($B10=\"Transactions\",SUMIFS(Weekly_Data_Raw[PANEL_TRANSACTIONS],Weekly_Data_Raw[TICKER],'Weekly Metrics'!$A10,Weekly_Data_Raw[END_DATE],'Weekly Metrics'!CK$5), IF($B10=\"Avg Ticket\",SUMIFS(Weekly_Data_Raw[AVG_TICKET],Weekly_Data_Raw[TICKER],'Weekly Metrics'!$A10,Weekly_Data_Raw[END_DATE],'Weekly Metrics'!CK$5), IF($B10=\"EOP Subscribers\",SUMIFS(Weekly_Data_Raw[EOP_SUBSCRIBERS],Weekly_Data_Raw[TICKER],'Weekly Metrics'!$A10,Weekly_Data_Raw[END_DATE],'Weekly Metrics'!CK$5), IF($B10=\"Gross Adds\",SUMIFS(Weekly_Data_Raw[GROSS_ADDS],Weekly_Data_Raw[TICKER],'Weekly Metrics'!$A10,Weekly_Data_Raw[END_DATE],'Weekly Metrics'!CK$5), IF($B10=\"Churn\",SUMIFS(Weekly_Data_Raw[CHURNED_MEMBERS],Weekly_Data_Raw[TICKER],'Weekly Metrics'!$A10,Weekly_Data_Raw[END_DATE],'Weekly Metrics'!CK$5)))))))","v":23.960136554999998},{"$f":"IF($B10=\"Panel Sales\", SUMIFS(Weekly_Data_Raw[PANEL_AMOUNT],Weekly_Data_Raw[TICKER],'Weekly Metrics'!$A10,Weekly_Data_Raw[END_DATE],'Weekly Metrics'!CL$5),IF($B10=\"Transactions\",SUMIFS(Weekly_Data_Raw[PANEL_TRANSACTIONS],Weekly_Data_Raw[TICKER],'Weekly Metrics'!$A10,Weekly_Data_Raw[END_DATE],'Weekly Metrics'!CL$5), IF($B10=\"Avg Ticket\",SUMIFS(Weekly_Data_Raw[AVG_TICKET],Weekly_Data_Raw[TICKER],'Weekly Metrics'!$A10,Weekly_Data_Raw[END_DATE],'Weekly Metrics'!CL$5), IF($B10=\"EOP Subscribers\",SUMIFS(Weekly_Data_Raw[EOP_SUBSCRIBERS],Weekly_Data_Raw[TICKER],'Weekly Metrics'!$A10,Weekly_Data_Raw[END_DATE],'Weekly Metrics'!CL$5), IF($B10=\"Gross Adds\",SUMIFS(Weekly_Data_Raw[GROSS_ADDS],Weekly_Data_Raw[TICKER],'Weekly Metrics'!$A10,Weekly_Data_Raw[END_DATE],'Weekly Metrics'!CL$5), IF($B10=\"Churn\",SUMIFS(Weekly_Data_Raw[CHURNED_MEMBERS],Weekly_Data_Raw[TICKER],'Weekly Metrics'!$A10,Weekly_Data_Raw[END_DATE],'Weekly Metrics'!CL$5)))))))","v":23.039904084},{"$f":"IF($B10=\"Panel Sales\", SUMIFS(Weekly_Data_Raw[PANEL_AMOUNT],Weekly_Data_Raw[TICKER],'Weekly Metrics'!$A10,Weekly_Data_Raw[END_DATE],'Weekly Metrics'!CM$5),IF($B10=\"Transactions\",SUMIFS(Weekly_Data_Raw[PANEL_TRANSACTIONS],Weekly_Data_Raw[TICKER],'Weekly Metrics'!$A10,Weekly_Data_Raw[END_DATE],'Weekly Metrics'!CM$5), IF($B10=\"Avg Ticket\",SUMIFS(Weekly_Data_Raw[AVG_TICKET],Weekly_Data_Raw[TICKER],'Weekly Metrics'!$A10,Weekly_Data_Raw[END_DATE],'Weekly Metrics'!CM$5), IF($B10=\"EOP Subscribers\",SUMIFS(Weekly_Data_Raw[EOP_SUBSCRIBERS],Weekly_Data_Raw[TICKER],'Weekly Metrics'!$A10,Weekly_Data_Raw[END_DATE],'Weekly Metrics'!CM$5), IF($B10=\"Gross Adds\",SUMIFS(Weekly_Data_Raw[GROSS_ADDS],Weekly_Data_Raw[TICKER],'Weekly Metrics'!$A10,Weekly_Data_Raw[END_DATE],'Weekly Metrics'!CM$5), IF($B10=\"Churn\",SUMIFS(Weekly_Data_Raw[CHURNED_MEMBERS],Weekly_Data_Raw[TICKER],'Weekly Metrics'!$A10,Weekly_Data_Raw[END_DATE],'Weekly Metrics'!CM$5)))))))","v":23.270987967},{"$f":"IF($B10=\"Panel Sales\", SUMIFS(Weekly_Data_Raw[PANEL_AMOUNT],Weekly_Data_Raw[TICKER],'Weekly Metrics'!$A10,Weekly_Data_Raw[END_DATE],'Weekly Metrics'!CN$5),IF($B10=\"Transactions\",SUMIFS(Weekly_Data_Raw[PANEL_TRANSACTIONS],Weekly_Data_Raw[TICKER],'Weekly Metrics'!$A10,Weekly_Data_Raw[END_DATE],'Weekly Metrics'!CN$5), IF($B10=\"Avg Ticket\",SUMIFS(Weekly_Data_Raw[AVG_TICKET],Weekly_Data_Raw[TICKER],'Weekly Metrics'!$A10,Weekly_Data_Raw[END_DATE],'Weekly Metrics'!CN$5), IF($B10=\"EOP Subscribers\",SUMIFS(Weekly_Data_Raw[EOP_SUBSCRIBERS],Weekly_Data_Raw[TICKER],'Weekly Metrics'!$A10,Weekly_Data_Raw[END_DATE],'Weekly Metrics'!CN$5), IF($B10=\"Gross Adds\",SUMIFS(Weekly_Data_Raw[GROSS_ADDS],Weekly_Data_Raw[TICKER],'Weekly Metrics'!$A10,Weekly_Data_Raw[END_DATE],'Weekly Metrics'!CN$5), IF($B10=\"Churn\",SUMIFS(Weekly_Data_Raw[CHURNED_MEMBERS],Weekly_Data_Raw[TICKER],'Weekly Metrics'!$A10,Weekly_Data_Raw[END_DATE],'Weekly Metrics'!CN$5)))))))","v":23.368769066999999},{"$f":"IF($B10=\"Panel Sales\", SUMIFS(Weekly_Data_Raw[PANEL_AMOUNT],Weekly_Data_Raw[TICKER],'Weekly Metrics'!$A10,Weekly_Data_Raw[END_DATE],'Weekly Metrics'!CO$5),IF($B10=\"Transactions\",SUMIFS(Weekly_Data_Raw[PANEL_TRANSACTIONS],Weekly_Data_Raw[TICKER],'Weekly Metrics'!$A10,Weekly_Data_Raw[END_DATE],'Weekly Metrics'!CO$5), IF($B10=\"Avg Ticket\",SUMIFS(Weekly_Data_Raw[AVG_TICKET],Weekly_Data_Raw[TICKER],'Weekly Metrics'!$A10,Weekly_Data_Raw[END_DATE],'Weekly Metrics'!CO$5), IF($B10=\"EOP Subscribers\",SUMIFS(Weekly_Data_Raw[EOP_SUBSCRIBERS],Weekly_Data_Raw[TICKER],'Weekly Metrics'!$A10,Weekly_Data_Raw[END_DATE],'Weekly Metrics'!CO$5), IF($B10=\"Gross Adds\",SUMIFS(Weekly_Data_Raw[GROSS_ADDS],Weekly_Data_Raw[TICKER],'Weekly Metrics'!$A10,Weekly_Data_Raw[END_DATE],'Weekly Metrics'!CO$5), IF($B10=\"Churn\",SUMIFS(Weekly_Data_Raw[CHURNED_MEMBERS],Weekly_Data_Raw[TICKER],'Weekly Metrics'!$A10,Weekly_Data_Raw[END_DATE],'Weekly Metrics'!CO$5)))))))","v":23.828031052},{"$f":"IF($B10=\"Panel Sales\", SUMIFS(Weekly_Data_Raw[PANEL_AMOUNT],Weekly_Data_Raw[TICKER],'Weekly Metrics'!$A10,Weekly_Data_Raw[END_DATE],'Weekly Metrics'!CP$5),IF($B10=\"Transactions\",SUMIFS(Weekly_Data_Raw[PANEL_TRANSACTIONS],Weekly_Data_Raw[TICKER],'Weekly Metrics'!$A10,Weekly_Data_Raw[END_DATE],'Weekly Metrics'!CP$5), IF($B10=\"Avg Ticket\",SUMIFS(Weekly_Data_Raw[AVG_TICKET],Weekly_Data_Raw[TICKER],'Weekly Metrics'!$A10,Weekly_Data_Raw[END_DATE],'Weekly Metrics'!CP$5), IF($B10=\"EOP Subscribers\",SUMIFS(Weekly_Data_Raw[EOP_SUBSCRIBERS],Weekly_Data_Raw[TICKER],'Weekly Metrics'!$A10,Weekly_Data_Raw[END_DATE],'Weekly Metrics'!CP$5), IF($B10=\"Gross Adds\",SUMIFS(Weekly_Data_Raw[GROSS_ADDS],Weekly_Data_Raw[TICKER],'Weekly Metrics'!$A10,Weekly_Data_Raw[END_DATE],'Weekly Metrics'!CP$5), IF($B10=\"Churn\",SUMIFS(Weekly_Data_Raw[CHURNED_MEMBERS],Weekly_Data_Raw[TICKER],'Weekly Metrics'!$A10,Weekly_Data_Raw[END_DATE],'Weekly Metrics'!CP$5)))))))","v":23.332782452},{"$f":"IF($B10=\"Panel Sales\", SUMIFS(Weekly_Data_Raw[PANEL_AMOUNT],Weekly_Data_Raw[TICKER],'Weekly Metrics'!$A10,Weekly_Data_Raw[END_DATE],'Weekly Metrics'!CQ$5),IF($B10=\"Transactions\",SUMIFS(Weekly_Data_Raw[PANEL_TRANSACTIONS],Weekly_Data_Raw[TICKER],'Weekly Metrics'!$A10,Weekly_Data_Raw[END_DATE],'Weekly Metrics'!CQ$5), IF($B10=\"Avg Ticket\",SUMIFS(Weekly_Data_Raw[AVG_TICKET],Weekly_Data_Raw[TICKER],'Weekly Metrics'!$A10,Weekly_Data_Raw[END_DATE],'Weekly Metrics'!CQ$5), IF($B10=\"EOP Subscribers\",SUMIFS(Weekly_Data_Raw[EOP_SUBSCRIBERS],Weekly_Data_Raw[TICKER],'Weekly Metrics'!$A10,Weekly_Data_Raw[END_DATE],'Weekly Metrics'!CQ$5), IF($B10=\"Gross Adds\",SUMIFS(Weekly_Data_Raw[GROSS_ADDS],Weekly_Data_Raw[TICKER],'Weekly Metrics'!$A10,Weekly_Data_Raw[END_DATE],'Weekly Metrics'!CQ$5), IF($B10=\"Churn\",SUMIFS(Weekly_Data_Raw[CHURNED_MEMBERS],Weekly_Data_Raw[TICKER],'Weekly Metrics'!$A10,Weekly_Data_Raw[END_DATE],'Weekly Metrics'!CQ$5)))))))","v":23.204871328999999},{"$f":"IF($B10=\"Panel Sales\", SUMIFS(Weekly_Data_Raw[PANEL_AMOUNT],Weekly_Data_Raw[TICKER],'Weekly Metrics'!$A10,Weekly_Data_Raw[END_DATE],'Weekly Metrics'!CR$5),IF($B10=\"Transactions\",SUMIFS(Weekly_Data_Raw[PANEL_TRANSACTIONS],Weekly_Data_Raw[TICKER],'Weekly Metrics'!$A10,Weekly_Data_Raw[END_DATE],'Weekly Metrics'!CR$5), IF($B10=\"Avg Ticket\",SUMIFS(Weekly_Data_Raw[AVG_TICKET],Weekly_Data_Raw[TICKER],'Weekly Metrics'!$A10,Weekly_Data_Raw[END_DATE],'Weekly Metrics'!CR$5), IF($B10=\"EOP Subscribers\",SUMIFS(Weekly_Data_Raw[EOP_SUBSCRIBERS],Weekly_Data_Raw[TICKER],'Weekly Metrics'!$A10,Weekly_Data_Raw[END_DATE],'Weekly Metrics'!CR$5), IF($B10=\"Gross Adds\",SUMIFS(Weekly_Data_Raw[GROSS_ADDS],Weekly_Data_Raw[TICKER],'Weekly Metrics'!$A10,Weekly_Data_Raw[END_DATE],'Weekly Metrics'!CR$5), IF($B10=\"Churn\",SUMIFS(Weekly_Data_Raw[CHURNED_MEMBERS],Weekly_Data_Raw[TICKER],'Weekly Metrics'!$A10,Weekly_Data_Raw[END_DATE],'Weekly Metrics'!CR$5)))))))","v":23.463599857999998},{"$f":"IF($B10=\"Panel Sales\", SUMIFS(Weekly_Data_Raw[PANEL_AMOUNT],Weekly_Data_Raw[TICKER],'Weekly Metrics'!$A10,Weekly_Data_Raw[END_DATE],'Weekly Metrics'!CS$5),IF($B10=\"Transactions\",SUMIFS(Weekly_Data_Raw[PANEL_TRANSACTIONS],Weekly_Data_Raw[TICKER],'Weekly Metrics'!$A10,Weekly_Data_Raw[END_DATE],'Weekly Metrics'!CS$5), IF($B10=\"Avg Ticket\",SUMIFS(Weekly_Data_Raw[AVG_TICKET],Weekly_Data_Raw[TICKER],'Weekly Metrics'!$A10,Weekly_Data_Raw[END_DATE],'Weekly Metrics'!CS$5), IF($B10=\"EOP Subscribers\",SUMIFS(Weekly_Data_Raw[EOP_SUBSCRIBERS],Weekly_Data_Raw[TICKER],'Weekly Metrics'!$A10,Weekly_Data_Raw[END_DATE],'Weekly Metrics'!CS$5), IF($B10=\"Gross Adds\",SUMIFS(Weekly_Data_Raw[GROSS_ADDS],Weekly_Data_Raw[TICKER],'Weekly Metrics'!$A10,Weekly_Data_Raw[END_DATE],'Weekly Metrics'!CS$5), IF($B10=\"Churn\",SUMIFS(Weekly_Data_Raw[CHURNED_MEMBERS],Weekly_Data_Raw[TICKER],'Weekly Metrics'!$A10,Weekly_Data_Raw[END_DATE],'Weekly Metrics'!CS$5)))))))","v":23.375717770000001},{"$f":"IF($B10=\"Panel Sales\", SUMIFS(Weekly_Data_Raw[PANEL_AMOUNT],Weekly_Data_Raw[TICKER],'Weekly Metrics'!$A10,Weekly_Data_Raw[END_DATE],'Weekly Metrics'!CT$5),IF($B10=\"Transactions\",SUMIFS(Weekly_Data_Raw[PANEL_TRANSACTIONS],Weekly_Data_Raw[TICKER],'Weekly Metrics'!$A10,Weekly_Data_Raw[END_DATE],'Weekly Metrics'!CT$5), IF($B10=\"Avg Ticket\",SUMIFS(Weekly_Data_Raw[AVG_TICKET],Weekly_Data_Raw[TICKER],'Weekly Metrics'!$A10,Weekly_Data_Raw[END_DATE],'Weekly Metrics'!CT$5), IF($B10=\"EOP Subscribers\",SUMIFS(Weekly_Data_Raw[EOP_SUBSCRIBERS],Weekly_Data_Raw[TICKER],'Weekly Metrics'!$A10,Weekly_Data_Raw[END_DATE],'Weekly Metrics'!CT$5), IF($B10=\"Gross Adds\",SUMIFS(Weekly_Data_Raw[GROSS_ADDS],Weekly_Data_Raw[TICKER],'Weekly Metrics'!$A10,Weekly_Data_Raw[END_DATE],'Weekly Metrics'!CT$5), IF($B10=\"Churn\",SUMIFS(Weekly_Data_Raw[CHURNED_MEMBERS],Weekly_Data_Raw[TICKER],'Weekly Metrics'!$A10,Weekly_Data_Raw[END_DATE],'Weekly Metrics'!CT$5)))))))","v":23.400367445000001},{"$f":"IF($B10=\"Panel Sales\", SUMIFS(Weekly_Data_Raw[PANEL_AMOUNT],Weekly_Data_Raw[TICKER],'Weekly Metrics'!$A10,Weekly_Data_Raw[END_DATE],'Weekly Metrics'!CU$5),IF($B10=\"Transactions\",SUMIFS(Weekly_Data_Raw[PANEL_TRANSACTIONS],Weekly_Data_Raw[TICKER],'Weekly Metrics'!$A10,Weekly_Data_Raw[END_DATE],'Weekly Metrics'!CU$5), IF($B10=\"Avg Ticket\",SUMIFS(Weekly_Data_Raw[AVG_TICKET],Weekly_Data_Raw[TICKER],'Weekly Metrics'!$A10,Weekly_Data_Raw[END_DATE],'Weekly Metrics'!CU$5), IF($B10=\"EOP Subscribers\",SUMIFS(Weekly_Data_Raw[EOP_SUBSCRIBERS],Weekly_Data_Raw[TICKER],'Weekly Metrics'!$A10,Weekly_Data_Raw[END_DATE],'Weekly Metrics'!CU$5), IF($B10=\"Gross Adds\",SUMIFS(Weekly_Data_Raw[GROSS_ADDS],Weekly_Data_Raw[TICKER],'Weekly Metrics'!$A10,Weekly_Data_Raw[END_DATE],'Weekly Metrics'!CU$5), IF($B10=\"Churn\",SUMIFS(Weekly_Data_Raw[CHURNED_MEMBERS],Weekly_Data_Raw[TICKER],'Weekly Metrics'!$A10,Weekly_Data_Raw[END_DATE],'Weekly Metrics'!CU$5)))))))","v":22.234297003999998},{"$f":"IF($B10=\"Panel Sales\", SUMIFS(Weekly_Data_Raw[PANEL_AMOUNT],Weekly_Data_Raw[TICKER],'Weekly Metrics'!$A10,Weekly_Data_Raw[END_DATE],'Weekly Metrics'!CV$5),IF($B10=\"Transactions\",SUMIFS(Weekly_Data_Raw[PANEL_TRANSACTIONS],Weekly_Data_Raw[TICKER],'Weekly Metrics'!$A10,Weekly_Data_Raw[END_DATE],'Weekly Metrics'!CV$5), IF($B10=\"Avg Ticket\",SUMIFS(Weekly_Data_Raw[AVG_TICKET],Weekly_Data_Raw[TICKER],'Weekly Metrics'!$A10,Weekly_Data_Raw[END_DATE],'Weekly Metrics'!CV$5), IF($B10=\"EOP Subscribers\",SUMIFS(Weekly_Data_Raw[EOP_SUBSCRIBERS],Weekly_Data_Raw[TICKER],'Weekly Metrics'!$A10,Weekly_Data_Raw[END_DATE],'Weekly Metrics'!CV$5), IF($B10=\"Gross Adds\",SUMIFS(Weekly_Data_Raw[GROSS_ADDS],Weekly_Data_Raw[TICKER],'Weekly Metrics'!$A10,Weekly_Data_Raw[END_DATE],'Weekly Metrics'!CV$5), IF($B10=\"Churn\",SUMIFS(Weekly_Data_Raw[CHURNED_MEMBERS],Weekly_Data_Raw[TICKER],'Weekly Metrics'!$A10,Weekly_Data_Raw[END_DATE],'Weekly Metrics'!CV$5)))))))","v":23.133468371999999},{"$f":"IF($B10=\"Panel Sales\", SUMIFS(Weekly_Data_Raw[PANEL_AMOUNT],Weekly_Data_Raw[TICKER],'Weekly Metrics'!$A10,Weekly_Data_Raw[END_DATE],'Weekly Metrics'!CW$5),IF($B10=\"Transactions\",SUMIFS(Weekly_Data_Raw[PANEL_TRANSACTIONS],Weekly_Data_Raw[TICKER],'Weekly Metrics'!$A10,Weekly_Data_Raw[END_DATE],'Weekly Metrics'!CW$5), IF($B10=\"Avg Ticket\",SUMIFS(Weekly_Data_Raw[AVG_TICKET],Weekly_Data_Raw[TICKER],'Weekly Metrics'!$A10,Weekly_Data_Raw[END_DATE],'Weekly Metrics'!CW$5), IF($B10=\"EOP Subscribers\",SUMIFS(Weekly_Data_Raw[EOP_SUBSCRIBERS],Weekly_Data_Raw[TICKER],'Weekly Metrics'!$A10,Weekly_Data_Raw[END_DATE],'Weekly Metrics'!CW$5), IF($B10=\"Gross Adds\",SUMIFS(Weekly_Data_Raw[GROSS_ADDS],Weekly_Data_Raw[TICKER],'Weekly Metrics'!$A10,Weekly_Data_Raw[END_DATE],'Weekly Metrics'!CW$5), IF($B10=\"Churn\",SUMIFS(Weekly_Data_Raw[CHURNED_MEMBERS],Weekly_Data_Raw[TICKER],'Weekly Metrics'!$A10,Weekly_Data_Raw[END_DATE],'Weekly Metrics'!CW$5)))))))","v":22.862220170000001},{"$f":"IF($B10=\"Panel Sales\", SUMIFS(Weekly_Data_Raw[PANEL_AMOUNT],Weekly_Data_Raw[TICKER],'Weekly Metrics'!$A10,Weekly_Data_Raw[END_DATE],'Weekly Metrics'!CX$5),IF($B10=\"Transactions\",SUMIFS(Weekly_Data_Raw[PANEL_TRANSACTIONS],Weekly_Data_Raw[TICKER],'Weekly Metrics'!$A10,Weekly_Data_Raw[END_DATE],'Weekly Metrics'!CX$5), IF($B10=\"Avg Ticket\",SUMIFS(Weekly_Data_Raw[AVG_TICKET],Weekly_Data_Raw[TICKER],'Weekly Metrics'!$A10,Weekly_Data_Raw[END_DATE],'Weekly Metrics'!CX$5), IF($B10=\"EOP Subscribers\",SUMIFS(Weekly_Data_Raw[EOP_SUBSCRIBERS],Weekly_Data_Raw[TICKER],'Weekly Metrics'!$A10,Weekly_Data_Raw[END_DATE],'Weekly Metrics'!CX$5), IF($B10=\"Gross Adds\",SUMIFS(Weekly_Data_Raw[GROSS_ADDS],Weekly_Data_Raw[TICKER],'Weekly Metrics'!$A10,Weekly_Data_Raw[END_DATE],'Weekly Metrics'!CX$5), IF($B10=\"Churn\",SUMIFS(Weekly_Data_Raw[CHURNED_MEMBERS],Weekly_Data_Raw[TICKER],'Weekly Metrics'!$A10,Weekly_Data_Raw[END_DATE],'Weekly Metrics'!CX$5)))))))","v":23.268613524999999},{"$f":"IF($B10=\"Panel Sales\", SUMIFS(Weekly_Data_Raw[PANEL_AMOUNT],Weekly_Data_Raw[TICKER],'Weekly Metrics'!$A10,Weekly_Data_Raw[END_DATE],'Weekly Metrics'!CY$5),IF($B10=\"Transactions\",SUMIFS(Weekly_Data_Raw[PANEL_TRANSACTIONS],Weekly_Data_Raw[TICKER],'Weekly Metrics'!$A10,Weekly_Data_Raw[END_DATE],'Weekly Metrics'!CY$5), IF($B10=\"Avg Ticket\",SUMIFS(Weekly_Data_Raw[AVG_TICKET],Weekly_Data_Raw[TICKER],'Weekly Metrics'!$A10,Weekly_Data_Raw[END_DATE],'Weekly Metrics'!CY$5), IF($B10=\"EOP Subscribers\",SUMIFS(Weekly_Data_Raw[EOP_SUBSCRIBERS],Weekly_Data_Raw[TICKER],'Weekly Metrics'!$A10,Weekly_Data_Raw[END_DATE],'Weekly Metrics'!CY$5), IF($B10=\"Gross Adds\",SUMIFS(Weekly_Data_Raw[GROSS_ADDS],Weekly_Data_Raw[TICKER],'Weekly Metrics'!$A10,Weekly_Data_Raw[END_DATE],'Weekly Metrics'!CY$5), IF($B10=\"Churn\",SUMIFS(Weekly_Data_Raw[CHURNED_MEMBERS],Weekly_Data_Raw[TICKER],'Weekly Metrics'!$A10,Weekly_Data_Raw[END_DATE],'Weekly Metrics'!CY$5)))))))","v":22.126805064999999},{"$f":"IF($B10=\"Panel Sales\", SUMIFS(Weekly_Data_Raw[PANEL_AMOUNT],Weekly_Data_Raw[TICKER],'Weekly Metrics'!$A10,Weekly_Data_Raw[END_DATE],'Weekly Metrics'!CZ$5),IF($B10=\"Transactions\",SUMIFS(Weekly_Data_Raw[PANEL_TRANSACTIONS],Weekly_Data_Raw[TICKER],'Weekly Metrics'!$A10,Weekly_Data_Raw[END_DATE],'Weekly Metrics'!CZ$5), IF($B10=\"Avg Ticket\",SUMIFS(Weekly_Data_Raw[AVG_TICKET],Weekly_Data_Raw[TICKER],'Weekly Metrics'!$A10,Weekly_Data_Raw[END_DATE],'Weekly Metrics'!CZ$5), IF($B10=\"EOP Subscribers\",SUMIFS(Weekly_Data_Raw[EOP_SUBSCRIBERS],Weekly_Data_Raw[TICKER],'Weekly Metrics'!$A10,Weekly_Data_Raw[END_DATE],'Weekly Metrics'!CZ$5), IF($B10=\"Gross Adds\",SUMIFS(Weekly_Data_Raw[GROSS_ADDS],Weekly_Data_Raw[TICKER],'Weekly Metrics'!$A10,Weekly_Data_Raw[END_DATE],'Weekly Metrics'!CZ$5), IF($B10=\"Churn\",SUMIFS(Weekly_Data_Raw[CHURNED_MEMBERS],Weekly_Data_Raw[TICKER],'Weekly Metrics'!$A10,Weekly_Data_Raw[END_DATE],'Weekly Metrics'!CZ$5)))))))","v":23.696337331999999},{"$f":"IF($B10=\"Panel Sales\", SUMIFS(Weekly_Data_Raw[PANEL_AMOUNT],Weekly_Data_Raw[TICKER],'Weekly Metrics'!$A10,Weekly_Data_Raw[END_DATE],'Weekly Metrics'!DA$5),IF($B10=\"Transactions\",SUMIFS(Weekly_Data_Raw[PANEL_TRANSACTIONS],Weekly_Data_Raw[TICKER],'Weekly Metrics'!$A10,Weekly_Data_Raw[END_DATE],'Weekly Metrics'!DA$5), IF($B10=\"Avg Ticket\",SUMIFS(Weekly_Data_Raw[AVG_TICKET],Weekly_Data_Raw[TICKER],'Weekly Metrics'!$A10,Weekly_Data_Raw[END_DATE],'Weekly Metrics'!DA$5), IF($B10=\"EOP Subscribers\",SUMIFS(Weekly_Data_Raw[EOP_SUBSCRIBERS],Weekly_Data_Raw[TICKER],'Weekly Metrics'!$A10,Weekly_Data_Raw[END_DATE],'Weekly Metrics'!DA$5), IF($B10=\"Gross Adds\",SUMIFS(Weekly_Data_Raw[GROSS_ADDS],Weekly_Data_Raw[TICKER],'Weekly Metrics'!$A10,Weekly_Data_Raw[END_DATE],'Weekly Metrics'!DA$5), IF($B10=\"Churn\",SUMIFS(Weekly_Data_Raw[CHURNED_MEMBERS],Weekly_Data_Raw[TICKER],'Weekly Metrics'!$A10,Weekly_Data_Raw[END_DATE],'Weekly Metrics'!DA$5)))))))","v":23.160718147000001},{"$f":"IF($B10=\"Panel Sales\", SUMIFS(Weekly_Data_Raw[PANEL_AMOUNT],Weekly_Data_Raw[TICKER],'Weekly Metrics'!$A10,Weekly_Data_Raw[END_DATE],'Weekly Metrics'!DB$5),IF($B10=\"Transactions\",SUMIFS(Weekly_Data_Raw[PANEL_TRANSACTIONS],Weekly_Data_Raw[TICKER],'Weekly Metrics'!$A10,Weekly_Data_Raw[END_DATE],'Weekly Metrics'!DB$5), IF($B10=\"Avg Ticket\",SUMIFS(Weekly_Data_Raw[AVG_TICKET],Weekly_Data_Raw[TICKER],'Weekly Metrics'!$A10,Weekly_Data_Raw[END_DATE],'Weekly Metrics'!DB$5), IF($B10=\"EOP Subscribers\",SUMIFS(Weekly_Data_Raw[EOP_SUBSCRIBERS],Weekly_Data_Raw[TICKER],'Weekly Metrics'!$A10,Weekly_Data_Raw[END_DATE],'Weekly Metrics'!DB$5), IF($B10=\"Gross Adds\",SUMIFS(Weekly_Data_Raw[GROSS_ADDS],Weekly_Data_Raw[TICKER],'Weekly Metrics'!$A10,Weekly_Data_Raw[END_DATE],'Weekly Metrics'!DB$5), IF($B10=\"Churn\",SUMIFS(Weekly_Data_Raw[CHURNED_MEMBERS],Weekly_Data_Raw[TICKER],'Weekly Metrics'!$A10,Weekly_Data_Raw[END_DATE],'Weekly Metrics'!DB$5)))))))","v":23.102151002999999},{"$f":"IF($B10=\"Panel Sales\", SUMIFS(Weekly_Data_Raw[PANEL_AMOUNT],Weekly_Data_Raw[TICKER],'Weekly Metrics'!$A10,Weekly_Data_Raw[END_DATE],'Weekly Metrics'!DC$5),IF($B10=\"Transactions\",SUMIFS(Weekly_Data_Raw[PANEL_TRANSACTIONS],Weekly_Data_Raw[TICKER],'Weekly Metrics'!$A10,Weekly_Data_Raw[END_DATE],'Weekly Metrics'!DC$5), IF($B10=\"Avg Ticket\",SUMIFS(Weekly_Data_Raw[AVG_TICKET],Weekly_Data_Raw[TICKER],'Weekly Metrics'!$A10,Weekly_Data_Raw[END_DATE],'Weekly Metrics'!DC$5), IF($B10=\"EOP Subscribers\",SUMIFS(Weekly_Data_Raw[EOP_SUBSCRIBERS],Weekly_Data_Raw[TICKER],'Weekly Metrics'!$A10,Weekly_Data_Raw[END_DATE],'Weekly Metrics'!DC$5), IF($B10=\"Gross Adds\",SUMIFS(Weekly_Data_Raw[GROSS_ADDS],Weekly_Data_Raw[TICKER],'Weekly Metrics'!$A10,Weekly_Data_Raw[END_DATE],'Weekly Metrics'!DC$5), IF($B10=\"Churn\",SUMIFS(Weekly_Data_Raw[CHURNED_MEMBERS],Weekly_Data_Raw[TICKER],'Weekly Metrics'!$A10,Weekly_Data_Raw[END_DATE],'Weekly Metrics'!DC$5)))))))","v":21.896194454},{"$f":"IF($B10=\"Panel Sales\", SUMIFS(Weekly_Data_Raw[PANEL_AMOUNT],Weekly_Data_Raw[TICKER],'Weekly Metrics'!$A10,Weekly_Data_Raw[END_DATE],'Weekly Metrics'!DD$5),IF($B10=\"Transactions\",SUMIFS(Weekly_Data_Raw[PANEL_TRANSACTIONS],Weekly_Data_Raw[TICKER],'Weekly Metrics'!$A10,Weekly_Data_Raw[END_DATE],'Weekly Metrics'!DD$5), IF($B10=\"Avg Ticket\",SUMIFS(Weekly_Data_Raw[AVG_TICKET],Weekly_Data_Raw[TICKER],'Weekly Metrics'!$A10,Weekly_Data_Raw[END_DATE],'Weekly Metrics'!DD$5), IF($B10=\"EOP Subscribers\",SUMIFS(Weekly_Data_Raw[EOP_SUBSCRIBERS],Weekly_Data_Raw[TICKER],'Weekly Metrics'!$A10,Weekly_Data_Raw[END_DATE],'Weekly Metrics'!DD$5), IF($B10=\"Gross Adds\",SUMIFS(Weekly_Data_Raw[GROSS_ADDS],Weekly_Data_Raw[TICKER],'Weekly Metrics'!$A10,Weekly_Data_Raw[END_DATE],'Weekly Metrics'!DD$5), IF($B10=\"Churn\",SUMIFS(Weekly_Data_Raw[CHURNED_MEMBERS],Weekly_Data_Raw[TICKER],'Weekly Metrics'!$A10,Weekly_Data_Raw[END_DATE],'Weekly Metrics'!DD$5)))))))","v":22.744454463},{"$f":"IF($B10=\"Panel Sales\", SUMIFS(Weekly_Data_Raw[PANEL_AMOUNT],Weekly_Data_Raw[TICKER],'Weekly Metrics'!$A10,Weekly_Data_Raw[END_DATE],'Weekly Metrics'!DE$5),IF($B10=\"Transactions\",SUMIFS(Weekly_Data_Raw[PANEL_TRANSACTIONS],Weekly_Data_Raw[TICKER],'Weekly Metrics'!$A10,Weekly_Data_Raw[END_DATE],'Weekly Metrics'!DE$5), IF($B10=\"Avg Ticket\",SUMIFS(Weekly_Data_Raw[AVG_TICKET],Weekly_Data_Raw[TICKER],'Weekly Metrics'!$A10,Weekly_Data_Raw[END_DATE],'Weekly Metrics'!DE$5), IF($B10=\"EOP Subscribers\",SUMIFS(Weekly_Data_Raw[EOP_SUBSCRIBERS],Weekly_Data_Raw[TICKER],'Weekly Metrics'!$A10,Weekly_Data_Raw[END_DATE],'Weekly Metrics'!DE$5), IF($B10=\"Gross Adds\",SUMIFS(Weekly_Data_Raw[GROSS_ADDS],Weekly_Data_Raw[TICKER],'Weekly Metrics'!$A10,Weekly_Data_Raw[END_DATE],'Weekly Metrics'!DE$5), IF($B10=\"Churn\",SUMIFS(Weekly_Data_Raw[CHURNED_MEMBERS],Weekly_Data_Raw[TICKER],'Weekly Metrics'!$A10,Weekly_Data_Raw[END_DATE],'Weekly Metrics'!DE$5)))))))","v":23.620575767999998},{"$f":"IF($B10=\"Panel Sales\", SUMIFS(Weekly_Data_Raw[PANEL_AMOUNT],Weekly_Data_Raw[TICKER],'Weekly Metrics'!$A10,Weekly_Data_Raw[END_DATE],'Weekly Metrics'!DF$5),IF($B10=\"Transactions\",SUMIFS(Weekly_Data_Raw[PANEL_TRANSACTIONS],Weekly_Data_Raw[TICKER],'Weekly Metrics'!$A10,Weekly_Data_Raw[END_DATE],'Weekly Metrics'!DF$5), IF($B10=\"Avg Ticket\",SUMIFS(Weekly_Data_Raw[AVG_TICKET],Weekly_Data_Raw[TICKER],'Weekly Metrics'!$A10,Weekly_Data_Raw[END_DATE],'Weekly Metrics'!DF$5), IF($B10=\"EOP Subscribers\",SUMIFS(Weekly_Data_Raw[EOP_SUBSCRIBERS],Weekly_Data_Raw[TICKER],'Weekly Metrics'!$A10,Weekly_Data_Raw[END_DATE],'Weekly Metrics'!DF$5), IF($B10=\"Gross Adds\",SUMIFS(Weekly_Data_Raw[GROSS_ADDS],Weekly_Data_Raw[TICKER],'Weekly Metrics'!$A10,Weekly_Data_Raw[END_DATE],'Weekly Metrics'!DF$5), IF($B10=\"Churn\",SUMIFS(Weekly_Data_Raw[CHURNED_MEMBERS],Weekly_Data_Raw[TICKER],'Weekly Metrics'!$A10,Weekly_Data_Raw[END_DATE],'Weekly Metrics'!DF$5)))))))","v":23.862172618999999},{"$f":"IF($B10=\"Panel Sales\", SUMIFS(Weekly_Data_Raw[PANEL_AMOUNT],Weekly_Data_Raw[TICKER],'Weekly Metrics'!$A10,Weekly_Data_Raw[END_DATE],'Weekly Metrics'!DG$5),IF($B10=\"Transactions\",SUMIFS(Weekly_Data_Raw[PANEL_TRANSACTIONS],Weekly_Data_Raw[TICKER],'Weekly Metrics'!$A10,Weekly_Data_Raw[END_DATE],'Weekly Metrics'!DG$5), IF($B10=\"Avg Ticket\",SUMIFS(Weekly_Data_Raw[AVG_TICKET],Weekly_Data_Raw[TICKER],'Weekly Metrics'!$A10,Weekly_Data_Raw[END_DATE],'Weekly Metrics'!DG$5), IF($B10=\"EOP Subscribers\",SUMIFS(Weekly_Data_Raw[EOP_SUBSCRIBERS],Weekly_Data_Raw[TICKER],'Weekly Metrics'!$A10,Weekly_Data_Raw[END_DATE],'Weekly Metrics'!DG$5), IF($B10=\"Gross Adds\",SUMIFS(Weekly_Data_Raw[GROSS_ADDS],Weekly_Data_Raw[TICKER],'Weekly Metrics'!$A10,Weekly_Data_Raw[END_DATE],'Weekly Metrics'!DG$5), IF($B10=\"Churn\",SUMIFS(Weekly_Data_Raw[CHURNED_MEMBERS],Weekly_Data_Raw[TICKER],'Weekly Metrics'!$A10,Weekly_Data_Raw[END_DATE],'Weekly Metrics'!DG$5)))))))","v":23.636671328999999},{"$f":"IF($B10=\"Panel Sales\", SUMIFS(Weekly_Data_Raw[PANEL_AMOUNT],Weekly_Data_Raw[TICKER],'Weekly Metrics'!$A10,Weekly_Data_Raw[END_DATE],'Weekly Metrics'!DH$5),IF($B10=\"Transactions\",SUMIFS(Weekly_Data_Raw[PANEL_TRANSACTIONS],Weekly_Data_Raw[TICKER],'Weekly Metrics'!$A10,Weekly_Data_Raw[END_DATE],'Weekly Metrics'!DH$5), IF($B10=\"Avg Ticket\",SUMIFS(Weekly_Data_Raw[AVG_TICKET],Weekly_Data_Raw[TICKER],'Weekly Metrics'!$A10,Weekly_Data_Raw[END_DATE],'Weekly Metrics'!DH$5), IF($B10=\"EOP Subscribers\",SUMIFS(Weekly_Data_Raw[EOP_SUBSCRIBERS],Weekly_Data_Raw[TICKER],'Weekly Metrics'!$A10,Weekly_Data_Raw[END_DATE],'Weekly Metrics'!DH$5), IF($B10=\"Gross Adds\",SUMIFS(Weekly_Data_Raw[GROSS_ADDS],Weekly_Data_Raw[TICKER],'Weekly Metrics'!$A10,Weekly_Data_Raw[END_DATE],'Weekly Metrics'!DH$5), IF($B10=\"Churn\",SUMIFS(Weekly_Data_Raw[CHURNED_MEMBERS],Weekly_Data_Raw[TICKER],'Weekly Metrics'!$A10,Weekly_Data_Raw[END_DATE],'Weekly Metrics'!DH$5)))))))","v":22.204057607999999},{"$f":"IF($B10=\"Panel Sales\", SUMIFS(Weekly_Data_Raw[PANEL_AMOUNT],Weekly_Data_Raw[TICKER],'Weekly Metrics'!$A10,Weekly_Data_Raw[END_DATE],'Weekly Metrics'!DI$5),IF($B10=\"Transactions\",SUMIFS(Weekly_Data_Raw[PANEL_TRANSACTIONS],Weekly_Data_Raw[TICKER],'Weekly Metrics'!$A10,Weekly_Data_Raw[END_DATE],'Weekly Metrics'!DI$5), IF($B10=\"Avg Ticket\",SUMIFS(Weekly_Data_Raw[AVG_TICKET],Weekly_Data_Raw[TICKER],'Weekly Metrics'!$A10,Weekly_Data_Raw[END_DATE],'Weekly Metrics'!DI$5), IF($B10=\"EOP Subscribers\",SUMIFS(Weekly_Data_Raw[EOP_SUBSCRIBERS],Weekly_Data_Raw[TICKER],'Weekly Metrics'!$A10,Weekly_Data_Raw[END_DATE],'Weekly Metrics'!DI$5), IF($B10=\"Gross Adds\",SUMIFS(Weekly_Data_Raw[GROSS_ADDS],Weekly_Data_Raw[TICKER],'Weekly Metrics'!$A10,Weekly_Data_Raw[END_DATE],'Weekly Metrics'!DI$5), IF($B10=\"Churn\",SUMIFS(Weekly_Data_Raw[CHURNED_MEMBERS],Weekly_Data_Raw[TICKER],'Weekly Metrics'!$A10,Weekly_Data_Raw[END_DATE],'Weekly Metrics'!DI$5)))))))","v":23.225565946},{"$f":"IF($B10=\"Panel Sales\", SUMIFS(Weekly_Data_Raw[PANEL_AMOUNT],Weekly_Data_Raw[TICKER],'Weekly Metrics'!$A10,Weekly_Data_Raw[END_DATE],'Weekly Metrics'!DJ$5),IF($B10=\"Transactions\",SUMIFS(Weekly_Data_Raw[PANEL_TRANSACTIONS],Weekly_Data_Raw[TICKER],'Weekly Metrics'!$A10,Weekly_Data_Raw[END_DATE],'Weekly Metrics'!DJ$5), IF($B10=\"Avg Ticket\",SUMIFS(Weekly_Data_Raw[AVG_TICKET],Weekly_Data_Raw[TICKER],'Weekly Metrics'!$A10,Weekly_Data_Raw[END_DATE],'Weekly Metrics'!DJ$5), IF($B10=\"EOP Subscribers\",SUMIFS(Weekly_Data_Raw[EOP_SUBSCRIBERS],Weekly_Data_Raw[TICKER],'Weekly Metrics'!$A10,Weekly_Data_Raw[END_DATE],'Weekly Metrics'!DJ$5), IF($B10=\"Gross Adds\",SUMIFS(Weekly_Data_Raw[GROSS_ADDS],Weekly_Data_Raw[TICKER],'Weekly Metrics'!$A10,Weekly_Data_Raw[END_DATE],'Weekly Metrics'!DJ$5), IF($B10=\"Churn\",SUMIFS(Weekly_Data_Raw[CHURNED_MEMBERS],Weekly_Data_Raw[TICKER],'Weekly Metrics'!$A10,Weekly_Data_Raw[END_DATE],'Weekly Metrics'!DJ$5)))))))","v":22.937668334000001},{"$f":"IF($B10=\"Panel Sales\", SUMIFS(Weekly_Data_Raw[PANEL_AMOUNT],Weekly_Data_Raw[TICKER],'Weekly Metrics'!$A10,Weekly_Data_Raw[END_DATE],'Weekly Metrics'!DK$5),IF($B10=\"Transactions\",SUMIFS(Weekly_Data_Raw[PANEL_TRANSACTIONS],Weekly_Data_Raw[TICKER],'Weekly Metrics'!$A10,Weekly_Data_Raw[END_DATE],'Weekly Metrics'!DK$5), IF($B10=\"Avg Ticket\",SUMIFS(Weekly_Data_Raw[AVG_TICKET],Weekly_Data_Raw[TICKER],'Weekly Metrics'!$A10,Weekly_Data_Raw[END_DATE],'Weekly Metrics'!DK$5), IF($B10=\"EOP Subscribers\",SUMIFS(Weekly_Data_Raw[EOP_SUBSCRIBERS],Weekly_Data_Raw[TICKER],'Weekly Metrics'!$A10,Weekly_Data_Raw[END_DATE],'Weekly Metrics'!DK$5), IF($B10=\"Gross Adds\",SUMIFS(Weekly_Data_Raw[GROSS_ADDS],Weekly_Data_Raw[TICKER],'Weekly Metrics'!$A10,Weekly_Data_Raw[END_DATE],'Weekly Metrics'!DK$5), IF($B10=\"Churn\",SUMIFS(Weekly_Data_Raw[CHURNED_MEMBERS],Weekly_Data_Raw[TICKER],'Weekly Metrics'!$A10,Weekly_Data_Raw[END_DATE],'Weekly Metrics'!DK$5)))))))","v":22.887794385999999},{"$f":"IF($B10=\"Panel Sales\", SUMIFS(Weekly_Data_Raw[PANEL_AMOUNT],Weekly_Data_Raw[TICKER],'Weekly Metrics'!$A10,Weekly_Data_Raw[END_DATE],'Weekly Metrics'!DL$5),IF($B10=\"Transactions\",SUMIFS(Weekly_Data_Raw[PANEL_TRANSACTIONS],Weekly_Data_Raw[TICKER],'Weekly Metrics'!$A10,Weekly_Data_Raw[END_DATE],'Weekly Metrics'!DL$5), IF($B10=\"Avg Ticket\",SUMIFS(Weekly_Data_Raw[AVG_TICKET],Weekly_Data_Raw[TICKER],'Weekly Metrics'!$A10,Weekly_Data_Raw[END_DATE],'Weekly Metrics'!DL$5), IF($B10=\"EOP Subscribers\",SUMIFS(Weekly_Data_Raw[EOP_SUBSCRIBERS],Weekly_Data_Raw[TICKER],'Weekly Metrics'!$A10,Weekly_Data_Raw[END_DATE],'Weekly Metrics'!DL$5), IF($B10=\"Gross Adds\",SUMIFS(Weekly_Data_Raw[GROSS_ADDS],Weekly_Data_Raw[TICKER],'Weekly Metrics'!$A10,Weekly_Data_Raw[END_DATE],'Weekly Metrics'!DL$5), IF($B10=\"Churn\",SUMIFS(Weekly_Data_Raw[CHURNED_MEMBERS],Weekly_Data_Raw[TICKER],'Weekly Metrics'!$A10,Weekly_Data_Raw[END_DATE],'Weekly Metrics'!DL$5)))))))","v":21.599704582000001},{"$f":"IF($B10=\"Panel Sales\", SUMIFS(Weekly_Data_Raw[PANEL_AMOUNT],Weekly_Data_Raw[TICKER],'Weekly Metrics'!$A10,Weekly_Data_Raw[END_DATE],'Weekly Metrics'!DM$5),IF($B10=\"Transactions\",SUMIFS(Weekly_Data_Raw[PANEL_TRANSACTIONS],Weekly_Data_Raw[TICKER],'Weekly Metrics'!$A10,Weekly_Data_Raw[END_DATE],'Weekly Metrics'!DM$5), IF($B10=\"Avg Ticket\",SUMIFS(Weekly_Data_Raw[AVG_TICKET],Weekly_Data_Raw[TICKER],'Weekly Metrics'!$A10,Weekly_Data_Raw[END_DATE],'Weekly Metrics'!DM$5), IF($B10=\"EOP Subscribers\",SUMIFS(Weekly_Data_Raw[EOP_SUBSCRIBERS],Weekly_Data_Raw[TICKER],'Weekly Metrics'!$A10,Weekly_Data_Raw[END_DATE],'Weekly Metrics'!DM$5), IF($B10=\"Gross Adds\",SUMIFS(Weekly_Data_Raw[GROSS_ADDS],Weekly_Data_Raw[TICKER],'Weekly Metrics'!$A10,Weekly_Data_Raw[END_DATE],'Weekly Metrics'!DM$5), IF($B10=\"Churn\",SUMIFS(Weekly_Data_Raw[CHURNED_MEMBERS],Weekly_Data_Raw[TICKER],'Weekly Metrics'!$A10,Weekly_Data_Raw[END_DATE],'Weekly Metrics'!DM$5)))))))","v":23.422817769000002},{"$f":"IF($B10=\"Panel Sales\", SUMIFS(Weekly_Data_Raw[PANEL_AMOUNT],Weekly_Data_Raw[TICKER],'Weekly Metrics'!$A10,Weekly_Data_Raw[END_DATE],'Weekly Metrics'!DN$5),IF($B10=\"Transactions\",SUMIFS(Weekly_Data_Raw[PANEL_TRANSACTIONS],Weekly_Data_Raw[TICKER],'Weekly Metrics'!$A10,Weekly_Data_Raw[END_DATE],'Weekly Metrics'!DN$5), IF($B10=\"Avg Ticket\",SUMIFS(Weekly_Data_Raw[AVG_TICKET],Weekly_Data_Raw[TICKER],'Weekly Metrics'!$A10,Weekly_Data_Raw[END_DATE],'Weekly Metrics'!DN$5), IF($B10=\"EOP Subscribers\",SUMIFS(Weekly_Data_Raw[EOP_SUBSCRIBERS],Weekly_Data_Raw[TICKER],'Weekly Metrics'!$A10,Weekly_Data_Raw[END_DATE],'Weekly Metrics'!DN$5), IF($B10=\"Gross Adds\",SUMIFS(Weekly_Data_Raw[GROSS_ADDS],Weekly_Data_Raw[TICKER],'Weekly Metrics'!$A10,Weekly_Data_Raw[END_DATE],'Weekly Metrics'!DN$5), IF($B10=\"Churn\",SUMIFS(Weekly_Data_Raw[CHURNED_MEMBERS],Weekly_Data_Raw[TICKER],'Weekly Metrics'!$A10,Weekly_Data_Raw[END_DATE],'Weekly Metrics'!DN$5)))))))","v":22.630860534},{"$f":"IF($B10=\"Panel Sales\", SUMIFS(Weekly_Data_Raw[PANEL_AMOUNT],Weekly_Data_Raw[TICKER],'Weekly Metrics'!$A10,Weekly_Data_Raw[END_DATE],'Weekly Metrics'!DO$5),IF($B10=\"Transactions\",SUMIFS(Weekly_Data_Raw[PANEL_TRANSACTIONS],Weekly_Data_Raw[TICKER],'Weekly Metrics'!$A10,Weekly_Data_Raw[END_DATE],'Weekly Metrics'!DO$5), IF($B10=\"Avg Ticket\",SUMIFS(Weekly_Data_Raw[AVG_TICKET],Weekly_Data_Raw[TICKER],'Weekly Metrics'!$A10,Weekly_Data_Raw[END_DATE],'Weekly Metrics'!DO$5), IF($B10=\"EOP Subscribers\",SUMIFS(Weekly_Data_Raw[EOP_SUBSCRIBERS],Weekly_Data_Raw[TICKER],'Weekly Metrics'!$A10,Weekly_Data_Raw[END_DATE],'Weekly Metrics'!DO$5), IF($B10=\"Gross Adds\",SUMIFS(Weekly_Data_Raw[GROSS_ADDS],Weekly_Data_Raw[TICKER],'Weekly Metrics'!$A10,Weekly_Data_Raw[END_DATE],'Weekly Metrics'!DO$5), IF($B10=\"Churn\",SUMIFS(Weekly_Data_Raw[CHURNED_MEMBERS],Weekly_Data_Raw[TICKER],'Weekly Metrics'!$A10,Weekly_Data_Raw[END_DATE],'Weekly Metrics'!DO$5)))))))","v":23.038418654000001},{"$f":"IF($B10=\"Panel Sales\", SUMIFS(Weekly_Data_Raw[PANEL_AMOUNT],Weekly_Data_Raw[TICKER],'Weekly Metrics'!$A10,Weekly_Data_Raw[END_DATE],'Weekly Metrics'!DP$5),IF($B10=\"Transactions\",SUMIFS(Weekly_Data_Raw[PANEL_TRANSACTIONS],Weekly_Data_Raw[TICKER],'Weekly Metrics'!$A10,Weekly_Data_Raw[END_DATE],'Weekly Metrics'!DP$5), IF($B10=\"Avg Ticket\",SUMIFS(Weekly_Data_Raw[AVG_TICKET],Weekly_Data_Raw[TICKER],'Weekly Metrics'!$A10,Weekly_Data_Raw[END_DATE],'Weekly Metrics'!DP$5), IF($B10=\"EOP Subscribers\",SUMIFS(Weekly_Data_Raw[EOP_SUBSCRIBERS],Weekly_Data_Raw[TICKER],'Weekly Metrics'!$A10,Weekly_Data_Raw[END_DATE],'Weekly Metrics'!DP$5), IF($B10=\"Gross Adds\",SUMIFS(Weekly_Data_Raw[GROSS_ADDS],Weekly_Data_Raw[TICKER],'Weekly Metrics'!$A10,Weekly_Data_Raw[END_DATE],'Weekly Metrics'!DP$5), IF($B10=\"Churn\",SUMIFS(Weekly_Data_Raw[CHURNED_MEMBERS],Weekly_Data_Raw[TICKER],'Weekly Metrics'!$A10,Weekly_Data_Raw[END_DATE],'Weekly Metrics'!DP$5)))))))","v":21.951005756000001},{"$f":"IF($B10=\"Panel Sales\", SUMIFS(Weekly_Data_Raw[PANEL_AMOUNT],Weekly_Data_Raw[TICKER],'Weekly Metrics'!$A10,Weekly_Data_Raw[END_DATE],'Weekly Metrics'!DQ$5),IF($B10=\"Transactions\",SUMIFS(Weekly_Data_Raw[PANEL_TRANSACTIONS],Weekly_Data_Raw[TICKER],'Weekly Metrics'!$A10,Weekly_Data_Raw[END_DATE],'Weekly Metrics'!DQ$5), IF($B10=\"Avg Ticket\",SUMIFS(Weekly_Data_Raw[AVG_TICKET],Weekly_Data_Raw[TICKER],'Weekly Metrics'!$A10,Weekly_Data_Raw[END_DATE],'Weekly Metrics'!DQ$5), IF($B10=\"EOP Subscribers\",SUMIFS(Weekly_Data_Raw[EOP_SUBSCRIBERS],Weekly_Data_Raw[TICKER],'Weekly Metrics'!$A10,Weekly_Data_Raw[END_DATE],'Weekly Metrics'!DQ$5), IF($B10=\"Gross Adds\",SUMIFS(Weekly_Data_Raw[GROSS_ADDS],Weekly_Data_Raw[TICKER],'Weekly Metrics'!$A10,Weekly_Data_Raw[END_DATE],'Weekly Metrics'!DQ$5), IF($B10=\"Churn\",SUMIFS(Weekly_Data_Raw[CHURNED_MEMBERS],Weekly_Data_Raw[TICKER],'Weekly Metrics'!$A10,Weekly_Data_Raw[END_DATE],'Weekly Metrics'!DQ$5)))))))","v":23.253325146000002},{"$f":"IF($B10=\"Panel Sales\", SUMIFS(Weekly_Data_Raw[PANEL_AMOUNT],Weekly_Data_Raw[TICKER],'Weekly Metrics'!$A10,Weekly_Data_Raw[END_DATE],'Weekly Metrics'!DR$5),IF($B10=\"Transactions\",SUMIFS(Weekly_Data_Raw[PANEL_TRANSACTIONS],Weekly_Data_Raw[TICKER],'Weekly Metrics'!$A10,Weekly_Data_Raw[END_DATE],'Weekly Metrics'!DR$5), IF($B10=\"Avg Ticket\",SUMIFS(Weekly_Data_Raw[AVG_TICKET],Weekly_Data_Raw[TICKER],'Weekly Metrics'!$A10,Weekly_Data_Raw[END_DATE],'Weekly Metrics'!DR$5), IF($B10=\"EOP Subscribers\",SUMIFS(Weekly_Data_Raw[EOP_SUBSCRIBERS],Weekly_Data_Raw[TICKER],'Weekly Metrics'!$A10,Weekly_Data_Raw[END_DATE],'Weekly Metrics'!DR$5), IF($B10=\"Gross Adds\",SUMIFS(Weekly_Data_Raw[GROSS_ADDS],Weekly_Data_Raw[TICKER],'Weekly Metrics'!$A10,Weekly_Data_Raw[END_DATE],'Weekly Metrics'!DR$5), IF($B10=\"Churn\",SUMIFS(Weekly_Data_Raw[CHURNED_MEMBERS],Weekly_Data_Raw[TICKER],'Weekly Metrics'!$A10,Weekly_Data_Raw[END_DATE],'Weekly Metrics'!DR$5)))))))","v":22.899311568000002},{"$f":"IF($B10=\"Panel Sales\", SUMIFS(Weekly_Data_Raw[PANEL_AMOUNT],Weekly_Data_Raw[TICKER],'Weekly Metrics'!$A10,Weekly_Data_Raw[END_DATE],'Weekly Metrics'!DS$5),IF($B10=\"Transactions\",SUMIFS(Weekly_Data_Raw[PANEL_TRANSACTIONS],Weekly_Data_Raw[TICKER],'Weekly Metrics'!$A10,Weekly_Data_Raw[END_DATE],'Weekly Metrics'!DS$5), IF($B10=\"Avg Ticket\",SUMIFS(Weekly_Data_Raw[AVG_TICKET],Weekly_Data_Raw[TICKER],'Weekly Metrics'!$A10,Weekly_Data_Raw[END_DATE],'Weekly Metrics'!DS$5), IF($B10=\"EOP Subscribers\",SUMIFS(Weekly_Data_Raw[EOP_SUBSCRIBERS],Weekly_Data_Raw[TICKER],'Weekly Metrics'!$A10,Weekly_Data_Raw[END_DATE],'Weekly Metrics'!DS$5), IF($B10=\"Gross Adds\",SUMIFS(Weekly_Data_Raw[GROSS_ADDS],Weekly_Data_Raw[TICKER],'Weekly Metrics'!$A10,Weekly_Data_Raw[END_DATE],'Weekly Metrics'!DS$5), IF($B10=\"Churn\",SUMIFS(Weekly_Data_Raw[CHURNED_MEMBERS],Weekly_Data_Raw[TICKER],'Weekly Metrics'!$A10,Weekly_Data_Raw[END_DATE],'Weekly Metrics'!DS$5)))))))","v":22.401558770000001},{"$f":"IF($B10=\"Panel Sales\", SUMIFS(Weekly_Data_Raw[PANEL_AMOUNT],Weekly_Data_Raw[TICKER],'Weekly Metrics'!$A10,Weekly_Data_Raw[END_DATE],'Weekly Metrics'!DT$5),IF($B10=\"Transactions\",SUMIFS(Weekly_Data_Raw[PANEL_TRANSACTIONS],Weekly_Data_Raw[TICKER],'Weekly Metrics'!$A10,Weekly_Data_Raw[END_DATE],'Weekly Metrics'!DT$5), IF($B10=\"Avg Ticket\",SUMIFS(Weekly_Data_Raw[AVG_TICKET],Weekly_Data_Raw[TICKER],'Weekly Metrics'!$A10,Weekly_Data_Raw[END_DATE],'Weekly Metrics'!DT$5), IF($B10=\"EOP Subscribers\",SUMIFS(Weekly_Data_Raw[EOP_SUBSCRIBERS],Weekly_Data_Raw[TICKER],'Weekly Metrics'!$A10,Weekly_Data_Raw[END_DATE],'Weekly Metrics'!DT$5), IF($B10=\"Gross Adds\",SUMIFS(Weekly_Data_Raw[GROSS_ADDS],Weekly_Data_Raw[TICKER],'Weekly Metrics'!$A10,Weekly_Data_Raw[END_DATE],'Weekly Metrics'!DT$5), IF($B10=\"Churn\",SUMIFS(Weekly_Data_Raw[CHURNED_MEMBERS],Weekly_Data_Raw[TICKER],'Weekly Metrics'!$A10,Weekly_Data_Raw[END_DATE],'Weekly Metrics'!DT$5)))))))","v":22.101306518000001},{"$f":"IF($B10=\"Panel Sales\", SUMIFS(Weekly_Data_Raw[PANEL_AMOUNT],Weekly_Data_Raw[TICKER],'Weekly Metrics'!$A10,Weekly_Data_Raw[END_DATE],'Weekly Metrics'!DU$5),IF($B10=\"Transactions\",SUMIFS(Weekly_Data_Raw[PANEL_TRANSACTIONS],Weekly_Data_Raw[TICKER],'Weekly Metrics'!$A10,Weekly_Data_Raw[END_DATE],'Weekly Metrics'!DU$5), IF($B10=\"Avg Ticket\",SUMIFS(Weekly_Data_Raw[AVG_TICKET],Weekly_Data_Raw[TICKER],'Weekly Metrics'!$A10,Weekly_Data_Raw[END_DATE],'Weekly Metrics'!DU$5), IF($B10=\"EOP Subscribers\",SUMIFS(Weekly_Data_Raw[EOP_SUBSCRIBERS],Weekly_Data_Raw[TICKER],'Weekly Metrics'!$A10,Weekly_Data_Raw[END_DATE],'Weekly Metrics'!DU$5), IF($B10=\"Gross Adds\",SUMIFS(Weekly_Data_Raw[GROSS_ADDS],Weekly_Data_Raw[TICKER],'Weekly Metrics'!$A10,Weekly_Data_Raw[END_DATE],'Weekly Metrics'!DU$5), IF($B10=\"Churn\",SUMIFS(Weekly_Data_Raw[CHURNED_MEMBERS],Weekly_Data_Raw[TICKER],'Weekly Metrics'!$A10,Weekly_Data_Raw[END_DATE],'Weekly Metrics'!DU$5)))))))","v":21.915861363000001},{"$f":"IF($B10=\"Panel Sales\", SUMIFS(Weekly_Data_Raw[PANEL_AMOUNT],Weekly_Data_Raw[TICKER],'Weekly Metrics'!$A10,Weekly_Data_Raw[END_DATE],'Weekly Metrics'!DV$5),IF($B10=\"Transactions\",SUMIFS(Weekly_Data_Raw[PANEL_TRANSACTIONS],Weekly_Data_Raw[TICKER],'Weekly Metrics'!$A10,Weekly_Data_Raw[END_DATE],'Weekly Metrics'!DV$5), IF($B10=\"Avg Ticket\",SUMIFS(Weekly_Data_Raw[AVG_TICKET],Weekly_Data_Raw[TICKER],'Weekly Metrics'!$A10,Weekly_Data_Raw[END_DATE],'Weekly Metrics'!DV$5), IF($B10=\"EOP Subscribers\",SUMIFS(Weekly_Data_Raw[EOP_SUBSCRIBERS],Weekly_Data_Raw[TICKER],'Weekly Metrics'!$A10,Weekly_Data_Raw[END_DATE],'Weekly Metrics'!DV$5), IF($B10=\"Gross Adds\",SUMIFS(Weekly_Data_Raw[GROSS_ADDS],Weekly_Data_Raw[TICKER],'Weekly Metrics'!$A10,Weekly_Data_Raw[END_DATE],'Weekly Metrics'!DV$5), IF($B10=\"Churn\",SUMIFS(Weekly_Data_Raw[CHURNED_MEMBERS],Weekly_Data_Raw[TICKER],'Weekly Metrics'!$A10,Weekly_Data_Raw[END_DATE],'Weekly Metrics'!DV$5)))))))","v":22.806969922},{"$f":"IF($B10=\"Panel Sales\", SUMIFS(Weekly_Data_Raw[PANEL_AMOUNT],Weekly_Data_Raw[TICKER],'Weekly Metrics'!$A10,Weekly_Data_Raw[END_DATE],'Weekly Metrics'!DW$5),IF($B10=\"Transactions\",SUMIFS(Weekly_Data_Raw[PANEL_TRANSACTIONS],Weekly_Data_Raw[TICKER],'Weekly Metrics'!$A10,Weekly_Data_Raw[END_DATE],'Weekly Metrics'!DW$5), IF($B10=\"Avg Ticket\",SUMIFS(Weekly_Data_Raw[AVG_TICKET],Weekly_Data_Raw[TICKER],'Weekly Metrics'!$A10,Weekly_Data_Raw[END_DATE],'Weekly Metrics'!DW$5), IF($B10=\"EOP Subscribers\",SUMIFS(Weekly_Data_Raw[EOP_SUBSCRIBERS],Weekly_Data_Raw[TICKER],'Weekly Metrics'!$A10,Weekly_Data_Raw[END_DATE],'Weekly Metrics'!DW$5), IF($B10=\"Gross Adds\",SUMIFS(Weekly_Data_Raw[GROSS_ADDS],Weekly_Data_Raw[TICKER],'Weekly Metrics'!$A10,Weekly_Data_Raw[END_DATE],'Weekly Metrics'!DW$5), IF($B10=\"Churn\",SUMIFS(Weekly_Data_Raw[CHURNED_MEMBERS],Weekly_Data_Raw[TICKER],'Weekly Metrics'!$A10,Weekly_Data_Raw[END_DATE],'Weekly Metrics'!DW$5)))))))","v":22.739214213},{"$f":"IF($B10=\"Panel Sales\", SUMIFS(Weekly_Data_Raw[PANEL_AMOUNT],Weekly_Data_Raw[TICKER],'Weekly Metrics'!$A10,Weekly_Data_Raw[END_DATE],'Weekly Metrics'!DX$5),IF($B10=\"Transactions\",SUMIFS(Weekly_Data_Raw[PANEL_TRANSACTIONS],Weekly_Data_Raw[TICKER],'Weekly Metrics'!$A10,Weekly_Data_Raw[END_DATE],'Weekly Metrics'!DX$5), IF($B10=\"Avg Ticket\",SUMIFS(Weekly_Data_Raw[AVG_TICKET],Weekly_Data_Raw[TICKER],'Weekly Metrics'!$A10,Weekly_Data_Raw[END_DATE],'Weekly Metrics'!DX$5), IF($B10=\"EOP Subscribers\",SUMIFS(Weekly_Data_Raw[EOP_SUBSCRIBERS],Weekly_Data_Raw[TICKER],'Weekly Metrics'!$A10,Weekly_Data_Raw[END_DATE],'Weekly Metrics'!DX$5), IF($B10=\"Gross Adds\",SUMIFS(Weekly_Data_Raw[GROSS_ADDS],Weekly_Data_Raw[TICKER],'Weekly Metrics'!$A10,Weekly_Data_Raw[END_DATE],'Weekly Metrics'!DX$5), IF($B10=\"Churn\",SUMIFS(Weekly_Data_Raw[CHURNED_MEMBERS],Weekly_Data_Raw[TICKER],'Weekly Metrics'!$A10,Weekly_Data_Raw[END_DATE],'Weekly Metrics'!DX$5)))))))","v":22.165771924000001},{"$f":"IF($B10=\"Panel Sales\", SUMIFS(Weekly_Data_Raw[PANEL_AMOUNT],Weekly_Data_Raw[TICKER],'Weekly Metrics'!$A10,Weekly_Data_Raw[END_DATE],'Weekly Metrics'!DY$5),IF($B10=\"Transactions\",SUMIFS(Weekly_Data_Raw[PANEL_TRANSACTIONS],Weekly_Data_Raw[TICKER],'Weekly Metrics'!$A10,Weekly_Data_Raw[END_DATE],'Weekly Metrics'!DY$5), IF($B10=\"Avg Ticket\",SUMIFS(Weekly_Data_Raw[AVG_TICKET],Weekly_Data_Raw[TICKER],'Weekly Metrics'!$A10,Weekly_Data_Raw[END_DATE],'Weekly Metrics'!DY$5), IF($B10=\"EOP Subscribers\",SUMIFS(Weekly_Data_Raw[EOP_SUBSCRIBERS],Weekly_Data_Raw[TICKER],'Weekly Metrics'!$A10,Weekly_Data_Raw[END_DATE],'Weekly Metrics'!DY$5), IF($B10=\"Gross Adds\",SUMIFS(Weekly_Data_Raw[GROSS_ADDS],Weekly_Data_Raw[TICKER],'Weekly Metrics'!$A10,Weekly_Data_Raw[END_DATE],'Weekly Metrics'!DY$5), IF($B10=\"Churn\",SUMIFS(Weekly_Data_Raw[CHURNED_MEMBERS],Weekly_Data_Raw[TICKER],'Weekly Metrics'!$A10,Weekly_Data_Raw[END_DATE],'Weekly Metrics'!DY$5)))))))","v":21.594450728999998},{"$f":"IF($B10=\"Panel Sales\", SUMIFS(Weekly_Data_Raw[PANEL_AMOUNT],Weekly_Data_Raw[TICKER],'Weekly Metrics'!$A10,Weekly_Data_Raw[END_DATE],'Weekly Metrics'!DZ$5),IF($B10=\"Transactions\",SUMIFS(Weekly_Data_Raw[PANEL_TRANSACTIONS],Weekly_Data_Raw[TICKER],'Weekly Metrics'!$A10,Weekly_Data_Raw[END_DATE],'Weekly Metrics'!DZ$5), IF($B10=\"Avg Ticket\",SUMIFS(Weekly_Data_Raw[AVG_TICKET],Weekly_Data_Raw[TICKER],'Weekly Metrics'!$A10,Weekly_Data_Raw[END_DATE],'Weekly Metrics'!DZ$5), IF($B10=\"EOP Subscribers\",SUMIFS(Weekly_Data_Raw[EOP_SUBSCRIBERS],Weekly_Data_Raw[TICKER],'Weekly Metrics'!$A10,Weekly_Data_Raw[END_DATE],'Weekly Metrics'!DZ$5), IF($B10=\"Gross Adds\",SUMIFS(Weekly_Data_Raw[GROSS_ADDS],Weekly_Data_Raw[TICKER],'Weekly Metrics'!$A10,Weekly_Data_Raw[END_DATE],'Weekly Metrics'!DZ$5), IF($B10=\"Churn\",SUMIFS(Weekly_Data_Raw[CHURNED_MEMBERS],Weekly_Data_Raw[TICKER],'Weekly Metrics'!$A10,Weekly_Data_Raw[END_DATE],'Weekly Metrics'!DZ$5)))))))","v":22.783325573999999},{"$f":"IF($B10=\"Panel Sales\", SUMIFS(Weekly_Data_Raw[PANEL_AMOUNT],Weekly_Data_Raw[TICKER],'Weekly Metrics'!$A10,Weekly_Data_Raw[END_DATE],'Weekly Metrics'!EA$5),IF($B10=\"Transactions\",SUMIFS(Weekly_Data_Raw[PANEL_TRANSACTIONS],Weekly_Data_Raw[TICKER],'Weekly Metrics'!$A10,Weekly_Data_Raw[END_DATE],'Weekly Metrics'!EA$5), IF($B10=\"Avg Ticket\",SUMIFS(Weekly_Data_Raw[AVG_TICKET],Weekly_Data_Raw[TICKER],'Weekly Metrics'!$A10,Weekly_Data_Raw[END_DATE],'Weekly Metrics'!EA$5), IF($B10=\"EOP Subscribers\",SUMIFS(Weekly_Data_Raw[EOP_SUBSCRIBERS],Weekly_Data_Raw[TICKER],'Weekly Metrics'!$A10,Weekly_Data_Raw[END_DATE],'Weekly Metrics'!EA$5), IF($B10=\"Gross Adds\",SUMIFS(Weekly_Data_Raw[GROSS_ADDS],Weekly_Data_Raw[TICKER],'Weekly Metrics'!$A10,Weekly_Data_Raw[END_DATE],'Weekly Metrics'!EA$5), IF($B10=\"Churn\",SUMIFS(Weekly_Data_Raw[CHURNED_MEMBERS],Weekly_Data_Raw[TICKER],'Weekly Metrics'!$A10,Weekly_Data_Raw[END_DATE],'Weekly Metrics'!EA$5)))))))","v":22.729162132999999},{"$f":"IF($B10=\"Panel Sales\", SUMIFS(Weekly_Data_Raw[PANEL_AMOUNT],Weekly_Data_Raw[TICKER],'Weekly Metrics'!$A10,Weekly_Data_Raw[END_DATE],'Weekly Metrics'!EB$5),IF($B10=\"Transactions\",SUMIFS(Weekly_Data_Raw[PANEL_TRANSACTIONS],Weekly_Data_Raw[TICKER],'Weekly Metrics'!$A10,Weekly_Data_Raw[END_DATE],'Weekly Metrics'!EB$5), IF($B10=\"Avg Ticket\",SUMIFS(Weekly_Data_Raw[AVG_TICKET],Weekly_Data_Raw[TICKER],'Weekly Metrics'!$A10,Weekly_Data_Raw[END_DATE],'Weekly Metrics'!EB$5), IF($B10=\"EOP Subscribers\",SUMIFS(Weekly_Data_Raw[EOP_SUBSCRIBERS],Weekly_Data_Raw[TICKER],'Weekly Metrics'!$A10,Weekly_Data_Raw[END_DATE],'Weekly Metrics'!EB$5), IF($B10=\"Gross Adds\",SUMIFS(Weekly_Data_Raw[GROSS_ADDS],Weekly_Data_Raw[TICKER],'Weekly Metrics'!$A10,Weekly_Data_Raw[END_DATE],'Weekly Metrics'!EB$5), IF($B10=\"Churn\",SUMIFS(Weekly_Data_Raw[CHURNED_MEMBERS],Weekly_Data_Raw[TICKER],'Weekly Metrics'!$A10,Weekly_Data_Raw[END_DATE],'Weekly Metrics'!EB$5)))))))","v":22.174261029},{"$f":"IF($B10=\"Panel Sales\", SUMIFS(Weekly_Data_Raw[PANEL_AMOUNT],Weekly_Data_Raw[TICKER],'Weekly Metrics'!$A10,Weekly_Data_Raw[END_DATE],'Weekly Metrics'!EC$5),IF($B10=\"Transactions\",SUMIFS(Weekly_Data_Raw[PANEL_TRANSACTIONS],Weekly_Data_Raw[TICKER],'Weekly Metrics'!$A10,Weekly_Data_Raw[END_DATE],'Weekly Metrics'!EC$5), IF($B10=\"Avg Ticket\",SUMIFS(Weekly_Data_Raw[AVG_TICKET],Weekly_Data_Raw[TICKER],'Weekly Metrics'!$A10,Weekly_Data_Raw[END_DATE],'Weekly Metrics'!EC$5), IF($B10=\"EOP Subscribers\",SUMIFS(Weekly_Data_Raw[EOP_SUBSCRIBERS],Weekly_Data_Raw[TICKER],'Weekly Metrics'!$A10,Weekly_Data_Raw[END_DATE],'Weekly Metrics'!EC$5), IF($B10=\"Gross Adds\",SUMIFS(Weekly_Data_Raw[GROSS_ADDS],Weekly_Data_Raw[TICKER],'Weekly Metrics'!$A10,Weekly_Data_Raw[END_DATE],'Weekly Metrics'!EC$5), IF($B10=\"Churn\",SUMIFS(Weekly_Data_Raw[CHURNED_MEMBERS],Weekly_Data_Raw[TICKER],'Weekly Metrics'!$A10,Weekly_Data_Raw[END_DATE],'Weekly Metrics'!EC$5)))))))","v":21.502598162000002},{"$f":"IF($B10=\"Panel Sales\", SUMIFS(Weekly_Data_Raw[PANEL_AMOUNT],Weekly_Data_Raw[TICKER],'Weekly Metrics'!$A10,Weekly_Data_Raw[END_DATE],'Weekly Metrics'!ED$5),IF($B10=\"Transactions\",SUMIFS(Weekly_Data_Raw[PANEL_TRANSACTIONS],Weekly_Data_Raw[TICKER],'Weekly Metrics'!$A10,Weekly_Data_Raw[END_DATE],'Weekly Metrics'!ED$5), IF($B10=\"Avg Ticket\",SUMIFS(Weekly_Data_Raw[AVG_TICKET],Weekly_Data_Raw[TICKER],'Weekly Metrics'!$A10,Weekly_Data_Raw[END_DATE],'Weekly Metrics'!ED$5), IF($B10=\"EOP Subscribers\",SUMIFS(Weekly_Data_Raw[EOP_SUBSCRIBERS],Weekly_Data_Raw[TICKER],'Weekly Metrics'!$A10,Weekly_Data_Raw[END_DATE],'Weekly Metrics'!ED$5), IF($B10=\"Gross Adds\",SUMIFS(Weekly_Data_Raw[GROSS_ADDS],Weekly_Data_Raw[TICKER],'Weekly Metrics'!$A10,Weekly_Data_Raw[END_DATE],'Weekly Metrics'!ED$5), IF($B10=\"Churn\",SUMIFS(Weekly_Data_Raw[CHURNED_MEMBERS],Weekly_Data_Raw[TICKER],'Weekly Metrics'!$A10,Weekly_Data_Raw[END_DATE],'Weekly Metrics'!ED$5)))))))","v":22.553759927000002},{"$f":"IF($B10=\"Panel Sales\", SUMIFS(Weekly_Data_Raw[PANEL_AMOUNT],Weekly_Data_Raw[TICKER],'Weekly Metrics'!$A10,Weekly_Data_Raw[END_DATE],'Weekly Metrics'!EE$5),IF($B10=\"Transactions\",SUMIFS(Weekly_Data_Raw[PANEL_TRANSACTIONS],Weekly_Data_Raw[TICKER],'Weekly Metrics'!$A10,Weekly_Data_Raw[END_DATE],'Weekly Metrics'!EE$5), IF($B10=\"Avg Ticket\",SUMIFS(Weekly_Data_Raw[AVG_TICKET],Weekly_Data_Raw[TICKER],'Weekly Metrics'!$A10,Weekly_Data_Raw[END_DATE],'Weekly Metrics'!EE$5), IF($B10=\"EOP Subscribers\",SUMIFS(Weekly_Data_Raw[EOP_SUBSCRIBERS],Weekly_Data_Raw[TICKER],'Weekly Metrics'!$A10,Weekly_Data_Raw[END_DATE],'Weekly Metrics'!EE$5), IF($B10=\"Gross Adds\",SUMIFS(Weekly_Data_Raw[GROSS_ADDS],Weekly_Data_Raw[TICKER],'Weekly Metrics'!$A10,Weekly_Data_Raw[END_DATE],'Weekly Metrics'!EE$5), IF($B10=\"Churn\",SUMIFS(Weekly_Data_Raw[CHURNED_MEMBERS],Weekly_Data_Raw[TICKER],'Weekly Metrics'!$A10,Weekly_Data_Raw[END_DATE],'Weekly Metrics'!EE$5)))))))","v":22.464960570999999},{"$f":"IF($B10=\"Panel Sales\", SUMIFS(Weekly_Data_Raw[PANEL_AMOUNT],Weekly_Data_Raw[TICKER],'Weekly Metrics'!$A10,Weekly_Data_Raw[END_DATE],'Weekly Metrics'!EF$5),IF($B10=\"Transactions\",SUMIFS(Weekly_Data_Raw[PANEL_TRANSACTIONS],Weekly_Data_Raw[TICKER],'Weekly Metrics'!$A10,Weekly_Data_Raw[END_DATE],'Weekly Metrics'!EF$5), IF($B10=\"Avg Ticket\",SUMIFS(Weekly_Data_Raw[AVG_TICKET],Weekly_Data_Raw[TICKER],'Weekly Metrics'!$A10,Weekly_Data_Raw[END_DATE],'Weekly Metrics'!EF$5), IF($B10=\"EOP Subscribers\",SUMIFS(Weekly_Data_Raw[EOP_SUBSCRIBERS],Weekly_Data_Raw[TICKER],'Weekly Metrics'!$A10,Weekly_Data_Raw[END_DATE],'Weekly Metrics'!EF$5), IF($B10=\"Gross Adds\",SUMIFS(Weekly_Data_Raw[GROSS_ADDS],Weekly_Data_Raw[TICKER],'Weekly Metrics'!$A10,Weekly_Data_Raw[END_DATE],'Weekly Metrics'!EF$5), IF($B10=\"Churn\",SUMIFS(Weekly_Data_Raw[CHURNED_MEMBERS],Weekly_Data_Raw[TICKER],'Weekly Metrics'!$A10,Weekly_Data_Raw[END_DATE],'Weekly Metrics'!EF$5)))))))","v":22.773573184},{"$f":"IF($B10=\"Panel Sales\", SUMIFS(Weekly_Data_Raw[PANEL_AMOUNT],Weekly_Data_Raw[TICKER],'Weekly Metrics'!$A10,Weekly_Data_Raw[END_DATE],'Weekly Metrics'!EG$5),IF($B10=\"Transactions\",SUMIFS(Weekly_Data_Raw[PANEL_TRANSACTIONS],Weekly_Data_Raw[TICKER],'Weekly Metrics'!$A10,Weekly_Data_Raw[END_DATE],'Weekly Metrics'!EG$5), IF($B10=\"Avg Ticket\",SUMIFS(Weekly_Data_Raw[AVG_TICKET],Weekly_Data_Raw[TICKER],'Weekly Metrics'!$A10,Weekly_Data_Raw[END_DATE],'Weekly Metrics'!EG$5), IF($B10=\"EOP Subscribers\",SUMIFS(Weekly_Data_Raw[EOP_SUBSCRIBERS],Weekly_Data_Raw[TICKER],'Weekly Metrics'!$A10,Weekly_Data_Raw[END_DATE],'Weekly Metrics'!EG$5), IF($B10=\"Gross Adds\",SUMIFS(Weekly_Data_Raw[GROSS_ADDS],Weekly_Data_Raw[TICKER],'Weekly Metrics'!$A10,Weekly_Data_Raw[END_DATE],'Weekly Metrics'!EG$5), IF($B10=\"Churn\",SUMIFS(Weekly_Data_Raw[CHURNED_MEMBERS],Weekly_Data_Raw[TICKER],'Weekly Metrics'!$A10,Weekly_Data_Raw[END_DATE],'Weekly Metrics'!EG$5)))))))","v":22.897343545999998},{"$f":"IF($B10=\"Panel Sales\", SUMIFS(Weekly_Data_Raw[PANEL_AMOUNT],Weekly_Data_Raw[TICKER],'Weekly Metrics'!$A10,Weekly_Data_Raw[END_DATE],'Weekly Metrics'!EH$5),IF($B10=\"Transactions\",SUMIFS(Weekly_Data_Raw[PANEL_TRANSACTIONS],Weekly_Data_Raw[TICKER],'Weekly Metrics'!$A10,Weekly_Data_Raw[END_DATE],'Weekly Metrics'!EH$5), IF($B10=\"Avg Ticket\",SUMIFS(Weekly_Data_Raw[AVG_TICKET],Weekly_Data_Raw[TICKER],'Weekly Metrics'!$A10,Weekly_Data_Raw[END_DATE],'Weekly Metrics'!EH$5), IF($B10=\"EOP Subscribers\",SUMIFS(Weekly_Data_Raw[EOP_SUBSCRIBERS],Weekly_Data_Raw[TICKER],'Weekly Metrics'!$A10,Weekly_Data_Raw[END_DATE],'Weekly Metrics'!EH$5), IF($B10=\"Gross Adds\",SUMIFS(Weekly_Data_Raw[GROSS_ADDS],Weekly_Data_Raw[TICKER],'Weekly Metrics'!$A10,Weekly_Data_Raw[END_DATE],'Weekly Metrics'!EH$5), IF($B10=\"Churn\",SUMIFS(Weekly_Data_Raw[CHURNED_MEMBERS],Weekly_Data_Raw[TICKER],'Weekly Metrics'!$A10,Weekly_Data_Raw[END_DATE],'Weekly Metrics'!EH$5)))))))","v":21.808541396999999},{"$f":"IF($B10=\"Panel Sales\", SUMIFS(Weekly_Data_Raw[PANEL_AMOUNT],Weekly_Data_Raw[TICKER],'Weekly Metrics'!$A10,Weekly_Data_Raw[END_DATE],'Weekly Metrics'!EI$5),IF($B10=\"Transactions\",SUMIFS(Weekly_Data_Raw[PANEL_TRANSACTIONS],Weekly_Data_Raw[TICKER],'Weekly Metrics'!$A10,Weekly_Data_Raw[END_DATE],'Weekly Metrics'!EI$5), IF($B10=\"Avg Ticket\",SUMIFS(Weekly_Data_Raw[AVG_TICKET],Weekly_Data_Raw[TICKER],'Weekly Metrics'!$A10,Weekly_Data_Raw[END_DATE],'Weekly Metrics'!EI$5), IF($B10=\"EOP Subscribers\",SUMIFS(Weekly_Data_Raw[EOP_SUBSCRIBERS],Weekly_Data_Raw[TICKER],'Weekly Metrics'!$A10,Weekly_Data_Raw[END_DATE],'Weekly Metrics'!EI$5), IF($B10=\"Gross Adds\",SUMIFS(Weekly_Data_Raw[GROSS_ADDS],Weekly_Data_Raw[TICKER],'Weekly Metrics'!$A10,Weekly_Data_Raw[END_DATE],'Weekly Metrics'!EI$5), IF($B10=\"Churn\",SUMIFS(Weekly_Data_Raw[CHURNED_MEMBERS],Weekly_Data_Raw[TICKER],'Weekly Metrics'!$A10,Weekly_Data_Raw[END_DATE],'Weekly Metrics'!EI$5)))))))","v":22.829128691000001},{"$f":"IF($B10=\"Panel Sales\", SUMIFS(Weekly_Data_Raw[PANEL_AMOUNT],Weekly_Data_Raw[TICKER],'Weekly Metrics'!$A10,Weekly_Data_Raw[END_DATE],'Weekly Metrics'!EJ$5),IF($B10=\"Transactions\",SUMIFS(Weekly_Data_Raw[PANEL_TRANSACTIONS],Weekly_Data_Raw[TICKER],'Weekly Metrics'!$A10,Weekly_Data_Raw[END_DATE],'Weekly Metrics'!EJ$5), IF($B10=\"Avg Ticket\",SUMIFS(Weekly_Data_Raw[AVG_TICKET],Weekly_Data_Raw[TICKER],'Weekly Metrics'!$A10,Weekly_Data_Raw[END_DATE],'Weekly Metrics'!EJ$5), IF($B10=\"EOP Subscribers\",SUMIFS(Weekly_Data_Raw[EOP_SUBSCRIBERS],Weekly_Data_Raw[TICKER],'Weekly Metrics'!$A10,Weekly_Data_Raw[END_DATE],'Weekly Metrics'!EJ$5), IF($B10=\"Gross Adds\",SUMIFS(Weekly_Data_Raw[GROSS_ADDS],Weekly_Data_Raw[TICKER],'Weekly Metrics'!$A10,Weekly_Data_Raw[END_DATE],'Weekly Metrics'!EJ$5), IF($B10=\"Churn\",SUMIFS(Weekly_Data_Raw[CHURNED_MEMBERS],Weekly_Data_Raw[TICKER],'Weekly Metrics'!$A10,Weekly_Data_Raw[END_DATE],'Weekly Metrics'!EJ$5)))))))","v":23.033511396000002},{"$f":"IF($B10=\"Panel Sales\", SUMIFS(Weekly_Data_Raw[PANEL_AMOUNT],Weekly_Data_Raw[TICKER],'Weekly Metrics'!$A10,Weekly_Data_Raw[END_DATE],'Weekly Metrics'!EK$5),IF($B10=\"Transactions\",SUMIFS(Weekly_Data_Raw[PANEL_TRANSACTIONS],Weekly_Data_Raw[TICKER],'Weekly Metrics'!$A10,Weekly_Data_Raw[END_DATE],'Weekly Metrics'!EK$5), IF($B10=\"Avg Ticket\",SUMIFS(Weekly_Data_Raw[AVG_TICKET],Weekly_Data_Raw[TICKER],'Weekly Metrics'!$A10,Weekly_Data_Raw[END_DATE],'Weekly Metrics'!EK$5), IF($B10=\"EOP Subscribers\",SUMIFS(Weekly_Data_Raw[EOP_SUBSCRIBERS],Weekly_Data_Raw[TICKER],'Weekly Metrics'!$A10,Weekly_Data_Raw[END_DATE],'Weekly Metrics'!EK$5), IF($B10=\"Gross Adds\",SUMIFS(Weekly_Data_Raw[GROSS_ADDS],Weekly_Data_Raw[TICKER],'Weekly Metrics'!$A10,Weekly_Data_Raw[END_DATE],'Weekly Metrics'!EK$5), IF($B10=\"Churn\",SUMIFS(Weekly_Data_Raw[CHURNED_MEMBERS],Weekly_Data_Raw[TICKER],'Weekly Metrics'!$A10,Weekly_Data_Raw[END_DATE],'Weekly Metrics'!EK$5)))))))","v":23.402847989000001},{"$f":"IF($B10=\"Panel Sales\", SUMIFS(Weekly_Data_Raw[PANEL_AMOUNT],Weekly_Data_Raw[TICKER],'Weekly Metrics'!$A10,Weekly_Data_Raw[END_DATE],'Weekly Metrics'!EL$5),IF($B10=\"Transactions\",SUMIFS(Weekly_Data_Raw[PANEL_TRANSACTIONS],Weekly_Data_Raw[TICKER],'Weekly Metrics'!$A10,Weekly_Data_Raw[END_DATE],'Weekly Metrics'!EL$5), IF($B10=\"Avg Ticket\",SUMIFS(Weekly_Data_Raw[AVG_TICKET],Weekly_Data_Raw[TICKER],'Weekly Metrics'!$A10,Weekly_Data_Raw[END_DATE],'Weekly Metrics'!EL$5), IF($B10=\"EOP Subscribers\",SUMIFS(Weekly_Data_Raw[EOP_SUBSCRIBERS],Weekly_Data_Raw[TICKER],'Weekly Metrics'!$A10,Weekly_Data_Raw[END_DATE],'Weekly Metrics'!EL$5), IF($B10=\"Gross Adds\",SUMIFS(Weekly_Data_Raw[GROSS_ADDS],Weekly_Data_Raw[TICKER],'Weekly Metrics'!$A10,Weekly_Data_Raw[END_DATE],'Weekly Metrics'!EL$5), IF($B10=\"Churn\",SUMIFS(Weekly_Data_Raw[CHURNED_MEMBERS],Weekly_Data_Raw[TICKER],'Weekly Metrics'!$A10,Weekly_Data_Raw[END_DATE],'Weekly Metrics'!EL$5)))))))","v":22.067485998999999},{"$f":"IF($B10=\"Panel Sales\", SUMIFS(Weekly_Data_Raw[PANEL_AMOUNT],Weekly_Data_Raw[TICKER],'Weekly Metrics'!$A10,Weekly_Data_Raw[END_DATE],'Weekly Metrics'!EM$5),IF($B10=\"Transactions\",SUMIFS(Weekly_Data_Raw[PANEL_TRANSACTIONS],Weekly_Data_Raw[TICKER],'Weekly Metrics'!$A10,Weekly_Data_Raw[END_DATE],'Weekly Metrics'!EM$5), IF($B10=\"Avg Ticket\",SUMIFS(Weekly_Data_Raw[AVG_TICKET],Weekly_Data_Raw[TICKER],'Weekly Metrics'!$A10,Weekly_Data_Raw[END_DATE],'Weekly Metrics'!EM$5), IF($B10=\"EOP Subscribers\",SUMIFS(Weekly_Data_Raw[EOP_SUBSCRIBERS],Weekly_Data_Raw[TICKER],'Weekly Metrics'!$A10,Weekly_Data_Raw[END_DATE],'Weekly Metrics'!EM$5), IF($B10=\"Gross Adds\",SUMIFS(Weekly_Data_Raw[GROSS_ADDS],Weekly_Data_Raw[TICKER],'Weekly Metrics'!$A10,Weekly_Data_Raw[END_DATE],'Weekly Metrics'!EM$5), IF($B10=\"Churn\",SUMIFS(Weekly_Data_Raw[CHURNED_MEMBERS],Weekly_Data_Raw[TICKER],'Weekly Metrics'!$A10,Weekly_Data_Raw[END_DATE],'Weekly Metrics'!EM$5)))))))","v":22.792941406000001},{"$f":"IF($B10=\"Panel Sales\", SUMIFS(Weekly_Data_Raw[PANEL_AMOUNT],Weekly_Data_Raw[TICKER],'Weekly Metrics'!$A10,Weekly_Data_Raw[END_DATE],'Weekly Metrics'!EN$5),IF($B10=\"Transactions\",SUMIFS(Weekly_Data_Raw[PANEL_TRANSACTIONS],Weekly_Data_Raw[TICKER],'Weekly Metrics'!$A10,Weekly_Data_Raw[END_DATE],'Weekly Metrics'!EN$5), IF($B10=\"Avg Ticket\",SUMIFS(Weekly_Data_Raw[AVG_TICKET],Weekly_Data_Raw[TICKER],'Weekly Metrics'!$A10,Weekly_Data_Raw[END_DATE],'Weekly Metrics'!EN$5), IF($B10=\"EOP Subscribers\",SUMIFS(Weekly_Data_Raw[EOP_SUBSCRIBERS],Weekly_Data_Raw[TICKER],'Weekly Metrics'!$A10,Weekly_Data_Raw[END_DATE],'Weekly Metrics'!EN$5), IF($B10=\"Gross Adds\",SUMIFS(Weekly_Data_Raw[GROSS_ADDS],Weekly_Data_Raw[TICKER],'Weekly Metrics'!$A10,Weekly_Data_Raw[END_DATE],'Weekly Metrics'!EN$5), IF($B10=\"Churn\",SUMIFS(Weekly_Data_Raw[CHURNED_MEMBERS],Weekly_Data_Raw[TICKER],'Weekly Metrics'!$A10,Weekly_Data_Raw[END_DATE],'Weekly Metrics'!EN$5)))))))","v":23.210863150000002},{"$f":"IF($B10=\"Panel Sales\", SUMIFS(Weekly_Data_Raw[PANEL_AMOUNT],Weekly_Data_Raw[TICKER],'Weekly Metrics'!$A10,Weekly_Data_Raw[END_DATE],'Weekly Metrics'!EO$5),IF($B10=\"Transactions\",SUMIFS(Weekly_Data_Raw[PANEL_TRANSACTIONS],Weekly_Data_Raw[TICKER],'Weekly Metrics'!$A10,Weekly_Data_Raw[END_DATE],'Weekly Metrics'!EO$5), IF($B10=\"Avg Ticket\",SUMIFS(Weekly_Data_Raw[AVG_TICKET],Weekly_Data_Raw[TICKER],'Weekly Metrics'!$A10,Weekly_Data_Raw[END_DATE],'Weekly Metrics'!EO$5), IF($B10=\"EOP Subscribers\",SUMIFS(Weekly_Data_Raw[EOP_SUBSCRIBERS],Weekly_Data_Raw[TICKER],'Weekly Metrics'!$A10,Weekly_Data_Raw[END_DATE],'Weekly Metrics'!EO$5), IF($B10=\"Gross Adds\",SUMIFS(Weekly_Data_Raw[GROSS_ADDS],Weekly_Data_Raw[TICKER],'Weekly Metrics'!$A10,Weekly_Data_Raw[END_DATE],'Weekly Metrics'!EO$5), IF($B10=\"Churn\",SUMIFS(Weekly_Data_Raw[CHURNED_MEMBERS],Weekly_Data_Raw[TICKER],'Weekly Metrics'!$A10,Weekly_Data_Raw[END_DATE],'Weekly Metrics'!EO$5)))))))","v":23.112322774999999},{"$f":"IF($B10=\"Panel Sales\", SUMIFS(Weekly_Data_Raw[PANEL_AMOUNT],Weekly_Data_Raw[TICKER],'Weekly Metrics'!$A10,Weekly_Data_Raw[END_DATE],'Weekly Metrics'!EP$5),IF($B10=\"Transactions\",SUMIFS(Weekly_Data_Raw[PANEL_TRANSACTIONS],Weekly_Data_Raw[TICKER],'Weekly Metrics'!$A10,Weekly_Data_Raw[END_DATE],'Weekly Metrics'!EP$5), IF($B10=\"Avg Ticket\",SUMIFS(Weekly_Data_Raw[AVG_TICKET],Weekly_Data_Raw[TICKER],'Weekly Metrics'!$A10,Weekly_Data_Raw[END_DATE],'Weekly Metrics'!EP$5), IF($B10=\"EOP Subscribers\",SUMIFS(Weekly_Data_Raw[EOP_SUBSCRIBERS],Weekly_Data_Raw[TICKER],'Weekly Metrics'!$A10,Weekly_Data_Raw[END_DATE],'Weekly Metrics'!EP$5), IF($B10=\"Gross Adds\",SUMIFS(Weekly_Data_Raw[GROSS_ADDS],Weekly_Data_Raw[TICKER],'Weekly Metrics'!$A10,Weekly_Data_Raw[END_DATE],'Weekly Metrics'!EP$5), IF($B10=\"Churn\",SUMIFS(Weekly_Data_Raw[CHURNED_MEMBERS],Weekly_Data_Raw[TICKER],'Weekly Metrics'!$A10,Weekly_Data_Raw[END_DATE],'Weekly Metrics'!EP$5)))))))","v":22.996048511000001},{"$f":"IF($B10=\"Panel Sales\", SUMIFS(Weekly_Data_Raw[PANEL_AMOUNT],Weekly_Data_Raw[TICKER],'Weekly Metrics'!$A10,Weekly_Data_Raw[END_DATE],'Weekly Metrics'!EQ$5),IF($B10=\"Transactions\",SUMIFS(Weekly_Data_Raw[PANEL_TRANSACTIONS],Weekly_Data_Raw[TICKER],'Weekly Metrics'!$A10,Weekly_Data_Raw[END_DATE],'Weekly Metrics'!EQ$5), IF($B10=\"Avg Ticket\",SUMIFS(Weekly_Data_Raw[AVG_TICKET],Weekly_Data_Raw[TICKER],'Weekly Metrics'!$A10,Weekly_Data_Raw[END_DATE],'Weekly Metrics'!EQ$5), IF($B10=\"EOP Subscribers\",SUMIFS(Weekly_Data_Raw[EOP_SUBSCRIBERS],Weekly_Data_Raw[TICKER],'Weekly Metrics'!$A10,Weekly_Data_Raw[END_DATE],'Weekly Metrics'!EQ$5), IF($B10=\"Gross Adds\",SUMIFS(Weekly_Data_Raw[GROSS_ADDS],Weekly_Data_Raw[TICKER],'Weekly Metrics'!$A10,Weekly_Data_Raw[END_DATE],'Weekly Metrics'!EQ$5), IF($B10=\"Churn\",SUMIFS(Weekly_Data_Raw[CHURNED_MEMBERS],Weekly_Data_Raw[TICKER],'Weekly Metrics'!$A10,Weekly_Data_Raw[END_DATE],'Weekly Metrics'!EQ$5)))))))","v":22.186452703},{"$f":"IF($B10=\"Panel Sales\", SUMIFS(Weekly_Data_Raw[PANEL_AMOUNT],Weekly_Data_Raw[TICKER],'Weekly Metrics'!$A10,Weekly_Data_Raw[END_DATE],'Weekly Metrics'!ER$5),IF($B10=\"Transactions\",SUMIFS(Weekly_Data_Raw[PANEL_TRANSACTIONS],Weekly_Data_Raw[TICKER],'Weekly Metrics'!$A10,Weekly_Data_Raw[END_DATE],'Weekly Metrics'!ER$5), IF($B10=\"Avg Ticket\",SUMIFS(Weekly_Data_Raw[AVG_TICKET],Weekly_Data_Raw[TICKER],'Weekly Metrics'!$A10,Weekly_Data_Raw[END_DATE],'Weekly Metrics'!ER$5), IF($B10=\"EOP Subscribers\",SUMIFS(Weekly_Data_Raw[EOP_SUBSCRIBERS],Weekly_Data_Raw[TICKER],'Weekly Metrics'!$A10,Weekly_Data_Raw[END_DATE],'Weekly Metrics'!ER$5), IF($B10=\"Gross Adds\",SUMIFS(Weekly_Data_Raw[GROSS_ADDS],Weekly_Data_Raw[TICKER],'Weekly Metrics'!$A10,Weekly_Data_Raw[END_DATE],'Weekly Metrics'!ER$5), IF($B10=\"Churn\",SUMIFS(Weekly_Data_Raw[CHURNED_MEMBERS],Weekly_Data_Raw[TICKER],'Weekly Metrics'!$A10,Weekly_Data_Raw[END_DATE],'Weekly Metrics'!ER$5)))))))","v":23.180703690000001},{"$f":"IF($B10=\"Panel Sales\", SUMIFS(Weekly_Data_Raw[PANEL_AMOUNT],Weekly_Data_Raw[TICKER],'Weekly Metrics'!$A10,Weekly_Data_Raw[END_DATE],'Weekly Metrics'!ES$5),IF($B10=\"Transactions\",SUMIFS(Weekly_Data_Raw[PANEL_TRANSACTIONS],Weekly_Data_Raw[TICKER],'Weekly Metrics'!$A10,Weekly_Data_Raw[END_DATE],'Weekly Metrics'!ES$5), IF($B10=\"Avg Ticket\",SUMIFS(Weekly_Data_Raw[AVG_TICKET],Weekly_Data_Raw[TICKER],'Weekly Metrics'!$A10,Weekly_Data_Raw[END_DATE],'Weekly Metrics'!ES$5), IF($B10=\"EOP Subscribers\",SUMIFS(Weekly_Data_Raw[EOP_SUBSCRIBERS],Weekly_Data_Raw[TICKER],'Weekly Metrics'!$A10,Weekly_Data_Raw[END_DATE],'Weekly Metrics'!ES$5), IF($B10=\"Gross Adds\",SUMIFS(Weekly_Data_Raw[GROSS_ADDS],Weekly_Data_Raw[TICKER],'Weekly Metrics'!$A10,Weekly_Data_Raw[END_DATE],'Weekly Metrics'!ES$5), IF($B10=\"Churn\",SUMIFS(Weekly_Data_Raw[CHURNED_MEMBERS],Weekly_Data_Raw[TICKER],'Weekly Metrics'!$A10,Weekly_Data_Raw[END_DATE],'Weekly Metrics'!ES$5)))))))","v":22.996383467000001},{"$f":"IF($B10=\"Panel Sales\", SUMIFS(Weekly_Data_Raw[PANEL_AMOUNT],Weekly_Data_Raw[TICKER],'Weekly Metrics'!$A10,Weekly_Data_Raw[END_DATE],'Weekly Metrics'!ET$5),IF($B10=\"Transactions\",SUMIFS(Weekly_Data_Raw[PANEL_TRANSACTIONS],Weekly_Data_Raw[TICKER],'Weekly Metrics'!$A10,Weekly_Data_Raw[END_DATE],'Weekly Metrics'!ET$5), IF($B10=\"Avg Ticket\",SUMIFS(Weekly_Data_Raw[AVG_TICKET],Weekly_Data_Raw[TICKER],'Weekly Metrics'!$A10,Weekly_Data_Raw[END_DATE],'Weekly Metrics'!ET$5), IF($B10=\"EOP Subscribers\",SUMIFS(Weekly_Data_Raw[EOP_SUBSCRIBERS],Weekly_Data_Raw[TICKER],'Weekly Metrics'!$A10,Weekly_Data_Raw[END_DATE],'Weekly Metrics'!ET$5), IF($B10=\"Gross Adds\",SUMIFS(Weekly_Data_Raw[GROSS_ADDS],Weekly_Data_Raw[TICKER],'Weekly Metrics'!$A10,Weekly_Data_Raw[END_DATE],'Weekly Metrics'!ET$5), IF($B10=\"Churn\",SUMIFS(Weekly_Data_Raw[CHURNED_MEMBERS],Weekly_Data_Raw[TICKER],'Weekly Metrics'!$A10,Weekly_Data_Raw[END_DATE],'Weekly Metrics'!ET$5)))))))","v":23.369514814999999},{"$f":"IF($B10=\"Panel Sales\", SUMIFS(Weekly_Data_Raw[PANEL_AMOUNT],Weekly_Data_Raw[TICKER],'Weekly Metrics'!$A10,Weekly_Data_Raw[END_DATE],'Weekly Metrics'!EU$5),IF($B10=\"Transactions\",SUMIFS(Weekly_Data_Raw[PANEL_TRANSACTIONS],Weekly_Data_Raw[TICKER],'Weekly Metrics'!$A10,Weekly_Data_Raw[END_DATE],'Weekly Metrics'!EU$5), IF($B10=\"Avg Ticket\",SUMIFS(Weekly_Data_Raw[AVG_TICKET],Weekly_Data_Raw[TICKER],'Weekly Metrics'!$A10,Weekly_Data_Raw[END_DATE],'Weekly Metrics'!EU$5), IF($B10=\"EOP Subscribers\",SUMIFS(Weekly_Data_Raw[EOP_SUBSCRIBERS],Weekly_Data_Raw[TICKER],'Weekly Metrics'!$A10,Weekly_Data_Raw[END_DATE],'Weekly Metrics'!EU$5), IF($B10=\"Gross Adds\",SUMIFS(Weekly_Data_Raw[GROSS_ADDS],Weekly_Data_Raw[TICKER],'Weekly Metrics'!$A10,Weekly_Data_Raw[END_DATE],'Weekly Metrics'!EU$5), IF($B10=\"Churn\",SUMIFS(Weekly_Data_Raw[CHURNED_MEMBERS],Weekly_Data_Raw[TICKER],'Weekly Metrics'!$A10,Weekly_Data_Raw[END_DATE],'Weekly Metrics'!EU$5)))))))","v":21.968783783999999},{"$f":"IF($B10=\"Panel Sales\", SUMIFS(Weekly_Data_Raw[PANEL_AMOUNT],Weekly_Data_Raw[TICKER],'Weekly Metrics'!$A10,Weekly_Data_Raw[END_DATE],'Weekly Metrics'!EV$5),IF($B10=\"Transactions\",SUMIFS(Weekly_Data_Raw[PANEL_TRANSACTIONS],Weekly_Data_Raw[TICKER],'Weekly Metrics'!$A10,Weekly_Data_Raw[END_DATE],'Weekly Metrics'!EV$5), IF($B10=\"Avg Ticket\",SUMIFS(Weekly_Data_Raw[AVG_TICKET],Weekly_Data_Raw[TICKER],'Weekly Metrics'!$A10,Weekly_Data_Raw[END_DATE],'Weekly Metrics'!EV$5), IF($B10=\"EOP Subscribers\",SUMIFS(Weekly_Data_Raw[EOP_SUBSCRIBERS],Weekly_Data_Raw[TICKER],'Weekly Metrics'!$A10,Weekly_Data_Raw[END_DATE],'Weekly Metrics'!EV$5), IF($B10=\"Gross Adds\",SUMIFS(Weekly_Data_Raw[GROSS_ADDS],Weekly_Data_Raw[TICKER],'Weekly Metrics'!$A10,Weekly_Data_Raw[END_DATE],'Weekly Metrics'!EV$5), IF($B10=\"Churn\",SUMIFS(Weekly_Data_Raw[CHURNED_MEMBERS],Weekly_Data_Raw[TICKER],'Weekly Metrics'!$A10,Weekly_Data_Raw[END_DATE],'Weekly Metrics'!EV$5)))))))","v":23.497341435999999},{"$f":"IF($B10=\"Panel Sales\", SUMIFS(Weekly_Data_Raw[PANEL_AMOUNT],Weekly_Data_Raw[TICKER],'Weekly Metrics'!$A10,Weekly_Data_Raw[END_DATE],'Weekly Metrics'!EW$5),IF($B10=\"Transactions\",SUMIFS(Weekly_Data_Raw[PANEL_TRANSACTIONS],Weekly_Data_Raw[TICKER],'Weekly Metrics'!$A10,Weekly_Data_Raw[END_DATE],'Weekly Metrics'!EW$5), IF($B10=\"Avg Ticket\",SUMIFS(Weekly_Data_Raw[AVG_TICKET],Weekly_Data_Raw[TICKER],'Weekly Metrics'!$A10,Weekly_Data_Raw[END_DATE],'Weekly Metrics'!EW$5), IF($B10=\"EOP Subscribers\",SUMIFS(Weekly_Data_Raw[EOP_SUBSCRIBERS],Weekly_Data_Raw[TICKER],'Weekly Metrics'!$A10,Weekly_Data_Raw[END_DATE],'Weekly Metrics'!EW$5), IF($B10=\"Gross Adds\",SUMIFS(Weekly_Data_Raw[GROSS_ADDS],Weekly_Data_Raw[TICKER],'Weekly Metrics'!$A10,Weekly_Data_Raw[END_DATE],'Weekly Metrics'!EW$5), IF($B10=\"Churn\",SUMIFS(Weekly_Data_Raw[CHURNED_MEMBERS],Weekly_Data_Raw[TICKER],'Weekly Metrics'!$A10,Weekly_Data_Raw[END_DATE],'Weekly Metrics'!EW$5)))))))","v":22.829313887000001},{"$f":"IF($B10=\"Panel Sales\", SUMIFS(Weekly_Data_Raw[PANEL_AMOUNT],Weekly_Data_Raw[TICKER],'Weekly Metrics'!$A10,Weekly_Data_Raw[END_DATE],'Weekly Metrics'!EX$5),IF($B10=\"Transactions\",SUMIFS(Weekly_Data_Raw[PANEL_TRANSACTIONS],Weekly_Data_Raw[TICKER],'Weekly Metrics'!$A10,Weekly_Data_Raw[END_DATE],'Weekly Metrics'!EX$5), IF($B10=\"Avg Ticket\",SUMIFS(Weekly_Data_Raw[AVG_TICKET],Weekly_Data_Raw[TICKER],'Weekly Metrics'!$A10,Weekly_Data_Raw[END_DATE],'Weekly Metrics'!EX$5), IF($B10=\"EOP Subscribers\",SUMIFS(Weekly_Data_Raw[EOP_SUBSCRIBERS],Weekly_Data_Raw[TICKER],'Weekly Metrics'!$A10,Weekly_Data_Raw[END_DATE],'Weekly Metrics'!EX$5), IF($B10=\"Gross Adds\",SUMIFS(Weekly_Data_Raw[GROSS_ADDS],Weekly_Data_Raw[TICKER],'Weekly Metrics'!$A10,Weekly_Data_Raw[END_DATE],'Weekly Metrics'!EX$5), IF($B10=\"Churn\",SUMIFS(Weekly_Data_Raw[CHURNED_MEMBERS],Weekly_Data_Raw[TICKER],'Weekly Metrics'!$A10,Weekly_Data_Raw[END_DATE],'Weekly Metrics'!EX$5)))))))","v":23.237783251},{"$f":"IF($B10=\"Panel Sales\", SUMIFS(Weekly_Data_Raw[PANEL_AMOUNT],Weekly_Data_Raw[TICKER],'Weekly Metrics'!$A10,Weekly_Data_Raw[END_DATE],'Weekly Metrics'!EY$5),IF($B10=\"Transactions\",SUMIFS(Weekly_Data_Raw[PANEL_TRANSACTIONS],Weekly_Data_Raw[TICKER],'Weekly Metrics'!$A10,Weekly_Data_Raw[END_DATE],'Weekly Metrics'!EY$5), IF($B10=\"Avg Ticket\",SUMIFS(Weekly_Data_Raw[AVG_TICKET],Weekly_Data_Raw[TICKER],'Weekly Metrics'!$A10,Weekly_Data_Raw[END_DATE],'Weekly Metrics'!EY$5), IF($B10=\"EOP Subscribers\",SUMIFS(Weekly_Data_Raw[EOP_SUBSCRIBERS],Weekly_Data_Raw[TICKER],'Weekly Metrics'!$A10,Weekly_Data_Raw[END_DATE],'Weekly Metrics'!EY$5), IF($B10=\"Gross Adds\",SUMIFS(Weekly_Data_Raw[GROSS_ADDS],Weekly_Data_Raw[TICKER],'Weekly Metrics'!$A10,Weekly_Data_Raw[END_DATE],'Weekly Metrics'!EY$5), IF($B10=\"Churn\",SUMIFS(Weekly_Data_Raw[CHURNED_MEMBERS],Weekly_Data_Raw[TICKER],'Weekly Metrics'!$A10,Weekly_Data_Raw[END_DATE],'Weekly Metrics'!EY$5)))))))","v":22.516828405999998},{"$f":"IF($B10=\"Panel Sales\", SUMIFS(Weekly_Data_Raw[PANEL_AMOUNT],Weekly_Data_Raw[TICKER],'Weekly Metrics'!$A10,Weekly_Data_Raw[END_DATE],'Weekly Metrics'!EZ$5),IF($B10=\"Transactions\",SUMIFS(Weekly_Data_Raw[PANEL_TRANSACTIONS],Weekly_Data_Raw[TICKER],'Weekly Metrics'!$A10,Weekly_Data_Raw[END_DATE],'Weekly Metrics'!EZ$5), IF($B10=\"Avg Ticket\",SUMIFS(Weekly_Data_Raw[AVG_TICKET],Weekly_Data_Raw[TICKER],'Weekly Metrics'!$A10,Weekly_Data_Raw[END_DATE],'Weekly Metrics'!EZ$5), IF($B10=\"EOP Subscribers\",SUMIFS(Weekly_Data_Raw[EOP_SUBSCRIBERS],Weekly_Data_Raw[TICKER],'Weekly Metrics'!$A10,Weekly_Data_Raw[END_DATE],'Weekly Metrics'!EZ$5), IF($B10=\"Gross Adds\",SUMIFS(Weekly_Data_Raw[GROSS_ADDS],Weekly_Data_Raw[TICKER],'Weekly Metrics'!$A10,Weekly_Data_Raw[END_DATE],'Weekly Metrics'!EZ$5), IF($B10=\"Churn\",SUMIFS(Weekly_Data_Raw[CHURNED_MEMBERS],Weekly_Data_Raw[TICKER],'Weekly Metrics'!$A10,Weekly_Data_Raw[END_DATE],'Weekly Metrics'!EZ$5)))))))","v":23.343531226},{"$f":"IF($B10=\"Panel Sales\", SUMIFS(Weekly_Data_Raw[PANEL_AMOUNT],Weekly_Data_Raw[TICKER],'Weekly Metrics'!$A10,Weekly_Data_Raw[END_DATE],'Weekly Metrics'!FA$5),IF($B10=\"Transactions\",SUMIFS(Weekly_Data_Raw[PANEL_TRANSACTIONS],Weekly_Data_Raw[TICKER],'Weekly Metrics'!$A10,Weekly_Data_Raw[END_DATE],'Weekly Metrics'!FA$5), IF($B10=\"Avg Ticket\",SUMIFS(Weekly_Data_Raw[AVG_TICKET],Weekly_Data_Raw[TICKER],'Weekly Metrics'!$A10,Weekly_Data_Raw[END_DATE],'Weekly Metrics'!FA$5), IF($B10=\"EOP Subscribers\",SUMIFS(Weekly_Data_Raw[EOP_SUBSCRIBERS],Weekly_Data_Raw[TICKER],'Weekly Metrics'!$A10,Weekly_Data_Raw[END_DATE],'Weekly Metrics'!FA$5), IF($B10=\"Gross Adds\",SUMIFS(Weekly_Data_Raw[GROSS_ADDS],Weekly_Data_Raw[TICKER],'Weekly Metrics'!$A10,Weekly_Data_Raw[END_DATE],'Weekly Metrics'!FA$5), IF($B10=\"Churn\",SUMIFS(Weekly_Data_Raw[CHURNED_MEMBERS],Weekly_Data_Raw[TICKER],'Weekly Metrics'!$A10,Weekly_Data_Raw[END_DATE],'Weekly Metrics'!FA$5)))))))","v":23.546666667},{"$f":"IF($B10=\"Panel Sales\", SUMIFS(Weekly_Data_Raw[PANEL_AMOUNT],Weekly_Data_Raw[TICKER],'Weekly Metrics'!$A10,Weekly_Data_Raw[END_DATE],'Weekly Metrics'!FB$5),IF($B10=\"Transactions\",SUMIFS(Weekly_Data_Raw[PANEL_TRANSACTIONS],Weekly_Data_Raw[TICKER],'Weekly Metrics'!$A10,Weekly_Data_Raw[END_DATE],'Weekly Metrics'!FB$5), IF($B10=\"Avg Ticket\",SUMIFS(Weekly_Data_Raw[AVG_TICKET],Weekly_Data_Raw[TICKER],'Weekly Metrics'!$A10,Weekly_Data_Raw[END_DATE],'Weekly Metrics'!FB$5), IF($B10=\"EOP Subscribers\",SUMIFS(Weekly_Data_Raw[EOP_SUBSCRIBERS],Weekly_Data_Raw[TICKER],'Weekly Metrics'!$A10,Weekly_Data_Raw[END_DATE],'Weekly Metrics'!FB$5), IF($B10=\"Gross Adds\",SUMIFS(Weekly_Data_Raw[GROSS_ADDS],Weekly_Data_Raw[TICKER],'Weekly Metrics'!$A10,Weekly_Data_Raw[END_DATE],'Weekly Metrics'!FB$5), IF($B10=\"Churn\",SUMIFS(Weekly_Data_Raw[CHURNED_MEMBERS],Weekly_Data_Raw[TICKER],'Weekly Metrics'!$A10,Weekly_Data_Raw[END_DATE],'Weekly Metrics'!FB$5)))))))","v":23.227411562},{"$f":"IF($B10=\"Panel Sales\", SUMIFS(Weekly_Data_Raw[PANEL_AMOUNT],Weekly_Data_Raw[TICKER],'Weekly Metrics'!$A10,Weekly_Data_Raw[END_DATE],'Weekly Metrics'!FC$5),IF($B10=\"Transactions\",SUMIFS(Weekly_Data_Raw[PANEL_TRANSACTIONS],Weekly_Data_Raw[TICKER],'Weekly Metrics'!$A10,Weekly_Data_Raw[END_DATE],'Weekly Metrics'!FC$5), IF($B10=\"Avg Ticket\",SUMIFS(Weekly_Data_Raw[AVG_TICKET],Weekly_Data_Raw[TICKER],'Weekly Metrics'!$A10,Weekly_Data_Raw[END_DATE],'Weekly Metrics'!FC$5), IF($B10=\"EOP Subscribers\",SUMIFS(Weekly_Data_Raw[EOP_SUBSCRIBERS],Weekly_Data_Raw[TICKER],'Weekly Metrics'!$A10,Weekly_Data_Raw[END_DATE],'Weekly Metrics'!FC$5), IF($B10=\"Gross Adds\",SUMIFS(Weekly_Data_Raw[GROSS_ADDS],Weekly_Data_Raw[TICKER],'Weekly Metrics'!$A10,Weekly_Data_Raw[END_DATE],'Weekly Metrics'!FC$5), IF($B10=\"Churn\",SUMIFS(Weekly_Data_Raw[CHURNED_MEMBERS],Weekly_Data_Raw[TICKER],'Weekly Metrics'!$A10,Weekly_Data_Raw[END_DATE],'Weekly Metrics'!FC$5)))))))","v":23.311122222000002},{"$f":"IF($B10=\"Panel Sales\", SUMIFS(Weekly_Data_Raw[PANEL_AMOUNT],Weekly_Data_Raw[TICKER],'Weekly Metrics'!$A10,Weekly_Data_Raw[END_DATE],'Weekly Metrics'!FD$5),IF($B10=\"Transactions\",SUMIFS(Weekly_Data_Raw[PANEL_TRANSACTIONS],Weekly_Data_Raw[TICKER],'Weekly Metrics'!$A10,Weekly_Data_Raw[END_DATE],'Weekly Metrics'!FD$5), IF($B10=\"Avg Ticket\",SUMIFS(Weekly_Data_Raw[AVG_TICKET],Weekly_Data_Raw[TICKER],'Weekly Metrics'!$A10,Weekly_Data_Raw[END_DATE],'Weekly Metrics'!FD$5), IF($B10=\"EOP Subscribers\",SUMIFS(Weekly_Data_Raw[EOP_SUBSCRIBERS],Weekly_Data_Raw[TICKER],'Weekly Metrics'!$A10,Weekly_Data_Raw[END_DATE],'Weekly Metrics'!FD$5), IF($B10=\"Gross Adds\",SUMIFS(Weekly_Data_Raw[GROSS_ADDS],Weekly_Data_Raw[TICKER],'Weekly Metrics'!$A10,Weekly_Data_Raw[END_DATE],'Weekly Metrics'!FD$5), IF($B10=\"Churn\",SUMIFS(Weekly_Data_Raw[CHURNED_MEMBERS],Weekly_Data_Raw[TICKER],'Weekly Metrics'!$A10,Weekly_Data_Raw[END_DATE],'Weekly Metrics'!FD$5)))))))","v":22.947142856999999},{"$f":"IF($B10=\"Panel Sales\", SUMIFS(Weekly_Data_Raw[PANEL_AMOUNT],Weekly_Data_Raw[TICKER],'Weekly Metrics'!$A10,Weekly_Data_Raw[END_DATE],'Weekly Metrics'!FE$5),IF($B10=\"Transactions\",SUMIFS(Weekly_Data_Raw[PANEL_TRANSACTIONS],Weekly_Data_Raw[TICKER],'Weekly Metrics'!$A10,Weekly_Data_Raw[END_DATE],'Weekly Metrics'!FE$5), IF($B10=\"Avg Ticket\",SUMIFS(Weekly_Data_Raw[AVG_TICKET],Weekly_Data_Raw[TICKER],'Weekly Metrics'!$A10,Weekly_Data_Raw[END_DATE],'Weekly Metrics'!FE$5), IF($B10=\"EOP Subscribers\",SUMIFS(Weekly_Data_Raw[EOP_SUBSCRIBERS],Weekly_Data_Raw[TICKER],'Weekly Metrics'!$A10,Weekly_Data_Raw[END_DATE],'Weekly Metrics'!FE$5), IF($B10=\"Gross Adds\",SUMIFS(Weekly_Data_Raw[GROSS_ADDS],Weekly_Data_Raw[TICKER],'Weekly Metrics'!$A10,Weekly_Data_Raw[END_DATE],'Weekly Metrics'!FE$5), IF($B10=\"Churn\",SUMIFS(Weekly_Data_Raw[CHURNED_MEMBERS],Weekly_Data_Raw[TICKER],'Weekly Metrics'!$A10,Weekly_Data_Raw[END_DATE],'Weekly Metrics'!FE$5)))))))","v":23.63760834},{"$f":"IF($B10=\"Panel Sales\", SUMIFS(Weekly_Data_Raw[PANEL_AMOUNT],Weekly_Data_Raw[TICKER],'Weekly Metrics'!$A10,Weekly_Data_Raw[END_DATE],'Weekly Metrics'!FF$5),IF($B10=\"Transactions\",SUMIFS(Weekly_Data_Raw[PANEL_TRANSACTIONS],Weekly_Data_Raw[TICKER],'Weekly Metrics'!$A10,Weekly_Data_Raw[END_DATE],'Weekly Metrics'!FF$5), IF($B10=\"Avg Ticket\",SUMIFS(Weekly_Data_Raw[AVG_TICKET],Weekly_Data_Raw[TICKER],'Weekly Metrics'!$A10,Weekly_Data_Raw[END_DATE],'Weekly Metrics'!FF$5), IF($B10=\"EOP Subscribers\",SUMIFS(Weekly_Data_Raw[EOP_SUBSCRIBERS],Weekly_Data_Raw[TICKER],'Weekly Metrics'!$A10,Weekly_Data_Raw[END_DATE],'Weekly Metrics'!FF$5), IF($B10=\"Gross Adds\",SUMIFS(Weekly_Data_Raw[GROSS_ADDS],Weekly_Data_Raw[TICKER],'Weekly Metrics'!$A10,Weekly_Data_Raw[END_DATE],'Weekly Metrics'!FF$5), IF($B10=\"Churn\",SUMIFS(Weekly_Data_Raw[CHURNED_MEMBERS],Weekly_Data_Raw[TICKER],'Weekly Metrics'!$A10,Weekly_Data_Raw[END_DATE],'Weekly Metrics'!FF$5)))))))","v":23.801539734999999},{"$f":"IF($B10=\"Panel Sales\", SUMIFS(Weekly_Data_Raw[PANEL_AMOUNT],Weekly_Data_Raw[TICKER],'Weekly Metrics'!$A10,Weekly_Data_Raw[END_DATE],'Weekly Metrics'!FG$5),IF($B10=\"Transactions\",SUMIFS(Weekly_Data_Raw[PANEL_TRANSACTIONS],Weekly_Data_Raw[TICKER],'Weekly Metrics'!$A10,Weekly_Data_Raw[END_DATE],'Weekly Metrics'!FG$5), IF($B10=\"Avg Ticket\",SUMIFS(Weekly_Data_Raw[AVG_TICKET],Weekly_Data_Raw[TICKER],'Weekly Metrics'!$A10,Weekly_Data_Raw[END_DATE],'Weekly Metrics'!FG$5), IF($B10=\"EOP Subscribers\",SUMIFS(Weekly_Data_Raw[EOP_SUBSCRIBERS],Weekly_Data_Raw[TICKER],'Weekly Metrics'!$A10,Weekly_Data_Raw[END_DATE],'Weekly Metrics'!FG$5), IF($B10=\"Gross Adds\",SUMIFS(Weekly_Data_Raw[GROSS_ADDS],Weekly_Data_Raw[TICKER],'Weekly Metrics'!$A10,Weekly_Data_Raw[END_DATE],'Weekly Metrics'!FG$5), IF($B10=\"Churn\",SUMIFS(Weekly_Data_Raw[CHURNED_MEMBERS],Weekly_Data_Raw[TICKER],'Weekly Metrics'!$A10,Weekly_Data_Raw[END_DATE],'Weekly Metrics'!FG$5)))))))","v":23.110616095000001},{"$f":"IF($B10=\"Panel Sales\", SUMIFS(Weekly_Data_Raw[PANEL_AMOUNT],Weekly_Data_Raw[TICKER],'Weekly Metrics'!$A10,Weekly_Data_Raw[END_DATE],'Weekly Metrics'!FH$5),IF($B10=\"Transactions\",SUMIFS(Weekly_Data_Raw[PANEL_TRANSACTIONS],Weekly_Data_Raw[TICKER],'Weekly Metrics'!$A10,Weekly_Data_Raw[END_DATE],'Weekly Metrics'!FH$5), IF($B10=\"Avg Ticket\",SUMIFS(Weekly_Data_Raw[AVG_TICKET],Weekly_Data_Raw[TICKER],'Weekly Metrics'!$A10,Weekly_Data_Raw[END_DATE],'Weekly Metrics'!FH$5), IF($B10=\"EOP Subscribers\",SUMIFS(Weekly_Data_Raw[EOP_SUBSCRIBERS],Weekly_Data_Raw[TICKER],'Weekly Metrics'!$A10,Weekly_Data_Raw[END_DATE],'Weekly Metrics'!FH$5), IF($B10=\"Gross Adds\",SUMIFS(Weekly_Data_Raw[GROSS_ADDS],Weekly_Data_Raw[TICKER],'Weekly Metrics'!$A10,Weekly_Data_Raw[END_DATE],'Weekly Metrics'!FH$5), IF($B10=\"Churn\",SUMIFS(Weekly_Data_Raw[CHURNED_MEMBERS],Weekly_Data_Raw[TICKER],'Weekly Metrics'!$A10,Weekly_Data_Raw[END_DATE],'Weekly Metrics'!FH$5)))))))","v":21.860983826999998},{"$f":"IF($B10=\"Panel Sales\", SUMIFS(Weekly_Data_Raw[PANEL_AMOUNT],Weekly_Data_Raw[TICKER],'Weekly Metrics'!$A10,Weekly_Data_Raw[END_DATE],'Weekly Metrics'!FI$5),IF($B10=\"Transactions\",SUMIFS(Weekly_Data_Raw[PANEL_TRANSACTIONS],Weekly_Data_Raw[TICKER],'Weekly Metrics'!$A10,Weekly_Data_Raw[END_DATE],'Weekly Metrics'!FI$5), IF($B10=\"Avg Ticket\",SUMIFS(Weekly_Data_Raw[AVG_TICKET],Weekly_Data_Raw[TICKER],'Weekly Metrics'!$A10,Weekly_Data_Raw[END_DATE],'Weekly Metrics'!FI$5), IF($B10=\"EOP Subscribers\",SUMIFS(Weekly_Data_Raw[EOP_SUBSCRIBERS],Weekly_Data_Raw[TICKER],'Weekly Metrics'!$A10,Weekly_Data_Raw[END_DATE],'Weekly Metrics'!FI$5), IF($B10=\"Gross Adds\",SUMIFS(Weekly_Data_Raw[GROSS_ADDS],Weekly_Data_Raw[TICKER],'Weekly Metrics'!$A10,Weekly_Data_Raw[END_DATE],'Weekly Metrics'!FI$5), IF($B10=\"Churn\",SUMIFS(Weekly_Data_Raw[CHURNED_MEMBERS],Weekly_Data_Raw[TICKER],'Weekly Metrics'!$A10,Weekly_Data_Raw[END_DATE],'Weekly Metrics'!FI$5)))))))","v":22.735751906000001},{"$f":"IF($B10=\"Panel Sales\", SUMIFS(Weekly_Data_Raw[PANEL_AMOUNT],Weekly_Data_Raw[TICKER],'Weekly Metrics'!$A10,Weekly_Data_Raw[END_DATE],'Weekly Metrics'!FJ$5),IF($B10=\"Transactions\",SUMIFS(Weekly_Data_Raw[PANEL_TRANSACTIONS],Weekly_Data_Raw[TICKER],'Weekly Metrics'!$A10,Weekly_Data_Raw[END_DATE],'Weekly Metrics'!FJ$5), IF($B10=\"Avg Ticket\",SUMIFS(Weekly_Data_Raw[AVG_TICKET],Weekly_Data_Raw[TICKER],'Weekly Metrics'!$A10,Weekly_Data_Raw[END_DATE],'Weekly Metrics'!FJ$5), IF($B10=\"EOP Subscribers\",SUMIFS(Weekly_Data_Raw[EOP_SUBSCRIBERS],Weekly_Data_Raw[TICKER],'Weekly Metrics'!$A10,Weekly_Data_Raw[END_DATE],'Weekly Metrics'!FJ$5), IF($B10=\"Gross Adds\",SUMIFS(Weekly_Data_Raw[GROSS_ADDS],Weekly_Data_Raw[TICKER],'Weekly Metrics'!$A10,Weekly_Data_Raw[END_DATE],'Weekly Metrics'!FJ$5), IF($B10=\"Churn\",SUMIFS(Weekly_Data_Raw[CHURNED_MEMBERS],Weekly_Data_Raw[TICKER],'Weekly Metrics'!$A10,Weekly_Data_Raw[END_DATE],'Weekly Metrics'!FJ$5)))))))","v":23.195819232000002},{"$f":"IF($B10=\"Panel Sales\", SUMIFS(Weekly_Data_Raw[PANEL_AMOUNT],Weekly_Data_Raw[TICKER],'Weekly Metrics'!$A10,Weekly_Data_Raw[END_DATE],'Weekly Metrics'!FK$5),IF($B10=\"Transactions\",SUMIFS(Weekly_Data_Raw[PANEL_TRANSACTIONS],Weekly_Data_Raw[TICKER],'Weekly Metrics'!$A10,Weekly_Data_Raw[END_DATE],'Weekly Metrics'!FK$5), IF($B10=\"Avg Ticket\",SUMIFS(Weekly_Data_Raw[AVG_TICKET],Weekly_Data_Raw[TICKER],'Weekly Metrics'!$A10,Weekly_Data_Raw[END_DATE],'Weekly Metrics'!FK$5), IF($B10=\"EOP Subscribers\",SUMIFS(Weekly_Data_Raw[EOP_SUBSCRIBERS],Weekly_Data_Raw[TICKER],'Weekly Metrics'!$A10,Weekly_Data_Raw[END_DATE],'Weekly Metrics'!FK$5), IF($B10=\"Gross Adds\",SUMIFS(Weekly_Data_Raw[GROSS_ADDS],Weekly_Data_Raw[TICKER],'Weekly Metrics'!$A10,Weekly_Data_Raw[END_DATE],'Weekly Metrics'!FK$5), IF($B10=\"Churn\",SUMIFS(Weekly_Data_Raw[CHURNED_MEMBERS],Weekly_Data_Raw[TICKER],'Weekly Metrics'!$A10,Weekly_Data_Raw[END_DATE],'Weekly Metrics'!FK$5)))))))","v":22.472197973},{"$f":"IF($B10=\"Panel Sales\", SUMIFS(Weekly_Data_Raw[PANEL_AMOUNT],Weekly_Data_Raw[TICKER],'Weekly Metrics'!$A10,Weekly_Data_Raw[END_DATE],'Weekly Metrics'!FL$5),IF($B10=\"Transactions\",SUMIFS(Weekly_Data_Raw[PANEL_TRANSACTIONS],Weekly_Data_Raw[TICKER],'Weekly Metrics'!$A10,Weekly_Data_Raw[END_DATE],'Weekly Metrics'!FL$5), IF($B10=\"Avg Ticket\",SUMIFS(Weekly_Data_Raw[AVG_TICKET],Weekly_Data_Raw[TICKER],'Weekly Metrics'!$A10,Weekly_Data_Raw[END_DATE],'Weekly Metrics'!FL$5), IF($B10=\"EOP Subscribers\",SUMIFS(Weekly_Data_Raw[EOP_SUBSCRIBERS],Weekly_Data_Raw[TICKER],'Weekly Metrics'!$A10,Weekly_Data_Raw[END_DATE],'Weekly Metrics'!FL$5), IF($B10=\"Gross Adds\",SUMIFS(Weekly_Data_Raw[GROSS_ADDS],Weekly_Data_Raw[TICKER],'Weekly Metrics'!$A10,Weekly_Data_Raw[END_DATE],'Weekly Metrics'!FL$5), IF($B10=\"Churn\",SUMIFS(Weekly_Data_Raw[CHURNED_MEMBERS],Weekly_Data_Raw[TICKER],'Weekly Metrics'!$A10,Weekly_Data_Raw[END_DATE],'Weekly Metrics'!FL$5)))))))","v":21.340201017999998},{"$f":"IF($B10=\"Panel Sales\", SUMIFS(Weekly_Data_Raw[PANEL_AMOUNT],Weekly_Data_Raw[TICKER],'Weekly Metrics'!$A10,Weekly_Data_Raw[END_DATE],'Weekly Metrics'!FM$5),IF($B10=\"Transactions\",SUMIFS(Weekly_Data_Raw[PANEL_TRANSACTIONS],Weekly_Data_Raw[TICKER],'Weekly Metrics'!$A10,Weekly_Data_Raw[END_DATE],'Weekly Metrics'!FM$5), IF($B10=\"Avg Ticket\",SUMIFS(Weekly_Data_Raw[AVG_TICKET],Weekly_Data_Raw[TICKER],'Weekly Metrics'!$A10,Weekly_Data_Raw[END_DATE],'Weekly Metrics'!FM$5), IF($B10=\"EOP Subscribers\",SUMIFS(Weekly_Data_Raw[EOP_SUBSCRIBERS],Weekly_Data_Raw[TICKER],'Weekly Metrics'!$A10,Weekly_Data_Raw[END_DATE],'Weekly Metrics'!FM$5), IF($B10=\"Gross Adds\",SUMIFS(Weekly_Data_Raw[GROSS_ADDS],Weekly_Data_Raw[TICKER],'Weekly Metrics'!$A10,Weekly_Data_Raw[END_DATE],'Weekly Metrics'!FM$5), IF($B10=\"Churn\",SUMIFS(Weekly_Data_Raw[CHURNED_MEMBERS],Weekly_Data_Raw[TICKER],'Weekly Metrics'!$A10,Weekly_Data_Raw[END_DATE],'Weekly Metrics'!FM$5)))))))","v":22.599996487999999},{"$f":"IF($B10=\"Panel Sales\", SUMIFS(Weekly_Data_Raw[PANEL_AMOUNT],Weekly_Data_Raw[TICKER],'Weekly Metrics'!$A10,Weekly_Data_Raw[END_DATE],'Weekly Metrics'!FN$5),IF($B10=\"Transactions\",SUMIFS(Weekly_Data_Raw[PANEL_TRANSACTIONS],Weekly_Data_Raw[TICKER],'Weekly Metrics'!$A10,Weekly_Data_Raw[END_DATE],'Weekly Metrics'!FN$5), IF($B10=\"Avg Ticket\",SUMIFS(Weekly_Data_Raw[AVG_TICKET],Weekly_Data_Raw[TICKER],'Weekly Metrics'!$A10,Weekly_Data_Raw[END_DATE],'Weekly Metrics'!FN$5), IF($B10=\"EOP Subscribers\",SUMIFS(Weekly_Data_Raw[EOP_SUBSCRIBERS],Weekly_Data_Raw[TICKER],'Weekly Metrics'!$A10,Weekly_Data_Raw[END_DATE],'Weekly Metrics'!FN$5), IF($B10=\"Gross Adds\",SUMIFS(Weekly_Data_Raw[GROSS_ADDS],Weekly_Data_Raw[TICKER],'Weekly Metrics'!$A10,Weekly_Data_Raw[END_DATE],'Weekly Metrics'!FN$5), IF($B10=\"Churn\",SUMIFS(Weekly_Data_Raw[CHURNED_MEMBERS],Weekly_Data_Raw[TICKER],'Weekly Metrics'!$A10,Weekly_Data_Raw[END_DATE],'Weekly Metrics'!FN$5)))))))","v":22.846002516999999},{"$f":"IF($B10=\"Panel Sales\", SUMIFS(Weekly_Data_Raw[PANEL_AMOUNT],Weekly_Data_Raw[TICKER],'Weekly Metrics'!$A10,Weekly_Data_Raw[END_DATE],'Weekly Metrics'!FO$5),IF($B10=\"Transactions\",SUMIFS(Weekly_Data_Raw[PANEL_TRANSACTIONS],Weekly_Data_Raw[TICKER],'Weekly Metrics'!$A10,Weekly_Data_Raw[END_DATE],'Weekly Metrics'!FO$5), IF($B10=\"Avg Ticket\",SUMIFS(Weekly_Data_Raw[AVG_TICKET],Weekly_Data_Raw[TICKER],'Weekly Metrics'!$A10,Weekly_Data_Raw[END_DATE],'Weekly Metrics'!FO$5), IF($B10=\"EOP Subscribers\",SUMIFS(Weekly_Data_Raw[EOP_SUBSCRIBERS],Weekly_Data_Raw[TICKER],'Weekly Metrics'!$A10,Weekly_Data_Raw[END_DATE],'Weekly Metrics'!FO$5), IF($B10=\"Gross Adds\",SUMIFS(Weekly_Data_Raw[GROSS_ADDS],Weekly_Data_Raw[TICKER],'Weekly Metrics'!$A10,Weekly_Data_Raw[END_DATE],'Weekly Metrics'!FO$5), IF($B10=\"Churn\",SUMIFS(Weekly_Data_Raw[CHURNED_MEMBERS],Weekly_Data_Raw[TICKER],'Weekly Metrics'!$A10,Weekly_Data_Raw[END_DATE],'Weekly Metrics'!FO$5)))))))","v":22.422442931999999},{"$f":"IF($B10=\"Panel Sales\", SUMIFS(Weekly_Data_Raw[PANEL_AMOUNT],Weekly_Data_Raw[TICKER],'Weekly Metrics'!$A10,Weekly_Data_Raw[END_DATE],'Weekly Metrics'!FP$5),IF($B10=\"Transactions\",SUMIFS(Weekly_Data_Raw[PANEL_TRANSACTIONS],Weekly_Data_Raw[TICKER],'Weekly Metrics'!$A10,Weekly_Data_Raw[END_DATE],'Weekly Metrics'!FP$5), IF($B10=\"Avg Ticket\",SUMIFS(Weekly_Data_Raw[AVG_TICKET],Weekly_Data_Raw[TICKER],'Weekly Metrics'!$A10,Weekly_Data_Raw[END_DATE],'Weekly Metrics'!FP$5), IF($B10=\"EOP Subscribers\",SUMIFS(Weekly_Data_Raw[EOP_SUBSCRIBERS],Weekly_Data_Raw[TICKER],'Weekly Metrics'!$A10,Weekly_Data_Raw[END_DATE],'Weekly Metrics'!FP$5), IF($B10=\"Gross Adds\",SUMIFS(Weekly_Data_Raw[GROSS_ADDS],Weekly_Data_Raw[TICKER],'Weekly Metrics'!$A10,Weekly_Data_Raw[END_DATE],'Weekly Metrics'!FP$5), IF($B10=\"Churn\",SUMIFS(Weekly_Data_Raw[CHURNED_MEMBERS],Weekly_Data_Raw[TICKER],'Weekly Metrics'!$A10,Weekly_Data_Raw[END_DATE],'Weekly Metrics'!FP$5)))))))","v":22.883749568999999},{"$f":"IF($B10=\"Panel Sales\", SUMIFS(Weekly_Data_Raw[PANEL_AMOUNT],Weekly_Data_Raw[TICKER],'Weekly Metrics'!$A10,Weekly_Data_Raw[END_DATE],'Weekly Metrics'!FQ$5),IF($B10=\"Transactions\",SUMIFS(Weekly_Data_Raw[PANEL_TRANSACTIONS],Weekly_Data_Raw[TICKER],'Weekly Metrics'!$A10,Weekly_Data_Raw[END_DATE],'Weekly Metrics'!FQ$5), IF($B10=\"Avg Ticket\",SUMIFS(Weekly_Data_Raw[AVG_TICKET],Weekly_Data_Raw[TICKER],'Weekly Metrics'!$A10,Weekly_Data_Raw[END_DATE],'Weekly Metrics'!FQ$5), IF($B10=\"EOP Subscribers\",SUMIFS(Weekly_Data_Raw[EOP_SUBSCRIBERS],Weekly_Data_Raw[TICKER],'Weekly Metrics'!$A10,Weekly_Data_Raw[END_DATE],'Weekly Metrics'!FQ$5), IF($B10=\"Gross Adds\",SUMIFS(Weekly_Data_Raw[GROSS_ADDS],Weekly_Data_Raw[TICKER],'Weekly Metrics'!$A10,Weekly_Data_Raw[END_DATE],'Weekly Metrics'!FQ$5), IF($B10=\"Churn\",SUMIFS(Weekly_Data_Raw[CHURNED_MEMBERS],Weekly_Data_Raw[TICKER],'Weekly Metrics'!$A10,Weekly_Data_Raw[END_DATE],'Weekly Metrics'!FQ$5)))))))","v":22.010287375000001},{"$f":"IF($B10=\"Panel Sales\", SUMIFS(Weekly_Data_Raw[PANEL_AMOUNT],Weekly_Data_Raw[TICKER],'Weekly Metrics'!$A10,Weekly_Data_Raw[END_DATE],'Weekly Metrics'!FR$5),IF($B10=\"Transactions\",SUMIFS(Weekly_Data_Raw[PANEL_TRANSACTIONS],Weekly_Data_Raw[TICKER],'Weekly Metrics'!$A10,Weekly_Data_Raw[END_DATE],'Weekly Metrics'!FR$5), IF($B10=\"Avg Ticket\",SUMIFS(Weekly_Data_Raw[AVG_TICKET],Weekly_Data_Raw[TICKER],'Weekly Metrics'!$A10,Weekly_Data_Raw[END_DATE],'Weekly Metrics'!FR$5), IF($B10=\"EOP Subscribers\",SUMIFS(Weekly_Data_Raw[EOP_SUBSCRIBERS],Weekly_Data_Raw[TICKER],'Weekly Metrics'!$A10,Weekly_Data_Raw[END_DATE],'Weekly Metrics'!FR$5), IF($B10=\"Gross Adds\",SUMIFS(Weekly_Data_Raw[GROSS_ADDS],Weekly_Data_Raw[TICKER],'Weekly Metrics'!$A10,Weekly_Data_Raw[END_DATE],'Weekly Metrics'!FR$5), IF($B10=\"Churn\",SUMIFS(Weekly_Data_Raw[CHURNED_MEMBERS],Weekly_Data_Raw[TICKER],'Weekly Metrics'!$A10,Weekly_Data_Raw[END_DATE],'Weekly Metrics'!FR$5)))))))","v":23.003790584000001},{"$f":"IF($B10=\"Panel Sales\", SUMIFS(Weekly_Data_Raw[PANEL_AMOUNT],Weekly_Data_Raw[TICKER],'Weekly Metrics'!$A10,Weekly_Data_Raw[END_DATE],'Weekly Metrics'!FS$5),IF($B10=\"Transactions\",SUMIFS(Weekly_Data_Raw[PANEL_TRANSACTIONS],Weekly_Data_Raw[TICKER],'Weekly Metrics'!$A10,Weekly_Data_Raw[END_DATE],'Weekly Metrics'!FS$5), IF($B10=\"Avg Ticket\",SUMIFS(Weekly_Data_Raw[AVG_TICKET],Weekly_Data_Raw[TICKER],'Weekly Metrics'!$A10,Weekly_Data_Raw[END_DATE],'Weekly Metrics'!FS$5), IF($B10=\"EOP Subscribers\",SUMIFS(Weekly_Data_Raw[EOP_SUBSCRIBERS],Weekly_Data_Raw[TICKER],'Weekly Metrics'!$A10,Weekly_Data_Raw[END_DATE],'Weekly Metrics'!FS$5), IF($B10=\"Gross Adds\",SUMIFS(Weekly_Data_Raw[GROSS_ADDS],Weekly_Data_Raw[TICKER],'Weekly Metrics'!$A10,Weekly_Data_Raw[END_DATE],'Weekly Metrics'!FS$5), IF($B10=\"Churn\",SUMIFS(Weekly_Data_Raw[CHURNED_MEMBERS],Weekly_Data_Raw[TICKER],'Weekly Metrics'!$A10,Weekly_Data_Raw[END_DATE],'Weekly Metrics'!FS$5)))))))","v":21.786948617},{"$f":"IF($B10=\"Panel Sales\", SUMIFS(Weekly_Data_Raw[PANEL_AMOUNT],Weekly_Data_Raw[TICKER],'Weekly Metrics'!$A10,Weekly_Data_Raw[END_DATE],'Weekly Metrics'!FT$5),IF($B10=\"Transactions\",SUMIFS(Weekly_Data_Raw[PANEL_TRANSACTIONS],Weekly_Data_Raw[TICKER],'Weekly Metrics'!$A10,Weekly_Data_Raw[END_DATE],'Weekly Metrics'!FT$5), IF($B10=\"Avg Ticket\",SUMIFS(Weekly_Data_Raw[AVG_TICKET],Weekly_Data_Raw[TICKER],'Weekly Metrics'!$A10,Weekly_Data_Raw[END_DATE],'Weekly Metrics'!FT$5), IF($B10=\"EOP Subscribers\",SUMIFS(Weekly_Data_Raw[EOP_SUBSCRIBERS],Weekly_Data_Raw[TICKER],'Weekly Metrics'!$A10,Weekly_Data_Raw[END_DATE],'Weekly Metrics'!FT$5), IF($B10=\"Gross Adds\",SUMIFS(Weekly_Data_Raw[GROSS_ADDS],Weekly_Data_Raw[TICKER],'Weekly Metrics'!$A10,Weekly_Data_Raw[END_DATE],'Weekly Metrics'!FT$5), IF($B10=\"Churn\",SUMIFS(Weekly_Data_Raw[CHURNED_MEMBERS],Weekly_Data_Raw[TICKER],'Weekly Metrics'!$A10,Weekly_Data_Raw[END_DATE],'Weekly Metrics'!FT$5)))))))","v":22.283799270999999},{"$f":"IF($B10=\"Panel Sales\", SUMIFS(Weekly_Data_Raw[PANEL_AMOUNT],Weekly_Data_Raw[TICKER],'Weekly Metrics'!$A10,Weekly_Data_Raw[END_DATE],'Weekly Metrics'!FU$5),IF($B10=\"Transactions\",SUMIFS(Weekly_Data_Raw[PANEL_TRANSACTIONS],Weekly_Data_Raw[TICKER],'Weekly Metrics'!$A10,Weekly_Data_Raw[END_DATE],'Weekly Metrics'!FU$5), IF($B10=\"Avg Ticket\",SUMIFS(Weekly_Data_Raw[AVG_TICKET],Weekly_Data_Raw[TICKER],'Weekly Metrics'!$A10,Weekly_Data_Raw[END_DATE],'Weekly Metrics'!FU$5), IF($B10=\"EOP Subscribers\",SUMIFS(Weekly_Data_Raw[EOP_SUBSCRIBERS],Weekly_Data_Raw[TICKER],'Weekly Metrics'!$A10,Weekly_Data_Raw[END_DATE],'Weekly Metrics'!FU$5), IF($B10=\"Gross Adds\",SUMIFS(Weekly_Data_Raw[GROSS_ADDS],Weekly_Data_Raw[TICKER],'Weekly Metrics'!$A10,Weekly_Data_Raw[END_DATE],'Weekly Metrics'!FU$5), IF($B10=\"Churn\",SUMIFS(Weekly_Data_Raw[CHURNED_MEMBERS],Weekly_Data_Raw[TICKER],'Weekly Metrics'!$A10,Weekly_Data_Raw[END_DATE],'Weekly Metrics'!FU$5)))))))","v":22.007030527000001},{"$f":"IF($B10=\"Panel Sales\", SUMIFS(Weekly_Data_Raw[PANEL_AMOUNT],Weekly_Data_Raw[TICKER],'Weekly Metrics'!$A10,Weekly_Data_Raw[END_DATE],'Weekly Metrics'!FV$5),IF($B10=\"Transactions\",SUMIFS(Weekly_Data_Raw[PANEL_TRANSACTIONS],Weekly_Data_Raw[TICKER],'Weekly Metrics'!$A10,Weekly_Data_Raw[END_DATE],'Weekly Metrics'!FV$5), IF($B10=\"Avg Ticket\",SUMIFS(Weekly_Data_Raw[AVG_TICKET],Weekly_Data_Raw[TICKER],'Weekly Metrics'!$A10,Weekly_Data_Raw[END_DATE],'Weekly Metrics'!FV$5), IF($B10=\"EOP Subscribers\",SUMIFS(Weekly_Data_Raw[EOP_SUBSCRIBERS],Weekly_Data_Raw[TICKER],'Weekly Metrics'!$A10,Weekly_Data_Raw[END_DATE],'Weekly Metrics'!FV$5), IF($B10=\"Gross Adds\",SUMIFS(Weekly_Data_Raw[GROSS_ADDS],Weekly_Data_Raw[TICKER],'Weekly Metrics'!$A10,Weekly_Data_Raw[END_DATE],'Weekly Metrics'!FV$5), IF($B10=\"Churn\",SUMIFS(Weekly_Data_Raw[CHURNED_MEMBERS],Weekly_Data_Raw[TICKER],'Weekly Metrics'!$A10,Weekly_Data_Raw[END_DATE],'Weekly Metrics'!FV$5)))))))","v":23.224812765999999},{"$f":"IF($B10=\"Panel Sales\", SUMIFS(Weekly_Data_Raw[PANEL_AMOUNT],Weekly_Data_Raw[TICKER],'Weekly Metrics'!$A10,Weekly_Data_Raw[END_DATE],'Weekly Metrics'!FW$5),IF($B10=\"Transactions\",SUMIFS(Weekly_Data_Raw[PANEL_TRANSACTIONS],Weekly_Data_Raw[TICKER],'Weekly Metrics'!$A10,Weekly_Data_Raw[END_DATE],'Weekly Metrics'!FW$5), IF($B10=\"Avg Ticket\",SUMIFS(Weekly_Data_Raw[AVG_TICKET],Weekly_Data_Raw[TICKER],'Weekly Metrics'!$A10,Weekly_Data_Raw[END_DATE],'Weekly Metrics'!FW$5), IF($B10=\"EOP Subscribers\",SUMIFS(Weekly_Data_Raw[EOP_SUBSCRIBERS],Weekly_Data_Raw[TICKER],'Weekly Metrics'!$A10,Weekly_Data_Raw[END_DATE],'Weekly Metrics'!FW$5), IF($B10=\"Gross Adds\",SUMIFS(Weekly_Data_Raw[GROSS_ADDS],Weekly_Data_Raw[TICKER],'Weekly Metrics'!$A10,Weekly_Data_Raw[END_DATE],'Weekly Metrics'!FW$5), IF($B10=\"Churn\",SUMIFS(Weekly_Data_Raw[CHURNED_MEMBERS],Weekly_Data_Raw[TICKER],'Weekly Metrics'!$A10,Weekly_Data_Raw[END_DATE],'Weekly Metrics'!FW$5)))))))","v":22.484870849},{"$f":"IF($B10=\"Panel Sales\", SUMIFS(Weekly_Data_Raw[PANEL_AMOUNT],Weekly_Data_Raw[TICKER],'Weekly Metrics'!$A10,Weekly_Data_Raw[END_DATE],'Weekly Metrics'!FX$5),IF($B10=\"Transactions\",SUMIFS(Weekly_Data_Raw[PANEL_TRANSACTIONS],Weekly_Data_Raw[TICKER],'Weekly Metrics'!$A10,Weekly_Data_Raw[END_DATE],'Weekly Metrics'!FX$5), IF($B10=\"Avg Ticket\",SUMIFS(Weekly_Data_Raw[AVG_TICKET],Weekly_Data_Raw[TICKER],'Weekly Metrics'!$A10,Weekly_Data_Raw[END_DATE],'Weekly Metrics'!FX$5), IF($B10=\"EOP Subscribers\",SUMIFS(Weekly_Data_Raw[EOP_SUBSCRIBERS],Weekly_Data_Raw[TICKER],'Weekly Metrics'!$A10,Weekly_Data_Raw[END_DATE],'Weekly Metrics'!FX$5), IF($B10=\"Gross Adds\",SUMIFS(Weekly_Data_Raw[GROSS_ADDS],Weekly_Data_Raw[TICKER],'Weekly Metrics'!$A10,Weekly_Data_Raw[END_DATE],'Weekly Metrics'!FX$5), IF($B10=\"Churn\",SUMIFS(Weekly_Data_Raw[CHURNED_MEMBERS],Weekly_Data_Raw[TICKER],'Weekly Metrics'!$A10,Weekly_Data_Raw[END_DATE],'Weekly Metrics'!FX$5)))))))","v":21.725753739999998},{"$f":"IF($B10=\"Panel Sales\", SUMIFS(Weekly_Data_Raw[PANEL_AMOUNT],Weekly_Data_Raw[TICKER],'Weekly Metrics'!$A10,Weekly_Data_Raw[END_DATE],'Weekly Metrics'!FY$5),IF($B10=\"Transactions\",SUMIFS(Weekly_Data_Raw[PANEL_TRANSACTIONS],Weekly_Data_Raw[TICKER],'Weekly Metrics'!$A10,Weekly_Data_Raw[END_DATE],'Weekly Metrics'!FY$5), IF($B10=\"Avg Ticket\",SUMIFS(Weekly_Data_Raw[AVG_TICKET],Weekly_Data_Raw[TICKER],'Weekly Metrics'!$A10,Weekly_Data_Raw[END_DATE],'Weekly Metrics'!FY$5), IF($B10=\"EOP Subscribers\",SUMIFS(Weekly_Data_Raw[EOP_SUBSCRIBERS],Weekly_Data_Raw[TICKER],'Weekly Metrics'!$A10,Weekly_Data_Raw[END_DATE],'Weekly Metrics'!FY$5), IF($B10=\"Gross Adds\",SUMIFS(Weekly_Data_Raw[GROSS_ADDS],Weekly_Data_Raw[TICKER],'Weekly Metrics'!$A10,Weekly_Data_Raw[END_DATE],'Weekly Metrics'!FY$5), IF($B10=\"Churn\",SUMIFS(Weekly_Data_Raw[CHURNED_MEMBERS],Weekly_Data_Raw[TICKER],'Weekly Metrics'!$A10,Weekly_Data_Raw[END_DATE],'Weekly Metrics'!FY$5)))))))","v":21.712786829999999},{"$f":"IF($B10=\"Panel Sales\", SUMIFS(Weekly_Data_Raw[PANEL_AMOUNT],Weekly_Data_Raw[TICKER],'Weekly Metrics'!$A10,Weekly_Data_Raw[END_DATE],'Weekly Metrics'!FZ$5),IF($B10=\"Transactions\",SUMIFS(Weekly_Data_Raw[PANEL_TRANSACTIONS],Weekly_Data_Raw[TICKER],'Weekly Metrics'!$A10,Weekly_Data_Raw[END_DATE],'Weekly Metrics'!FZ$5), IF($B10=\"Avg Ticket\",SUMIFS(Weekly_Data_Raw[AVG_TICKET],Weekly_Data_Raw[TICKER],'Weekly Metrics'!$A10,Weekly_Data_Raw[END_DATE],'Weekly Metrics'!FZ$5), IF($B10=\"EOP Subscribers\",SUMIFS(Weekly_Data_Raw[EOP_SUBSCRIBERS],Weekly_Data_Raw[TICKER],'Weekly Metrics'!$A10,Weekly_Data_Raw[END_DATE],'Weekly Metrics'!FZ$5), IF($B10=\"Gross Adds\",SUMIFS(Weekly_Data_Raw[GROSS_ADDS],Weekly_Data_Raw[TICKER],'Weekly Metrics'!$A10,Weekly_Data_Raw[END_DATE],'Weekly Metrics'!FZ$5), IF($B10=\"Churn\",SUMIFS(Weekly_Data_Raw[CHURNED_MEMBERS],Weekly_Data_Raw[TICKER],'Weekly Metrics'!$A10,Weekly_Data_Raw[END_DATE],'Weekly Metrics'!FZ$5)))))))","v":23.044375957},{"$f":"IF($B10=\"Panel Sales\", SUMIFS(Weekly_Data_Raw[PANEL_AMOUNT],Weekly_Data_Raw[TICKER],'Weekly Metrics'!$A10,Weekly_Data_Raw[END_DATE],'Weekly Metrics'!GA$5),IF($B10=\"Transactions\",SUMIFS(Weekly_Data_Raw[PANEL_TRANSACTIONS],Weekly_Data_Raw[TICKER],'Weekly Metrics'!$A10,Weekly_Data_Raw[END_DATE],'Weekly Metrics'!GA$5), IF($B10=\"Avg Ticket\",SUMIFS(Weekly_Data_Raw[AVG_TICKET],Weekly_Data_Raw[TICKER],'Weekly Metrics'!$A10,Weekly_Data_Raw[END_DATE],'Weekly Metrics'!GA$5), IF($B10=\"EOP Subscribers\",SUMIFS(Weekly_Data_Raw[EOP_SUBSCRIBERS],Weekly_Data_Raw[TICKER],'Weekly Metrics'!$A10,Weekly_Data_Raw[END_DATE],'Weekly Metrics'!GA$5), IF($B10=\"Gross Adds\",SUMIFS(Weekly_Data_Raw[GROSS_ADDS],Weekly_Data_Raw[TICKER],'Weekly Metrics'!$A10,Weekly_Data_Raw[END_DATE],'Weekly Metrics'!GA$5), IF($B10=\"Churn\",SUMIFS(Weekly_Data_Raw[CHURNED_MEMBERS],Weekly_Data_Raw[TICKER],'Weekly Metrics'!$A10,Weekly_Data_Raw[END_DATE],'Weekly Metrics'!GA$5)))))))","v":23.070067295000001},{"$f":"IF($B10=\"Panel Sales\", SUMIFS(Weekly_Data_Raw[PANEL_AMOUNT],Weekly_Data_Raw[TICKER],'Weekly Metrics'!$A10,Weekly_Data_Raw[END_DATE],'Weekly Metrics'!GB$5),IF($B10=\"Transactions\",SUMIFS(Weekly_Data_Raw[PANEL_TRANSACTIONS],Weekly_Data_Raw[TICKER],'Weekly Metrics'!$A10,Weekly_Data_Raw[END_DATE],'Weekly Metrics'!GB$5), IF($B10=\"Avg Ticket\",SUMIFS(Weekly_Data_Raw[AVG_TICKET],Weekly_Data_Raw[TICKER],'Weekly Metrics'!$A10,Weekly_Data_Raw[END_DATE],'Weekly Metrics'!GB$5), IF($B10=\"EOP Subscribers\",SUMIFS(Weekly_Data_Raw[EOP_SUBSCRIBERS],Weekly_Data_Raw[TICKER],'Weekly Metrics'!$A10,Weekly_Data_Raw[END_DATE],'Weekly Metrics'!GB$5), IF($B10=\"Gross Adds\",SUMIFS(Weekly_Data_Raw[GROSS_ADDS],Weekly_Data_Raw[TICKER],'Weekly Metrics'!$A10,Weekly_Data_Raw[END_DATE],'Weekly Metrics'!GB$5), IF($B10=\"Churn\",SUMIFS(Weekly_Data_Raw[CHURNED_MEMBERS],Weekly_Data_Raw[TICKER],'Weekly Metrics'!$A10,Weekly_Data_Raw[END_DATE],'Weekly Metrics'!GB$5)))))))","v":22.131045650000001},{"$f":"IF($B10=\"Panel Sales\", SUMIFS(Weekly_Data_Raw[PANEL_AMOUNT],Weekly_Data_Raw[TICKER],'Weekly Metrics'!$A10,Weekly_Data_Raw[END_DATE],'Weekly Metrics'!GC$5),IF($B10=\"Transactions\",SUMIFS(Weekly_Data_Raw[PANEL_TRANSACTIONS],Weekly_Data_Raw[TICKER],'Weekly Metrics'!$A10,Weekly_Data_Raw[END_DATE],'Weekly Metrics'!GC$5), IF($B10=\"Avg Ticket\",SUMIFS(Weekly_Data_Raw[AVG_TICKET],Weekly_Data_Raw[TICKER],'Weekly Metrics'!$A10,Weekly_Data_Raw[END_DATE],'Weekly Metrics'!GC$5), IF($B10=\"EOP Subscribers\",SUMIFS(Weekly_Data_Raw[EOP_SUBSCRIBERS],Weekly_Data_Raw[TICKER],'Weekly Metrics'!$A10,Weekly_Data_Raw[END_DATE],'Weekly Metrics'!GC$5), IF($B10=\"Gross Adds\",SUMIFS(Weekly_Data_Raw[GROSS_ADDS],Weekly_Data_Raw[TICKER],'Weekly Metrics'!$A10,Weekly_Data_Raw[END_DATE],'Weekly Metrics'!GC$5), IF($B10=\"Churn\",SUMIFS(Weekly_Data_Raw[CHURNED_MEMBERS],Weekly_Data_Raw[TICKER],'Weekly Metrics'!$A10,Weekly_Data_Raw[END_DATE],'Weekly Metrics'!GC$5)))))))","v":22.045980912000001},{"$f":"IF($B10=\"Panel Sales\", SUMIFS(Weekly_Data_Raw[PANEL_AMOUNT],Weekly_Data_Raw[TICKER],'Weekly Metrics'!$A10,Weekly_Data_Raw[END_DATE],'Weekly Metrics'!GD$5),IF($B10=\"Transactions\",SUMIFS(Weekly_Data_Raw[PANEL_TRANSACTIONS],Weekly_Data_Raw[TICKER],'Weekly Metrics'!$A10,Weekly_Data_Raw[END_DATE],'Weekly Metrics'!GD$5), IF($B10=\"Avg Ticket\",SUMIFS(Weekly_Data_Raw[AVG_TICKET],Weekly_Data_Raw[TICKER],'Weekly Metrics'!$A10,Weekly_Data_Raw[END_DATE],'Weekly Metrics'!GD$5), IF($B10=\"EOP Subscribers\",SUMIFS(Weekly_Data_Raw[EOP_SUBSCRIBERS],Weekly_Data_Raw[TICKER],'Weekly Metrics'!$A10,Weekly_Data_Raw[END_DATE],'Weekly Metrics'!GD$5), IF($B10=\"Gross Adds\",SUMIFS(Weekly_Data_Raw[GROSS_ADDS],Weekly_Data_Raw[TICKER],'Weekly Metrics'!$A10,Weekly_Data_Raw[END_DATE],'Weekly Metrics'!GD$5), IF($B10=\"Churn\",SUMIFS(Weekly_Data_Raw[CHURNED_MEMBERS],Weekly_Data_Raw[TICKER],'Weekly Metrics'!$A10,Weekly_Data_Raw[END_DATE],'Weekly Metrics'!GD$5)))))))","v":21.891488575},{"$f":"IF($B10=\"Panel Sales\", SUMIFS(Weekly_Data_Raw[PANEL_AMOUNT],Weekly_Data_Raw[TICKER],'Weekly Metrics'!$A10,Weekly_Data_Raw[END_DATE],'Weekly Metrics'!GE$5),IF($B10=\"Transactions\",SUMIFS(Weekly_Data_Raw[PANEL_TRANSACTIONS],Weekly_Data_Raw[TICKER],'Weekly Metrics'!$A10,Weekly_Data_Raw[END_DATE],'Weekly Metrics'!GE$5), IF($B10=\"Avg Ticket\",SUMIFS(Weekly_Data_Raw[AVG_TICKET],Weekly_Data_Raw[TICKER],'Weekly Metrics'!$A10,Weekly_Data_Raw[END_DATE],'Weekly Metrics'!GE$5), IF($B10=\"EOP Subscribers\",SUMIFS(Weekly_Data_Raw[EOP_SUBSCRIBERS],Weekly_Data_Raw[TICKER],'Weekly Metrics'!$A10,Weekly_Data_Raw[END_DATE],'Weekly Metrics'!GE$5), IF($B10=\"Gross Adds\",SUMIFS(Weekly_Data_Raw[GROSS_ADDS],Weekly_Data_Raw[TICKER],'Weekly Metrics'!$A10,Weekly_Data_Raw[END_DATE],'Weekly Metrics'!GE$5), IF($B10=\"Churn\",SUMIFS(Weekly_Data_Raw[CHURNED_MEMBERS],Weekly_Data_Raw[TICKER],'Weekly Metrics'!$A10,Weekly_Data_Raw[END_DATE],'Weekly Metrics'!GE$5)))))))","v":23.411609294000002},{"$f":"IF($B10=\"Panel Sales\", SUMIFS(Weekly_Data_Raw[PANEL_AMOUNT],Weekly_Data_Raw[TICKER],'Weekly Metrics'!$A10,Weekly_Data_Raw[END_DATE],'Weekly Metrics'!GF$5),IF($B10=\"Transactions\",SUMIFS(Weekly_Data_Raw[PANEL_TRANSACTIONS],Weekly_Data_Raw[TICKER],'Weekly Metrics'!$A10,Weekly_Data_Raw[END_DATE],'Weekly Metrics'!GF$5), IF($B10=\"Avg Ticket\",SUMIFS(Weekly_Data_Raw[AVG_TICKET],Weekly_Data_Raw[TICKER],'Weekly Metrics'!$A10,Weekly_Data_Raw[END_DATE],'Weekly Metrics'!GF$5), IF($B10=\"EOP Subscribers\",SUMIFS(Weekly_Data_Raw[EOP_SUBSCRIBERS],Weekly_Data_Raw[TICKER],'Weekly Metrics'!$A10,Weekly_Data_Raw[END_DATE],'Weekly Metrics'!GF$5), IF($B10=\"Gross Adds\",SUMIFS(Weekly_Data_Raw[GROSS_ADDS],Weekly_Data_Raw[TICKER],'Weekly Metrics'!$A10,Weekly_Data_Raw[END_DATE],'Weekly Metrics'!GF$5), IF($B10=\"Churn\",SUMIFS(Weekly_Data_Raw[CHURNED_MEMBERS],Weekly_Data_Raw[TICKER],'Weekly Metrics'!$A10,Weekly_Data_Raw[END_DATE],'Weekly Metrics'!GF$5)))))))","v":23.085723159},{"$f":"IF($B10=\"Panel Sales\", SUMIFS(Weekly_Data_Raw[PANEL_AMOUNT],Weekly_Data_Raw[TICKER],'Weekly Metrics'!$A10,Weekly_Data_Raw[END_DATE],'Weekly Metrics'!GG$5),IF($B10=\"Transactions\",SUMIFS(Weekly_Data_Raw[PANEL_TRANSACTIONS],Weekly_Data_Raw[TICKER],'Weekly Metrics'!$A10,Weekly_Data_Raw[END_DATE],'Weekly Metrics'!GG$5), IF($B10=\"Avg Ticket\",SUMIFS(Weekly_Data_Raw[AVG_TICKET],Weekly_Data_Raw[TICKER],'Weekly Metrics'!$A10,Weekly_Data_Raw[END_DATE],'Weekly Metrics'!GG$5), IF($B10=\"EOP Subscribers\",SUMIFS(Weekly_Data_Raw[EOP_SUBSCRIBERS],Weekly_Data_Raw[TICKER],'Weekly Metrics'!$A10,Weekly_Data_Raw[END_DATE],'Weekly Metrics'!GG$5), IF($B10=\"Gross Adds\",SUMIFS(Weekly_Data_Raw[GROSS_ADDS],Weekly_Data_Raw[TICKER],'Weekly Metrics'!$A10,Weekly_Data_Raw[END_DATE],'Weekly Metrics'!GG$5), IF($B10=\"Churn\",SUMIFS(Weekly_Data_Raw[CHURNED_MEMBERS],Weekly_Data_Raw[TICKER],'Weekly Metrics'!$A10,Weekly_Data_Raw[END_DATE],'Weekly Metrics'!GG$5)))))))","v":23.011894856000001},{"$f":"IF($B10=\"Panel Sales\", SUMIFS(Weekly_Data_Raw[PANEL_AMOUNT],Weekly_Data_Raw[TICKER],'Weekly Metrics'!$A10,Weekly_Data_Raw[END_DATE],'Weekly Metrics'!GH$5),IF($B10=\"Transactions\",SUMIFS(Weekly_Data_Raw[PANEL_TRANSACTIONS],Weekly_Data_Raw[TICKER],'Weekly Metrics'!$A10,Weekly_Data_Raw[END_DATE],'Weekly Metrics'!GH$5), IF($B10=\"Avg Ticket\",SUMIFS(Weekly_Data_Raw[AVG_TICKET],Weekly_Data_Raw[TICKER],'Weekly Metrics'!$A10,Weekly_Data_Raw[END_DATE],'Weekly Metrics'!GH$5), IF($B10=\"EOP Subscribers\",SUMIFS(Weekly_Data_Raw[EOP_SUBSCRIBERS],Weekly_Data_Raw[TICKER],'Weekly Metrics'!$A10,Weekly_Data_Raw[END_DATE],'Weekly Metrics'!GH$5), IF($B10=\"Gross Adds\",SUMIFS(Weekly_Data_Raw[GROSS_ADDS],Weekly_Data_Raw[TICKER],'Weekly Metrics'!$A10,Weekly_Data_Raw[END_DATE],'Weekly Metrics'!GH$5), IF($B10=\"Churn\",SUMIFS(Weekly_Data_Raw[CHURNED_MEMBERS],Weekly_Data_Raw[TICKER],'Weekly Metrics'!$A10,Weekly_Data_Raw[END_DATE],'Weekly Metrics'!GH$5)))))))","v":22.026643731},{"$f":"IF($B10=\"Panel Sales\", SUMIFS(Weekly_Data_Raw[PANEL_AMOUNT],Weekly_Data_Raw[TICKER],'Weekly Metrics'!$A10,Weekly_Data_Raw[END_DATE],'Weekly Metrics'!GI$5),IF($B10=\"Transactions\",SUMIFS(Weekly_Data_Raw[PANEL_TRANSACTIONS],Weekly_Data_Raw[TICKER],'Weekly Metrics'!$A10,Weekly_Data_Raw[END_DATE],'Weekly Metrics'!GI$5), IF($B10=\"Avg Ticket\",SUMIFS(Weekly_Data_Raw[AVG_TICKET],Weekly_Data_Raw[TICKER],'Weekly Metrics'!$A10,Weekly_Data_Raw[END_DATE],'Weekly Metrics'!GI$5), IF($B10=\"EOP Subscribers\",SUMIFS(Weekly_Data_Raw[EOP_SUBSCRIBERS],Weekly_Data_Raw[TICKER],'Weekly Metrics'!$A10,Weekly_Data_Raw[END_DATE],'Weekly Metrics'!GI$5), IF($B10=\"Gross Adds\",SUMIFS(Weekly_Data_Raw[GROSS_ADDS],Weekly_Data_Raw[TICKER],'Weekly Metrics'!$A10,Weekly_Data_Raw[END_DATE],'Weekly Metrics'!GI$5), IF($B10=\"Churn\",SUMIFS(Weekly_Data_Raw[CHURNED_MEMBERS],Weekly_Data_Raw[TICKER],'Weekly Metrics'!$A10,Weekly_Data_Raw[END_DATE],'Weekly Metrics'!GI$5)))))))","v":23.358403325000001},{"$f":"IF($B10=\"Panel Sales\", SUMIFS(Weekly_Data_Raw[PANEL_AMOUNT],Weekly_Data_Raw[TICKER],'Weekly Metrics'!$A10,Weekly_Data_Raw[END_DATE],'Weekly Metrics'!GJ$5),IF($B10=\"Transactions\",SUMIFS(Weekly_Data_Raw[PANEL_TRANSACTIONS],Weekly_Data_Raw[TICKER],'Weekly Metrics'!$A10,Weekly_Data_Raw[END_DATE],'Weekly Metrics'!GJ$5), IF($B10=\"Avg Ticket\",SUMIFS(Weekly_Data_Raw[AVG_TICKET],Weekly_Data_Raw[TICKER],'Weekly Metrics'!$A10,Weekly_Data_Raw[END_DATE],'Weekly Metrics'!GJ$5), IF($B10=\"EOP Subscribers\",SUMIFS(Weekly_Data_Raw[EOP_SUBSCRIBERS],Weekly_Data_Raw[TICKER],'Weekly Metrics'!$A10,Weekly_Data_Raw[END_DATE],'Weekly Metrics'!GJ$5), IF($B10=\"Gross Adds\",SUMIFS(Weekly_Data_Raw[GROSS_ADDS],Weekly_Data_Raw[TICKER],'Weekly Metrics'!$A10,Weekly_Data_Raw[END_DATE],'Weekly Metrics'!GJ$5), IF($B10=\"Churn\",SUMIFS(Weekly_Data_Raw[CHURNED_MEMBERS],Weekly_Data_Raw[TICKER],'Weekly Metrics'!$A10,Weekly_Data_Raw[END_DATE],'Weekly Metrics'!GJ$5)))))))","v":23.874273839000001},{"$f":"IF($B10=\"Panel Sales\", SUMIFS(Weekly_Data_Raw[PANEL_AMOUNT],Weekly_Data_Raw[TICKER],'Weekly Metrics'!$A10,Weekly_Data_Raw[END_DATE],'Weekly Metrics'!GK$5),IF($B10=\"Transactions\",SUMIFS(Weekly_Data_Raw[PANEL_TRANSACTIONS],Weekly_Data_Raw[TICKER],'Weekly Metrics'!$A10,Weekly_Data_Raw[END_DATE],'Weekly Metrics'!GK$5), IF($B10=\"Avg Ticket\",SUMIFS(Weekly_Data_Raw[AVG_TICKET],Weekly_Data_Raw[TICKER],'Weekly Metrics'!$A10,Weekly_Data_Raw[END_DATE],'Weekly Metrics'!GK$5), IF($B10=\"EOP Subscribers\",SUMIFS(Weekly_Data_Raw[EOP_SUBSCRIBERS],Weekly_Data_Raw[TICKER],'Weekly Metrics'!$A10,Weekly_Data_Raw[END_DATE],'Weekly Metrics'!GK$5), IF($B10=\"Gross Adds\",SUMIFS(Weekly_Data_Raw[GROSS_ADDS],Weekly_Data_Raw[TICKER],'Weekly Metrics'!$A10,Weekly_Data_Raw[END_DATE],'Weekly Metrics'!GK$5), IF($B10=\"Churn\",SUMIFS(Weekly_Data_Raw[CHURNED_MEMBERS],Weekly_Data_Raw[TICKER],'Weekly Metrics'!$A10,Weekly_Data_Raw[END_DATE],'Weekly Metrics'!GK$5)))))))","v":23.489106830000001},{"$f":"IF($B10=\"Panel Sales\", SUMIFS(Weekly_Data_Raw[PANEL_AMOUNT],Weekly_Data_Raw[TICKER],'Weekly Metrics'!$A10,Weekly_Data_Raw[END_DATE],'Weekly Metrics'!GL$5),IF($B10=\"Transactions\",SUMIFS(Weekly_Data_Raw[PANEL_TRANSACTIONS],Weekly_Data_Raw[TICKER],'Weekly Metrics'!$A10,Weekly_Data_Raw[END_DATE],'Weekly Metrics'!GL$5), IF($B10=\"Avg Ticket\",SUMIFS(Weekly_Data_Raw[AVG_TICKET],Weekly_Data_Raw[TICKER],'Weekly Metrics'!$A10,Weekly_Data_Raw[END_DATE],'Weekly Metrics'!GL$5), IF($B10=\"EOP Subscribers\",SUMIFS(Weekly_Data_Raw[EOP_SUBSCRIBERS],Weekly_Data_Raw[TICKER],'Weekly Metrics'!$A10,Weekly_Data_Raw[END_DATE],'Weekly Metrics'!GL$5), IF($B10=\"Gross Adds\",SUMIFS(Weekly_Data_Raw[GROSS_ADDS],Weekly_Data_Raw[TICKER],'Weekly Metrics'!$A10,Weekly_Data_Raw[END_DATE],'Weekly Metrics'!GL$5), IF($B10=\"Churn\",SUMIFS(Weekly_Data_Raw[CHURNED_MEMBERS],Weekly_Data_Raw[TICKER],'Weekly Metrics'!$A10,Weekly_Data_Raw[END_DATE],'Weekly Metrics'!GL$5)))))))","v":22.654828583},{"$f":"IF($B10=\"Panel Sales\", SUMIFS(Weekly_Data_Raw[PANEL_AMOUNT],Weekly_Data_Raw[TICKER],'Weekly Metrics'!$A10,Weekly_Data_Raw[END_DATE],'Weekly Metrics'!GM$5),IF($B10=\"Transactions\",SUMIFS(Weekly_Data_Raw[PANEL_TRANSACTIONS],Weekly_Data_Raw[TICKER],'Weekly Metrics'!$A10,Weekly_Data_Raw[END_DATE],'Weekly Metrics'!GM$5), IF($B10=\"Avg Ticket\",SUMIFS(Weekly_Data_Raw[AVG_TICKET],Weekly_Data_Raw[TICKER],'Weekly Metrics'!$A10,Weekly_Data_Raw[END_DATE],'Weekly Metrics'!GM$5), IF($B10=\"EOP Subscribers\",SUMIFS(Weekly_Data_Raw[EOP_SUBSCRIBERS],Weekly_Data_Raw[TICKER],'Weekly Metrics'!$A10,Weekly_Data_Raw[END_DATE],'Weekly Metrics'!GM$5), IF($B10=\"Gross Adds\",SUMIFS(Weekly_Data_Raw[GROSS_ADDS],Weekly_Data_Raw[TICKER],'Weekly Metrics'!$A10,Weekly_Data_Raw[END_DATE],'Weekly Metrics'!GM$5), IF($B10=\"Churn\",SUMIFS(Weekly_Data_Raw[CHURNED_MEMBERS],Weekly_Data_Raw[TICKER],'Weekly Metrics'!$A10,Weekly_Data_Raw[END_DATE],'Weekly Metrics'!GM$5)))))))","v":22.673152474999998},{"$f":"IF($B10=\"Panel Sales\", SUMIFS(Weekly_Data_Raw[PANEL_AMOUNT],Weekly_Data_Raw[TICKER],'Weekly Metrics'!$A10,Weekly_Data_Raw[END_DATE],'Weekly Metrics'!GN$5),IF($B10=\"Transactions\",SUMIFS(Weekly_Data_Raw[PANEL_TRANSACTIONS],Weekly_Data_Raw[TICKER],'Weekly Metrics'!$A10,Weekly_Data_Raw[END_DATE],'Weekly Metrics'!GN$5), IF($B10=\"Avg Ticket\",SUMIFS(Weekly_Data_Raw[AVG_TICKET],Weekly_Data_Raw[TICKER],'Weekly Metrics'!$A10,Weekly_Data_Raw[END_DATE],'Weekly Metrics'!GN$5), IF($B10=\"EOP Subscribers\",SUMIFS(Weekly_Data_Raw[EOP_SUBSCRIBERS],Weekly_Data_Raw[TICKER],'Weekly Metrics'!$A10,Weekly_Data_Raw[END_DATE],'Weekly Metrics'!GN$5), IF($B10=\"Gross Adds\",SUMIFS(Weekly_Data_Raw[GROSS_ADDS],Weekly_Data_Raw[TICKER],'Weekly Metrics'!$A10,Weekly_Data_Raw[END_DATE],'Weekly Metrics'!GN$5), IF($B10=\"Churn\",SUMIFS(Weekly_Data_Raw[CHURNED_MEMBERS],Weekly_Data_Raw[TICKER],'Weekly Metrics'!$A10,Weekly_Data_Raw[END_DATE],'Weekly Metrics'!GN$5)))))))","v":23.841017184999998},{"$f":"IF($B10=\"Panel Sales\", SUMIFS(Weekly_Data_Raw[PANEL_AMOUNT],Weekly_Data_Raw[TICKER],'Weekly Metrics'!$A10,Weekly_Data_Raw[END_DATE],'Weekly Metrics'!GO$5),IF($B10=\"Transactions\",SUMIFS(Weekly_Data_Raw[PANEL_TRANSACTIONS],Weekly_Data_Raw[TICKER],'Weekly Metrics'!$A10,Weekly_Data_Raw[END_DATE],'Weekly Metrics'!GO$5), IF($B10=\"Avg Ticket\",SUMIFS(Weekly_Data_Raw[AVG_TICKET],Weekly_Data_Raw[TICKER],'Weekly Metrics'!$A10,Weekly_Data_Raw[END_DATE],'Weekly Metrics'!GO$5), IF($B10=\"EOP Subscribers\",SUMIFS(Weekly_Data_Raw[EOP_SUBSCRIBERS],Weekly_Data_Raw[TICKER],'Weekly Metrics'!$A10,Weekly_Data_Raw[END_DATE],'Weekly Metrics'!GO$5), IF($B10=\"Gross Adds\",SUMIFS(Weekly_Data_Raw[GROSS_ADDS],Weekly_Data_Raw[TICKER],'Weekly Metrics'!$A10,Weekly_Data_Raw[END_DATE],'Weekly Metrics'!GO$5), IF($B10=\"Churn\",SUMIFS(Weekly_Data_Raw[CHURNED_MEMBERS],Weekly_Data_Raw[TICKER],'Weekly Metrics'!$A10,Weekly_Data_Raw[END_DATE],'Weekly Metrics'!GO$5)))))))","v":23.986317335999999},{"$f":"IF($B10=\"Panel Sales\", SUMIFS(Weekly_Data_Raw[PANEL_AMOUNT],Weekly_Data_Raw[TICKER],'Weekly Metrics'!$A10,Weekly_Data_Raw[END_DATE],'Weekly Metrics'!GP$5),IF($B10=\"Transactions\",SUMIFS(Weekly_Data_Raw[PANEL_TRANSACTIONS],Weekly_Data_Raw[TICKER],'Weekly Metrics'!$A10,Weekly_Data_Raw[END_DATE],'Weekly Metrics'!GP$5), IF($B10=\"Avg Ticket\",SUMIFS(Weekly_Data_Raw[AVG_TICKET],Weekly_Data_Raw[TICKER],'Weekly Metrics'!$A10,Weekly_Data_Raw[END_DATE],'Weekly Metrics'!GP$5), IF($B10=\"EOP Subscribers\",SUMIFS(Weekly_Data_Raw[EOP_SUBSCRIBERS],Weekly_Data_Raw[TICKER],'Weekly Metrics'!$A10,Weekly_Data_Raw[END_DATE],'Weekly Metrics'!GP$5), IF($B10=\"Gross Adds\",SUMIFS(Weekly_Data_Raw[GROSS_ADDS],Weekly_Data_Raw[TICKER],'Weekly Metrics'!$A10,Weekly_Data_Raw[END_DATE],'Weekly Metrics'!GP$5), IF($B10=\"Churn\",SUMIFS(Weekly_Data_Raw[CHURNED_MEMBERS],Weekly_Data_Raw[TICKER],'Weekly Metrics'!$A10,Weekly_Data_Raw[END_DATE],'Weekly Metrics'!GP$5)))))))","v":23.354012526000002},{"$f":"IF($B10=\"Panel Sales\", SUMIFS(Weekly_Data_Raw[PANEL_AMOUNT],Weekly_Data_Raw[TICKER],'Weekly Metrics'!$A10,Weekly_Data_Raw[END_DATE],'Weekly Metrics'!GQ$5),IF($B10=\"Transactions\",SUMIFS(Weekly_Data_Raw[PANEL_TRANSACTIONS],Weekly_Data_Raw[TICKER],'Weekly Metrics'!$A10,Weekly_Data_Raw[END_DATE],'Weekly Metrics'!GQ$5), IF($B10=\"Avg Ticket\",SUMIFS(Weekly_Data_Raw[AVG_TICKET],Weekly_Data_Raw[TICKER],'Weekly Metrics'!$A10,Weekly_Data_Raw[END_DATE],'Weekly Metrics'!GQ$5), IF($B10=\"EOP Subscribers\",SUMIFS(Weekly_Data_Raw[EOP_SUBSCRIBERS],Weekly_Data_Raw[TICKER],'Weekly Metrics'!$A10,Weekly_Data_Raw[END_DATE],'Weekly Metrics'!GQ$5), IF($B10=\"Gross Adds\",SUMIFS(Weekly_Data_Raw[GROSS_ADDS],Weekly_Data_Raw[TICKER],'Weekly Metrics'!$A10,Weekly_Data_Raw[END_DATE],'Weekly Metrics'!GQ$5), IF($B10=\"Churn\",SUMIFS(Weekly_Data_Raw[CHURNED_MEMBERS],Weekly_Data_Raw[TICKER],'Weekly Metrics'!$A10,Weekly_Data_Raw[END_DATE],'Weekly Metrics'!GQ$5)))))))","v":21.932765321000002},{"$f":"IF($B10=\"Panel Sales\", SUMIFS(Weekly_Data_Raw[PANEL_AMOUNT],Weekly_Data_Raw[TICKER],'Weekly Metrics'!$A10,Weekly_Data_Raw[END_DATE],'Weekly Metrics'!GR$5),IF($B10=\"Transactions\",SUMIFS(Weekly_Data_Raw[PANEL_TRANSACTIONS],Weekly_Data_Raw[TICKER],'Weekly Metrics'!$A10,Weekly_Data_Raw[END_DATE],'Weekly Metrics'!GR$5), IF($B10=\"Avg Ticket\",SUMIFS(Weekly_Data_Raw[AVG_TICKET],Weekly_Data_Raw[TICKER],'Weekly Metrics'!$A10,Weekly_Data_Raw[END_DATE],'Weekly Metrics'!GR$5), IF($B10=\"EOP Subscribers\",SUMIFS(Weekly_Data_Raw[EOP_SUBSCRIBERS],Weekly_Data_Raw[TICKER],'Weekly Metrics'!$A10,Weekly_Data_Raw[END_DATE],'Weekly Metrics'!GR$5), IF($B10=\"Gross Adds\",SUMIFS(Weekly_Data_Raw[GROSS_ADDS],Weekly_Data_Raw[TICKER],'Weekly Metrics'!$A10,Weekly_Data_Raw[END_DATE],'Weekly Metrics'!GR$5), IF($B10=\"Churn\",SUMIFS(Weekly_Data_Raw[CHURNED_MEMBERS],Weekly_Data_Raw[TICKER],'Weekly Metrics'!$A10,Weekly_Data_Raw[END_DATE],'Weekly Metrics'!GR$5)))))))","v":23.487622513000002},{"$f":"IF($B10=\"Panel Sales\", SUMIFS(Weekly_Data_Raw[PANEL_AMOUNT],Weekly_Data_Raw[TICKER],'Weekly Metrics'!$A10,Weekly_Data_Raw[END_DATE],'Weekly Metrics'!GS$5),IF($B10=\"Transactions\",SUMIFS(Weekly_Data_Raw[PANEL_TRANSACTIONS],Weekly_Data_Raw[TICKER],'Weekly Metrics'!$A10,Weekly_Data_Raw[END_DATE],'Weekly Metrics'!GS$5), IF($B10=\"Avg Ticket\",SUMIFS(Weekly_Data_Raw[AVG_TICKET],Weekly_Data_Raw[TICKER],'Weekly Metrics'!$A10,Weekly_Data_Raw[END_DATE],'Weekly Metrics'!GS$5), IF($B10=\"EOP Subscribers\",SUMIFS(Weekly_Data_Raw[EOP_SUBSCRIBERS],Weekly_Data_Raw[TICKER],'Weekly Metrics'!$A10,Weekly_Data_Raw[END_DATE],'Weekly Metrics'!GS$5), IF($B10=\"Gross Adds\",SUMIFS(Weekly_Data_Raw[GROSS_ADDS],Weekly_Data_Raw[TICKER],'Weekly Metrics'!$A10,Weekly_Data_Raw[END_DATE],'Weekly Metrics'!GS$5), IF($B10=\"Churn\",SUMIFS(Weekly_Data_Raw[CHURNED_MEMBERS],Weekly_Data_Raw[TICKER],'Weekly Metrics'!$A10,Weekly_Data_Raw[END_DATE],'Weekly Metrics'!GS$5)))))))","v":24.967665847999999},{"$f":"IF($B10=\"Panel Sales\", SUMIFS(Weekly_Data_Raw[PANEL_AMOUNT],Weekly_Data_Raw[TICKER],'Weekly Metrics'!$A10,Weekly_Data_Raw[END_DATE],'Weekly Metrics'!GT$5),IF($B10=\"Transactions\",SUMIFS(Weekly_Data_Raw[PANEL_TRANSACTIONS],Weekly_Data_Raw[TICKER],'Weekly Metrics'!$A10,Weekly_Data_Raw[END_DATE],'Weekly Metrics'!GT$5), IF($B10=\"Avg Ticket\",SUMIFS(Weekly_Data_Raw[AVG_TICKET],Weekly_Data_Raw[TICKER],'Weekly Metrics'!$A10,Weekly_Data_Raw[END_DATE],'Weekly Metrics'!GT$5), IF($B10=\"EOP Subscribers\",SUMIFS(Weekly_Data_Raw[EOP_SUBSCRIBERS],Weekly_Data_Raw[TICKER],'Weekly Metrics'!$A10,Weekly_Data_Raw[END_DATE],'Weekly Metrics'!GT$5), IF($B10=\"Gross Adds\",SUMIFS(Weekly_Data_Raw[GROSS_ADDS],Weekly_Data_Raw[TICKER],'Weekly Metrics'!$A10,Weekly_Data_Raw[END_DATE],'Weekly Metrics'!GT$5), IF($B10=\"Churn\",SUMIFS(Weekly_Data_Raw[CHURNED_MEMBERS],Weekly_Data_Raw[TICKER],'Weekly Metrics'!$A10,Weekly_Data_Raw[END_DATE],'Weekly Metrics'!GT$5)))))))","v":24.423385269000001},{"$f":"IF($B10=\"Panel Sales\", SUMIFS(Weekly_Data_Raw[PANEL_AMOUNT],Weekly_Data_Raw[TICKER],'Weekly Metrics'!$A10,Weekly_Data_Raw[END_DATE],'Weekly Metrics'!GU$5),IF($B10=\"Transactions\",SUMIFS(Weekly_Data_Raw[PANEL_TRANSACTIONS],Weekly_Data_Raw[TICKER],'Weekly Metrics'!$A10,Weekly_Data_Raw[END_DATE],'Weekly Metrics'!GU$5), IF($B10=\"Avg Ticket\",SUMIFS(Weekly_Data_Raw[AVG_TICKET],Weekly_Data_Raw[TICKER],'Weekly Metrics'!$A10,Weekly_Data_Raw[END_DATE],'Weekly Metrics'!GU$5), IF($B10=\"EOP Subscribers\",SUMIFS(Weekly_Data_Raw[EOP_SUBSCRIBERS],Weekly_Data_Raw[TICKER],'Weekly Metrics'!$A10,Weekly_Data_Raw[END_DATE],'Weekly Metrics'!GU$5), IF($B10=\"Gross Adds\",SUMIFS(Weekly_Data_Raw[GROSS_ADDS],Weekly_Data_Raw[TICKER],'Weekly Metrics'!$A10,Weekly_Data_Raw[END_DATE],'Weekly Metrics'!GU$5), IF($B10=\"Churn\",SUMIFS(Weekly_Data_Raw[CHURNED_MEMBERS],Weekly_Data_Raw[TICKER],'Weekly Metrics'!$A10,Weekly_Data_Raw[END_DATE],'Weekly Metrics'!GU$5)))))))","v":22.401635012},{"$f":"IF($B10=\"Panel Sales\", SUMIFS(Weekly_Data_Raw[PANEL_AMOUNT],Weekly_Data_Raw[TICKER],'Weekly Metrics'!$A10,Weekly_Data_Raw[END_DATE],'Weekly Metrics'!GV$5),IF($B10=\"Transactions\",SUMIFS(Weekly_Data_Raw[PANEL_TRANSACTIONS],Weekly_Data_Raw[TICKER],'Weekly Metrics'!$A10,Weekly_Data_Raw[END_DATE],'Weekly Metrics'!GV$5), IF($B10=\"Avg Ticket\",SUMIFS(Weekly_Data_Raw[AVG_TICKET],Weekly_Data_Raw[TICKER],'Weekly Metrics'!$A10,Weekly_Data_Raw[END_DATE],'Weekly Metrics'!GV$5), IF($B10=\"EOP Subscribers\",SUMIFS(Weekly_Data_Raw[EOP_SUBSCRIBERS],Weekly_Data_Raw[TICKER],'Weekly Metrics'!$A10,Weekly_Data_Raw[END_DATE],'Weekly Metrics'!GV$5), IF($B10=\"Gross Adds\",SUMIFS(Weekly_Data_Raw[GROSS_ADDS],Weekly_Data_Raw[TICKER],'Weekly Metrics'!$A10,Weekly_Data_Raw[END_DATE],'Weekly Metrics'!GV$5), IF($B10=\"Churn\",SUMIFS(Weekly_Data_Raw[CHURNED_MEMBERS],Weekly_Data_Raw[TICKER],'Weekly Metrics'!$A10,Weekly_Data_Raw[END_DATE],'Weekly Metrics'!GV$5)))))))","v":22.143456500999999},{"$f":"IF($B10=\"Panel Sales\", SUMIFS(Weekly_Data_Raw[PANEL_AMOUNT],Weekly_Data_Raw[TICKER],'Weekly Metrics'!$A10,Weekly_Data_Raw[END_DATE],'Weekly Metrics'!GW$5),IF($B10=\"Transactions\",SUMIFS(Weekly_Data_Raw[PANEL_TRANSACTIONS],Weekly_Data_Raw[TICKER],'Weekly Metrics'!$A10,Weekly_Data_Raw[END_DATE],'Weekly Metrics'!GW$5), IF($B10=\"Avg Ticket\",SUMIFS(Weekly_Data_Raw[AVG_TICKET],Weekly_Data_Raw[TICKER],'Weekly Metrics'!$A10,Weekly_Data_Raw[END_DATE],'Weekly Metrics'!GW$5), IF($B10=\"EOP Subscribers\",SUMIFS(Weekly_Data_Raw[EOP_SUBSCRIBERS],Weekly_Data_Raw[TICKER],'Weekly Metrics'!$A10,Weekly_Data_Raw[END_DATE],'Weekly Metrics'!GW$5), IF($B10=\"Gross Adds\",SUMIFS(Weekly_Data_Raw[GROSS_ADDS],Weekly_Data_Raw[TICKER],'Weekly Metrics'!$A10,Weekly_Data_Raw[END_DATE],'Weekly Metrics'!GW$5), IF($B10=\"Churn\",SUMIFS(Weekly_Data_Raw[CHURNED_MEMBERS],Weekly_Data_Raw[TICKER],'Weekly Metrics'!$A10,Weekly_Data_Raw[END_DATE],'Weekly Metrics'!GW$5)))))))","v":23.598730499999999},{"$f":"IF($B10=\"Panel Sales\", SUMIFS(Weekly_Data_Raw[PANEL_AMOUNT],Weekly_Data_Raw[TICKER],'Weekly Metrics'!$A10,Weekly_Data_Raw[END_DATE],'Weekly Metrics'!GX$5),IF($B10=\"Transactions\",SUMIFS(Weekly_Data_Raw[PANEL_TRANSACTIONS],Weekly_Data_Raw[TICKER],'Weekly Metrics'!$A10,Weekly_Data_Raw[END_DATE],'Weekly Metrics'!GX$5), IF($B10=\"Avg Ticket\",SUMIFS(Weekly_Data_Raw[AVG_TICKET],Weekly_Data_Raw[TICKER],'Weekly Metrics'!$A10,Weekly_Data_Raw[END_DATE],'Weekly Metrics'!GX$5), IF($B10=\"EOP Subscribers\",SUMIFS(Weekly_Data_Raw[EOP_SUBSCRIBERS],Weekly_Data_Raw[TICKER],'Weekly Metrics'!$A10,Weekly_Data_Raw[END_DATE],'Weekly Metrics'!GX$5), IF($B10=\"Gross Adds\",SUMIFS(Weekly_Data_Raw[GROSS_ADDS],Weekly_Data_Raw[TICKER],'Weekly Metrics'!$A10,Weekly_Data_Raw[END_DATE],'Weekly Metrics'!GX$5), IF($B10=\"Churn\",SUMIFS(Weekly_Data_Raw[CHURNED_MEMBERS],Weekly_Data_Raw[TICKER],'Weekly Metrics'!$A10,Weekly_Data_Raw[END_DATE],'Weekly Metrics'!GX$5)))))))","v":24.385094339999998},{"$f":"IF($B10=\"Panel Sales\", SUMIFS(Weekly_Data_Raw[PANEL_AMOUNT],Weekly_Data_Raw[TICKER],'Weekly Metrics'!$A10,Weekly_Data_Raw[END_DATE],'Weekly Metrics'!GY$5),IF($B10=\"Transactions\",SUMIFS(Weekly_Data_Raw[PANEL_TRANSACTIONS],Weekly_Data_Raw[TICKER],'Weekly Metrics'!$A10,Weekly_Data_Raw[END_DATE],'Weekly Metrics'!GY$5), IF($B10=\"Avg Ticket\",SUMIFS(Weekly_Data_Raw[AVG_TICKET],Weekly_Data_Raw[TICKER],'Weekly Metrics'!$A10,Weekly_Data_Raw[END_DATE],'Weekly Metrics'!GY$5), IF($B10=\"EOP Subscribers\",SUMIFS(Weekly_Data_Raw[EOP_SUBSCRIBERS],Weekly_Data_Raw[TICKER],'Weekly Metrics'!$A10,Weekly_Data_Raw[END_DATE],'Weekly Metrics'!GY$5), IF($B10=\"Gross Adds\",SUMIFS(Weekly_Data_Raw[GROSS_ADDS],Weekly_Data_Raw[TICKER],'Weekly Metrics'!$A10,Weekly_Data_Raw[END_DATE],'Weekly Metrics'!GY$5), IF($B10=\"Churn\",SUMIFS(Weekly_Data_Raw[CHURNED_MEMBERS],Weekly_Data_Raw[TICKER],'Weekly Metrics'!$A10,Weekly_Data_Raw[END_DATE],'Weekly Metrics'!GY$5)))))))","v":22.266168113999999},{"$f":"IF($B10=\"Panel Sales\", SUMIFS(Weekly_Data_Raw[PANEL_AMOUNT],Weekly_Data_Raw[TICKER],'Weekly Metrics'!$A10,Weekly_Data_Raw[END_DATE],'Weekly Metrics'!GZ$5),IF($B10=\"Transactions\",SUMIFS(Weekly_Data_Raw[PANEL_TRANSACTIONS],Weekly_Data_Raw[TICKER],'Weekly Metrics'!$A10,Weekly_Data_Raw[END_DATE],'Weekly Metrics'!GZ$5), IF($B10=\"Avg Ticket\",SUMIFS(Weekly_Data_Raw[AVG_TICKET],Weekly_Data_Raw[TICKER],'Weekly Metrics'!$A10,Weekly_Data_Raw[END_DATE],'Weekly Metrics'!GZ$5), IF($B10=\"EOP Subscribers\",SUMIFS(Weekly_Data_Raw[EOP_SUBSCRIBERS],Weekly_Data_Raw[TICKER],'Weekly Metrics'!$A10,Weekly_Data_Raw[END_DATE],'Weekly Metrics'!GZ$5), IF($B10=\"Gross Adds\",SUMIFS(Weekly_Data_Raw[GROSS_ADDS],Weekly_Data_Raw[TICKER],'Weekly Metrics'!$A10,Weekly_Data_Raw[END_DATE],'Weekly Metrics'!GZ$5), IF($B10=\"Churn\",SUMIFS(Weekly_Data_Raw[CHURNED_MEMBERS],Weekly_Data_Raw[TICKER],'Weekly Metrics'!$A10,Weekly_Data_Raw[END_DATE],'Weekly Metrics'!GZ$5)))))))","v":21.729990795999999},{"$f":"IF($B10=\"Panel Sales\", SUMIFS(Weekly_Data_Raw[PANEL_AMOUNT],Weekly_Data_Raw[TICKER],'Weekly Metrics'!$A10,Weekly_Data_Raw[END_DATE],'Weekly Metrics'!HA$5),IF($B10=\"Transactions\",SUMIFS(Weekly_Data_Raw[PANEL_TRANSACTIONS],Weekly_Data_Raw[TICKER],'Weekly Metrics'!$A10,Weekly_Data_Raw[END_DATE],'Weekly Metrics'!HA$5), IF($B10=\"Avg Ticket\",SUMIFS(Weekly_Data_Raw[AVG_TICKET],Weekly_Data_Raw[TICKER],'Weekly Metrics'!$A10,Weekly_Data_Raw[END_DATE],'Weekly Metrics'!HA$5), IF($B10=\"EOP Subscribers\",SUMIFS(Weekly_Data_Raw[EOP_SUBSCRIBERS],Weekly_Data_Raw[TICKER],'Weekly Metrics'!$A10,Weekly_Data_Raw[END_DATE],'Weekly Metrics'!HA$5), IF($B10=\"Gross Adds\",SUMIFS(Weekly_Data_Raw[GROSS_ADDS],Weekly_Data_Raw[TICKER],'Weekly Metrics'!$A10,Weekly_Data_Raw[END_DATE],'Weekly Metrics'!HA$5), IF($B10=\"Churn\",SUMIFS(Weekly_Data_Raw[CHURNED_MEMBERS],Weekly_Data_Raw[TICKER],'Weekly Metrics'!$A10,Weekly_Data_Raw[END_DATE],'Weekly Metrics'!HA$5)))))))","v":22.448162930999999},{"$f":"IF($B10=\"Panel Sales\", SUMIFS(Weekly_Data_Raw[PANEL_AMOUNT],Weekly_Data_Raw[TICKER],'Weekly Metrics'!$A10,Weekly_Data_Raw[END_DATE],'Weekly Metrics'!HB$5),IF($B10=\"Transactions\",SUMIFS(Weekly_Data_Raw[PANEL_TRANSACTIONS],Weekly_Data_Raw[TICKER],'Weekly Metrics'!$A10,Weekly_Data_Raw[END_DATE],'Weekly Metrics'!HB$5), IF($B10=\"Avg Ticket\",SUMIFS(Weekly_Data_Raw[AVG_TICKET],Weekly_Data_Raw[TICKER],'Weekly Metrics'!$A10,Weekly_Data_Raw[END_DATE],'Weekly Metrics'!HB$5), IF($B10=\"EOP Subscribers\",SUMIFS(Weekly_Data_Raw[EOP_SUBSCRIBERS],Weekly_Data_Raw[TICKER],'Weekly Metrics'!$A10,Weekly_Data_Raw[END_DATE],'Weekly Metrics'!HB$5), IF($B10=\"Gross Adds\",SUMIFS(Weekly_Data_Raw[GROSS_ADDS],Weekly_Data_Raw[TICKER],'Weekly Metrics'!$A10,Weekly_Data_Raw[END_DATE],'Weekly Metrics'!HB$5), IF($B10=\"Churn\",SUMIFS(Weekly_Data_Raw[CHURNED_MEMBERS],Weekly_Data_Raw[TICKER],'Weekly Metrics'!$A10,Weekly_Data_Raw[END_DATE],'Weekly Metrics'!HB$5)))))))","v":24.344076738999998},{"$f":"IF($B10=\"Panel Sales\", SUMIFS(Weekly_Data_Raw[PANEL_AMOUNT],Weekly_Data_Raw[TICKER],'Weekly Metrics'!$A10,Weekly_Data_Raw[END_DATE],'Weekly Metrics'!HC$5),IF($B10=\"Transactions\",SUMIFS(Weekly_Data_Raw[PANEL_TRANSACTIONS],Weekly_Data_Raw[TICKER],'Weekly Metrics'!$A10,Weekly_Data_Raw[END_DATE],'Weekly Metrics'!HC$5), IF($B10=\"Avg Ticket\",SUMIFS(Weekly_Data_Raw[AVG_TICKET],Weekly_Data_Raw[TICKER],'Weekly Metrics'!$A10,Weekly_Data_Raw[END_DATE],'Weekly Metrics'!HC$5), IF($B10=\"EOP Subscribers\",SUMIFS(Weekly_Data_Raw[EOP_SUBSCRIBERS],Weekly_Data_Raw[TICKER],'Weekly Metrics'!$A10,Weekly_Data_Raw[END_DATE],'Weekly Metrics'!HC$5), IF($B10=\"Gross Adds\",SUMIFS(Weekly_Data_Raw[GROSS_ADDS],Weekly_Data_Raw[TICKER],'Weekly Metrics'!$A10,Weekly_Data_Raw[END_DATE],'Weekly Metrics'!HC$5), IF($B10=\"Churn\",SUMIFS(Weekly_Data_Raw[CHURNED_MEMBERS],Weekly_Data_Raw[TICKER],'Weekly Metrics'!$A10,Weekly_Data_Raw[END_DATE],'Weekly Metrics'!HC$5)))))))","v":21.645883989000001},{"$f":"IF($B10=\"Panel Sales\", SUMIFS(Weekly_Data_Raw[PANEL_AMOUNT],Weekly_Data_Raw[TICKER],'Weekly Metrics'!$A10,Weekly_Data_Raw[END_DATE],'Weekly Metrics'!HD$5),IF($B10=\"Transactions\",SUMIFS(Weekly_Data_Raw[PANEL_TRANSACTIONS],Weekly_Data_Raw[TICKER],'Weekly Metrics'!$A10,Weekly_Data_Raw[END_DATE],'Weekly Metrics'!HD$5), IF($B10=\"Avg Ticket\",SUMIFS(Weekly_Data_Raw[AVG_TICKET],Weekly_Data_Raw[TICKER],'Weekly Metrics'!$A10,Weekly_Data_Raw[END_DATE],'Weekly Metrics'!HD$5), IF($B10=\"EOP Subscribers\",SUMIFS(Weekly_Data_Raw[EOP_SUBSCRIBERS],Weekly_Data_Raw[TICKER],'Weekly Metrics'!$A10,Weekly_Data_Raw[END_DATE],'Weekly Metrics'!HD$5), IF($B10=\"Gross Adds\",SUMIFS(Weekly_Data_Raw[GROSS_ADDS],Weekly_Data_Raw[TICKER],'Weekly Metrics'!$A10,Weekly_Data_Raw[END_DATE],'Weekly Metrics'!HD$5), IF($B10=\"Churn\",SUMIFS(Weekly_Data_Raw[CHURNED_MEMBERS],Weekly_Data_Raw[TICKER],'Weekly Metrics'!$A10,Weekly_Data_Raw[END_DATE],'Weekly Metrics'!HD$5)))))))","v":20.379272727},{"$f":"IF($B10=\"Panel Sales\", SUMIFS(Weekly_Data_Raw[PANEL_AMOUNT],Weekly_Data_Raw[TICKER],'Weekly Metrics'!$A10,Weekly_Data_Raw[END_DATE],'Weekly Metrics'!HE$5),IF($B10=\"Transactions\",SUMIFS(Weekly_Data_Raw[PANEL_TRANSACTIONS],Weekly_Data_Raw[TICKER],'Weekly Metrics'!$A10,Weekly_Data_Raw[END_DATE],'Weekly Metrics'!HE$5), IF($B10=\"Avg Ticket\",SUMIFS(Weekly_Data_Raw[AVG_TICKET],Weekly_Data_Raw[TICKER],'Weekly Metrics'!$A10,Weekly_Data_Raw[END_DATE],'Weekly Metrics'!HE$5), IF($B10=\"EOP Subscribers\",SUMIFS(Weekly_Data_Raw[EOP_SUBSCRIBERS],Weekly_Data_Raw[TICKER],'Weekly Metrics'!$A10,Weekly_Data_Raw[END_DATE],'Weekly Metrics'!HE$5), IF($B10=\"Gross Adds\",SUMIFS(Weekly_Data_Raw[GROSS_ADDS],Weekly_Data_Raw[TICKER],'Weekly Metrics'!$A10,Weekly_Data_Raw[END_DATE],'Weekly Metrics'!HE$5), IF($B10=\"Churn\",SUMIFS(Weekly_Data_Raw[CHURNED_MEMBERS],Weekly_Data_Raw[TICKER],'Weekly Metrics'!$A10,Weekly_Data_Raw[END_DATE],'Weekly Metrics'!HE$5)))))))","v":22.415806604},{"$f":"IF($B10=\"Panel Sales\", SUMIFS(Weekly_Data_Raw[PANEL_AMOUNT],Weekly_Data_Raw[TICKER],'Weekly Metrics'!$A10,Weekly_Data_Raw[END_DATE],'Weekly Metrics'!HF$5),IF($B10=\"Transactions\",SUMIFS(Weekly_Data_Raw[PANEL_TRANSACTIONS],Weekly_Data_Raw[TICKER],'Weekly Metrics'!$A10,Weekly_Data_Raw[END_DATE],'Weekly Metrics'!HF$5), IF($B10=\"Avg Ticket\",SUMIFS(Weekly_Data_Raw[AVG_TICKET],Weekly_Data_Raw[TICKER],'Weekly Metrics'!$A10,Weekly_Data_Raw[END_DATE],'Weekly Metrics'!HF$5), IF($B10=\"EOP Subscribers\",SUMIFS(Weekly_Data_Raw[EOP_SUBSCRIBERS],Weekly_Data_Raw[TICKER],'Weekly Metrics'!$A10,Weekly_Data_Raw[END_DATE],'Weekly Metrics'!HF$5), IF($B10=\"Gross Adds\",SUMIFS(Weekly_Data_Raw[GROSS_ADDS],Weekly_Data_Raw[TICKER],'Weekly Metrics'!$A10,Weekly_Data_Raw[END_DATE],'Weekly Metrics'!HF$5), IF($B10=\"Churn\",SUMIFS(Weekly_Data_Raw[CHURNED_MEMBERS],Weekly_Data_Raw[TICKER],'Weekly Metrics'!$A10,Weekly_Data_Raw[END_DATE],'Weekly Metrics'!HF$5)))))))","v":23.287626948},{"$f":"IF($B10=\"Panel Sales\", SUMIFS(Weekly_Data_Raw[PANEL_AMOUNT],Weekly_Data_Raw[TICKER],'Weekly Metrics'!$A10,Weekly_Data_Raw[END_DATE],'Weekly Metrics'!HG$5),IF($B10=\"Transactions\",SUMIFS(Weekly_Data_Raw[PANEL_TRANSACTIONS],Weekly_Data_Raw[TICKER],'Weekly Metrics'!$A10,Weekly_Data_Raw[END_DATE],'Weekly Metrics'!HG$5), IF($B10=\"Avg Ticket\",SUMIFS(Weekly_Data_Raw[AVG_TICKET],Weekly_Data_Raw[TICKER],'Weekly Metrics'!$A10,Weekly_Data_Raw[END_DATE],'Weekly Metrics'!HG$5), IF($B10=\"EOP Subscribers\",SUMIFS(Weekly_Data_Raw[EOP_SUBSCRIBERS],Weekly_Data_Raw[TICKER],'Weekly Metrics'!$A10,Weekly_Data_Raw[END_DATE],'Weekly Metrics'!HG$5), IF($B10=\"Gross Adds\",SUMIFS(Weekly_Data_Raw[GROSS_ADDS],Weekly_Data_Raw[TICKER],'Weekly Metrics'!$A10,Weekly_Data_Raw[END_DATE],'Weekly Metrics'!HG$5), IF($B10=\"Churn\",SUMIFS(Weekly_Data_Raw[CHURNED_MEMBERS],Weekly_Data_Raw[TICKER],'Weekly Metrics'!$A10,Weekly_Data_Raw[END_DATE],'Weekly Metrics'!HG$5)))))))","v":22.527702578},{"$f":"IF($B10=\"Panel Sales\", SUMIFS(Weekly_Data_Raw[PANEL_AMOUNT],Weekly_Data_Raw[TICKER],'Weekly Metrics'!$A10,Weekly_Data_Raw[END_DATE],'Weekly Metrics'!HH$5),IF($B10=\"Transactions\",SUMIFS(Weekly_Data_Raw[PANEL_TRANSACTIONS],Weekly_Data_Raw[TICKER],'Weekly Metrics'!$A10,Weekly_Data_Raw[END_DATE],'Weekly Metrics'!HH$5), IF($B10=\"Avg Ticket\",SUMIFS(Weekly_Data_Raw[AVG_TICKET],Weekly_Data_Raw[TICKER],'Weekly Metrics'!$A10,Weekly_Data_Raw[END_DATE],'Weekly Metrics'!HH$5), IF($B10=\"EOP Subscribers\",SUMIFS(Weekly_Data_Raw[EOP_SUBSCRIBERS],Weekly_Data_Raw[TICKER],'Weekly Metrics'!$A10,Weekly_Data_Raw[END_DATE],'Weekly Metrics'!HH$5), IF($B10=\"Gross Adds\",SUMIFS(Weekly_Data_Raw[GROSS_ADDS],Weekly_Data_Raw[TICKER],'Weekly Metrics'!$A10,Weekly_Data_Raw[END_DATE],'Weekly Metrics'!HH$5), IF($B10=\"Churn\",SUMIFS(Weekly_Data_Raw[CHURNED_MEMBERS],Weekly_Data_Raw[TICKER],'Weekly Metrics'!$A10,Weekly_Data_Raw[END_DATE],'Weekly Metrics'!HH$5)))))))","v":19.537740351},{"$f":"IF($B10=\"Panel Sales\", SUMIFS(Weekly_Data_Raw[PANEL_AMOUNT],Weekly_Data_Raw[TICKER],'Weekly Metrics'!$A10,Weekly_Data_Raw[END_DATE],'Weekly Metrics'!HI$5),IF($B10=\"Transactions\",SUMIFS(Weekly_Data_Raw[PANEL_TRANSACTIONS],Weekly_Data_Raw[TICKER],'Weekly Metrics'!$A10,Weekly_Data_Raw[END_DATE],'Weekly Metrics'!HI$5), IF($B10=\"Avg Ticket\",SUMIFS(Weekly_Data_Raw[AVG_TICKET],Weekly_Data_Raw[TICKER],'Weekly Metrics'!$A10,Weekly_Data_Raw[END_DATE],'Weekly Metrics'!HI$5), IF($B10=\"EOP Subscribers\",SUMIFS(Weekly_Data_Raw[EOP_SUBSCRIBERS],Weekly_Data_Raw[TICKER],'Weekly Metrics'!$A10,Weekly_Data_Raw[END_DATE],'Weekly Metrics'!HI$5), IF($B10=\"Gross Adds\",SUMIFS(Weekly_Data_Raw[GROSS_ADDS],Weekly_Data_Raw[TICKER],'Weekly Metrics'!$A10,Weekly_Data_Raw[END_DATE],'Weekly Metrics'!HI$5), IF($B10=\"Churn\",SUMIFS(Weekly_Data_Raw[CHURNED_MEMBERS],Weekly_Data_Raw[TICKER],'Weekly Metrics'!$A10,Weekly_Data_Raw[END_DATE],'Weekly Metrics'!HI$5)))))))","v":20.789337429},{"$f":"IF($B10=\"Panel Sales\", SUMIFS(Weekly_Data_Raw[PANEL_AMOUNT],Weekly_Data_Raw[TICKER],'Weekly Metrics'!$A10,Weekly_Data_Raw[END_DATE],'Weekly Metrics'!HJ$5),IF($B10=\"Transactions\",SUMIFS(Weekly_Data_Raw[PANEL_TRANSACTIONS],Weekly_Data_Raw[TICKER],'Weekly Metrics'!$A10,Weekly_Data_Raw[END_DATE],'Weekly Metrics'!HJ$5), IF($B10=\"Avg Ticket\",SUMIFS(Weekly_Data_Raw[AVG_TICKET],Weekly_Data_Raw[TICKER],'Weekly Metrics'!$A10,Weekly_Data_Raw[END_DATE],'Weekly Metrics'!HJ$5), IF($B10=\"EOP Subscribers\",SUMIFS(Weekly_Data_Raw[EOP_SUBSCRIBERS],Weekly_Data_Raw[TICKER],'Weekly Metrics'!$A10,Weekly_Data_Raw[END_DATE],'Weekly Metrics'!HJ$5), IF($B10=\"Gross Adds\",SUMIFS(Weekly_Data_Raw[GROSS_ADDS],Weekly_Data_Raw[TICKER],'Weekly Metrics'!$A10,Weekly_Data_Raw[END_DATE],'Weekly Metrics'!HJ$5), IF($B10=\"Churn\",SUMIFS(Weekly_Data_Raw[CHURNED_MEMBERS],Weekly_Data_Raw[TICKER],'Weekly Metrics'!$A10,Weekly_Data_Raw[END_DATE],'Weekly Metrics'!HJ$5)))))))","v":22.015372060000001},{"$f":"IF($B10=\"Panel Sales\", SUMIFS(Weekly_Data_Raw[PANEL_AMOUNT],Weekly_Data_Raw[TICKER],'Weekly Metrics'!$A10,Weekly_Data_Raw[END_DATE],'Weekly Metrics'!HK$5),IF($B10=\"Transactions\",SUMIFS(Weekly_Data_Raw[PANEL_TRANSACTIONS],Weekly_Data_Raw[TICKER],'Weekly Metrics'!$A10,Weekly_Data_Raw[END_DATE],'Weekly Metrics'!HK$5), IF($B10=\"Avg Ticket\",SUMIFS(Weekly_Data_Raw[AVG_TICKET],Weekly_Data_Raw[TICKER],'Weekly Metrics'!$A10,Weekly_Data_Raw[END_DATE],'Weekly Metrics'!HK$5), IF($B10=\"EOP Subscribers\",SUMIFS(Weekly_Data_Raw[EOP_SUBSCRIBERS],Weekly_Data_Raw[TICKER],'Weekly Metrics'!$A10,Weekly_Data_Raw[END_DATE],'Weekly Metrics'!HK$5), IF($B10=\"Gross Adds\",SUMIFS(Weekly_Data_Raw[GROSS_ADDS],Weekly_Data_Raw[TICKER],'Weekly Metrics'!$A10,Weekly_Data_Raw[END_DATE],'Weekly Metrics'!HK$5), IF($B10=\"Churn\",SUMIFS(Weekly_Data_Raw[CHURNED_MEMBERS],Weekly_Data_Raw[TICKER],'Weekly Metrics'!$A10,Weekly_Data_Raw[END_DATE],'Weekly Metrics'!HK$5)))))))","v":22.554062023},{"$f":"IF($B10=\"Panel Sales\", SUMIFS(Weekly_Data_Raw[PANEL_AMOUNT],Weekly_Data_Raw[TICKER],'Weekly Metrics'!$A10,Weekly_Data_Raw[END_DATE],'Weekly Metrics'!HL$5),IF($B10=\"Transactions\",SUMIFS(Weekly_Data_Raw[PANEL_TRANSACTIONS],Weekly_Data_Raw[TICKER],'Weekly Metrics'!$A10,Weekly_Data_Raw[END_DATE],'Weekly Metrics'!HL$5), IF($B10=\"Avg Ticket\",SUMIFS(Weekly_Data_Raw[AVG_TICKET],Weekly_Data_Raw[TICKER],'Weekly Metrics'!$A10,Weekly_Data_Raw[END_DATE],'Weekly Metrics'!HL$5), IF($B10=\"EOP Subscribers\",SUMIFS(Weekly_Data_Raw[EOP_SUBSCRIBERS],Weekly_Data_Raw[TICKER],'Weekly Metrics'!$A10,Weekly_Data_Raw[END_DATE],'Weekly Metrics'!HL$5), IF($B10=\"Gross Adds\",SUMIFS(Weekly_Data_Raw[GROSS_ADDS],Weekly_Data_Raw[TICKER],'Weekly Metrics'!$A10,Weekly_Data_Raw[END_DATE],'Weekly Metrics'!HL$5), IF($B10=\"Churn\",SUMIFS(Weekly_Data_Raw[CHURNED_MEMBERS],Weekly_Data_Raw[TICKER],'Weekly Metrics'!$A10,Weekly_Data_Raw[END_DATE],'Weekly Metrics'!HL$5)))))))","v":19.872770075999998},{"$f":"IF($B10=\"Panel Sales\", SUMIFS(Weekly_Data_Raw[PANEL_AMOUNT],Weekly_Data_Raw[TICKER],'Weekly Metrics'!$A10,Weekly_Data_Raw[END_DATE],'Weekly Metrics'!HM$5),IF($B10=\"Transactions\",SUMIFS(Weekly_Data_Raw[PANEL_TRANSACTIONS],Weekly_Data_Raw[TICKER],'Weekly Metrics'!$A10,Weekly_Data_Raw[END_DATE],'Weekly Metrics'!HM$5), IF($B10=\"Avg Ticket\",SUMIFS(Weekly_Data_Raw[AVG_TICKET],Weekly_Data_Raw[TICKER],'Weekly Metrics'!$A10,Weekly_Data_Raw[END_DATE],'Weekly Metrics'!HM$5), IF($B10=\"EOP Subscribers\",SUMIFS(Weekly_Data_Raw[EOP_SUBSCRIBERS],Weekly_Data_Raw[TICKER],'Weekly Metrics'!$A10,Weekly_Data_Raw[END_DATE],'Weekly Metrics'!HM$5), IF($B10=\"Gross Adds\",SUMIFS(Weekly_Data_Raw[GROSS_ADDS],Weekly_Data_Raw[TICKER],'Weekly Metrics'!$A10,Weekly_Data_Raw[END_DATE],'Weekly Metrics'!HM$5), IF($B10=\"Churn\",SUMIFS(Weekly_Data_Raw[CHURNED_MEMBERS],Weekly_Data_Raw[TICKER],'Weekly Metrics'!$A10,Weekly_Data_Raw[END_DATE],'Weekly Metrics'!HM$5)))))))","v":20.385352113},{"$f":"IF($B10=\"Panel Sales\", SUMIFS(Weekly_Data_Raw[PANEL_AMOUNT],Weekly_Data_Raw[TICKER],'Weekly Metrics'!$A10,Weekly_Data_Raw[END_DATE],'Weekly Metrics'!HN$5),IF($B10=\"Transactions\",SUMIFS(Weekly_Data_Raw[PANEL_TRANSACTIONS],Weekly_Data_Raw[TICKER],'Weekly Metrics'!$A10,Weekly_Data_Raw[END_DATE],'Weekly Metrics'!HN$5), IF($B10=\"Avg Ticket\",SUMIFS(Weekly_Data_Raw[AVG_TICKET],Weekly_Data_Raw[TICKER],'Weekly Metrics'!$A10,Weekly_Data_Raw[END_DATE],'Weekly Metrics'!HN$5), IF($B10=\"EOP Subscribers\",SUMIFS(Weekly_Data_Raw[EOP_SUBSCRIBERS],Weekly_Data_Raw[TICKER],'Weekly Metrics'!$A10,Weekly_Data_Raw[END_DATE],'Weekly Metrics'!HN$5), IF($B10=\"Gross Adds\",SUMIFS(Weekly_Data_Raw[GROSS_ADDS],Weekly_Data_Raw[TICKER],'Weekly Metrics'!$A10,Weekly_Data_Raw[END_DATE],'Weekly Metrics'!HN$5), IF($B10=\"Churn\",SUMIFS(Weekly_Data_Raw[CHURNED_MEMBERS],Weekly_Data_Raw[TICKER],'Weekly Metrics'!$A10,Weekly_Data_Raw[END_DATE],'Weekly Metrics'!HN$5)))))))","v":21.736769953},{"$f":"IF($B10=\"Panel Sales\", SUMIFS(Weekly_Data_Raw[PANEL_AMOUNT],Weekly_Data_Raw[TICKER],'Weekly Metrics'!$A10,Weekly_Data_Raw[END_DATE],'Weekly Metrics'!HO$5),IF($B10=\"Transactions\",SUMIFS(Weekly_Data_Raw[PANEL_TRANSACTIONS],Weekly_Data_Raw[TICKER],'Weekly Metrics'!$A10,Weekly_Data_Raw[END_DATE],'Weekly Metrics'!HO$5), IF($B10=\"Avg Ticket\",SUMIFS(Weekly_Data_Raw[AVG_TICKET],Weekly_Data_Raw[TICKER],'Weekly Metrics'!$A10,Weekly_Data_Raw[END_DATE],'Weekly Metrics'!HO$5), IF($B10=\"EOP Subscribers\",SUMIFS(Weekly_Data_Raw[EOP_SUBSCRIBERS],Weekly_Data_Raw[TICKER],'Weekly Metrics'!$A10,Weekly_Data_Raw[END_DATE],'Weekly Metrics'!HO$5), IF($B10=\"Gross Adds\",SUMIFS(Weekly_Data_Raw[GROSS_ADDS],Weekly_Data_Raw[TICKER],'Weekly Metrics'!$A10,Weekly_Data_Raw[END_DATE],'Weekly Metrics'!HO$5), IF($B10=\"Churn\",SUMIFS(Weekly_Data_Raw[CHURNED_MEMBERS],Weekly_Data_Raw[TICKER],'Weekly Metrics'!$A10,Weekly_Data_Raw[END_DATE],'Weekly Metrics'!HO$5)))))))","v":21.998796561999999},{"$f":"IF($B10=\"Panel Sales\", SUMIFS(Weekly_Data_Raw[PANEL_AMOUNT],Weekly_Data_Raw[TICKER],'Weekly Metrics'!$A10,Weekly_Data_Raw[END_DATE],'Weekly Metrics'!HP$5),IF($B10=\"Transactions\",SUMIFS(Weekly_Data_Raw[PANEL_TRANSACTIONS],Weekly_Data_Raw[TICKER],'Weekly Metrics'!$A10,Weekly_Data_Raw[END_DATE],'Weekly Metrics'!HP$5), IF($B10=\"Avg Ticket\",SUMIFS(Weekly_Data_Raw[AVG_TICKET],Weekly_Data_Raw[TICKER],'Weekly Metrics'!$A10,Weekly_Data_Raw[END_DATE],'Weekly Metrics'!HP$5), IF($B10=\"EOP Subscribers\",SUMIFS(Weekly_Data_Raw[EOP_SUBSCRIBERS],Weekly_Data_Raw[TICKER],'Weekly Metrics'!$A10,Weekly_Data_Raw[END_DATE],'Weekly Metrics'!HP$5), IF($B10=\"Gross Adds\",SUMIFS(Weekly_Data_Raw[GROSS_ADDS],Weekly_Data_Raw[TICKER],'Weekly Metrics'!$A10,Weekly_Data_Raw[END_DATE],'Weekly Metrics'!HP$5), IF($B10=\"Churn\",SUMIFS(Weekly_Data_Raw[CHURNED_MEMBERS],Weekly_Data_Raw[TICKER],'Weekly Metrics'!$A10,Weekly_Data_Raw[END_DATE],'Weekly Metrics'!HP$5)))))))","v":19.335755396},{"$f":"IF($B10=\"Panel Sales\", SUMIFS(Weekly_Data_Raw[PANEL_AMOUNT],Weekly_Data_Raw[TICKER],'Weekly Metrics'!$A10,Weekly_Data_Raw[END_DATE],'Weekly Metrics'!HQ$5),IF($B10=\"Transactions\",SUMIFS(Weekly_Data_Raw[PANEL_TRANSACTIONS],Weekly_Data_Raw[TICKER],'Weekly Metrics'!$A10,Weekly_Data_Raw[END_DATE],'Weekly Metrics'!HQ$5), IF($B10=\"Avg Ticket\",SUMIFS(Weekly_Data_Raw[AVG_TICKET],Weekly_Data_Raw[TICKER],'Weekly Metrics'!$A10,Weekly_Data_Raw[END_DATE],'Weekly Metrics'!HQ$5), IF($B10=\"EOP Subscribers\",SUMIFS(Weekly_Data_Raw[EOP_SUBSCRIBERS],Weekly_Data_Raw[TICKER],'Weekly Metrics'!$A10,Weekly_Data_Raw[END_DATE],'Weekly Metrics'!HQ$5), IF($B10=\"Gross Adds\",SUMIFS(Weekly_Data_Raw[GROSS_ADDS],Weekly_Data_Raw[TICKER],'Weekly Metrics'!$A10,Weekly_Data_Raw[END_DATE],'Weekly Metrics'!HQ$5), IF($B10=\"Churn\",SUMIFS(Weekly_Data_Raw[CHURNED_MEMBERS],Weekly_Data_Raw[TICKER],'Weekly Metrics'!$A10,Weekly_Data_Raw[END_DATE],'Weekly Metrics'!HQ$5)))))))","v":20.006533705999999},{"$f":"IF($B10=\"Panel Sales\", SUMIFS(Weekly_Data_Raw[PANEL_AMOUNT],Weekly_Data_Raw[TICKER],'Weekly Metrics'!$A10,Weekly_Data_Raw[END_DATE],'Weekly Metrics'!HR$5),IF($B10=\"Transactions\",SUMIFS(Weekly_Data_Raw[PANEL_TRANSACTIONS],Weekly_Data_Raw[TICKER],'Weekly Metrics'!$A10,Weekly_Data_Raw[END_DATE],'Weekly Metrics'!HR$5), IF($B10=\"Avg Ticket\",SUMIFS(Weekly_Data_Raw[AVG_TICKET],Weekly_Data_Raw[TICKER],'Weekly Metrics'!$A10,Weekly_Data_Raw[END_DATE],'Weekly Metrics'!HR$5), IF($B10=\"EOP Subscribers\",SUMIFS(Weekly_Data_Raw[EOP_SUBSCRIBERS],Weekly_Data_Raw[TICKER],'Weekly Metrics'!$A10,Weekly_Data_Raw[END_DATE],'Weekly Metrics'!HR$5), IF($B10=\"Gross Adds\",SUMIFS(Weekly_Data_Raw[GROSS_ADDS],Weekly_Data_Raw[TICKER],'Weekly Metrics'!$A10,Weekly_Data_Raw[END_DATE],'Weekly Metrics'!HR$5), IF($B10=\"Churn\",SUMIFS(Weekly_Data_Raw[CHURNED_MEMBERS],Weekly_Data_Raw[TICKER],'Weekly Metrics'!$A10,Weekly_Data_Raw[END_DATE],'Weekly Metrics'!HR$5)))))))","v":20.507404505},{"$f":"IF($B10=\"Panel Sales\", SUMIFS(Weekly_Data_Raw[PANEL_AMOUNT],Weekly_Data_Raw[TICKER],'Weekly Metrics'!$A10,Weekly_Data_Raw[END_DATE],'Weekly Metrics'!HS$5),IF($B10=\"Transactions\",SUMIFS(Weekly_Data_Raw[PANEL_TRANSACTIONS],Weekly_Data_Raw[TICKER],'Weekly Metrics'!$A10,Weekly_Data_Raw[END_DATE],'Weekly Metrics'!HS$5), IF($B10=\"Avg Ticket\",SUMIFS(Weekly_Data_Raw[AVG_TICKET],Weekly_Data_Raw[TICKER],'Weekly Metrics'!$A10,Weekly_Data_Raw[END_DATE],'Weekly Metrics'!HS$5), IF($B10=\"EOP Subscribers\",SUMIFS(Weekly_Data_Raw[EOP_SUBSCRIBERS],Weekly_Data_Raw[TICKER],'Weekly Metrics'!$A10,Weekly_Data_Raw[END_DATE],'Weekly Metrics'!HS$5), IF($B10=\"Gross Adds\",SUMIFS(Weekly_Data_Raw[GROSS_ADDS],Weekly_Data_Raw[TICKER],'Weekly Metrics'!$A10,Weekly_Data_Raw[END_DATE],'Weekly Metrics'!HS$5), IF($B10=\"Churn\",SUMIFS(Weekly_Data_Raw[CHURNED_MEMBERS],Weekly_Data_Raw[TICKER],'Weekly Metrics'!$A10,Weekly_Data_Raw[END_DATE],'Weekly Metrics'!HS$5)))))))","v":21.516192101000001},{"$f":"IF($B10=\"Panel Sales\", SUMIFS(Weekly_Data_Raw[PANEL_AMOUNT],Weekly_Data_Raw[TICKER],'Weekly Metrics'!$A10,Weekly_Data_Raw[END_DATE],'Weekly Metrics'!HT$5),IF($B10=\"Transactions\",SUMIFS(Weekly_Data_Raw[PANEL_TRANSACTIONS],Weekly_Data_Raw[TICKER],'Weekly Metrics'!$A10,Weekly_Data_Raw[END_DATE],'Weekly Metrics'!HT$5), IF($B10=\"Avg Ticket\",SUMIFS(Weekly_Data_Raw[AVG_TICKET],Weekly_Data_Raw[TICKER],'Weekly Metrics'!$A10,Weekly_Data_Raw[END_DATE],'Weekly Metrics'!HT$5), IF($B10=\"EOP Subscribers\",SUMIFS(Weekly_Data_Raw[EOP_SUBSCRIBERS],Weekly_Data_Raw[TICKER],'Weekly Metrics'!$A10,Weekly_Data_Raw[END_DATE],'Weekly Metrics'!HT$5), IF($B10=\"Gross Adds\",SUMIFS(Weekly_Data_Raw[GROSS_ADDS],Weekly_Data_Raw[TICKER],'Weekly Metrics'!$A10,Weekly_Data_Raw[END_DATE],'Weekly Metrics'!HT$5), IF($B10=\"Churn\",SUMIFS(Weekly_Data_Raw[CHURNED_MEMBERS],Weekly_Data_Raw[TICKER],'Weekly Metrics'!$A10,Weekly_Data_Raw[END_DATE],'Weekly Metrics'!HT$5)))))))","v":20.328498952}]
["ADT","Panel Sales",{"$f":"IF($B11=\"Panel Sales\", SUMIFS(Weekly_Data_Raw[PANEL_AMOUNT],Weekly_Data_Raw[TICKER],'Weekly Metrics'!$A11,Weekly_Data_Raw[END_DATE],'Weekly Metrics'!C$5),IF($B11=\"Transactions\",SUMIFS(Weekly_Data_Raw[PANEL_TRANSACTIONS],Weekly_Data_Raw[TICKER],'Weekly Metrics'!$A11,Weekly_Data_Raw[END_DATE],'Weekly Metrics'!C$5), IF($B11=\"Avg Ticket\",SUMIFS(Weekly_Data_Raw[AVG_TICKET],Weekly_Data_Raw[TICKER],'Weekly Metrics'!$A11,Weekly_Data_Raw[END_DATE],'Weekly Metrics'!C$5), IF($B11=\"EOP Subscribers\",SUMIFS(Weekly_Data_Raw[EOP_SUBSCRIBERS],Weekly_Data_Raw[TICKER],'Weekly Metrics'!$A11,Weekly_Data_Raw[END_DATE],'Weekly Metrics'!C$5), IF($B11=\"Gross Adds\",SUMIFS(Weekly_Data_Raw[GROSS_ADDS],Weekly_Data_Raw[TICKER],'Weekly Metrics'!$A11,Weekly_Data_Raw[END_DATE],'Weekly Metrics'!C$5), IF($B11=\"Churn\",SUMIFS(Weekly_Data_Raw[CHURNED_MEMBERS],Weekly_Data_Raw[TICKER],'Weekly Metrics'!$A11,Weekly_Data_Raw[END_DATE],'Weekly Metrics'!C$5)))))))","v":240717.01},{"$f":"IF($B11=\"Panel Sales\", SUMIFS(Weekly_Data_Raw[PANEL_AMOUNT],Weekly_Data_Raw[TICKER],'Weekly Metrics'!$A11,Weekly_Data_Raw[END_DATE],'Weekly Metrics'!D$5),IF($B11=\"Transactions\",SUMIFS(Weekly_Data_Raw[PANEL_TRANSACTIONS],Weekly_Data_Raw[TICKER],'Weekly Metrics'!$A11,Weekly_Data_Raw[END_DATE],'Weekly Metrics'!D$5), IF($B11=\"Avg Ticket\",SUMIFS(Weekly_Data_Raw[AVG_TICKET],Weekly_Data_Raw[TICKER],'Weekly Metrics'!$A11,Weekly_Data_Raw[END_DATE],'Weekly Metrics'!D$5), IF($B11=\"EOP Subscribers\",SUMIFS(Weekly_Data_Raw[EOP_SUBSCRIBERS],Weekly_Data_Raw[TICKER],'Weekly Metrics'!$A11,Weekly_Data_Raw[END_DATE],'Weekly Metrics'!D$5), IF($B11=\"Gross Adds\",SUMIFS(Weekly_Data_Raw[GROSS_ADDS],Weekly_Data_Raw[TICKER],'Weekly Metrics'!$A11,Weekly_Data_Raw[END_DATE],'Weekly Metrics'!D$5), IF($B11=\"Churn\",SUMIFS(Weekly_Data_Raw[CHURNED_MEMBERS],Weekly_Data_Raw[TICKER],'Weekly Metrics'!$A11,Weekly_Data_Raw[END_DATE],'Weekly Metrics'!D$5)))))))","v":231498.88},{"$f":"IF($B11=\"Panel Sales\", SUMIFS(Weekly_Data_Raw[PANEL_AMOUNT],Weekly_Data_Raw[TICKER],'Weekly Metrics'!$A11,Weekly_Data_Raw[END_DATE],'Weekly Metrics'!E$5),IF($B11=\"Transactions\",SUMIFS(Weekly_Data_Raw[PANEL_TRANSACTIONS],Weekly_Data_Raw[TICKER],'Weekly Metrics'!$A11,Weekly_Data_Raw[END_DATE],'Weekly Metrics'!E$5), IF($B11=\"Avg Ticket\",SUMIFS(Weekly_Data_Raw[AVG_TICKET],Weekly_Data_Raw[TICKER],'Weekly Metrics'!$A11,Weekly_Data_Raw[END_DATE],'Weekly Metrics'!E$5), IF($B11=\"EOP Subscribers\",SUMIFS(Weekly_Data_Raw[EOP_SUBSCRIBERS],Weekly_Data_Raw[TICKER],'Weekly Metrics'!$A11,Weekly_Data_Raw[END_DATE],'Weekly Metrics'!E$5), IF($B11=\"Gross Adds\",SUMIFS(Weekly_Data_Raw[GROSS_ADDS],Weekly_Data_Raw[TICKER],'Weekly Metrics'!$A11,Weekly_Data_Raw[END_DATE],'Weekly Metrics'!E$5), IF($B11=\"Churn\",SUMIFS(Weekly_Data_Raw[CHURNED_MEMBERS],Weekly_Data_Raw[TICKER],'Weekly Metrics'!$A11,Weekly_Data_Raw[END_DATE],'Weekly Metrics'!E$5)))))))","v":252933.89},{"$f":"IF($B11=\"Panel Sales\", SUMIFS(Weekly_Data_Raw[PANEL_AMOUNT],Weekly_Data_Raw[TICKER],'Weekly Metrics'!$A11,Weekly_Data_Raw[END_DATE],'Weekly Metrics'!F$5),IF($B11=\"Transactions\",SUMIFS(Weekly_Data_Raw[PANEL_TRANSACTIONS],Weekly_Data_Raw[TICKER],'Weekly Metrics'!$A11,Weekly_Data_Raw[END_DATE],'Weekly Metrics'!F$5), IF($B11=\"Avg Ticket\",SUMIFS(Weekly_Data_Raw[AVG_TICKET],Weekly_Data_Raw[TICKER],'Weekly Metrics'!$A11,Weekly_Data_Raw[END_DATE],'Weekly Metrics'!F$5), IF($B11=\"EOP Subscribers\",SUMIFS(Weekly_Data_Raw[EOP_SUBSCRIBERS],Weekly_Data_Raw[TICKER],'Weekly Metrics'!$A11,Weekly_Data_Raw[END_DATE],'Weekly Metrics'!F$5), IF($B11=\"Gross Adds\",SUMIFS(Weekly_Data_Raw[GROSS_ADDS],Weekly_Data_Raw[TICKER],'Weekly Metrics'!$A11,Weekly_Data_Raw[END_DATE],'Weekly Metrics'!F$5), IF($B11=\"Churn\",SUMIFS(Weekly_Data_Raw[CHURNED_MEMBERS],Weekly_Data_Raw[TICKER],'Weekly Metrics'!$A11,Weekly_Data_Raw[END_DATE],'Weekly Metrics'!F$5)))))))","v":207890.35},{"$f":"IF($B11=\"Panel Sales\", SUMIFS(Weekly_Data_Raw[PANEL_AMOUNT],Weekly_Data_Raw[TICKER],'Weekly Metrics'!$A11,Weekly_Data_Raw[END_DATE],'Weekly Metrics'!G$5),IF($B11=\"Transactions\",SUMIFS(Weekly_Data_Raw[PANEL_TRANSACTIONS],Weekly_Data_Raw[TICKER],'Weekly Metrics'!$A11,Weekly_Data_Raw[END_DATE],'Weekly Metrics'!G$5), IF($B11=\"Avg Ticket\",SUMIFS(Weekly_Data_Raw[AVG_TICKET],Weekly_Data_Raw[TICKER],'Weekly Metrics'!$A11,Weekly_Data_Raw[END_DATE],'Weekly Metrics'!G$5), IF($B11=\"EOP Subscribers\",SUMIFS(Weekly_Data_Raw[EOP_SUBSCRIBERS],Weekly_Data_Raw[TICKER],'Weekly Metrics'!$A11,Weekly_Data_Raw[END_DATE],'Weekly Metrics'!G$5), IF($B11=\"Gross Adds\",SUMIFS(Weekly_Data_Raw[GROSS_ADDS],Weekly_Data_Raw[TICKER],'Weekly Metrics'!$A11,Weekly_Data_Raw[END_DATE],'Weekly Metrics'!G$5), IF($B11=\"Churn\",SUMIFS(Weekly_Data_Raw[CHURNED_MEMBERS],Weekly_Data_Raw[TICKER],'Weekly Metrics'!$A11,Weekly_Data_Raw[END_DATE],'Weekly Metrics'!G$5)))))))","v":230043.06},{"$f":"IF($B11=\"Panel Sales\", SUMIFS(Weekly_Data_Raw[PANEL_AMOUNT],Weekly_Data_Raw[TICKER],'Weekly Metrics'!$A11,Weekly_Data_Raw[END_DATE],'Weekly Metrics'!H$5),IF($B11=\"Transactions\",SUMIFS(Weekly_Data_Raw[PANEL_TRANSACTIONS],Weekly_Data_Raw[TICKER],'Weekly Metrics'!$A11,Weekly_Data_Raw[END_DATE],'Weekly Metrics'!H$5), IF($B11=\"Avg Ticket\",SUMIFS(Weekly_Data_Raw[AVG_TICKET],Weekly_Data_Raw[TICKER],'Weekly Metrics'!$A11,Weekly_Data_Raw[END_DATE],'Weekly Metrics'!H$5), IF($B11=\"EOP Subscribers\",SUMIFS(Weekly_Data_Raw[EOP_SUBSCRIBERS],Weekly_Data_Raw[TICKER],'Weekly Metrics'!$A11,Weekly_Data_Raw[END_DATE],'Weekly Metrics'!H$5), IF($B11=\"Gross Adds\",SUMIFS(Weekly_Data_Raw[GROSS_ADDS],Weekly_Data_Raw[TICKER],'Weekly Metrics'!$A11,Weekly_Data_Raw[END_DATE],'Weekly Metrics'!H$5), IF($B11=\"Churn\",SUMIFS(Weekly_Data_Raw[CHURNED_MEMBERS],Weekly_Data_Raw[TICKER],'Weekly Metrics'!$A11,Weekly_Data_Raw[END_DATE],'Weekly Metrics'!H$5)))))))","v":245661.28},{"$f":"IF($B11=\"Panel Sales\", SUMIFS(Weekly_Data_Raw[PANEL_AMOUNT],Weekly_Data_Raw[TICKER],'Weekly Metrics'!$A11,Weekly_Data_Raw[END_DATE],'Weekly Metrics'!I$5),IF($B11=\"Transactions\",SUMIFS(Weekly_Data_Raw[PANEL_TRANSACTIONS],Weekly_Data_Raw[TICKER],'Weekly Metrics'!$A11,Weekly_Data_Raw[END_DATE],'Weekly Metrics'!I$5), IF($B11=\"Avg Ticket\",SUMIFS(Weekly_Data_Raw[AVG_TICKET],Weekly_Data_Raw[TICKER],'Weekly Metrics'!$A11,Weekly_Data_Raw[END_DATE],'Weekly Metrics'!I$5), IF($B11=\"EOP Subscribers\",SUMIFS(Weekly_Data_Raw[EOP_SUBSCRIBERS],Weekly_Data_Raw[TICKER],'Weekly Metrics'!$A11,Weekly_Data_Raw[END_DATE],'Weekly Metrics'!I$5), IF($B11=\"Gross Adds\",SUMIFS(Weekly_Data_Raw[GROSS_ADDS],Weekly_Data_Raw[TICKER],'Weekly Metrics'!$A11,Weekly_Data_Raw[END_DATE],'Weekly Metrics'!I$5), IF($B11=\"Churn\",SUMIFS(Weekly_Data_Raw[CHURNED_MEMBERS],Weekly_Data_Raw[TICKER],'Weekly Metrics'!$A11,Weekly_Data_Raw[END_DATE],'Weekly Metrics'!I$5)))))))","v":243941.26},{"$f":"IF($B11=\"Panel Sales\", SUMIFS(Weekly_Data_Raw[PANEL_AMOUNT],Weekly_Data_Raw[TICKER],'Weekly Metrics'!$A11,Weekly_Data_Raw[END_DATE],'Weekly Metrics'!J$5),IF($B11=\"Transactions\",SUMIFS(Weekly_Data_Raw[PANEL_TRANSACTIONS],Weekly_Data_Raw[TICKER],'Weekly Metrics'!$A11,Weekly_Data_Raw[END_DATE],'Weekly Metrics'!J$5), IF($B11=\"Avg Ticket\",SUMIFS(Weekly_Data_Raw[AVG_TICKET],Weekly_Data_Raw[TICKER],'Weekly Metrics'!$A11,Weekly_Data_Raw[END_DATE],'Weekly Metrics'!J$5), IF($B11=\"EOP Subscribers\",SUMIFS(Weekly_Data_Raw[EOP_SUBSCRIBERS],Weekly_Data_Raw[TICKER],'Weekly Metrics'!$A11,Weekly_Data_Raw[END_DATE],'Weekly Metrics'!J$5), IF($B11=\"Gross Adds\",SUMIFS(Weekly_Data_Raw[GROSS_ADDS],Weekly_Data_Raw[TICKER],'Weekly Metrics'!$A11,Weekly_Data_Raw[END_DATE],'Weekly Metrics'!J$5), IF($B11=\"Churn\",SUMIFS(Weekly_Data_Raw[CHURNED_MEMBERS],Weekly_Data_Raw[TICKER],'Weekly Metrics'!$A11,Weekly_Data_Raw[END_DATE],'Weekly Metrics'!J$5)))))))","v":242367.06},{"$f":"IF($B11=\"Panel Sales\", SUMIFS(Weekly_Data_Raw[PANEL_AMOUNT],Weekly_Data_Raw[TICKER],'Weekly Metrics'!$A11,Weekly_Data_Raw[END_DATE],'Weekly Metrics'!K$5),IF($B11=\"Transactions\",SUMIFS(Weekly_Data_Raw[PANEL_TRANSACTIONS],Weekly_Data_Raw[TICKER],'Weekly Metrics'!$A11,Weekly_Data_Raw[END_DATE],'Weekly Metrics'!K$5), IF($B11=\"Avg Ticket\",SUMIFS(Weekly_Data_Raw[AVG_TICKET],Weekly_Data_Raw[TICKER],'Weekly Metrics'!$A11,Weekly_Data_Raw[END_DATE],'Weekly Metrics'!K$5), IF($B11=\"EOP Subscribers\",SUMIFS(Weekly_Data_Raw[EOP_SUBSCRIBERS],Weekly_Data_Raw[TICKER],'Weekly Metrics'!$A11,Weekly_Data_Raw[END_DATE],'Weekly Metrics'!K$5), IF($B11=\"Gross Adds\",SUMIFS(Weekly_Data_Raw[GROSS_ADDS],Weekly_Data_Raw[TICKER],'Weekly Metrics'!$A11,Weekly_Data_Raw[END_DATE],'Weekly Metrics'!K$5), IF($B11=\"Churn\",SUMIFS(Weekly_Data_Raw[CHURNED_MEMBERS],Weekly_Data_Raw[TICKER],'Weekly Metrics'!$A11,Weekly_Data_Raw[END_DATE],'Weekly Metrics'!K$5)))))))","v":309583.07},{"$f":"IF($B11=\"Panel Sales\", SUMIFS(Weekly_Data_Raw[PANEL_AMOUNT],Weekly_Data_Raw[TICKER],'Weekly Metrics'!$A11,Weekly_Data_Raw[END_DATE],'Weekly Metrics'!L$5),IF($B11=\"Transactions\",SUMIFS(Weekly_Data_Raw[PANEL_TRANSACTIONS],Weekly_Data_Raw[TICKER],'Weekly Metrics'!$A11,Weekly_Data_Raw[END_DATE],'Weekly Metrics'!L$5), IF($B11=\"Avg Ticket\",SUMIFS(Weekly_Data_Raw[AVG_TICKET],Weekly_Data_Raw[TICKER],'Weekly Metrics'!$A11,Weekly_Data_Raw[END_DATE],'Weekly Metrics'!L$5), IF($B11=\"EOP Subscribers\",SUMIFS(Weekly_Data_Raw[EOP_SUBSCRIBERS],Weekly_Data_Raw[TICKER],'Weekly Metrics'!$A11,Weekly_Data_Raw[END_DATE],'Weekly Metrics'!L$5), IF($B11=\"Gross Adds\",SUMIFS(Weekly_Data_Raw[GROSS_ADDS],Weekly_Data_Raw[TICKER],'Weekly Metrics'!$A11,Weekly_Data_Raw[END_DATE],'Weekly Metrics'!L$5), IF($B11=\"Churn\",SUMIFS(Weekly_Data_Raw[CHURNED_MEMBERS],Weekly_Data_Raw[TICKER],'Weekly Metrics'!$A11,Weekly_Data_Raw[END_DATE],'Weekly Metrics'!L$5)))))))","v":258907.99},{"$f":"IF($B11=\"Panel Sales\", SUMIFS(Weekly_Data_Raw[PANEL_AMOUNT],Weekly_Data_Raw[TICKER],'Weekly Metrics'!$A11,Weekly_Data_Raw[END_DATE],'Weekly Metrics'!M$5),IF($B11=\"Transactions\",SUMIFS(Weekly_Data_Raw[PANEL_TRANSACTIONS],Weekly_Data_Raw[TICKER],'Weekly Metrics'!$A11,Weekly_Data_Raw[END_DATE],'Weekly Metrics'!M$5), IF($B11=\"Avg Ticket\",SUMIFS(Weekly_Data_Raw[AVG_TICKET],Weekly_Data_Raw[TICKER],'Weekly Metrics'!$A11,Weekly_Data_Raw[END_DATE],'Weekly Metrics'!M$5), IF($B11=\"EOP Subscribers\",SUMIFS(Weekly_Data_Raw[EOP_SUBSCRIBERS],Weekly_Data_Raw[TICKER],'Weekly Metrics'!$A11,Weekly_Data_Raw[END_DATE],'Weekly Metrics'!M$5), IF($B11=\"Gross Adds\",SUMIFS(Weekly_Data_Raw[GROSS_ADDS],Weekly_Data_Raw[TICKER],'Weekly Metrics'!$A11,Weekly_Data_Raw[END_DATE],'Weekly Metrics'!M$5), IF($B11=\"Churn\",SUMIFS(Weekly_Data_Raw[CHURNED_MEMBERS],Weekly_Data_Raw[TICKER],'Weekly Metrics'!$A11,Weekly_Data_Raw[END_DATE],'Weekly Metrics'!M$5)))))))","v":255344.62},{"$f":"IF($B11=\"Panel Sales\", SUMIFS(Weekly_Data_Raw[PANEL_AMOUNT],Weekly_Data_Raw[TICKER],'Weekly Metrics'!$A11,Weekly_Data_Raw[END_DATE],'Weekly Metrics'!N$5),IF($B11=\"Transactions\",SUMIFS(Weekly_Data_Raw[PANEL_TRANSACTIONS],Weekly_Data_Raw[TICKER],'Weekly Metrics'!$A11,Weekly_Data_Raw[END_DATE],'Weekly Metrics'!N$5), IF($B11=\"Avg Ticket\",SUMIFS(Weekly_Data_Raw[AVG_TICKET],Weekly_Data_Raw[TICKER],'Weekly Metrics'!$A11,Weekly_Data_Raw[END_DATE],'Weekly Metrics'!N$5), IF($B11=\"EOP Subscribers\",SUMIFS(Weekly_Data_Raw[EOP_SUBSCRIBERS],Weekly_Data_Raw[TICKER],'Weekly Metrics'!$A11,Weekly_Data_Raw[END_DATE],'Weekly Metrics'!N$5), IF($B11=\"Gross Adds\",SUMIFS(Weekly_Data_Raw[GROSS_ADDS],Weekly_Data_Raw[TICKER],'Weekly Metrics'!$A11,Weekly_Data_Raw[END_DATE],'Weekly Metrics'!N$5), IF($B11=\"Churn\",SUMIFS(Weekly_Data_Raw[CHURNED_MEMBERS],Weekly_Data_Raw[TICKER],'Weekly Metrics'!$A11,Weekly_Data_Raw[END_DATE],'Weekly Metrics'!N$5)))))))","v":244304.1},{"$f":"IF($B11=\"Panel Sales\", SUMIFS(Weekly_Data_Raw[PANEL_AMOUNT],Weekly_Data_Raw[TICKER],'Weekly Metrics'!$A11,Weekly_Data_Raw[END_DATE],'Weekly Metrics'!O$5),IF($B11=\"Transactions\",SUMIFS(Weekly_Data_Raw[PANEL_TRANSACTIONS],Weekly_Data_Raw[TICKER],'Weekly Metrics'!$A11,Weekly_Data_Raw[END_DATE],'Weekly Metrics'!O$5), IF($B11=\"Avg Ticket\",SUMIFS(Weekly_Data_Raw[AVG_TICKET],Weekly_Data_Raw[TICKER],'Weekly Metrics'!$A11,Weekly_Data_Raw[END_DATE],'Weekly Metrics'!O$5), IF($B11=\"EOP Subscribers\",SUMIFS(Weekly_Data_Raw[EOP_SUBSCRIBERS],Weekly_Data_Raw[TICKER],'Weekly Metrics'!$A11,Weekly_Data_Raw[END_DATE],'Weekly Metrics'!O$5), IF($B11=\"Gross Adds\",SUMIFS(Weekly_Data_Raw[GROSS_ADDS],Weekly_Data_Raw[TICKER],'Weekly Metrics'!$A11,Weekly_Data_Raw[END_DATE],'Weekly Metrics'!O$5), IF($B11=\"Churn\",SUMIFS(Weekly_Data_Raw[CHURNED_MEMBERS],Weekly_Data_Raw[TICKER],'Weekly Metrics'!$A11,Weekly_Data_Raw[END_DATE],'Weekly Metrics'!O$5)))))))","v":231662.56},{"$f":"IF($B11=\"Panel Sales\", SUMIFS(Weekly_Data_Raw[PANEL_AMOUNT],Weekly_Data_Raw[TICKER],'Weekly Metrics'!$A11,Weekly_Data_Raw[END_DATE],'Weekly Metrics'!P$5),IF($B11=\"Transactions\",SUMIFS(Weekly_Data_Raw[PANEL_TRANSACTIONS],Weekly_Data_Raw[TICKER],'Weekly Metrics'!$A11,Weekly_Data_Raw[END_DATE],'Weekly Metrics'!P$5), IF($B11=\"Avg Ticket\",SUMIFS(Weekly_Data_Raw[AVG_TICKET],Weekly_Data_Raw[TICKER],'Weekly Metrics'!$A11,Weekly_Data_Raw[END_DATE],'Weekly Metrics'!P$5), IF($B11=\"EOP Subscribers\",SUMIFS(Weekly_Data_Raw[EOP_SUBSCRIBERS],Weekly_Data_Raw[TICKER],'Weekly Metrics'!$A11,Weekly_Data_Raw[END_DATE],'Weekly Metrics'!P$5), IF($B11=\"Gross Adds\",SUMIFS(Weekly_Data_Raw[GROSS_ADDS],Weekly_Data_Raw[TICKER],'Weekly Metrics'!$A11,Weekly_Data_Raw[END_DATE],'Weekly Metrics'!P$5), IF($B11=\"Churn\",SUMIFS(Weekly_Data_Raw[CHURNED_MEMBERS],Weekly_Data_Raw[TICKER],'Weekly Metrics'!$A11,Weekly_Data_Raw[END_DATE],'Weekly Metrics'!P$5)))))))","v":264827.26},{"$f":"IF($B11=\"Panel Sales\", SUMIFS(Weekly_Data_Raw[PANEL_AMOUNT],Weekly_Data_Raw[TICKER],'Weekly Metrics'!$A11,Weekly_Data_Raw[END_DATE],'Weekly Metrics'!Q$5),IF($B11=\"Transactions\",SUMIFS(Weekly_Data_Raw[PANEL_TRANSACTIONS],Weekly_Data_Raw[TICKER],'Weekly Metrics'!$A11,Weekly_Data_Raw[END_DATE],'Weekly Metrics'!Q$5), IF($B11=\"Avg Ticket\",SUMIFS(Weekly_Data_Raw[AVG_TICKET],Weekly_Data_Raw[TICKER],'Weekly Metrics'!$A11,Weekly_Data_Raw[END_DATE],'Weekly Metrics'!Q$5), IF($B11=\"EOP Subscribers\",SUMIFS(Weekly_Data_Raw[EOP_SUBSCRIBERS],Weekly_Data_Raw[TICKER],'Weekly Metrics'!$A11,Weekly_Data_Raw[END_DATE],'Weekly Metrics'!Q$5), IF($B11=\"Gross Adds\",SUMIFS(Weekly_Data_Raw[GROSS_ADDS],Weekly_Data_Raw[TICKER],'Weekly Metrics'!$A11,Weekly_Data_Raw[END_DATE],'Weekly Metrics'!Q$5), IF($B11=\"Churn\",SUMIFS(Weekly_Data_Raw[CHURNED_MEMBERS],Weekly_Data_Raw[TICKER],'Weekly Metrics'!$A11,Weekly_Data_Raw[END_DATE],'Weekly Metrics'!Q$5)))))))","v":238735.87},{"$f":"IF($B11=\"Panel Sales\", SUMIFS(Weekly_Data_Raw[PANEL_AMOUNT],Weekly_Data_Raw[TICKER],'Weekly Metrics'!$A11,Weekly_Data_Raw[END_DATE],'Weekly Metrics'!R$5),IF($B11=\"Transactions\",SUMIFS(Weekly_Data_Raw[PANEL_TRANSACTIONS],Weekly_Data_Raw[TICKER],'Weekly Metrics'!$A11,Weekly_Data_Raw[END_DATE],'Weekly Metrics'!R$5), IF($B11=\"Avg Ticket\",SUMIFS(Weekly_Data_Raw[AVG_TICKET],Weekly_Data_Raw[TICKER],'Weekly Metrics'!$A11,Weekly_Data_Raw[END_DATE],'Weekly Metrics'!R$5), IF($B11=\"EOP Subscribers\",SUMIFS(Weekly_Data_Raw[EOP_SUBSCRIBERS],Weekly_Data_Raw[TICKER],'Weekly Metrics'!$A11,Weekly_Data_Raw[END_DATE],'Weekly Metrics'!R$5), IF($B11=\"Gross Adds\",SUMIFS(Weekly_Data_Raw[GROSS_ADDS],Weekly_Data_Raw[TICKER],'Weekly Metrics'!$A11,Weekly_Data_Raw[END_DATE],'Weekly Metrics'!R$5), IF($B11=\"Churn\",SUMIFS(Weekly_Data_Raw[CHURNED_MEMBERS],Weekly_Data_Raw[TICKER],'Weekly Metrics'!$A11,Weekly_Data_Raw[END_DATE],'Weekly Metrics'!R$5)))))))","v":255394.57},{"$f":"IF($B11=\"Panel Sales\", SUMIFS(Weekly_Data_Raw[PANEL_AMOUNT],Weekly_Data_Raw[TICKER],'Weekly Metrics'!$A11,Weekly_Data_Raw[END_DATE],'Weekly Metrics'!S$5),IF($B11=\"Transactions\",SUMIFS(Weekly_Data_Raw[PANEL_TRANSACTIONS],Weekly_Data_Raw[TICKER],'Weekly Metrics'!$A11,Weekly_Data_Raw[END_DATE],'Weekly Metrics'!S$5), IF($B11=\"Avg Ticket\",SUMIFS(Weekly_Data_Raw[AVG_TICKET],Weekly_Data_Raw[TICKER],'Weekly Metrics'!$A11,Weekly_Data_Raw[END_DATE],'Weekly Metrics'!S$5), IF($B11=\"EOP Subscribers\",SUMIFS(Weekly_Data_Raw[EOP_SUBSCRIBERS],Weekly_Data_Raw[TICKER],'Weekly Metrics'!$A11,Weekly_Data_Raw[END_DATE],'Weekly Metrics'!S$5), IF($B11=\"Gross Adds\",SUMIFS(Weekly_Data_Raw[GROSS_ADDS],Weekly_Data_Raw[TICKER],'Weekly Metrics'!$A11,Weekly_Data_Raw[END_DATE],'Weekly Metrics'!S$5), IF($B11=\"Churn\",SUMIFS(Weekly_Data_Raw[CHURNED_MEMBERS],Weekly_Data_Raw[TICKER],'Weekly Metrics'!$A11,Weekly_Data_Raw[END_DATE],'Weekly Metrics'!S$5)))))))","v":226271.08},{"$f":"IF($B11=\"Panel Sales\", SUMIFS(Weekly_Data_Raw[PANEL_AMOUNT],Weekly_Data_Raw[TICKER],'Weekly Metrics'!$A11,Weekly_Data_Raw[END_DATE],'Weekly Metrics'!T$5),IF($B11=\"Transactions\",SUMIFS(Weekly_Data_Raw[PANEL_TRANSACTIONS],Weekly_Data_Raw[TICKER],'Weekly Metrics'!$A11,Weekly_Data_Raw[END_DATE],'Weekly Metrics'!T$5), IF($B11=\"Avg Ticket\",SUMIFS(Weekly_Data_Raw[AVG_TICKET],Weekly_Data_Raw[TICKER],'Weekly Metrics'!$A11,Weekly_Data_Raw[END_DATE],'Weekly Metrics'!T$5), IF($B11=\"EOP Subscribers\",SUMIFS(Weekly_Data_Raw[EOP_SUBSCRIBERS],Weekly_Data_Raw[TICKER],'Weekly Metrics'!$A11,Weekly_Data_Raw[END_DATE],'Weekly Metrics'!T$5), IF($B11=\"Gross Adds\",SUMIFS(Weekly_Data_Raw[GROSS_ADDS],Weekly_Data_Raw[TICKER],'Weekly Metrics'!$A11,Weekly_Data_Raw[END_DATE],'Weekly Metrics'!T$5), IF($B11=\"Churn\",SUMIFS(Weekly_Data_Raw[CHURNED_MEMBERS],Weekly_Data_Raw[TICKER],'Weekly Metrics'!$A11,Weekly_Data_Raw[END_DATE],'Weekly Metrics'!T$5)))))))","v":291559.67},{"$f":"IF($B11=\"Panel Sales\", SUMIFS(Weekly_Data_Raw[PANEL_AMOUNT],Weekly_Data_Raw[TICKER],'Weekly Metrics'!$A11,Weekly_Data_Raw[END_DATE],'Weekly Metrics'!U$5),IF($B11=\"Transactions\",SUMIFS(Weekly_Data_Raw[PANEL_TRANSACTIONS],Weekly_Data_Raw[TICKER],'Weekly Metrics'!$A11,Weekly_Data_Raw[END_DATE],'Weekly Metrics'!U$5), IF($B11=\"Avg Ticket\",SUMIFS(Weekly_Data_Raw[AVG_TICKET],Weekly_Data_Raw[TICKER],'Weekly Metrics'!$A11,Weekly_Data_Raw[END_DATE],'Weekly Metrics'!U$5), IF($B11=\"EOP Subscribers\",SUMIFS(Weekly_Data_Raw[EOP_SUBSCRIBERS],Weekly_Data_Raw[TICKER],'Weekly Metrics'!$A11,Weekly_Data_Raw[END_DATE],'Weekly Metrics'!U$5), IF($B11=\"Gross Adds\",SUMIFS(Weekly_Data_Raw[GROSS_ADDS],Weekly_Data_Raw[TICKER],'Weekly Metrics'!$A11,Weekly_Data_Raw[END_DATE],'Weekly Metrics'!U$5), IF($B11=\"Churn\",SUMIFS(Weekly_Data_Raw[CHURNED_MEMBERS],Weekly_Data_Raw[TICKER],'Weekly Metrics'!$A11,Weekly_Data_Raw[END_DATE],'Weekly Metrics'!U$5)))))))","v":235870.64},{"$f":"IF($B11=\"Panel Sales\", SUMIFS(Weekly_Data_Raw[PANEL_AMOUNT],Weekly_Data_Raw[TICKER],'Weekly Metrics'!$A11,Weekly_Data_Raw[END_DATE],'Weekly Metrics'!V$5),IF($B11=\"Transactions\",SUMIFS(Weekly_Data_Raw[PANEL_TRANSACTIONS],Weekly_Data_Raw[TICKER],'Weekly Metrics'!$A11,Weekly_Data_Raw[END_DATE],'Weekly Metrics'!V$5), IF($B11=\"Avg Ticket\",SUMIFS(Weekly_Data_Raw[AVG_TICKET],Weekly_Data_Raw[TICKER],'Weekly Metrics'!$A11,Weekly_Data_Raw[END_DATE],'Weekly Metrics'!V$5), IF($B11=\"EOP Subscribers\",SUMIFS(Weekly_Data_Raw[EOP_SUBSCRIBERS],Weekly_Data_Raw[TICKER],'Weekly Metrics'!$A11,Weekly_Data_Raw[END_DATE],'Weekly Metrics'!V$5), IF($B11=\"Gross Adds\",SUMIFS(Weekly_Data_Raw[GROSS_ADDS],Weekly_Data_Raw[TICKER],'Weekly Metrics'!$A11,Weekly_Data_Raw[END_DATE],'Weekly Metrics'!V$5), IF($B11=\"Churn\",SUMIFS(Weekly_Data_Raw[CHURNED_MEMBERS],Weekly_Data_Raw[TICKER],'Weekly Metrics'!$A11,Weekly_Data_Raw[END_DATE],'Weekly Metrics'!V$5)))))))","v":251450.43},{"$f":"IF($B11=\"Panel Sales\", SUMIFS(Weekly_Data_Raw[PANEL_AMOUNT],Weekly_Data_Raw[TICKER],'Weekly Metrics'!$A11,Weekly_Data_Raw[END_DATE],'Weekly Metrics'!W$5),IF($B11=\"Transactions\",SUMIFS(Weekly_Data_Raw[PANEL_TRANSACTIONS],Weekly_Data_Raw[TICKER],'Weekly Metrics'!$A11,Weekly_Data_Raw[END_DATE],'Weekly Metrics'!W$5), IF($B11=\"Avg Ticket\",SUMIFS(Weekly_Data_Raw[AVG_TICKET],Weekly_Data_Raw[TICKER],'Weekly Metrics'!$A11,Weekly_Data_Raw[END_DATE],'Weekly Metrics'!W$5), IF($B11=\"EOP Subscribers\",SUMIFS(Weekly_Data_Raw[EOP_SUBSCRIBERS],Weekly_Data_Raw[TICKER],'Weekly Metrics'!$A11,Weekly_Data_Raw[END_DATE],'Weekly Metrics'!W$5), IF($B11=\"Gross Adds\",SUMIFS(Weekly_Data_Raw[GROSS_ADDS],Weekly_Data_Raw[TICKER],'Weekly Metrics'!$A11,Weekly_Data_Raw[END_DATE],'Weekly Metrics'!W$5), IF($B11=\"Churn\",SUMIFS(Weekly_Data_Raw[CHURNED_MEMBERS],Weekly_Data_Raw[TICKER],'Weekly Metrics'!$A11,Weekly_Data_Raw[END_DATE],'Weekly Metrics'!W$5)))))))","v":237626.99},{"$f":"IF($B11=\"Panel Sales\", SUMIFS(Weekly_Data_Raw[PANEL_AMOUNT],Weekly_Data_Raw[TICKER],'Weekly Metrics'!$A11,Weekly_Data_Raw[END_DATE],'Weekly Metrics'!X$5),IF($B11=\"Transactions\",SUMIFS(Weekly_Data_Raw[PANEL_TRANSACTIONS],Weekly_Data_Raw[TICKER],'Weekly Metrics'!$A11,Weekly_Data_Raw[END_DATE],'Weekly Metrics'!X$5), IF($B11=\"Avg Ticket\",SUMIFS(Weekly_Data_Raw[AVG_TICKET],Weekly_Data_Raw[TICKER],'Weekly Metrics'!$A11,Weekly_Data_Raw[END_DATE],'Weekly Metrics'!X$5), IF($B11=\"EOP Subscribers\",SUMIFS(Weekly_Data_Raw[EOP_SUBSCRIBERS],Weekly_Data_Raw[TICKER],'Weekly Metrics'!$A11,Weekly_Data_Raw[END_DATE],'Weekly Metrics'!X$5), IF($B11=\"Gross Adds\",SUMIFS(Weekly_Data_Raw[GROSS_ADDS],Weekly_Data_Raw[TICKER],'Weekly Metrics'!$A11,Weekly_Data_Raw[END_DATE],'Weekly Metrics'!X$5), IF($B11=\"Churn\",SUMIFS(Weekly_Data_Raw[CHURNED_MEMBERS],Weekly_Data_Raw[TICKER],'Weekly Metrics'!$A11,Weekly_Data_Raw[END_DATE],'Weekly Metrics'!X$5)))))))","v":225520.14},{"$f":"IF($B11=\"Panel Sales\", SUMIFS(Weekly_Data_Raw[PANEL_AMOUNT],Weekly_Data_Raw[TICKER],'Weekly Metrics'!$A11,Weekly_Data_Raw[END_DATE],'Weekly Metrics'!Y$5),IF($B11=\"Transactions\",SUMIFS(Weekly_Data_Raw[PANEL_TRANSACTIONS],Weekly_Data_Raw[TICKER],'Weekly Metrics'!$A11,Weekly_Data_Raw[END_DATE],'Weekly Metrics'!Y$5), IF($B11=\"Avg Ticket\",SUMIFS(Weekly_Data_Raw[AVG_TICKET],Weekly_Data_Raw[TICKER],'Weekly Metrics'!$A11,Weekly_Data_Raw[END_DATE],'Weekly Metrics'!Y$5), IF($B11=\"EOP Subscribers\",SUMIFS(Weekly_Data_Raw[EOP_SUBSCRIBERS],Weekly_Data_Raw[TICKER],'Weekly Metrics'!$A11,Weekly_Data_Raw[END_DATE],'Weekly Metrics'!Y$5), IF($B11=\"Gross Adds\",SUMIFS(Weekly_Data_Raw[GROSS_ADDS],Weekly_Data_Raw[TICKER],'Weekly Metrics'!$A11,Weekly_Data_Raw[END_DATE],'Weekly Metrics'!Y$5), IF($B11=\"Churn\",SUMIFS(Weekly_Data_Raw[CHURNED_MEMBERS],Weekly_Data_Raw[TICKER],'Weekly Metrics'!$A11,Weekly_Data_Raw[END_DATE],'Weekly Metrics'!Y$5)))))))","v":268939.84000000003},{"$f":"IF($B11=\"Panel Sales\", SUMIFS(Weekly_Data_Raw[PANEL_AMOUNT],Weekly_Data_Raw[TICKER],'Weekly Metrics'!$A11,Weekly_Data_Raw[END_DATE],'Weekly Metrics'!Z$5),IF($B11=\"Transactions\",SUMIFS(Weekly_Data_Raw[PANEL_TRANSACTIONS],Weekly_Data_Raw[TICKER],'Weekly Metrics'!$A11,Weekly_Data_Raw[END_DATE],'Weekly Metrics'!Z$5), IF($B11=\"Avg Ticket\",SUMIFS(Weekly_Data_Raw[AVG_TICKET],Weekly_Data_Raw[TICKER],'Weekly Metrics'!$A11,Weekly_Data_Raw[END_DATE],'Weekly Metrics'!Z$5), IF($B11=\"EOP Subscribers\",SUMIFS(Weekly_Data_Raw[EOP_SUBSCRIBERS],Weekly_Data_Raw[TICKER],'Weekly Metrics'!$A11,Weekly_Data_Raw[END_DATE],'Weekly Metrics'!Z$5), IF($B11=\"Gross Adds\",SUMIFS(Weekly_Data_Raw[GROSS_ADDS],Weekly_Data_Raw[TICKER],'Weekly Metrics'!$A11,Weekly_Data_Raw[END_DATE],'Weekly Metrics'!Z$5), IF($B11=\"Churn\",SUMIFS(Weekly_Data_Raw[CHURNED_MEMBERS],Weekly_Data_Raw[TICKER],'Weekly Metrics'!$A11,Weekly_Data_Raw[END_DATE],'Weekly Metrics'!Z$5)))))))","v":238246.47},{"$f":"IF($B11=\"Panel Sales\", SUMIFS(Weekly_Data_Raw[PANEL_AMOUNT],Weekly_Data_Raw[TICKER],'Weekly Metrics'!$A11,Weekly_Data_Raw[END_DATE],'Weekly Metrics'!AA$5),IF($B11=\"Transactions\",SUMIFS(Weekly_Data_Raw[PANEL_TRANSACTIONS],Weekly_Data_Raw[TICKER],'Weekly Metrics'!$A11,Weekly_Data_Raw[END_DATE],'Weekly Metrics'!AA$5), IF($B11=\"Avg Ticket\",SUMIFS(Weekly_Data_Raw[AVG_TICKET],Weekly_Data_Raw[TICKER],'Weekly Metrics'!$A11,Weekly_Data_Raw[END_DATE],'Weekly Metrics'!AA$5), IF($B11=\"EOP Subscribers\",SUMIFS(Weekly_Data_Raw[EOP_SUBSCRIBERS],Weekly_Data_Raw[TICKER],'Weekly Metrics'!$A11,Weekly_Data_Raw[END_DATE],'Weekly Metrics'!AA$5), IF($B11=\"Gross Adds\",SUMIFS(Weekly_Data_Raw[GROSS_ADDS],Weekly_Data_Raw[TICKER],'Weekly Metrics'!$A11,Weekly_Data_Raw[END_DATE],'Weekly Metrics'!AA$5), IF($B11=\"Churn\",SUMIFS(Weekly_Data_Raw[CHURNED_MEMBERS],Weekly_Data_Raw[TICKER],'Weekly Metrics'!$A11,Weekly_Data_Raw[END_DATE],'Weekly Metrics'!AA$5)))))))","v":259643.98},{"$f":"IF($B11=\"Panel Sales\", SUMIFS(Weekly_Data_Raw[PANEL_AMOUNT],Weekly_Data_Raw[TICKER],'Weekly Metrics'!$A11,Weekly_Data_Raw[END_DATE],'Weekly Metrics'!AB$5),IF($B11=\"Transactions\",SUMIFS(Weekly_Data_Raw[PANEL_TRANSACTIONS],Weekly_Data_Raw[TICKER],'Weekly Metrics'!$A11,Weekly_Data_Raw[END_DATE],'Weekly Metrics'!AB$5), IF($B11=\"Avg Ticket\",SUMIFS(Weekly_Data_Raw[AVG_TICKET],Weekly_Data_Raw[TICKER],'Weekly Metrics'!$A11,Weekly_Data_Raw[END_DATE],'Weekly Metrics'!AB$5), IF($B11=\"EOP Subscribers\",SUMIFS(Weekly_Data_Raw[EOP_SUBSCRIBERS],Weekly_Data_Raw[TICKER],'Weekly Metrics'!$A11,Weekly_Data_Raw[END_DATE],'Weekly Metrics'!AB$5), IF($B11=\"Gross Adds\",SUMIFS(Weekly_Data_Raw[GROSS_ADDS],Weekly_Data_Raw[TICKER],'Weekly Metrics'!$A11,Weekly_Data_Raw[END_DATE],'Weekly Metrics'!AB$5), IF($B11=\"Churn\",SUMIFS(Weekly_Data_Raw[CHURNED_MEMBERS],Weekly_Data_Raw[TICKER],'Weekly Metrics'!$A11,Weekly_Data_Raw[END_DATE],'Weekly Metrics'!AB$5)))))))","v":245250.73},{"$f":"IF($B11=\"Panel Sales\", SUMIFS(Weekly_Data_Raw[PANEL_AMOUNT],Weekly_Data_Raw[TICKER],'Weekly Metrics'!$A11,Weekly_Data_Raw[END_DATE],'Weekly Metrics'!AC$5),IF($B11=\"Transactions\",SUMIFS(Weekly_Data_Raw[PANEL_TRANSACTIONS],Weekly_Data_Raw[TICKER],'Weekly Metrics'!$A11,Weekly_Data_Raw[END_DATE],'Weekly Metrics'!AC$5), IF($B11=\"Avg Ticket\",SUMIFS(Weekly_Data_Raw[AVG_TICKET],Weekly_Data_Raw[TICKER],'Weekly Metrics'!$A11,Weekly_Data_Raw[END_DATE],'Weekly Metrics'!AC$5), IF($B11=\"EOP Subscribers\",SUMIFS(Weekly_Data_Raw[EOP_SUBSCRIBERS],Weekly_Data_Raw[TICKER],'Weekly Metrics'!$A11,Weekly_Data_Raw[END_DATE],'Weekly Metrics'!AC$5), IF($B11=\"Gross Adds\",SUMIFS(Weekly_Data_Raw[GROSS_ADDS],Weekly_Data_Raw[TICKER],'Weekly Metrics'!$A11,Weekly_Data_Raw[END_DATE],'Weekly Metrics'!AC$5), IF($B11=\"Churn\",SUMIFS(Weekly_Data_Raw[CHURNED_MEMBERS],Weekly_Data_Raw[TICKER],'Weekly Metrics'!$A11,Weekly_Data_Raw[END_DATE],'Weekly Metrics'!AC$5)))))))","v":277418.46999999997},{"$f":"IF($B11=\"Panel Sales\", SUMIFS(Weekly_Data_Raw[PANEL_AMOUNT],Weekly_Data_Raw[TICKER],'Weekly Metrics'!$A11,Weekly_Data_Raw[END_DATE],'Weekly Metrics'!AD$5),IF($B11=\"Transactions\",SUMIFS(Weekly_Data_Raw[PANEL_TRANSACTIONS],Weekly_Data_Raw[TICKER],'Weekly Metrics'!$A11,Weekly_Data_Raw[END_DATE],'Weekly Metrics'!AD$5), IF($B11=\"Avg Ticket\",SUMIFS(Weekly_Data_Raw[AVG_TICKET],Weekly_Data_Raw[TICKER],'Weekly Metrics'!$A11,Weekly_Data_Raw[END_DATE],'Weekly Metrics'!AD$5), IF($B11=\"EOP Subscribers\",SUMIFS(Weekly_Data_Raw[EOP_SUBSCRIBERS],Weekly_Data_Raw[TICKER],'Weekly Metrics'!$A11,Weekly_Data_Raw[END_DATE],'Weekly Metrics'!AD$5), IF($B11=\"Gross Adds\",SUMIFS(Weekly_Data_Raw[GROSS_ADDS],Weekly_Data_Raw[TICKER],'Weekly Metrics'!$A11,Weekly_Data_Raw[END_DATE],'Weekly Metrics'!AD$5), IF($B11=\"Churn\",SUMIFS(Weekly_Data_Raw[CHURNED_MEMBERS],Weekly_Data_Raw[TICKER],'Weekly Metrics'!$A11,Weekly_Data_Raw[END_DATE],'Weekly Metrics'!AD$5)))))))","v":248129.96},{"$f":"IF($B11=\"Panel Sales\", SUMIFS(Weekly_Data_Raw[PANEL_AMOUNT],Weekly_Data_Raw[TICKER],'Weekly Metrics'!$A11,Weekly_Data_Raw[END_DATE],'Weekly Metrics'!AE$5),IF($B11=\"Transactions\",SUMIFS(Weekly_Data_Raw[PANEL_TRANSACTIONS],Weekly_Data_Raw[TICKER],'Weekly Metrics'!$A11,Weekly_Data_Raw[END_DATE],'Weekly Metrics'!AE$5), IF($B11=\"Avg Ticket\",SUMIFS(Weekly_Data_Raw[AVG_TICKET],Weekly_Data_Raw[TICKER],'Weekly Metrics'!$A11,Weekly_Data_Raw[END_DATE],'Weekly Metrics'!AE$5), IF($B11=\"EOP Subscribers\",SUMIFS(Weekly_Data_Raw[EOP_SUBSCRIBERS],Weekly_Data_Raw[TICKER],'Weekly Metrics'!$A11,Weekly_Data_Raw[END_DATE],'Weekly Metrics'!AE$5), IF($B11=\"Gross Adds\",SUMIFS(Weekly_Data_Raw[GROSS_ADDS],Weekly_Data_Raw[TICKER],'Weekly Metrics'!$A11,Weekly_Data_Raw[END_DATE],'Weekly Metrics'!AE$5), IF($B11=\"Churn\",SUMIFS(Weekly_Data_Raw[CHURNED_MEMBERS],Weekly_Data_Raw[TICKER],'Weekly Metrics'!$A11,Weekly_Data_Raw[END_DATE],'Weekly Metrics'!AE$5)))))))","v":255328.8},{"$f":"IF($B11=\"Panel Sales\", SUMIFS(Weekly_Data_Raw[PANEL_AMOUNT],Weekly_Data_Raw[TICKER],'Weekly Metrics'!$A11,Weekly_Data_Raw[END_DATE],'Weekly Metrics'!AF$5),IF($B11=\"Transactions\",SUMIFS(Weekly_Data_Raw[PANEL_TRANSACTIONS],Weekly_Data_Raw[TICKER],'Weekly Metrics'!$A11,Weekly_Data_Raw[END_DATE],'Weekly Metrics'!AF$5), IF($B11=\"Avg Ticket\",SUMIFS(Weekly_Data_Raw[AVG_TICKET],Weekly_Data_Raw[TICKER],'Weekly Metrics'!$A11,Weekly_Data_Raw[END_DATE],'Weekly Metrics'!AF$5), IF($B11=\"EOP Subscribers\",SUMIFS(Weekly_Data_Raw[EOP_SUBSCRIBERS],Weekly_Data_Raw[TICKER],'Weekly Metrics'!$A11,Weekly_Data_Raw[END_DATE],'Weekly Metrics'!AF$5), IF($B11=\"Gross Adds\",SUMIFS(Weekly_Data_Raw[GROSS_ADDS],Weekly_Data_Raw[TICKER],'Weekly Metrics'!$A11,Weekly_Data_Raw[END_DATE],'Weekly Metrics'!AF$5), IF($B11=\"Churn\",SUMIFS(Weekly_Data_Raw[CHURNED_MEMBERS],Weekly_Data_Raw[TICKER],'Weekly Metrics'!$A11,Weekly_Data_Raw[END_DATE],'Weekly Metrics'!AF$5)))))))","v":218109.32},{"$f":"IF($B11=\"Panel Sales\", SUMIFS(Weekly_Data_Raw[PANEL_AMOUNT],Weekly_Data_Raw[TICKER],'Weekly Metrics'!$A11,Weekly_Data_Raw[END_DATE],'Weekly Metrics'!AG$5),IF($B11=\"Transactions\",SUMIFS(Weekly_Data_Raw[PANEL_TRANSACTIONS],Weekly_Data_Raw[TICKER],'Weekly Metrics'!$A11,Weekly_Data_Raw[END_DATE],'Weekly Metrics'!AG$5), IF($B11=\"Avg Ticket\",SUMIFS(Weekly_Data_Raw[AVG_TICKET],Weekly_Data_Raw[TICKER],'Weekly Metrics'!$A11,Weekly_Data_Raw[END_DATE],'Weekly Metrics'!AG$5), IF($B11=\"EOP Subscribers\",SUMIFS(Weekly_Data_Raw[EOP_SUBSCRIBERS],Weekly_Data_Raw[TICKER],'Weekly Metrics'!$A11,Weekly_Data_Raw[END_DATE],'Weekly Metrics'!AG$5), IF($B11=\"Gross Adds\",SUMIFS(Weekly_Data_Raw[GROSS_ADDS],Weekly_Data_Raw[TICKER],'Weekly Metrics'!$A11,Weekly_Data_Raw[END_DATE],'Weekly Metrics'!AG$5), IF($B11=\"Churn\",SUMIFS(Weekly_Data_Raw[CHURNED_MEMBERS],Weekly_Data_Raw[TICKER],'Weekly Metrics'!$A11,Weekly_Data_Raw[END_DATE],'Weekly Metrics'!AG$5)))))))","v":262978.95},{"$f":"IF($B11=\"Panel Sales\", SUMIFS(Weekly_Data_Raw[PANEL_AMOUNT],Weekly_Data_Raw[TICKER],'Weekly Metrics'!$A11,Weekly_Data_Raw[END_DATE],'Weekly Metrics'!AH$5),IF($B11=\"Transactions\",SUMIFS(Weekly_Data_Raw[PANEL_TRANSACTIONS],Weekly_Data_Raw[TICKER],'Weekly Metrics'!$A11,Weekly_Data_Raw[END_DATE],'Weekly Metrics'!AH$5), IF($B11=\"Avg Ticket\",SUMIFS(Weekly_Data_Raw[AVG_TICKET],Weekly_Data_Raw[TICKER],'Weekly Metrics'!$A11,Weekly_Data_Raw[END_DATE],'Weekly Metrics'!AH$5), IF($B11=\"EOP Subscribers\",SUMIFS(Weekly_Data_Raw[EOP_SUBSCRIBERS],Weekly_Data_Raw[TICKER],'Weekly Metrics'!$A11,Weekly_Data_Raw[END_DATE],'Weekly Metrics'!AH$5), IF($B11=\"Gross Adds\",SUMIFS(Weekly_Data_Raw[GROSS_ADDS],Weekly_Data_Raw[TICKER],'Weekly Metrics'!$A11,Weekly_Data_Raw[END_DATE],'Weekly Metrics'!AH$5), IF($B11=\"Churn\",SUMIFS(Weekly_Data_Raw[CHURNED_MEMBERS],Weekly_Data_Raw[TICKER],'Weekly Metrics'!$A11,Weekly_Data_Raw[END_DATE],'Weekly Metrics'!AH$5)))))))","v":249788.44},{"$f":"IF($B11=\"Panel Sales\", SUMIFS(Weekly_Data_Raw[PANEL_AMOUNT],Weekly_Data_Raw[TICKER],'Weekly Metrics'!$A11,Weekly_Data_Raw[END_DATE],'Weekly Metrics'!AI$5),IF($B11=\"Transactions\",SUMIFS(Weekly_Data_Raw[PANEL_TRANSACTIONS],Weekly_Data_Raw[TICKER],'Weekly Metrics'!$A11,Weekly_Data_Raw[END_DATE],'Weekly Metrics'!AI$5), IF($B11=\"Avg Ticket\",SUMIFS(Weekly_Data_Raw[AVG_TICKET],Weekly_Data_Raw[TICKER],'Weekly Metrics'!$A11,Weekly_Data_Raw[END_DATE],'Weekly Metrics'!AI$5), IF($B11=\"EOP Subscribers\",SUMIFS(Weekly_Data_Raw[EOP_SUBSCRIBERS],Weekly_Data_Raw[TICKER],'Weekly Metrics'!$A11,Weekly_Data_Raw[END_DATE],'Weekly Metrics'!AI$5), IF($B11=\"Gross Adds\",SUMIFS(Weekly_Data_Raw[GROSS_ADDS],Weekly_Data_Raw[TICKER],'Weekly Metrics'!$A11,Weekly_Data_Raw[END_DATE],'Weekly Metrics'!AI$5), IF($B11=\"Churn\",SUMIFS(Weekly_Data_Raw[CHURNED_MEMBERS],Weekly_Data_Raw[TICKER],'Weekly Metrics'!$A11,Weekly_Data_Raw[END_DATE],'Weekly Metrics'!AI$5)))))))","v":262735.59000000003},{"$f":"IF($B11=\"Panel Sales\", SUMIFS(Weekly_Data_Raw[PANEL_AMOUNT],Weekly_Data_Raw[TICKER],'Weekly Metrics'!$A11,Weekly_Data_Raw[END_DATE],'Weekly Metrics'!AJ$5),IF($B11=\"Transactions\",SUMIFS(Weekly_Data_Raw[PANEL_TRANSACTIONS],Weekly_Data_Raw[TICKER],'Weekly Metrics'!$A11,Weekly_Data_Raw[END_DATE],'Weekly Metrics'!AJ$5), IF($B11=\"Avg Ticket\",SUMIFS(Weekly_Data_Raw[AVG_TICKET],Weekly_Data_Raw[TICKER],'Weekly Metrics'!$A11,Weekly_Data_Raw[END_DATE],'Weekly Metrics'!AJ$5), IF($B11=\"EOP Subscribers\",SUMIFS(Weekly_Data_Raw[EOP_SUBSCRIBERS],Weekly_Data_Raw[TICKER],'Weekly Metrics'!$A11,Weekly_Data_Raw[END_DATE],'Weekly Metrics'!AJ$5), IF($B11=\"Gross Adds\",SUMIFS(Weekly_Data_Raw[GROSS_ADDS],Weekly_Data_Raw[TICKER],'Weekly Metrics'!$A11,Weekly_Data_Raw[END_DATE],'Weekly Metrics'!AJ$5), IF($B11=\"Churn\",SUMIFS(Weekly_Data_Raw[CHURNED_MEMBERS],Weekly_Data_Raw[TICKER],'Weekly Metrics'!$A11,Weekly_Data_Raw[END_DATE],'Weekly Metrics'!AJ$5)))))))","v":226709.05},{"$f":"IF($B11=\"Panel Sales\", SUMIFS(Weekly_Data_Raw[PANEL_AMOUNT],Weekly_Data_Raw[TICKER],'Weekly Metrics'!$A11,Weekly_Data_Raw[END_DATE],'Weekly Metrics'!AK$5),IF($B11=\"Transactions\",SUMIFS(Weekly_Data_Raw[PANEL_TRANSACTIONS],Weekly_Data_Raw[TICKER],'Weekly Metrics'!$A11,Weekly_Data_Raw[END_DATE],'Weekly Metrics'!AK$5), IF($B11=\"Avg Ticket\",SUMIFS(Weekly_Data_Raw[AVG_TICKET],Weekly_Data_Raw[TICKER],'Weekly Metrics'!$A11,Weekly_Data_Raw[END_DATE],'Weekly Metrics'!AK$5), IF($B11=\"EOP Subscribers\",SUMIFS(Weekly_Data_Raw[EOP_SUBSCRIBERS],Weekly_Data_Raw[TICKER],'Weekly Metrics'!$A11,Weekly_Data_Raw[END_DATE],'Weekly Metrics'!AK$5), IF($B11=\"Gross Adds\",SUMIFS(Weekly_Data_Raw[GROSS_ADDS],Weekly_Data_Raw[TICKER],'Weekly Metrics'!$A11,Weekly_Data_Raw[END_DATE],'Weekly Metrics'!AK$5), IF($B11=\"Churn\",SUMIFS(Weekly_Data_Raw[CHURNED_MEMBERS],Weekly_Data_Raw[TICKER],'Weekly Metrics'!$A11,Weekly_Data_Raw[END_DATE],'Weekly Metrics'!AK$5)))))))","v":235220.55},{"$f":"IF($B11=\"Panel Sales\", SUMIFS(Weekly_Data_Raw[PANEL_AMOUNT],Weekly_Data_Raw[TICKER],'Weekly Metrics'!$A11,Weekly_Data_Raw[END_DATE],'Weekly Metrics'!AL$5),IF($B11=\"Transactions\",SUMIFS(Weekly_Data_Raw[PANEL_TRANSACTIONS],Weekly_Data_Raw[TICKER],'Weekly Metrics'!$A11,Weekly_Data_Raw[END_DATE],'Weekly Metrics'!AL$5), IF($B11=\"Avg Ticket\",SUMIFS(Weekly_Data_Raw[AVG_TICKET],Weekly_Data_Raw[TICKER],'Weekly Metrics'!$A11,Weekly_Data_Raw[END_DATE],'Weekly Metrics'!AL$5), IF($B11=\"EOP Subscribers\",SUMIFS(Weekly_Data_Raw[EOP_SUBSCRIBERS],Weekly_Data_Raw[TICKER],'Weekly Metrics'!$A11,Weekly_Data_Raw[END_DATE],'Weekly Metrics'!AL$5), IF($B11=\"Gross Adds\",SUMIFS(Weekly_Data_Raw[GROSS_ADDS],Weekly_Data_Raw[TICKER],'Weekly Metrics'!$A11,Weekly_Data_Raw[END_DATE],'Weekly Metrics'!AL$5), IF($B11=\"Churn\",SUMIFS(Weekly_Data_Raw[CHURNED_MEMBERS],Weekly_Data_Raw[TICKER],'Weekly Metrics'!$A11,Weekly_Data_Raw[END_DATE],'Weekly Metrics'!AL$5)))))))","v":260218.4},{"$f":"IF($B11=\"Panel Sales\", SUMIFS(Weekly_Data_Raw[PANEL_AMOUNT],Weekly_Data_Raw[TICKER],'Weekly Metrics'!$A11,Weekly_Data_Raw[END_DATE],'Weekly Metrics'!AM$5),IF($B11=\"Transactions\",SUMIFS(Weekly_Data_Raw[PANEL_TRANSACTIONS],Weekly_Data_Raw[TICKER],'Weekly Metrics'!$A11,Weekly_Data_Raw[END_DATE],'Weekly Metrics'!AM$5), IF($B11=\"Avg Ticket\",SUMIFS(Weekly_Data_Raw[AVG_TICKET],Weekly_Data_Raw[TICKER],'Weekly Metrics'!$A11,Weekly_Data_Raw[END_DATE],'Weekly Metrics'!AM$5), IF($B11=\"EOP Subscribers\",SUMIFS(Weekly_Data_Raw[EOP_SUBSCRIBERS],Weekly_Data_Raw[TICKER],'Weekly Metrics'!$A11,Weekly_Data_Raw[END_DATE],'Weekly Metrics'!AM$5), IF($B11=\"Gross Adds\",SUMIFS(Weekly_Data_Raw[GROSS_ADDS],Weekly_Data_Raw[TICKER],'Weekly Metrics'!$A11,Weekly_Data_Raw[END_DATE],'Weekly Metrics'!AM$5), IF($B11=\"Churn\",SUMIFS(Weekly_Data_Raw[CHURNED_MEMBERS],Weekly_Data_Raw[TICKER],'Weekly Metrics'!$A11,Weekly_Data_Raw[END_DATE],'Weekly Metrics'!AM$5)))))))","v":248892.33},{"$f":"IF($B11=\"Panel Sales\", SUMIFS(Weekly_Data_Raw[PANEL_AMOUNT],Weekly_Data_Raw[TICKER],'Weekly Metrics'!$A11,Weekly_Data_Raw[END_DATE],'Weekly Metrics'!AN$5),IF($B11=\"Transactions\",SUMIFS(Weekly_Data_Raw[PANEL_TRANSACTIONS],Weekly_Data_Raw[TICKER],'Weekly Metrics'!$A11,Weekly_Data_Raw[END_DATE],'Weekly Metrics'!AN$5), IF($B11=\"Avg Ticket\",SUMIFS(Weekly_Data_Raw[AVG_TICKET],Weekly_Data_Raw[TICKER],'Weekly Metrics'!$A11,Weekly_Data_Raw[END_DATE],'Weekly Metrics'!AN$5), IF($B11=\"EOP Subscribers\",SUMIFS(Weekly_Data_Raw[EOP_SUBSCRIBERS],Weekly_Data_Raw[TICKER],'Weekly Metrics'!$A11,Weekly_Data_Raw[END_DATE],'Weekly Metrics'!AN$5), IF($B11=\"Gross Adds\",SUMIFS(Weekly_Data_Raw[GROSS_ADDS],Weekly_Data_Raw[TICKER],'Weekly Metrics'!$A11,Weekly_Data_Raw[END_DATE],'Weekly Metrics'!AN$5), IF($B11=\"Churn\",SUMIFS(Weekly_Data_Raw[CHURNED_MEMBERS],Weekly_Data_Raw[TICKER],'Weekly Metrics'!$A11,Weekly_Data_Raw[END_DATE],'Weekly Metrics'!AN$5)))))))","v":245162.39},{"$f":"IF($B11=\"Panel Sales\", SUMIFS(Weekly_Data_Raw[PANEL_AMOUNT],Weekly_Data_Raw[TICKER],'Weekly Metrics'!$A11,Weekly_Data_Raw[END_DATE],'Weekly Metrics'!AO$5),IF($B11=\"Transactions\",SUMIFS(Weekly_Data_Raw[PANEL_TRANSACTIONS],Weekly_Data_Raw[TICKER],'Weekly Metrics'!$A11,Weekly_Data_Raw[END_DATE],'Weekly Metrics'!AO$5), IF($B11=\"Avg Ticket\",SUMIFS(Weekly_Data_Raw[AVG_TICKET],Weekly_Data_Raw[TICKER],'Weekly Metrics'!$A11,Weekly_Data_Raw[END_DATE],'Weekly Metrics'!AO$5), IF($B11=\"EOP Subscribers\",SUMIFS(Weekly_Data_Raw[EOP_SUBSCRIBERS],Weekly_Data_Raw[TICKER],'Weekly Metrics'!$A11,Weekly_Data_Raw[END_DATE],'Weekly Metrics'!AO$5), IF($B11=\"Gross Adds\",SUMIFS(Weekly_Data_Raw[GROSS_ADDS],Weekly_Data_Raw[TICKER],'Weekly Metrics'!$A11,Weekly_Data_Raw[END_DATE],'Weekly Metrics'!AO$5), IF($B11=\"Churn\",SUMIFS(Weekly_Data_Raw[CHURNED_MEMBERS],Weekly_Data_Raw[TICKER],'Weekly Metrics'!$A11,Weekly_Data_Raw[END_DATE],'Weekly Metrics'!AO$5)))))))","v":232340.87},{"$f":"IF($B11=\"Panel Sales\", SUMIFS(Weekly_Data_Raw[PANEL_AMOUNT],Weekly_Data_Raw[TICKER],'Weekly Metrics'!$A11,Weekly_Data_Raw[END_DATE],'Weekly Metrics'!AP$5),IF($B11=\"Transactions\",SUMIFS(Weekly_Data_Raw[PANEL_TRANSACTIONS],Weekly_Data_Raw[TICKER],'Weekly Metrics'!$A11,Weekly_Data_Raw[END_DATE],'Weekly Metrics'!AP$5), IF($B11=\"Avg Ticket\",SUMIFS(Weekly_Data_Raw[AVG_TICKET],Weekly_Data_Raw[TICKER],'Weekly Metrics'!$A11,Weekly_Data_Raw[END_DATE],'Weekly Metrics'!AP$5), IF($B11=\"EOP Subscribers\",SUMIFS(Weekly_Data_Raw[EOP_SUBSCRIBERS],Weekly_Data_Raw[TICKER],'Weekly Metrics'!$A11,Weekly_Data_Raw[END_DATE],'Weekly Metrics'!AP$5), IF($B11=\"Gross Adds\",SUMIFS(Weekly_Data_Raw[GROSS_ADDS],Weekly_Data_Raw[TICKER],'Weekly Metrics'!$A11,Weekly_Data_Raw[END_DATE],'Weekly Metrics'!AP$5), IF($B11=\"Churn\",SUMIFS(Weekly_Data_Raw[CHURNED_MEMBERS],Weekly_Data_Raw[TICKER],'Weekly Metrics'!$A11,Weekly_Data_Raw[END_DATE],'Weekly Metrics'!AP$5)))))))","v":290614.28999999998},{"$f":"IF($B11=\"Panel Sales\", SUMIFS(Weekly_Data_Raw[PANEL_AMOUNT],Weekly_Data_Raw[TICKER],'Weekly Metrics'!$A11,Weekly_Data_Raw[END_DATE],'Weekly Metrics'!AQ$5),IF($B11=\"Transactions\",SUMIFS(Weekly_Data_Raw[PANEL_TRANSACTIONS],Weekly_Data_Raw[TICKER],'Weekly Metrics'!$A11,Weekly_Data_Raw[END_DATE],'Weekly Metrics'!AQ$5), IF($B11=\"Avg Ticket\",SUMIFS(Weekly_Data_Raw[AVG_TICKET],Weekly_Data_Raw[TICKER],'Weekly Metrics'!$A11,Weekly_Data_Raw[END_DATE],'Weekly Metrics'!AQ$5), IF($B11=\"EOP Subscribers\",SUMIFS(Weekly_Data_Raw[EOP_SUBSCRIBERS],Weekly_Data_Raw[TICKER],'Weekly Metrics'!$A11,Weekly_Data_Raw[END_DATE],'Weekly Metrics'!AQ$5), IF($B11=\"Gross Adds\",SUMIFS(Weekly_Data_Raw[GROSS_ADDS],Weekly_Data_Raw[TICKER],'Weekly Metrics'!$A11,Weekly_Data_Raw[END_DATE],'Weekly Metrics'!AQ$5), IF($B11=\"Churn\",SUMIFS(Weekly_Data_Raw[CHURNED_MEMBERS],Weekly_Data_Raw[TICKER],'Weekly Metrics'!$A11,Weekly_Data_Raw[END_DATE],'Weekly Metrics'!AQ$5)))))))","v":242370.86},{"$f":"IF($B11=\"Panel Sales\", SUMIFS(Weekly_Data_Raw[PANEL_AMOUNT],Weekly_Data_Raw[TICKER],'Weekly Metrics'!$A11,Weekly_Data_Raw[END_DATE],'Weekly Metrics'!AR$5),IF($B11=\"Transactions\",SUMIFS(Weekly_Data_Raw[PANEL_TRANSACTIONS],Weekly_Data_Raw[TICKER],'Weekly Metrics'!$A11,Weekly_Data_Raw[END_DATE],'Weekly Metrics'!AR$5), IF($B11=\"Avg Ticket\",SUMIFS(Weekly_Data_Raw[AVG_TICKET],Weekly_Data_Raw[TICKER],'Weekly Metrics'!$A11,Weekly_Data_Raw[END_DATE],'Weekly Metrics'!AR$5), IF($B11=\"EOP Subscribers\",SUMIFS(Weekly_Data_Raw[EOP_SUBSCRIBERS],Weekly_Data_Raw[TICKER],'Weekly Metrics'!$A11,Weekly_Data_Raw[END_DATE],'Weekly Metrics'!AR$5), IF($B11=\"Gross Adds\",SUMIFS(Weekly_Data_Raw[GROSS_ADDS],Weekly_Data_Raw[TICKER],'Weekly Metrics'!$A11,Weekly_Data_Raw[END_DATE],'Weekly Metrics'!AR$5), IF($B11=\"Churn\",SUMIFS(Weekly_Data_Raw[CHURNED_MEMBERS],Weekly_Data_Raw[TICKER],'Weekly Metrics'!$A11,Weekly_Data_Raw[END_DATE],'Weekly Metrics'!AR$5)))))))","v":247704.86},{"$f":"IF($B11=\"Panel Sales\", SUMIFS(Weekly_Data_Raw[PANEL_AMOUNT],Weekly_Data_Raw[TICKER],'Weekly Metrics'!$A11,Weekly_Data_Raw[END_DATE],'Weekly Metrics'!AS$5),IF($B11=\"Transactions\",SUMIFS(Weekly_Data_Raw[PANEL_TRANSACTIONS],Weekly_Data_Raw[TICKER],'Weekly Metrics'!$A11,Weekly_Data_Raw[END_DATE],'Weekly Metrics'!AS$5), IF($B11=\"Avg Ticket\",SUMIFS(Weekly_Data_Raw[AVG_TICKET],Weekly_Data_Raw[TICKER],'Weekly Metrics'!$A11,Weekly_Data_Raw[END_DATE],'Weekly Metrics'!AS$5), IF($B11=\"EOP Subscribers\",SUMIFS(Weekly_Data_Raw[EOP_SUBSCRIBERS],Weekly_Data_Raw[TICKER],'Weekly Metrics'!$A11,Weekly_Data_Raw[END_DATE],'Weekly Metrics'!AS$5), IF($B11=\"Gross Adds\",SUMIFS(Weekly_Data_Raw[GROSS_ADDS],Weekly_Data_Raw[TICKER],'Weekly Metrics'!$A11,Weekly_Data_Raw[END_DATE],'Weekly Metrics'!AS$5), IF($B11=\"Churn\",SUMIFS(Weekly_Data_Raw[CHURNED_MEMBERS],Weekly_Data_Raw[TICKER],'Weekly Metrics'!$A11,Weekly_Data_Raw[END_DATE],'Weekly Metrics'!AS$5)))))))","v":233753.15},{"$f":"IF($B11=\"Panel Sales\", SUMIFS(Weekly_Data_Raw[PANEL_AMOUNT],Weekly_Data_Raw[TICKER],'Weekly Metrics'!$A11,Weekly_Data_Raw[END_DATE],'Weekly Metrics'!AT$5),IF($B11=\"Transactions\",SUMIFS(Weekly_Data_Raw[PANEL_TRANSACTIONS],Weekly_Data_Raw[TICKER],'Weekly Metrics'!$A11,Weekly_Data_Raw[END_DATE],'Weekly Metrics'!AT$5), IF($B11=\"Avg Ticket\",SUMIFS(Weekly_Data_Raw[AVG_TICKET],Weekly_Data_Raw[TICKER],'Weekly Metrics'!$A11,Weekly_Data_Raw[END_DATE],'Weekly Metrics'!AT$5), IF($B11=\"EOP Subscribers\",SUMIFS(Weekly_Data_Raw[EOP_SUBSCRIBERS],Weekly_Data_Raw[TICKER],'Weekly Metrics'!$A11,Weekly_Data_Raw[END_DATE],'Weekly Metrics'!AT$5), IF($B11=\"Gross Adds\",SUMIFS(Weekly_Data_Raw[GROSS_ADDS],Weekly_Data_Raw[TICKER],'Weekly Metrics'!$A11,Weekly_Data_Raw[END_DATE],'Weekly Metrics'!AT$5), IF($B11=\"Churn\",SUMIFS(Weekly_Data_Raw[CHURNED_MEMBERS],Weekly_Data_Raw[TICKER],'Weekly Metrics'!$A11,Weekly_Data_Raw[END_DATE],'Weekly Metrics'!AT$5)))))))","v":240712.6},{"$f":"IF($B11=\"Panel Sales\", SUMIFS(Weekly_Data_Raw[PANEL_AMOUNT],Weekly_Data_Raw[TICKER],'Weekly Metrics'!$A11,Weekly_Data_Raw[END_DATE],'Weekly Metrics'!AU$5),IF($B11=\"Transactions\",SUMIFS(Weekly_Data_Raw[PANEL_TRANSACTIONS],Weekly_Data_Raw[TICKER],'Weekly Metrics'!$A11,Weekly_Data_Raw[END_DATE],'Weekly Metrics'!AU$5), IF($B11=\"Avg Ticket\",SUMIFS(Weekly_Data_Raw[AVG_TICKET],Weekly_Data_Raw[TICKER],'Weekly Metrics'!$A11,Weekly_Data_Raw[END_DATE],'Weekly Metrics'!AU$5), IF($B11=\"EOP Subscribers\",SUMIFS(Weekly_Data_Raw[EOP_SUBSCRIBERS],Weekly_Data_Raw[TICKER],'Weekly Metrics'!$A11,Weekly_Data_Raw[END_DATE],'Weekly Metrics'!AU$5), IF($B11=\"Gross Adds\",SUMIFS(Weekly_Data_Raw[GROSS_ADDS],Weekly_Data_Raw[TICKER],'Weekly Metrics'!$A11,Weekly_Data_Raw[END_DATE],'Weekly Metrics'!AU$5), IF($B11=\"Churn\",SUMIFS(Weekly_Data_Raw[CHURNED_MEMBERS],Weekly_Data_Raw[TICKER],'Weekly Metrics'!$A11,Weekly_Data_Raw[END_DATE],'Weekly Metrics'!AU$5)))))))","v":267676},{"$f":"IF($B11=\"Panel Sales\", SUMIFS(Weekly_Data_Raw[PANEL_AMOUNT],Weekly_Data_Raw[TICKER],'Weekly Metrics'!$A11,Weekly_Data_Raw[END_DATE],'Weekly Metrics'!AV$5),IF($B11=\"Transactions\",SUMIFS(Weekly_Data_Raw[PANEL_TRANSACTIONS],Weekly_Data_Raw[TICKER],'Weekly Metrics'!$A11,Weekly_Data_Raw[END_DATE],'Weekly Metrics'!AV$5), IF($B11=\"Avg Ticket\",SUMIFS(Weekly_Data_Raw[AVG_TICKET],Weekly_Data_Raw[TICKER],'Weekly Metrics'!$A11,Weekly_Data_Raw[END_DATE],'Weekly Metrics'!AV$5), IF($B11=\"EOP Subscribers\",SUMIFS(Weekly_Data_Raw[EOP_SUBSCRIBERS],Weekly_Data_Raw[TICKER],'Weekly Metrics'!$A11,Weekly_Data_Raw[END_DATE],'Weekly Metrics'!AV$5), IF($B11=\"Gross Adds\",SUMIFS(Weekly_Data_Raw[GROSS_ADDS],Weekly_Data_Raw[TICKER],'Weekly Metrics'!$A11,Weekly_Data_Raw[END_DATE],'Weekly Metrics'!AV$5), IF($B11=\"Churn\",SUMIFS(Weekly_Data_Raw[CHURNED_MEMBERS],Weekly_Data_Raw[TICKER],'Weekly Metrics'!$A11,Weekly_Data_Raw[END_DATE],'Weekly Metrics'!AV$5)))))))","v":251878.58},{"$f":"IF($B11=\"Panel Sales\", SUMIFS(Weekly_Data_Raw[PANEL_AMOUNT],Weekly_Data_Raw[TICKER],'Weekly Metrics'!$A11,Weekly_Data_Raw[END_DATE],'Weekly Metrics'!AW$5),IF($B11=\"Transactions\",SUMIFS(Weekly_Data_Raw[PANEL_TRANSACTIONS],Weekly_Data_Raw[TICKER],'Weekly Metrics'!$A11,Weekly_Data_Raw[END_DATE],'Weekly Metrics'!AW$5), IF($B11=\"Avg Ticket\",SUMIFS(Weekly_Data_Raw[AVG_TICKET],Weekly_Data_Raw[TICKER],'Weekly Metrics'!$A11,Weekly_Data_Raw[END_DATE],'Weekly Metrics'!AW$5), IF($B11=\"EOP Subscribers\",SUMIFS(Weekly_Data_Raw[EOP_SUBSCRIBERS],Weekly_Data_Raw[TICKER],'Weekly Metrics'!$A11,Weekly_Data_Raw[END_DATE],'Weekly Metrics'!AW$5), IF($B11=\"Gross Adds\",SUMIFS(Weekly_Data_Raw[GROSS_ADDS],Weekly_Data_Raw[TICKER],'Weekly Metrics'!$A11,Weekly_Data_Raw[END_DATE],'Weekly Metrics'!AW$5), IF($B11=\"Churn\",SUMIFS(Weekly_Data_Raw[CHURNED_MEMBERS],Weekly_Data_Raw[TICKER],'Weekly Metrics'!$A11,Weekly_Data_Raw[END_DATE],'Weekly Metrics'!AW$5)))))))","v":246791.47},{"$f":"IF($B11=\"Panel Sales\", SUMIFS(Weekly_Data_Raw[PANEL_AMOUNT],Weekly_Data_Raw[TICKER],'Weekly Metrics'!$A11,Weekly_Data_Raw[END_DATE],'Weekly Metrics'!AX$5),IF($B11=\"Transactions\",SUMIFS(Weekly_Data_Raw[PANEL_TRANSACTIONS],Weekly_Data_Raw[TICKER],'Weekly Metrics'!$A11,Weekly_Data_Raw[END_DATE],'Weekly Metrics'!AX$5), IF($B11=\"Avg Ticket\",SUMIFS(Weekly_Data_Raw[AVG_TICKET],Weekly_Data_Raw[TICKER],'Weekly Metrics'!$A11,Weekly_Data_Raw[END_DATE],'Weekly Metrics'!AX$5), IF($B11=\"EOP Subscribers\",SUMIFS(Weekly_Data_Raw[EOP_SUBSCRIBERS],Weekly_Data_Raw[TICKER],'Weekly Metrics'!$A11,Weekly_Data_Raw[END_DATE],'Weekly Metrics'!AX$5), IF($B11=\"Gross Adds\",SUMIFS(Weekly_Data_Raw[GROSS_ADDS],Weekly_Data_Raw[TICKER],'Weekly Metrics'!$A11,Weekly_Data_Raw[END_DATE],'Weekly Metrics'!AX$5), IF($B11=\"Churn\",SUMIFS(Weekly_Data_Raw[CHURNED_MEMBERS],Weekly_Data_Raw[TICKER],'Weekly Metrics'!$A11,Weekly_Data_Raw[END_DATE],'Weekly Metrics'!AX$5)))))))","v":254644.86},{"$f":"IF($B11=\"Panel Sales\", SUMIFS(Weekly_Data_Raw[PANEL_AMOUNT],Weekly_Data_Raw[TICKER],'Weekly Metrics'!$A11,Weekly_Data_Raw[END_DATE],'Weekly Metrics'!AY$5),IF($B11=\"Transactions\",SUMIFS(Weekly_Data_Raw[PANEL_TRANSACTIONS],Weekly_Data_Raw[TICKER],'Weekly Metrics'!$A11,Weekly_Data_Raw[END_DATE],'Weekly Metrics'!AY$5), IF($B11=\"Avg Ticket\",SUMIFS(Weekly_Data_Raw[AVG_TICKET],Weekly_Data_Raw[TICKER],'Weekly Metrics'!$A11,Weekly_Data_Raw[END_DATE],'Weekly Metrics'!AY$5), IF($B11=\"EOP Subscribers\",SUMIFS(Weekly_Data_Raw[EOP_SUBSCRIBERS],Weekly_Data_Raw[TICKER],'Weekly Metrics'!$A11,Weekly_Data_Raw[END_DATE],'Weekly Metrics'!AY$5), IF($B11=\"Gross Adds\",SUMIFS(Weekly_Data_Raw[GROSS_ADDS],Weekly_Data_Raw[TICKER],'Weekly Metrics'!$A11,Weekly_Data_Raw[END_DATE],'Weekly Metrics'!AY$5), IF($B11=\"Churn\",SUMIFS(Weekly_Data_Raw[CHURNED_MEMBERS],Weekly_Data_Raw[TICKER],'Weekly Metrics'!$A11,Weekly_Data_Raw[END_DATE],'Weekly Metrics'!AY$5)))))))","v":282400.83},{"$f":"IF($B11=\"Panel Sales\", SUMIFS(Weekly_Data_Raw[PANEL_AMOUNT],Weekly_Data_Raw[TICKER],'Weekly Metrics'!$A11,Weekly_Data_Raw[END_DATE],'Weekly Metrics'!AZ$5),IF($B11=\"Transactions\",SUMIFS(Weekly_Data_Raw[PANEL_TRANSACTIONS],Weekly_Data_Raw[TICKER],'Weekly Metrics'!$A11,Weekly_Data_Raw[END_DATE],'Weekly Metrics'!AZ$5), IF($B11=\"Avg Ticket\",SUMIFS(Weekly_Data_Raw[AVG_TICKET],Weekly_Data_Raw[TICKER],'Weekly Metrics'!$A11,Weekly_Data_Raw[END_DATE],'Weekly Metrics'!AZ$5), IF($B11=\"EOP Subscribers\",SUMIFS(Weekly_Data_Raw[EOP_SUBSCRIBERS],Weekly_Data_Raw[TICKER],'Weekly Metrics'!$A11,Weekly_Data_Raw[END_DATE],'Weekly Metrics'!AZ$5), IF($B11=\"Gross Adds\",SUMIFS(Weekly_Data_Raw[GROSS_ADDS],Weekly_Data_Raw[TICKER],'Weekly Metrics'!$A11,Weekly_Data_Raw[END_DATE],'Weekly Metrics'!AZ$5), IF($B11=\"Churn\",SUMIFS(Weekly_Data_Raw[CHURNED_MEMBERS],Weekly_Data_Raw[TICKER],'Weekly Metrics'!$A11,Weekly_Data_Raw[END_DATE],'Weekly Metrics'!AZ$5)))))))","v":245570.05},{"$f":"IF($B11=\"Panel Sales\", SUMIFS(Weekly_Data_Raw[PANEL_AMOUNT],Weekly_Data_Raw[TICKER],'Weekly Metrics'!$A11,Weekly_Data_Raw[END_DATE],'Weekly Metrics'!BA$5),IF($B11=\"Transactions\",SUMIFS(Weekly_Data_Raw[PANEL_TRANSACTIONS],Weekly_Data_Raw[TICKER],'Weekly Metrics'!$A11,Weekly_Data_Raw[END_DATE],'Weekly Metrics'!BA$5), IF($B11=\"Avg Ticket\",SUMIFS(Weekly_Data_Raw[AVG_TICKET],Weekly_Data_Raw[TICKER],'Weekly Metrics'!$A11,Weekly_Data_Raw[END_DATE],'Weekly Metrics'!BA$5), IF($B11=\"EOP Subscribers\",SUMIFS(Weekly_Data_Raw[EOP_SUBSCRIBERS],Weekly_Data_Raw[TICKER],'Weekly Metrics'!$A11,Weekly_Data_Raw[END_DATE],'Weekly Metrics'!BA$5), IF($B11=\"Gross Adds\",SUMIFS(Weekly_Data_Raw[GROSS_ADDS],Weekly_Data_Raw[TICKER],'Weekly Metrics'!$A11,Weekly_Data_Raw[END_DATE],'Weekly Metrics'!BA$5), IF($B11=\"Churn\",SUMIFS(Weekly_Data_Raw[CHURNED_MEMBERS],Weekly_Data_Raw[TICKER],'Weekly Metrics'!$A11,Weekly_Data_Raw[END_DATE],'Weekly Metrics'!BA$5)))))))","v":255715.61},{"$f":"IF($B11=\"Panel Sales\", SUMIFS(Weekly_Data_Raw[PANEL_AMOUNT],Weekly_Data_Raw[TICKER],'Weekly Metrics'!$A11,Weekly_Data_Raw[END_DATE],'Weekly Metrics'!BB$5),IF($B11=\"Transactions\",SUMIFS(Weekly_Data_Raw[PANEL_TRANSACTIONS],Weekly_Data_Raw[TICKER],'Weekly Metrics'!$A11,Weekly_Data_Raw[END_DATE],'Weekly Metrics'!BB$5), IF($B11=\"Avg Ticket\",SUMIFS(Weekly_Data_Raw[AVG_TICKET],Weekly_Data_Raw[TICKER],'Weekly Metrics'!$A11,Weekly_Data_Raw[END_DATE],'Weekly Metrics'!BB$5), IF($B11=\"EOP Subscribers\",SUMIFS(Weekly_Data_Raw[EOP_SUBSCRIBERS],Weekly_Data_Raw[TICKER],'Weekly Metrics'!$A11,Weekly_Data_Raw[END_DATE],'Weekly Metrics'!BB$5), IF($B11=\"Gross Adds\",SUMIFS(Weekly_Data_Raw[GROSS_ADDS],Weekly_Data_Raw[TICKER],'Weekly Metrics'!$A11,Weekly_Data_Raw[END_DATE],'Weekly Metrics'!BB$5), IF($B11=\"Churn\",SUMIFS(Weekly_Data_Raw[CHURNED_MEMBERS],Weekly_Data_Raw[TICKER],'Weekly Metrics'!$A11,Weekly_Data_Raw[END_DATE],'Weekly Metrics'!BB$5)))))))","v":210212.67},{"$f":"IF($B11=\"Panel Sales\", SUMIFS(Weekly_Data_Raw[PANEL_AMOUNT],Weekly_Data_Raw[TICKER],'Weekly Metrics'!$A11,Weekly_Data_Raw[END_DATE],'Weekly Metrics'!BC$5),IF($B11=\"Transactions\",SUMIFS(Weekly_Data_Raw[PANEL_TRANSACTIONS],Weekly_Data_Raw[TICKER],'Weekly Metrics'!$A11,Weekly_Data_Raw[END_DATE],'Weekly Metrics'!BC$5), IF($B11=\"Avg Ticket\",SUMIFS(Weekly_Data_Raw[AVG_TICKET],Weekly_Data_Raw[TICKER],'Weekly Metrics'!$A11,Weekly_Data_Raw[END_DATE],'Weekly Metrics'!BC$5), IF($B11=\"EOP Subscribers\",SUMIFS(Weekly_Data_Raw[EOP_SUBSCRIBERS],Weekly_Data_Raw[TICKER],'Weekly Metrics'!$A11,Weekly_Data_Raw[END_DATE],'Weekly Metrics'!BC$5), IF($B11=\"Gross Adds\",SUMIFS(Weekly_Data_Raw[GROSS_ADDS],Weekly_Data_Raw[TICKER],'Weekly Metrics'!$A11,Weekly_Data_Raw[END_DATE],'Weekly Metrics'!BC$5), IF($B11=\"Churn\",SUMIFS(Weekly_Data_Raw[CHURNED_MEMBERS],Weekly_Data_Raw[TICKER],'Weekly Metrics'!$A11,Weekly_Data_Raw[END_DATE],'Weekly Metrics'!BC$5)))))))","v":263191.21999999997},{"$f":"IF($B11=\"Panel Sales\", SUMIFS(Weekly_Data_Raw[PANEL_AMOUNT],Weekly_Data_Raw[TICKER],'Weekly Metrics'!$A11,Weekly_Data_Raw[END_DATE],'Weekly Metrics'!BD$5),IF($B11=\"Transactions\",SUMIFS(Weekly_Data_Raw[PANEL_TRANSACTIONS],Weekly_Data_Raw[TICKER],'Weekly Metrics'!$A11,Weekly_Data_Raw[END_DATE],'Weekly Metrics'!BD$5), IF($B11=\"Avg Ticket\",SUMIFS(Weekly_Data_Raw[AVG_TICKET],Weekly_Data_Raw[TICKER],'Weekly Metrics'!$A11,Weekly_Data_Raw[END_DATE],'Weekly Metrics'!BD$5), IF($B11=\"EOP Subscribers\",SUMIFS(Weekly_Data_Raw[EOP_SUBSCRIBERS],Weekly_Data_Raw[TICKER],'Weekly Metrics'!$A11,Weekly_Data_Raw[END_DATE],'Weekly Metrics'!BD$5), IF($B11=\"Gross Adds\",SUMIFS(Weekly_Data_Raw[GROSS_ADDS],Weekly_Data_Raw[TICKER],'Weekly Metrics'!$A11,Weekly_Data_Raw[END_DATE],'Weekly Metrics'!BD$5), IF($B11=\"Churn\",SUMIFS(Weekly_Data_Raw[CHURNED_MEMBERS],Weekly_Data_Raw[TICKER],'Weekly Metrics'!$A11,Weekly_Data_Raw[END_DATE],'Weekly Metrics'!BD$5)))))))","v":255171.95},{"$f":"IF($B11=\"Panel Sales\", SUMIFS(Weekly_Data_Raw[PANEL_AMOUNT],Weekly_Data_Raw[TICKER],'Weekly Metrics'!$A11,Weekly_Data_Raw[END_DATE],'Weekly Metrics'!BE$5),IF($B11=\"Transactions\",SUMIFS(Weekly_Data_Raw[PANEL_TRANSACTIONS],Weekly_Data_Raw[TICKER],'Weekly Metrics'!$A11,Weekly_Data_Raw[END_DATE],'Weekly Metrics'!BE$5), IF($B11=\"Avg Ticket\",SUMIFS(Weekly_Data_Raw[AVG_TICKET],Weekly_Data_Raw[TICKER],'Weekly Metrics'!$A11,Weekly_Data_Raw[END_DATE],'Weekly Metrics'!BE$5), IF($B11=\"EOP Subscribers\",SUMIFS(Weekly_Data_Raw[EOP_SUBSCRIBERS],Weekly_Data_Raw[TICKER],'Weekly Metrics'!$A11,Weekly_Data_Raw[END_DATE],'Weekly Metrics'!BE$5), IF($B11=\"Gross Adds\",SUMIFS(Weekly_Data_Raw[GROSS_ADDS],Weekly_Data_Raw[TICKER],'Weekly Metrics'!$A11,Weekly_Data_Raw[END_DATE],'Weekly Metrics'!BE$5), IF($B11=\"Churn\",SUMIFS(Weekly_Data_Raw[CHURNED_MEMBERS],Weekly_Data_Raw[TICKER],'Weekly Metrics'!$A11,Weekly_Data_Raw[END_DATE],'Weekly Metrics'!BE$5)))))))","v":259806.83},{"$f":"IF($B11=\"Panel Sales\", SUMIFS(Weekly_Data_Raw[PANEL_AMOUNT],Weekly_Data_Raw[TICKER],'Weekly Metrics'!$A11,Weekly_Data_Raw[END_DATE],'Weekly Metrics'!BF$5),IF($B11=\"Transactions\",SUMIFS(Weekly_Data_Raw[PANEL_TRANSACTIONS],Weekly_Data_Raw[TICKER],'Weekly Metrics'!$A11,Weekly_Data_Raw[END_DATE],'Weekly Metrics'!BF$5), IF($B11=\"Avg Ticket\",SUMIFS(Weekly_Data_Raw[AVG_TICKET],Weekly_Data_Raw[TICKER],'Weekly Metrics'!$A11,Weekly_Data_Raw[END_DATE],'Weekly Metrics'!BF$5), IF($B11=\"EOP Subscribers\",SUMIFS(Weekly_Data_Raw[EOP_SUBSCRIBERS],Weekly_Data_Raw[TICKER],'Weekly Metrics'!$A11,Weekly_Data_Raw[END_DATE],'Weekly Metrics'!BF$5), IF($B11=\"Gross Adds\",SUMIFS(Weekly_Data_Raw[GROSS_ADDS],Weekly_Data_Raw[TICKER],'Weekly Metrics'!$A11,Weekly_Data_Raw[END_DATE],'Weekly Metrics'!BF$5), IF($B11=\"Churn\",SUMIFS(Weekly_Data_Raw[CHURNED_MEMBERS],Weekly_Data_Raw[TICKER],'Weekly Metrics'!$A11,Weekly_Data_Raw[END_DATE],'Weekly Metrics'!BF$5)))))))","v":227239.36},{"$f":"IF($B11=\"Panel Sales\", SUMIFS(Weekly_Data_Raw[PANEL_AMOUNT],Weekly_Data_Raw[TICKER],'Weekly Metrics'!$A11,Weekly_Data_Raw[END_DATE],'Weekly Metrics'!BG$5),IF($B11=\"Transactions\",SUMIFS(Weekly_Data_Raw[PANEL_TRANSACTIONS],Weekly_Data_Raw[TICKER],'Weekly Metrics'!$A11,Weekly_Data_Raw[END_DATE],'Weekly Metrics'!BG$5), IF($B11=\"Avg Ticket\",SUMIFS(Weekly_Data_Raw[AVG_TICKET],Weekly_Data_Raw[TICKER],'Weekly Metrics'!$A11,Weekly_Data_Raw[END_DATE],'Weekly Metrics'!BG$5), IF($B11=\"EOP Subscribers\",SUMIFS(Weekly_Data_Raw[EOP_SUBSCRIBERS],Weekly_Data_Raw[TICKER],'Weekly Metrics'!$A11,Weekly_Data_Raw[END_DATE],'Weekly Metrics'!BG$5), IF($B11=\"Gross Adds\",SUMIFS(Weekly_Data_Raw[GROSS_ADDS],Weekly_Data_Raw[TICKER],'Weekly Metrics'!$A11,Weekly_Data_Raw[END_DATE],'Weekly Metrics'!BG$5), IF($B11=\"Churn\",SUMIFS(Weekly_Data_Raw[CHURNED_MEMBERS],Weekly_Data_Raw[TICKER],'Weekly Metrics'!$A11,Weekly_Data_Raw[END_DATE],'Weekly Metrics'!BG$5)))))))","v":240761.67},{"$f":"IF($B11=\"Panel Sales\", SUMIFS(Weekly_Data_Raw[PANEL_AMOUNT],Weekly_Data_Raw[TICKER],'Weekly Metrics'!$A11,Weekly_Data_Raw[END_DATE],'Weekly Metrics'!BH$5),IF($B11=\"Transactions\",SUMIFS(Weekly_Data_Raw[PANEL_TRANSACTIONS],Weekly_Data_Raw[TICKER],'Weekly Metrics'!$A11,Weekly_Data_Raw[END_DATE],'Weekly Metrics'!BH$5), IF($B11=\"Avg Ticket\",SUMIFS(Weekly_Data_Raw[AVG_TICKET],Weekly_Data_Raw[TICKER],'Weekly Metrics'!$A11,Weekly_Data_Raw[END_DATE],'Weekly Metrics'!BH$5), IF($B11=\"EOP Subscribers\",SUMIFS(Weekly_Data_Raw[EOP_SUBSCRIBERS],Weekly_Data_Raw[TICKER],'Weekly Metrics'!$A11,Weekly_Data_Raw[END_DATE],'Weekly Metrics'!BH$5), IF($B11=\"Gross Adds\",SUMIFS(Weekly_Data_Raw[GROSS_ADDS],Weekly_Data_Raw[TICKER],'Weekly Metrics'!$A11,Weekly_Data_Raw[END_DATE],'Weekly Metrics'!BH$5), IF($B11=\"Churn\",SUMIFS(Weekly_Data_Raw[CHURNED_MEMBERS],Weekly_Data_Raw[TICKER],'Weekly Metrics'!$A11,Weekly_Data_Raw[END_DATE],'Weekly Metrics'!BH$5)))))))","v":279150.53999999998},{"$f":"IF($B11=\"Panel Sales\", SUMIFS(Weekly_Data_Raw[PANEL_AMOUNT],Weekly_Data_Raw[TICKER],'Weekly Metrics'!$A11,Weekly_Data_Raw[END_DATE],'Weekly Metrics'!BI$5),IF($B11=\"Transactions\",SUMIFS(Weekly_Data_Raw[PANEL_TRANSACTIONS],Weekly_Data_Raw[TICKER],'Weekly Metrics'!$A11,Weekly_Data_Raw[END_DATE],'Weekly Metrics'!BI$5), IF($B11=\"Avg Ticket\",SUMIFS(Weekly_Data_Raw[AVG_TICKET],Weekly_Data_Raw[TICKER],'Weekly Metrics'!$A11,Weekly_Data_Raw[END_DATE],'Weekly Metrics'!BI$5), IF($B11=\"EOP Subscribers\",SUMIFS(Weekly_Data_Raw[EOP_SUBSCRIBERS],Weekly_Data_Raw[TICKER],'Weekly Metrics'!$A11,Weekly_Data_Raw[END_DATE],'Weekly Metrics'!BI$5), IF($B11=\"Gross Adds\",SUMIFS(Weekly_Data_Raw[GROSS_ADDS],Weekly_Data_Raw[TICKER],'Weekly Metrics'!$A11,Weekly_Data_Raw[END_DATE],'Weekly Metrics'!BI$5), IF($B11=\"Churn\",SUMIFS(Weekly_Data_Raw[CHURNED_MEMBERS],Weekly_Data_Raw[TICKER],'Weekly Metrics'!$A11,Weekly_Data_Raw[END_DATE],'Weekly Metrics'!BI$5)))))))","v":234145.01},{"$f":"IF($B11=\"Panel Sales\", SUMIFS(Weekly_Data_Raw[PANEL_AMOUNT],Weekly_Data_Raw[TICKER],'Weekly Metrics'!$A11,Weekly_Data_Raw[END_DATE],'Weekly Metrics'!BJ$5),IF($B11=\"Transactions\",SUMIFS(Weekly_Data_Raw[PANEL_TRANSACTIONS],Weekly_Data_Raw[TICKER],'Weekly Metrics'!$A11,Weekly_Data_Raw[END_DATE],'Weekly Metrics'!BJ$5), IF($B11=\"Avg Ticket\",SUMIFS(Weekly_Data_Raw[AVG_TICKET],Weekly_Data_Raw[TICKER],'Weekly Metrics'!$A11,Weekly_Data_Raw[END_DATE],'Weekly Metrics'!BJ$5), IF($B11=\"EOP Subscribers\",SUMIFS(Weekly_Data_Raw[EOP_SUBSCRIBERS],Weekly_Data_Raw[TICKER],'Weekly Metrics'!$A11,Weekly_Data_Raw[END_DATE],'Weekly Metrics'!BJ$5), IF($B11=\"Gross Adds\",SUMIFS(Weekly_Data_Raw[GROSS_ADDS],Weekly_Data_Raw[TICKER],'Weekly Metrics'!$A11,Weekly_Data_Raw[END_DATE],'Weekly Metrics'!BJ$5), IF($B11=\"Churn\",SUMIFS(Weekly_Data_Raw[CHURNED_MEMBERS],Weekly_Data_Raw[TICKER],'Weekly Metrics'!$A11,Weekly_Data_Raw[END_DATE],'Weekly Metrics'!BJ$5)))))))","v":257160.08},{"$f":"IF($B11=\"Panel Sales\", SUMIFS(Weekly_Data_Raw[PANEL_AMOUNT],Weekly_Data_Raw[TICKER],'Weekly Metrics'!$A11,Weekly_Data_Raw[END_DATE],'Weekly Metrics'!BK$5),IF($B11=\"Transactions\",SUMIFS(Weekly_Data_Raw[PANEL_TRANSACTIONS],Weekly_Data_Raw[TICKER],'Weekly Metrics'!$A11,Weekly_Data_Raw[END_DATE],'Weekly Metrics'!BK$5), IF($B11=\"Avg Ticket\",SUMIFS(Weekly_Data_Raw[AVG_TICKET],Weekly_Data_Raw[TICKER],'Weekly Metrics'!$A11,Weekly_Data_Raw[END_DATE],'Weekly Metrics'!BK$5), IF($B11=\"EOP Subscribers\",SUMIFS(Weekly_Data_Raw[EOP_SUBSCRIBERS],Weekly_Data_Raw[TICKER],'Weekly Metrics'!$A11,Weekly_Data_Raw[END_DATE],'Weekly Metrics'!BK$5), IF($B11=\"Gross Adds\",SUMIFS(Weekly_Data_Raw[GROSS_ADDS],Weekly_Data_Raw[TICKER],'Weekly Metrics'!$A11,Weekly_Data_Raw[END_DATE],'Weekly Metrics'!BK$5), IF($B11=\"Churn\",SUMIFS(Weekly_Data_Raw[CHURNED_MEMBERS],Weekly_Data_Raw[TICKER],'Weekly Metrics'!$A11,Weekly_Data_Raw[END_DATE],'Weekly Metrics'!BK$5)))))))","v":267779.84000000003},{"$f":"IF($B11=\"Panel Sales\", SUMIFS(Weekly_Data_Raw[PANEL_AMOUNT],Weekly_Data_Raw[TICKER],'Weekly Metrics'!$A11,Weekly_Data_Raw[END_DATE],'Weekly Metrics'!BL$5),IF($B11=\"Transactions\",SUMIFS(Weekly_Data_Raw[PANEL_TRANSACTIONS],Weekly_Data_Raw[TICKER],'Weekly Metrics'!$A11,Weekly_Data_Raw[END_DATE],'Weekly Metrics'!BL$5), IF($B11=\"Avg Ticket\",SUMIFS(Weekly_Data_Raw[AVG_TICKET],Weekly_Data_Raw[TICKER],'Weekly Metrics'!$A11,Weekly_Data_Raw[END_DATE],'Weekly Metrics'!BL$5), IF($B11=\"EOP Subscribers\",SUMIFS(Weekly_Data_Raw[EOP_SUBSCRIBERS],Weekly_Data_Raw[TICKER],'Weekly Metrics'!$A11,Weekly_Data_Raw[END_DATE],'Weekly Metrics'!BL$5), IF($B11=\"Gross Adds\",SUMIFS(Weekly_Data_Raw[GROSS_ADDS],Weekly_Data_Raw[TICKER],'Weekly Metrics'!$A11,Weekly_Data_Raw[END_DATE],'Weekly Metrics'!BL$5), IF($B11=\"Churn\",SUMIFS(Weekly_Data_Raw[CHURNED_MEMBERS],Weekly_Data_Raw[TICKER],'Weekly Metrics'!$A11,Weekly_Data_Raw[END_DATE],'Weekly Metrics'!BL$5)))))))","v":298919.12},{"$f":"IF($B11=\"Panel Sales\", SUMIFS(Weekly_Data_Raw[PANEL_AMOUNT],Weekly_Data_Raw[TICKER],'Weekly Metrics'!$A11,Weekly_Data_Raw[END_DATE],'Weekly Metrics'!BM$5),IF($B11=\"Transactions\",SUMIFS(Weekly_Data_Raw[PANEL_TRANSACTIONS],Weekly_Data_Raw[TICKER],'Weekly Metrics'!$A11,Weekly_Data_Raw[END_DATE],'Weekly Metrics'!BM$5), IF($B11=\"Avg Ticket\",SUMIFS(Weekly_Data_Raw[AVG_TICKET],Weekly_Data_Raw[TICKER],'Weekly Metrics'!$A11,Weekly_Data_Raw[END_DATE],'Weekly Metrics'!BM$5), IF($B11=\"EOP Subscribers\",SUMIFS(Weekly_Data_Raw[EOP_SUBSCRIBERS],Weekly_Data_Raw[TICKER],'Weekly Metrics'!$A11,Weekly_Data_Raw[END_DATE],'Weekly Metrics'!BM$5), IF($B11=\"Gross Adds\",SUMIFS(Weekly_Data_Raw[GROSS_ADDS],Weekly_Data_Raw[TICKER],'Weekly Metrics'!$A11,Weekly_Data_Raw[END_DATE],'Weekly Metrics'!BM$5), IF($B11=\"Churn\",SUMIFS(Weekly_Data_Raw[CHURNED_MEMBERS],Weekly_Data_Raw[TICKER],'Weekly Metrics'!$A11,Weekly_Data_Raw[END_DATE],'Weekly Metrics'!BM$5)))))))","v":247575.76},{"$f":"IF($B11=\"Panel Sales\", SUMIFS(Weekly_Data_Raw[PANEL_AMOUNT],Weekly_Data_Raw[TICKER],'Weekly Metrics'!$A11,Weekly_Data_Raw[END_DATE],'Weekly Metrics'!BN$5),IF($B11=\"Transactions\",SUMIFS(Weekly_Data_Raw[PANEL_TRANSACTIONS],Weekly_Data_Raw[TICKER],'Weekly Metrics'!$A11,Weekly_Data_Raw[END_DATE],'Weekly Metrics'!BN$5), IF($B11=\"Avg Ticket\",SUMIFS(Weekly_Data_Raw[AVG_TICKET],Weekly_Data_Raw[TICKER],'Weekly Metrics'!$A11,Weekly_Data_Raw[END_DATE],'Weekly Metrics'!BN$5), IF($B11=\"EOP Subscribers\",SUMIFS(Weekly_Data_Raw[EOP_SUBSCRIBERS],Weekly_Data_Raw[TICKER],'Weekly Metrics'!$A11,Weekly_Data_Raw[END_DATE],'Weekly Metrics'!BN$5), IF($B11=\"Gross Adds\",SUMIFS(Weekly_Data_Raw[GROSS_ADDS],Weekly_Data_Raw[TICKER],'Weekly Metrics'!$A11,Weekly_Data_Raw[END_DATE],'Weekly Metrics'!BN$5), IF($B11=\"Churn\",SUMIFS(Weekly_Data_Raw[CHURNED_MEMBERS],Weekly_Data_Raw[TICKER],'Weekly Metrics'!$A11,Weekly_Data_Raw[END_DATE],'Weekly Metrics'!BN$5)))))))","v":239951.55},{"$f":"IF($B11=\"Panel Sales\", SUMIFS(Weekly_Data_Raw[PANEL_AMOUNT],Weekly_Data_Raw[TICKER],'Weekly Metrics'!$A11,Weekly_Data_Raw[END_DATE],'Weekly Metrics'!BO$5),IF($B11=\"Transactions\",SUMIFS(Weekly_Data_Raw[PANEL_TRANSACTIONS],Weekly_Data_Raw[TICKER],'Weekly Metrics'!$A11,Weekly_Data_Raw[END_DATE],'Weekly Metrics'!BO$5), IF($B11=\"Avg Ticket\",SUMIFS(Weekly_Data_Raw[AVG_TICKET],Weekly_Data_Raw[TICKER],'Weekly Metrics'!$A11,Weekly_Data_Raw[END_DATE],'Weekly Metrics'!BO$5), IF($B11=\"EOP Subscribers\",SUMIFS(Weekly_Data_Raw[EOP_SUBSCRIBERS],Weekly_Data_Raw[TICKER],'Weekly Metrics'!$A11,Weekly_Data_Raw[END_DATE],'Weekly Metrics'!BO$5), IF($B11=\"Gross Adds\",SUMIFS(Weekly_Data_Raw[GROSS_ADDS],Weekly_Data_Raw[TICKER],'Weekly Metrics'!$A11,Weekly_Data_Raw[END_DATE],'Weekly Metrics'!BO$5), IF($B11=\"Churn\",SUMIFS(Weekly_Data_Raw[CHURNED_MEMBERS],Weekly_Data_Raw[TICKER],'Weekly Metrics'!$A11,Weekly_Data_Raw[END_DATE],'Weekly Metrics'!BO$5)))))))","v":230792.07},{"$f":"IF($B11=\"Panel Sales\", SUMIFS(Weekly_Data_Raw[PANEL_AMOUNT],Weekly_Data_Raw[TICKER],'Weekly Metrics'!$A11,Weekly_Data_Raw[END_DATE],'Weekly Metrics'!BP$5),IF($B11=\"Transactions\",SUMIFS(Weekly_Data_Raw[PANEL_TRANSACTIONS],Weekly_Data_Raw[TICKER],'Weekly Metrics'!$A11,Weekly_Data_Raw[END_DATE],'Weekly Metrics'!BP$5), IF($B11=\"Avg Ticket\",SUMIFS(Weekly_Data_Raw[AVG_TICKET],Weekly_Data_Raw[TICKER],'Weekly Metrics'!$A11,Weekly_Data_Raw[END_DATE],'Weekly Metrics'!BP$5), IF($B11=\"EOP Subscribers\",SUMIFS(Weekly_Data_Raw[EOP_SUBSCRIBERS],Weekly_Data_Raw[TICKER],'Weekly Metrics'!$A11,Weekly_Data_Raw[END_DATE],'Weekly Metrics'!BP$5), IF($B11=\"Gross Adds\",SUMIFS(Weekly_Data_Raw[GROSS_ADDS],Weekly_Data_Raw[TICKER],'Weekly Metrics'!$A11,Weekly_Data_Raw[END_DATE],'Weekly Metrics'!BP$5), IF($B11=\"Churn\",SUMIFS(Weekly_Data_Raw[CHURNED_MEMBERS],Weekly_Data_Raw[TICKER],'Weekly Metrics'!$A11,Weekly_Data_Raw[END_DATE],'Weekly Metrics'!BP$5)))))))","v":271657.07},{"$f":"IF($B11=\"Panel Sales\", SUMIFS(Weekly_Data_Raw[PANEL_AMOUNT],Weekly_Data_Raw[TICKER],'Weekly Metrics'!$A11,Weekly_Data_Raw[END_DATE],'Weekly Metrics'!BQ$5),IF($B11=\"Transactions\",SUMIFS(Weekly_Data_Raw[PANEL_TRANSACTIONS],Weekly_Data_Raw[TICKER],'Weekly Metrics'!$A11,Weekly_Data_Raw[END_DATE],'Weekly Metrics'!BQ$5), IF($B11=\"Avg Ticket\",SUMIFS(Weekly_Data_Raw[AVG_TICKET],Weekly_Data_Raw[TICKER],'Weekly Metrics'!$A11,Weekly_Data_Raw[END_DATE],'Weekly Metrics'!BQ$5), IF($B11=\"EOP Subscribers\",SUMIFS(Weekly_Data_Raw[EOP_SUBSCRIBERS],Weekly_Data_Raw[TICKER],'Weekly Metrics'!$A11,Weekly_Data_Raw[END_DATE],'Weekly Metrics'!BQ$5), IF($B11=\"Gross Adds\",SUMIFS(Weekly_Data_Raw[GROSS_ADDS],Weekly_Data_Raw[TICKER],'Weekly Metrics'!$A11,Weekly_Data_Raw[END_DATE],'Weekly Metrics'!BQ$5), IF($B11=\"Churn\",SUMIFS(Weekly_Data_Raw[CHURNED_MEMBERS],Weekly_Data_Raw[TICKER],'Weekly Metrics'!$A11,Weekly_Data_Raw[END_DATE],'Weekly Metrics'!BQ$5)))))))","v":246958.38},{"$f":"IF($B11=\"Panel Sales\", SUMIFS(Weekly_Data_Raw[PANEL_AMOUNT],Weekly_Data_Raw[TICKER],'Weekly Metrics'!$A11,Weekly_Data_Raw[END_DATE],'Weekly Metrics'!BR$5),IF($B11=\"Transactions\",SUMIFS(Weekly_Data_Raw[PANEL_TRANSACTIONS],Weekly_Data_Raw[TICKER],'Weekly Metrics'!$A11,Weekly_Data_Raw[END_DATE],'Weekly Metrics'!BR$5), IF($B11=\"Avg Ticket\",SUMIFS(Weekly_Data_Raw[AVG_TICKET],Weekly_Data_Raw[TICKER],'Weekly Metrics'!$A11,Weekly_Data_Raw[END_DATE],'Weekly Metrics'!BR$5), IF($B11=\"EOP Subscribers\",SUMIFS(Weekly_Data_Raw[EOP_SUBSCRIBERS],Weekly_Data_Raw[TICKER],'Weekly Metrics'!$A11,Weekly_Data_Raw[END_DATE],'Weekly Metrics'!BR$5), IF($B11=\"Gross Adds\",SUMIFS(Weekly_Data_Raw[GROSS_ADDS],Weekly_Data_Raw[TICKER],'Weekly Metrics'!$A11,Weekly_Data_Raw[END_DATE],'Weekly Metrics'!BR$5), IF($B11=\"Churn\",SUMIFS(Weekly_Data_Raw[CHURNED_MEMBERS],Weekly_Data_Raw[TICKER],'Weekly Metrics'!$A11,Weekly_Data_Raw[END_DATE],'Weekly Metrics'!BR$5)))))))","v":252336.25},{"$f":"IF($B11=\"Panel Sales\", SUMIFS(Weekly_Data_Raw[PANEL_AMOUNT],Weekly_Data_Raw[TICKER],'Weekly Metrics'!$A11,Weekly_Data_Raw[END_DATE],'Weekly Metrics'!BS$5),IF($B11=\"Transactions\",SUMIFS(Weekly_Data_Raw[PANEL_TRANSACTIONS],Weekly_Data_Raw[TICKER],'Weekly Metrics'!$A11,Weekly_Data_Raw[END_DATE],'Weekly Metrics'!BS$5), IF($B11=\"Avg Ticket\",SUMIFS(Weekly_Data_Raw[AVG_TICKET],Weekly_Data_Raw[TICKER],'Weekly Metrics'!$A11,Weekly_Data_Raw[END_DATE],'Weekly Metrics'!BS$5), IF($B11=\"EOP Subscribers\",SUMIFS(Weekly_Data_Raw[EOP_SUBSCRIBERS],Weekly_Data_Raw[TICKER],'Weekly Metrics'!$A11,Weekly_Data_Raw[END_DATE],'Weekly Metrics'!BS$5), IF($B11=\"Gross Adds\",SUMIFS(Weekly_Data_Raw[GROSS_ADDS],Weekly_Data_Raw[TICKER],'Weekly Metrics'!$A11,Weekly_Data_Raw[END_DATE],'Weekly Metrics'!BS$5), IF($B11=\"Churn\",SUMIFS(Weekly_Data_Raw[CHURNED_MEMBERS],Weekly_Data_Raw[TICKER],'Weekly Metrics'!$A11,Weekly_Data_Raw[END_DATE],'Weekly Metrics'!BS$5)))))))","v":237441.36},{"$f":"IF($B11=\"Panel Sales\", SUMIFS(Weekly_Data_Raw[PANEL_AMOUNT],Weekly_Data_Raw[TICKER],'Weekly Metrics'!$A11,Weekly_Data_Raw[END_DATE],'Weekly Metrics'!BT$5),IF($B11=\"Transactions\",SUMIFS(Weekly_Data_Raw[PANEL_TRANSACTIONS],Weekly_Data_Raw[TICKER],'Weekly Metrics'!$A11,Weekly_Data_Raw[END_DATE],'Weekly Metrics'!BT$5), IF($B11=\"Avg Ticket\",SUMIFS(Weekly_Data_Raw[AVG_TICKET],Weekly_Data_Raw[TICKER],'Weekly Metrics'!$A11,Weekly_Data_Raw[END_DATE],'Weekly Metrics'!BT$5), IF($B11=\"EOP Subscribers\",SUMIFS(Weekly_Data_Raw[EOP_SUBSCRIBERS],Weekly_Data_Raw[TICKER],'Weekly Metrics'!$A11,Weekly_Data_Raw[END_DATE],'Weekly Metrics'!BT$5), IF($B11=\"Gross Adds\",SUMIFS(Weekly_Data_Raw[GROSS_ADDS],Weekly_Data_Raw[TICKER],'Weekly Metrics'!$A11,Weekly_Data_Raw[END_DATE],'Weekly Metrics'!BT$5), IF($B11=\"Churn\",SUMIFS(Weekly_Data_Raw[CHURNED_MEMBERS],Weekly_Data_Raw[TICKER],'Weekly Metrics'!$A11,Weekly_Data_Raw[END_DATE],'Weekly Metrics'!BT$5)))))))","v":271146.71999999997},{"$f":"IF($B11=\"Panel Sales\", SUMIFS(Weekly_Data_Raw[PANEL_AMOUNT],Weekly_Data_Raw[TICKER],'Weekly Metrics'!$A11,Weekly_Data_Raw[END_DATE],'Weekly Metrics'!BU$5),IF($B11=\"Transactions\",SUMIFS(Weekly_Data_Raw[PANEL_TRANSACTIONS],Weekly_Data_Raw[TICKER],'Weekly Metrics'!$A11,Weekly_Data_Raw[END_DATE],'Weekly Metrics'!BU$5), IF($B11=\"Avg Ticket\",SUMIFS(Weekly_Data_Raw[AVG_TICKET],Weekly_Data_Raw[TICKER],'Weekly Metrics'!$A11,Weekly_Data_Raw[END_DATE],'Weekly Metrics'!BU$5), IF($B11=\"EOP Subscribers\",SUMIFS(Weekly_Data_Raw[EOP_SUBSCRIBERS],Weekly_Data_Raw[TICKER],'Weekly Metrics'!$A11,Weekly_Data_Raw[END_DATE],'Weekly Metrics'!BU$5), IF($B11=\"Gross Adds\",SUMIFS(Weekly_Data_Raw[GROSS_ADDS],Weekly_Data_Raw[TICKER],'Weekly Metrics'!$A11,Weekly_Data_Raw[END_DATE],'Weekly Metrics'!BU$5), IF($B11=\"Churn\",SUMIFS(Weekly_Data_Raw[CHURNED_MEMBERS],Weekly_Data_Raw[TICKER],'Weekly Metrics'!$A11,Weekly_Data_Raw[END_DATE],'Weekly Metrics'!BU$5)))))))","v":266439.83},{"$f":"IF($B11=\"Panel Sales\", SUMIFS(Weekly_Data_Raw[PANEL_AMOUNT],Weekly_Data_Raw[TICKER],'Weekly Metrics'!$A11,Weekly_Data_Raw[END_DATE],'Weekly Metrics'!BV$5),IF($B11=\"Transactions\",SUMIFS(Weekly_Data_Raw[PANEL_TRANSACTIONS],Weekly_Data_Raw[TICKER],'Weekly Metrics'!$A11,Weekly_Data_Raw[END_DATE],'Weekly Metrics'!BV$5), IF($B11=\"Avg Ticket\",SUMIFS(Weekly_Data_Raw[AVG_TICKET],Weekly_Data_Raw[TICKER],'Weekly Metrics'!$A11,Weekly_Data_Raw[END_DATE],'Weekly Metrics'!BV$5), IF($B11=\"EOP Subscribers\",SUMIFS(Weekly_Data_Raw[EOP_SUBSCRIBERS],Weekly_Data_Raw[TICKER],'Weekly Metrics'!$A11,Weekly_Data_Raw[END_DATE],'Weekly Metrics'!BV$5), IF($B11=\"Gross Adds\",SUMIFS(Weekly_Data_Raw[GROSS_ADDS],Weekly_Data_Raw[TICKER],'Weekly Metrics'!$A11,Weekly_Data_Raw[END_DATE],'Weekly Metrics'!BV$5), IF($B11=\"Churn\",SUMIFS(Weekly_Data_Raw[CHURNED_MEMBERS],Weekly_Data_Raw[TICKER],'Weekly Metrics'!$A11,Weekly_Data_Raw[END_DATE],'Weekly Metrics'!BV$5)))))))","v":253155.56},{"$f":"IF($B11=\"Panel Sales\", SUMIFS(Weekly_Data_Raw[PANEL_AMOUNT],Weekly_Data_Raw[TICKER],'Weekly Metrics'!$A11,Weekly_Data_Raw[END_DATE],'Weekly Metrics'!BW$5),IF($B11=\"Transactions\",SUMIFS(Weekly_Data_Raw[PANEL_TRANSACTIONS],Weekly_Data_Raw[TICKER],'Weekly Metrics'!$A11,Weekly_Data_Raw[END_DATE],'Weekly Metrics'!BW$5), IF($B11=\"Avg Ticket\",SUMIFS(Weekly_Data_Raw[AVG_TICKET],Weekly_Data_Raw[TICKER],'Weekly Metrics'!$A11,Weekly_Data_Raw[END_DATE],'Weekly Metrics'!BW$5), IF($B11=\"EOP Subscribers\",SUMIFS(Weekly_Data_Raw[EOP_SUBSCRIBERS],Weekly_Data_Raw[TICKER],'Weekly Metrics'!$A11,Weekly_Data_Raw[END_DATE],'Weekly Metrics'!BW$5), IF($B11=\"Gross Adds\",SUMIFS(Weekly_Data_Raw[GROSS_ADDS],Weekly_Data_Raw[TICKER],'Weekly Metrics'!$A11,Weekly_Data_Raw[END_DATE],'Weekly Metrics'!BW$5), IF($B11=\"Churn\",SUMIFS(Weekly_Data_Raw[CHURNED_MEMBERS],Weekly_Data_Raw[TICKER],'Weekly Metrics'!$A11,Weekly_Data_Raw[END_DATE],'Weekly Metrics'!BW$5)))))))","v":245449.81},{"$f":"IF($B11=\"Panel Sales\", SUMIFS(Weekly_Data_Raw[PANEL_AMOUNT],Weekly_Data_Raw[TICKER],'Weekly Metrics'!$A11,Weekly_Data_Raw[END_DATE],'Weekly Metrics'!BX$5),IF($B11=\"Transactions\",SUMIFS(Weekly_Data_Raw[PANEL_TRANSACTIONS],Weekly_Data_Raw[TICKER],'Weekly Metrics'!$A11,Weekly_Data_Raw[END_DATE],'Weekly Metrics'!BX$5), IF($B11=\"Avg Ticket\",SUMIFS(Weekly_Data_Raw[AVG_TICKET],Weekly_Data_Raw[TICKER],'Weekly Metrics'!$A11,Weekly_Data_Raw[END_DATE],'Weekly Metrics'!BX$5), IF($B11=\"EOP Subscribers\",SUMIFS(Weekly_Data_Raw[EOP_SUBSCRIBERS],Weekly_Data_Raw[TICKER],'Weekly Metrics'!$A11,Weekly_Data_Raw[END_DATE],'Weekly Metrics'!BX$5), IF($B11=\"Gross Adds\",SUMIFS(Weekly_Data_Raw[GROSS_ADDS],Weekly_Data_Raw[TICKER],'Weekly Metrics'!$A11,Weekly_Data_Raw[END_DATE],'Weekly Metrics'!BX$5), IF($B11=\"Churn\",SUMIFS(Weekly_Data_Raw[CHURNED_MEMBERS],Weekly_Data_Raw[TICKER],'Weekly Metrics'!$A11,Weekly_Data_Raw[END_DATE],'Weekly Metrics'!BX$5)))))))","v":238111.76},{"$f":"IF($B11=\"Panel Sales\", SUMIFS(Weekly_Data_Raw[PANEL_AMOUNT],Weekly_Data_Raw[TICKER],'Weekly Metrics'!$A11,Weekly_Data_Raw[END_DATE],'Weekly Metrics'!BY$5),IF($B11=\"Transactions\",SUMIFS(Weekly_Data_Raw[PANEL_TRANSACTIONS],Weekly_Data_Raw[TICKER],'Weekly Metrics'!$A11,Weekly_Data_Raw[END_DATE],'Weekly Metrics'!BY$5), IF($B11=\"Avg Ticket\",SUMIFS(Weekly_Data_Raw[AVG_TICKET],Weekly_Data_Raw[TICKER],'Weekly Metrics'!$A11,Weekly_Data_Raw[END_DATE],'Weekly Metrics'!BY$5), IF($B11=\"EOP Subscribers\",SUMIFS(Weekly_Data_Raw[EOP_SUBSCRIBERS],Weekly_Data_Raw[TICKER],'Weekly Metrics'!$A11,Weekly_Data_Raw[END_DATE],'Weekly Metrics'!BY$5), IF($B11=\"Gross Adds\",SUMIFS(Weekly_Data_Raw[GROSS_ADDS],Weekly_Data_Raw[TICKER],'Weekly Metrics'!$A11,Weekly_Data_Raw[END_DATE],'Weekly Metrics'!BY$5), IF($B11=\"Churn\",SUMIFS(Weekly_Data_Raw[CHURNED_MEMBERS],Weekly_Data_Raw[TICKER],'Weekly Metrics'!$A11,Weekly_Data_Raw[END_DATE],'Weekly Metrics'!BY$5)))))))","v":285539.82},{"$f":"IF($B11=\"Panel Sales\", SUMIFS(Weekly_Data_Raw[PANEL_AMOUNT],Weekly_Data_Raw[TICKER],'Weekly Metrics'!$A11,Weekly_Data_Raw[END_DATE],'Weekly Metrics'!BZ$5),IF($B11=\"Transactions\",SUMIFS(Weekly_Data_Raw[PANEL_TRANSACTIONS],Weekly_Data_Raw[TICKER],'Weekly Metrics'!$A11,Weekly_Data_Raw[END_DATE],'Weekly Metrics'!BZ$5), IF($B11=\"Avg Ticket\",SUMIFS(Weekly_Data_Raw[AVG_TICKET],Weekly_Data_Raw[TICKER],'Weekly Metrics'!$A11,Weekly_Data_Raw[END_DATE],'Weekly Metrics'!BZ$5), IF($B11=\"EOP Subscribers\",SUMIFS(Weekly_Data_Raw[EOP_SUBSCRIBERS],Weekly_Data_Raw[TICKER],'Weekly Metrics'!$A11,Weekly_Data_Raw[END_DATE],'Weekly Metrics'!BZ$5), IF($B11=\"Gross Adds\",SUMIFS(Weekly_Data_Raw[GROSS_ADDS],Weekly_Data_Raw[TICKER],'Weekly Metrics'!$A11,Weekly_Data_Raw[END_DATE],'Weekly Metrics'!BZ$5), IF($B11=\"Churn\",SUMIFS(Weekly_Data_Raw[CHURNED_MEMBERS],Weekly_Data_Raw[TICKER],'Weekly Metrics'!$A11,Weekly_Data_Raw[END_DATE],'Weekly Metrics'!BZ$5)))))))","v":246712.63},{"$f":"IF($B11=\"Panel Sales\", SUMIFS(Weekly_Data_Raw[PANEL_AMOUNT],Weekly_Data_Raw[TICKER],'Weekly Metrics'!$A11,Weekly_Data_Raw[END_DATE],'Weekly Metrics'!CA$5),IF($B11=\"Transactions\",SUMIFS(Weekly_Data_Raw[PANEL_TRANSACTIONS],Weekly_Data_Raw[TICKER],'Weekly Metrics'!$A11,Weekly_Data_Raw[END_DATE],'Weekly Metrics'!CA$5), IF($B11=\"Avg Ticket\",SUMIFS(Weekly_Data_Raw[AVG_TICKET],Weekly_Data_Raw[TICKER],'Weekly Metrics'!$A11,Weekly_Data_Raw[END_DATE],'Weekly Metrics'!CA$5), IF($B11=\"EOP Subscribers\",SUMIFS(Weekly_Data_Raw[EOP_SUBSCRIBERS],Weekly_Data_Raw[TICKER],'Weekly Metrics'!$A11,Weekly_Data_Raw[END_DATE],'Weekly Metrics'!CA$5), IF($B11=\"Gross Adds\",SUMIFS(Weekly_Data_Raw[GROSS_ADDS],Weekly_Data_Raw[TICKER],'Weekly Metrics'!$A11,Weekly_Data_Raw[END_DATE],'Weekly Metrics'!CA$5), IF($B11=\"Churn\",SUMIFS(Weekly_Data_Raw[CHURNED_MEMBERS],Weekly_Data_Raw[TICKER],'Weekly Metrics'!$A11,Weekly_Data_Raw[END_DATE],'Weekly Metrics'!CA$5)))))))","v":252424.25},{"$f":"IF($B11=\"Panel Sales\", SUMIFS(Weekly_Data_Raw[PANEL_AMOUNT],Weekly_Data_Raw[TICKER],'Weekly Metrics'!$A11,Weekly_Data_Raw[END_DATE],'Weekly Metrics'!CB$5),IF($B11=\"Transactions\",SUMIFS(Weekly_Data_Raw[PANEL_TRANSACTIONS],Weekly_Data_Raw[TICKER],'Weekly Metrics'!$A11,Weekly_Data_Raw[END_DATE],'Weekly Metrics'!CB$5), IF($B11=\"Avg Ticket\",SUMIFS(Weekly_Data_Raw[AVG_TICKET],Weekly_Data_Raw[TICKER],'Weekly Metrics'!$A11,Weekly_Data_Raw[END_DATE],'Weekly Metrics'!CB$5), IF($B11=\"EOP Subscribers\",SUMIFS(Weekly_Data_Raw[EOP_SUBSCRIBERS],Weekly_Data_Raw[TICKER],'Weekly Metrics'!$A11,Weekly_Data_Raw[END_DATE],'Weekly Metrics'!CB$5), IF($B11=\"Gross Adds\",SUMIFS(Weekly_Data_Raw[GROSS_ADDS],Weekly_Data_Raw[TICKER],'Weekly Metrics'!$A11,Weekly_Data_Raw[END_DATE],'Weekly Metrics'!CB$5), IF($B11=\"Churn\",SUMIFS(Weekly_Data_Raw[CHURNED_MEMBERS],Weekly_Data_Raw[TICKER],'Weekly Metrics'!$A11,Weekly_Data_Raw[END_DATE],'Weekly Metrics'!CB$5)))))))","v":236162.25},{"$f":"IF($B11=\"Panel Sales\", SUMIFS(Weekly_Data_Raw[PANEL_AMOUNT],Weekly_Data_Raw[TICKER],'Weekly Metrics'!$A11,Weekly_Data_Raw[END_DATE],'Weekly Metrics'!CC$5),IF($B11=\"Transactions\",SUMIFS(Weekly_Data_Raw[PANEL_TRANSACTIONS],Weekly_Data_Raw[TICKER],'Weekly Metrics'!$A11,Weekly_Data_Raw[END_DATE],'Weekly Metrics'!CC$5), IF($B11=\"Avg Ticket\",SUMIFS(Weekly_Data_Raw[AVG_TICKET],Weekly_Data_Raw[TICKER],'Weekly Metrics'!$A11,Weekly_Data_Raw[END_DATE],'Weekly Metrics'!CC$5), IF($B11=\"EOP Subscribers\",SUMIFS(Weekly_Data_Raw[EOP_SUBSCRIBERS],Weekly_Data_Raw[TICKER],'Weekly Metrics'!$A11,Weekly_Data_Raw[END_DATE],'Weekly Metrics'!CC$5), IF($B11=\"Gross Adds\",SUMIFS(Weekly_Data_Raw[GROSS_ADDS],Weekly_Data_Raw[TICKER],'Weekly Metrics'!$A11,Weekly_Data_Raw[END_DATE],'Weekly Metrics'!CC$5), IF($B11=\"Churn\",SUMIFS(Weekly_Data_Raw[CHURNED_MEMBERS],Weekly_Data_Raw[TICKER],'Weekly Metrics'!$A11,Weekly_Data_Raw[END_DATE],'Weekly Metrics'!CC$5)))))))","v":304790.90999999997},{"$f":"IF($B11=\"Panel Sales\", SUMIFS(Weekly_Data_Raw[PANEL_AMOUNT],Weekly_Data_Raw[TICKER],'Weekly Metrics'!$A11,Weekly_Data_Raw[END_DATE],'Weekly Metrics'!CD$5),IF($B11=\"Transactions\",SUMIFS(Weekly_Data_Raw[PANEL_TRANSACTIONS],Weekly_Data_Raw[TICKER],'Weekly Metrics'!$A11,Weekly_Data_Raw[END_DATE],'Weekly Metrics'!CD$5), IF($B11=\"Avg Ticket\",SUMIFS(Weekly_Data_Raw[AVG_TICKET],Weekly_Data_Raw[TICKER],'Weekly Metrics'!$A11,Weekly_Data_Raw[END_DATE],'Weekly Metrics'!CD$5), IF($B11=\"EOP Subscribers\",SUMIFS(Weekly_Data_Raw[EOP_SUBSCRIBERS],Weekly_Data_Raw[TICKER],'Weekly Metrics'!$A11,Weekly_Data_Raw[END_DATE],'Weekly Metrics'!CD$5), IF($B11=\"Gross Adds\",SUMIFS(Weekly_Data_Raw[GROSS_ADDS],Weekly_Data_Raw[TICKER],'Weekly Metrics'!$A11,Weekly_Data_Raw[END_DATE],'Weekly Metrics'!CD$5), IF($B11=\"Churn\",SUMIFS(Weekly_Data_Raw[CHURNED_MEMBERS],Weekly_Data_Raw[TICKER],'Weekly Metrics'!$A11,Weekly_Data_Raw[END_DATE],'Weekly Metrics'!CD$5)))))))","v":248664.02},{"$f":"IF($B11=\"Panel Sales\", SUMIFS(Weekly_Data_Raw[PANEL_AMOUNT],Weekly_Data_Raw[TICKER],'Weekly Metrics'!$A11,Weekly_Data_Raw[END_DATE],'Weekly Metrics'!CE$5),IF($B11=\"Transactions\",SUMIFS(Weekly_Data_Raw[PANEL_TRANSACTIONS],Weekly_Data_Raw[TICKER],'Weekly Metrics'!$A11,Weekly_Data_Raw[END_DATE],'Weekly Metrics'!CE$5), IF($B11=\"Avg Ticket\",SUMIFS(Weekly_Data_Raw[AVG_TICKET],Weekly_Data_Raw[TICKER],'Weekly Metrics'!$A11,Weekly_Data_Raw[END_DATE],'Weekly Metrics'!CE$5), IF($B11=\"EOP Subscribers\",SUMIFS(Weekly_Data_Raw[EOP_SUBSCRIBERS],Weekly_Data_Raw[TICKER],'Weekly Metrics'!$A11,Weekly_Data_Raw[END_DATE],'Weekly Metrics'!CE$5), IF($B11=\"Gross Adds\",SUMIFS(Weekly_Data_Raw[GROSS_ADDS],Weekly_Data_Raw[TICKER],'Weekly Metrics'!$A11,Weekly_Data_Raw[END_DATE],'Weekly Metrics'!CE$5), IF($B11=\"Churn\",SUMIFS(Weekly_Data_Raw[CHURNED_MEMBERS],Weekly_Data_Raw[TICKER],'Weekly Metrics'!$A11,Weekly_Data_Raw[END_DATE],'Weekly Metrics'!CE$5)))))))","v":253706},{"$f":"IF($B11=\"Panel Sales\", SUMIFS(Weekly_Data_Raw[PANEL_AMOUNT],Weekly_Data_Raw[TICKER],'Weekly Metrics'!$A11,Weekly_Data_Raw[END_DATE],'Weekly Metrics'!CF$5),IF($B11=\"Transactions\",SUMIFS(Weekly_Data_Raw[PANEL_TRANSACTIONS],Weekly_Data_Raw[TICKER],'Weekly Metrics'!$A11,Weekly_Data_Raw[END_DATE],'Weekly Metrics'!CF$5), IF($B11=\"Avg Ticket\",SUMIFS(Weekly_Data_Raw[AVG_TICKET],Weekly_Data_Raw[TICKER],'Weekly Metrics'!$A11,Weekly_Data_Raw[END_DATE],'Weekly Metrics'!CF$5), IF($B11=\"EOP Subscribers\",SUMIFS(Weekly_Data_Raw[EOP_SUBSCRIBERS],Weekly_Data_Raw[TICKER],'Weekly Metrics'!$A11,Weekly_Data_Raw[END_DATE],'Weekly Metrics'!CF$5), IF($B11=\"Gross Adds\",SUMIFS(Weekly_Data_Raw[GROSS_ADDS],Weekly_Data_Raw[TICKER],'Weekly Metrics'!$A11,Weekly_Data_Raw[END_DATE],'Weekly Metrics'!CF$5), IF($B11=\"Churn\",SUMIFS(Weekly_Data_Raw[CHURNED_MEMBERS],Weekly_Data_Raw[TICKER],'Weekly Metrics'!$A11,Weekly_Data_Raw[END_DATE],'Weekly Metrics'!CF$5)))))))","v":245968.34},{"$f":"IF($B11=\"Panel Sales\", SUMIFS(Weekly_Data_Raw[PANEL_AMOUNT],Weekly_Data_Raw[TICKER],'Weekly Metrics'!$A11,Weekly_Data_Raw[END_DATE],'Weekly Metrics'!CG$5),IF($B11=\"Transactions\",SUMIFS(Weekly_Data_Raw[PANEL_TRANSACTIONS],Weekly_Data_Raw[TICKER],'Weekly Metrics'!$A11,Weekly_Data_Raw[END_DATE],'Weekly Metrics'!CG$5), IF($B11=\"Avg Ticket\",SUMIFS(Weekly_Data_Raw[AVG_TICKET],Weekly_Data_Raw[TICKER],'Weekly Metrics'!$A11,Weekly_Data_Raw[END_DATE],'Weekly Metrics'!CG$5), IF($B11=\"EOP Subscribers\",SUMIFS(Weekly_Data_Raw[EOP_SUBSCRIBERS],Weekly_Data_Raw[TICKER],'Weekly Metrics'!$A11,Weekly_Data_Raw[END_DATE],'Weekly Metrics'!CG$5), IF($B11=\"Gross Adds\",SUMIFS(Weekly_Data_Raw[GROSS_ADDS],Weekly_Data_Raw[TICKER],'Weekly Metrics'!$A11,Weekly_Data_Raw[END_DATE],'Weekly Metrics'!CG$5), IF($B11=\"Churn\",SUMIFS(Weekly_Data_Raw[CHURNED_MEMBERS],Weekly_Data_Raw[TICKER],'Weekly Metrics'!$A11,Weekly_Data_Raw[END_DATE],'Weekly Metrics'!CG$5)))))))","v":242695.01},{"$f":"IF($B11=\"Panel Sales\", SUMIFS(Weekly_Data_Raw[PANEL_AMOUNT],Weekly_Data_Raw[TICKER],'Weekly Metrics'!$A11,Weekly_Data_Raw[END_DATE],'Weekly Metrics'!CH$5),IF($B11=\"Transactions\",SUMIFS(Weekly_Data_Raw[PANEL_TRANSACTIONS],Weekly_Data_Raw[TICKER],'Weekly Metrics'!$A11,Weekly_Data_Raw[END_DATE],'Weekly Metrics'!CH$5), IF($B11=\"Avg Ticket\",SUMIFS(Weekly_Data_Raw[AVG_TICKET],Weekly_Data_Raw[TICKER],'Weekly Metrics'!$A11,Weekly_Data_Raw[END_DATE],'Weekly Metrics'!CH$5), IF($B11=\"EOP Subscribers\",SUMIFS(Weekly_Data_Raw[EOP_SUBSCRIBERS],Weekly_Data_Raw[TICKER],'Weekly Metrics'!$A11,Weekly_Data_Raw[END_DATE],'Weekly Metrics'!CH$5), IF($B11=\"Gross Adds\",SUMIFS(Weekly_Data_Raw[GROSS_ADDS],Weekly_Data_Raw[TICKER],'Weekly Metrics'!$A11,Weekly_Data_Raw[END_DATE],'Weekly Metrics'!CH$5), IF($B11=\"Churn\",SUMIFS(Weekly_Data_Raw[CHURNED_MEMBERS],Weekly_Data_Raw[TICKER],'Weekly Metrics'!$A11,Weekly_Data_Raw[END_DATE],'Weekly Metrics'!CH$5)))))))","v":290610.98},{"$f":"IF($B11=\"Panel Sales\", SUMIFS(Weekly_Data_Raw[PANEL_AMOUNT],Weekly_Data_Raw[TICKER],'Weekly Metrics'!$A11,Weekly_Data_Raw[END_DATE],'Weekly Metrics'!CI$5),IF($B11=\"Transactions\",SUMIFS(Weekly_Data_Raw[PANEL_TRANSACTIONS],Weekly_Data_Raw[TICKER],'Weekly Metrics'!$A11,Weekly_Data_Raw[END_DATE],'Weekly Metrics'!CI$5), IF($B11=\"Avg Ticket\",SUMIFS(Weekly_Data_Raw[AVG_TICKET],Weekly_Data_Raw[TICKER],'Weekly Metrics'!$A11,Weekly_Data_Raw[END_DATE],'Weekly Metrics'!CI$5), IF($B11=\"EOP Subscribers\",SUMIFS(Weekly_Data_Raw[EOP_SUBSCRIBERS],Weekly_Data_Raw[TICKER],'Weekly Metrics'!$A11,Weekly_Data_Raw[END_DATE],'Weekly Metrics'!CI$5), IF($B11=\"Gross Adds\",SUMIFS(Weekly_Data_Raw[GROSS_ADDS],Weekly_Data_Raw[TICKER],'Weekly Metrics'!$A11,Weekly_Data_Raw[END_DATE],'Weekly Metrics'!CI$5), IF($B11=\"Churn\",SUMIFS(Weekly_Data_Raw[CHURNED_MEMBERS],Weekly_Data_Raw[TICKER],'Weekly Metrics'!$A11,Weekly_Data_Raw[END_DATE],'Weekly Metrics'!CI$5)))))))","v":249197.77},{"$f":"IF($B11=\"Panel Sales\", SUMIFS(Weekly_Data_Raw[PANEL_AMOUNT],Weekly_Data_Raw[TICKER],'Weekly Metrics'!$A11,Weekly_Data_Raw[END_DATE],'Weekly Metrics'!CJ$5),IF($B11=\"Transactions\",SUMIFS(Weekly_Data_Raw[PANEL_TRANSACTIONS],Weekly_Data_Raw[TICKER],'Weekly Metrics'!$A11,Weekly_Data_Raw[END_DATE],'Weekly Metrics'!CJ$5), IF($B11=\"Avg Ticket\",SUMIFS(Weekly_Data_Raw[AVG_TICKET],Weekly_Data_Raw[TICKER],'Weekly Metrics'!$A11,Weekly_Data_Raw[END_DATE],'Weekly Metrics'!CJ$5), IF($B11=\"EOP Subscribers\",SUMIFS(Weekly_Data_Raw[EOP_SUBSCRIBERS],Weekly_Data_Raw[TICKER],'Weekly Metrics'!$A11,Weekly_Data_Raw[END_DATE],'Weekly Metrics'!CJ$5), IF($B11=\"Gross Adds\",SUMIFS(Weekly_Data_Raw[GROSS_ADDS],Weekly_Data_Raw[TICKER],'Weekly Metrics'!$A11,Weekly_Data_Raw[END_DATE],'Weekly Metrics'!CJ$5), IF($B11=\"Churn\",SUMIFS(Weekly_Data_Raw[CHURNED_MEMBERS],Weekly_Data_Raw[TICKER],'Weekly Metrics'!$A11,Weekly_Data_Raw[END_DATE],'Weekly Metrics'!CJ$5)))))))","v":253486.35},{"$f":"IF($B11=\"Panel Sales\", SUMIFS(Weekly_Data_Raw[PANEL_AMOUNT],Weekly_Data_Raw[TICKER],'Weekly Metrics'!$A11,Weekly_Data_Raw[END_DATE],'Weekly Metrics'!CK$5),IF($B11=\"Transactions\",SUMIFS(Weekly_Data_Raw[PANEL_TRANSACTIONS],Weekly_Data_Raw[TICKER],'Weekly Metrics'!$A11,Weekly_Data_Raw[END_DATE],'Weekly Metrics'!CK$5), IF($B11=\"Avg Ticket\",SUMIFS(Weekly_Data_Raw[AVG_TICKET],Weekly_Data_Raw[TICKER],'Weekly Metrics'!$A11,Weekly_Data_Raw[END_DATE],'Weekly Metrics'!CK$5), IF($B11=\"EOP Subscribers\",SUMIFS(Weekly_Data_Raw[EOP_SUBSCRIBERS],Weekly_Data_Raw[TICKER],'Weekly Metrics'!$A11,Weekly_Data_Raw[END_DATE],'Weekly Metrics'!CK$5), IF($B11=\"Gross Adds\",SUMIFS(Weekly_Data_Raw[GROSS_ADDS],Weekly_Data_Raw[TICKER],'Weekly Metrics'!$A11,Weekly_Data_Raw[END_DATE],'Weekly Metrics'!CK$5), IF($B11=\"Churn\",SUMIFS(Weekly_Data_Raw[CHURNED_MEMBERS],Weekly_Data_Raw[TICKER],'Weekly Metrics'!$A11,Weekly_Data_Raw[END_DATE],'Weekly Metrics'!CK$5)))))))","v":241562.23999999999},{"$f":"IF($B11=\"Panel Sales\", SUMIFS(Weekly_Data_Raw[PANEL_AMOUNT],Weekly_Data_Raw[TICKER],'Weekly Metrics'!$A11,Weekly_Data_Raw[END_DATE],'Weekly Metrics'!CL$5),IF($B11=\"Transactions\",SUMIFS(Weekly_Data_Raw[PANEL_TRANSACTIONS],Weekly_Data_Raw[TICKER],'Weekly Metrics'!$A11,Weekly_Data_Raw[END_DATE],'Weekly Metrics'!CL$5), IF($B11=\"Avg Ticket\",SUMIFS(Weekly_Data_Raw[AVG_TICKET],Weekly_Data_Raw[TICKER],'Weekly Metrics'!$A11,Weekly_Data_Raw[END_DATE],'Weekly Metrics'!CL$5), IF($B11=\"EOP Subscribers\",SUMIFS(Weekly_Data_Raw[EOP_SUBSCRIBERS],Weekly_Data_Raw[TICKER],'Weekly Metrics'!$A11,Weekly_Data_Raw[END_DATE],'Weekly Metrics'!CL$5), IF($B11=\"Gross Adds\",SUMIFS(Weekly_Data_Raw[GROSS_ADDS],Weekly_Data_Raw[TICKER],'Weekly Metrics'!$A11,Weekly_Data_Raw[END_DATE],'Weekly Metrics'!CL$5), IF($B11=\"Churn\",SUMIFS(Weekly_Data_Raw[CHURNED_MEMBERS],Weekly_Data_Raw[TICKER],'Weekly Metrics'!$A11,Weekly_Data_Raw[END_DATE],'Weekly Metrics'!CL$5)))))))","v":296682.15999999997},{"$f":"IF($B11=\"Panel Sales\", SUMIFS(Weekly_Data_Raw[PANEL_AMOUNT],Weekly_Data_Raw[TICKER],'Weekly Metrics'!$A11,Weekly_Data_Raw[END_DATE],'Weekly Metrics'!CM$5),IF($B11=\"Transactions\",SUMIFS(Weekly_Data_Raw[PANEL_TRANSACTIONS],Weekly_Data_Raw[TICKER],'Weekly Metrics'!$A11,Weekly_Data_Raw[END_DATE],'Weekly Metrics'!CM$5), IF($B11=\"Avg Ticket\",SUMIFS(Weekly_Data_Raw[AVG_TICKET],Weekly_Data_Raw[TICKER],'Weekly Metrics'!$A11,Weekly_Data_Raw[END_DATE],'Weekly Metrics'!CM$5), IF($B11=\"EOP Subscribers\",SUMIFS(Weekly_Data_Raw[EOP_SUBSCRIBERS],Weekly_Data_Raw[TICKER],'Weekly Metrics'!$A11,Weekly_Data_Raw[END_DATE],'Weekly Metrics'!CM$5), IF($B11=\"Gross Adds\",SUMIFS(Weekly_Data_Raw[GROSS_ADDS],Weekly_Data_Raw[TICKER],'Weekly Metrics'!$A11,Weekly_Data_Raw[END_DATE],'Weekly Metrics'!CM$5), IF($B11=\"Churn\",SUMIFS(Weekly_Data_Raw[CHURNED_MEMBERS],Weekly_Data_Raw[TICKER],'Weekly Metrics'!$A11,Weekly_Data_Raw[END_DATE],'Weekly Metrics'!CM$5)))))))","v":247423.56},{"$f":"IF($B11=\"Panel Sales\", SUMIFS(Weekly_Data_Raw[PANEL_AMOUNT],Weekly_Data_Raw[TICKER],'Weekly Metrics'!$A11,Weekly_Data_Raw[END_DATE],'Weekly Metrics'!CN$5),IF($B11=\"Transactions\",SUMIFS(Weekly_Data_Raw[PANEL_TRANSACTIONS],Weekly_Data_Raw[TICKER],'Weekly Metrics'!$A11,Weekly_Data_Raw[END_DATE],'Weekly Metrics'!CN$5), IF($B11=\"Avg Ticket\",SUMIFS(Weekly_Data_Raw[AVG_TICKET],Weekly_Data_Raw[TICKER],'Weekly Metrics'!$A11,Weekly_Data_Raw[END_DATE],'Weekly Metrics'!CN$5), IF($B11=\"EOP Subscribers\",SUMIFS(Weekly_Data_Raw[EOP_SUBSCRIBERS],Weekly_Data_Raw[TICKER],'Weekly Metrics'!$A11,Weekly_Data_Raw[END_DATE],'Weekly Metrics'!CN$5), IF($B11=\"Gross Adds\",SUMIFS(Weekly_Data_Raw[GROSS_ADDS],Weekly_Data_Raw[TICKER],'Weekly Metrics'!$A11,Weekly_Data_Raw[END_DATE],'Weekly Metrics'!CN$5), IF($B11=\"Churn\",SUMIFS(Weekly_Data_Raw[CHURNED_MEMBERS],Weekly_Data_Raw[TICKER],'Weekly Metrics'!$A11,Weekly_Data_Raw[END_DATE],'Weekly Metrics'!CN$5)))))))","v":264539.01},{"$f":"IF($B11=\"Panel Sales\", SUMIFS(Weekly_Data_Raw[PANEL_AMOUNT],Weekly_Data_Raw[TICKER],'Weekly Metrics'!$A11,Weekly_Data_Raw[END_DATE],'Weekly Metrics'!CO$5),IF($B11=\"Transactions\",SUMIFS(Weekly_Data_Raw[PANEL_TRANSACTIONS],Weekly_Data_Raw[TICKER],'Weekly Metrics'!$A11,Weekly_Data_Raw[END_DATE],'Weekly Metrics'!CO$5), IF($B11=\"Avg Ticket\",SUMIFS(Weekly_Data_Raw[AVG_TICKET],Weekly_Data_Raw[TICKER],'Weekly Metrics'!$A11,Weekly_Data_Raw[END_DATE],'Weekly Metrics'!CO$5), IF($B11=\"EOP Subscribers\",SUMIFS(Weekly_Data_Raw[EOP_SUBSCRIBERS],Weekly_Data_Raw[TICKER],'Weekly Metrics'!$A11,Weekly_Data_Raw[END_DATE],'Weekly Metrics'!CO$5), IF($B11=\"Gross Adds\",SUMIFS(Weekly_Data_Raw[GROSS_ADDS],Weekly_Data_Raw[TICKER],'Weekly Metrics'!$A11,Weekly_Data_Raw[END_DATE],'Weekly Metrics'!CO$5), IF($B11=\"Churn\",SUMIFS(Weekly_Data_Raw[CHURNED_MEMBERS],Weekly_Data_Raw[TICKER],'Weekly Metrics'!$A11,Weekly_Data_Raw[END_DATE],'Weekly Metrics'!CO$5)))))))","v":238162.18},{"$f":"IF($B11=\"Panel Sales\", SUMIFS(Weekly_Data_Raw[PANEL_AMOUNT],Weekly_Data_Raw[TICKER],'Weekly Metrics'!$A11,Weekly_Data_Raw[END_DATE],'Weekly Metrics'!CP$5),IF($B11=\"Transactions\",SUMIFS(Weekly_Data_Raw[PANEL_TRANSACTIONS],Weekly_Data_Raw[TICKER],'Weekly Metrics'!$A11,Weekly_Data_Raw[END_DATE],'Weekly Metrics'!CP$5), IF($B11=\"Avg Ticket\",SUMIFS(Weekly_Data_Raw[AVG_TICKET],Weekly_Data_Raw[TICKER],'Weekly Metrics'!$A11,Weekly_Data_Raw[END_DATE],'Weekly Metrics'!CP$5), IF($B11=\"EOP Subscribers\",SUMIFS(Weekly_Data_Raw[EOP_SUBSCRIBERS],Weekly_Data_Raw[TICKER],'Weekly Metrics'!$A11,Weekly_Data_Raw[END_DATE],'Weekly Metrics'!CP$5), IF($B11=\"Gross Adds\",SUMIFS(Weekly_Data_Raw[GROSS_ADDS],Weekly_Data_Raw[TICKER],'Weekly Metrics'!$A11,Weekly_Data_Raw[END_DATE],'Weekly Metrics'!CP$5), IF($B11=\"Churn\",SUMIFS(Weekly_Data_Raw[CHURNED_MEMBERS],Weekly_Data_Raw[TICKER],'Weekly Metrics'!$A11,Weekly_Data_Raw[END_DATE],'Weekly Metrics'!CP$5)))))))","v":310453.28000000003},{"$f":"IF($B11=\"Panel Sales\", SUMIFS(Weekly_Data_Raw[PANEL_AMOUNT],Weekly_Data_Raw[TICKER],'Weekly Metrics'!$A11,Weekly_Data_Raw[END_DATE],'Weekly Metrics'!CQ$5),IF($B11=\"Transactions\",SUMIFS(Weekly_Data_Raw[PANEL_TRANSACTIONS],Weekly_Data_Raw[TICKER],'Weekly Metrics'!$A11,Weekly_Data_Raw[END_DATE],'Weekly Metrics'!CQ$5), IF($B11=\"Avg Ticket\",SUMIFS(Weekly_Data_Raw[AVG_TICKET],Weekly_Data_Raw[TICKER],'Weekly Metrics'!$A11,Weekly_Data_Raw[END_DATE],'Weekly Metrics'!CQ$5), IF($B11=\"EOP Subscribers\",SUMIFS(Weekly_Data_Raw[EOP_SUBSCRIBERS],Weekly_Data_Raw[TICKER],'Weekly Metrics'!$A11,Weekly_Data_Raw[END_DATE],'Weekly Metrics'!CQ$5), IF($B11=\"Gross Adds\",SUMIFS(Weekly_Data_Raw[GROSS_ADDS],Weekly_Data_Raw[TICKER],'Weekly Metrics'!$A11,Weekly_Data_Raw[END_DATE],'Weekly Metrics'!CQ$5), IF($B11=\"Churn\",SUMIFS(Weekly_Data_Raw[CHURNED_MEMBERS],Weekly_Data_Raw[TICKER],'Weekly Metrics'!$A11,Weekly_Data_Raw[END_DATE],'Weekly Metrics'!CQ$5)))))))","v":256516.27},{"$f":"IF($B11=\"Panel Sales\", SUMIFS(Weekly_Data_Raw[PANEL_AMOUNT],Weekly_Data_Raw[TICKER],'Weekly Metrics'!$A11,Weekly_Data_Raw[END_DATE],'Weekly Metrics'!CR$5),IF($B11=\"Transactions\",SUMIFS(Weekly_Data_Raw[PANEL_TRANSACTIONS],Weekly_Data_Raw[TICKER],'Weekly Metrics'!$A11,Weekly_Data_Raw[END_DATE],'Weekly Metrics'!CR$5), IF($B11=\"Avg Ticket\",SUMIFS(Weekly_Data_Raw[AVG_TICKET],Weekly_Data_Raw[TICKER],'Weekly Metrics'!$A11,Weekly_Data_Raw[END_DATE],'Weekly Metrics'!CR$5), IF($B11=\"EOP Subscribers\",SUMIFS(Weekly_Data_Raw[EOP_SUBSCRIBERS],Weekly_Data_Raw[TICKER],'Weekly Metrics'!$A11,Weekly_Data_Raw[END_DATE],'Weekly Metrics'!CR$5), IF($B11=\"Gross Adds\",SUMIFS(Weekly_Data_Raw[GROSS_ADDS],Weekly_Data_Raw[TICKER],'Weekly Metrics'!$A11,Weekly_Data_Raw[END_DATE],'Weekly Metrics'!CR$5), IF($B11=\"Churn\",SUMIFS(Weekly_Data_Raw[CHURNED_MEMBERS],Weekly_Data_Raw[TICKER],'Weekly Metrics'!$A11,Weekly_Data_Raw[END_DATE],'Weekly Metrics'!CR$5)))))))","v":256825.9},{"$f":"IF($B11=\"Panel Sales\", SUMIFS(Weekly_Data_Raw[PANEL_AMOUNT],Weekly_Data_Raw[TICKER],'Weekly Metrics'!$A11,Weekly_Data_Raw[END_DATE],'Weekly Metrics'!CS$5),IF($B11=\"Transactions\",SUMIFS(Weekly_Data_Raw[PANEL_TRANSACTIONS],Weekly_Data_Raw[TICKER],'Weekly Metrics'!$A11,Weekly_Data_Raw[END_DATE],'Weekly Metrics'!CS$5), IF($B11=\"Avg Ticket\",SUMIFS(Weekly_Data_Raw[AVG_TICKET],Weekly_Data_Raw[TICKER],'Weekly Metrics'!$A11,Weekly_Data_Raw[END_DATE],'Weekly Metrics'!CS$5), IF($B11=\"EOP Subscribers\",SUMIFS(Weekly_Data_Raw[EOP_SUBSCRIBERS],Weekly_Data_Raw[TICKER],'Weekly Metrics'!$A11,Weekly_Data_Raw[END_DATE],'Weekly Metrics'!CS$5), IF($B11=\"Gross Adds\",SUMIFS(Weekly_Data_Raw[GROSS_ADDS],Weekly_Data_Raw[TICKER],'Weekly Metrics'!$A11,Weekly_Data_Raw[END_DATE],'Weekly Metrics'!CS$5), IF($B11=\"Churn\",SUMIFS(Weekly_Data_Raw[CHURNED_MEMBERS],Weekly_Data_Raw[TICKER],'Weekly Metrics'!$A11,Weekly_Data_Raw[END_DATE],'Weekly Metrics'!CS$5)))))))","v":257181.77},{"$f":"IF($B11=\"Panel Sales\", SUMIFS(Weekly_Data_Raw[PANEL_AMOUNT],Weekly_Data_Raw[TICKER],'Weekly Metrics'!$A11,Weekly_Data_Raw[END_DATE],'Weekly Metrics'!CT$5),IF($B11=\"Transactions\",SUMIFS(Weekly_Data_Raw[PANEL_TRANSACTIONS],Weekly_Data_Raw[TICKER],'Weekly Metrics'!$A11,Weekly_Data_Raw[END_DATE],'Weekly Metrics'!CT$5), IF($B11=\"Avg Ticket\",SUMIFS(Weekly_Data_Raw[AVG_TICKET],Weekly_Data_Raw[TICKER],'Weekly Metrics'!$A11,Weekly_Data_Raw[END_DATE],'Weekly Metrics'!CT$5), IF($B11=\"EOP Subscribers\",SUMIFS(Weekly_Data_Raw[EOP_SUBSCRIBERS],Weekly_Data_Raw[TICKER],'Weekly Metrics'!$A11,Weekly_Data_Raw[END_DATE],'Weekly Metrics'!CT$5), IF($B11=\"Gross Adds\",SUMIFS(Weekly_Data_Raw[GROSS_ADDS],Weekly_Data_Raw[TICKER],'Weekly Metrics'!$A11,Weekly_Data_Raw[END_DATE],'Weekly Metrics'!CT$5), IF($B11=\"Churn\",SUMIFS(Weekly_Data_Raw[CHURNED_MEMBERS],Weekly_Data_Raw[TICKER],'Weekly Metrics'!$A11,Weekly_Data_Raw[END_DATE],'Weekly Metrics'!CT$5)))))))","v":249926.25},{"$f":"IF($B11=\"Panel Sales\", SUMIFS(Weekly_Data_Raw[PANEL_AMOUNT],Weekly_Data_Raw[TICKER],'Weekly Metrics'!$A11,Weekly_Data_Raw[END_DATE],'Weekly Metrics'!CU$5),IF($B11=\"Transactions\",SUMIFS(Weekly_Data_Raw[PANEL_TRANSACTIONS],Weekly_Data_Raw[TICKER],'Weekly Metrics'!$A11,Weekly_Data_Raw[END_DATE],'Weekly Metrics'!CU$5), IF($B11=\"Avg Ticket\",SUMIFS(Weekly_Data_Raw[AVG_TICKET],Weekly_Data_Raw[TICKER],'Weekly Metrics'!$A11,Weekly_Data_Raw[END_DATE],'Weekly Metrics'!CU$5), IF($B11=\"EOP Subscribers\",SUMIFS(Weekly_Data_Raw[EOP_SUBSCRIBERS],Weekly_Data_Raw[TICKER],'Weekly Metrics'!$A11,Weekly_Data_Raw[END_DATE],'Weekly Metrics'!CU$5), IF($B11=\"Gross Adds\",SUMIFS(Weekly_Data_Raw[GROSS_ADDS],Weekly_Data_Raw[TICKER],'Weekly Metrics'!$A11,Weekly_Data_Raw[END_DATE],'Weekly Metrics'!CU$5), IF($B11=\"Churn\",SUMIFS(Weekly_Data_Raw[CHURNED_MEMBERS],Weekly_Data_Raw[TICKER],'Weekly Metrics'!$A11,Weekly_Data_Raw[END_DATE],'Weekly Metrics'!CU$5)))))))","v":303127.84000000003},{"$f":"IF($B11=\"Panel Sales\", SUMIFS(Weekly_Data_Raw[PANEL_AMOUNT],Weekly_Data_Raw[TICKER],'Weekly Metrics'!$A11,Weekly_Data_Raw[END_DATE],'Weekly Metrics'!CV$5),IF($B11=\"Transactions\",SUMIFS(Weekly_Data_Raw[PANEL_TRANSACTIONS],Weekly_Data_Raw[TICKER],'Weekly Metrics'!$A11,Weekly_Data_Raw[END_DATE],'Weekly Metrics'!CV$5), IF($B11=\"Avg Ticket\",SUMIFS(Weekly_Data_Raw[AVG_TICKET],Weekly_Data_Raw[TICKER],'Weekly Metrics'!$A11,Weekly_Data_Raw[END_DATE],'Weekly Metrics'!CV$5), IF($B11=\"EOP Subscribers\",SUMIFS(Weekly_Data_Raw[EOP_SUBSCRIBERS],Weekly_Data_Raw[TICKER],'Weekly Metrics'!$A11,Weekly_Data_Raw[END_DATE],'Weekly Metrics'!CV$5), IF($B11=\"Gross Adds\",SUMIFS(Weekly_Data_Raw[GROSS_ADDS],Weekly_Data_Raw[TICKER],'Weekly Metrics'!$A11,Weekly_Data_Raw[END_DATE],'Weekly Metrics'!CV$5), IF($B11=\"Churn\",SUMIFS(Weekly_Data_Raw[CHURNED_MEMBERS],Weekly_Data_Raw[TICKER],'Weekly Metrics'!$A11,Weekly_Data_Raw[END_DATE],'Weekly Metrics'!CV$5)))))))","v":255836.12},{"$f":"IF($B11=\"Panel Sales\", SUMIFS(Weekly_Data_Raw[PANEL_AMOUNT],Weekly_Data_Raw[TICKER],'Weekly Metrics'!$A11,Weekly_Data_Raw[END_DATE],'Weekly Metrics'!CW$5),IF($B11=\"Transactions\",SUMIFS(Weekly_Data_Raw[PANEL_TRANSACTIONS],Weekly_Data_Raw[TICKER],'Weekly Metrics'!$A11,Weekly_Data_Raw[END_DATE],'Weekly Metrics'!CW$5), IF($B11=\"Avg Ticket\",SUMIFS(Weekly_Data_Raw[AVG_TICKET],Weekly_Data_Raw[TICKER],'Weekly Metrics'!$A11,Weekly_Data_Raw[END_DATE],'Weekly Metrics'!CW$5), IF($B11=\"EOP Subscribers\",SUMIFS(Weekly_Data_Raw[EOP_SUBSCRIBERS],Weekly_Data_Raw[TICKER],'Weekly Metrics'!$A11,Weekly_Data_Raw[END_DATE],'Weekly Metrics'!CW$5), IF($B11=\"Gross Adds\",SUMIFS(Weekly_Data_Raw[GROSS_ADDS],Weekly_Data_Raw[TICKER],'Weekly Metrics'!$A11,Weekly_Data_Raw[END_DATE],'Weekly Metrics'!CW$5), IF($B11=\"Churn\",SUMIFS(Weekly_Data_Raw[CHURNED_MEMBERS],Weekly_Data_Raw[TICKER],'Weekly Metrics'!$A11,Weekly_Data_Raw[END_DATE],'Weekly Metrics'!CW$5)))))))","v":260795.76},{"$f":"IF($B11=\"Panel Sales\", SUMIFS(Weekly_Data_Raw[PANEL_AMOUNT],Weekly_Data_Raw[TICKER],'Weekly Metrics'!$A11,Weekly_Data_Raw[END_DATE],'Weekly Metrics'!CX$5),IF($B11=\"Transactions\",SUMIFS(Weekly_Data_Raw[PANEL_TRANSACTIONS],Weekly_Data_Raw[TICKER],'Weekly Metrics'!$A11,Weekly_Data_Raw[END_DATE],'Weekly Metrics'!CX$5), IF($B11=\"Avg Ticket\",SUMIFS(Weekly_Data_Raw[AVG_TICKET],Weekly_Data_Raw[TICKER],'Weekly Metrics'!$A11,Weekly_Data_Raw[END_DATE],'Weekly Metrics'!CX$5), IF($B11=\"EOP Subscribers\",SUMIFS(Weekly_Data_Raw[EOP_SUBSCRIBERS],Weekly_Data_Raw[TICKER],'Weekly Metrics'!$A11,Weekly_Data_Raw[END_DATE],'Weekly Metrics'!CX$5), IF($B11=\"Gross Adds\",SUMIFS(Weekly_Data_Raw[GROSS_ADDS],Weekly_Data_Raw[TICKER],'Weekly Metrics'!$A11,Weekly_Data_Raw[END_DATE],'Weekly Metrics'!CX$5), IF($B11=\"Churn\",SUMIFS(Weekly_Data_Raw[CHURNED_MEMBERS],Weekly_Data_Raw[TICKER],'Weekly Metrics'!$A11,Weekly_Data_Raw[END_DATE],'Weekly Metrics'!CX$5)))))))","v":238403.67},{"$f":"IF($B11=\"Panel Sales\", SUMIFS(Weekly_Data_Raw[PANEL_AMOUNT],Weekly_Data_Raw[TICKER],'Weekly Metrics'!$A11,Weekly_Data_Raw[END_DATE],'Weekly Metrics'!CY$5),IF($B11=\"Transactions\",SUMIFS(Weekly_Data_Raw[PANEL_TRANSACTIONS],Weekly_Data_Raw[TICKER],'Weekly Metrics'!$A11,Weekly_Data_Raw[END_DATE],'Weekly Metrics'!CY$5), IF($B11=\"Avg Ticket\",SUMIFS(Weekly_Data_Raw[AVG_TICKET],Weekly_Data_Raw[TICKER],'Weekly Metrics'!$A11,Weekly_Data_Raw[END_DATE],'Weekly Metrics'!CY$5), IF($B11=\"EOP Subscribers\",SUMIFS(Weekly_Data_Raw[EOP_SUBSCRIBERS],Weekly_Data_Raw[TICKER],'Weekly Metrics'!$A11,Weekly_Data_Raw[END_DATE],'Weekly Metrics'!CY$5), IF($B11=\"Gross Adds\",SUMIFS(Weekly_Data_Raw[GROSS_ADDS],Weekly_Data_Raw[TICKER],'Weekly Metrics'!$A11,Weekly_Data_Raw[END_DATE],'Weekly Metrics'!CY$5), IF($B11=\"Churn\",SUMIFS(Weekly_Data_Raw[CHURNED_MEMBERS],Weekly_Data_Raw[TICKER],'Weekly Metrics'!$A11,Weekly_Data_Raw[END_DATE],'Weekly Metrics'!CY$5)))))))","v":322466.62},{"$f":"IF($B11=\"Panel Sales\", SUMIFS(Weekly_Data_Raw[PANEL_AMOUNT],Weekly_Data_Raw[TICKER],'Weekly Metrics'!$A11,Weekly_Data_Raw[END_DATE],'Weekly Metrics'!CZ$5),IF($B11=\"Transactions\",SUMIFS(Weekly_Data_Raw[PANEL_TRANSACTIONS],Weekly_Data_Raw[TICKER],'Weekly Metrics'!$A11,Weekly_Data_Raw[END_DATE],'Weekly Metrics'!CZ$5), IF($B11=\"Avg Ticket\",SUMIFS(Weekly_Data_Raw[AVG_TICKET],Weekly_Data_Raw[TICKER],'Weekly Metrics'!$A11,Weekly_Data_Raw[END_DATE],'Weekly Metrics'!CZ$5), IF($B11=\"EOP Subscribers\",SUMIFS(Weekly_Data_Raw[EOP_SUBSCRIBERS],Weekly_Data_Raw[TICKER],'Weekly Metrics'!$A11,Weekly_Data_Raw[END_DATE],'Weekly Metrics'!CZ$5), IF($B11=\"Gross Adds\",SUMIFS(Weekly_Data_Raw[GROSS_ADDS],Weekly_Data_Raw[TICKER],'Weekly Metrics'!$A11,Weekly_Data_Raw[END_DATE],'Weekly Metrics'!CZ$5), IF($B11=\"Churn\",SUMIFS(Weekly_Data_Raw[CHURNED_MEMBERS],Weekly_Data_Raw[TICKER],'Weekly Metrics'!$A11,Weekly_Data_Raw[END_DATE],'Weekly Metrics'!CZ$5)))))))","v":263013.71000000002},{"$f":"IF($B11=\"Panel Sales\", SUMIFS(Weekly_Data_Raw[PANEL_AMOUNT],Weekly_Data_Raw[TICKER],'Weekly Metrics'!$A11,Weekly_Data_Raw[END_DATE],'Weekly Metrics'!DA$5),IF($B11=\"Transactions\",SUMIFS(Weekly_Data_Raw[PANEL_TRANSACTIONS],Weekly_Data_Raw[TICKER],'Weekly Metrics'!$A11,Weekly_Data_Raw[END_DATE],'Weekly Metrics'!DA$5), IF($B11=\"Avg Ticket\",SUMIFS(Weekly_Data_Raw[AVG_TICKET],Weekly_Data_Raw[TICKER],'Weekly Metrics'!$A11,Weekly_Data_Raw[END_DATE],'Weekly Metrics'!DA$5), IF($B11=\"EOP Subscribers\",SUMIFS(Weekly_Data_Raw[EOP_SUBSCRIBERS],Weekly_Data_Raw[TICKER],'Weekly Metrics'!$A11,Weekly_Data_Raw[END_DATE],'Weekly Metrics'!DA$5), IF($B11=\"Gross Adds\",SUMIFS(Weekly_Data_Raw[GROSS_ADDS],Weekly_Data_Raw[TICKER],'Weekly Metrics'!$A11,Weekly_Data_Raw[END_DATE],'Weekly Metrics'!DA$5), IF($B11=\"Churn\",SUMIFS(Weekly_Data_Raw[CHURNED_MEMBERS],Weekly_Data_Raw[TICKER],'Weekly Metrics'!$A11,Weekly_Data_Raw[END_DATE],'Weekly Metrics'!DA$5)))))))","v":268995.37},{"$f":"IF($B11=\"Panel Sales\", SUMIFS(Weekly_Data_Raw[PANEL_AMOUNT],Weekly_Data_Raw[TICKER],'Weekly Metrics'!$A11,Weekly_Data_Raw[END_DATE],'Weekly Metrics'!DB$5),IF($B11=\"Transactions\",SUMIFS(Weekly_Data_Raw[PANEL_TRANSACTIONS],Weekly_Data_Raw[TICKER],'Weekly Metrics'!$A11,Weekly_Data_Raw[END_DATE],'Weekly Metrics'!DB$5), IF($B11=\"Avg Ticket\",SUMIFS(Weekly_Data_Raw[AVG_TICKET],Weekly_Data_Raw[TICKER],'Weekly Metrics'!$A11,Weekly_Data_Raw[END_DATE],'Weekly Metrics'!DB$5), IF($B11=\"EOP Subscribers\",SUMIFS(Weekly_Data_Raw[EOP_SUBSCRIBERS],Weekly_Data_Raw[TICKER],'Weekly Metrics'!$A11,Weekly_Data_Raw[END_DATE],'Weekly Metrics'!DB$5), IF($B11=\"Gross Adds\",SUMIFS(Weekly_Data_Raw[GROSS_ADDS],Weekly_Data_Raw[TICKER],'Weekly Metrics'!$A11,Weekly_Data_Raw[END_DATE],'Weekly Metrics'!DB$5), IF($B11=\"Churn\",SUMIFS(Weekly_Data_Raw[CHURNED_MEMBERS],Weekly_Data_Raw[TICKER],'Weekly Metrics'!$A11,Weekly_Data_Raw[END_DATE],'Weekly Metrics'!DB$5)))))))","v":232434.84},{"$f":"IF($B11=\"Panel Sales\", SUMIFS(Weekly_Data_Raw[PANEL_AMOUNT],Weekly_Data_Raw[TICKER],'Weekly Metrics'!$A11,Weekly_Data_Raw[END_DATE],'Weekly Metrics'!DC$5),IF($B11=\"Transactions\",SUMIFS(Weekly_Data_Raw[PANEL_TRANSACTIONS],Weekly_Data_Raw[TICKER],'Weekly Metrics'!$A11,Weekly_Data_Raw[END_DATE],'Weekly Metrics'!DC$5), IF($B11=\"Avg Ticket\",SUMIFS(Weekly_Data_Raw[AVG_TICKET],Weekly_Data_Raw[TICKER],'Weekly Metrics'!$A11,Weekly_Data_Raw[END_DATE],'Weekly Metrics'!DC$5), IF($B11=\"EOP Subscribers\",SUMIFS(Weekly_Data_Raw[EOP_SUBSCRIBERS],Weekly_Data_Raw[TICKER],'Weekly Metrics'!$A11,Weekly_Data_Raw[END_DATE],'Weekly Metrics'!DC$5), IF($B11=\"Gross Adds\",SUMIFS(Weekly_Data_Raw[GROSS_ADDS],Weekly_Data_Raw[TICKER],'Weekly Metrics'!$A11,Weekly_Data_Raw[END_DATE],'Weekly Metrics'!DC$5), IF($B11=\"Churn\",SUMIFS(Weekly_Data_Raw[CHURNED_MEMBERS],Weekly_Data_Raw[TICKER],'Weekly Metrics'!$A11,Weekly_Data_Raw[END_DATE],'Weekly Metrics'!DC$5)))))))","v":271082.26},{"$f":"IF($B11=\"Panel Sales\", SUMIFS(Weekly_Data_Raw[PANEL_AMOUNT],Weekly_Data_Raw[TICKER],'Weekly Metrics'!$A11,Weekly_Data_Raw[END_DATE],'Weekly Metrics'!DD$5),IF($B11=\"Transactions\",SUMIFS(Weekly_Data_Raw[PANEL_TRANSACTIONS],Weekly_Data_Raw[TICKER],'Weekly Metrics'!$A11,Weekly_Data_Raw[END_DATE],'Weekly Metrics'!DD$5), IF($B11=\"Avg Ticket\",SUMIFS(Weekly_Data_Raw[AVG_TICKET],Weekly_Data_Raw[TICKER],'Weekly Metrics'!$A11,Weekly_Data_Raw[END_DATE],'Weekly Metrics'!DD$5), IF($B11=\"EOP Subscribers\",SUMIFS(Weekly_Data_Raw[EOP_SUBSCRIBERS],Weekly_Data_Raw[TICKER],'Weekly Metrics'!$A11,Weekly_Data_Raw[END_DATE],'Weekly Metrics'!DD$5), IF($B11=\"Gross Adds\",SUMIFS(Weekly_Data_Raw[GROSS_ADDS],Weekly_Data_Raw[TICKER],'Weekly Metrics'!$A11,Weekly_Data_Raw[END_DATE],'Weekly Metrics'!DD$5), IF($B11=\"Churn\",SUMIFS(Weekly_Data_Raw[CHURNED_MEMBERS],Weekly_Data_Raw[TICKER],'Weekly Metrics'!$A11,Weekly_Data_Raw[END_DATE],'Weekly Metrics'!DD$5)))))))","v":288240.21000000002},{"$f":"IF($B11=\"Panel Sales\", SUMIFS(Weekly_Data_Raw[PANEL_AMOUNT],Weekly_Data_Raw[TICKER],'Weekly Metrics'!$A11,Weekly_Data_Raw[END_DATE],'Weekly Metrics'!DE$5),IF($B11=\"Transactions\",SUMIFS(Weekly_Data_Raw[PANEL_TRANSACTIONS],Weekly_Data_Raw[TICKER],'Weekly Metrics'!$A11,Weekly_Data_Raw[END_DATE],'Weekly Metrics'!DE$5), IF($B11=\"Avg Ticket\",SUMIFS(Weekly_Data_Raw[AVG_TICKET],Weekly_Data_Raw[TICKER],'Weekly Metrics'!$A11,Weekly_Data_Raw[END_DATE],'Weekly Metrics'!DE$5), IF($B11=\"EOP Subscribers\",SUMIFS(Weekly_Data_Raw[EOP_SUBSCRIBERS],Weekly_Data_Raw[TICKER],'Weekly Metrics'!$A11,Weekly_Data_Raw[END_DATE],'Weekly Metrics'!DE$5), IF($B11=\"Gross Adds\",SUMIFS(Weekly_Data_Raw[GROSS_ADDS],Weekly_Data_Raw[TICKER],'Weekly Metrics'!$A11,Weekly_Data_Raw[END_DATE],'Weekly Metrics'!DE$5), IF($B11=\"Churn\",SUMIFS(Weekly_Data_Raw[CHURNED_MEMBERS],Weekly_Data_Raw[TICKER],'Weekly Metrics'!$A11,Weekly_Data_Raw[END_DATE],'Weekly Metrics'!DE$5)))))))","v":268947.93},{"$f":"IF($B11=\"Panel Sales\", SUMIFS(Weekly_Data_Raw[PANEL_AMOUNT],Weekly_Data_Raw[TICKER],'Weekly Metrics'!$A11,Weekly_Data_Raw[END_DATE],'Weekly Metrics'!DF$5),IF($B11=\"Transactions\",SUMIFS(Weekly_Data_Raw[PANEL_TRANSACTIONS],Weekly_Data_Raw[TICKER],'Weekly Metrics'!$A11,Weekly_Data_Raw[END_DATE],'Weekly Metrics'!DF$5), IF($B11=\"Avg Ticket\",SUMIFS(Weekly_Data_Raw[AVG_TICKET],Weekly_Data_Raw[TICKER],'Weekly Metrics'!$A11,Weekly_Data_Raw[END_DATE],'Weekly Metrics'!DF$5), IF($B11=\"EOP Subscribers\",SUMIFS(Weekly_Data_Raw[EOP_SUBSCRIBERS],Weekly_Data_Raw[TICKER],'Weekly Metrics'!$A11,Weekly_Data_Raw[END_DATE],'Weekly Metrics'!DF$5), IF($B11=\"Gross Adds\",SUMIFS(Weekly_Data_Raw[GROSS_ADDS],Weekly_Data_Raw[TICKER],'Weekly Metrics'!$A11,Weekly_Data_Raw[END_DATE],'Weekly Metrics'!DF$5), IF($B11=\"Churn\",SUMIFS(Weekly_Data_Raw[CHURNED_MEMBERS],Weekly_Data_Raw[TICKER],'Weekly Metrics'!$A11,Weekly_Data_Raw[END_DATE],'Weekly Metrics'!DF$5)))))))","v":261447.89},{"$f":"IF($B11=\"Panel Sales\", SUMIFS(Weekly_Data_Raw[PANEL_AMOUNT],Weekly_Data_Raw[TICKER],'Weekly Metrics'!$A11,Weekly_Data_Raw[END_DATE],'Weekly Metrics'!DG$5),IF($B11=\"Transactions\",SUMIFS(Weekly_Data_Raw[PANEL_TRANSACTIONS],Weekly_Data_Raw[TICKER],'Weekly Metrics'!$A11,Weekly_Data_Raw[END_DATE],'Weekly Metrics'!DG$5), IF($B11=\"Avg Ticket\",SUMIFS(Weekly_Data_Raw[AVG_TICKET],Weekly_Data_Raw[TICKER],'Weekly Metrics'!$A11,Weekly_Data_Raw[END_DATE],'Weekly Metrics'!DG$5), IF($B11=\"EOP Subscribers\",SUMIFS(Weekly_Data_Raw[EOP_SUBSCRIBERS],Weekly_Data_Raw[TICKER],'Weekly Metrics'!$A11,Weekly_Data_Raw[END_DATE],'Weekly Metrics'!DG$5), IF($B11=\"Gross Adds\",SUMIFS(Weekly_Data_Raw[GROSS_ADDS],Weekly_Data_Raw[TICKER],'Weekly Metrics'!$A11,Weekly_Data_Raw[END_DATE],'Weekly Metrics'!DG$5), IF($B11=\"Churn\",SUMIFS(Weekly_Data_Raw[CHURNED_MEMBERS],Weekly_Data_Raw[TICKER],'Weekly Metrics'!$A11,Weekly_Data_Raw[END_DATE],'Weekly Metrics'!DG$5)))))))","v":238893.82},{"$f":"IF($B11=\"Panel Sales\", SUMIFS(Weekly_Data_Raw[PANEL_AMOUNT],Weekly_Data_Raw[TICKER],'Weekly Metrics'!$A11,Weekly_Data_Raw[END_DATE],'Weekly Metrics'!DH$5),IF($B11=\"Transactions\",SUMIFS(Weekly_Data_Raw[PANEL_TRANSACTIONS],Weekly_Data_Raw[TICKER],'Weekly Metrics'!$A11,Weekly_Data_Raw[END_DATE],'Weekly Metrics'!DH$5), IF($B11=\"Avg Ticket\",SUMIFS(Weekly_Data_Raw[AVG_TICKET],Weekly_Data_Raw[TICKER],'Weekly Metrics'!$A11,Weekly_Data_Raw[END_DATE],'Weekly Metrics'!DH$5), IF($B11=\"EOP Subscribers\",SUMIFS(Weekly_Data_Raw[EOP_SUBSCRIBERS],Weekly_Data_Raw[TICKER],'Weekly Metrics'!$A11,Weekly_Data_Raw[END_DATE],'Weekly Metrics'!DH$5), IF($B11=\"Gross Adds\",SUMIFS(Weekly_Data_Raw[GROSS_ADDS],Weekly_Data_Raw[TICKER],'Weekly Metrics'!$A11,Weekly_Data_Raw[END_DATE],'Weekly Metrics'!DH$5), IF($B11=\"Churn\",SUMIFS(Weekly_Data_Raw[CHURNED_MEMBERS],Weekly_Data_Raw[TICKER],'Weekly Metrics'!$A11,Weekly_Data_Raw[END_DATE],'Weekly Metrics'!DH$5)))))))","v":317052.36},{"$f":"IF($B11=\"Panel Sales\", SUMIFS(Weekly_Data_Raw[PANEL_AMOUNT],Weekly_Data_Raw[TICKER],'Weekly Metrics'!$A11,Weekly_Data_Raw[END_DATE],'Weekly Metrics'!DI$5),IF($B11=\"Transactions\",SUMIFS(Weekly_Data_Raw[PANEL_TRANSACTIONS],Weekly_Data_Raw[TICKER],'Weekly Metrics'!$A11,Weekly_Data_Raw[END_DATE],'Weekly Metrics'!DI$5), IF($B11=\"Avg Ticket\",SUMIFS(Weekly_Data_Raw[AVG_TICKET],Weekly_Data_Raw[TICKER],'Weekly Metrics'!$A11,Weekly_Data_Raw[END_DATE],'Weekly Metrics'!DI$5), IF($B11=\"EOP Subscribers\",SUMIFS(Weekly_Data_Raw[EOP_SUBSCRIBERS],Weekly_Data_Raw[TICKER],'Weekly Metrics'!$A11,Weekly_Data_Raw[END_DATE],'Weekly Metrics'!DI$5), IF($B11=\"Gross Adds\",SUMIFS(Weekly_Data_Raw[GROSS_ADDS],Weekly_Data_Raw[TICKER],'Weekly Metrics'!$A11,Weekly_Data_Raw[END_DATE],'Weekly Metrics'!DI$5), IF($B11=\"Churn\",SUMIFS(Weekly_Data_Raw[CHURNED_MEMBERS],Weekly_Data_Raw[TICKER],'Weekly Metrics'!$A11,Weekly_Data_Raw[END_DATE],'Weekly Metrics'!DI$5)))))))","v":262822},{"$f":"IF($B11=\"Panel Sales\", SUMIFS(Weekly_Data_Raw[PANEL_AMOUNT],Weekly_Data_Raw[TICKER],'Weekly Metrics'!$A11,Weekly_Data_Raw[END_DATE],'Weekly Metrics'!DJ$5),IF($B11=\"Transactions\",SUMIFS(Weekly_Data_Raw[PANEL_TRANSACTIONS],Weekly_Data_Raw[TICKER],'Weekly Metrics'!$A11,Weekly_Data_Raw[END_DATE],'Weekly Metrics'!DJ$5), IF($B11=\"Avg Ticket\",SUMIFS(Weekly_Data_Raw[AVG_TICKET],Weekly_Data_Raw[TICKER],'Weekly Metrics'!$A11,Weekly_Data_Raw[END_DATE],'Weekly Metrics'!DJ$5), IF($B11=\"EOP Subscribers\",SUMIFS(Weekly_Data_Raw[EOP_SUBSCRIBERS],Weekly_Data_Raw[TICKER],'Weekly Metrics'!$A11,Weekly_Data_Raw[END_DATE],'Weekly Metrics'!DJ$5), IF($B11=\"Gross Adds\",SUMIFS(Weekly_Data_Raw[GROSS_ADDS],Weekly_Data_Raw[TICKER],'Weekly Metrics'!$A11,Weekly_Data_Raw[END_DATE],'Weekly Metrics'!DJ$5), IF($B11=\"Churn\",SUMIFS(Weekly_Data_Raw[CHURNED_MEMBERS],Weekly_Data_Raw[TICKER],'Weekly Metrics'!$A11,Weekly_Data_Raw[END_DATE],'Weekly Metrics'!DJ$5)))))))","v":260783.28},{"$f":"IF($B11=\"Panel Sales\", SUMIFS(Weekly_Data_Raw[PANEL_AMOUNT],Weekly_Data_Raw[TICKER],'Weekly Metrics'!$A11,Weekly_Data_Raw[END_DATE],'Weekly Metrics'!DK$5),IF($B11=\"Transactions\",SUMIFS(Weekly_Data_Raw[PANEL_TRANSACTIONS],Weekly_Data_Raw[TICKER],'Weekly Metrics'!$A11,Weekly_Data_Raw[END_DATE],'Weekly Metrics'!DK$5), IF($B11=\"Avg Ticket\",SUMIFS(Weekly_Data_Raw[AVG_TICKET],Weekly_Data_Raw[TICKER],'Weekly Metrics'!$A11,Weekly_Data_Raw[END_DATE],'Weekly Metrics'!DK$5), IF($B11=\"EOP Subscribers\",SUMIFS(Weekly_Data_Raw[EOP_SUBSCRIBERS],Weekly_Data_Raw[TICKER],'Weekly Metrics'!$A11,Weekly_Data_Raw[END_DATE],'Weekly Metrics'!DK$5), IF($B11=\"Gross Adds\",SUMIFS(Weekly_Data_Raw[GROSS_ADDS],Weekly_Data_Raw[TICKER],'Weekly Metrics'!$A11,Weekly_Data_Raw[END_DATE],'Weekly Metrics'!DK$5), IF($B11=\"Churn\",SUMIFS(Weekly_Data_Raw[CHURNED_MEMBERS],Weekly_Data_Raw[TICKER],'Weekly Metrics'!$A11,Weekly_Data_Raw[END_DATE],'Weekly Metrics'!DK$5)))))))","v":253248.35},{"$f":"IF($B11=\"Panel Sales\", SUMIFS(Weekly_Data_Raw[PANEL_AMOUNT],Weekly_Data_Raw[TICKER],'Weekly Metrics'!$A11,Weekly_Data_Raw[END_DATE],'Weekly Metrics'!DL$5),IF($B11=\"Transactions\",SUMIFS(Weekly_Data_Raw[PANEL_TRANSACTIONS],Weekly_Data_Raw[TICKER],'Weekly Metrics'!$A11,Weekly_Data_Raw[END_DATE],'Weekly Metrics'!DL$5), IF($B11=\"Avg Ticket\",SUMIFS(Weekly_Data_Raw[AVG_TICKET],Weekly_Data_Raw[TICKER],'Weekly Metrics'!$A11,Weekly_Data_Raw[END_DATE],'Weekly Metrics'!DL$5), IF($B11=\"EOP Subscribers\",SUMIFS(Weekly_Data_Raw[EOP_SUBSCRIBERS],Weekly_Data_Raw[TICKER],'Weekly Metrics'!$A11,Weekly_Data_Raw[END_DATE],'Weekly Metrics'!DL$5), IF($B11=\"Gross Adds\",SUMIFS(Weekly_Data_Raw[GROSS_ADDS],Weekly_Data_Raw[TICKER],'Weekly Metrics'!$A11,Weekly_Data_Raw[END_DATE],'Weekly Metrics'!DL$5), IF($B11=\"Churn\",SUMIFS(Weekly_Data_Raw[CHURNED_MEMBERS],Weekly_Data_Raw[TICKER],'Weekly Metrics'!$A11,Weekly_Data_Raw[END_DATE],'Weekly Metrics'!DL$5)))))))","v":362011.45},{"$f":"IF($B11=\"Panel Sales\", SUMIFS(Weekly_Data_Raw[PANEL_AMOUNT],Weekly_Data_Raw[TICKER],'Weekly Metrics'!$A11,Weekly_Data_Raw[END_DATE],'Weekly Metrics'!DM$5),IF($B11=\"Transactions\",SUMIFS(Weekly_Data_Raw[PANEL_TRANSACTIONS],Weekly_Data_Raw[TICKER],'Weekly Metrics'!$A11,Weekly_Data_Raw[END_DATE],'Weekly Metrics'!DM$5), IF($B11=\"Avg Ticket\",SUMIFS(Weekly_Data_Raw[AVG_TICKET],Weekly_Data_Raw[TICKER],'Weekly Metrics'!$A11,Weekly_Data_Raw[END_DATE],'Weekly Metrics'!DM$5), IF($B11=\"EOP Subscribers\",SUMIFS(Weekly_Data_Raw[EOP_SUBSCRIBERS],Weekly_Data_Raw[TICKER],'Weekly Metrics'!$A11,Weekly_Data_Raw[END_DATE],'Weekly Metrics'!DM$5), IF($B11=\"Gross Adds\",SUMIFS(Weekly_Data_Raw[GROSS_ADDS],Weekly_Data_Raw[TICKER],'Weekly Metrics'!$A11,Weekly_Data_Raw[END_DATE],'Weekly Metrics'!DM$5), IF($B11=\"Churn\",SUMIFS(Weekly_Data_Raw[CHURNED_MEMBERS],Weekly_Data_Raw[TICKER],'Weekly Metrics'!$A11,Weekly_Data_Raw[END_DATE],'Weekly Metrics'!DM$5)))))))","v":264379.51},{"$f":"IF($B11=\"Panel Sales\", SUMIFS(Weekly_Data_Raw[PANEL_AMOUNT],Weekly_Data_Raw[TICKER],'Weekly Metrics'!$A11,Weekly_Data_Raw[END_DATE],'Weekly Metrics'!DN$5),IF($B11=\"Transactions\",SUMIFS(Weekly_Data_Raw[PANEL_TRANSACTIONS],Weekly_Data_Raw[TICKER],'Weekly Metrics'!$A11,Weekly_Data_Raw[END_DATE],'Weekly Metrics'!DN$5), IF($B11=\"Avg Ticket\",SUMIFS(Weekly_Data_Raw[AVG_TICKET],Weekly_Data_Raw[TICKER],'Weekly Metrics'!$A11,Weekly_Data_Raw[END_DATE],'Weekly Metrics'!DN$5), IF($B11=\"EOP Subscribers\",SUMIFS(Weekly_Data_Raw[EOP_SUBSCRIBERS],Weekly_Data_Raw[TICKER],'Weekly Metrics'!$A11,Weekly_Data_Raw[END_DATE],'Weekly Metrics'!DN$5), IF($B11=\"Gross Adds\",SUMIFS(Weekly_Data_Raw[GROSS_ADDS],Weekly_Data_Raw[TICKER],'Weekly Metrics'!$A11,Weekly_Data_Raw[END_DATE],'Weekly Metrics'!DN$5), IF($B11=\"Churn\",SUMIFS(Weekly_Data_Raw[CHURNED_MEMBERS],Weekly_Data_Raw[TICKER],'Weekly Metrics'!$A11,Weekly_Data_Raw[END_DATE],'Weekly Metrics'!DN$5)))))))","v":284395.87},{"$f":"IF($B11=\"Panel Sales\", SUMIFS(Weekly_Data_Raw[PANEL_AMOUNT],Weekly_Data_Raw[TICKER],'Weekly Metrics'!$A11,Weekly_Data_Raw[END_DATE],'Weekly Metrics'!DO$5),IF($B11=\"Transactions\",SUMIFS(Weekly_Data_Raw[PANEL_TRANSACTIONS],Weekly_Data_Raw[TICKER],'Weekly Metrics'!$A11,Weekly_Data_Raw[END_DATE],'Weekly Metrics'!DO$5), IF($B11=\"Avg Ticket\",SUMIFS(Weekly_Data_Raw[AVG_TICKET],Weekly_Data_Raw[TICKER],'Weekly Metrics'!$A11,Weekly_Data_Raw[END_DATE],'Weekly Metrics'!DO$5), IF($B11=\"EOP Subscribers\",SUMIFS(Weekly_Data_Raw[EOP_SUBSCRIBERS],Weekly_Data_Raw[TICKER],'Weekly Metrics'!$A11,Weekly_Data_Raw[END_DATE],'Weekly Metrics'!DO$5), IF($B11=\"Gross Adds\",SUMIFS(Weekly_Data_Raw[GROSS_ADDS],Weekly_Data_Raw[TICKER],'Weekly Metrics'!$A11,Weekly_Data_Raw[END_DATE],'Weekly Metrics'!DO$5), IF($B11=\"Churn\",SUMIFS(Weekly_Data_Raw[CHURNED_MEMBERS],Weekly_Data_Raw[TICKER],'Weekly Metrics'!$A11,Weekly_Data_Raw[END_DATE],'Weekly Metrics'!DO$5)))))))","v":235529.3},{"$f":"IF($B11=\"Panel Sales\", SUMIFS(Weekly_Data_Raw[PANEL_AMOUNT],Weekly_Data_Raw[TICKER],'Weekly Metrics'!$A11,Weekly_Data_Raw[END_DATE],'Weekly Metrics'!DP$5),IF($B11=\"Transactions\",SUMIFS(Weekly_Data_Raw[PANEL_TRANSACTIONS],Weekly_Data_Raw[TICKER],'Weekly Metrics'!$A11,Weekly_Data_Raw[END_DATE],'Weekly Metrics'!DP$5), IF($B11=\"Avg Ticket\",SUMIFS(Weekly_Data_Raw[AVG_TICKET],Weekly_Data_Raw[TICKER],'Weekly Metrics'!$A11,Weekly_Data_Raw[END_DATE],'Weekly Metrics'!DP$5), IF($B11=\"EOP Subscribers\",SUMIFS(Weekly_Data_Raw[EOP_SUBSCRIBERS],Weekly_Data_Raw[TICKER],'Weekly Metrics'!$A11,Weekly_Data_Raw[END_DATE],'Weekly Metrics'!DP$5), IF($B11=\"Gross Adds\",SUMIFS(Weekly_Data_Raw[GROSS_ADDS],Weekly_Data_Raw[TICKER],'Weekly Metrics'!$A11,Weekly_Data_Raw[END_DATE],'Weekly Metrics'!DP$5), IF($B11=\"Churn\",SUMIFS(Weekly_Data_Raw[CHURNED_MEMBERS],Weekly_Data_Raw[TICKER],'Weekly Metrics'!$A11,Weekly_Data_Raw[END_DATE],'Weekly Metrics'!DP$5)))))))","v":309772.23},{"$f":"IF($B11=\"Panel Sales\", SUMIFS(Weekly_Data_Raw[PANEL_AMOUNT],Weekly_Data_Raw[TICKER],'Weekly Metrics'!$A11,Weekly_Data_Raw[END_DATE],'Weekly Metrics'!DQ$5),IF($B11=\"Transactions\",SUMIFS(Weekly_Data_Raw[PANEL_TRANSACTIONS],Weekly_Data_Raw[TICKER],'Weekly Metrics'!$A11,Weekly_Data_Raw[END_DATE],'Weekly Metrics'!DQ$5), IF($B11=\"Avg Ticket\",SUMIFS(Weekly_Data_Raw[AVG_TICKET],Weekly_Data_Raw[TICKER],'Weekly Metrics'!$A11,Weekly_Data_Raw[END_DATE],'Weekly Metrics'!DQ$5), IF($B11=\"EOP Subscribers\",SUMIFS(Weekly_Data_Raw[EOP_SUBSCRIBERS],Weekly_Data_Raw[TICKER],'Weekly Metrics'!$A11,Weekly_Data_Raw[END_DATE],'Weekly Metrics'!DQ$5), IF($B11=\"Gross Adds\",SUMIFS(Weekly_Data_Raw[GROSS_ADDS],Weekly_Data_Raw[TICKER],'Weekly Metrics'!$A11,Weekly_Data_Raw[END_DATE],'Weekly Metrics'!DQ$5), IF($B11=\"Churn\",SUMIFS(Weekly_Data_Raw[CHURNED_MEMBERS],Weekly_Data_Raw[TICKER],'Weekly Metrics'!$A11,Weekly_Data_Raw[END_DATE],'Weekly Metrics'!DQ$5)))))))","v":255901.86},{"$f":"IF($B11=\"Panel Sales\", SUMIFS(Weekly_Data_Raw[PANEL_AMOUNT],Weekly_Data_Raw[TICKER],'Weekly Metrics'!$A11,Weekly_Data_Raw[END_DATE],'Weekly Metrics'!DR$5),IF($B11=\"Transactions\",SUMIFS(Weekly_Data_Raw[PANEL_TRANSACTIONS],Weekly_Data_Raw[TICKER],'Weekly Metrics'!$A11,Weekly_Data_Raw[END_DATE],'Weekly Metrics'!DR$5), IF($B11=\"Avg Ticket\",SUMIFS(Weekly_Data_Raw[AVG_TICKET],Weekly_Data_Raw[TICKER],'Weekly Metrics'!$A11,Weekly_Data_Raw[END_DATE],'Weekly Metrics'!DR$5), IF($B11=\"EOP Subscribers\",SUMIFS(Weekly_Data_Raw[EOP_SUBSCRIBERS],Weekly_Data_Raw[TICKER],'Weekly Metrics'!$A11,Weekly_Data_Raw[END_DATE],'Weekly Metrics'!DR$5), IF($B11=\"Gross Adds\",SUMIFS(Weekly_Data_Raw[GROSS_ADDS],Weekly_Data_Raw[TICKER],'Weekly Metrics'!$A11,Weekly_Data_Raw[END_DATE],'Weekly Metrics'!DR$5), IF($B11=\"Churn\",SUMIFS(Weekly_Data_Raw[CHURNED_MEMBERS],Weekly_Data_Raw[TICKER],'Weekly Metrics'!$A11,Weekly_Data_Raw[END_DATE],'Weekly Metrics'!DR$5)))))))","v":269324.78999999998},{"$f":"IF($B11=\"Panel Sales\", SUMIFS(Weekly_Data_Raw[PANEL_AMOUNT],Weekly_Data_Raw[TICKER],'Weekly Metrics'!$A11,Weekly_Data_Raw[END_DATE],'Weekly Metrics'!DS$5),IF($B11=\"Transactions\",SUMIFS(Weekly_Data_Raw[PANEL_TRANSACTIONS],Weekly_Data_Raw[TICKER],'Weekly Metrics'!$A11,Weekly_Data_Raw[END_DATE],'Weekly Metrics'!DS$5), IF($B11=\"Avg Ticket\",SUMIFS(Weekly_Data_Raw[AVG_TICKET],Weekly_Data_Raw[TICKER],'Weekly Metrics'!$A11,Weekly_Data_Raw[END_DATE],'Weekly Metrics'!DS$5), IF($B11=\"EOP Subscribers\",SUMIFS(Weekly_Data_Raw[EOP_SUBSCRIBERS],Weekly_Data_Raw[TICKER],'Weekly Metrics'!$A11,Weekly_Data_Raw[END_DATE],'Weekly Metrics'!DS$5), IF($B11=\"Gross Adds\",SUMIFS(Weekly_Data_Raw[GROSS_ADDS],Weekly_Data_Raw[TICKER],'Weekly Metrics'!$A11,Weekly_Data_Raw[END_DATE],'Weekly Metrics'!DS$5), IF($B11=\"Churn\",SUMIFS(Weekly_Data_Raw[CHURNED_MEMBERS],Weekly_Data_Raw[TICKER],'Weekly Metrics'!$A11,Weekly_Data_Raw[END_DATE],'Weekly Metrics'!DS$5)))))))","v":244442.38},{"$f":"IF($B11=\"Panel Sales\", SUMIFS(Weekly_Data_Raw[PANEL_AMOUNT],Weekly_Data_Raw[TICKER],'Weekly Metrics'!$A11,Weekly_Data_Raw[END_DATE],'Weekly Metrics'!DT$5),IF($B11=\"Transactions\",SUMIFS(Weekly_Data_Raw[PANEL_TRANSACTIONS],Weekly_Data_Raw[TICKER],'Weekly Metrics'!$A11,Weekly_Data_Raw[END_DATE],'Weekly Metrics'!DT$5), IF($B11=\"Avg Ticket\",SUMIFS(Weekly_Data_Raw[AVG_TICKET],Weekly_Data_Raw[TICKER],'Weekly Metrics'!$A11,Weekly_Data_Raw[END_DATE],'Weekly Metrics'!DT$5), IF($B11=\"EOP Subscribers\",SUMIFS(Weekly_Data_Raw[EOP_SUBSCRIBERS],Weekly_Data_Raw[TICKER],'Weekly Metrics'!$A11,Weekly_Data_Raw[END_DATE],'Weekly Metrics'!DT$5), IF($B11=\"Gross Adds\",SUMIFS(Weekly_Data_Raw[GROSS_ADDS],Weekly_Data_Raw[TICKER],'Weekly Metrics'!$A11,Weekly_Data_Raw[END_DATE],'Weekly Metrics'!DT$5), IF($B11=\"Churn\",SUMIFS(Weekly_Data_Raw[CHURNED_MEMBERS],Weekly_Data_Raw[TICKER],'Weekly Metrics'!$A11,Weekly_Data_Raw[END_DATE],'Weekly Metrics'!DT$5)))))))","v":254743.18},{"$f":"IF($B11=\"Panel Sales\", SUMIFS(Weekly_Data_Raw[PANEL_AMOUNT],Weekly_Data_Raw[TICKER],'Weekly Metrics'!$A11,Weekly_Data_Raw[END_DATE],'Weekly Metrics'!DU$5),IF($B11=\"Transactions\",SUMIFS(Weekly_Data_Raw[PANEL_TRANSACTIONS],Weekly_Data_Raw[TICKER],'Weekly Metrics'!$A11,Weekly_Data_Raw[END_DATE],'Weekly Metrics'!DU$5), IF($B11=\"Avg Ticket\",SUMIFS(Weekly_Data_Raw[AVG_TICKET],Weekly_Data_Raw[TICKER],'Weekly Metrics'!$A11,Weekly_Data_Raw[END_DATE],'Weekly Metrics'!DU$5), IF($B11=\"EOP Subscribers\",SUMIFS(Weekly_Data_Raw[EOP_SUBSCRIBERS],Weekly_Data_Raw[TICKER],'Weekly Metrics'!$A11,Weekly_Data_Raw[END_DATE],'Weekly Metrics'!DU$5), IF($B11=\"Gross Adds\",SUMIFS(Weekly_Data_Raw[GROSS_ADDS],Weekly_Data_Raw[TICKER],'Weekly Metrics'!$A11,Weekly_Data_Raw[END_DATE],'Weekly Metrics'!DU$5), IF($B11=\"Churn\",SUMIFS(Weekly_Data_Raw[CHURNED_MEMBERS],Weekly_Data_Raw[TICKER],'Weekly Metrics'!$A11,Weekly_Data_Raw[END_DATE],'Weekly Metrics'!DU$5)))))))","v":330650.48},{"$f":"IF($B11=\"Panel Sales\", SUMIFS(Weekly_Data_Raw[PANEL_AMOUNT],Weekly_Data_Raw[TICKER],'Weekly Metrics'!$A11,Weekly_Data_Raw[END_DATE],'Weekly Metrics'!DV$5),IF($B11=\"Transactions\",SUMIFS(Weekly_Data_Raw[PANEL_TRANSACTIONS],Weekly_Data_Raw[TICKER],'Weekly Metrics'!$A11,Weekly_Data_Raw[END_DATE],'Weekly Metrics'!DV$5), IF($B11=\"Avg Ticket\",SUMIFS(Weekly_Data_Raw[AVG_TICKET],Weekly_Data_Raw[TICKER],'Weekly Metrics'!$A11,Weekly_Data_Raw[END_DATE],'Weekly Metrics'!DV$5), IF($B11=\"EOP Subscribers\",SUMIFS(Weekly_Data_Raw[EOP_SUBSCRIBERS],Weekly_Data_Raw[TICKER],'Weekly Metrics'!$A11,Weekly_Data_Raw[END_DATE],'Weekly Metrics'!DV$5), IF($B11=\"Gross Adds\",SUMIFS(Weekly_Data_Raw[GROSS_ADDS],Weekly_Data_Raw[TICKER],'Weekly Metrics'!$A11,Weekly_Data_Raw[END_DATE],'Weekly Metrics'!DV$5), IF($B11=\"Churn\",SUMIFS(Weekly_Data_Raw[CHURNED_MEMBERS],Weekly_Data_Raw[TICKER],'Weekly Metrics'!$A11,Weekly_Data_Raw[END_DATE],'Weekly Metrics'!DV$5)))))))","v":228847.44},{"$f":"IF($B11=\"Panel Sales\", SUMIFS(Weekly_Data_Raw[PANEL_AMOUNT],Weekly_Data_Raw[TICKER],'Weekly Metrics'!$A11,Weekly_Data_Raw[END_DATE],'Weekly Metrics'!DW$5),IF($B11=\"Transactions\",SUMIFS(Weekly_Data_Raw[PANEL_TRANSACTIONS],Weekly_Data_Raw[TICKER],'Weekly Metrics'!$A11,Weekly_Data_Raw[END_DATE],'Weekly Metrics'!DW$5), IF($B11=\"Avg Ticket\",SUMIFS(Weekly_Data_Raw[AVG_TICKET],Weekly_Data_Raw[TICKER],'Weekly Metrics'!$A11,Weekly_Data_Raw[END_DATE],'Weekly Metrics'!DW$5), IF($B11=\"EOP Subscribers\",SUMIFS(Weekly_Data_Raw[EOP_SUBSCRIBERS],Weekly_Data_Raw[TICKER],'Weekly Metrics'!$A11,Weekly_Data_Raw[END_DATE],'Weekly Metrics'!DW$5), IF($B11=\"Gross Adds\",SUMIFS(Weekly_Data_Raw[GROSS_ADDS],Weekly_Data_Raw[TICKER],'Weekly Metrics'!$A11,Weekly_Data_Raw[END_DATE],'Weekly Metrics'!DW$5), IF($B11=\"Churn\",SUMIFS(Weekly_Data_Raw[CHURNED_MEMBERS],Weekly_Data_Raw[TICKER],'Weekly Metrics'!$A11,Weekly_Data_Raw[END_DATE],'Weekly Metrics'!DW$5)))))))","v":269459.45},{"$f":"IF($B11=\"Panel Sales\", SUMIFS(Weekly_Data_Raw[PANEL_AMOUNT],Weekly_Data_Raw[TICKER],'Weekly Metrics'!$A11,Weekly_Data_Raw[END_DATE],'Weekly Metrics'!DX$5),IF($B11=\"Transactions\",SUMIFS(Weekly_Data_Raw[PANEL_TRANSACTIONS],Weekly_Data_Raw[TICKER],'Weekly Metrics'!$A11,Weekly_Data_Raw[END_DATE],'Weekly Metrics'!DX$5), IF($B11=\"Avg Ticket\",SUMIFS(Weekly_Data_Raw[AVG_TICKET],Weekly_Data_Raw[TICKER],'Weekly Metrics'!$A11,Weekly_Data_Raw[END_DATE],'Weekly Metrics'!DX$5), IF($B11=\"EOP Subscribers\",SUMIFS(Weekly_Data_Raw[EOP_SUBSCRIBERS],Weekly_Data_Raw[TICKER],'Weekly Metrics'!$A11,Weekly_Data_Raw[END_DATE],'Weekly Metrics'!DX$5), IF($B11=\"Gross Adds\",SUMIFS(Weekly_Data_Raw[GROSS_ADDS],Weekly_Data_Raw[TICKER],'Weekly Metrics'!$A11,Weekly_Data_Raw[END_DATE],'Weekly Metrics'!DX$5), IF($B11=\"Churn\",SUMIFS(Weekly_Data_Raw[CHURNED_MEMBERS],Weekly_Data_Raw[TICKER],'Weekly Metrics'!$A11,Weekly_Data_Raw[END_DATE],'Weekly Metrics'!DX$5)))))))","v":259661.44},{"$f":"IF($B11=\"Panel Sales\", SUMIFS(Weekly_Data_Raw[PANEL_AMOUNT],Weekly_Data_Raw[TICKER],'Weekly Metrics'!$A11,Weekly_Data_Raw[END_DATE],'Weekly Metrics'!DY$5),IF($B11=\"Transactions\",SUMIFS(Weekly_Data_Raw[PANEL_TRANSACTIONS],Weekly_Data_Raw[TICKER],'Weekly Metrics'!$A11,Weekly_Data_Raw[END_DATE],'Weekly Metrics'!DY$5), IF($B11=\"Avg Ticket\",SUMIFS(Weekly_Data_Raw[AVG_TICKET],Weekly_Data_Raw[TICKER],'Weekly Metrics'!$A11,Weekly_Data_Raw[END_DATE],'Weekly Metrics'!DY$5), IF($B11=\"EOP Subscribers\",SUMIFS(Weekly_Data_Raw[EOP_SUBSCRIBERS],Weekly_Data_Raw[TICKER],'Weekly Metrics'!$A11,Weekly_Data_Raw[END_DATE],'Weekly Metrics'!DY$5), IF($B11=\"Gross Adds\",SUMIFS(Weekly_Data_Raw[GROSS_ADDS],Weekly_Data_Raw[TICKER],'Weekly Metrics'!$A11,Weekly_Data_Raw[END_DATE],'Weekly Metrics'!DY$5), IF($B11=\"Churn\",SUMIFS(Weekly_Data_Raw[CHURNED_MEMBERS],Weekly_Data_Raw[TICKER],'Weekly Metrics'!$A11,Weekly_Data_Raw[END_DATE],'Weekly Metrics'!DY$5)))))))","v":339533.54},{"$f":"IF($B11=\"Panel Sales\", SUMIFS(Weekly_Data_Raw[PANEL_AMOUNT],Weekly_Data_Raw[TICKER],'Weekly Metrics'!$A11,Weekly_Data_Raw[END_DATE],'Weekly Metrics'!DZ$5),IF($B11=\"Transactions\",SUMIFS(Weekly_Data_Raw[PANEL_TRANSACTIONS],Weekly_Data_Raw[TICKER],'Weekly Metrics'!$A11,Weekly_Data_Raw[END_DATE],'Weekly Metrics'!DZ$5), IF($B11=\"Avg Ticket\",SUMIFS(Weekly_Data_Raw[AVG_TICKET],Weekly_Data_Raw[TICKER],'Weekly Metrics'!$A11,Weekly_Data_Raw[END_DATE],'Weekly Metrics'!DZ$5), IF($B11=\"EOP Subscribers\",SUMIFS(Weekly_Data_Raw[EOP_SUBSCRIBERS],Weekly_Data_Raw[TICKER],'Weekly Metrics'!$A11,Weekly_Data_Raw[END_DATE],'Weekly Metrics'!DZ$5), IF($B11=\"Gross Adds\",SUMIFS(Weekly_Data_Raw[GROSS_ADDS],Weekly_Data_Raw[TICKER],'Weekly Metrics'!$A11,Weekly_Data_Raw[END_DATE],'Weekly Metrics'!DZ$5), IF($B11=\"Churn\",SUMIFS(Weekly_Data_Raw[CHURNED_MEMBERS],Weekly_Data_Raw[TICKER],'Weekly Metrics'!$A11,Weekly_Data_Raw[END_DATE],'Weekly Metrics'!DZ$5)))))))","v":235451.54},{"$f":"IF($B11=\"Panel Sales\", SUMIFS(Weekly_Data_Raw[PANEL_AMOUNT],Weekly_Data_Raw[TICKER],'Weekly Metrics'!$A11,Weekly_Data_Raw[END_DATE],'Weekly Metrics'!EA$5),IF($B11=\"Transactions\",SUMIFS(Weekly_Data_Raw[PANEL_TRANSACTIONS],Weekly_Data_Raw[TICKER],'Weekly Metrics'!$A11,Weekly_Data_Raw[END_DATE],'Weekly Metrics'!EA$5), IF($B11=\"Avg Ticket\",SUMIFS(Weekly_Data_Raw[AVG_TICKET],Weekly_Data_Raw[TICKER],'Weekly Metrics'!$A11,Weekly_Data_Raw[END_DATE],'Weekly Metrics'!EA$5), IF($B11=\"EOP Subscribers\",SUMIFS(Weekly_Data_Raw[EOP_SUBSCRIBERS],Weekly_Data_Raw[TICKER],'Weekly Metrics'!$A11,Weekly_Data_Raw[END_DATE],'Weekly Metrics'!EA$5), IF($B11=\"Gross Adds\",SUMIFS(Weekly_Data_Raw[GROSS_ADDS],Weekly_Data_Raw[TICKER],'Weekly Metrics'!$A11,Weekly_Data_Raw[END_DATE],'Weekly Metrics'!EA$5), IF($B11=\"Churn\",SUMIFS(Weekly_Data_Raw[CHURNED_MEMBERS],Weekly_Data_Raw[TICKER],'Weekly Metrics'!$A11,Weekly_Data_Raw[END_DATE],'Weekly Metrics'!EA$5)))))))","v":265963.64},{"$f":"IF($B11=\"Panel Sales\", SUMIFS(Weekly_Data_Raw[PANEL_AMOUNT],Weekly_Data_Raw[TICKER],'Weekly Metrics'!$A11,Weekly_Data_Raw[END_DATE],'Weekly Metrics'!EB$5),IF($B11=\"Transactions\",SUMIFS(Weekly_Data_Raw[PANEL_TRANSACTIONS],Weekly_Data_Raw[TICKER],'Weekly Metrics'!$A11,Weekly_Data_Raw[END_DATE],'Weekly Metrics'!EB$5), IF($B11=\"Avg Ticket\",SUMIFS(Weekly_Data_Raw[AVG_TICKET],Weekly_Data_Raw[TICKER],'Weekly Metrics'!$A11,Weekly_Data_Raw[END_DATE],'Weekly Metrics'!EB$5), IF($B11=\"EOP Subscribers\",SUMIFS(Weekly_Data_Raw[EOP_SUBSCRIBERS],Weekly_Data_Raw[TICKER],'Weekly Metrics'!$A11,Weekly_Data_Raw[END_DATE],'Weekly Metrics'!EB$5), IF($B11=\"Gross Adds\",SUMIFS(Weekly_Data_Raw[GROSS_ADDS],Weekly_Data_Raw[TICKER],'Weekly Metrics'!$A11,Weekly_Data_Raw[END_DATE],'Weekly Metrics'!EB$5), IF($B11=\"Churn\",SUMIFS(Weekly_Data_Raw[CHURNED_MEMBERS],Weekly_Data_Raw[TICKER],'Weekly Metrics'!$A11,Weekly_Data_Raw[END_DATE],'Weekly Metrics'!EB$5)))))))","v":233022.13},{"$f":"IF($B11=\"Panel Sales\", SUMIFS(Weekly_Data_Raw[PANEL_AMOUNT],Weekly_Data_Raw[TICKER],'Weekly Metrics'!$A11,Weekly_Data_Raw[END_DATE],'Weekly Metrics'!EC$5),IF($B11=\"Transactions\",SUMIFS(Weekly_Data_Raw[PANEL_TRANSACTIONS],Weekly_Data_Raw[TICKER],'Weekly Metrics'!$A11,Weekly_Data_Raw[END_DATE],'Weekly Metrics'!EC$5), IF($B11=\"Avg Ticket\",SUMIFS(Weekly_Data_Raw[AVG_TICKET],Weekly_Data_Raw[TICKER],'Weekly Metrics'!$A11,Weekly_Data_Raw[END_DATE],'Weekly Metrics'!EC$5), IF($B11=\"EOP Subscribers\",SUMIFS(Weekly_Data_Raw[EOP_SUBSCRIBERS],Weekly_Data_Raw[TICKER],'Weekly Metrics'!$A11,Weekly_Data_Raw[END_DATE],'Weekly Metrics'!EC$5), IF($B11=\"Gross Adds\",SUMIFS(Weekly_Data_Raw[GROSS_ADDS],Weekly_Data_Raw[TICKER],'Weekly Metrics'!$A11,Weekly_Data_Raw[END_DATE],'Weekly Metrics'!EC$5), IF($B11=\"Churn\",SUMIFS(Weekly_Data_Raw[CHURNED_MEMBERS],Weekly_Data_Raw[TICKER],'Weekly Metrics'!$A11,Weekly_Data_Raw[END_DATE],'Weekly Metrics'!EC$5)))))))","v":339292.2},{"$f":"IF($B11=\"Panel Sales\", SUMIFS(Weekly_Data_Raw[PANEL_AMOUNT],Weekly_Data_Raw[TICKER],'Weekly Metrics'!$A11,Weekly_Data_Raw[END_DATE],'Weekly Metrics'!ED$5),IF($B11=\"Transactions\",SUMIFS(Weekly_Data_Raw[PANEL_TRANSACTIONS],Weekly_Data_Raw[TICKER],'Weekly Metrics'!$A11,Weekly_Data_Raw[END_DATE],'Weekly Metrics'!ED$5), IF($B11=\"Avg Ticket\",SUMIFS(Weekly_Data_Raw[AVG_TICKET],Weekly_Data_Raw[TICKER],'Weekly Metrics'!$A11,Weekly_Data_Raw[END_DATE],'Weekly Metrics'!ED$5), IF($B11=\"EOP Subscribers\",SUMIFS(Weekly_Data_Raw[EOP_SUBSCRIBERS],Weekly_Data_Raw[TICKER],'Weekly Metrics'!$A11,Weekly_Data_Raw[END_DATE],'Weekly Metrics'!ED$5), IF($B11=\"Gross Adds\",SUMIFS(Weekly_Data_Raw[GROSS_ADDS],Weekly_Data_Raw[TICKER],'Weekly Metrics'!$A11,Weekly_Data_Raw[END_DATE],'Weekly Metrics'!ED$5), IF($B11=\"Churn\",SUMIFS(Weekly_Data_Raw[CHURNED_MEMBERS],Weekly_Data_Raw[TICKER],'Weekly Metrics'!$A11,Weekly_Data_Raw[END_DATE],'Weekly Metrics'!ED$5)))))))","v":255911.67},{"$f":"IF($B11=\"Panel Sales\", SUMIFS(Weekly_Data_Raw[PANEL_AMOUNT],Weekly_Data_Raw[TICKER],'Weekly Metrics'!$A11,Weekly_Data_Raw[END_DATE],'Weekly Metrics'!EE$5),IF($B11=\"Transactions\",SUMIFS(Weekly_Data_Raw[PANEL_TRANSACTIONS],Weekly_Data_Raw[TICKER],'Weekly Metrics'!$A11,Weekly_Data_Raw[END_DATE],'Weekly Metrics'!EE$5), IF($B11=\"Avg Ticket\",SUMIFS(Weekly_Data_Raw[AVG_TICKET],Weekly_Data_Raw[TICKER],'Weekly Metrics'!$A11,Weekly_Data_Raw[END_DATE],'Weekly Metrics'!EE$5), IF($B11=\"EOP Subscribers\",SUMIFS(Weekly_Data_Raw[EOP_SUBSCRIBERS],Weekly_Data_Raw[TICKER],'Weekly Metrics'!$A11,Weekly_Data_Raw[END_DATE],'Weekly Metrics'!EE$5), IF($B11=\"Gross Adds\",SUMIFS(Weekly_Data_Raw[GROSS_ADDS],Weekly_Data_Raw[TICKER],'Weekly Metrics'!$A11,Weekly_Data_Raw[END_DATE],'Weekly Metrics'!EE$5), IF($B11=\"Churn\",SUMIFS(Weekly_Data_Raw[CHURNED_MEMBERS],Weekly_Data_Raw[TICKER],'Weekly Metrics'!$A11,Weekly_Data_Raw[END_DATE],'Weekly Metrics'!EE$5)))))))","v":261067.81},{"$f":"IF($B11=\"Panel Sales\", SUMIFS(Weekly_Data_Raw[PANEL_AMOUNT],Weekly_Data_Raw[TICKER],'Weekly Metrics'!$A11,Weekly_Data_Raw[END_DATE],'Weekly Metrics'!EF$5),IF($B11=\"Transactions\",SUMIFS(Weekly_Data_Raw[PANEL_TRANSACTIONS],Weekly_Data_Raw[TICKER],'Weekly Metrics'!$A11,Weekly_Data_Raw[END_DATE],'Weekly Metrics'!EF$5), IF($B11=\"Avg Ticket\",SUMIFS(Weekly_Data_Raw[AVG_TICKET],Weekly_Data_Raw[TICKER],'Weekly Metrics'!$A11,Weekly_Data_Raw[END_DATE],'Weekly Metrics'!EF$5), IF($B11=\"EOP Subscribers\",SUMIFS(Weekly_Data_Raw[EOP_SUBSCRIBERS],Weekly_Data_Raw[TICKER],'Weekly Metrics'!$A11,Weekly_Data_Raw[END_DATE],'Weekly Metrics'!EF$5), IF($B11=\"Gross Adds\",SUMIFS(Weekly_Data_Raw[GROSS_ADDS],Weekly_Data_Raw[TICKER],'Weekly Metrics'!$A11,Weekly_Data_Raw[END_DATE],'Weekly Metrics'!EF$5), IF($B11=\"Churn\",SUMIFS(Weekly_Data_Raw[CHURNED_MEMBERS],Weekly_Data_Raw[TICKER],'Weekly Metrics'!$A11,Weekly_Data_Raw[END_DATE],'Weekly Metrics'!EF$5)))))))","v":247661.2},{"$f":"IF($B11=\"Panel Sales\", SUMIFS(Weekly_Data_Raw[PANEL_AMOUNT],Weekly_Data_Raw[TICKER],'Weekly Metrics'!$A11,Weekly_Data_Raw[END_DATE],'Weekly Metrics'!EG$5),IF($B11=\"Transactions\",SUMIFS(Weekly_Data_Raw[PANEL_TRANSACTIONS],Weekly_Data_Raw[TICKER],'Weekly Metrics'!$A11,Weekly_Data_Raw[END_DATE],'Weekly Metrics'!EG$5), IF($B11=\"Avg Ticket\",SUMIFS(Weekly_Data_Raw[AVG_TICKET],Weekly_Data_Raw[TICKER],'Weekly Metrics'!$A11,Weekly_Data_Raw[END_DATE],'Weekly Metrics'!EG$5), IF($B11=\"EOP Subscribers\",SUMIFS(Weekly_Data_Raw[EOP_SUBSCRIBERS],Weekly_Data_Raw[TICKER],'Weekly Metrics'!$A11,Weekly_Data_Raw[END_DATE],'Weekly Metrics'!EG$5), IF($B11=\"Gross Adds\",SUMIFS(Weekly_Data_Raw[GROSS_ADDS],Weekly_Data_Raw[TICKER],'Weekly Metrics'!$A11,Weekly_Data_Raw[END_DATE],'Weekly Metrics'!EG$5), IF($B11=\"Churn\",SUMIFS(Weekly_Data_Raw[CHURNED_MEMBERS],Weekly_Data_Raw[TICKER],'Weekly Metrics'!$A11,Weekly_Data_Raw[END_DATE],'Weekly Metrics'!EG$5)))))))","v":262402.8},{"$f":"IF($B11=\"Panel Sales\", SUMIFS(Weekly_Data_Raw[PANEL_AMOUNT],Weekly_Data_Raw[TICKER],'Weekly Metrics'!$A11,Weekly_Data_Raw[END_DATE],'Weekly Metrics'!EH$5),IF($B11=\"Transactions\",SUMIFS(Weekly_Data_Raw[PANEL_TRANSACTIONS],Weekly_Data_Raw[TICKER],'Weekly Metrics'!$A11,Weekly_Data_Raw[END_DATE],'Weekly Metrics'!EH$5), IF($B11=\"Avg Ticket\",SUMIFS(Weekly_Data_Raw[AVG_TICKET],Weekly_Data_Raw[TICKER],'Weekly Metrics'!$A11,Weekly_Data_Raw[END_DATE],'Weekly Metrics'!EH$5), IF($B11=\"EOP Subscribers\",SUMIFS(Weekly_Data_Raw[EOP_SUBSCRIBERS],Weekly_Data_Raw[TICKER],'Weekly Metrics'!$A11,Weekly_Data_Raw[END_DATE],'Weekly Metrics'!EH$5), IF($B11=\"Gross Adds\",SUMIFS(Weekly_Data_Raw[GROSS_ADDS],Weekly_Data_Raw[TICKER],'Weekly Metrics'!$A11,Weekly_Data_Raw[END_DATE],'Weekly Metrics'!EH$5), IF($B11=\"Churn\",SUMIFS(Weekly_Data_Raw[CHURNED_MEMBERS],Weekly_Data_Raw[TICKER],'Weekly Metrics'!$A11,Weekly_Data_Raw[END_DATE],'Weekly Metrics'!EH$5)))))))","v":323170.8},{"$f":"IF($B11=\"Panel Sales\", SUMIFS(Weekly_Data_Raw[PANEL_AMOUNT],Weekly_Data_Raw[TICKER],'Weekly Metrics'!$A11,Weekly_Data_Raw[END_DATE],'Weekly Metrics'!EI$5),IF($B11=\"Transactions\",SUMIFS(Weekly_Data_Raw[PANEL_TRANSACTIONS],Weekly_Data_Raw[TICKER],'Weekly Metrics'!$A11,Weekly_Data_Raw[END_DATE],'Weekly Metrics'!EI$5), IF($B11=\"Avg Ticket\",SUMIFS(Weekly_Data_Raw[AVG_TICKET],Weekly_Data_Raw[TICKER],'Weekly Metrics'!$A11,Weekly_Data_Raw[END_DATE],'Weekly Metrics'!EI$5), IF($B11=\"EOP Subscribers\",SUMIFS(Weekly_Data_Raw[EOP_SUBSCRIBERS],Weekly_Data_Raw[TICKER],'Weekly Metrics'!$A11,Weekly_Data_Raw[END_DATE],'Weekly Metrics'!EI$5), IF($B11=\"Gross Adds\",SUMIFS(Weekly_Data_Raw[GROSS_ADDS],Weekly_Data_Raw[TICKER],'Weekly Metrics'!$A11,Weekly_Data_Raw[END_DATE],'Weekly Metrics'!EI$5), IF($B11=\"Churn\",SUMIFS(Weekly_Data_Raw[CHURNED_MEMBERS],Weekly_Data_Raw[TICKER],'Weekly Metrics'!$A11,Weekly_Data_Raw[END_DATE],'Weekly Metrics'!EI$5)))))))","v":252928.59},{"$f":"IF($B11=\"Panel Sales\", SUMIFS(Weekly_Data_Raw[PANEL_AMOUNT],Weekly_Data_Raw[TICKER],'Weekly Metrics'!$A11,Weekly_Data_Raw[END_DATE],'Weekly Metrics'!EJ$5),IF($B11=\"Transactions\",SUMIFS(Weekly_Data_Raw[PANEL_TRANSACTIONS],Weekly_Data_Raw[TICKER],'Weekly Metrics'!$A11,Weekly_Data_Raw[END_DATE],'Weekly Metrics'!EJ$5), IF($B11=\"Avg Ticket\",SUMIFS(Weekly_Data_Raw[AVG_TICKET],Weekly_Data_Raw[TICKER],'Weekly Metrics'!$A11,Weekly_Data_Raw[END_DATE],'Weekly Metrics'!EJ$5), IF($B11=\"EOP Subscribers\",SUMIFS(Weekly_Data_Raw[EOP_SUBSCRIBERS],Weekly_Data_Raw[TICKER],'Weekly Metrics'!$A11,Weekly_Data_Raw[END_DATE],'Weekly Metrics'!EJ$5), IF($B11=\"Gross Adds\",SUMIFS(Weekly_Data_Raw[GROSS_ADDS],Weekly_Data_Raw[TICKER],'Weekly Metrics'!$A11,Weekly_Data_Raw[END_DATE],'Weekly Metrics'!EJ$5), IF($B11=\"Churn\",SUMIFS(Weekly_Data_Raw[CHURNED_MEMBERS],Weekly_Data_Raw[TICKER],'Weekly Metrics'!$A11,Weekly_Data_Raw[END_DATE],'Weekly Metrics'!EJ$5)))))))","v":253240.15},{"$f":"IF($B11=\"Panel Sales\", SUMIFS(Weekly_Data_Raw[PANEL_AMOUNT],Weekly_Data_Raw[TICKER],'Weekly Metrics'!$A11,Weekly_Data_Raw[END_DATE],'Weekly Metrics'!EK$5),IF($B11=\"Transactions\",SUMIFS(Weekly_Data_Raw[PANEL_TRANSACTIONS],Weekly_Data_Raw[TICKER],'Weekly Metrics'!$A11,Weekly_Data_Raw[END_DATE],'Weekly Metrics'!EK$5), IF($B11=\"Avg Ticket\",SUMIFS(Weekly_Data_Raw[AVG_TICKET],Weekly_Data_Raw[TICKER],'Weekly Metrics'!$A11,Weekly_Data_Raw[END_DATE],'Weekly Metrics'!EK$5), IF($B11=\"EOP Subscribers\",SUMIFS(Weekly_Data_Raw[EOP_SUBSCRIBERS],Weekly_Data_Raw[TICKER],'Weekly Metrics'!$A11,Weekly_Data_Raw[END_DATE],'Weekly Metrics'!EK$5), IF($B11=\"Gross Adds\",SUMIFS(Weekly_Data_Raw[GROSS_ADDS],Weekly_Data_Raw[TICKER],'Weekly Metrics'!$A11,Weekly_Data_Raw[END_DATE],'Weekly Metrics'!EK$5), IF($B11=\"Churn\",SUMIFS(Weekly_Data_Raw[CHURNED_MEMBERS],Weekly_Data_Raw[TICKER],'Weekly Metrics'!$A11,Weekly_Data_Raw[END_DATE],'Weekly Metrics'!EK$5)))))))","v":244852.75},{"$f":"IF($B11=\"Panel Sales\", SUMIFS(Weekly_Data_Raw[PANEL_AMOUNT],Weekly_Data_Raw[TICKER],'Weekly Metrics'!$A11,Weekly_Data_Raw[END_DATE],'Weekly Metrics'!EL$5),IF($B11=\"Transactions\",SUMIFS(Weekly_Data_Raw[PANEL_TRANSACTIONS],Weekly_Data_Raw[TICKER],'Weekly Metrics'!$A11,Weekly_Data_Raw[END_DATE],'Weekly Metrics'!EL$5), IF($B11=\"Avg Ticket\",SUMIFS(Weekly_Data_Raw[AVG_TICKET],Weekly_Data_Raw[TICKER],'Weekly Metrics'!$A11,Weekly_Data_Raw[END_DATE],'Weekly Metrics'!EL$5), IF($B11=\"EOP Subscribers\",SUMIFS(Weekly_Data_Raw[EOP_SUBSCRIBERS],Weekly_Data_Raw[TICKER],'Weekly Metrics'!$A11,Weekly_Data_Raw[END_DATE],'Weekly Metrics'!EL$5), IF($B11=\"Gross Adds\",SUMIFS(Weekly_Data_Raw[GROSS_ADDS],Weekly_Data_Raw[TICKER],'Weekly Metrics'!$A11,Weekly_Data_Raw[END_DATE],'Weekly Metrics'!EL$5), IF($B11=\"Churn\",SUMIFS(Weekly_Data_Raw[CHURNED_MEMBERS],Weekly_Data_Raw[TICKER],'Weekly Metrics'!$A11,Weekly_Data_Raw[END_DATE],'Weekly Metrics'!EL$5)))))))","v":344576.23},{"$f":"IF($B11=\"Panel Sales\", SUMIFS(Weekly_Data_Raw[PANEL_AMOUNT],Weekly_Data_Raw[TICKER],'Weekly Metrics'!$A11,Weekly_Data_Raw[END_DATE],'Weekly Metrics'!EM$5),IF($B11=\"Transactions\",SUMIFS(Weekly_Data_Raw[PANEL_TRANSACTIONS],Weekly_Data_Raw[TICKER],'Weekly Metrics'!$A11,Weekly_Data_Raw[END_DATE],'Weekly Metrics'!EM$5), IF($B11=\"Avg Ticket\",SUMIFS(Weekly_Data_Raw[AVG_TICKET],Weekly_Data_Raw[TICKER],'Weekly Metrics'!$A11,Weekly_Data_Raw[END_DATE],'Weekly Metrics'!EM$5), IF($B11=\"EOP Subscribers\",SUMIFS(Weekly_Data_Raw[EOP_SUBSCRIBERS],Weekly_Data_Raw[TICKER],'Weekly Metrics'!$A11,Weekly_Data_Raw[END_DATE],'Weekly Metrics'!EM$5), IF($B11=\"Gross Adds\",SUMIFS(Weekly_Data_Raw[GROSS_ADDS],Weekly_Data_Raw[TICKER],'Weekly Metrics'!$A11,Weekly_Data_Raw[END_DATE],'Weekly Metrics'!EM$5), IF($B11=\"Churn\",SUMIFS(Weekly_Data_Raw[CHURNED_MEMBERS],Weekly_Data_Raw[TICKER],'Weekly Metrics'!$A11,Weekly_Data_Raw[END_DATE],'Weekly Metrics'!EM$5)))))))","v":241630.77},{"$f":"IF($B11=\"Panel Sales\", SUMIFS(Weekly_Data_Raw[PANEL_AMOUNT],Weekly_Data_Raw[TICKER],'Weekly Metrics'!$A11,Weekly_Data_Raw[END_DATE],'Weekly Metrics'!EN$5),IF($B11=\"Transactions\",SUMIFS(Weekly_Data_Raw[PANEL_TRANSACTIONS],Weekly_Data_Raw[TICKER],'Weekly Metrics'!$A11,Weekly_Data_Raw[END_DATE],'Weekly Metrics'!EN$5), IF($B11=\"Avg Ticket\",SUMIFS(Weekly_Data_Raw[AVG_TICKET],Weekly_Data_Raw[TICKER],'Weekly Metrics'!$A11,Weekly_Data_Raw[END_DATE],'Weekly Metrics'!EN$5), IF($B11=\"EOP Subscribers\",SUMIFS(Weekly_Data_Raw[EOP_SUBSCRIBERS],Weekly_Data_Raw[TICKER],'Weekly Metrics'!$A11,Weekly_Data_Raw[END_DATE],'Weekly Metrics'!EN$5), IF($B11=\"Gross Adds\",SUMIFS(Weekly_Data_Raw[GROSS_ADDS],Weekly_Data_Raw[TICKER],'Weekly Metrics'!$A11,Weekly_Data_Raw[END_DATE],'Weekly Metrics'!EN$5), IF($B11=\"Churn\",SUMIFS(Weekly_Data_Raw[CHURNED_MEMBERS],Weekly_Data_Raw[TICKER],'Weekly Metrics'!$A11,Weekly_Data_Raw[END_DATE],'Weekly Metrics'!EN$5)))))))","v":262147.78000000003},{"$f":"IF($B11=\"Panel Sales\", SUMIFS(Weekly_Data_Raw[PANEL_AMOUNT],Weekly_Data_Raw[TICKER],'Weekly Metrics'!$A11,Weekly_Data_Raw[END_DATE],'Weekly Metrics'!EO$5),IF($B11=\"Transactions\",SUMIFS(Weekly_Data_Raw[PANEL_TRANSACTIONS],Weekly_Data_Raw[TICKER],'Weekly Metrics'!$A11,Weekly_Data_Raw[END_DATE],'Weekly Metrics'!EO$5), IF($B11=\"Avg Ticket\",SUMIFS(Weekly_Data_Raw[AVG_TICKET],Weekly_Data_Raw[TICKER],'Weekly Metrics'!$A11,Weekly_Data_Raw[END_DATE],'Weekly Metrics'!EO$5), IF($B11=\"EOP Subscribers\",SUMIFS(Weekly_Data_Raw[EOP_SUBSCRIBERS],Weekly_Data_Raw[TICKER],'Weekly Metrics'!$A11,Weekly_Data_Raw[END_DATE],'Weekly Metrics'!EO$5), IF($B11=\"Gross Adds\",SUMIFS(Weekly_Data_Raw[GROSS_ADDS],Weekly_Data_Raw[TICKER],'Weekly Metrics'!$A11,Weekly_Data_Raw[END_DATE],'Weekly Metrics'!EO$5), IF($B11=\"Churn\",SUMIFS(Weekly_Data_Raw[CHURNED_MEMBERS],Weekly_Data_Raw[TICKER],'Weekly Metrics'!$A11,Weekly_Data_Raw[END_DATE],'Weekly Metrics'!EO$5)))))))","v":244170.22},{"$f":"IF($B11=\"Panel Sales\", SUMIFS(Weekly_Data_Raw[PANEL_AMOUNT],Weekly_Data_Raw[TICKER],'Weekly Metrics'!$A11,Weekly_Data_Raw[END_DATE],'Weekly Metrics'!EP$5),IF($B11=\"Transactions\",SUMIFS(Weekly_Data_Raw[PANEL_TRANSACTIONS],Weekly_Data_Raw[TICKER],'Weekly Metrics'!$A11,Weekly_Data_Raw[END_DATE],'Weekly Metrics'!EP$5), IF($B11=\"Avg Ticket\",SUMIFS(Weekly_Data_Raw[AVG_TICKET],Weekly_Data_Raw[TICKER],'Weekly Metrics'!$A11,Weekly_Data_Raw[END_DATE],'Weekly Metrics'!EP$5), IF($B11=\"EOP Subscribers\",SUMIFS(Weekly_Data_Raw[EOP_SUBSCRIBERS],Weekly_Data_Raw[TICKER],'Weekly Metrics'!$A11,Weekly_Data_Raw[END_DATE],'Weekly Metrics'!EP$5), IF($B11=\"Gross Adds\",SUMIFS(Weekly_Data_Raw[GROSS_ADDS],Weekly_Data_Raw[TICKER],'Weekly Metrics'!$A11,Weekly_Data_Raw[END_DATE],'Weekly Metrics'!EP$5), IF($B11=\"Churn\",SUMIFS(Weekly_Data_Raw[CHURNED_MEMBERS],Weekly_Data_Raw[TICKER],'Weekly Metrics'!$A11,Weekly_Data_Raw[END_DATE],'Weekly Metrics'!EP$5)))))))","v":304915.19},{"$f":"IF($B11=\"Panel Sales\", SUMIFS(Weekly_Data_Raw[PANEL_AMOUNT],Weekly_Data_Raw[TICKER],'Weekly Metrics'!$A11,Weekly_Data_Raw[END_DATE],'Weekly Metrics'!EQ$5),IF($B11=\"Transactions\",SUMIFS(Weekly_Data_Raw[PANEL_TRANSACTIONS],Weekly_Data_Raw[TICKER],'Weekly Metrics'!$A11,Weekly_Data_Raw[END_DATE],'Weekly Metrics'!EQ$5), IF($B11=\"Avg Ticket\",SUMIFS(Weekly_Data_Raw[AVG_TICKET],Weekly_Data_Raw[TICKER],'Weekly Metrics'!$A11,Weekly_Data_Raw[END_DATE],'Weekly Metrics'!EQ$5), IF($B11=\"EOP Subscribers\",SUMIFS(Weekly_Data_Raw[EOP_SUBSCRIBERS],Weekly_Data_Raw[TICKER],'Weekly Metrics'!$A11,Weekly_Data_Raw[END_DATE],'Weekly Metrics'!EQ$5), IF($B11=\"Gross Adds\",SUMIFS(Weekly_Data_Raw[GROSS_ADDS],Weekly_Data_Raw[TICKER],'Weekly Metrics'!$A11,Weekly_Data_Raw[END_DATE],'Weekly Metrics'!EQ$5), IF($B11=\"Churn\",SUMIFS(Weekly_Data_Raw[CHURNED_MEMBERS],Weekly_Data_Raw[TICKER],'Weekly Metrics'!$A11,Weekly_Data_Raw[END_DATE],'Weekly Metrics'!EQ$5)))))))","v":304792.86},{"$f":"IF($B11=\"Panel Sales\", SUMIFS(Weekly_Data_Raw[PANEL_AMOUNT],Weekly_Data_Raw[TICKER],'Weekly Metrics'!$A11,Weekly_Data_Raw[END_DATE],'Weekly Metrics'!ER$5),IF($B11=\"Transactions\",SUMIFS(Weekly_Data_Raw[PANEL_TRANSACTIONS],Weekly_Data_Raw[TICKER],'Weekly Metrics'!$A11,Weekly_Data_Raw[END_DATE],'Weekly Metrics'!ER$5), IF($B11=\"Avg Ticket\",SUMIFS(Weekly_Data_Raw[AVG_TICKET],Weekly_Data_Raw[TICKER],'Weekly Metrics'!$A11,Weekly_Data_Raw[END_DATE],'Weekly Metrics'!ER$5), IF($B11=\"EOP Subscribers\",SUMIFS(Weekly_Data_Raw[EOP_SUBSCRIBERS],Weekly_Data_Raw[TICKER],'Weekly Metrics'!$A11,Weekly_Data_Raw[END_DATE],'Weekly Metrics'!ER$5), IF($B11=\"Gross Adds\",SUMIFS(Weekly_Data_Raw[GROSS_ADDS],Weekly_Data_Raw[TICKER],'Weekly Metrics'!$A11,Weekly_Data_Raw[END_DATE],'Weekly Metrics'!ER$5), IF($B11=\"Churn\",SUMIFS(Weekly_Data_Raw[CHURNED_MEMBERS],Weekly_Data_Raw[TICKER],'Weekly Metrics'!$A11,Weekly_Data_Raw[END_DATE],'Weekly Metrics'!ER$5)))))))","v":238413.11},{"$f":"IF($B11=\"Panel Sales\", SUMIFS(Weekly_Data_Raw[PANEL_AMOUNT],Weekly_Data_Raw[TICKER],'Weekly Metrics'!$A11,Weekly_Data_Raw[END_DATE],'Weekly Metrics'!ES$5),IF($B11=\"Transactions\",SUMIFS(Weekly_Data_Raw[PANEL_TRANSACTIONS],Weekly_Data_Raw[TICKER],'Weekly Metrics'!$A11,Weekly_Data_Raw[END_DATE],'Weekly Metrics'!ES$5), IF($B11=\"Avg Ticket\",SUMIFS(Weekly_Data_Raw[AVG_TICKET],Weekly_Data_Raw[TICKER],'Weekly Metrics'!$A11,Weekly_Data_Raw[END_DATE],'Weekly Metrics'!ES$5), IF($B11=\"EOP Subscribers\",SUMIFS(Weekly_Data_Raw[EOP_SUBSCRIBERS],Weekly_Data_Raw[TICKER],'Weekly Metrics'!$A11,Weekly_Data_Raw[END_DATE],'Weekly Metrics'!ES$5), IF($B11=\"Gross Adds\",SUMIFS(Weekly_Data_Raw[GROSS_ADDS],Weekly_Data_Raw[TICKER],'Weekly Metrics'!$A11,Weekly_Data_Raw[END_DATE],'Weekly Metrics'!ES$5), IF($B11=\"Churn\",SUMIFS(Weekly_Data_Raw[CHURNED_MEMBERS],Weekly_Data_Raw[TICKER],'Weekly Metrics'!$A11,Weekly_Data_Raw[END_DATE],'Weekly Metrics'!ES$5)))))))","v":255533.45},{"$f":"IF($B11=\"Panel Sales\", SUMIFS(Weekly_Data_Raw[PANEL_AMOUNT],Weekly_Data_Raw[TICKER],'Weekly Metrics'!$A11,Weekly_Data_Raw[END_DATE],'Weekly Metrics'!ET$5),IF($B11=\"Transactions\",SUMIFS(Weekly_Data_Raw[PANEL_TRANSACTIONS],Weekly_Data_Raw[TICKER],'Weekly Metrics'!$A11,Weekly_Data_Raw[END_DATE],'Weekly Metrics'!ET$5), IF($B11=\"Avg Ticket\",SUMIFS(Weekly_Data_Raw[AVG_TICKET],Weekly_Data_Raw[TICKER],'Weekly Metrics'!$A11,Weekly_Data_Raw[END_DATE],'Weekly Metrics'!ET$5), IF($B11=\"EOP Subscribers\",SUMIFS(Weekly_Data_Raw[EOP_SUBSCRIBERS],Weekly_Data_Raw[TICKER],'Weekly Metrics'!$A11,Weekly_Data_Raw[END_DATE],'Weekly Metrics'!ET$5), IF($B11=\"Gross Adds\",SUMIFS(Weekly_Data_Raw[GROSS_ADDS],Weekly_Data_Raw[TICKER],'Weekly Metrics'!$A11,Weekly_Data_Raw[END_DATE],'Weekly Metrics'!ET$5), IF($B11=\"Churn\",SUMIFS(Weekly_Data_Raw[CHURNED_MEMBERS],Weekly_Data_Raw[TICKER],'Weekly Metrics'!$A11,Weekly_Data_Raw[END_DATE],'Weekly Metrics'!ET$5)))))))","v":239242.49},{"$f":"IF($B11=\"Panel Sales\", SUMIFS(Weekly_Data_Raw[PANEL_AMOUNT],Weekly_Data_Raw[TICKER],'Weekly Metrics'!$A11,Weekly_Data_Raw[END_DATE],'Weekly Metrics'!EU$5),IF($B11=\"Transactions\",SUMIFS(Weekly_Data_Raw[PANEL_TRANSACTIONS],Weekly_Data_Raw[TICKER],'Weekly Metrics'!$A11,Weekly_Data_Raw[END_DATE],'Weekly Metrics'!EU$5), IF($B11=\"Avg Ticket\",SUMIFS(Weekly_Data_Raw[AVG_TICKET],Weekly_Data_Raw[TICKER],'Weekly Metrics'!$A11,Weekly_Data_Raw[END_DATE],'Weekly Metrics'!EU$5), IF($B11=\"EOP Subscribers\",SUMIFS(Weekly_Data_Raw[EOP_SUBSCRIBERS],Weekly_Data_Raw[TICKER],'Weekly Metrics'!$A11,Weekly_Data_Raw[END_DATE],'Weekly Metrics'!EU$5), IF($B11=\"Gross Adds\",SUMIFS(Weekly_Data_Raw[GROSS_ADDS],Weekly_Data_Raw[TICKER],'Weekly Metrics'!$A11,Weekly_Data_Raw[END_DATE],'Weekly Metrics'!EU$5), IF($B11=\"Churn\",SUMIFS(Weekly_Data_Raw[CHURNED_MEMBERS],Weekly_Data_Raw[TICKER],'Weekly Metrics'!$A11,Weekly_Data_Raw[END_DATE],'Weekly Metrics'!EU$5)))))))","v":343134.22},{"$f":"IF($B11=\"Panel Sales\", SUMIFS(Weekly_Data_Raw[PANEL_AMOUNT],Weekly_Data_Raw[TICKER],'Weekly Metrics'!$A11,Weekly_Data_Raw[END_DATE],'Weekly Metrics'!EV$5),IF($B11=\"Transactions\",SUMIFS(Weekly_Data_Raw[PANEL_TRANSACTIONS],Weekly_Data_Raw[TICKER],'Weekly Metrics'!$A11,Weekly_Data_Raw[END_DATE],'Weekly Metrics'!EV$5), IF($B11=\"Avg Ticket\",SUMIFS(Weekly_Data_Raw[AVG_TICKET],Weekly_Data_Raw[TICKER],'Weekly Metrics'!$A11,Weekly_Data_Raw[END_DATE],'Weekly Metrics'!EV$5), IF($B11=\"EOP Subscribers\",SUMIFS(Weekly_Data_Raw[EOP_SUBSCRIBERS],Weekly_Data_Raw[TICKER],'Weekly Metrics'!$A11,Weekly_Data_Raw[END_DATE],'Weekly Metrics'!EV$5), IF($B11=\"Gross Adds\",SUMIFS(Weekly_Data_Raw[GROSS_ADDS],Weekly_Data_Raw[TICKER],'Weekly Metrics'!$A11,Weekly_Data_Raw[END_DATE],'Weekly Metrics'!EV$5), IF($B11=\"Churn\",SUMIFS(Weekly_Data_Raw[CHURNED_MEMBERS],Weekly_Data_Raw[TICKER],'Weekly Metrics'!$A11,Weekly_Data_Raw[END_DATE],'Weekly Metrics'!EV$5)))))))","v":243312.52},{"$f":"IF($B11=\"Panel Sales\", SUMIFS(Weekly_Data_Raw[PANEL_AMOUNT],Weekly_Data_Raw[TICKER],'Weekly Metrics'!$A11,Weekly_Data_Raw[END_DATE],'Weekly Metrics'!EW$5),IF($B11=\"Transactions\",SUMIFS(Weekly_Data_Raw[PANEL_TRANSACTIONS],Weekly_Data_Raw[TICKER],'Weekly Metrics'!$A11,Weekly_Data_Raw[END_DATE],'Weekly Metrics'!EW$5), IF($B11=\"Avg Ticket\",SUMIFS(Weekly_Data_Raw[AVG_TICKET],Weekly_Data_Raw[TICKER],'Weekly Metrics'!$A11,Weekly_Data_Raw[END_DATE],'Weekly Metrics'!EW$5), IF($B11=\"EOP Subscribers\",SUMIFS(Weekly_Data_Raw[EOP_SUBSCRIBERS],Weekly_Data_Raw[TICKER],'Weekly Metrics'!$A11,Weekly_Data_Raw[END_DATE],'Weekly Metrics'!EW$5), IF($B11=\"Gross Adds\",SUMIFS(Weekly_Data_Raw[GROSS_ADDS],Weekly_Data_Raw[TICKER],'Weekly Metrics'!$A11,Weekly_Data_Raw[END_DATE],'Weekly Metrics'!EW$5), IF($B11=\"Churn\",SUMIFS(Weekly_Data_Raw[CHURNED_MEMBERS],Weekly_Data_Raw[TICKER],'Weekly Metrics'!$A11,Weekly_Data_Raw[END_DATE],'Weekly Metrics'!EW$5)))))))","v":270426.84999999998},{"$f":"IF($B11=\"Panel Sales\", SUMIFS(Weekly_Data_Raw[PANEL_AMOUNT],Weekly_Data_Raw[TICKER],'Weekly Metrics'!$A11,Weekly_Data_Raw[END_DATE],'Weekly Metrics'!EX$5),IF($B11=\"Transactions\",SUMIFS(Weekly_Data_Raw[PANEL_TRANSACTIONS],Weekly_Data_Raw[TICKER],'Weekly Metrics'!$A11,Weekly_Data_Raw[END_DATE],'Weekly Metrics'!EX$5), IF($B11=\"Avg Ticket\",SUMIFS(Weekly_Data_Raw[AVG_TICKET],Weekly_Data_Raw[TICKER],'Weekly Metrics'!$A11,Weekly_Data_Raw[END_DATE],'Weekly Metrics'!EX$5), IF($B11=\"EOP Subscribers\",SUMIFS(Weekly_Data_Raw[EOP_SUBSCRIBERS],Weekly_Data_Raw[TICKER],'Weekly Metrics'!$A11,Weekly_Data_Raw[END_DATE],'Weekly Metrics'!EX$5), IF($B11=\"Gross Adds\",SUMIFS(Weekly_Data_Raw[GROSS_ADDS],Weekly_Data_Raw[TICKER],'Weekly Metrics'!$A11,Weekly_Data_Raw[END_DATE],'Weekly Metrics'!EX$5), IF($B11=\"Churn\",SUMIFS(Weekly_Data_Raw[CHURNED_MEMBERS],Weekly_Data_Raw[TICKER],'Weekly Metrics'!$A11,Weekly_Data_Raw[END_DATE],'Weekly Metrics'!EX$5)))))))","v":227141.03},{"$f":"IF($B11=\"Panel Sales\", SUMIFS(Weekly_Data_Raw[PANEL_AMOUNT],Weekly_Data_Raw[TICKER],'Weekly Metrics'!$A11,Weekly_Data_Raw[END_DATE],'Weekly Metrics'!EY$5),IF($B11=\"Transactions\",SUMIFS(Weekly_Data_Raw[PANEL_TRANSACTIONS],Weekly_Data_Raw[TICKER],'Weekly Metrics'!$A11,Weekly_Data_Raw[END_DATE],'Weekly Metrics'!EY$5), IF($B11=\"Avg Ticket\",SUMIFS(Weekly_Data_Raw[AVG_TICKET],Weekly_Data_Raw[TICKER],'Weekly Metrics'!$A11,Weekly_Data_Raw[END_DATE],'Weekly Metrics'!EY$5), IF($B11=\"EOP Subscribers\",SUMIFS(Weekly_Data_Raw[EOP_SUBSCRIBERS],Weekly_Data_Raw[TICKER],'Weekly Metrics'!$A11,Weekly_Data_Raw[END_DATE],'Weekly Metrics'!EY$5), IF($B11=\"Gross Adds\",SUMIFS(Weekly_Data_Raw[GROSS_ADDS],Weekly_Data_Raw[TICKER],'Weekly Metrics'!$A11,Weekly_Data_Raw[END_DATE],'Weekly Metrics'!EY$5), IF($B11=\"Churn\",SUMIFS(Weekly_Data_Raw[CHURNED_MEMBERS],Weekly_Data_Raw[TICKER],'Weekly Metrics'!$A11,Weekly_Data_Raw[END_DATE],'Weekly Metrics'!EY$5)))))))","v":359074.1},{"$f":"IF($B11=\"Panel Sales\", SUMIFS(Weekly_Data_Raw[PANEL_AMOUNT],Weekly_Data_Raw[TICKER],'Weekly Metrics'!$A11,Weekly_Data_Raw[END_DATE],'Weekly Metrics'!EZ$5),IF($B11=\"Transactions\",SUMIFS(Weekly_Data_Raw[PANEL_TRANSACTIONS],Weekly_Data_Raw[TICKER],'Weekly Metrics'!$A11,Weekly_Data_Raw[END_DATE],'Weekly Metrics'!EZ$5), IF($B11=\"Avg Ticket\",SUMIFS(Weekly_Data_Raw[AVG_TICKET],Weekly_Data_Raw[TICKER],'Weekly Metrics'!$A11,Weekly_Data_Raw[END_DATE],'Weekly Metrics'!EZ$5), IF($B11=\"EOP Subscribers\",SUMIFS(Weekly_Data_Raw[EOP_SUBSCRIBERS],Weekly_Data_Raw[TICKER],'Weekly Metrics'!$A11,Weekly_Data_Raw[END_DATE],'Weekly Metrics'!EZ$5), IF($B11=\"Gross Adds\",SUMIFS(Weekly_Data_Raw[GROSS_ADDS],Weekly_Data_Raw[TICKER],'Weekly Metrics'!$A11,Weekly_Data_Raw[END_DATE],'Weekly Metrics'!EZ$5), IF($B11=\"Churn\",SUMIFS(Weekly_Data_Raw[CHURNED_MEMBERS],Weekly_Data_Raw[TICKER],'Weekly Metrics'!$A11,Weekly_Data_Raw[END_DATE],'Weekly Metrics'!EZ$5)))))))","v":262139.82},{"$f":"IF($B11=\"Panel Sales\", SUMIFS(Weekly_Data_Raw[PANEL_AMOUNT],Weekly_Data_Raw[TICKER],'Weekly Metrics'!$A11,Weekly_Data_Raw[END_DATE],'Weekly Metrics'!FA$5),IF($B11=\"Transactions\",SUMIFS(Weekly_Data_Raw[PANEL_TRANSACTIONS],Weekly_Data_Raw[TICKER],'Weekly Metrics'!$A11,Weekly_Data_Raw[END_DATE],'Weekly Metrics'!FA$5), IF($B11=\"Avg Ticket\",SUMIFS(Weekly_Data_Raw[AVG_TICKET],Weekly_Data_Raw[TICKER],'Weekly Metrics'!$A11,Weekly_Data_Raw[END_DATE],'Weekly Metrics'!FA$5), IF($B11=\"EOP Subscribers\",SUMIFS(Weekly_Data_Raw[EOP_SUBSCRIBERS],Weekly_Data_Raw[TICKER],'Weekly Metrics'!$A11,Weekly_Data_Raw[END_DATE],'Weekly Metrics'!FA$5), IF($B11=\"Gross Adds\",SUMIFS(Weekly_Data_Raw[GROSS_ADDS],Weekly_Data_Raw[TICKER],'Weekly Metrics'!$A11,Weekly_Data_Raw[END_DATE],'Weekly Metrics'!FA$5), IF($B11=\"Churn\",SUMIFS(Weekly_Data_Raw[CHURNED_MEMBERS],Weekly_Data_Raw[TICKER],'Weekly Metrics'!$A11,Weekly_Data_Raw[END_DATE],'Weekly Metrics'!FA$5)))))))","v":266346.49},{"$f":"IF($B11=\"Panel Sales\", SUMIFS(Weekly_Data_Raw[PANEL_AMOUNT],Weekly_Data_Raw[TICKER],'Weekly Metrics'!$A11,Weekly_Data_Raw[END_DATE],'Weekly Metrics'!FB$5),IF($B11=\"Transactions\",SUMIFS(Weekly_Data_Raw[PANEL_TRANSACTIONS],Weekly_Data_Raw[TICKER],'Weekly Metrics'!$A11,Weekly_Data_Raw[END_DATE],'Weekly Metrics'!FB$5), IF($B11=\"Avg Ticket\",SUMIFS(Weekly_Data_Raw[AVG_TICKET],Weekly_Data_Raw[TICKER],'Weekly Metrics'!$A11,Weekly_Data_Raw[END_DATE],'Weekly Metrics'!FB$5), IF($B11=\"EOP Subscribers\",SUMIFS(Weekly_Data_Raw[EOP_SUBSCRIBERS],Weekly_Data_Raw[TICKER],'Weekly Metrics'!$A11,Weekly_Data_Raw[END_DATE],'Weekly Metrics'!FB$5), IF($B11=\"Gross Adds\",SUMIFS(Weekly_Data_Raw[GROSS_ADDS],Weekly_Data_Raw[TICKER],'Weekly Metrics'!$A11,Weekly_Data_Raw[END_DATE],'Weekly Metrics'!FB$5), IF($B11=\"Churn\",SUMIFS(Weekly_Data_Raw[CHURNED_MEMBERS],Weekly_Data_Raw[TICKER],'Weekly Metrics'!$A11,Weekly_Data_Raw[END_DATE],'Weekly Metrics'!FB$5)))))))","v":241337.82},{"$f":"IF($B11=\"Panel Sales\", SUMIFS(Weekly_Data_Raw[PANEL_AMOUNT],Weekly_Data_Raw[TICKER],'Weekly Metrics'!$A11,Weekly_Data_Raw[END_DATE],'Weekly Metrics'!FC$5),IF($B11=\"Transactions\",SUMIFS(Weekly_Data_Raw[PANEL_TRANSACTIONS],Weekly_Data_Raw[TICKER],'Weekly Metrics'!$A11,Weekly_Data_Raw[END_DATE],'Weekly Metrics'!FC$5), IF($B11=\"Avg Ticket\",SUMIFS(Weekly_Data_Raw[AVG_TICKET],Weekly_Data_Raw[TICKER],'Weekly Metrics'!$A11,Weekly_Data_Raw[END_DATE],'Weekly Metrics'!FC$5), IF($B11=\"EOP Subscribers\",SUMIFS(Weekly_Data_Raw[EOP_SUBSCRIBERS],Weekly_Data_Raw[TICKER],'Weekly Metrics'!$A11,Weekly_Data_Raw[END_DATE],'Weekly Metrics'!FC$5), IF($B11=\"Gross Adds\",SUMIFS(Weekly_Data_Raw[GROSS_ADDS],Weekly_Data_Raw[TICKER],'Weekly Metrics'!$A11,Weekly_Data_Raw[END_DATE],'Weekly Metrics'!FC$5), IF($B11=\"Churn\",SUMIFS(Weekly_Data_Raw[CHURNED_MEMBERS],Weekly_Data_Raw[TICKER],'Weekly Metrics'!$A11,Weekly_Data_Raw[END_DATE],'Weekly Metrics'!FC$5)))))))","v":265080.15000000002},{"$f":"IF($B11=\"Panel Sales\", SUMIFS(Weekly_Data_Raw[PANEL_AMOUNT],Weekly_Data_Raw[TICKER],'Weekly Metrics'!$A11,Weekly_Data_Raw[END_DATE],'Weekly Metrics'!FD$5),IF($B11=\"Transactions\",SUMIFS(Weekly_Data_Raw[PANEL_TRANSACTIONS],Weekly_Data_Raw[TICKER],'Weekly Metrics'!$A11,Weekly_Data_Raw[END_DATE],'Weekly Metrics'!FD$5), IF($B11=\"Avg Ticket\",SUMIFS(Weekly_Data_Raw[AVG_TICKET],Weekly_Data_Raw[TICKER],'Weekly Metrics'!$A11,Weekly_Data_Raw[END_DATE],'Weekly Metrics'!FD$5), IF($B11=\"EOP Subscribers\",SUMIFS(Weekly_Data_Raw[EOP_SUBSCRIBERS],Weekly_Data_Raw[TICKER],'Weekly Metrics'!$A11,Weekly_Data_Raw[END_DATE],'Weekly Metrics'!FD$5), IF($B11=\"Gross Adds\",SUMIFS(Weekly_Data_Raw[GROSS_ADDS],Weekly_Data_Raw[TICKER],'Weekly Metrics'!$A11,Weekly_Data_Raw[END_DATE],'Weekly Metrics'!FD$5), IF($B11=\"Churn\",SUMIFS(Weekly_Data_Raw[CHURNED_MEMBERS],Weekly_Data_Raw[TICKER],'Weekly Metrics'!$A11,Weekly_Data_Raw[END_DATE],'Weekly Metrics'!FD$5)))))))","v":320389.17},{"$f":"IF($B11=\"Panel Sales\", SUMIFS(Weekly_Data_Raw[PANEL_AMOUNT],Weekly_Data_Raw[TICKER],'Weekly Metrics'!$A11,Weekly_Data_Raw[END_DATE],'Weekly Metrics'!FE$5),IF($B11=\"Transactions\",SUMIFS(Weekly_Data_Raw[PANEL_TRANSACTIONS],Weekly_Data_Raw[TICKER],'Weekly Metrics'!$A11,Weekly_Data_Raw[END_DATE],'Weekly Metrics'!FE$5), IF($B11=\"Avg Ticket\",SUMIFS(Weekly_Data_Raw[AVG_TICKET],Weekly_Data_Raw[TICKER],'Weekly Metrics'!$A11,Weekly_Data_Raw[END_DATE],'Weekly Metrics'!FE$5), IF($B11=\"EOP Subscribers\",SUMIFS(Weekly_Data_Raw[EOP_SUBSCRIBERS],Weekly_Data_Raw[TICKER],'Weekly Metrics'!$A11,Weekly_Data_Raw[END_DATE],'Weekly Metrics'!FE$5), IF($B11=\"Gross Adds\",SUMIFS(Weekly_Data_Raw[GROSS_ADDS],Weekly_Data_Raw[TICKER],'Weekly Metrics'!$A11,Weekly_Data_Raw[END_DATE],'Weekly Metrics'!FE$5), IF($B11=\"Churn\",SUMIFS(Weekly_Data_Raw[CHURNED_MEMBERS],Weekly_Data_Raw[TICKER],'Weekly Metrics'!$A11,Weekly_Data_Raw[END_DATE],'Weekly Metrics'!FE$5)))))))","v":247882.55},{"$f":"IF($B11=\"Panel Sales\", SUMIFS(Weekly_Data_Raw[PANEL_AMOUNT],Weekly_Data_Raw[TICKER],'Weekly Metrics'!$A11,Weekly_Data_Raw[END_DATE],'Weekly Metrics'!FF$5),IF($B11=\"Transactions\",SUMIFS(Weekly_Data_Raw[PANEL_TRANSACTIONS],Weekly_Data_Raw[TICKER],'Weekly Metrics'!$A11,Weekly_Data_Raw[END_DATE],'Weekly Metrics'!FF$5), IF($B11=\"Avg Ticket\",SUMIFS(Weekly_Data_Raw[AVG_TICKET],Weekly_Data_Raw[TICKER],'Weekly Metrics'!$A11,Weekly_Data_Raw[END_DATE],'Weekly Metrics'!FF$5), IF($B11=\"EOP Subscribers\",SUMIFS(Weekly_Data_Raw[EOP_SUBSCRIBERS],Weekly_Data_Raw[TICKER],'Weekly Metrics'!$A11,Weekly_Data_Raw[END_DATE],'Weekly Metrics'!FF$5), IF($B11=\"Gross Adds\",SUMIFS(Weekly_Data_Raw[GROSS_ADDS],Weekly_Data_Raw[TICKER],'Weekly Metrics'!$A11,Weekly_Data_Raw[END_DATE],'Weekly Metrics'!FF$5), IF($B11=\"Churn\",SUMIFS(Weekly_Data_Raw[CHURNED_MEMBERS],Weekly_Data_Raw[TICKER],'Weekly Metrics'!$A11,Weekly_Data_Raw[END_DATE],'Weekly Metrics'!FF$5)))))))","v":254977.92000000001},{"$f":"IF($B11=\"Panel Sales\", SUMIFS(Weekly_Data_Raw[PANEL_AMOUNT],Weekly_Data_Raw[TICKER],'Weekly Metrics'!$A11,Weekly_Data_Raw[END_DATE],'Weekly Metrics'!FG$5),IF($B11=\"Transactions\",SUMIFS(Weekly_Data_Raw[PANEL_TRANSACTIONS],Weekly_Data_Raw[TICKER],'Weekly Metrics'!$A11,Weekly_Data_Raw[END_DATE],'Weekly Metrics'!FG$5), IF($B11=\"Avg Ticket\",SUMIFS(Weekly_Data_Raw[AVG_TICKET],Weekly_Data_Raw[TICKER],'Weekly Metrics'!$A11,Weekly_Data_Raw[END_DATE],'Weekly Metrics'!FG$5), IF($B11=\"EOP Subscribers\",SUMIFS(Weekly_Data_Raw[EOP_SUBSCRIBERS],Weekly_Data_Raw[TICKER],'Weekly Metrics'!$A11,Weekly_Data_Raw[END_DATE],'Weekly Metrics'!FG$5), IF($B11=\"Gross Adds\",SUMIFS(Weekly_Data_Raw[GROSS_ADDS],Weekly_Data_Raw[TICKER],'Weekly Metrics'!$A11,Weekly_Data_Raw[END_DATE],'Weekly Metrics'!FG$5), IF($B11=\"Churn\",SUMIFS(Weekly_Data_Raw[CHURNED_MEMBERS],Weekly_Data_Raw[TICKER],'Weekly Metrics'!$A11,Weekly_Data_Raw[END_DATE],'Weekly Metrics'!FG$5)))))))","v":224754.14},{"$f":"IF($B11=\"Panel Sales\", SUMIFS(Weekly_Data_Raw[PANEL_AMOUNT],Weekly_Data_Raw[TICKER],'Weekly Metrics'!$A11,Weekly_Data_Raw[END_DATE],'Weekly Metrics'!FH$5),IF($B11=\"Transactions\",SUMIFS(Weekly_Data_Raw[PANEL_TRANSACTIONS],Weekly_Data_Raw[TICKER],'Weekly Metrics'!$A11,Weekly_Data_Raw[END_DATE],'Weekly Metrics'!FH$5), IF($B11=\"Avg Ticket\",SUMIFS(Weekly_Data_Raw[AVG_TICKET],Weekly_Data_Raw[TICKER],'Weekly Metrics'!$A11,Weekly_Data_Raw[END_DATE],'Weekly Metrics'!FH$5), IF($B11=\"EOP Subscribers\",SUMIFS(Weekly_Data_Raw[EOP_SUBSCRIBERS],Weekly_Data_Raw[TICKER],'Weekly Metrics'!$A11,Weekly_Data_Raw[END_DATE],'Weekly Metrics'!FH$5), IF($B11=\"Gross Adds\",SUMIFS(Weekly_Data_Raw[GROSS_ADDS],Weekly_Data_Raw[TICKER],'Weekly Metrics'!$A11,Weekly_Data_Raw[END_DATE],'Weekly Metrics'!FH$5), IF($B11=\"Churn\",SUMIFS(Weekly_Data_Raw[CHURNED_MEMBERS],Weekly_Data_Raw[TICKER],'Weekly Metrics'!$A11,Weekly_Data_Raw[END_DATE],'Weekly Metrics'!FH$5)))))))","v":359013.09},{"$f":"IF($B11=\"Panel Sales\", SUMIFS(Weekly_Data_Raw[PANEL_AMOUNT],Weekly_Data_Raw[TICKER],'Weekly Metrics'!$A11,Weekly_Data_Raw[END_DATE],'Weekly Metrics'!FI$5),IF($B11=\"Transactions\",SUMIFS(Weekly_Data_Raw[PANEL_TRANSACTIONS],Weekly_Data_Raw[TICKER],'Weekly Metrics'!$A11,Weekly_Data_Raw[END_DATE],'Weekly Metrics'!FI$5), IF($B11=\"Avg Ticket\",SUMIFS(Weekly_Data_Raw[AVG_TICKET],Weekly_Data_Raw[TICKER],'Weekly Metrics'!$A11,Weekly_Data_Raw[END_DATE],'Weekly Metrics'!FI$5), IF($B11=\"EOP Subscribers\",SUMIFS(Weekly_Data_Raw[EOP_SUBSCRIBERS],Weekly_Data_Raw[TICKER],'Weekly Metrics'!$A11,Weekly_Data_Raw[END_DATE],'Weekly Metrics'!FI$5), IF($B11=\"Gross Adds\",SUMIFS(Weekly_Data_Raw[GROSS_ADDS],Weekly_Data_Raw[TICKER],'Weekly Metrics'!$A11,Weekly_Data_Raw[END_DATE],'Weekly Metrics'!FI$5), IF($B11=\"Churn\",SUMIFS(Weekly_Data_Raw[CHURNED_MEMBERS],Weekly_Data_Raw[TICKER],'Weekly Metrics'!$A11,Weekly_Data_Raw[END_DATE],'Weekly Metrics'!FI$5)))))))","v":249715.86},{"$f":"IF($B11=\"Panel Sales\", SUMIFS(Weekly_Data_Raw[PANEL_AMOUNT],Weekly_Data_Raw[TICKER],'Weekly Metrics'!$A11,Weekly_Data_Raw[END_DATE],'Weekly Metrics'!FJ$5),IF($B11=\"Transactions\",SUMIFS(Weekly_Data_Raw[PANEL_TRANSACTIONS],Weekly_Data_Raw[TICKER],'Weekly Metrics'!$A11,Weekly_Data_Raw[END_DATE],'Weekly Metrics'!FJ$5), IF($B11=\"Avg Ticket\",SUMIFS(Weekly_Data_Raw[AVG_TICKET],Weekly_Data_Raw[TICKER],'Weekly Metrics'!$A11,Weekly_Data_Raw[END_DATE],'Weekly Metrics'!FJ$5), IF($B11=\"EOP Subscribers\",SUMIFS(Weekly_Data_Raw[EOP_SUBSCRIBERS],Weekly_Data_Raw[TICKER],'Weekly Metrics'!$A11,Weekly_Data_Raw[END_DATE],'Weekly Metrics'!FJ$5), IF($B11=\"Gross Adds\",SUMIFS(Weekly_Data_Raw[GROSS_ADDS],Weekly_Data_Raw[TICKER],'Weekly Metrics'!$A11,Weekly_Data_Raw[END_DATE],'Weekly Metrics'!FJ$5), IF($B11=\"Churn\",SUMIFS(Weekly_Data_Raw[CHURNED_MEMBERS],Weekly_Data_Raw[TICKER],'Weekly Metrics'!$A11,Weekly_Data_Raw[END_DATE],'Weekly Metrics'!FJ$5)))))))","v":263423.63},{"$f":"IF($B11=\"Panel Sales\", SUMIFS(Weekly_Data_Raw[PANEL_AMOUNT],Weekly_Data_Raw[TICKER],'Weekly Metrics'!$A11,Weekly_Data_Raw[END_DATE],'Weekly Metrics'!FK$5),IF($B11=\"Transactions\",SUMIFS(Weekly_Data_Raw[PANEL_TRANSACTIONS],Weekly_Data_Raw[TICKER],'Weekly Metrics'!$A11,Weekly_Data_Raw[END_DATE],'Weekly Metrics'!FK$5), IF($B11=\"Avg Ticket\",SUMIFS(Weekly_Data_Raw[AVG_TICKET],Weekly_Data_Raw[TICKER],'Weekly Metrics'!$A11,Weekly_Data_Raw[END_DATE],'Weekly Metrics'!FK$5), IF($B11=\"EOP Subscribers\",SUMIFS(Weekly_Data_Raw[EOP_SUBSCRIBERS],Weekly_Data_Raw[TICKER],'Weekly Metrics'!$A11,Weekly_Data_Raw[END_DATE],'Weekly Metrics'!FK$5), IF($B11=\"Gross Adds\",SUMIFS(Weekly_Data_Raw[GROSS_ADDS],Weekly_Data_Raw[TICKER],'Weekly Metrics'!$A11,Weekly_Data_Raw[END_DATE],'Weekly Metrics'!FK$5), IF($B11=\"Churn\",SUMIFS(Weekly_Data_Raw[CHURNED_MEMBERS],Weekly_Data_Raw[TICKER],'Weekly Metrics'!$A11,Weekly_Data_Raw[END_DATE],'Weekly Metrics'!FK$5)))))))","v":234593.02},{"$f":"IF($B11=\"Panel Sales\", SUMIFS(Weekly_Data_Raw[PANEL_AMOUNT],Weekly_Data_Raw[TICKER],'Weekly Metrics'!$A11,Weekly_Data_Raw[END_DATE],'Weekly Metrics'!FL$5),IF($B11=\"Transactions\",SUMIFS(Weekly_Data_Raw[PANEL_TRANSACTIONS],Weekly_Data_Raw[TICKER],'Weekly Metrics'!$A11,Weekly_Data_Raw[END_DATE],'Weekly Metrics'!FL$5), IF($B11=\"Avg Ticket\",SUMIFS(Weekly_Data_Raw[AVG_TICKET],Weekly_Data_Raw[TICKER],'Weekly Metrics'!$A11,Weekly_Data_Raw[END_DATE],'Weekly Metrics'!FL$5), IF($B11=\"EOP Subscribers\",SUMIFS(Weekly_Data_Raw[EOP_SUBSCRIBERS],Weekly_Data_Raw[TICKER],'Weekly Metrics'!$A11,Weekly_Data_Raw[END_DATE],'Weekly Metrics'!FL$5), IF($B11=\"Gross Adds\",SUMIFS(Weekly_Data_Raw[GROSS_ADDS],Weekly_Data_Raw[TICKER],'Weekly Metrics'!$A11,Weekly_Data_Raw[END_DATE],'Weekly Metrics'!FL$5), IF($B11=\"Churn\",SUMIFS(Weekly_Data_Raw[CHURNED_MEMBERS],Weekly_Data_Raw[TICKER],'Weekly Metrics'!$A11,Weekly_Data_Raw[END_DATE],'Weekly Metrics'!FL$5)))))))","v":442147.29},{"$f":"IF($B11=\"Panel Sales\", SUMIFS(Weekly_Data_Raw[PANEL_AMOUNT],Weekly_Data_Raw[TICKER],'Weekly Metrics'!$A11,Weekly_Data_Raw[END_DATE],'Weekly Metrics'!FM$5),IF($B11=\"Transactions\",SUMIFS(Weekly_Data_Raw[PANEL_TRANSACTIONS],Weekly_Data_Raw[TICKER],'Weekly Metrics'!$A11,Weekly_Data_Raw[END_DATE],'Weekly Metrics'!FM$5), IF($B11=\"Avg Ticket\",SUMIFS(Weekly_Data_Raw[AVG_TICKET],Weekly_Data_Raw[TICKER],'Weekly Metrics'!$A11,Weekly_Data_Raw[END_DATE],'Weekly Metrics'!FM$5), IF($B11=\"EOP Subscribers\",SUMIFS(Weekly_Data_Raw[EOP_SUBSCRIBERS],Weekly_Data_Raw[TICKER],'Weekly Metrics'!$A11,Weekly_Data_Raw[END_DATE],'Weekly Metrics'!FM$5), IF($B11=\"Gross Adds\",SUMIFS(Weekly_Data_Raw[GROSS_ADDS],Weekly_Data_Raw[TICKER],'Weekly Metrics'!$A11,Weekly_Data_Raw[END_DATE],'Weekly Metrics'!FM$5), IF($B11=\"Churn\",SUMIFS(Weekly_Data_Raw[CHURNED_MEMBERS],Weekly_Data_Raw[TICKER],'Weekly Metrics'!$A11,Weekly_Data_Raw[END_DATE],'Weekly Metrics'!FM$5)))))))","v":257324.61},{"$f":"IF($B11=\"Panel Sales\", SUMIFS(Weekly_Data_Raw[PANEL_AMOUNT],Weekly_Data_Raw[TICKER],'Weekly Metrics'!$A11,Weekly_Data_Raw[END_DATE],'Weekly Metrics'!FN$5),IF($B11=\"Transactions\",SUMIFS(Weekly_Data_Raw[PANEL_TRANSACTIONS],Weekly_Data_Raw[TICKER],'Weekly Metrics'!$A11,Weekly_Data_Raw[END_DATE],'Weekly Metrics'!FN$5), IF($B11=\"Avg Ticket\",SUMIFS(Weekly_Data_Raw[AVG_TICKET],Weekly_Data_Raw[TICKER],'Weekly Metrics'!$A11,Weekly_Data_Raw[END_DATE],'Weekly Metrics'!FN$5), IF($B11=\"EOP Subscribers\",SUMIFS(Weekly_Data_Raw[EOP_SUBSCRIBERS],Weekly_Data_Raw[TICKER],'Weekly Metrics'!$A11,Weekly_Data_Raw[END_DATE],'Weekly Metrics'!FN$5), IF($B11=\"Gross Adds\",SUMIFS(Weekly_Data_Raw[GROSS_ADDS],Weekly_Data_Raw[TICKER],'Weekly Metrics'!$A11,Weekly_Data_Raw[END_DATE],'Weekly Metrics'!FN$5), IF($B11=\"Churn\",SUMIFS(Weekly_Data_Raw[CHURNED_MEMBERS],Weekly_Data_Raw[TICKER],'Weekly Metrics'!$A11,Weekly_Data_Raw[END_DATE],'Weekly Metrics'!FN$5)))))))","v":270643.96999999997},{"$f":"IF($B11=\"Panel Sales\", SUMIFS(Weekly_Data_Raw[PANEL_AMOUNT],Weekly_Data_Raw[TICKER],'Weekly Metrics'!$A11,Weekly_Data_Raw[END_DATE],'Weekly Metrics'!FO$5),IF($B11=\"Transactions\",SUMIFS(Weekly_Data_Raw[PANEL_TRANSACTIONS],Weekly_Data_Raw[TICKER],'Weekly Metrics'!$A11,Weekly_Data_Raw[END_DATE],'Weekly Metrics'!FO$5), IF($B11=\"Avg Ticket\",SUMIFS(Weekly_Data_Raw[AVG_TICKET],Weekly_Data_Raw[TICKER],'Weekly Metrics'!$A11,Weekly_Data_Raw[END_DATE],'Weekly Metrics'!FO$5), IF($B11=\"EOP Subscribers\",SUMIFS(Weekly_Data_Raw[EOP_SUBSCRIBERS],Weekly_Data_Raw[TICKER],'Weekly Metrics'!$A11,Weekly_Data_Raw[END_DATE],'Weekly Metrics'!FO$5), IF($B11=\"Gross Adds\",SUMIFS(Weekly_Data_Raw[GROSS_ADDS],Weekly_Data_Raw[TICKER],'Weekly Metrics'!$A11,Weekly_Data_Raw[END_DATE],'Weekly Metrics'!FO$5), IF($B11=\"Churn\",SUMIFS(Weekly_Data_Raw[CHURNED_MEMBERS],Weekly_Data_Raw[TICKER],'Weekly Metrics'!$A11,Weekly_Data_Raw[END_DATE],'Weekly Metrics'!FO$5)))))))","v":251430.09},{"$f":"IF($B11=\"Panel Sales\", SUMIFS(Weekly_Data_Raw[PANEL_AMOUNT],Weekly_Data_Raw[TICKER],'Weekly Metrics'!$A11,Weekly_Data_Raw[END_DATE],'Weekly Metrics'!FP$5),IF($B11=\"Transactions\",SUMIFS(Weekly_Data_Raw[PANEL_TRANSACTIONS],Weekly_Data_Raw[TICKER],'Weekly Metrics'!$A11,Weekly_Data_Raw[END_DATE],'Weekly Metrics'!FP$5), IF($B11=\"Avg Ticket\",SUMIFS(Weekly_Data_Raw[AVG_TICKET],Weekly_Data_Raw[TICKER],'Weekly Metrics'!$A11,Weekly_Data_Raw[END_DATE],'Weekly Metrics'!FP$5), IF($B11=\"EOP Subscribers\",SUMIFS(Weekly_Data_Raw[EOP_SUBSCRIBERS],Weekly_Data_Raw[TICKER],'Weekly Metrics'!$A11,Weekly_Data_Raw[END_DATE],'Weekly Metrics'!FP$5), IF($B11=\"Gross Adds\",SUMIFS(Weekly_Data_Raw[GROSS_ADDS],Weekly_Data_Raw[TICKER],'Weekly Metrics'!$A11,Weekly_Data_Raw[END_DATE],'Weekly Metrics'!FP$5), IF($B11=\"Churn\",SUMIFS(Weekly_Data_Raw[CHURNED_MEMBERS],Weekly_Data_Raw[TICKER],'Weekly Metrics'!$A11,Weekly_Data_Raw[END_DATE],'Weekly Metrics'!FP$5)))))))","v":289773.28999999998},{"$f":"IF($B11=\"Panel Sales\", SUMIFS(Weekly_Data_Raw[PANEL_AMOUNT],Weekly_Data_Raw[TICKER],'Weekly Metrics'!$A11,Weekly_Data_Raw[END_DATE],'Weekly Metrics'!FQ$5),IF($B11=\"Transactions\",SUMIFS(Weekly_Data_Raw[PANEL_TRANSACTIONS],Weekly_Data_Raw[TICKER],'Weekly Metrics'!$A11,Weekly_Data_Raw[END_DATE],'Weekly Metrics'!FQ$5), IF($B11=\"Avg Ticket\",SUMIFS(Weekly_Data_Raw[AVG_TICKET],Weekly_Data_Raw[TICKER],'Weekly Metrics'!$A11,Weekly_Data_Raw[END_DATE],'Weekly Metrics'!FQ$5), IF($B11=\"EOP Subscribers\",SUMIFS(Weekly_Data_Raw[EOP_SUBSCRIBERS],Weekly_Data_Raw[TICKER],'Weekly Metrics'!$A11,Weekly_Data_Raw[END_DATE],'Weekly Metrics'!FQ$5), IF($B11=\"Gross Adds\",SUMIFS(Weekly_Data_Raw[GROSS_ADDS],Weekly_Data_Raw[TICKER],'Weekly Metrics'!$A11,Weekly_Data_Raw[END_DATE],'Weekly Metrics'!FQ$5), IF($B11=\"Churn\",SUMIFS(Weekly_Data_Raw[CHURNED_MEMBERS],Weekly_Data_Raw[TICKER],'Weekly Metrics'!$A11,Weekly_Data_Raw[END_DATE],'Weekly Metrics'!FQ$5)))))))","v":317299.53999999998},{"$f":"IF($B11=\"Panel Sales\", SUMIFS(Weekly_Data_Raw[PANEL_AMOUNT],Weekly_Data_Raw[TICKER],'Weekly Metrics'!$A11,Weekly_Data_Raw[END_DATE],'Weekly Metrics'!FR$5),IF($B11=\"Transactions\",SUMIFS(Weekly_Data_Raw[PANEL_TRANSACTIONS],Weekly_Data_Raw[TICKER],'Weekly Metrics'!$A11,Weekly_Data_Raw[END_DATE],'Weekly Metrics'!FR$5), IF($B11=\"Avg Ticket\",SUMIFS(Weekly_Data_Raw[AVG_TICKET],Weekly_Data_Raw[TICKER],'Weekly Metrics'!$A11,Weekly_Data_Raw[END_DATE],'Weekly Metrics'!FR$5), IF($B11=\"EOP Subscribers\",SUMIFS(Weekly_Data_Raw[EOP_SUBSCRIBERS],Weekly_Data_Raw[TICKER],'Weekly Metrics'!$A11,Weekly_Data_Raw[END_DATE],'Weekly Metrics'!FR$5), IF($B11=\"Gross Adds\",SUMIFS(Weekly_Data_Raw[GROSS_ADDS],Weekly_Data_Raw[TICKER],'Weekly Metrics'!$A11,Weekly_Data_Raw[END_DATE],'Weekly Metrics'!FR$5), IF($B11=\"Churn\",SUMIFS(Weekly_Data_Raw[CHURNED_MEMBERS],Weekly_Data_Raw[TICKER],'Weekly Metrics'!$A11,Weekly_Data_Raw[END_DATE],'Weekly Metrics'!FR$5)))))))","v":243834.03},{"$f":"IF($B11=\"Panel Sales\", SUMIFS(Weekly_Data_Raw[PANEL_AMOUNT],Weekly_Data_Raw[TICKER],'Weekly Metrics'!$A11,Weekly_Data_Raw[END_DATE],'Weekly Metrics'!FS$5),IF($B11=\"Transactions\",SUMIFS(Weekly_Data_Raw[PANEL_TRANSACTIONS],Weekly_Data_Raw[TICKER],'Weekly Metrics'!$A11,Weekly_Data_Raw[END_DATE],'Weekly Metrics'!FS$5), IF($B11=\"Avg Ticket\",SUMIFS(Weekly_Data_Raw[AVG_TICKET],Weekly_Data_Raw[TICKER],'Weekly Metrics'!$A11,Weekly_Data_Raw[END_DATE],'Weekly Metrics'!FS$5), IF($B11=\"EOP Subscribers\",SUMIFS(Weekly_Data_Raw[EOP_SUBSCRIBERS],Weekly_Data_Raw[TICKER],'Weekly Metrics'!$A11,Weekly_Data_Raw[END_DATE],'Weekly Metrics'!FS$5), IF($B11=\"Gross Adds\",SUMIFS(Weekly_Data_Raw[GROSS_ADDS],Weekly_Data_Raw[TICKER],'Weekly Metrics'!$A11,Weekly_Data_Raw[END_DATE],'Weekly Metrics'!FS$5), IF($B11=\"Churn\",SUMIFS(Weekly_Data_Raw[CHURNED_MEMBERS],Weekly_Data_Raw[TICKER],'Weekly Metrics'!$A11,Weekly_Data_Raw[END_DATE],'Weekly Metrics'!FS$5)))))))","v":258624.17},{"$f":"IF($B11=\"Panel Sales\", SUMIFS(Weekly_Data_Raw[PANEL_AMOUNT],Weekly_Data_Raw[TICKER],'Weekly Metrics'!$A11,Weekly_Data_Raw[END_DATE],'Weekly Metrics'!FT$5),IF($B11=\"Transactions\",SUMIFS(Weekly_Data_Raw[PANEL_TRANSACTIONS],Weekly_Data_Raw[TICKER],'Weekly Metrics'!$A11,Weekly_Data_Raw[END_DATE],'Weekly Metrics'!FT$5), IF($B11=\"Avg Ticket\",SUMIFS(Weekly_Data_Raw[AVG_TICKET],Weekly_Data_Raw[TICKER],'Weekly Metrics'!$A11,Weekly_Data_Raw[END_DATE],'Weekly Metrics'!FT$5), IF($B11=\"EOP Subscribers\",SUMIFS(Weekly_Data_Raw[EOP_SUBSCRIBERS],Weekly_Data_Raw[TICKER],'Weekly Metrics'!$A11,Weekly_Data_Raw[END_DATE],'Weekly Metrics'!FT$5), IF($B11=\"Gross Adds\",SUMIFS(Weekly_Data_Raw[GROSS_ADDS],Weekly_Data_Raw[TICKER],'Weekly Metrics'!$A11,Weekly_Data_Raw[END_DATE],'Weekly Metrics'!FT$5), IF($B11=\"Churn\",SUMIFS(Weekly_Data_Raw[CHURNED_MEMBERS],Weekly_Data_Raw[TICKER],'Weekly Metrics'!$A11,Weekly_Data_Raw[END_DATE],'Weekly Metrics'!FT$5)))))))","v":269353.57},{"$f":"IF($B11=\"Panel Sales\", SUMIFS(Weekly_Data_Raw[PANEL_AMOUNT],Weekly_Data_Raw[TICKER],'Weekly Metrics'!$A11,Weekly_Data_Raw[END_DATE],'Weekly Metrics'!FU$5),IF($B11=\"Transactions\",SUMIFS(Weekly_Data_Raw[PANEL_TRANSACTIONS],Weekly_Data_Raw[TICKER],'Weekly Metrics'!$A11,Weekly_Data_Raw[END_DATE],'Weekly Metrics'!FU$5), IF($B11=\"Avg Ticket\",SUMIFS(Weekly_Data_Raw[AVG_TICKET],Weekly_Data_Raw[TICKER],'Weekly Metrics'!$A11,Weekly_Data_Raw[END_DATE],'Weekly Metrics'!FU$5), IF($B11=\"EOP Subscribers\",SUMIFS(Weekly_Data_Raw[EOP_SUBSCRIBERS],Weekly_Data_Raw[TICKER],'Weekly Metrics'!$A11,Weekly_Data_Raw[END_DATE],'Weekly Metrics'!FU$5), IF($B11=\"Gross Adds\",SUMIFS(Weekly_Data_Raw[GROSS_ADDS],Weekly_Data_Raw[TICKER],'Weekly Metrics'!$A11,Weekly_Data_Raw[END_DATE],'Weekly Metrics'!FU$5), IF($B11=\"Churn\",SUMIFS(Weekly_Data_Raw[CHURNED_MEMBERS],Weekly_Data_Raw[TICKER],'Weekly Metrics'!$A11,Weekly_Data_Raw[END_DATE],'Weekly Metrics'!FU$5)))))))","v":364936.57},{"$f":"IF($B11=\"Panel Sales\", SUMIFS(Weekly_Data_Raw[PANEL_AMOUNT],Weekly_Data_Raw[TICKER],'Weekly Metrics'!$A11,Weekly_Data_Raw[END_DATE],'Weekly Metrics'!FV$5),IF($B11=\"Transactions\",SUMIFS(Weekly_Data_Raw[PANEL_TRANSACTIONS],Weekly_Data_Raw[TICKER],'Weekly Metrics'!$A11,Weekly_Data_Raw[END_DATE],'Weekly Metrics'!FV$5), IF($B11=\"Avg Ticket\",SUMIFS(Weekly_Data_Raw[AVG_TICKET],Weekly_Data_Raw[TICKER],'Weekly Metrics'!$A11,Weekly_Data_Raw[END_DATE],'Weekly Metrics'!FV$5), IF($B11=\"EOP Subscribers\",SUMIFS(Weekly_Data_Raw[EOP_SUBSCRIBERS],Weekly_Data_Raw[TICKER],'Weekly Metrics'!$A11,Weekly_Data_Raw[END_DATE],'Weekly Metrics'!FV$5), IF($B11=\"Gross Adds\",SUMIFS(Weekly_Data_Raw[GROSS_ADDS],Weekly_Data_Raw[TICKER],'Weekly Metrics'!$A11,Weekly_Data_Raw[END_DATE],'Weekly Metrics'!FV$5), IF($B11=\"Churn\",SUMIFS(Weekly_Data_Raw[CHURNED_MEMBERS],Weekly_Data_Raw[TICKER],'Weekly Metrics'!$A11,Weekly_Data_Raw[END_DATE],'Weekly Metrics'!FV$5)))))))","v":249878.53},{"$f":"IF($B11=\"Panel Sales\", SUMIFS(Weekly_Data_Raw[PANEL_AMOUNT],Weekly_Data_Raw[TICKER],'Weekly Metrics'!$A11,Weekly_Data_Raw[END_DATE],'Weekly Metrics'!FW$5),IF($B11=\"Transactions\",SUMIFS(Weekly_Data_Raw[PANEL_TRANSACTIONS],Weekly_Data_Raw[TICKER],'Weekly Metrics'!$A11,Weekly_Data_Raw[END_DATE],'Weekly Metrics'!FW$5), IF($B11=\"Avg Ticket\",SUMIFS(Weekly_Data_Raw[AVG_TICKET],Weekly_Data_Raw[TICKER],'Weekly Metrics'!$A11,Weekly_Data_Raw[END_DATE],'Weekly Metrics'!FW$5), IF($B11=\"EOP Subscribers\",SUMIFS(Weekly_Data_Raw[EOP_SUBSCRIBERS],Weekly_Data_Raw[TICKER],'Weekly Metrics'!$A11,Weekly_Data_Raw[END_DATE],'Weekly Metrics'!FW$5), IF($B11=\"Gross Adds\",SUMIFS(Weekly_Data_Raw[GROSS_ADDS],Weekly_Data_Raw[TICKER],'Weekly Metrics'!$A11,Weekly_Data_Raw[END_DATE],'Weekly Metrics'!FW$5), IF($B11=\"Churn\",SUMIFS(Weekly_Data_Raw[CHURNED_MEMBERS],Weekly_Data_Raw[TICKER],'Weekly Metrics'!$A11,Weekly_Data_Raw[END_DATE],'Weekly Metrics'!FW$5)))))))","v":273591.88},{"$f":"IF($B11=\"Panel Sales\", SUMIFS(Weekly_Data_Raw[PANEL_AMOUNT],Weekly_Data_Raw[TICKER],'Weekly Metrics'!$A11,Weekly_Data_Raw[END_DATE],'Weekly Metrics'!FX$5),IF($B11=\"Transactions\",SUMIFS(Weekly_Data_Raw[PANEL_TRANSACTIONS],Weekly_Data_Raw[TICKER],'Weekly Metrics'!$A11,Weekly_Data_Raw[END_DATE],'Weekly Metrics'!FX$5), IF($B11=\"Avg Ticket\",SUMIFS(Weekly_Data_Raw[AVG_TICKET],Weekly_Data_Raw[TICKER],'Weekly Metrics'!$A11,Weekly_Data_Raw[END_DATE],'Weekly Metrics'!FX$5), IF($B11=\"EOP Subscribers\",SUMIFS(Weekly_Data_Raw[EOP_SUBSCRIBERS],Weekly_Data_Raw[TICKER],'Weekly Metrics'!$A11,Weekly_Data_Raw[END_DATE],'Weekly Metrics'!FX$5), IF($B11=\"Gross Adds\",SUMIFS(Weekly_Data_Raw[GROSS_ADDS],Weekly_Data_Raw[TICKER],'Weekly Metrics'!$A11,Weekly_Data_Raw[END_DATE],'Weekly Metrics'!FX$5), IF($B11=\"Churn\",SUMIFS(Weekly_Data_Raw[CHURNED_MEMBERS],Weekly_Data_Raw[TICKER],'Weekly Metrics'!$A11,Weekly_Data_Raw[END_DATE],'Weekly Metrics'!FX$5)))))))","v":240609.2},{"$f":"IF($B11=\"Panel Sales\", SUMIFS(Weekly_Data_Raw[PANEL_AMOUNT],Weekly_Data_Raw[TICKER],'Weekly Metrics'!$A11,Weekly_Data_Raw[END_DATE],'Weekly Metrics'!FY$5),IF($B11=\"Transactions\",SUMIFS(Weekly_Data_Raw[PANEL_TRANSACTIONS],Weekly_Data_Raw[TICKER],'Weekly Metrics'!$A11,Weekly_Data_Raw[END_DATE],'Weekly Metrics'!FY$5), IF($B11=\"Avg Ticket\",SUMIFS(Weekly_Data_Raw[AVG_TICKET],Weekly_Data_Raw[TICKER],'Weekly Metrics'!$A11,Weekly_Data_Raw[END_DATE],'Weekly Metrics'!FY$5), IF($B11=\"EOP Subscribers\",SUMIFS(Weekly_Data_Raw[EOP_SUBSCRIBERS],Weekly_Data_Raw[TICKER],'Weekly Metrics'!$A11,Weekly_Data_Raw[END_DATE],'Weekly Metrics'!FY$5), IF($B11=\"Gross Adds\",SUMIFS(Weekly_Data_Raw[GROSS_ADDS],Weekly_Data_Raw[TICKER],'Weekly Metrics'!$A11,Weekly_Data_Raw[END_DATE],'Weekly Metrics'!FY$5), IF($B11=\"Churn\",SUMIFS(Weekly_Data_Raw[CHURNED_MEMBERS],Weekly_Data_Raw[TICKER],'Weekly Metrics'!$A11,Weekly_Data_Raw[END_DATE],'Weekly Metrics'!FY$5)))))))","v":361775.72},{"$f":"IF($B11=\"Panel Sales\", SUMIFS(Weekly_Data_Raw[PANEL_AMOUNT],Weekly_Data_Raw[TICKER],'Weekly Metrics'!$A11,Weekly_Data_Raw[END_DATE],'Weekly Metrics'!FZ$5),IF($B11=\"Transactions\",SUMIFS(Weekly_Data_Raw[PANEL_TRANSACTIONS],Weekly_Data_Raw[TICKER],'Weekly Metrics'!$A11,Weekly_Data_Raw[END_DATE],'Weekly Metrics'!FZ$5), IF($B11=\"Avg Ticket\",SUMIFS(Weekly_Data_Raw[AVG_TICKET],Weekly_Data_Raw[TICKER],'Weekly Metrics'!$A11,Weekly_Data_Raw[END_DATE],'Weekly Metrics'!FZ$5), IF($B11=\"EOP Subscribers\",SUMIFS(Weekly_Data_Raw[EOP_SUBSCRIBERS],Weekly_Data_Raw[TICKER],'Weekly Metrics'!$A11,Weekly_Data_Raw[END_DATE],'Weekly Metrics'!FZ$5), IF($B11=\"Gross Adds\",SUMIFS(Weekly_Data_Raw[GROSS_ADDS],Weekly_Data_Raw[TICKER],'Weekly Metrics'!$A11,Weekly_Data_Raw[END_DATE],'Weekly Metrics'!FZ$5), IF($B11=\"Churn\",SUMIFS(Weekly_Data_Raw[CHURNED_MEMBERS],Weekly_Data_Raw[TICKER],'Weekly Metrics'!$A11,Weekly_Data_Raw[END_DATE],'Weekly Metrics'!FZ$5)))))))","v":253088.6},{"$f":"IF($B11=\"Panel Sales\", SUMIFS(Weekly_Data_Raw[PANEL_AMOUNT],Weekly_Data_Raw[TICKER],'Weekly Metrics'!$A11,Weekly_Data_Raw[END_DATE],'Weekly Metrics'!GA$5),IF($B11=\"Transactions\",SUMIFS(Weekly_Data_Raw[PANEL_TRANSACTIONS],Weekly_Data_Raw[TICKER],'Weekly Metrics'!$A11,Weekly_Data_Raw[END_DATE],'Weekly Metrics'!GA$5), IF($B11=\"Avg Ticket\",SUMIFS(Weekly_Data_Raw[AVG_TICKET],Weekly_Data_Raw[TICKER],'Weekly Metrics'!$A11,Weekly_Data_Raw[END_DATE],'Weekly Metrics'!GA$5), IF($B11=\"EOP Subscribers\",SUMIFS(Weekly_Data_Raw[EOP_SUBSCRIBERS],Weekly_Data_Raw[TICKER],'Weekly Metrics'!$A11,Weekly_Data_Raw[END_DATE],'Weekly Metrics'!GA$5), IF($B11=\"Gross Adds\",SUMIFS(Weekly_Data_Raw[GROSS_ADDS],Weekly_Data_Raw[TICKER],'Weekly Metrics'!$A11,Weekly_Data_Raw[END_DATE],'Weekly Metrics'!GA$5), IF($B11=\"Churn\",SUMIFS(Weekly_Data_Raw[CHURNED_MEMBERS],Weekly_Data_Raw[TICKER],'Weekly Metrics'!$A11,Weekly_Data_Raw[END_DATE],'Weekly Metrics'!GA$5)))))))","v":266562.24},{"$f":"IF($B11=\"Panel Sales\", SUMIFS(Weekly_Data_Raw[PANEL_AMOUNT],Weekly_Data_Raw[TICKER],'Weekly Metrics'!$A11,Weekly_Data_Raw[END_DATE],'Weekly Metrics'!GB$5),IF($B11=\"Transactions\",SUMIFS(Weekly_Data_Raw[PANEL_TRANSACTIONS],Weekly_Data_Raw[TICKER],'Weekly Metrics'!$A11,Weekly_Data_Raw[END_DATE],'Weekly Metrics'!GB$5), IF($B11=\"Avg Ticket\",SUMIFS(Weekly_Data_Raw[AVG_TICKET],Weekly_Data_Raw[TICKER],'Weekly Metrics'!$A11,Weekly_Data_Raw[END_DATE],'Weekly Metrics'!GB$5), IF($B11=\"EOP Subscribers\",SUMIFS(Weekly_Data_Raw[EOP_SUBSCRIBERS],Weekly_Data_Raw[TICKER],'Weekly Metrics'!$A11,Weekly_Data_Raw[END_DATE],'Weekly Metrics'!GB$5), IF($B11=\"Gross Adds\",SUMIFS(Weekly_Data_Raw[GROSS_ADDS],Weekly_Data_Raw[TICKER],'Weekly Metrics'!$A11,Weekly_Data_Raw[END_DATE],'Weekly Metrics'!GB$5), IF($B11=\"Churn\",SUMIFS(Weekly_Data_Raw[CHURNED_MEMBERS],Weekly_Data_Raw[TICKER],'Weekly Metrics'!$A11,Weekly_Data_Raw[END_DATE],'Weekly Metrics'!GB$5)))))))","v":263473.15000000002},{"$f":"IF($B11=\"Panel Sales\", SUMIFS(Weekly_Data_Raw[PANEL_AMOUNT],Weekly_Data_Raw[TICKER],'Weekly Metrics'!$A11,Weekly_Data_Raw[END_DATE],'Weekly Metrics'!GC$5),IF($B11=\"Transactions\",SUMIFS(Weekly_Data_Raw[PANEL_TRANSACTIONS],Weekly_Data_Raw[TICKER],'Weekly Metrics'!$A11,Weekly_Data_Raw[END_DATE],'Weekly Metrics'!GC$5), IF($B11=\"Avg Ticket\",SUMIFS(Weekly_Data_Raw[AVG_TICKET],Weekly_Data_Raw[TICKER],'Weekly Metrics'!$A11,Weekly_Data_Raw[END_DATE],'Weekly Metrics'!GC$5), IF($B11=\"EOP Subscribers\",SUMIFS(Weekly_Data_Raw[EOP_SUBSCRIBERS],Weekly_Data_Raw[TICKER],'Weekly Metrics'!$A11,Weekly_Data_Raw[END_DATE],'Weekly Metrics'!GC$5), IF($B11=\"Gross Adds\",SUMIFS(Weekly_Data_Raw[GROSS_ADDS],Weekly_Data_Raw[TICKER],'Weekly Metrics'!$A11,Weekly_Data_Raw[END_DATE],'Weekly Metrics'!GC$5), IF($B11=\"Churn\",SUMIFS(Weekly_Data_Raw[CHURNED_MEMBERS],Weekly_Data_Raw[TICKER],'Weekly Metrics'!$A11,Weekly_Data_Raw[END_DATE],'Weekly Metrics'!GC$5)))))))","v":311997.34999999998},{"$f":"IF($B11=\"Panel Sales\", SUMIFS(Weekly_Data_Raw[PANEL_AMOUNT],Weekly_Data_Raw[TICKER],'Weekly Metrics'!$A11,Weekly_Data_Raw[END_DATE],'Weekly Metrics'!GD$5),IF($B11=\"Transactions\",SUMIFS(Weekly_Data_Raw[PANEL_TRANSACTIONS],Weekly_Data_Raw[TICKER],'Weekly Metrics'!$A11,Weekly_Data_Raw[END_DATE],'Weekly Metrics'!GD$5), IF($B11=\"Avg Ticket\",SUMIFS(Weekly_Data_Raw[AVG_TICKET],Weekly_Data_Raw[TICKER],'Weekly Metrics'!$A11,Weekly_Data_Raw[END_DATE],'Weekly Metrics'!GD$5), IF($B11=\"EOP Subscribers\",SUMIFS(Weekly_Data_Raw[EOP_SUBSCRIBERS],Weekly_Data_Raw[TICKER],'Weekly Metrics'!$A11,Weekly_Data_Raw[END_DATE],'Weekly Metrics'!GD$5), IF($B11=\"Gross Adds\",SUMIFS(Weekly_Data_Raw[GROSS_ADDS],Weekly_Data_Raw[TICKER],'Weekly Metrics'!$A11,Weekly_Data_Raw[END_DATE],'Weekly Metrics'!GD$5), IF($B11=\"Churn\",SUMIFS(Weekly_Data_Raw[CHURNED_MEMBERS],Weekly_Data_Raw[TICKER],'Weekly Metrics'!$A11,Weekly_Data_Raw[END_DATE],'Weekly Metrics'!GD$5)))))))","v":314869.03000000003},{"$f":"IF($B11=\"Panel Sales\", SUMIFS(Weekly_Data_Raw[PANEL_AMOUNT],Weekly_Data_Raw[TICKER],'Weekly Metrics'!$A11,Weekly_Data_Raw[END_DATE],'Weekly Metrics'!GE$5),IF($B11=\"Transactions\",SUMIFS(Weekly_Data_Raw[PANEL_TRANSACTIONS],Weekly_Data_Raw[TICKER],'Weekly Metrics'!$A11,Weekly_Data_Raw[END_DATE],'Weekly Metrics'!GE$5), IF($B11=\"Avg Ticket\",SUMIFS(Weekly_Data_Raw[AVG_TICKET],Weekly_Data_Raw[TICKER],'Weekly Metrics'!$A11,Weekly_Data_Raw[END_DATE],'Weekly Metrics'!GE$5), IF($B11=\"EOP Subscribers\",SUMIFS(Weekly_Data_Raw[EOP_SUBSCRIBERS],Weekly_Data_Raw[TICKER],'Weekly Metrics'!$A11,Weekly_Data_Raw[END_DATE],'Weekly Metrics'!GE$5), IF($B11=\"Gross Adds\",SUMIFS(Weekly_Data_Raw[GROSS_ADDS],Weekly_Data_Raw[TICKER],'Weekly Metrics'!$A11,Weekly_Data_Raw[END_DATE],'Weekly Metrics'!GE$5), IF($B11=\"Churn\",SUMIFS(Weekly_Data_Raw[CHURNED_MEMBERS],Weekly_Data_Raw[TICKER],'Weekly Metrics'!$A11,Weekly_Data_Raw[END_DATE],'Weekly Metrics'!GE$5)))))))","v":255766.44},{"$f":"IF($B11=\"Panel Sales\", SUMIFS(Weekly_Data_Raw[PANEL_AMOUNT],Weekly_Data_Raw[TICKER],'Weekly Metrics'!$A11,Weekly_Data_Raw[END_DATE],'Weekly Metrics'!GF$5),IF($B11=\"Transactions\",SUMIFS(Weekly_Data_Raw[PANEL_TRANSACTIONS],Weekly_Data_Raw[TICKER],'Weekly Metrics'!$A11,Weekly_Data_Raw[END_DATE],'Weekly Metrics'!GF$5), IF($B11=\"Avg Ticket\",SUMIFS(Weekly_Data_Raw[AVG_TICKET],Weekly_Data_Raw[TICKER],'Weekly Metrics'!$A11,Weekly_Data_Raw[END_DATE],'Weekly Metrics'!GF$5), IF($B11=\"EOP Subscribers\",SUMIFS(Weekly_Data_Raw[EOP_SUBSCRIBERS],Weekly_Data_Raw[TICKER],'Weekly Metrics'!$A11,Weekly_Data_Raw[END_DATE],'Weekly Metrics'!GF$5), IF($B11=\"Gross Adds\",SUMIFS(Weekly_Data_Raw[GROSS_ADDS],Weekly_Data_Raw[TICKER],'Weekly Metrics'!$A11,Weekly_Data_Raw[END_DATE],'Weekly Metrics'!GF$5), IF($B11=\"Churn\",SUMIFS(Weekly_Data_Raw[CHURNED_MEMBERS],Weekly_Data_Raw[TICKER],'Weekly Metrics'!$A11,Weekly_Data_Raw[END_DATE],'Weekly Metrics'!GF$5)))))))","v":285579.65999999997},{"$f":"IF($B11=\"Panel Sales\", SUMIFS(Weekly_Data_Raw[PANEL_AMOUNT],Weekly_Data_Raw[TICKER],'Weekly Metrics'!$A11,Weekly_Data_Raw[END_DATE],'Weekly Metrics'!GG$5),IF($B11=\"Transactions\",SUMIFS(Weekly_Data_Raw[PANEL_TRANSACTIONS],Weekly_Data_Raw[TICKER],'Weekly Metrics'!$A11,Weekly_Data_Raw[END_DATE],'Weekly Metrics'!GG$5), IF($B11=\"Avg Ticket\",SUMIFS(Weekly_Data_Raw[AVG_TICKET],Weekly_Data_Raw[TICKER],'Weekly Metrics'!$A11,Weekly_Data_Raw[END_DATE],'Weekly Metrics'!GG$5), IF($B11=\"EOP Subscribers\",SUMIFS(Weekly_Data_Raw[EOP_SUBSCRIBERS],Weekly_Data_Raw[TICKER],'Weekly Metrics'!$A11,Weekly_Data_Raw[END_DATE],'Weekly Metrics'!GG$5), IF($B11=\"Gross Adds\",SUMIFS(Weekly_Data_Raw[GROSS_ADDS],Weekly_Data_Raw[TICKER],'Weekly Metrics'!$A11,Weekly_Data_Raw[END_DATE],'Weekly Metrics'!GG$5), IF($B11=\"Churn\",SUMIFS(Weekly_Data_Raw[CHURNED_MEMBERS],Weekly_Data_Raw[TICKER],'Weekly Metrics'!$A11,Weekly_Data_Raw[END_DATE],'Weekly Metrics'!GG$5)))))))","v":237361.27},{"$f":"IF($B11=\"Panel Sales\", SUMIFS(Weekly_Data_Raw[PANEL_AMOUNT],Weekly_Data_Raw[TICKER],'Weekly Metrics'!$A11,Weekly_Data_Raw[END_DATE],'Weekly Metrics'!GH$5),IF($B11=\"Transactions\",SUMIFS(Weekly_Data_Raw[PANEL_TRANSACTIONS],Weekly_Data_Raw[TICKER],'Weekly Metrics'!$A11,Weekly_Data_Raw[END_DATE],'Weekly Metrics'!GH$5), IF($B11=\"Avg Ticket\",SUMIFS(Weekly_Data_Raw[AVG_TICKET],Weekly_Data_Raw[TICKER],'Weekly Metrics'!$A11,Weekly_Data_Raw[END_DATE],'Weekly Metrics'!GH$5), IF($B11=\"EOP Subscribers\",SUMIFS(Weekly_Data_Raw[EOP_SUBSCRIBERS],Weekly_Data_Raw[TICKER],'Weekly Metrics'!$A11,Weekly_Data_Raw[END_DATE],'Weekly Metrics'!GH$5), IF($B11=\"Gross Adds\",SUMIFS(Weekly_Data_Raw[GROSS_ADDS],Weekly_Data_Raw[TICKER],'Weekly Metrics'!$A11,Weekly_Data_Raw[END_DATE],'Weekly Metrics'!GH$5), IF($B11=\"Churn\",SUMIFS(Weekly_Data_Raw[CHURNED_MEMBERS],Weekly_Data_Raw[TICKER],'Weekly Metrics'!$A11,Weekly_Data_Raw[END_DATE],'Weekly Metrics'!GH$5)))))))","v":372632.73},{"$f":"IF($B11=\"Panel Sales\", SUMIFS(Weekly_Data_Raw[PANEL_AMOUNT],Weekly_Data_Raw[TICKER],'Weekly Metrics'!$A11,Weekly_Data_Raw[END_DATE],'Weekly Metrics'!GI$5),IF($B11=\"Transactions\",SUMIFS(Weekly_Data_Raw[PANEL_TRANSACTIONS],Weekly_Data_Raw[TICKER],'Weekly Metrics'!$A11,Weekly_Data_Raw[END_DATE],'Weekly Metrics'!GI$5), IF($B11=\"Avg Ticket\",SUMIFS(Weekly_Data_Raw[AVG_TICKET],Weekly_Data_Raw[TICKER],'Weekly Metrics'!$A11,Weekly_Data_Raw[END_DATE],'Weekly Metrics'!GI$5), IF($B11=\"EOP Subscribers\",SUMIFS(Weekly_Data_Raw[EOP_SUBSCRIBERS],Weekly_Data_Raw[TICKER],'Weekly Metrics'!$A11,Weekly_Data_Raw[END_DATE],'Weekly Metrics'!GI$5), IF($B11=\"Gross Adds\",SUMIFS(Weekly_Data_Raw[GROSS_ADDS],Weekly_Data_Raw[TICKER],'Weekly Metrics'!$A11,Weekly_Data_Raw[END_DATE],'Weekly Metrics'!GI$5), IF($B11=\"Churn\",SUMIFS(Weekly_Data_Raw[CHURNED_MEMBERS],Weekly_Data_Raw[TICKER],'Weekly Metrics'!$A11,Weekly_Data_Raw[END_DATE],'Weekly Metrics'!GI$5)))))))","v":246657.87},{"$f":"IF($B11=\"Panel Sales\", SUMIFS(Weekly_Data_Raw[PANEL_AMOUNT],Weekly_Data_Raw[TICKER],'Weekly Metrics'!$A11,Weekly_Data_Raw[END_DATE],'Weekly Metrics'!GJ$5),IF($B11=\"Transactions\",SUMIFS(Weekly_Data_Raw[PANEL_TRANSACTIONS],Weekly_Data_Raw[TICKER],'Weekly Metrics'!$A11,Weekly_Data_Raw[END_DATE],'Weekly Metrics'!GJ$5), IF($B11=\"Avg Ticket\",SUMIFS(Weekly_Data_Raw[AVG_TICKET],Weekly_Data_Raw[TICKER],'Weekly Metrics'!$A11,Weekly_Data_Raw[END_DATE],'Weekly Metrics'!GJ$5), IF($B11=\"EOP Subscribers\",SUMIFS(Weekly_Data_Raw[EOP_SUBSCRIBERS],Weekly_Data_Raw[TICKER],'Weekly Metrics'!$A11,Weekly_Data_Raw[END_DATE],'Weekly Metrics'!GJ$5), IF($B11=\"Gross Adds\",SUMIFS(Weekly_Data_Raw[GROSS_ADDS],Weekly_Data_Raw[TICKER],'Weekly Metrics'!$A11,Weekly_Data_Raw[END_DATE],'Weekly Metrics'!GJ$5), IF($B11=\"Churn\",SUMIFS(Weekly_Data_Raw[CHURNED_MEMBERS],Weekly_Data_Raw[TICKER],'Weekly Metrics'!$A11,Weekly_Data_Raw[END_DATE],'Weekly Metrics'!GJ$5)))))))","v":285303.67},{"$f":"IF($B11=\"Panel Sales\", SUMIFS(Weekly_Data_Raw[PANEL_AMOUNT],Weekly_Data_Raw[TICKER],'Weekly Metrics'!$A11,Weekly_Data_Raw[END_DATE],'Weekly Metrics'!GK$5),IF($B11=\"Transactions\",SUMIFS(Weekly_Data_Raw[PANEL_TRANSACTIONS],Weekly_Data_Raw[TICKER],'Weekly Metrics'!$A11,Weekly_Data_Raw[END_DATE],'Weekly Metrics'!GK$5), IF($B11=\"Avg Ticket\",SUMIFS(Weekly_Data_Raw[AVG_TICKET],Weekly_Data_Raw[TICKER],'Weekly Metrics'!$A11,Weekly_Data_Raw[END_DATE],'Weekly Metrics'!GK$5), IF($B11=\"EOP Subscribers\",SUMIFS(Weekly_Data_Raw[EOP_SUBSCRIBERS],Weekly_Data_Raw[TICKER],'Weekly Metrics'!$A11,Weekly_Data_Raw[END_DATE],'Weekly Metrics'!GK$5), IF($B11=\"Gross Adds\",SUMIFS(Weekly_Data_Raw[GROSS_ADDS],Weekly_Data_Raw[TICKER],'Weekly Metrics'!$A11,Weekly_Data_Raw[END_DATE],'Weekly Metrics'!GK$5), IF($B11=\"Churn\",SUMIFS(Weekly_Data_Raw[CHURNED_MEMBERS],Weekly_Data_Raw[TICKER],'Weekly Metrics'!$A11,Weekly_Data_Raw[END_DATE],'Weekly Metrics'!GK$5)))))))","v":269856.62},{"$f":"IF($B11=\"Panel Sales\", SUMIFS(Weekly_Data_Raw[PANEL_AMOUNT],Weekly_Data_Raw[TICKER],'Weekly Metrics'!$A11,Weekly_Data_Raw[END_DATE],'Weekly Metrics'!GL$5),IF($B11=\"Transactions\",SUMIFS(Weekly_Data_Raw[PANEL_TRANSACTIONS],Weekly_Data_Raw[TICKER],'Weekly Metrics'!$A11,Weekly_Data_Raw[END_DATE],'Weekly Metrics'!GL$5), IF($B11=\"Avg Ticket\",SUMIFS(Weekly_Data_Raw[AVG_TICKET],Weekly_Data_Raw[TICKER],'Weekly Metrics'!$A11,Weekly_Data_Raw[END_DATE],'Weekly Metrics'!GL$5), IF($B11=\"EOP Subscribers\",SUMIFS(Weekly_Data_Raw[EOP_SUBSCRIBERS],Weekly_Data_Raw[TICKER],'Weekly Metrics'!$A11,Weekly_Data_Raw[END_DATE],'Weekly Metrics'!GL$5), IF($B11=\"Gross Adds\",SUMIFS(Weekly_Data_Raw[GROSS_ADDS],Weekly_Data_Raw[TICKER],'Weekly Metrics'!$A11,Weekly_Data_Raw[END_DATE],'Weekly Metrics'!GL$5), IF($B11=\"Churn\",SUMIFS(Weekly_Data_Raw[CHURNED_MEMBERS],Weekly_Data_Raw[TICKER],'Weekly Metrics'!$A11,Weekly_Data_Raw[END_DATE],'Weekly Metrics'!GL$5)))))))","v":360654.86},{"$f":"IF($B11=\"Panel Sales\", SUMIFS(Weekly_Data_Raw[PANEL_AMOUNT],Weekly_Data_Raw[TICKER],'Weekly Metrics'!$A11,Weekly_Data_Raw[END_DATE],'Weekly Metrics'!GM$5),IF($B11=\"Transactions\",SUMIFS(Weekly_Data_Raw[PANEL_TRANSACTIONS],Weekly_Data_Raw[TICKER],'Weekly Metrics'!$A11,Weekly_Data_Raw[END_DATE],'Weekly Metrics'!GM$5), IF($B11=\"Avg Ticket\",SUMIFS(Weekly_Data_Raw[AVG_TICKET],Weekly_Data_Raw[TICKER],'Weekly Metrics'!$A11,Weekly_Data_Raw[END_DATE],'Weekly Metrics'!GM$5), IF($B11=\"EOP Subscribers\",SUMIFS(Weekly_Data_Raw[EOP_SUBSCRIBERS],Weekly_Data_Raw[TICKER],'Weekly Metrics'!$A11,Weekly_Data_Raw[END_DATE],'Weekly Metrics'!GM$5), IF($B11=\"Gross Adds\",SUMIFS(Weekly_Data_Raw[GROSS_ADDS],Weekly_Data_Raw[TICKER],'Weekly Metrics'!$A11,Weekly_Data_Raw[END_DATE],'Weekly Metrics'!GM$5), IF($B11=\"Churn\",SUMIFS(Weekly_Data_Raw[CHURNED_MEMBERS],Weekly_Data_Raw[TICKER],'Weekly Metrics'!$A11,Weekly_Data_Raw[END_DATE],'Weekly Metrics'!GM$5)))))))","v":253137.73},{"$f":"IF($B11=\"Panel Sales\", SUMIFS(Weekly_Data_Raw[PANEL_AMOUNT],Weekly_Data_Raw[TICKER],'Weekly Metrics'!$A11,Weekly_Data_Raw[END_DATE],'Weekly Metrics'!GN$5),IF($B11=\"Transactions\",SUMIFS(Weekly_Data_Raw[PANEL_TRANSACTIONS],Weekly_Data_Raw[TICKER],'Weekly Metrics'!$A11,Weekly_Data_Raw[END_DATE],'Weekly Metrics'!GN$5), IF($B11=\"Avg Ticket\",SUMIFS(Weekly_Data_Raw[AVG_TICKET],Weekly_Data_Raw[TICKER],'Weekly Metrics'!$A11,Weekly_Data_Raw[END_DATE],'Weekly Metrics'!GN$5), IF($B11=\"EOP Subscribers\",SUMIFS(Weekly_Data_Raw[EOP_SUBSCRIBERS],Weekly_Data_Raw[TICKER],'Weekly Metrics'!$A11,Weekly_Data_Raw[END_DATE],'Weekly Metrics'!GN$5), IF($B11=\"Gross Adds\",SUMIFS(Weekly_Data_Raw[GROSS_ADDS],Weekly_Data_Raw[TICKER],'Weekly Metrics'!$A11,Weekly_Data_Raw[END_DATE],'Weekly Metrics'!GN$5), IF($B11=\"Churn\",SUMIFS(Weekly_Data_Raw[CHURNED_MEMBERS],Weekly_Data_Raw[TICKER],'Weekly Metrics'!$A11,Weekly_Data_Raw[END_DATE],'Weekly Metrics'!GN$5)))))))","v":269069.48},{"$f":"IF($B11=\"Panel Sales\", SUMIFS(Weekly_Data_Raw[PANEL_AMOUNT],Weekly_Data_Raw[TICKER],'Weekly Metrics'!$A11,Weekly_Data_Raw[END_DATE],'Weekly Metrics'!GO$5),IF($B11=\"Transactions\",SUMIFS(Weekly_Data_Raw[PANEL_TRANSACTIONS],Weekly_Data_Raw[TICKER],'Weekly Metrics'!$A11,Weekly_Data_Raw[END_DATE],'Weekly Metrics'!GO$5), IF($B11=\"Avg Ticket\",SUMIFS(Weekly_Data_Raw[AVG_TICKET],Weekly_Data_Raw[TICKER],'Weekly Metrics'!$A11,Weekly_Data_Raw[END_DATE],'Weekly Metrics'!GO$5), IF($B11=\"EOP Subscribers\",SUMIFS(Weekly_Data_Raw[EOP_SUBSCRIBERS],Weekly_Data_Raw[TICKER],'Weekly Metrics'!$A11,Weekly_Data_Raw[END_DATE],'Weekly Metrics'!GO$5), IF($B11=\"Gross Adds\",SUMIFS(Weekly_Data_Raw[GROSS_ADDS],Weekly_Data_Raw[TICKER],'Weekly Metrics'!$A11,Weekly_Data_Raw[END_DATE],'Weekly Metrics'!GO$5), IF($B11=\"Churn\",SUMIFS(Weekly_Data_Raw[CHURNED_MEMBERS],Weekly_Data_Raw[TICKER],'Weekly Metrics'!$A11,Weekly_Data_Raw[END_DATE],'Weekly Metrics'!GO$5)))))))","v":271500.3},{"$f":"IF($B11=\"Panel Sales\", SUMIFS(Weekly_Data_Raw[PANEL_AMOUNT],Weekly_Data_Raw[TICKER],'Weekly Metrics'!$A11,Weekly_Data_Raw[END_DATE],'Weekly Metrics'!GP$5),IF($B11=\"Transactions\",SUMIFS(Weekly_Data_Raw[PANEL_TRANSACTIONS],Weekly_Data_Raw[TICKER],'Weekly Metrics'!$A11,Weekly_Data_Raw[END_DATE],'Weekly Metrics'!GP$5), IF($B11=\"Avg Ticket\",SUMIFS(Weekly_Data_Raw[AVG_TICKET],Weekly_Data_Raw[TICKER],'Weekly Metrics'!$A11,Weekly_Data_Raw[END_DATE],'Weekly Metrics'!GP$5), IF($B11=\"EOP Subscribers\",SUMIFS(Weekly_Data_Raw[EOP_SUBSCRIBERS],Weekly_Data_Raw[TICKER],'Weekly Metrics'!$A11,Weekly_Data_Raw[END_DATE],'Weekly Metrics'!GP$5), IF($B11=\"Gross Adds\",SUMIFS(Weekly_Data_Raw[GROSS_ADDS],Weekly_Data_Raw[TICKER],'Weekly Metrics'!$A11,Weekly_Data_Raw[END_DATE],'Weekly Metrics'!GP$5), IF($B11=\"Churn\",SUMIFS(Weekly_Data_Raw[CHURNED_MEMBERS],Weekly_Data_Raw[TICKER],'Weekly Metrics'!$A11,Weekly_Data_Raw[END_DATE],'Weekly Metrics'!GP$5)))))))","v":296280.14},{"$f":"IF($B11=\"Panel Sales\", SUMIFS(Weekly_Data_Raw[PANEL_AMOUNT],Weekly_Data_Raw[TICKER],'Weekly Metrics'!$A11,Weekly_Data_Raw[END_DATE],'Weekly Metrics'!GQ$5),IF($B11=\"Transactions\",SUMIFS(Weekly_Data_Raw[PANEL_TRANSACTIONS],Weekly_Data_Raw[TICKER],'Weekly Metrics'!$A11,Weekly_Data_Raw[END_DATE],'Weekly Metrics'!GQ$5), IF($B11=\"Avg Ticket\",SUMIFS(Weekly_Data_Raw[AVG_TICKET],Weekly_Data_Raw[TICKER],'Weekly Metrics'!$A11,Weekly_Data_Raw[END_DATE],'Weekly Metrics'!GQ$5), IF($B11=\"EOP Subscribers\",SUMIFS(Weekly_Data_Raw[EOP_SUBSCRIBERS],Weekly_Data_Raw[TICKER],'Weekly Metrics'!$A11,Weekly_Data_Raw[END_DATE],'Weekly Metrics'!GQ$5), IF($B11=\"Gross Adds\",SUMIFS(Weekly_Data_Raw[GROSS_ADDS],Weekly_Data_Raw[TICKER],'Weekly Metrics'!$A11,Weekly_Data_Raw[END_DATE],'Weekly Metrics'!GQ$5), IF($B11=\"Churn\",SUMIFS(Weekly_Data_Raw[CHURNED_MEMBERS],Weekly_Data_Raw[TICKER],'Weekly Metrics'!$A11,Weekly_Data_Raw[END_DATE],'Weekly Metrics'!GQ$5)))))))","v":347289.54},{"$f":"IF($B11=\"Panel Sales\", SUMIFS(Weekly_Data_Raw[PANEL_AMOUNT],Weekly_Data_Raw[TICKER],'Weekly Metrics'!$A11,Weekly_Data_Raw[END_DATE],'Weekly Metrics'!GR$5),IF($B11=\"Transactions\",SUMIFS(Weekly_Data_Raw[PANEL_TRANSACTIONS],Weekly_Data_Raw[TICKER],'Weekly Metrics'!$A11,Weekly_Data_Raw[END_DATE],'Weekly Metrics'!GR$5), IF($B11=\"Avg Ticket\",SUMIFS(Weekly_Data_Raw[AVG_TICKET],Weekly_Data_Raw[TICKER],'Weekly Metrics'!$A11,Weekly_Data_Raw[END_DATE],'Weekly Metrics'!GR$5), IF($B11=\"EOP Subscribers\",SUMIFS(Weekly_Data_Raw[EOP_SUBSCRIBERS],Weekly_Data_Raw[TICKER],'Weekly Metrics'!$A11,Weekly_Data_Raw[END_DATE],'Weekly Metrics'!GR$5), IF($B11=\"Gross Adds\",SUMIFS(Weekly_Data_Raw[GROSS_ADDS],Weekly_Data_Raw[TICKER],'Weekly Metrics'!$A11,Weekly_Data_Raw[END_DATE],'Weekly Metrics'!GR$5), IF($B11=\"Churn\",SUMIFS(Weekly_Data_Raw[CHURNED_MEMBERS],Weekly_Data_Raw[TICKER],'Weekly Metrics'!$A11,Weekly_Data_Raw[END_DATE],'Weekly Metrics'!GR$5)))))))","v":245454.77},{"$f":"IF($B11=\"Panel Sales\", SUMIFS(Weekly_Data_Raw[PANEL_AMOUNT],Weekly_Data_Raw[TICKER],'Weekly Metrics'!$A11,Weekly_Data_Raw[END_DATE],'Weekly Metrics'!GS$5),IF($B11=\"Transactions\",SUMIFS(Weekly_Data_Raw[PANEL_TRANSACTIONS],Weekly_Data_Raw[TICKER],'Weekly Metrics'!$A11,Weekly_Data_Raw[END_DATE],'Weekly Metrics'!GS$5), IF($B11=\"Avg Ticket\",SUMIFS(Weekly_Data_Raw[AVG_TICKET],Weekly_Data_Raw[TICKER],'Weekly Metrics'!$A11,Weekly_Data_Raw[END_DATE],'Weekly Metrics'!GS$5), IF($B11=\"EOP Subscribers\",SUMIFS(Weekly_Data_Raw[EOP_SUBSCRIBERS],Weekly_Data_Raw[TICKER],'Weekly Metrics'!$A11,Weekly_Data_Raw[END_DATE],'Weekly Metrics'!GS$5), IF($B11=\"Gross Adds\",SUMIFS(Weekly_Data_Raw[GROSS_ADDS],Weekly_Data_Raw[TICKER],'Weekly Metrics'!$A11,Weekly_Data_Raw[END_DATE],'Weekly Metrics'!GS$5), IF($B11=\"Churn\",SUMIFS(Weekly_Data_Raw[CHURNED_MEMBERS],Weekly_Data_Raw[TICKER],'Weekly Metrics'!$A11,Weekly_Data_Raw[END_DATE],'Weekly Metrics'!GS$5)))))))","v":266921.52},{"$f":"IF($B11=\"Panel Sales\", SUMIFS(Weekly_Data_Raw[PANEL_AMOUNT],Weekly_Data_Raw[TICKER],'Weekly Metrics'!$A11,Weekly_Data_Raw[END_DATE],'Weekly Metrics'!GT$5),IF($B11=\"Transactions\",SUMIFS(Weekly_Data_Raw[PANEL_TRANSACTIONS],Weekly_Data_Raw[TICKER],'Weekly Metrics'!$A11,Weekly_Data_Raw[END_DATE],'Weekly Metrics'!GT$5), IF($B11=\"Avg Ticket\",SUMIFS(Weekly_Data_Raw[AVG_TICKET],Weekly_Data_Raw[TICKER],'Weekly Metrics'!$A11,Weekly_Data_Raw[END_DATE],'Weekly Metrics'!GT$5), IF($B11=\"EOP Subscribers\",SUMIFS(Weekly_Data_Raw[EOP_SUBSCRIBERS],Weekly_Data_Raw[TICKER],'Weekly Metrics'!$A11,Weekly_Data_Raw[END_DATE],'Weekly Metrics'!GT$5), IF($B11=\"Gross Adds\",SUMIFS(Weekly_Data_Raw[GROSS_ADDS],Weekly_Data_Raw[TICKER],'Weekly Metrics'!$A11,Weekly_Data_Raw[END_DATE],'Weekly Metrics'!GT$5), IF($B11=\"Churn\",SUMIFS(Weekly_Data_Raw[CHURNED_MEMBERS],Weekly_Data_Raw[TICKER],'Weekly Metrics'!$A11,Weekly_Data_Raw[END_DATE],'Weekly Metrics'!GT$5)))))))","v":258245.51},{"$f":"IF($B11=\"Panel Sales\", SUMIFS(Weekly_Data_Raw[PANEL_AMOUNT],Weekly_Data_Raw[TICKER],'Weekly Metrics'!$A11,Weekly_Data_Raw[END_DATE],'Weekly Metrics'!GU$5),IF($B11=\"Transactions\",SUMIFS(Weekly_Data_Raw[PANEL_TRANSACTIONS],Weekly_Data_Raw[TICKER],'Weekly Metrics'!$A11,Weekly_Data_Raw[END_DATE],'Weekly Metrics'!GU$5), IF($B11=\"Avg Ticket\",SUMIFS(Weekly_Data_Raw[AVG_TICKET],Weekly_Data_Raw[TICKER],'Weekly Metrics'!$A11,Weekly_Data_Raw[END_DATE],'Weekly Metrics'!GU$5), IF($B11=\"EOP Subscribers\",SUMIFS(Weekly_Data_Raw[EOP_SUBSCRIBERS],Weekly_Data_Raw[TICKER],'Weekly Metrics'!$A11,Weekly_Data_Raw[END_DATE],'Weekly Metrics'!GU$5), IF($B11=\"Gross Adds\",SUMIFS(Weekly_Data_Raw[GROSS_ADDS],Weekly_Data_Raw[TICKER],'Weekly Metrics'!$A11,Weekly_Data_Raw[END_DATE],'Weekly Metrics'!GU$5), IF($B11=\"Churn\",SUMIFS(Weekly_Data_Raw[CHURNED_MEMBERS],Weekly_Data_Raw[TICKER],'Weekly Metrics'!$A11,Weekly_Data_Raw[END_DATE],'Weekly Metrics'!GU$5)))))))","v":378947.87},{"$f":"IF($B11=\"Panel Sales\", SUMIFS(Weekly_Data_Raw[PANEL_AMOUNT],Weekly_Data_Raw[TICKER],'Weekly Metrics'!$A11,Weekly_Data_Raw[END_DATE],'Weekly Metrics'!GV$5),IF($B11=\"Transactions\",SUMIFS(Weekly_Data_Raw[PANEL_TRANSACTIONS],Weekly_Data_Raw[TICKER],'Weekly Metrics'!$A11,Weekly_Data_Raw[END_DATE],'Weekly Metrics'!GV$5), IF($B11=\"Avg Ticket\",SUMIFS(Weekly_Data_Raw[AVG_TICKET],Weekly_Data_Raw[TICKER],'Weekly Metrics'!$A11,Weekly_Data_Raw[END_DATE],'Weekly Metrics'!GV$5), IF($B11=\"EOP Subscribers\",SUMIFS(Weekly_Data_Raw[EOP_SUBSCRIBERS],Weekly_Data_Raw[TICKER],'Weekly Metrics'!$A11,Weekly_Data_Raw[END_DATE],'Weekly Metrics'!GV$5), IF($B11=\"Gross Adds\",SUMIFS(Weekly_Data_Raw[GROSS_ADDS],Weekly_Data_Raw[TICKER],'Weekly Metrics'!$A11,Weekly_Data_Raw[END_DATE],'Weekly Metrics'!GV$5), IF($B11=\"Churn\",SUMIFS(Weekly_Data_Raw[CHURNED_MEMBERS],Weekly_Data_Raw[TICKER],'Weekly Metrics'!$A11,Weekly_Data_Raw[END_DATE],'Weekly Metrics'!GV$5)))))))","v":248217.83},{"$f":"IF($B11=\"Panel Sales\", SUMIFS(Weekly_Data_Raw[PANEL_AMOUNT],Weekly_Data_Raw[TICKER],'Weekly Metrics'!$A11,Weekly_Data_Raw[END_DATE],'Weekly Metrics'!GW$5),IF($B11=\"Transactions\",SUMIFS(Weekly_Data_Raw[PANEL_TRANSACTIONS],Weekly_Data_Raw[TICKER],'Weekly Metrics'!$A11,Weekly_Data_Raw[END_DATE],'Weekly Metrics'!GW$5), IF($B11=\"Avg Ticket\",SUMIFS(Weekly_Data_Raw[AVG_TICKET],Weekly_Data_Raw[TICKER],'Weekly Metrics'!$A11,Weekly_Data_Raw[END_DATE],'Weekly Metrics'!GW$5), IF($B11=\"EOP Subscribers\",SUMIFS(Weekly_Data_Raw[EOP_SUBSCRIBERS],Weekly_Data_Raw[TICKER],'Weekly Metrics'!$A11,Weekly_Data_Raw[END_DATE],'Weekly Metrics'!GW$5), IF($B11=\"Gross Adds\",SUMIFS(Weekly_Data_Raw[GROSS_ADDS],Weekly_Data_Raw[TICKER],'Weekly Metrics'!$A11,Weekly_Data_Raw[END_DATE],'Weekly Metrics'!GW$5), IF($B11=\"Churn\",SUMIFS(Weekly_Data_Raw[CHURNED_MEMBERS],Weekly_Data_Raw[TICKER],'Weekly Metrics'!$A11,Weekly_Data_Raw[END_DATE],'Weekly Metrics'!GW$5)))))))","v":275900.40000000002},{"$f":"IF($B11=\"Panel Sales\", SUMIFS(Weekly_Data_Raw[PANEL_AMOUNT],Weekly_Data_Raw[TICKER],'Weekly Metrics'!$A11,Weekly_Data_Raw[END_DATE],'Weekly Metrics'!GX$5),IF($B11=\"Transactions\",SUMIFS(Weekly_Data_Raw[PANEL_TRANSACTIONS],Weekly_Data_Raw[TICKER],'Weekly Metrics'!$A11,Weekly_Data_Raw[END_DATE],'Weekly Metrics'!GX$5), IF($B11=\"Avg Ticket\",SUMIFS(Weekly_Data_Raw[AVG_TICKET],Weekly_Data_Raw[TICKER],'Weekly Metrics'!$A11,Weekly_Data_Raw[END_DATE],'Weekly Metrics'!GX$5), IF($B11=\"EOP Subscribers\",SUMIFS(Weekly_Data_Raw[EOP_SUBSCRIBERS],Weekly_Data_Raw[TICKER],'Weekly Metrics'!$A11,Weekly_Data_Raw[END_DATE],'Weekly Metrics'!GX$5), IF($B11=\"Gross Adds\",SUMIFS(Weekly_Data_Raw[GROSS_ADDS],Weekly_Data_Raw[TICKER],'Weekly Metrics'!$A11,Weekly_Data_Raw[END_DATE],'Weekly Metrics'!GX$5), IF($B11=\"Churn\",SUMIFS(Weekly_Data_Raw[CHURNED_MEMBERS],Weekly_Data_Raw[TICKER],'Weekly Metrics'!$A11,Weekly_Data_Raw[END_DATE],'Weekly Metrics'!GX$5)))))))","v":243127.19},{"$f":"IF($B11=\"Panel Sales\", SUMIFS(Weekly_Data_Raw[PANEL_AMOUNT],Weekly_Data_Raw[TICKER],'Weekly Metrics'!$A11,Weekly_Data_Raw[END_DATE],'Weekly Metrics'!GY$5),IF($B11=\"Transactions\",SUMIFS(Weekly_Data_Raw[PANEL_TRANSACTIONS],Weekly_Data_Raw[TICKER],'Weekly Metrics'!$A11,Weekly_Data_Raw[END_DATE],'Weekly Metrics'!GY$5), IF($B11=\"Avg Ticket\",SUMIFS(Weekly_Data_Raw[AVG_TICKET],Weekly_Data_Raw[TICKER],'Weekly Metrics'!$A11,Weekly_Data_Raw[END_DATE],'Weekly Metrics'!GY$5), IF($B11=\"EOP Subscribers\",SUMIFS(Weekly_Data_Raw[EOP_SUBSCRIBERS],Weekly_Data_Raw[TICKER],'Weekly Metrics'!$A11,Weekly_Data_Raw[END_DATE],'Weekly Metrics'!GY$5), IF($B11=\"Gross Adds\",SUMIFS(Weekly_Data_Raw[GROSS_ADDS],Weekly_Data_Raw[TICKER],'Weekly Metrics'!$A11,Weekly_Data_Raw[END_DATE],'Weekly Metrics'!GY$5), IF($B11=\"Churn\",SUMIFS(Weekly_Data_Raw[CHURNED_MEMBERS],Weekly_Data_Raw[TICKER],'Weekly Metrics'!$A11,Weekly_Data_Raw[END_DATE],'Weekly Metrics'!GY$5)))))))","v":390704.28},{"$f":"IF($B11=\"Panel Sales\", SUMIFS(Weekly_Data_Raw[PANEL_AMOUNT],Weekly_Data_Raw[TICKER],'Weekly Metrics'!$A11,Weekly_Data_Raw[END_DATE],'Weekly Metrics'!GZ$5),IF($B11=\"Transactions\",SUMIFS(Weekly_Data_Raw[PANEL_TRANSACTIONS],Weekly_Data_Raw[TICKER],'Weekly Metrics'!$A11,Weekly_Data_Raw[END_DATE],'Weekly Metrics'!GZ$5), IF($B11=\"Avg Ticket\",SUMIFS(Weekly_Data_Raw[AVG_TICKET],Weekly_Data_Raw[TICKER],'Weekly Metrics'!$A11,Weekly_Data_Raw[END_DATE],'Weekly Metrics'!GZ$5), IF($B11=\"EOP Subscribers\",SUMIFS(Weekly_Data_Raw[EOP_SUBSCRIBERS],Weekly_Data_Raw[TICKER],'Weekly Metrics'!$A11,Weekly_Data_Raw[END_DATE],'Weekly Metrics'!GZ$5), IF($B11=\"Gross Adds\",SUMIFS(Weekly_Data_Raw[GROSS_ADDS],Weekly_Data_Raw[TICKER],'Weekly Metrics'!$A11,Weekly_Data_Raw[END_DATE],'Weekly Metrics'!GZ$5), IF($B11=\"Churn\",SUMIFS(Weekly_Data_Raw[CHURNED_MEMBERS],Weekly_Data_Raw[TICKER],'Weekly Metrics'!$A11,Weekly_Data_Raw[END_DATE],'Weekly Metrics'!GZ$5)))))))","v":259459.89},{"$f":"IF($B11=\"Panel Sales\", SUMIFS(Weekly_Data_Raw[PANEL_AMOUNT],Weekly_Data_Raw[TICKER],'Weekly Metrics'!$A11,Weekly_Data_Raw[END_DATE],'Weekly Metrics'!HA$5),IF($B11=\"Transactions\",SUMIFS(Weekly_Data_Raw[PANEL_TRANSACTIONS],Weekly_Data_Raw[TICKER],'Weekly Metrics'!$A11,Weekly_Data_Raw[END_DATE],'Weekly Metrics'!HA$5), IF($B11=\"Avg Ticket\",SUMIFS(Weekly_Data_Raw[AVG_TICKET],Weekly_Data_Raw[TICKER],'Weekly Metrics'!$A11,Weekly_Data_Raw[END_DATE],'Weekly Metrics'!HA$5), IF($B11=\"EOP Subscribers\",SUMIFS(Weekly_Data_Raw[EOP_SUBSCRIBERS],Weekly_Data_Raw[TICKER],'Weekly Metrics'!$A11,Weekly_Data_Raw[END_DATE],'Weekly Metrics'!HA$5), IF($B11=\"Gross Adds\",SUMIFS(Weekly_Data_Raw[GROSS_ADDS],Weekly_Data_Raw[TICKER],'Weekly Metrics'!$A11,Weekly_Data_Raw[END_DATE],'Weekly Metrics'!HA$5), IF($B11=\"Churn\",SUMIFS(Weekly_Data_Raw[CHURNED_MEMBERS],Weekly_Data_Raw[TICKER],'Weekly Metrics'!$A11,Weekly_Data_Raw[END_DATE],'Weekly Metrics'!HA$5)))))))","v":273609.38},{"$f":"IF($B11=\"Panel Sales\", SUMIFS(Weekly_Data_Raw[PANEL_AMOUNT],Weekly_Data_Raw[TICKER],'Weekly Metrics'!$A11,Weekly_Data_Raw[END_DATE],'Weekly Metrics'!HB$5),IF($B11=\"Transactions\",SUMIFS(Weekly_Data_Raw[PANEL_TRANSACTIONS],Weekly_Data_Raw[TICKER],'Weekly Metrics'!$A11,Weekly_Data_Raw[END_DATE],'Weekly Metrics'!HB$5), IF($B11=\"Avg Ticket\",SUMIFS(Weekly_Data_Raw[AVG_TICKET],Weekly_Data_Raw[TICKER],'Weekly Metrics'!$A11,Weekly_Data_Raw[END_DATE],'Weekly Metrics'!HB$5), IF($B11=\"EOP Subscribers\",SUMIFS(Weekly_Data_Raw[EOP_SUBSCRIBERS],Weekly_Data_Raw[TICKER],'Weekly Metrics'!$A11,Weekly_Data_Raw[END_DATE],'Weekly Metrics'!HB$5), IF($B11=\"Gross Adds\",SUMIFS(Weekly_Data_Raw[GROSS_ADDS],Weekly_Data_Raw[TICKER],'Weekly Metrics'!$A11,Weekly_Data_Raw[END_DATE],'Weekly Metrics'!HB$5), IF($B11=\"Churn\",SUMIFS(Weekly_Data_Raw[CHURNED_MEMBERS],Weekly_Data_Raw[TICKER],'Weekly Metrics'!$A11,Weekly_Data_Raw[END_DATE],'Weekly Metrics'!HB$5)))))))","v":253481.99},{"$f":"IF($B11=\"Panel Sales\", SUMIFS(Weekly_Data_Raw[PANEL_AMOUNT],Weekly_Data_Raw[TICKER],'Weekly Metrics'!$A11,Weekly_Data_Raw[END_DATE],'Weekly Metrics'!HC$5),IF($B11=\"Transactions\",SUMIFS(Weekly_Data_Raw[PANEL_TRANSACTIONS],Weekly_Data_Raw[TICKER],'Weekly Metrics'!$A11,Weekly_Data_Raw[END_DATE],'Weekly Metrics'!HC$5), IF($B11=\"Avg Ticket\",SUMIFS(Weekly_Data_Raw[AVG_TICKET],Weekly_Data_Raw[TICKER],'Weekly Metrics'!$A11,Weekly_Data_Raw[END_DATE],'Weekly Metrics'!HC$5), IF($B11=\"EOP Subscribers\",SUMIFS(Weekly_Data_Raw[EOP_SUBSCRIBERS],Weekly_Data_Raw[TICKER],'Weekly Metrics'!$A11,Weekly_Data_Raw[END_DATE],'Weekly Metrics'!HC$5), IF($B11=\"Gross Adds\",SUMIFS(Weekly_Data_Raw[GROSS_ADDS],Weekly_Data_Raw[TICKER],'Weekly Metrics'!$A11,Weekly_Data_Raw[END_DATE],'Weekly Metrics'!HC$5), IF($B11=\"Churn\",SUMIFS(Weekly_Data_Raw[CHURNED_MEMBERS],Weekly_Data_Raw[TICKER],'Weekly Metrics'!$A11,Weekly_Data_Raw[END_DATE],'Weekly Metrics'!HC$5)))))))","v":247522.06},{"$f":"IF($B11=\"Panel Sales\", SUMIFS(Weekly_Data_Raw[PANEL_AMOUNT],Weekly_Data_Raw[TICKER],'Weekly Metrics'!$A11,Weekly_Data_Raw[END_DATE],'Weekly Metrics'!HD$5),IF($B11=\"Transactions\",SUMIFS(Weekly_Data_Raw[PANEL_TRANSACTIONS],Weekly_Data_Raw[TICKER],'Weekly Metrics'!$A11,Weekly_Data_Raw[END_DATE],'Weekly Metrics'!HD$5), IF($B11=\"Avg Ticket\",SUMIFS(Weekly_Data_Raw[AVG_TICKET],Weekly_Data_Raw[TICKER],'Weekly Metrics'!$A11,Weekly_Data_Raw[END_DATE],'Weekly Metrics'!HD$5), IF($B11=\"EOP Subscribers\",SUMIFS(Weekly_Data_Raw[EOP_SUBSCRIBERS],Weekly_Data_Raw[TICKER],'Weekly Metrics'!$A11,Weekly_Data_Raw[END_DATE],'Weekly Metrics'!HD$5), IF($B11=\"Gross Adds\",SUMIFS(Weekly_Data_Raw[GROSS_ADDS],Weekly_Data_Raw[TICKER],'Weekly Metrics'!$A11,Weekly_Data_Raw[END_DATE],'Weekly Metrics'!HD$5), IF($B11=\"Churn\",SUMIFS(Weekly_Data_Raw[CHURNED_MEMBERS],Weekly_Data_Raw[TICKER],'Weekly Metrics'!$A11,Weekly_Data_Raw[END_DATE],'Weekly Metrics'!HD$5)))))))","v":369120.61},{"$f":"IF($B11=\"Panel Sales\", SUMIFS(Weekly_Data_Raw[PANEL_AMOUNT],Weekly_Data_Raw[TICKER],'Weekly Metrics'!$A11,Weekly_Data_Raw[END_DATE],'Weekly Metrics'!HE$5),IF($B11=\"Transactions\",SUMIFS(Weekly_Data_Raw[PANEL_TRANSACTIONS],Weekly_Data_Raw[TICKER],'Weekly Metrics'!$A11,Weekly_Data_Raw[END_DATE],'Weekly Metrics'!HE$5), IF($B11=\"Avg Ticket\",SUMIFS(Weekly_Data_Raw[AVG_TICKET],Weekly_Data_Raw[TICKER],'Weekly Metrics'!$A11,Weekly_Data_Raw[END_DATE],'Weekly Metrics'!HE$5), IF($B11=\"EOP Subscribers\",SUMIFS(Weekly_Data_Raw[EOP_SUBSCRIBERS],Weekly_Data_Raw[TICKER],'Weekly Metrics'!$A11,Weekly_Data_Raw[END_DATE],'Weekly Metrics'!HE$5), IF($B11=\"Gross Adds\",SUMIFS(Weekly_Data_Raw[GROSS_ADDS],Weekly_Data_Raw[TICKER],'Weekly Metrics'!$A11,Weekly_Data_Raw[END_DATE],'Weekly Metrics'!HE$5), IF($B11=\"Churn\",SUMIFS(Weekly_Data_Raw[CHURNED_MEMBERS],Weekly_Data_Raw[TICKER],'Weekly Metrics'!$A11,Weekly_Data_Raw[END_DATE],'Weekly Metrics'!HE$5)))))))","v":247046.78},{"$f":"IF($B11=\"Panel Sales\", SUMIFS(Weekly_Data_Raw[PANEL_AMOUNT],Weekly_Data_Raw[TICKER],'Weekly Metrics'!$A11,Weekly_Data_Raw[END_DATE],'Weekly Metrics'!HF$5),IF($B11=\"Transactions\",SUMIFS(Weekly_Data_Raw[PANEL_TRANSACTIONS],Weekly_Data_Raw[TICKER],'Weekly Metrics'!$A11,Weekly_Data_Raw[END_DATE],'Weekly Metrics'!HF$5), IF($B11=\"Avg Ticket\",SUMIFS(Weekly_Data_Raw[AVG_TICKET],Weekly_Data_Raw[TICKER],'Weekly Metrics'!$A11,Weekly_Data_Raw[END_DATE],'Weekly Metrics'!HF$5), IF($B11=\"EOP Subscribers\",SUMIFS(Weekly_Data_Raw[EOP_SUBSCRIBERS],Weekly_Data_Raw[TICKER],'Weekly Metrics'!$A11,Weekly_Data_Raw[END_DATE],'Weekly Metrics'!HF$5), IF($B11=\"Gross Adds\",SUMIFS(Weekly_Data_Raw[GROSS_ADDS],Weekly_Data_Raw[TICKER],'Weekly Metrics'!$A11,Weekly_Data_Raw[END_DATE],'Weekly Metrics'!HF$5), IF($B11=\"Churn\",SUMIFS(Weekly_Data_Raw[CHURNED_MEMBERS],Weekly_Data_Raw[TICKER],'Weekly Metrics'!$A11,Weekly_Data_Raw[END_DATE],'Weekly Metrics'!HF$5)))))))","v":267922.28000000003},{"$f":"IF($B11=\"Panel Sales\", SUMIFS(Weekly_Data_Raw[PANEL_AMOUNT],Weekly_Data_Raw[TICKER],'Weekly Metrics'!$A11,Weekly_Data_Raw[END_DATE],'Weekly Metrics'!HG$5),IF($B11=\"Transactions\",SUMIFS(Weekly_Data_Raw[PANEL_TRANSACTIONS],Weekly_Data_Raw[TICKER],'Weekly Metrics'!$A11,Weekly_Data_Raw[END_DATE],'Weekly Metrics'!HG$5), IF($B11=\"Avg Ticket\",SUMIFS(Weekly_Data_Raw[AVG_TICKET],Weekly_Data_Raw[TICKER],'Weekly Metrics'!$A11,Weekly_Data_Raw[END_DATE],'Weekly Metrics'!HG$5), IF($B11=\"EOP Subscribers\",SUMIFS(Weekly_Data_Raw[EOP_SUBSCRIBERS],Weekly_Data_Raw[TICKER],'Weekly Metrics'!$A11,Weekly_Data_Raw[END_DATE],'Weekly Metrics'!HG$5), IF($B11=\"Gross Adds\",SUMIFS(Weekly_Data_Raw[GROSS_ADDS],Weekly_Data_Raw[TICKER],'Weekly Metrics'!$A11,Weekly_Data_Raw[END_DATE],'Weekly Metrics'!HG$5), IF($B11=\"Churn\",SUMIFS(Weekly_Data_Raw[CHURNED_MEMBERS],Weekly_Data_Raw[TICKER],'Weekly Metrics'!$A11,Weekly_Data_Raw[END_DATE],'Weekly Metrics'!HG$5)))))))","v":234875.84},{"$f":"IF($B11=\"Panel Sales\", SUMIFS(Weekly_Data_Raw[PANEL_AMOUNT],Weekly_Data_Raw[TICKER],'Weekly Metrics'!$A11,Weekly_Data_Raw[END_DATE],'Weekly Metrics'!HH$5),IF($B11=\"Transactions\",SUMIFS(Weekly_Data_Raw[PANEL_TRANSACTIONS],Weekly_Data_Raw[TICKER],'Weekly Metrics'!$A11,Weekly_Data_Raw[END_DATE],'Weekly Metrics'!HH$5), IF($B11=\"Avg Ticket\",SUMIFS(Weekly_Data_Raw[AVG_TICKET],Weekly_Data_Raw[TICKER],'Weekly Metrics'!$A11,Weekly_Data_Raw[END_DATE],'Weekly Metrics'!HH$5), IF($B11=\"EOP Subscribers\",SUMIFS(Weekly_Data_Raw[EOP_SUBSCRIBERS],Weekly_Data_Raw[TICKER],'Weekly Metrics'!$A11,Weekly_Data_Raw[END_DATE],'Weekly Metrics'!HH$5), IF($B11=\"Gross Adds\",SUMIFS(Weekly_Data_Raw[GROSS_ADDS],Weekly_Data_Raw[TICKER],'Weekly Metrics'!$A11,Weekly_Data_Raw[END_DATE],'Weekly Metrics'!HH$5), IF($B11=\"Churn\",SUMIFS(Weekly_Data_Raw[CHURNED_MEMBERS],Weekly_Data_Raw[TICKER],'Weekly Metrics'!$A11,Weekly_Data_Raw[END_DATE],'Weekly Metrics'!HH$5)))))))","v":386750.25},{"$f":"IF($B11=\"Panel Sales\", SUMIFS(Weekly_Data_Raw[PANEL_AMOUNT],Weekly_Data_Raw[TICKER],'Weekly Metrics'!$A11,Weekly_Data_Raw[END_DATE],'Weekly Metrics'!HI$5),IF($B11=\"Transactions\",SUMIFS(Weekly_Data_Raw[PANEL_TRANSACTIONS],Weekly_Data_Raw[TICKER],'Weekly Metrics'!$A11,Weekly_Data_Raw[END_DATE],'Weekly Metrics'!HI$5), IF($B11=\"Avg Ticket\",SUMIFS(Weekly_Data_Raw[AVG_TICKET],Weekly_Data_Raw[TICKER],'Weekly Metrics'!$A11,Weekly_Data_Raw[END_DATE],'Weekly Metrics'!HI$5), IF($B11=\"EOP Subscribers\",SUMIFS(Weekly_Data_Raw[EOP_SUBSCRIBERS],Weekly_Data_Raw[TICKER],'Weekly Metrics'!$A11,Weekly_Data_Raw[END_DATE],'Weekly Metrics'!HI$5), IF($B11=\"Gross Adds\",SUMIFS(Weekly_Data_Raw[GROSS_ADDS],Weekly_Data_Raw[TICKER],'Weekly Metrics'!$A11,Weekly_Data_Raw[END_DATE],'Weekly Metrics'!HI$5), IF($B11=\"Churn\",SUMIFS(Weekly_Data_Raw[CHURNED_MEMBERS],Weekly_Data_Raw[TICKER],'Weekly Metrics'!$A11,Weekly_Data_Raw[END_DATE],'Weekly Metrics'!HI$5)))))))","v":252381.92},{"$f":"IF($B11=\"Panel Sales\", SUMIFS(Weekly_Data_Raw[PANEL_AMOUNT],Weekly_Data_Raw[TICKER],'Weekly Metrics'!$A11,Weekly_Data_Raw[END_DATE],'Weekly Metrics'!HJ$5),IF($B11=\"Transactions\",SUMIFS(Weekly_Data_Raw[PANEL_TRANSACTIONS],Weekly_Data_Raw[TICKER],'Weekly Metrics'!$A11,Weekly_Data_Raw[END_DATE],'Weekly Metrics'!HJ$5), IF($B11=\"Avg Ticket\",SUMIFS(Weekly_Data_Raw[AVG_TICKET],Weekly_Data_Raw[TICKER],'Weekly Metrics'!$A11,Weekly_Data_Raw[END_DATE],'Weekly Metrics'!HJ$5), IF($B11=\"EOP Subscribers\",SUMIFS(Weekly_Data_Raw[EOP_SUBSCRIBERS],Weekly_Data_Raw[TICKER],'Weekly Metrics'!$A11,Weekly_Data_Raw[END_DATE],'Weekly Metrics'!HJ$5), IF($B11=\"Gross Adds\",SUMIFS(Weekly_Data_Raw[GROSS_ADDS],Weekly_Data_Raw[TICKER],'Weekly Metrics'!$A11,Weekly_Data_Raw[END_DATE],'Weekly Metrics'!HJ$5), IF($B11=\"Churn\",SUMIFS(Weekly_Data_Raw[CHURNED_MEMBERS],Weekly_Data_Raw[TICKER],'Weekly Metrics'!$A11,Weekly_Data_Raw[END_DATE],'Weekly Metrics'!HJ$5)))))))","v":272959.92},{"$f":"IF($B11=\"Panel Sales\", SUMIFS(Weekly_Data_Raw[PANEL_AMOUNT],Weekly_Data_Raw[TICKER],'Weekly Metrics'!$A11,Weekly_Data_Raw[END_DATE],'Weekly Metrics'!HK$5),IF($B11=\"Transactions\",SUMIFS(Weekly_Data_Raw[PANEL_TRANSACTIONS],Weekly_Data_Raw[TICKER],'Weekly Metrics'!$A11,Weekly_Data_Raw[END_DATE],'Weekly Metrics'!HK$5), IF($B11=\"Avg Ticket\",SUMIFS(Weekly_Data_Raw[AVG_TICKET],Weekly_Data_Raw[TICKER],'Weekly Metrics'!$A11,Weekly_Data_Raw[END_DATE],'Weekly Metrics'!HK$5), IF($B11=\"EOP Subscribers\",SUMIFS(Weekly_Data_Raw[EOP_SUBSCRIBERS],Weekly_Data_Raw[TICKER],'Weekly Metrics'!$A11,Weekly_Data_Raw[END_DATE],'Weekly Metrics'!HK$5), IF($B11=\"Gross Adds\",SUMIFS(Weekly_Data_Raw[GROSS_ADDS],Weekly_Data_Raw[TICKER],'Weekly Metrics'!$A11,Weekly_Data_Raw[END_DATE],'Weekly Metrics'!HK$5), IF($B11=\"Churn\",SUMIFS(Weekly_Data_Raw[CHURNED_MEMBERS],Weekly_Data_Raw[TICKER],'Weekly Metrics'!$A11,Weekly_Data_Raw[END_DATE],'Weekly Metrics'!HK$5)))))))","v":253643.95},{"$f":"IF($B11=\"Panel Sales\", SUMIFS(Weekly_Data_Raw[PANEL_AMOUNT],Weekly_Data_Raw[TICKER],'Weekly Metrics'!$A11,Weekly_Data_Raw[END_DATE],'Weekly Metrics'!HL$5),IF($B11=\"Transactions\",SUMIFS(Weekly_Data_Raw[PANEL_TRANSACTIONS],Weekly_Data_Raw[TICKER],'Weekly Metrics'!$A11,Weekly_Data_Raw[END_DATE],'Weekly Metrics'!HL$5), IF($B11=\"Avg Ticket\",SUMIFS(Weekly_Data_Raw[AVG_TICKET],Weekly_Data_Raw[TICKER],'Weekly Metrics'!$A11,Weekly_Data_Raw[END_DATE],'Weekly Metrics'!HL$5), IF($B11=\"EOP Subscribers\",SUMIFS(Weekly_Data_Raw[EOP_SUBSCRIBERS],Weekly_Data_Raw[TICKER],'Weekly Metrics'!$A11,Weekly_Data_Raw[END_DATE],'Weekly Metrics'!HL$5), IF($B11=\"Gross Adds\",SUMIFS(Weekly_Data_Raw[GROSS_ADDS],Weekly_Data_Raw[TICKER],'Weekly Metrics'!$A11,Weekly_Data_Raw[END_DATE],'Weekly Metrics'!HL$5), IF($B11=\"Churn\",SUMIFS(Weekly_Data_Raw[CHURNED_MEMBERS],Weekly_Data_Raw[TICKER],'Weekly Metrics'!$A11,Weekly_Data_Raw[END_DATE],'Weekly Metrics'!HL$5)))))))","v":458259.18},{"$f":"IF($B11=\"Panel Sales\", SUMIFS(Weekly_Data_Raw[PANEL_AMOUNT],Weekly_Data_Raw[TICKER],'Weekly Metrics'!$A11,Weekly_Data_Raw[END_DATE],'Weekly Metrics'!HM$5),IF($B11=\"Transactions\",SUMIFS(Weekly_Data_Raw[PANEL_TRANSACTIONS],Weekly_Data_Raw[TICKER],'Weekly Metrics'!$A11,Weekly_Data_Raw[END_DATE],'Weekly Metrics'!HM$5), IF($B11=\"Avg Ticket\",SUMIFS(Weekly_Data_Raw[AVG_TICKET],Weekly_Data_Raw[TICKER],'Weekly Metrics'!$A11,Weekly_Data_Raw[END_DATE],'Weekly Metrics'!HM$5), IF($B11=\"EOP Subscribers\",SUMIFS(Weekly_Data_Raw[EOP_SUBSCRIBERS],Weekly_Data_Raw[TICKER],'Weekly Metrics'!$A11,Weekly_Data_Raw[END_DATE],'Weekly Metrics'!HM$5), IF($B11=\"Gross Adds\",SUMIFS(Weekly_Data_Raw[GROSS_ADDS],Weekly_Data_Raw[TICKER],'Weekly Metrics'!$A11,Weekly_Data_Raw[END_DATE],'Weekly Metrics'!HM$5), IF($B11=\"Churn\",SUMIFS(Weekly_Data_Raw[CHURNED_MEMBERS],Weekly_Data_Raw[TICKER],'Weekly Metrics'!$A11,Weekly_Data_Raw[END_DATE],'Weekly Metrics'!HM$5)))))))","v":257150.28},{"$f":"IF($B11=\"Panel Sales\", SUMIFS(Weekly_Data_Raw[PANEL_AMOUNT],Weekly_Data_Raw[TICKER],'Weekly Metrics'!$A11,Weekly_Data_Raw[END_DATE],'Weekly Metrics'!HN$5),IF($B11=\"Transactions\",SUMIFS(Weekly_Data_Raw[PANEL_TRANSACTIONS],Weekly_Data_Raw[TICKER],'Weekly Metrics'!$A11,Weekly_Data_Raw[END_DATE],'Weekly Metrics'!HN$5), IF($B11=\"Avg Ticket\",SUMIFS(Weekly_Data_Raw[AVG_TICKET],Weekly_Data_Raw[TICKER],'Weekly Metrics'!$A11,Weekly_Data_Raw[END_DATE],'Weekly Metrics'!HN$5), IF($B11=\"EOP Subscribers\",SUMIFS(Weekly_Data_Raw[EOP_SUBSCRIBERS],Weekly_Data_Raw[TICKER],'Weekly Metrics'!$A11,Weekly_Data_Raw[END_DATE],'Weekly Metrics'!HN$5), IF($B11=\"Gross Adds\",SUMIFS(Weekly_Data_Raw[GROSS_ADDS],Weekly_Data_Raw[TICKER],'Weekly Metrics'!$A11,Weekly_Data_Raw[END_DATE],'Weekly Metrics'!HN$5), IF($B11=\"Churn\",SUMIFS(Weekly_Data_Raw[CHURNED_MEMBERS],Weekly_Data_Raw[TICKER],'Weekly Metrics'!$A11,Weekly_Data_Raw[END_DATE],'Weekly Metrics'!HN$5)))))))","v":278540.38},{"$f":"IF($B11=\"Panel Sales\", SUMIFS(Weekly_Data_Raw[PANEL_AMOUNT],Weekly_Data_Raw[TICKER],'Weekly Metrics'!$A11,Weekly_Data_Raw[END_DATE],'Weekly Metrics'!HO$5),IF($B11=\"Transactions\",SUMIFS(Weekly_Data_Raw[PANEL_TRANSACTIONS],Weekly_Data_Raw[TICKER],'Weekly Metrics'!$A11,Weekly_Data_Raw[END_DATE],'Weekly Metrics'!HO$5), IF($B11=\"Avg Ticket\",SUMIFS(Weekly_Data_Raw[AVG_TICKET],Weekly_Data_Raw[TICKER],'Weekly Metrics'!$A11,Weekly_Data_Raw[END_DATE],'Weekly Metrics'!HO$5), IF($B11=\"EOP Subscribers\",SUMIFS(Weekly_Data_Raw[EOP_SUBSCRIBERS],Weekly_Data_Raw[TICKER],'Weekly Metrics'!$A11,Weekly_Data_Raw[END_DATE],'Weekly Metrics'!HO$5), IF($B11=\"Gross Adds\",SUMIFS(Weekly_Data_Raw[GROSS_ADDS],Weekly_Data_Raw[TICKER],'Weekly Metrics'!$A11,Weekly_Data_Raw[END_DATE],'Weekly Metrics'!HO$5), IF($B11=\"Churn\",SUMIFS(Weekly_Data_Raw[CHURNED_MEMBERS],Weekly_Data_Raw[TICKER],'Weekly Metrics'!$A11,Weekly_Data_Raw[END_DATE],'Weekly Metrics'!HO$5)))))))","v":261675.15},{"$f":"IF($B11=\"Panel Sales\", SUMIFS(Weekly_Data_Raw[PANEL_AMOUNT],Weekly_Data_Raw[TICKER],'Weekly Metrics'!$A11,Weekly_Data_Raw[END_DATE],'Weekly Metrics'!HP$5),IF($B11=\"Transactions\",SUMIFS(Weekly_Data_Raw[PANEL_TRANSACTIONS],Weekly_Data_Raw[TICKER],'Weekly Metrics'!$A11,Weekly_Data_Raw[END_DATE],'Weekly Metrics'!HP$5), IF($B11=\"Avg Ticket\",SUMIFS(Weekly_Data_Raw[AVG_TICKET],Weekly_Data_Raw[TICKER],'Weekly Metrics'!$A11,Weekly_Data_Raw[END_DATE],'Weekly Metrics'!HP$5), IF($B11=\"EOP Subscribers\",SUMIFS(Weekly_Data_Raw[EOP_SUBSCRIBERS],Weekly_Data_Raw[TICKER],'Weekly Metrics'!$A11,Weekly_Data_Raw[END_DATE],'Weekly Metrics'!HP$5), IF($B11=\"Gross Adds\",SUMIFS(Weekly_Data_Raw[GROSS_ADDS],Weekly_Data_Raw[TICKER],'Weekly Metrics'!$A11,Weekly_Data_Raw[END_DATE],'Weekly Metrics'!HP$5), IF($B11=\"Churn\",SUMIFS(Weekly_Data_Raw[CHURNED_MEMBERS],Weekly_Data_Raw[TICKER],'Weekly Metrics'!$A11,Weekly_Data_Raw[END_DATE],'Weekly Metrics'!HP$5)))))))","v":287178.42},{"$f":"IF($B11=\"Panel Sales\", SUMIFS(Weekly_Data_Raw[PANEL_AMOUNT],Weekly_Data_Raw[TICKER],'Weekly Metrics'!$A11,Weekly_Data_Raw[END_DATE],'Weekly Metrics'!HQ$5),IF($B11=\"Transactions\",SUMIFS(Weekly_Data_Raw[PANEL_TRANSACTIONS],Weekly_Data_Raw[TICKER],'Weekly Metrics'!$A11,Weekly_Data_Raw[END_DATE],'Weekly Metrics'!HQ$5), IF($B11=\"Avg Ticket\",SUMIFS(Weekly_Data_Raw[AVG_TICKET],Weekly_Data_Raw[TICKER],'Weekly Metrics'!$A11,Weekly_Data_Raw[END_DATE],'Weekly Metrics'!HQ$5), IF($B11=\"EOP Subscribers\",SUMIFS(Weekly_Data_Raw[EOP_SUBSCRIBERS],Weekly_Data_Raw[TICKER],'Weekly Metrics'!$A11,Weekly_Data_Raw[END_DATE],'Weekly Metrics'!HQ$5), IF($B11=\"Gross Adds\",SUMIFS(Weekly_Data_Raw[GROSS_ADDS],Weekly_Data_Raw[TICKER],'Weekly Metrics'!$A11,Weekly_Data_Raw[END_DATE],'Weekly Metrics'!HQ$5), IF($B11=\"Churn\",SUMIFS(Weekly_Data_Raw[CHURNED_MEMBERS],Weekly_Data_Raw[TICKER],'Weekly Metrics'!$A11,Weekly_Data_Raw[END_DATE],'Weekly Metrics'!HQ$5)))))))","v":344252.4},{"$f":"IF($B11=\"Panel Sales\", SUMIFS(Weekly_Data_Raw[PANEL_AMOUNT],Weekly_Data_Raw[TICKER],'Weekly Metrics'!$A11,Weekly_Data_Raw[END_DATE],'Weekly Metrics'!HR$5),IF($B11=\"Transactions\",SUMIFS(Weekly_Data_Raw[PANEL_TRANSACTIONS],Weekly_Data_Raw[TICKER],'Weekly Metrics'!$A11,Weekly_Data_Raw[END_DATE],'Weekly Metrics'!HR$5), IF($B11=\"Avg Ticket\",SUMIFS(Weekly_Data_Raw[AVG_TICKET],Weekly_Data_Raw[TICKER],'Weekly Metrics'!$A11,Weekly_Data_Raw[END_DATE],'Weekly Metrics'!HR$5), IF($B11=\"EOP Subscribers\",SUMIFS(Weekly_Data_Raw[EOP_SUBSCRIBERS],Weekly_Data_Raw[TICKER],'Weekly Metrics'!$A11,Weekly_Data_Raw[END_DATE],'Weekly Metrics'!HR$5), IF($B11=\"Gross Adds\",SUMIFS(Weekly_Data_Raw[GROSS_ADDS],Weekly_Data_Raw[TICKER],'Weekly Metrics'!$A11,Weekly_Data_Raw[END_DATE],'Weekly Metrics'!HR$5), IF($B11=\"Churn\",SUMIFS(Weekly_Data_Raw[CHURNED_MEMBERS],Weekly_Data_Raw[TICKER],'Weekly Metrics'!$A11,Weekly_Data_Raw[END_DATE],'Weekly Metrics'!HR$5)))))))","v":249947.57},{"$f":"IF($B11=\"Panel Sales\", SUMIFS(Weekly_Data_Raw[PANEL_AMOUNT],Weekly_Data_Raw[TICKER],'Weekly Metrics'!$A11,Weekly_Data_Raw[END_DATE],'Weekly Metrics'!HS$5),IF($B11=\"Transactions\",SUMIFS(Weekly_Data_Raw[PANEL_TRANSACTIONS],Weekly_Data_Raw[TICKER],'Weekly Metrics'!$A11,Weekly_Data_Raw[END_DATE],'Weekly Metrics'!HS$5), IF($B11=\"Avg Ticket\",SUMIFS(Weekly_Data_Raw[AVG_TICKET],Weekly_Data_Raw[TICKER],'Weekly Metrics'!$A11,Weekly_Data_Raw[END_DATE],'Weekly Metrics'!HS$5), IF($B11=\"EOP Subscribers\",SUMIFS(Weekly_Data_Raw[EOP_SUBSCRIBERS],Weekly_Data_Raw[TICKER],'Weekly Metrics'!$A11,Weekly_Data_Raw[END_DATE],'Weekly Metrics'!HS$5), IF($B11=\"Gross Adds\",SUMIFS(Weekly_Data_Raw[GROSS_ADDS],Weekly_Data_Raw[TICKER],'Weekly Metrics'!$A11,Weekly_Data_Raw[END_DATE],'Weekly Metrics'!HS$5), IF($B11=\"Churn\",SUMIFS(Weekly_Data_Raw[CHURNED_MEMBERS],Weekly_Data_Raw[TICKER],'Weekly Metrics'!$A11,Weekly_Data_Raw[END_DATE],'Weekly Metrics'!HS$5)))))))","v":269703.15000000002},{"$f":"IF($B11=\"Panel Sales\", SUMIFS(Weekly_Data_Raw[PANEL_AMOUNT],Weekly_Data_Raw[TICKER],'Weekly Metrics'!$A11,Weekly_Data_Raw[END_DATE],'Weekly Metrics'!HT$5),IF($B11=\"Transactions\",SUMIFS(Weekly_Data_Raw[PANEL_TRANSACTIONS],Weekly_Data_Raw[TICKER],'Weekly Metrics'!$A11,Weekly_Data_Raw[END_DATE],'Weekly Metrics'!HT$5), IF($B11=\"Avg Ticket\",SUMIFS(Weekly_Data_Raw[AVG_TICKET],Weekly_Data_Raw[TICKER],'Weekly Metrics'!$A11,Weekly_Data_Raw[END_DATE],'Weekly Metrics'!HT$5), IF($B11=\"EOP Subscribers\",SUMIFS(Weekly_Data_Raw[EOP_SUBSCRIBERS],Weekly_Data_Raw[TICKER],'Weekly Metrics'!$A11,Weekly_Data_Raw[END_DATE],'Weekly Metrics'!HT$5), IF($B11=\"Gross Adds\",SUMIFS(Weekly_Data_Raw[GROSS_ADDS],Weekly_Data_Raw[TICKER],'Weekly Metrics'!$A11,Weekly_Data_Raw[END_DATE],'Weekly Metrics'!HT$5), IF($B11=\"Churn\",SUMIFS(Weekly_Data_Raw[CHURNED_MEMBERS],Weekly_Data_Raw[TICKER],'Weekly Metrics'!$A11,Weekly_Data_Raw[END_DATE],'Weekly Metrics'!HT$5)))))))","v":239924.16}]

{"sheet":"Weekly Metrics YoY","index":6,"n_rows":325,"n_cols":228,"rows_kept":325,"cut":false,"hidden":false,"merged":[]}
["Note: This page is generated when Weekly Metrics is refreshed."]
[]
[null,null,{"$f":"'Weekly Metrics'!C3","v":2019},{"$f":"'Weekly Metrics'!D3","v":2019},{"$f":"'Weekly Metrics'!E3","v":2019},{"$f":"'Weekly Metrics'!F3","v":2019},{"$f":"'Weekly Metrics'!G3","v":2019},{"$f":"'Weekly Metrics'!H3","v":2019},{"$f":"'Weekly Metrics'!I3","v":2019},{"$f":"'Weekly Metrics'!J3","v":2019},{"$f":"'Weekly Metrics'!K3","v":2019},{"$f":"'Weekly Metrics'!L3","v":2019},{"$f":"'Weekly Metrics'!M3","v":2019},{"$f":"'Weekly Metrics'!N3","v":2019},{"$f":"'Weekly Metrics'!O3","v":2019},{"$f":"'Weekly Metrics'!P3","v":2019},{"$f":"'Weekly Metrics'!Q3","v":2019},{"$f":"'Weekly Metrics'!R3","v":2019},{"$f":"'Weekly Metrics'!S3","v":2019},{"$f":"'Weekly Metrics'!T3","v":2019},{"$f":"'Weekly Metrics'!U3","v":2019},{"$f":"'Weekly Metrics'!V3","v":2019},{"$f":"'Weekly Metrics'!W3","v":2019},{"$f":"'Weekly Metrics'!X3","v":2019},{"$f":"'Weekly Metrics'!Y3","v":2019},{"$f":"'Weekly Metrics'!Z3","v":2019},{"$f":"'Weekly Metrics'!AA3","v":2019},{"$f":"'Weekly Metrics'!AB3","v":2019},{"$f":"'Weekly Metrics'!AC3","v":2019},{"$f":"'Weekly Metrics'!AD3","v":2019},{"$f":"'Weekly Metrics'!AE3","v":2019},{"$f":"'Weekly Metrics'!AF3","v":2019},{"$f":"'Weekly Metrics'!AG3","v":2019},{"$f":"'Weekly Metrics'!AH3","v":2019},{"$f":"'Weekly Metrics'!AI3","v":2019},{"$f":"'Weekly Metrics'!AJ3","v":2019},{"$f":"'Weekly Metrics'!AK3","v":2019},{"$f":"'Weekly Metrics'!AL3","v":2019},{"$f":"'Weekly Metrics'!AM3","v":2019},{"$f":"'Weekly Metrics'!AN3","v":2019},{"$f":"'Weekly Metrics'!AO3","v":2019},{"$f":"'Weekly Metrics'!AP3","v":2019},{"$f":"'Weekly Metrics'!AQ3","v":2019},{"$f":"'Weekly Metrics'!AR3","v":2019},{"$f":"'Weekly Metrics'!AS3","v":2019},{"$f":"'Weekly Metrics'!AT3","v":2019},{"$f":"'Weekly Metrics'!AU3","v":2019},{"$f":"'Weekly Metrics'!AV3","v":2019},{"$f":"'Weekly Metrics'!AW3","v":2019},{"$f":"'Weekly Metrics'!AX3","v":2019},{"$f":"'Weekly Metrics'!AY3","v":2019},{"$f":"'Weekly Metrics'!AZ3","v":2019},{"$f":"'Weekly Metrics'!BA3","v":2019},{"$f":"'Weekly Metrics'!BB3","v":2019},{"$f":"'Weekly Metrics'!BC3","v":2020},{"$f":"'Weekly Metrics'!BD3","v":2020},{"$f":"'Weekly Metrics'!BE3","v":2020},{"$f":"'Weekly Metrics'!BF3","v":2020},{"$f":"'Weekly Metrics'!BG3","v":2020},{"$f":"'Weekly Metrics'!BH3","v":2020},{"$f":"'Weekly Metrics'!BI3","v":2020},{"$f":"'Weekly Metrics'!BJ3","v":2020},{"$f":"'Weekly Metrics'!BK3","v":2020},{"$f":"'Weekly Metrics'!BL3","v":2020},{"$f":"'Weekly Metrics'!BM3","v":2020},{"$f":"'Weekly Metrics'!BN3","v":2020},{"$f":"'Weekly Metrics'!BO3","v":2020},{"$f":"'Weekly Metrics'!BP3","v":2020},{"$f":"'Weekly Metrics'!BQ3","v":2020},{"$f":"'Weekly Metrics'!BR3","v":2020},{"$f":"'Weekly Metrics'!BS3","v":2020},{"$f":"'Weekly Metrics'!BT3","v":2020},{"$f":"'Weekly Metrics'!BU3","v":2020},{"$f":"'Weekly Metrics'!BV3","v":2020},{"$f":"'Weekly Metrics'!BW3","v":2020},{"$f":"'Weekly Metrics'!BX3","v":2020},{"$f":"'Weekly Metrics'!BY3","v":2020},{"$f":"'Weekly Metrics'!BZ3","v":2020},{"$f":"'Weekly Metrics'!CA3","v":2020},{"$f":"'Weekly Metrics'!CB3","v":2020},{"$f":"'Weekly Metrics'!CC3","v":2020},{"$f":"'Weekly Metrics'!CD3","v":2020},{"$f":"'Weekly Metrics'!CE3","v":2020},{"$f":"'Weekly Metrics'!CF3","v":2020},{"$f":"'Weekly Metrics'!CG3","v":2020},{"$f":"'Weekly Metrics'!CH3","v":2020},{"$f":"'Weekly Metrics'!CI3","v":2020},{"$f":"'Weekly Metrics'!CJ3","v":2020},{"$f":"'Weekly Metrics'!CK3","v":2020},{"$f":"'Weekly Metrics'!CL3","v":2020},{"$f":"'Weekly Metrics'!CM3","v":2020},{"$f":"'Weekly Metrics'!CN3","v":2020},{"$f":"'Weekly Metrics'!CO3","v":2020},{"$f":"'Weekly Metrics'!CP3","v":2020},{"$f":"'Weekly Metrics'!CQ3","v":2020},{"$f":"'Weekly Metrics'!CR3","v":2020},{"$f":"'Weekly Metrics'!CS3","v":2020},{"$f":"'Weekly Metrics'!CT3","v":2020},{"$f":"'Weekly Metrics'!CU3","v":2020},{"$f":"'Weekly Metrics'!CV3","v":2020},{"$f":"'Weekly Metrics'!CW3","v":2020},{"$f":"'Weekly Metrics'!CX3","v":2020},{"$f":"'Weekly Metrics'!CY3","v":2020},{"$f":"'Weekly Metrics'!CZ3","v":2020},{"$f":"'Weekly Metrics'!DA3","v":2020},{"$f":"'Weekly Metrics'!DB3","v":2020},{"$f":"'Weekly Metrics'!DC3","v":2020},{"$f":"'Weekly Metrics'!DD3","v":2021},{"$f":"'Weekly Metrics'!DE3","v":2021},{"$f":"'Weekly Metrics'!DF3","v":2021},{"$f":"'Weekly Metrics'!DG3","v":2021},{"$f":"'Weekly Metrics'!DH3","v":2021},{"$f":"'Weekly Metrics'!DI3","v":2021},{"$f":"'Weekly Metrics'!DJ3","v":2021},{"$f":"'Weekly Metrics'!DK3","v":2021},{"$f":"'Weekly Metrics'!DL3","v":2021},{"$f":"'Weekly Metrics'!DM3","v":2021},{"$f":"'Weekly Metrics'!DN3","v":2021},{"$f":"'Weekly Metrics'!DO3","v":2021},{"$f":"'Weekly Metrics'!DP3","v":2021},{"$f":"'Weekly Metrics'!DQ3","v":2021},{"$f":"'Weekly Metrics'!DR3","v":2021},{"$f":"'Weekly Metrics'!DS3","v":2021},{"$f":"'Weekly Metrics'!DT3","v":2021},{"$f":"'Weekly Metrics'!DU3","v":2021},{"$f":"'Weekly Metrics'!DV3","v":2021},{"$f":"'Weekly Metrics'!DW3","v":2021},{"$f":"'Weekly Metrics'!DX3","v":2021},{"$f":"'Weekly Metrics'!DY3","v":2021},{"$f":"'Weekly Metrics'!DZ3","v":2021},{"$f":"'Weekly Metrics'!EA3","v":2021},{"$f":"'Weekly Metrics'!EB3","v":2021},{"$f":"'Weekly Metrics'!EC3","v":2021},{"$f":"'Weekly Metrics'!ED3","v":2021},{"$f":"'Weekly Metrics'!EE3","v":2021},{"$f":"'Weekly Metrics'!EF3","v":2021},{"$f":"'Weekly Metrics'!EG3","v":2021},{"$f":"'Weekly Metrics'!EH3","v":2021},{"$f":"'Weekly Metrics'!EI3","v":2021},{"$f":"'Weekly Metrics'!EJ3","v":2021},{"$f":"'Weekly Metrics'!EK3","v":2021},{"$f":"'Weekly Metrics'!EL3","v":2021},{"$f":"'Weekly Metrics'!EM3","v":2021},{"$f":"'Weekly Metrics'!EN3","v":2021},{"$f":"'Weekly Metrics'!EO3","v":2021},{"$f":"'Weekly Metrics'!EP3","v":2021},{"$f":"'Weekly Metrics'!EQ3","v":2021},{"$f":"'Weekly Metrics'!ER3","v":2021},{"$f":"'Weekly Metrics'!ES3","v":2021},{"$f":"'Weekly Metrics'!ET3","v":2021},{"$f":"'Weekly Metrics'!EU3","v":2021},{"$f":"'Weekly Metrics'!EV3","v":2021},{"$f":"'Weekly Metrics'!EW3","v":2021},{"$f":"'Weekly Metrics'!EX3","v":2021},{"$f":"'Weekly Metrics'!EY3","v":2021},{"$f":"'Weekly Metrics'!EZ3","v":2021},{"$f":"'Weekly Metrics'!FA3","v":2021},{"$f":"'Weekly Metrics'!FB3","v":2021},{"$f":"'Weekly Metrics'!FC3","v":2021},{"$f":"'Weekly Metrics'!FD3","v":2022},{"$f":"'Weekly Metrics'!FE3","v":2022},{"$f":"'Weekly Metrics'!FF3","v":2022},{"$f":"'Weekly Metrics'!FG3","v":2022},{"$f":"'Weekly Metrics'!FH3","v":2022},{"$f":"'Weekly Metrics'!FI3","v":2022},{"$f":"'Weekly Metrics'!FJ3","v":2022},{"$f":"'Weekly Metrics'!FK3","v":2022},{"$f":"'Weekly Metrics'!FL3","v":2022},{"$f":"'Weekly Metrics'!FM3","v":2022},{"$f":"'Weekly Metrics'!FN3","v":2022},{"$f":"'Weekly Metrics'!FO3","v":2022},{"$f":"'Weekly Metrics'!FP3","v":2022},{"$f":"'Weekly Metrics'!FQ3","v":2022},{"$f":"'Weekly Metrics'!FR3","v":2022},{"$f":"'Weekly Metrics'!FS3","v":2022},{"$f":"'Weekly Metrics'!FT3","v":2022},{"$f":"'Weekly Metrics'!FU3","v":2022},{"$f":"'Weekly Metrics'!FV3","v":2022},{"$f":"'Weekly Metrics'!FW3","v":2022},{"$f":"'Weekly Metrics'!FX3","v":2022},{"$f":"'Weekly Metrics'!FY3","v":2022},{"$f":"'Weekly Metrics'!FZ3","v":2022},{"$f":"'Weekly Metrics'!GA3","v":2022},{"$f":"'Weekly Metrics'!GB3","v":2022},{"$f":"'Weekly Metrics'!GC3","v":2022},{"$f":"'Weekly Metrics'!GD3","v":2022},{"$f":"'Weekly Metrics'!GE3","v":2022},{"$f":"'Weekly Metrics'!GF3","v":2022},{"$f":"'Weekly Metrics'!GG3","v":2022},{"$f":"'Weekly Metrics'!GH3","v":2022},{"$f":"'Weekly Metrics'!GI3","v":2022},{"$f":"'Weekly Metrics'!GJ3","v":2022},{"$f":"'Weekly Metrics'!GK3","v":2022},{"$f":"'Weekly Metrics'!GL3","v":2022},{"$f":"'Weekly Metrics'!GM3","v":2022},{"$f":"'Weekly Metrics'!GN3","v":2022},{"$f":"'Weekly Metrics'!GO3","v":2022},{"$f":"'Weekly Metrics'!GP3","v":2022},{"$f":"'Weekly Metrics'!GQ3","v":2022},{"$f":"'Weekly Metrics'!GR3","v":2022},{"$f":"'Weekly Metrics'!GS3","v":2022},{"$f":"'Weekly Metrics'!GT3","v":2022},{"$f":"'Weekly Metrics'!GU3","v":2022},{"$f":"'Weekly Metrics'!GV3","v":2022},{"$f":"'Weekly Metrics'!GW3","v":2022},{"$f":"'Weekly Metrics'!GX3","v":2022},{"$f":"'Weekly Metrics'!GY3","v":2022},{"$f":"'Weekly Metrics'!GZ3","v":2022},{"$f":"'Weekly Metrics'!HA3","v":2022},{"$f":"'Weekly Metrics'!HB3","v":2022},{"$f":"'Weekly Metrics'!HC3","v":2022},{"$f":"'Weekly Metrics'!HD3","v":2023},{"$f":"'Weekly Metrics'!HE3","v":2023},{"$f":"'Weekly Metrics'!HF3","v":2023},{"$f":"'Weekly Metrics'!HG3","v":2023},{"$f":"'Weekly Metrics'!HH3","v":2023},{"$f":"'Weekly Metrics'!HI3","v":2023},{"$f":"'Weekly Metrics'!HJ3","v":2023},{"$f":"'Weekly Metrics'!HK3","v":2023},{"$f":"'Weekly Metrics'!HL3","v":2023},{"$f":"'Weekly Metrics'!HM3","v":2023},{"$f":"'Weekly Metrics'!HN3","v":2023},{"$f":"'Weekly Metrics'!HO3","v":2023},{"$f":"'Weekly Metrics'!HP3","v":2023},{"$f":"'Weekly Metrics'!HQ3","v":2023},{"$f":"'Weekly Metrics'!HR3","v":2023},{"$f":"'Weekly Metrics'!HS3","v":2023},{"$f":"'Weekly Metrics'!HT3","v":2023}]
[null,null,{"$f":"'Weekly Metrics'!C4","v":"Week 1"},{"$f":"'Weekly Metrics'!D4","v":"Week 2"},{"$f":"'Weekly Metrics'!E4","v":"Week 3"},{"$f":"'Weekly Metrics'!F4","v":"Week 4"},{"$f":"'Weekly Metrics'!G4","v":"Week 5"},{"$f":"'Weekly Metrics'!H4","v":"Week 6"},{"$f":"'Weekly Metrics'!I4","v":"Week 7"},{"$f":"'Weekly Metrics'!J4","v":"Week 8"},{"$f":"'Weekly Metrics'!K4","v":"Week 9"},{"$f":"'Weekly Metrics'!L4","v":"Week 10"},{"$f":"'Weekly Metrics'!M4","v":"Week 11"},{"$f":"'Weekly Metrics'!N4","v":"Week 12"},{"$f":"'Weekly Metrics'!O4","v":"Week 13"},{"$f":"'Weekly Metrics'!P4","v":"Week 14"},{"$f":"'Weekly Metrics'!Q4","v":"Week 15"},{"$f":"'Weekly Metrics'!R4","v":"Week 16"},{"$f":"'Weekly Metrics'!S4","v":"Week 17"},{"$f":"'Weekly Metrics'!T4","v":"Week 18"},{"$f":"'Weekly Metrics'!U4","v":"Week 19"},{"$f":"'Weekly Metrics'!V4","v":"Week 20"},{"$f":"'Weekly Metrics'!W4","v":"Week 21"},{"$f":"'Weekly Metrics'!X4","v":"Week 22"},{"$f":"'Weekly Metrics'!Y4","v":"Week 23"},{"$f":"'Weekly Metrics'!Z4","v":"Week 24"},{"$f":"'Weekly Metrics'!AA4","v":"Week 25"},{"$f":"'Weekly Metrics'!AB4","v":"Week 26"},{"$f":"'Weekly Metrics'!AC4","v":"Week 27"},{"$f":"'Weekly Metrics'!AD4","v":"Week 28"},{"$f":"'Weekly Metrics'!AE4","v":"Week 29"},{"$f":"'Weekly Metrics'!AF4","v":"Week 30"},{"$f":"'Weekly Metrics'!AG4","v":"Week 31"},{"$f":"'Weekly Metrics'!AH4","v":"Week 32"},{"$f":"'Weekly Metrics'!AI4","v":"Week 33"},{"$f":"'Weekly Metrics'!AJ4","v":"Week 34"},{"$f":"'Weekly Metrics'!AK4","v":"Week 35"},{"$f":"'Weekly Metrics'!AL4","v":"Week 36"},{"$f":"'Weekly Metrics'!AM4","v":"Week 37"},{"$f":"'Weekly Metrics'!AN4","v":"Week 38"},{"$f":"'Weekly Metrics'!AO4","v":"Week 39"},{"$f":"'Weekly Metrics'!AP4","v":"Week 40"},{"$f":"'Weekly Metrics'!AQ4","v":"Week 41"},{"$f":"'Weekly Metrics'!AR4","v":"Week 42"},{"$f":"'Weekly Metrics'!AS4","v":"Week 43"},{"$f":"'Weekly Metrics'!AT4","v":"Week 44"},{"$f":"'Weekly Metrics'!AU4","v":"Week 45"},{"$f":"'Weekly Metrics'!AV4","v":"Week 46"},{"$f":"'Weekly Metrics'!AW4","v":"Week 47"},{"$f":"'Weekly Metrics'!AX4","v":"Week 48"},{"$f":"'Weekly Metrics'!AY4","v":"Week 49"},{"$f":"'Weekly Metrics'!AZ4","v":"Week 50"},{"$f":"'Weekly Metrics'!BA4","v":"Week 51"},{"$f":"'Weekly Metrics'!BB4","v":"Week 52"},{"$f":"'Weekly Metrics'!BC4","v":"Week 1"},{"$f":"'Weekly Metrics'!BD4","v":"Week 2"},{"$f":"'Weekly Metrics'!BE4","v":"Week 3"},{"$f":"'Weekly Metrics'!BF4","v":"Week 4"},{"$f":"'Weekly Metrics'!BG4","v":"Week 5"},{"$f":"'Weekly Metrics'!BH4","v":"Week 6"},{"$f":"'Weekly Metrics'!BI4","v":"Week 7"},{"$f":"'Weekly Metrics'!BJ4","v":"Week 8"},{"$f":"'Weekly Metrics'!BK4","v":"Week 9"},{"$f":"'Weekly Metrics'!BL4","v":"Week 10"},{"$f":"'Weekly Metrics'!BM4","v":"Week 11"},{"$f":"'Weekly Metrics'!BN4","v":"Week 12"},{"$f":"'Weekly Metrics'!BO4","v":"Week 13"},{"$f":"'Weekly Metrics'!BP4","v":"Week 14"},{"$f":"'Weekly Metrics'!BQ4","v":"Week 15"},{"$f":"'Weekly Metrics'!BR4","v":"Week 16"},{"$f":"'Weekly Metrics'!BS4","v":"Week 17"},{"$f":"'Weekly Metrics'!BT4","v":"Week 18"},{"$f":"'Weekly Metrics'!BU4","v":"Week 19"},{"$f":"'Weekly Metrics'!BV4","v":"Week 20"},{"$f":"'Weekly Metrics'!BW4","v":"Week 21"},{"$f":"'Weekly Metrics'!BX4","v":"Week 22"},{"$f":"'Weekly Metrics'!BY4","v":"Week 23"},{"$f":"'Weekly Metrics'!BZ4","v":"Week 24"},{"$f":"'Weekly Metrics'!CA4","v":"Week 25"},{"$f":"'Weekly Metrics'!CB4","v":"Week 26"},{"$f":"'Weekly Metrics'!CC4","v":"Week 27"},{"$f":"'Weekly Metrics'!CD4","v":"Week 28"},{"$f":"'Weekly Metrics'!CE4","v":"Week 29"},{"$f":"'Weekly Metrics'!CF4","v":"Week 30"},{"$f":"'Weekly Metrics'!CG4","v":"Week 31"},{"$f":"'Weekly Metrics'!CH4","v":"Week 32"},{"$f":"'Weekly Metrics'!CI4","v":"Week 33"},{"$f":"'Weekly Metrics'!CJ4","v":"Week 34"},{"$f":"'Weekly Metrics'!CK4","v":"Week 35"},{"$f":"'Weekly Metrics'!CL4","v":"Week 36"},{"$f":"'Weekly Metrics'!CM4","v":"Week 37"},{"$f":"'Weekly Metrics'!CN4","v":"Week 38"},{"$f":"'Weekly Metrics'!CO4","v":"Week 39"},{"$f":"'Weekly Metrics'!CP4","v":"Week 40"},{"$f":"'Weekly Metrics'!CQ4","v":"Week 41"},{"$f":"'Weekly Metrics'!CR4","v":"Week 42"},{"$f":"'Weekly Metrics'!CS4","v":"Week 43"},{"$f":"'Weekly Metrics'!CT4","v":"Week 44"},{"$f":"'Weekly Metrics'!CU4","v":"Week 45"},{"$f":"'Weekly Metrics'!CV4","v":"Week 46"},{"$f":"'Weekly Metrics'!CW4","v":"Week 47"},{"$f":"'Weekly Metrics'!CX4","v":"Week 48"},{"$f":"'Weekly Metrics'!CY4","v":"Week 49"},{"$f":"'Weekly Metrics'!CZ4","v":"Week 50"},{"$f":"'Weekly Metrics'!DA4","v":"Week 51"},{"$f":"'Weekly Metrics'!DB4","v":"Week 52"},{"$f":"'Weekly Metrics'!DC4","v":"Week 53"},{"$f":"'Weekly Metrics'!DD4","v":"Week 1"},{"$f":"'Weekly Metrics'!DE4","v":"Week 2"},{"$f":"'Weekly Metrics'!DF4","v":"Week 3"},{"$f":"'Weekly Metrics'!DG4","v":"Week 4"},{"$f":"'Weekly Metrics'!DH4","v":"Week 5"},{"$f":"'Weekly Metrics'!DI4","v":"Week 6"},{"$f":"'Weekly Metrics'!DJ4","v":"Week 7"},{"$f":"'Weekly Metrics'!DK4","v":"Week 8"},{"$f":"'Weekly Metrics'!DL4","v":"Week 9"},{"$f":"'Weekly Metrics'!DM4","v":"Week 10"},{"$f":"'Weekly Metrics'!DN4","v":"Week 11"},{"$f":"'Weekly Metrics'!DO4","v":"Week 12"},{"$f":"'Weekly Metrics'!DP4","v":"Week 13"},{"$f":"'Weekly Metrics'!DQ4","v":"Week 14"},{"$f":"'Weekly Metrics'!DR4","v":"Week 15"},{"$f":"'Weekly Metrics'!DS4","v":"Week 16"},{"$f":"'Weekly Metrics'!DT4","v":"Week 17"},{"$f":"'Weekly Metrics'!DU4","v":"Week 18"},{"$f":"'Weekly Metrics'!DV4","v":"Week 19"},{"$f":"'Weekly Metrics'!DW4","v":"Week 20"},{"$f":"'Weekly Metrics'!DX4","v":"Week 21"},{"$f":"'Weekly Metrics'!DY4","v":"Week 22"},{"$f":"'Weekly Metrics'!DZ4","v":"Week 23"},{"$f":"'Weekly Metrics'!EA4","v":"Week 24"},{"$f":"'Weekly Metrics'!EB4","v":"Week 25"},{"$f":"'Weekly Metrics'!EC4","v":"Week 26"},{"$f":"'Weekly Metrics'!ED4","v":"Week 27"},{"$f":"'Weekly Metrics'!EE4","v":"Week 28"},{"$f":"'Weekly Metrics'!EF4","v":"Week 29"},{"$f":"'Weekly Metrics'!EG4","v":"Week 30"},{"$f":"'Weekly Metrics'!EH4","v":"Week 31"},{"$f":"'Weekly Metrics'!EI4","v":"Week 32"},{"$f":"'Weekly Metrics'!EJ4","v":"Week 33"},{"$f":"'Weekly Metrics'!EK4","v":"Week 34"},{"$f":"'Weekly Metrics'!EL4","v":"Week 35"},{"$f":"'Weekly Metrics'!EM4","v":"Week 36"},{"$f":"'Weekly Metrics'!EN4","v":"Week 37"},{"$f":"'Weekly Metrics'!EO4","v":"Week 38"},{"$f":"'Weekly Metrics'!EP4","v":"Week 39"},{"$f":"'Weekly Metrics'!EQ4","v":"Week 40"},{"$f":"'Weekly Metrics'!ER4","v":"Week 41"},{"$f":"'Weekly Metrics'!ES4","v":"Week 42"},{"$f":"'Weekly Metrics'!ET4","v":"Week 43"},{"$f":"'Weekly Metrics'!EU4","v":"Week 44"},{"$f":"'Weekly Metrics'!EV4","v":"Week 45"},{"$f":"'Weekly Metrics'!EW4","v":"Week 46"},{"$f":"'Weekly Metrics'!EX4","v":"Week 47"},{"$f":"'Weekly Metrics'!EY4","v":"Week 48"},{"$f":"'Weekly Metrics'!EZ4","v":"Week 49"},{"$f":"'Weekly Metrics'!FA4","v":"Week 50"},{"$f":"'Weekly Metrics'!FB4","v":"Week 51"},{"$f":"'Weekly Metrics'!FC4","v":"Week 52"},{"$f":"'Weekly Metrics'!FD4","v":"Week 1"},{"$f":"'Weekly Metrics'!FE4","v":"Week 2"},{"$f":"'Weekly Metrics'!FF4","v":"Week 3"},{"$f":"'Weekly Metrics'!FG4","v":"Week 4"},{"$f":"'Weekly Metrics'!FH4","v":"Week 5"},{"$f":"'Weekly Metrics'!FI4","v":"Week 6"},{"$f":"'Weekly Metrics'!FJ4","v":"Week 7"},{"$f":"'Weekly Metrics'!FK4","v":"Week 8"},{"$f":"'Weekly Metrics'!FL4","v":"Week 9"},{"$f":"'Weekly Metrics'!FM4","v":"Week 10"},{"$f":"'Weekly Metrics'!FN4","v":"Week 11"},{"$f":"'Weekly Metrics'!FO4","v":"Week 12"},{"$f":"'Weekly Metrics'!FP4","v":"Week 13"},{"$f":"'Weekly Metrics'!FQ4","v":"Week 14"},{"$f":"'Weekly Metrics'!FR4","v":"Week 15"},{"$f":"'Weekly Metrics'!FS4","v":"Week 16"},{"$f":"'Weekly Metrics'!FT4","v":"Week 17"},{"$f":"'Weekly Metrics'!FU4","v":"Week 18"},{"$f":"'Weekly Metrics'!FV4","v":"Week 19"},{"$f":"'Weekly Metrics'!FW4","v":"Week 20"},{"$f":"'Weekly Metrics'!FX4","v":"Week 21"},{"$f":"'Weekly Metrics'!FY4","v":"Week 22"},{"$f":"'Weekly Metrics'!FZ4","v":"Week 23"},{"$f":"'Weekly Metrics'!GA4","v":"Week 24"},{"$f":"'Weekly Metrics'!GB4","v":"Week 25"},{"$f":"'Weekly Metrics'!GC4","v":"Week 26"},{"$f":"'Weekly Metrics'!GD4","v":"Week 27"},{"$f":"'Weekly Metrics'!GE4","v":"Week 28"},{"$f":"'Weekly Metrics'!GF4","v":"Week 29"},{"$f":"'Weekly Metrics'!GG4","v":"Week 30"},{"$f":"'Weekly Metrics'!GH4","v":"Week 31"},{"$f":"'Weekly Metrics'!GI4","v":"Week 32"},{"$f":"'Weekly Metrics'!GJ4","v":"Week 33"},{"$f":"'Weekly Metrics'!GK4","v":"Week 34"},{"$f":"'Weekly Metrics'!GL4","v":"Week 35"},{"$f":"'Weekly Metrics'!GM4","v":"Week 36"},{"$f":"'Weekly Metrics'!GN4","v":"Week 37"},{"$f":"'Weekly Metrics'!GO4","v":"Week 38"},{"$f":"'Weekly Metrics'!GP4","v":"Week 39"},{"$f":"'Weekly Metrics'!GQ4","v":"Week 40"},{"$f":"'Weekly Metrics'!GR4","v":"Week 41"},{"$f":"'Weekly Metrics'!GS4","v":"Week 42"},{"$f":"'Weekly Metrics'!GT4","v":"Week 43"},{"$f":"'Weekly Metrics'!GU4","v":"Week 44"},{"$f":"'Weekly Metrics'!GV4","v":"Week 45"},{"$f":"'Weekly Metrics'!GW4","v":"Week 46"},{"$f":"'Weekly Metrics'!GX4","v":"Week 47"},{"$f":"'Weekly Metrics'!GY4","v":"Week 48"},{"$f":"'Weekly Metrics'!GZ4","v":"Week 49"},{"$f":"'Weekly Metrics'!HA4","v":"Week 50"},{"$f":"'Weekly Metrics'!HB4","v":"Week 51"},{"$f":"'Weekly Metrics'!HC4","v":"Week 52"},{"$f":"'Weekly Metrics'!HD4","v":"Week 1"},{"$f":"'Weekly Metrics'!HE4","v":"Week 2"},{"$f":"'Weekly Metrics'!HF4","v":"Week 3"},{"$f":"'Weekly Metrics'!HG4","v":"Week 4"},{"$f":"'Weekly Metrics'!HH4","v":"Week 5"},{"$f":"'Weekly Metrics'!HI4","v":"Week 6"},{"$f":"'Weekly Metrics'!HJ4","v":"Week 7"},{"$f":"'Weekly Metrics'!HK4","v":"Week 8"},{"$f":"'Weekly Metrics'!HL4","v":"Week 9"},{"$f":"'Weekly Metrics'!HM4","v":"Week 10"},{"$f":"'Weekly Metrics'!HN4","v":"Week 11"},{"$f":"'Weekly Metrics'!HO4","v":"Week 12"},{"$f":"'Weekly Metrics'!HP4","v":"Week 13"},{"$f":"'Weekly Metrics'!HQ4","v":"Week 14"},{"$f":"'Weekly Metrics'!HR4","v":"Week 15"},{"$f":"'Weekly Metrics'!HS4","v":"Week 16"},{"$f":"'Weekly Metrics'!HT4","v":"Week 17"}]
[{"$f":"IF('Weekly Metrics'!A5=0,\"\",'Weekly Metrics'!A5)","v":"Ticker"},{"$f":"IF('Weekly Metrics'!B5=0,\"\",'Weekly Metrics'!B5)","v":"Metric"},{"$f":"'Weekly Metrics'!C5","v":"2019-01-05"},{"$f":"'Weekly Metrics'!D5","v":"2019-01-12"},{"$f":"'Weekly Metrics'!E5","v":"2019-01-19"},{"$f":"'Weekly Metrics'!F5","v":"2019-01-26"},{"$f":"'Weekly Metrics'!G5","v":"2019-02-02"},{"$f":"'Weekly Metrics'!H5","v":"2019-02-09"},{"$f":"'Weekly Metrics'!I5","v":"2019-02-16"},{"$f":"'Weekly Metrics'!J5","v":"2019-02-23"},{"$f":"'Weekly Metrics'!K5","v":"2019-03-02"},{"$f":"'Weekly Metrics'!L5","v":"2019-03-09"},{"$f":"'Weekly Metrics'!M5","v":"2019-03-16"},{"$f":"'Weekly Metrics'!N5","v":"2019-03-23"},{"$f":"'Weekly Metrics'!O5","v":"2019-03-30"},{"$f":"'Weekly Metrics'!P5","v":"2019-04-06"},{"$f":"'Weekly Metrics'!Q5","v":"2019-04-13"},{"$f":"'Weekly Metrics'!R5","v":"2019-04-20"},{"$f":"'Weekly Metrics'!S5","v":"2019-04-27"},{"$f":"'Weekly Metrics'!T5","v":"2019-05-04"},{"$f":"'Weekly Metrics'!U5","v":"2019-05-11"},{"$f":"'Weekly Metrics'!V5","v":"2019-05-18"},{"$f":"'Weekly Metrics'!W5","v":"2019-05-25"},{"$f":"'Weekly Metrics'!X5","v":"2019-06-01"},{"$f":"'Weekly Metrics'!Y5","v":"2019-06-08"},{"$f":"'Weekly Metrics'!Z5","v":"2019-06-15"},{"$f":"'Weekly Metrics'!AA5","v":"2019-06-22"},{"$f":"'Weekly Metrics'!AB5","v":"2019-06-29"},{"$f":"'Weekly Metrics'!AC5","v":"2019-07-06"},{"$f":"'Weekly Metrics'!AD5","v":"2019-07-13"},{"$f":"'Weekly Metrics'!AE5","v":"2019-07-20"},{"$f":"'Weekly Metrics'!AF5","v":"2019-07-27"},{"$f":"'Weekly Metrics'!AG5","v":"2019-08-03"},{"$f":"'Weekly Metrics'!AH5","v":"2019-08-10"},{"$f":"'Weekly Metrics'!AI5","v":"2019-08-17"},{"$f":"'Weekly Metrics'!AJ5","v":"2019-08-24"},{"$f":"'Weekly Metrics'!AK5","v":"2019-08-31"},{"$f":"'Weekly Metrics'!AL5","v":"2019-09-07"},{"$f":"'Weekly Metrics'!AM5","v":"2019-09-14"},{"$f":"'Weekly Metrics'!AN5","v":"2019-09-21"},{"$f":"'Weekly Metrics'!AO5","v":"2019-09-28"},{"$f":"'Weekly Metrics'!AP5","v":"2019-10-05"},{"$f":"'Weekly Metrics'!AQ5","v":"2019-10-12"},{"$f":"'Weekly Metrics'!AR5","v":"2019-10-19"},{"$f":"'Weekly Metrics'!AS5","v":"2019-10-26"},{"$f":"'Weekly Metrics'!AT5","v":"2019-11-02"},{"$f":"'Weekly Metrics'!AU5","v":"2019-11-09"},{"$f":"'Weekly Metrics'!AV5","v":"2019-11-16"},{"$f":"'Weekly Metrics'!AW5","v":"2019-11-23"},{"$f":"'Weekly Metrics'!AX5","v":"2019-11-30"},{"$f":"'Weekly Metrics'!AY5","v":"2019-12-07"},{"$f":"'Weekly Metrics'!AZ5","v":"2019-12-14"},{"$f":"'Weekly Metrics'!BA5","v":"2019-12-21"},{"$f":"'Weekly Metrics'!BB5","v":"2019-12-28"},{"$f":"'Weekly Metrics'!BC5","v":"2020-01-04"},{"$f":"'Weekly Metrics'!BD5","v":"2020-01-11"},{"$f":"'Weekly Metrics'!BE5","v":"2020-01-18"},{"$f":"'Weekly Metrics'!BF5","v":"2020-01-25"},{"$f":"'Weekly Metrics'!BG5","v":"2020-02-01"},{"$f":"'Weekly Metrics'!BH5","v":"2020-02-08"},{"$f":"'Weekly Metrics'!BI5","v":"2020-02-15"},{"$f":"'Weekly Metrics'!BJ5","v":"2020-02-22"},{"$f":"'Weekly Metrics'!BK5","v":"2020-02-29"},{"$f":"'Weekly Metrics'!BL5","v":"2020-03-07"},{"$f":"'Weekly Metrics'!BM5","v":"2020-03-14"},{"$f":"'Weekly Metrics'!BN5","v":"2020-03-21"},{"$f":"'Weekly Metrics'!BO5","v":"2020-03-28"},{"$f":"'Weekly Metrics'!BP5","v":"2020-04-04"},{"$f":"'Weekly Metrics'!BQ5","v":"2020-04-11"},{"$f":"'Weekly Metrics'!BR5","v":"2020-04-18"},{"$f":"'Weekly Metrics'!BS5","v":"2020-04-25"},{"$f":"'Weekly Metrics'!BT5","v":"2020-05-02"},{"$f":"'Weekly Metrics'!BU5","v":"2020-05-09"},{"$f":"'Weekly Metrics'!BV5","v":"2020-05-16"},{"$f":"'Weekly Metrics'!BW5","v":"2020-05-23"},{"$f":"'Weekly Metrics'!BX5","v":"2020-05-30"},{"$f":"'Weekly Metrics'!BY5","v":"2020-06-06"},{"$f":"'Weekly Metrics'!BZ5","v":"2020-06-13"},{"$f":"'Weekly Metrics'!CA5","v":"2020-06-20"},{"$f":"'Weekly Metrics'!CB5","v":"2020-06-27"},{"$f":"'Weekly Metrics'!CC5","v":"2020-07-04"},{"$f":"'Weekly Metrics'!CD5","v":"2020-07-11"},{"$f":"'Weekly Metrics'!CE5","v":"2020-07-18"},{"$f":"'Weekly Metrics'!CF5","v":"2020-07-25"},{"$f":"'Weekly Metrics'!CG5","v":"2020-08-01"},{"$f":"'Weekly Metrics'!CH5","v":"2020-08-08"},{"$f":"'Weekly Metrics'!CI5","v":"2020-08-15"},{"$f":"'Weekly Metrics'!CJ5","v":"2020-08-22"},{"$f":"'Weekly Metrics'!CK5","v":"2020-08-29"},{"$f":"'Weekly Metrics'!CL5","v":"2020-09-05"},{"$f":"'Weekly Metrics'!CM5","v":"2020-09-12"},{"$f":"'Weekly Metrics'!CN5","v":"2020-09-19"},{"$f":"'Weekly Metrics'!CO5","v":"2020-09-26"},{"$f":"'Weekly Metrics'!CP5","v":"2020-10-03"},{"$f":"'Weekly Metrics'!CQ5","v":"2020-10-10"},{"$f":"'Weekly Metrics'!CR5","v":"2020-10-17"},{"$f":"'Weekly Metrics'!CS5","v":"2020-10-24"},{"$f":"'Weekly Metrics'!CT5","v":"2020-10-31"},{"$f":"'Weekly Metrics'!CU5","v":"2020-11-07"},{"$f":"'Weekly Metrics'!CV5","v":"2020-11-14"},{"$f":"'Weekly Metrics'!CW5","v":"2020-11-21"},{"$f":"'Weekly Metrics'!CX5","v":"2020-11-28"},{"$f":"'Weekly Metrics'!CY5","v":"2020-12-05"},{"$f":"'Weekly Metrics'!CZ5","v":"2020-12-12"},{"$f":"'Weekly Metrics'!DA5","v":"2020-12-19"},{"$f":"'Weekly Metrics'!DB5","v":"2020-12-26"},{"$f":"'Weekly Metrics'!DC5","v":"2021-01-02"},{"$f":"'Weekly Metrics'!DD5","v":"2021-01-09"},{"$f":"'Weekly Metrics'!DE5","v":"2021-01-16"},{"$f":"'Weekly Metrics'!DF5","v":"2021-01-23"},{"$f":"'Weekly Metrics'!DG5","v":"2021-01-30"},{"$f":"'Weekly Metrics'!DH5","v":"2021-02-06"},{"$f":"'Weekly Metrics'!DI5","v":"2021-02-13"},{"$f":"'Weekly Metrics'!DJ5","v":"2021-02-20"},{"$f":"'Weekly Metrics'!DK5","v":"2021-02-27"},{"$f":"'Weekly Metrics'!DL5","v":"2021-03-06"},{"$f":"'Weekly Metrics'!DM5","v":"2021-03-13"},{"$f":"'Weekly Metrics'!DN5","v":"2021-03-20"},{"$f":"'Weekly Metrics'!DO5","v":"2021-03-27"},{"$f":"'Weekly Metrics'!DP5","v":"2021-04-03"},{"$f":"'Weekly Metrics'!DQ5","v":"2021-04-10"},{"$f":"'Weekly Metrics'!DR5","v":"2021-04-17"},{"$f":"'Weekly Metrics'!DS5","v":"2021-04-24"},{"$f":"'Weekly Metrics'!DT5","v":"2021-05-01"},{"$f":"'Weekly Metrics'!DU5","v":"2021-05-08"},{"$f":"'Weekly Metrics'!DV5","v":"2021-05-15"},{"$f":"'Weekly Metrics'!DW5","v":"2021-05-22"},{"$f":"'Weekly Metrics'!DX5","v":"2021-05-29"},{"$f":"'Weekly Metrics'!DY5","v":"2021-06-05"},{"$f":"'Weekly Metrics'!DZ5","v":"2021-06-12"},{"$f":"'Weekly Metrics'!EA5","v":"2021-06-19"},{"$f":"'Weekly Metrics'!EB5","v":"2021-06-26"},{"$f":"'Weekly Metrics'!EC5","v":"2021-07-03"},{"$f":"'Weekly Metrics'!ED5","v":"2021-07-10"},{"$f":"'Weekly Metrics'!EE5","v":"2021-07-17"},{"$f":"'Weekly Metrics'!EF5","v":"2021-07-24"},{"$f":"'Weekly Metrics'!EG5","v":"2021-07-31"},{"$f":"'Weekly Metrics'!EH5","v":"2021-08-07"},{"$f":"'Weekly Metrics'!EI5","v":"2021-08-14"},{"$f":"'Weekly Metrics'!EJ5","v":"2021-08-21"},{"$f":"'Weekly Metrics'!EK5","v":"2021-08-28"},{"$f":"'Weekly Metrics'!EL5","v":"2021-09-04"},{"$f":"'Weekly Metrics'!EM5","v":"2021-09-11"},{"$f":"'Weekly Metrics'!EN5","v":"2021-09-18"},{"$f":"'Weekly Metrics'!EO5","v":"2021-09-25"},{"$f":"'Weekly Metrics'!EP5","v":"2021-10-02"},{"$f":"'Weekly Metrics'!EQ5","v":"2021-10-09"},{"$f":"'Weekly Metrics'!ER5","v":"2021-10-16"},{"$f":"'Weekly Metrics'!ES5","v":"2021-10-23"},{"$f":"'Weekly Metrics'!ET5","v":"2021-10-30"},{"$f":"'Weekly Metrics'!EU5","v":"2021-11-06"},{"$f":"'Weekly Metrics'!EV5","v":"2021-11-13"},{"$f":"'Weekly Metrics'!EW5","v":"2021-11-20"},{"$f":"'Weekly Metrics'!EX5","v":"2021-11-27"},{"$f":"'Weekly Metrics'!EY5","v":"2021-12-04"},{"$f":"'Weekly Metrics'!EZ5","v":"2021-12-11"},{"$f":"'Weekly Metrics'!FA5","v":"2021-12-18"},{"$f":"'Weekly Metrics'!FB5","v":"2021-12-25"},{"$f":"'Weekly Metrics'!FC5","v":"2022-01-01"},{"$f":"'Weekly Metrics'!FD5","v":"2022-01-08"},{"$f":"'Weekly Metrics'!FE5","v":"2022-01-15"},{"$f":"'Weekly Metrics'!FF5","v":"2022-01-22"},{"$f":"'Weekly Metrics'!FG5","v":"2022-01-29"},{"$f":"'Weekly Metrics'!FH5","v":"2022-02-05"},{"$f":"'Weekly Metrics'!FI5","v":"2022-02-12"},{"$f":"'Weekly Metrics'!FJ5","v":"2022-02-19"},{"$f":"'Weekly Metrics'!FK5","v":"2022-02-26"},{"$f":"'Weekly Metrics'!FL5","v":"2022-03-05"},{"$f":"'Weekly Metrics'!FM5","v":"2022-03-12"},{"$f":"'Weekly Metrics'!FN5","v":"2022-03-19"},{"$f":"'Weekly Metrics'!FO5","v":"2022-03-26"},{"$f":"'Weekly Metrics'!FP5","v":"2022-04-02"},{"$f":"'Weekly Metrics'!FQ5","v":"2022-04-09"},{"$f":"'Weekly Metrics'!FR5","v":"2022-04-16"},{"$f":"'Weekly Metrics'!FS5","v":"2022-04-23"},{"$f":"'Weekly Metrics'!FT5","v":"2022-04-30"},{"$f":"'Weekly Metrics'!FU5","v":"2022-05-07"},{"$f":"'Weekly Metrics'!FV5","v":"2022-05-14"},{"$f":"'Weekly Metrics'!FW5","v":"2022-05-21"},{"$f":"'Weekly Metrics'!FX5","v":"2022-05-28"},{"$f":"'Weekly Metrics'!FY5","v":"2022-06-04"},{"$f":"'Weekly Metrics'!FZ5","v":"2022-06-11"},{"$f":"'Weekly Metrics'!GA5","v":"2022-06-18"},{"$f":"'Weekly Metrics'!GB5","v":"2022-06-25"},{"$f":"'Weekly Metrics'!GC5","v":"2022-07-02"},{"$f":"'Weekly Metrics'!GD5","v":"2022-07-09"},{"$f":"'Weekly Metrics'!GE5","v":"2022-07-16"},{"$f":"'Weekly Metrics'!GF5","v":"2022-07-23"},{"$f":"'Weekly Metrics'!GG5","v":"2022-07-30"},{"$f":"'Weekly Metrics'!GH5","v":"2022-08-06"},{"$f":"'Weekly Metrics'!GI5","v":"2022-08-13"},{"$f":"'Weekly Metrics'!GJ5","v":"2022-08-20"},{"$f":"'Weekly Metrics'!GK5","v":"2022-08-27"},{"$f":"'Weekly Metrics'!GL5","v":"2022-09-03"},{"$f":"'Weekly Metrics'!GM5","v":"2022-09-10"},{"$f":"'Weekly Metrics'!GN5","v":"2022-09-17"},{"$f":"'Weekly Metrics'!GO5","v":"2022-09-24"},{"$f":"'Weekly Metrics'!GP5","v":"2022-10-01"},{"$f":"'Weekly Metrics'!GQ5","v":"2022-10-08"},{"$f":"'Weekly Metrics'!GR5","v":"2022-10-15"},{"$f":"'Weekly Metrics'!GS5","v":"2022-10-22"},{"$f":"'Weekly Metrics'!GT5","v":"2022-10-29"},{"$f":"'Weekly Metrics'!GU5","v":"2022-11-05"},{"$f":"'Weekly Metrics'!GV5","v":"2022-11-12"},{"$f":"'Weekly Metrics'!GW5","v":"2022-11-19"},{"$f":"'Weekly Metrics'!GX5","v":"2022-11-26"},{"$f":"'Weekly Metrics'!GY5","v":"2022-12-03"},{"$f":"'Weekly Metrics'!GZ5","v":"2022-12-10"},{"$f":"'Weekly Metrics'!HA5","v":"2022-12-17"},{"$f":"'Weekly Metrics'!HB5","v":"2022-12-24"},{"$f":"'Weekly Metrics'!HC5","v":"2022-12-31"},{"$f":"'Weekly Metrics'!HD5","v":"2023-01-07"},{"$f":"'Weekly Metrics'!HE5","v":"2023-01-14"},{"$f":"'Weekly Metrics'!HF5","v":"2023-01-21"},{"$f":"'Weekly Metrics'!HG5","v":"2023-01-28"},{"$f":"'Weekly Metrics'!HH5","v":"2023-02-04"},{"$f":"'Weekly Metrics'!HI5","v":"2023-02-11"},{"$f":"'Weekly Metrics'!HJ5","v":"2023-02-18"},{"$f":"'Weekly Metrics'!HK5","v":"2023-02-25"},{"$f":"'Weekly Metrics'!HL5","v":"2023-03-04"},{"$f":"'Weekly Metrics'!HM5","v":"2023-03-11"},{"$f":"'Weekly Metrics'!HN5","v":"2023-03-18"},{"$f":"'Weekly Metrics'!HO5","v":"2023-03-25"},{"$f":"'Weekly Metrics'!HP5","v":"2023-04-01"},{"$f":"'Weekly Metrics'!HQ5","v":"2023-04-08"},{"$f":"'Weekly Metrics'!HR5","v":"2023-04-15"},{"$f":"'Weekly Metrics'!HS5","v":"2023-04-22"},{"$f":"'Weekly Metrics'!HT5","v":"2023-04-29"}]
[{"$f":"IF('Weekly Metrics'!A6=0,\"\",'Weekly Metrics'!A6)","v":"CMG"},{"$f":"IF('Weekly Metrics'!B6=0,\"\",'Weekly Metrics'!B6)","v":"Transactions"},{"$f":"IFERROR('Weekly Metrics'!C6/'Weekly Metrics'!#REF!-1,\"\")","v":""},{"$f":"IFERROR('Weekly Metrics'!D6/'Weekly Metrics'!#REF!-1,\"\")","v":""},{"$f":"IFERROR('Weekly Metrics'!E6/'Weekly Metrics'!#REF!-1,\"\")","v":""},{"$f":"IFERROR('Weekly Metrics'!F6/'Weekly Metrics'!#REF!-1,\"\")","v":""},{"$f":"IFERROR('Weekly Metrics'!G6/'Weekly Metrics'!#REF!-1,\"\")","v":""},{"$f":"IFERROR('Weekly Metrics'!H6/'Weekly Metrics'!#REF!-1,\"\")","v":""},{"$f":"IFERROR('Weekly Metrics'!I6/'Weekly Metrics'!#REF!-1,\"\")","v":""},{"$f":"IFERROR('Weekly Metrics'!J6/'Weekly Metrics'!#REF!-1,\"\")","v":""},{"$f":"IFERROR('Weekly Metrics'!K6/'Weekly Metrics'!#REF!-1,\"\")","v":""},{"$f":"IFERROR('Weekly Metrics'!L6/'Weekly Metrics'!#REF!-1,\"\")","v":""},{"$f":"IFERROR('Weekly Metrics'!M6/'Weekly Metrics'!#REF!-1,\"\")","v":""},{"$f":"IFERROR('Weekly Metrics'!N6/'Weekly Metrics'!#REF!-1,\"\")","v":""},{"$f":"IFERROR('Weekly Metrics'!O6/'Weekly Metrics'!#REF!-1,\"\")","v":""},{"$f":"IFERROR('Weekly Metrics'!P6/'Weekly Metrics'!#REF!-1,\"\")","v":""},{"$f":"IFERROR('Weekly Metrics'!Q6/'Weekly Metrics'!#REF!-1,\"\")","v":""},{"$f":"IFERROR('Weekly Metrics'!R6/'Weekly Metrics'!#REF!-1,\"\")","v":""},{"$f":"IFERROR('Weekly Metrics'!S6/'Weekly Metrics'!#REF!-1,\"\")","v":""},{"$f":"IFERROR('Weekly Metrics'!T6/'Weekly Metrics'!#REF!-1,\"\")","v":""},{"$f":"IFERROR('Weekly Metrics'!U6/'Weekly Metrics'!#REF!-1,\"\")","v":""},{"$f":"IFERROR('Weekly Metrics'!V6/'Weekly Metrics'!#REF!-1,\"\")","v":""},{"$f":"IFERROR('Weekly Metrics'!W6/'Weekly Metrics'!#REF!-1,\"\")","v":""},{"$f":"IFERROR('Weekly Metrics'!X6/'Weekly Metrics'!#REF!-1,\"\")","v":""},{"$f":"IFERROR('Weekly Metrics'!Y6/'Weekly Metrics'!#REF!-1,\"\")","v":""},{"$f":"IFERROR('Weekly Metrics'!Z6/'Weekly Metrics'!#REF!-1,\"\")","v":""},{"$f":"IFERROR('Weekly Metrics'!AA6/'Weekly Metrics'!#REF!-1,\"\")","v":""},{"$f":"IFERROR('Weekly Metrics'!AB6/'Weekly Metrics'!#REF!-1,\"\")","v":""},{"$f":"IFERROR('Weekly Metrics'!AC6/'Weekly Metrics'!#REF!-1,\"\")","v":""},{"$f":"IFERROR('Weekly Metrics'!AD6/'Weekly Metrics'!#REF!-1,\"\")","v":""},{"$f":"IFERROR('Weekly Metrics'!AE6/'Weekly Metrics'!#REF!-1,\"\")","v":""},{"$f":"IFERROR('Weekly Metrics'!AF6/'Weekly Metrics'!#REF!-1,\"\")","v":""},{"$f":"IFERROR('Weekly Metrics'!AG6/'Weekly Metrics'!#REF!-1,\"\")","v":""},{"$f":"IFERROR('Weekly Metrics'!AH6/'Weekly Metrics'!#REF!-1,\"\")","v":""},{"$f":"IFERROR('Weekly Metrics'!AI6/'Weekly Metrics'!#REF!-1,\"\")","v":""},{"$f":"IFERROR('Weekly Metrics'!AJ6/'Weekly Metrics'!#REF!-1,\"\")","v":""},{"$f":"IFERROR('Weekly Metrics'!AK6/'Weekly Metrics'!#REF!-1,\"\")","v":""},{"$f":"IFERROR('Weekly Metrics'!AL6/'Weekly Metrics'!#REF!-1,\"\")","v":""},{"$f":"IFERROR('Weekly Metrics'!AM6/'Weekly Metrics'!#REF!-1,\"\")","v":""},{"$f":"IFERROR('Weekly Metrics'!AN6/'Weekly Metrics'!#REF!-1,\"\")","v":""},{"$f":"IFERROR('Weekly Metrics'!AO6/'Weekly Metrics'!#REF!-1,\"\")","v":""},{"$f":"IFERROR('Weekly Metrics'!AP6/'Weekly Metrics'!#REF!-1,\"\")","v":""},{"$f":"IFERROR('Weekly Metrics'!AQ6/'Weekly Metrics'!#REF!-1,\"\")","v":""},{"$f":"IFERROR('Weekly Metrics'!AR6/'Weekly Metrics'!#REF!-1,\"\")","v":""},{"$f":"IFERROR('Weekly Metrics'!AS6/'Weekly Metrics'!#REF!-1,\"\")","v":""},{"$f":"IFERROR('Weekly Metrics'!AT6/'Weekly Metrics'!#REF!-1,\"\")","v":""},{"$f":"IFERROR('Weekly Metrics'!AU6/'Weekly Metrics'!#REF!-1,\"\")","v":""},{"$f":"IFERROR('Weekly Metrics'!AV6/'Weekly Metrics'!#REF!-1,\"\")","v":""},{"$f":"IFERROR('Weekly Metrics'!AW6/'Weekly Metrics'!#REF!-1,\"\")","v":""},{"$f":"IFERROR('Weekly Metrics'!AX6/'Weekly Metrics'!#REF!-1,\"\")","v":""},{"$f":"IFERROR('Weekly Metrics'!AY6/'Weekly Metrics'!#REF!-1,\"\")","v":""},{"$f":"IFERROR('Weekly Metrics'!AZ6/'Weekly Metrics'!#REF!-1,\"\")","v":""},{"$f":"IFERROR('Weekly Metrics'!BA6/'Weekly Metrics'!A6-1,\"\")","v":""},{"$f":"IFERROR('Weekly Metrics'!BB6/'Weekly Metrics'!B6-1,\"\")","v":""},{"$f":"IFERROR('Weekly Metrics'!BC6/'Weekly Metrics'!C6-1,\"\")","v":""},{"$f":"IFERROR('Weekly Metrics'!BD6/'Weekly Metrics'!D6-1,\"\")","v":0.11266198629186674},{"$f":"IFERROR('Weekly Metrics'!BE6/'Weekly Metrics'!E6-1,\"\")","v":0.1335868115654173},{"$f":"IFERROR('Weekly Metrics'!BF6/'Weekly Metrics'!F6-1,\"\")","v":0.11000398565165415},{"$f":"IFERROR('Weekly Metrics'!BG6/'Weekly Metrics'!G6-1,\"\")","v":0.13187030446816927},{"$f":"IFERROR('Weekly Metrics'!BH6/'Weekly Metrics'!H6-1,\"\")","v":7.418847883812929E-2},{"$f":"IFERROR('Weekly Metrics'!BI6/'Weekly Metrics'!I6-1,\"\")","v":0.12685200150853948},{"$f":"IFERROR('Weekly Metrics'!BJ6/'Weekly Metrics'!J6-1,\"\")","v":0.11234235660387304},{"$f":"IFERROR('Weekly Metrics'!BK6/'Weekly Metrics'!K6-1,\"\")","v":0.10031309015008438},{"$f":"IFERROR('Weekly Metrics'!BL6/'Weekly Metrics'!L6-1,\"\")","v":0.1296477243507328},{"$f":"IFERROR('Weekly Metrics'!BM6/'Weekly Metrics'!M6-1,\"\")","v":1.9970019563505081E-2},{"$f":"IFERROR('Weekly Metrics'!BN6/'Weekly Metrics'!N6-1,\"\")","v":-0.33838709677419354},{"$f":"IFERROR('Weekly Metrics'!BO6/'Weekly Metrics'!O6-1,\"\")","v":-0.427144208152477},{"$f":"IFERROR('Weekly Metrics'!BP6/'Weekly Metrics'!P6-1,\"\")","v":-0.39257738769346928},{"$f":"IFERROR('Weekly Metrics'!BQ6/'Weekly Metrics'!Q6-1,\"\")","v":-0.38215129747057586},{"$f":"IFERROR('Weekly Metrics'!BR6/'Weekly Metrics'!R6-1,\"\")","v":-0.36779767972428523},{"$f":"IFERROR('Weekly Metrics'!BS6/'Weekly Metrics'!S6-1,\"\")","v":-0.2238184781246082},{"$f":"IFERROR('Weekly Metrics'!BT6/'Weekly Metrics'!T6-1,\"\")","v":-0.25884251786949508},{"$f":"IFERROR('Weekly Metrics'!BU6/'Weekly Metrics'!U6-1,\"\")","v":-0.16990381921748066},{"$f":"IFERROR('Weekly Metrics'!BV6/'Weekly Metrics'!V6-1,\"\")","v":-0.14466375719103353},{"$f":"IFERROR('Weekly Metrics'!BW6/'Weekly Metrics'!W6-1,\"\")","v":-9.6988795518207271E-2},{"$f":"IFERROR('Weekly Metrics'!BX6/'Weekly Metrics'!X6-1,\"\")","v":-6.7331006368069102E-2},{"$f":"IFERROR('Weekly Metrics'!BY6/'Weekly Metrics'!Y6-1,\"\")","v":-0.15119315214676565},{"$f":"IFERROR('Weekly Metrics'!BZ6/'Weekly Metrics'!Z6-1,\"\")","v":-3.3359711162767702E-2},{"$f":"IFERROR('Weekly Metrics'!CA6/'Weekly Metrics'!AA6-1,\"\")","v":-9.1894257252438383E-3},{"$f":"IFERROR('Weekly Metrics'!CB6/'Weekly Metrics'!AB6-1,\"\")","v":-4.5899434662416305E-2},{"$f":"IFERROR('Weekly Metrics'!CC6/'Weekly Metrics'!AC6-1,\"\")","v":7.4889867841409608E-2},{"$f":"IFERROR('Weekly Metrics'!CD6/'Weekly Metrics'!AD6-1,\"\")","v":-7.4048113750719735E-2},{"$f":"IFERROR('Weekly Metrics'!CE6/'Weekly Metrics'!AE6-1,\"\")","v":-1.7176048262452004E-2},{"$f":"IFERROR('Weekly Metrics'!CF6/'Weekly Metrics'!AF6-1,\"\")","v":-1.5938264444052108E-2},{"$f":"IFERROR('Weekly Metrics'!CG6/'Weekly Metrics'!AG6-1,\"\")","v":-1.771328619644752E-2},{"$f":"IFERROR('Weekly Metrics'!CH6/'Weekly Metrics'!AH6-1,\"\")","v":2.0985958485958411E-2},{"$f":"IFERROR('Weekly Metrics'!CI6/'Weekly Metrics'!AI6-1,\"\")","v":3.9431441590720873E-2},{"$f":"IFERROR('Weekly Metrics'!CJ6/'Weekly Metrics'!AJ6-1,\"\")","v":3.1455496297830399E-2},{"$f":"IFERROR('Weekly Metrics'!CK6/'Weekly Metrics'!AK6-1,\"\")","v":6.5877495557645993E-2},{"$f":"IFERROR('Weekly Metrics'!CL6/'Weekly Metrics'!AL6-1,\"\")","v":0.10415698707261756},{"$f":"IFERROR('Weekly Metrics'!CM6/'Weekly Metrics'!AM6-1,\"\")","v":-3.0191476851496812E-2},{"$f":"IFERROR('Weekly Metrics'!CN6/'Weekly Metrics'!AN6-1,\"\")","v":5.62982068897111E-3},{"$f":"IFERROR('Weekly Metrics'!CO6/'Weekly Metrics'!AO6-1,\"\")","v":1.0865366042109859E-3},{"$f":"IFERROR('Weekly Metrics'!CP6/'Weekly Metrics'!AP6-1,\"\")","v":-1.5624260214951446E-3},{"$f":"IFERROR('Weekly Metrics'!CQ6/'Weekly Metrics'!AQ6-1,\"\")","v":6.7231733378148029E-4},{"$f":"IFERROR('Weekly Metrics'!CR6/'Weekly Metrics'!AR6-1,\"\")","v":-1.1448336337506193E-3},{"$f":"IFERROR('Weekly Metrics'!CS6/'Weekly Metrics'!AS6-1,\"\")","v":-2.4953811454758723E-3},{"$f":"IFERROR('Weekly Metrics'!CT6/'Weekly Metrics'!AT6-1,\"\")","v":-3.107298154894822E-2},{"$f":"IFERROR('Weekly Metrics'!CU6/'Weekly Metrics'!AU6-1,\"\")","v":5.1206492596798103E-3},{"$f":"IFERROR('Weekly Metrics'!CV6/'Weekly Metrics'!AV6-1,\"\")","v":4.7544370597167873E-3},{"$f":"IFERROR('Weekly Metrics'!CW6/'Weekly Metrics'!AW6-1,\"\")","v":1.5319611573719527E-2},{"$f":"IFERROR('Weekly Metrics'!CX6/'Weekly Metrics'!AX6-1,\"\")","v":3.7379983220955149E-2},{"$f":"IFERROR('Weekly Metrics'!CY6/'Weekly Metrics'!AY6-1,\"\")","v":-2.1500422329724378E-2},{"$f":"IFERROR('Weekly Metrics'!CZ6/'Weekly Metrics'!AZ6-1,\"\")","v":-2.5457205559619611E-2},{"$f":"IFERROR('Weekly Metrics'!DA6/'Weekly Metrics'!BA6-1,\"\")","v":8.9143028365961108E-3},{"$f":"IFERROR('Weekly Metrics'!DB6/'Weekly Metrics'!BB6-1,\"\")","v":0.22942515233830107},{"$f":"IFERROR('Weekly Metrics'!DC6/'Weekly Metrics'!BC6-1,\"\")","v":-4.1454566731027986E-2},{"$f":"IFERROR('Weekly Metrics'!DD6/'Weekly Metrics'!BD6-1,\"\")","v":-4.2646582038556535E-2},{"$f":"IFERROR('Weekly Metrics'!DE6/'Weekly Metrics'!BE6-1,\"\")","v":0.10610497859878354},{"$f":"IFERROR('Weekly Metrics'!DF6/'Weekly Metrics'!BF6-1,\"\")","v":6.3965119261349068E-2},{"$f":"IFERROR('Weekly Metrics'!DG6/'Weekly Metrics'!BG6-1,\"\")","v":4.1422333125389343E-3},{"$f":"IFERROR('Weekly Metrics'!DH6/'Weekly Metrics'!BH6-1,\"\")","v":-2.1339925335485788E-2},{"$f":"IFERROR('Weekly Metrics'!DI6/'Weekly Metrics'!BI6-1,\"\")","v":-8.2307379694484983E-2},{"$f":"IFERROR('Weekly Metrics'!DJ6/'Weekly Metrics'!BJ6-1,\"\")","v":-0.13757115749525617},{"$f":"IFERROR('Weekly Metrics'!DK6/'Weekly Metrics'!BK6-1,\"\")","v":-6.930737788216168E-2},{"$f":"IFERROR('Weekly Metrics'!DL6/'Weekly Metrics'!BL6-1,\"\")","v":-3.6624783756714963E-2},{"$f":"IFERROR('Weekly Metrics'!DM6/'Weekly Metrics'!BM6-1,\"\")","v":7.4754016689500657E-2},{"$f":"IFERROR('Weekly Metrics'!DN6/'Weekly Metrics'!BN6-1,\"\")","v":0.70685969320781616},{"$f":"IFERROR('Weekly Metrics'!DO6/'Weekly Metrics'!BO6-1,\"\")","v":0.99326955638333891},{"$f":"IFERROR('Weekly Metrics'!DP6/'Weekly Metrics'!BP6-1,\"\")","v":0.76504175568071475},{"$f":"IFERROR('Weekly Metrics'!DQ6/'Weekly Metrics'!BQ6-1,\"\")","v":0.59606135201666355},{"$f":"IFERROR('Weekly Metrics'!DR6/'Weekly Metrics'!BR6-1,\"\")","v":0.78270884520884532},{"$f":"IFERROR('Weekly Metrics'!DS6/'Weekly Metrics'!BS6-1,\"\")","v":0.44408553524129468},{"$f":"IFERROR('Weekly Metrics'!DT6/'Weekly Metrics'!BT6-1,\"\")","v":0.36103160776505727},{"$f":"IFERROR('Weekly Metrics'!DU6/'Weekly Metrics'!BU6-1,\"\")","v":0.21775690421283533},{"$f":"IFERROR('Weekly Metrics'!DV6/'Weekly Metrics'!BV6-1,\"\")","v":0.22490867977039475},{"$f":"IFERROR('Weekly Metrics'!DW6/'Weekly Metrics'!BW6-1,\"\")","v":0.2024871212540853},{"$f":"IFERROR('Weekly Metrics'!DX6/'Weekly Metrics'!BX6-1,\"\")","v":0.23697291738087078},{"$f":"IFERROR('Weekly Metrics'!DY6/'Weekly Metrics'!BY6-1,\"\")","v":0.10951209073400392},{"$f":"IFERROR('Weekly Metrics'!DZ6/'Weekly Metrics'!BZ6-1,\"\")","v":0.11624753767044438},{"$f":"IFERROR('Weekly Metrics'!EA6/'Weekly Metrics'!CA6-1,\"\")","v":0.10817832276836747},{"$f":"IFERROR('Weekly Metrics'!EB6/'Weekly Metrics'!CB6-1,\"\")","v":0.10373270686504821},{"$f":"IFERROR('Weekly Metrics'!EC6/'Weekly Metrics'!CC6-1,\"\")","v":0.12358540454785838},{"$f":"IFERROR('Weekly Metrics'!ED6/'Weekly Metrics'!CD6-1,\"\")","v":9.6109654221525398E-2},{"$f":"IFERROR('Weekly Metrics'!EE6/'Weekly Metrics'!CE6-1,\"\")","v":0.10021559923906143},{"$f":"IFERROR('Weekly Metrics'!EF6/'Weekly Metrics'!CF6-1,\"\")","v":0.12957125650290879},{"$f":"IFERROR('Weekly Metrics'!EG6/'Weekly Metrics'!CG6-1,\"\")","v":0.12103731942215079},{"$f":"IFERROR('Weekly Metrics'!EH6/'Weekly Metrics'!CH6-1,\"\")","v":0.11224057602710724},{"$f":"IFERROR('Weekly Metrics'!EI6/'Weekly Metrics'!CI6-1,\"\")","v":7.1063840386579313E-2},{"$f":"IFERROR('Weekly Metrics'!EJ6/'Weekly Metrics'!CJ6-1,\"\")","v":0.11179438267111763},{"$f":"IFERROR('Weekly Metrics'!EK6/'Weekly Metrics'!CK6-1,\"\")","v":6.4036872686263457E-2},{"$f":"IFERROR('Weekly Metrics'!EL6/'Weekly Metrics'!CL6-1,\"\")","v":7.8366336633663325E-2},{"$f":"IFERROR('Weekly Metrics'!EM6/'Weekly Metrics'!CM6-1,\"\")","v":7.8579713201180956E-2},{"$f":"IFERROR('Weekly Metrics'!EN6/'Weekly Metrics'!CN6-1,\"\")","v":0.10259445595343797},{"$f":"IFERROR('Weekly Metrics'!EO6/'Weekly Metrics'!CO6-1,\"\")","v":6.6496225368418482E-2},{"$f":"IFERROR('Weekly Metrics'!EP6/'Weekly Metrics'!CP6-1,\"\")","v":8.0330045523520521E-2},{"$f":"IFERROR('Weekly Metrics'!EQ6/'Weekly Metrics'!CQ6-1,\"\")","v":9.5716856628674352E-2},{"$f":"IFERROR('Weekly Metrics'!ER6/'Weekly Metrics'!CR6-1,\"\")","v":7.9644938669007681E-2},{"$f":"IFERROR('Weekly Metrics'!ES6/'Weekly Metrics'!CS6-1,\"\")","v":7.7574387222476116E-2},{"$f":"IFERROR('Weekly Metrics'!ET6/'Weekly Metrics'!CT6-1,\"\")","v":6.2780486621546228E-2},{"$f":"IFERROR('Weekly Metrics'!EU6/'Weekly Metrics'!CU6-1,\"\")","v":0.11400283565232017},{"$f":"IFERROR('Weekly Metrics'!EV6/'Weekly Metrics'!CV6-1,\"\")","v":7.6280844316717777E-2},{"$f":"IFERROR('Weekly Metrics'!EW6/'Weekly Metrics'!CW6-1,\"\")","v":5.8869338784648617E-2},{"$f":"IFERROR('Weekly Metrics'!EX6/'Weekly Metrics'!CX6-1,\"\")","v":3.2888036901695283E-2},{"$f":"IFERROR('Weekly Metrics'!EY6/'Weekly Metrics'!CY6-1,\"\")","v":9.7988438096732855E-2},{"$f":"IFERROR('Weekly Metrics'!EZ6/'Weekly Metrics'!CZ6-1,\"\")","v":0.11384676975429109},{"$f":"IFERROR('Weekly Metrics'!FA6/'Weekly Metrics'!DA6-1,\"\")","v":9.9517386462071533E-2},{"$f":"IFERROR('Weekly Metrics'!FB6/'Weekly Metrics'!DB6-1,\"\")","v":0.11946136390779882},{"$f":"IFERROR('Weekly Metrics'!FC6/'Weekly Metrics'!DC6-1,\"\")","v":-6.1071265069433833E-2},{"$f":"IFERROR('Weekly Metrics'!FD6/'Weekly Metrics'!DD6-1,\"\")","v":1.0029437049001055E-2},{"$f":"IFERROR('Weekly Metrics'!FE6/'Weekly Metrics'!DE6-1,\"\")","v":-7.4315455985517032E-2},{"$f":"IFERROR('Weekly Metrics'!FF6/'Weekly Metrics'!DF6-1,\"\")","v":-3.4181853244624416E-2},{"$f":"IFERROR('Weekly Metrics'!FG6/'Weekly Metrics'!DG6-1,\"\")","v":2.6465545090827769E-2},{"$f":"IFERROR('Weekly Metrics'!FH6/'Weekly Metrics'!DH6-1,\"\")","v":1.1804732202690849E-2},{"$f":"IFERROR('Weekly Metrics'!FI6/'Weekly Metrics'!DI6-1,\"\")","v":0.11521829738459943},{"$f":"IFERROR('Weekly Metrics'!FJ6/'Weekly Metrics'!DJ6-1,\"\")","v":0.14480198019801982},{"$f":"IFERROR('Weekly Metrics'!FK6/'Weekly Metrics'!DK6-1,\"\")","v":2.6569931088032517E-2},{"$f":"IFERROR('Weekly Metrics'!FL6/'Weekly Metrics'!DL6-1,\"\")","v":2.8258866337452559E-2},{"$f":"IFERROR('Weekly Metrics'!FM6/'Weekly Metrics'!DM6-1,\"\")","v":5.9565197237287926E-3},{"$f":"IFERROR('Weekly Metrics'!FN6/'Weekly Metrics'!DN6-1,\"\")","v":-3.931004174906616E-2},{"$f":"IFERROR('Weekly Metrics'!FO6/'Weekly Metrics'!DO6-1,\"\")","v":-4.6274076748285209E-2},{"$f":"IFERROR('Weekly Metrics'!FP6/'Weekly Metrics'!DP6-1,\"\")","v":-1.4590347923681302E-2},{"$f":"IFERROR('Weekly Metrics'!FQ6/'Weekly Metrics'!DQ6-1,\"\")","v":5.31273728170083E-2},{"$f":"IFERROR('Weekly Metrics'!FR6/'Weekly Metrics'!DR6-1,\"\")","v":-4.3651477302093178E-2},{"$f":"IFERROR('Weekly Metrics'!FS6/'Weekly Metrics'!DS6-1,\"\")","v":-6.5226144141725895E-2},{"$f":"IFERROR('Weekly Metrics'!FT6/'Weekly Metrics'!DT6-1,\"\")","v":6.1464262040275219E-2},{"$f":"IFERROR('Weekly Metrics'!FU6/'Weekly Metrics'!DU6-1,\"\")","v":4.6280686358282752E-2},{"$f":"IFERROR('Weekly Metrics'!FV6/'Weekly Metrics'!DV6-1,\"\")","v":1.7277288649057976E-2},{"$f":"IFERROR('Weekly Metrics'!FW6/'Weekly Metrics'!DW6-1,\"\")","v":2.1535343298707987E-2},{"$f":"IFERROR('Weekly Metrics'!FX6/'Weekly Metrics'!DX6-1,\"\")","v":-1.5242846255110187E-3},{"$f":"IFERROR('Weekly Metrics'!FY6/'Weekly Metrics'!DY6-1,\"\")","v":-2.8255942909494181E-2},{"$f":"IFERROR('Weekly Metrics'!FZ6/'Weekly Metrics'!DZ6-1,\"\")","v":-1.650127197304796E-2},{"$f":"IFERROR('Weekly Metrics'!GA6/'Weekly Metrics'!EA6-1,\"\")","v":-4.2432483120780073E-3},{"$f":"IFERROR('Weekly Metrics'!GB6/'Weekly Metrics'!EB6-1,\"\")","v":-3.3014851953457547E-2},{"$f":"IFERROR('Weekly Metrics'!GC6/'Weekly Metrics'!EC6-1,\"\")","v":-4.9865863416011624E-2},{"$f":"IFERROR('Weekly Metrics'!GD6/'Weekly Metrics'!ED6-1,\"\")","v":-9.444060773480667E-2},{"$f":"IFERROR('Weekly Metrics'!GE6/'Weekly Metrics'!EE6-1,\"\")","v":-2.8725562523054249E-2},{"$f":"IFERROR('Weekly Metrics'!GF6/'Weekly Metrics'!EF6-1,\"\")","v":-5.7512988633527717E-2},{"$f":"IFERROR('Weekly Metrics'!GG6/'Weekly Metrics'!EG6-1,\"\")","v":-7.5238265694214546E-2},{"$f":"IFERROR('Weekly Metrics'!GH6/'Weekly Metrics'!EH6-1,\"\")","v":-6.5386855427624235E-2},{"$f":"IFERROR('Weekly Metrics'!GI6/'Weekly Metrics'!EI6-1,\"\")","v":-4.1744186046511644E-2},{"$f":"IFERROR('Weekly Metrics'!GJ6/'Weekly Metrics'!EJ6-1,\"\")","v":-5.5446438649960461E-2},{"$f":"IFERROR('Weekly Metrics'!GK6/'Weekly Metrics'!EK6-1,\"\")","v":-4.2118845187898879E-2},{"$f":"IFERROR('Weekly Metrics'!GL6/'Weekly Metrics'!EL6-1,\"\")","v":-4.8891337281366187E-2},{"$f":"IFERROR('Weekly Metrics'!GM6/'Weekly Metrics'!EM6-1,\"\")","v":-3.5242075420974128E-2},{"$f":"IFERROR('Weekly Metrics'!GN6/'Weekly Metrics'!EN6-1,\"\")","v":-8.4392055113178821E-2},{"$f":"IFERROR('Weekly Metrics'!GO6/'Weekly Metrics'!EO6-1,\"\")","v":-5.696775068976434E-2},{"$f":"IFERROR('Weekly Metrics'!GP6/'Weekly Metrics'!EP6-1,\"\")","v":-0.11489333684487757},{"$f":"IFERROR('Weekly Metrics'!GQ6/'Weekly Metrics'!EQ6-1,\"\")","v":-0.10568500350385424},{"$f":"IFERROR('Weekly Metrics'!GR6/'Weekly Metrics'!ER6-1,\"\")","v":-7.9167890136200403E-2},{"$f":"IFERROR('Weekly Metrics'!GS6/'Weekly Metrics'!ES6-1,\"\")","v":-0.11129961158980317},{"$f":"IFERROR('Weekly Metrics'!GT6/'Weekly Metrics'!ET6-1,\"\")","v":-7.1717148661295083E-2},{"$f":"IFERROR('Weekly Metrics'!GU6/'Weekly Metrics'!EU6-1,\"\")","v":-0.1116551977047695},{"$f":"IFERROR('Weekly Metrics'!GV6/'Weekly Metrics'!EV6-1,\"\")","v":-6.470547614115052E-2},{"$f":"IFERROR('Weekly Metrics'!GW6/'Weekly Metrics'!EW6-1,\"\")","v":-0.10526315789473684},{"$f":"IFERROR('Weekly Metrics'!GX6/'Weekly Metrics'!EX6-1,\"\")","v":-7.2613385918106954E-2},{"$f":"IFERROR('Weekly Metrics'!GY6/'Weekly Metrics'!EY6-1,\"\")","v":-6.3966646813579553E-2},{"$f":"IFERROR('Weekly Metrics'!GZ6/'Weekly Metrics'!EZ6-1,\"\")","v":-8.289154461317283E-2},{"$f":"IFERROR('Weekly Metrics'!HA6/'Weekly Metrics'!FA6-1,\"\")","v":-8.7201188493224668E-2},{"$f":"IFERROR('Weekly Metrics'!HB6/'Weekly Metrics'!FB6-1,\"\")","v":-3.6673512388979312E-2},{"$f":"IFERROR('Weekly Metrics'!HC6/'Weekly Metrics'!FC6-1,\"\")","v":-8.0678715381614863E-2},{"$f":"IFERROR('Weekly Metrics'!HD6/'Weekly Metrics'!FD6-1,\"\")","v":-2.4734344372227435E-2},{"$f":"IFERROR('Weekly Metrics'!HE6/'Weekly Metrics'!FE6-1,\"\")","v":-2.0045959028015536E-3},{"$f":"IFERROR('Weekly Metrics'!HF6/'Weekly Metrics'!FF6-1,\"\")","v":-8.6856686467329247E-3},{"$f":"IFERROR('Weekly Metrics'!HG6/'Weekly Metrics'!FG6-1,\"\")","v":-3.8977388272890101E-2},{"$f":"IFERROR('Weekly Metrics'!HH6/'Weekly Metrics'!FH6-1,\"\")","v":1.9181781128999376E-2},{"$f":"IFERROR('Weekly Metrics'!HI6/'Weekly Metrics'!FI6-1,\"\")","v":-4.5151946929527509E-2},{"$f":"IFERROR('Weekly Metrics'!HJ6/'Weekly Metrics'!FJ6-1,\"\")","v":-4.9105105105105129E-2},{"$f":"IFERROR('Weekly Metrics'!HK6/'Weekly Metrics'!FK6-1,\"\")","v":-3.2524168577304002E-2},{"$f":"IFERROR('Weekly Metrics'!HL6/'Weekly Metrics'!FL6-1,\"\")","v":-5.3999402559801513E-2},{"$f":"IFERROR('Weekly Metrics'!HM6/'Weekly Metrics'!FM6-1,\"\")","v":1.7694629403497419E-2},{"$f":"IFERROR('Weekly Metrics'!HN6/'Weekly Metrics'!FN6-1,\"\")","v":-4.0392488735390364E-2},{"$f":"IFERROR('Weekly Metrics'!HO6/'Weekly Metrics'!FO6-1,\"\")","v":-2.4560231574259683E-2},{"$f":"IFERROR('Weekly Metrics'!HP6/'Weekly Metrics'!FP6-1,\"\")","v":-1.3198445665282055E-2},{"$f":"IFERROR('Weekly Metrics'!HQ6/'Weekly Metrics'!FQ6-1,\"\")","v":-3.6545524187188816E-2},{"$f":"IFERROR('Weekly Metrics'!HR6/'Weekly Metrics'!FR6-1,\"\")","v":-9.0364565741178571E-2},{"$f":"IFERROR('Weekly Metrics'!HS6/'Weekly Metrics'!FS6-1,\"\")","v":5.1974156496769508E-2},{"$f":"IFERROR('Weekly Metrics'!HT6/'Weekly Metrics'!FT6-1,\"\")","v":-9.4340841552177146E-2}]
[{"$f":"IF('Weekly Metrics'!A7=0,\"\",'Weekly Metrics'!A7)","v":"CMCSA"},{"$f":"IF('Weekly Metrics'!B7=0,\"\",'Weekly Metrics'!B7)","v":"EOP Subscribers"},{"$f":"IFERROR('Weekly Metrics'!C7/'Weekly Metrics'!#REF!-1,\"\")","v":""},{"$f":"IFERROR('Weekly Metrics'!D7/'Weekly Metrics'!#REF!-1,\"\")","v":""},{"$f":"IFERROR('Weekly Metrics'!E7/'Weekly Metrics'!#REF!-1,\"\")","v":""},{"$f":"IFERROR('Weekly Metrics'!F7/'Weekly Metrics'!#REF!-1,\"\")","v":""},{"$f":"IFERROR('Weekly Metrics'!G7/'Weekly Metrics'!#REF!-1,\"\")","v":""},{"$f":"IFERROR('Weekly Metrics'!H7/'Weekly Metrics'!#REF!-1,\"\")","v":""},{"$f":"IFERROR('Weekly Metrics'!I7/'Weekly Metrics'!#REF!-1,\"\")","v":""},{"$f":"IFERROR('Weekly Metrics'!J7/'Weekly Metrics'!#REF!-1,\"\")","v":""},{"$f":"IFERROR('Weekly Metrics'!K7/'Weekly Metrics'!#REF!-1,\"\")","v":""},{"$f":"IFERROR('Weekly Metrics'!L7/'Weekly Metrics'!#REF!-1,\"\")","v":""},{"$f":"IFERROR('Weekly Metrics'!M7/'Weekly Metrics'!#REF!-1,\"\")","v":""},{"$f":"IFERROR('Weekly Metrics'!N7/'Weekly Metrics'!#REF!-1,\"\")","v":""},{"$f":"IFERROR('Weekly Metrics'!O7/'Weekly Metrics'!#REF!-1,\"\")","v":""},{"$f":"IFERROR('Weekly Metrics'!P7/'Weekly Metrics'!#REF!-1,\"\")","v":""},{"$f":"IFERROR('Weekly Metrics'!Q7/'Weekly Metrics'!#REF!-1,\"\")","v":""},{"$f":"IFERROR('Weekly Metrics'!R7/'Weekly Metrics'!#REF!-1,\"\")","v":""},{"$f":"IFERROR('Weekly Metrics'!S7/'Weekly Metrics'!#REF!-1,\"\")","v":""},{"$f":"IFERROR('Weekly Metrics'!T7/'Weekly Metrics'!#REF!-1,\"\")","v":""},{"$f":"IFERROR('Weekly Metrics'!U7/'Weekly Metrics'!#REF!-1,\"\")","v":""},{"$f":"IFERROR('Weekly Metrics'!V7/'Weekly Metrics'!#REF!-1,\"\")","v":""},{"$f":"IFERROR('Weekly Metrics'!W7/'Weekly Metrics'!#REF!-1,\"\")","v":""},{"$f":"IFERROR('Weekly Metrics'!X7/'Weekly Metrics'!#REF!-1,\"\")","v":""},{"$f":"IFERROR('Weekly Metrics'!Y7/'Weekly Metrics'!#REF!-1,\"\")","v":""},{"$f":"IFERROR('Weekly Metrics'!Z7/'Weekly Metrics'!#REF!-1,\"\")","v":""},{"$f":"IFERROR('Weekly Metrics'!AA7/'Weekly Metrics'!#REF!-1,\"\")","v":""},{"$f":"IFERROR('Weekly Metrics'!AB7/'Weekly Metrics'!#REF!-1,\"\")","v":""},{"$f":"IFERROR('Weekly Metrics'!AC7/'Weekly Metrics'!#REF!-1,\"\")","v":""},{"$f":"IFERROR('Weekly Metrics'!AD7/'Weekly Metrics'!#REF!-1,\"\")","v":""},{"$f":"IFERROR('Weekly Metrics'!AE7/'Weekly Metrics'!#REF!-1,\"\")","v":""},{"$f":"IFERROR('Weekly Metrics'!AF7/'Weekly Metrics'!#REF!-1,\"\")","v":""},{"$f":"IFERROR('Weekly Metrics'!AG7/'Weekly Metrics'!#REF!-1,\"\")","v":""},{"$f":"IFERROR('Weekly Metrics'!AH7/'Weekly Metrics'!#REF!-1,\"\")","v":""},{"$f":"IFERROR('Weekly Metrics'!AI7/'Weekly Metrics'!#REF!-1,\"\")","v":""},{"$f":"IFERROR('Weekly Metrics'!AJ7/'Weekly Metrics'!#REF!-1,\"\")","v":""},{"$f":"IFERROR('Weekly Metrics'!AK7/'Weekly Metrics'!#REF!-1,\"\")","v":""},{"$f":"IFERROR('Weekly Metrics'!AL7/'Weekly Metrics'!#REF!-1,\"\")","v":""},{"$f":"IFERROR('Weekly Metrics'!AM7/'Weekly Metrics'!#REF!-1,\"\")","v":""},{"$f":"IFERROR('Weekly Metrics'!AN7/'Weekly Metrics'!#REF!-1,\"\")","v":""},{"$f":"IFERROR('Weekly Metrics'!AO7/'Weekly Metrics'!#REF!-1,\"\")","v":""},{"$f":"IFERROR('Weekly Metrics'!AP7/'Weekly Metrics'!#REF!-1,\"\")","v":""},{"$f":"IFERROR('Weekly Metrics'!AQ7/'Weekly Metrics'!#REF!-1,\"\")","v":""},{"$f":"IFERROR('Weekly Metrics'!AR7/'Weekly Metrics'!#REF!-1,\"\")","v":""},{"$f":"IFERROR('Weekly Metrics'!AS7/'Weekly Metrics'!#REF!-1,\"\")","v":""},{"$f":"IFERROR('Weekly Metrics'!AT7/'Weekly Metrics'!#REF!-1,\"\")","v":""},{"$f":"IFERROR('Weekly Metrics'!AU7/'Weekly Metrics'!#REF!-1,\"\")","v":""},{"$f":"IFERROR('Weekly Metrics'!AV7/'Weekly Metrics'!#REF!-1,\"\")","v":""},{"$f":"IFERROR('Weekly Metrics'!AW7/'Weekly Metrics'!#REF!-1,\"\")","v":""},{"$f":"IFERROR('Weekly Metrics'!AX7/'Weekly Metrics'!#REF!-1,\"\")","v":""},{"$f":"IFERROR('Weekly Metrics'!AY7/'Weekly Metrics'!#REF!-1,\"\")","v":""},{"$f":"IFERROR('Weekly Metrics'!AZ7/'Weekly Metrics'!#REF!-1,\"\")","v":""},{"$f":"IFERROR('Weekly Metrics'!BA7/'Weekly Metrics'!A7-1,\"\")","v":""},{"$f":"IFERROR('Weekly Metrics'!BB7/'Weekly Metrics'!B7-1,\"\")","v":""},{"$f":"IFERROR('Weekly Metrics'!BC7/'Weekly Metrics'!C7-1,\"\")","v":7.9911279438382055E-2},{"$f":"IFERROR('Weekly Metrics'!BD7/'Weekly Metrics'!D7-1,\"\")","v":7.3296198532621037E-2},{"$f":"IFERROR('Weekly Metrics'!BE7/'Weekly Metrics'!E7-1,\"\")","v":6.775628426605973E-2},{"$f":"IFERROR('Weekly Metrics'!BF7/'Weekly Metrics'!F7-1,\"\")","v":6.2598486018847543E-2},{"$f":"IFERROR('Weekly Metrics'!BG7/'Weekly Metrics'!G7-1,\"\")","v":5.8039971697823045E-2},{"$f":"IFERROR('Weekly Metrics'!BH7/'Weekly Metrics'!H7-1,\"\")","v":5.308876367793558E-2},{"$f":"IFERROR('Weekly Metrics'!BI7/'Weekly Metrics'!I7-1,\"\")","v":4.9514217406785743E-2},{"$f":"IFERROR('Weekly Metrics'!BJ7/'Weekly Metrics'!J7-1,\"\")","v":4.5977360937990763E-2},{"$f":"IFERROR('Weekly Metrics'!BK7/'Weekly Metrics'!K7-1,\"\")","v":4.415434824342479E-2},{"$f":"IFERROR('Weekly Metrics'!BL7/'Weekly Metrics'!L7-1,\"\")","v":4.1452969922918026E-2},{"$f":"IFERROR('Weekly Metrics'!BM7/'Weekly Metrics'!M7-1,\"\")","v":4.0499351165387498E-2},{"$f":"IFERROR('Weekly Metrics'!BN7/'Weekly Metrics'!N7-1,\"\")","v":4.067302862882971E-2},{"$f":"IFERROR('Weekly Metrics'!BO7/'Weekly Metrics'!O7-1,\"\")","v":4.0062205277415552E-2},{"$f":"IFERROR('Weekly Metrics'!BP7/'Weekly Metrics'!P7-1,\"\")","v":4.0019242911693009E-2},{"$f":"IFERROR('Weekly Metrics'!BQ7/'Weekly Metrics'!Q7-1,\"\")","v":4.0233049362818241E-2},{"$f":"IFERROR('Weekly Metrics'!BR7/'Weekly Metrics'!R7-1,\"\")","v":4.1034103410340972E-2},{"$f":"IFERROR('Weekly Metrics'!BS7/'Weekly Metrics'!S7-1,\"\")","v":4.1091374108338075E-2},{"$f":"IFERROR('Weekly Metrics'!BT7/'Weekly Metrics'!T7-1,\"\")","v":4.145657144568804E-2},{"$f":"IFERROR('Weekly Metrics'!BU7/'Weekly Metrics'!U7-1,\"\")","v":4.1407247765006483E-2},{"$f":"IFERROR('Weekly Metrics'!BV7/'Weekly Metrics'!V7-1,\"\")","v":4.0969399952187402E-2},{"$f":"IFERROR('Weekly Metrics'!BW7/'Weekly Metrics'!W7-1,\"\")","v":4.1652583653100539E-2},{"$f":"IFERROR('Weekly Metrics'!BX7/'Weekly Metrics'!X7-1,\"\")","v":4.2600941391432112E-2},{"$f":"IFERROR('Weekly Metrics'!BY7/'Weekly Metrics'!Y7-1,\"\")","v":4.2887465037392714E-2},{"$f":"IFERROR('Weekly Metrics'!BZ7/'Weekly Metrics'!Z7-1,\"\")","v":4.3430020605484287E-2},{"$f":"IFERROR('Weekly Metrics'!CA7/'Weekly Metrics'!AA7-1,\"\")","v":4.277916221668443E-2},{"$f":"IFERROR('Weekly Metrics'!CB7/'Weekly Metrics'!AB7-1,\"\")","v":4.2840213312265396E-2},{"$f":"IFERROR('Weekly Metrics'!CC7/'Weekly Metrics'!AC7-1,\"\")","v":4.1415744290797196E-2},{"$f":"IFERROR('Weekly Metrics'!CD7/'Weekly Metrics'!AD7-1,\"\")","v":4.1061114445679836E-2},{"$f":"IFERROR('Weekly Metrics'!CE7/'Weekly Metrics'!AE7-1,\"\")","v":4.0761990843534379E-2},{"$f":"IFERROR('Weekly Metrics'!CF7/'Weekly Metrics'!AF7-1,\"\")","v":4.0379371898232597E-2},{"$f":"IFERROR('Weekly Metrics'!CG7/'Weekly Metrics'!AG7-1,\"\")","v":4.056689764674748E-2},{"$f":"IFERROR('Weekly Metrics'!CH7/'Weekly Metrics'!AH7-1,\"\")","v":3.9518732270370727E-2},{"$f":"IFERROR('Weekly Metrics'!CI7/'Weekly Metrics'!AI7-1,\"\")","v":3.9459290514142875E-2},{"$f":"IFERROR('Weekly Metrics'!CJ7/'Weekly Metrics'!AJ7-1,\"\")","v":3.9826375341396769E-2},{"$f":"IFERROR('Weekly Metrics'!CK7/'Weekly Metrics'!AK7-1,\"\")","v":3.9081668419207904E-2},{"$f":"IFERROR('Weekly Metrics'!CL7/'Weekly Metrics'!AL7-1,\"\")","v":3.8801151392562572E-2},{"$f":"IFERROR('Weekly Metrics'!CM7/'Weekly Metrics'!AM7-1,\"\")","v":3.9587889391067721E-2},{"$f":"IFERROR('Weekly Metrics'!CN7/'Weekly Metrics'!AN7-1,\"\")","v":3.866352155469488E-2},{"$f":"IFERROR('Weekly Metrics'!CO7/'Weekly Metrics'!AO7-1,\"\")","v":3.8563726630982842E-2},{"$f":"IFERROR('Weekly Metrics'!CP7/'Weekly Metrics'!AP7-1,\"\")","v":3.7958622292820987E-2},{"$f":"IFERROR('Weekly Metrics'!CQ7/'Weekly Metrics'!AQ7-1,\"\")","v":3.9091701365352893E-2},{"$f":"IFERROR('Weekly Metrics'!CR7/'Weekly Metrics'!AR7-1,\"\")","v":3.9421317142608103E-2},{"$f":"IFERROR('Weekly Metrics'!CS7/'Weekly Metrics'!AS7-1,\"\")","v":4.0365125306126348E-2},{"$f":"IFERROR('Weekly Metrics'!CT7/'Weekly Metrics'!AT7-1,\"\")","v":4.090104212023582E-2},{"$f":"IFERROR('Weekly Metrics'!CU7/'Weekly Metrics'!AU7-1,\"\")","v":4.0616991441419614E-2},{"$f":"IFERROR('Weekly Metrics'!CV7/'Weekly Metrics'!AV7-1,\"\")","v":4.1121459173508956E-2},{"$f":"IFERROR('Weekly Metrics'!CW7/'Weekly Metrics'!AW7-1,\"\")","v":3.9989562898035347E-2},{"$f":"IFERROR('Weekly Metrics'!CX7/'Weekly Metrics'!AX7-1,\"\")","v":3.9867430647483326E-2},{"$f":"IFERROR('Weekly Metrics'!CY7/'Weekly Metrics'!AY7-1,\"\")","v":3.8724505562422795E-2},{"$f":"IFERROR('Weekly Metrics'!CZ7/'Weekly Metrics'!AZ7-1,\"\")","v":3.9790515208905086E-2},{"$f":"IFERROR('Weekly Metrics'!DA7/'Weekly Metrics'!BA7-1,\"\")","v":4.0892516901531062E-2},{"$f":"IFERROR('Weekly Metrics'!DB7/'Weekly Metrics'!BB7-1,\"\")","v":4.1155968632006878E-2},{"$f":"IFERROR('Weekly Metrics'!DC7/'Weekly Metrics'!BC7-1,\"\")","v":4.1494298530309282E-2},{"$f":"IFERROR('Weekly Metrics'!DD7/'Weekly Metrics'!BD7-1,\"\")","v":4.0666544021533912E-2},{"$f":"IFERROR('Weekly Metrics'!DE7/'Weekly Metrics'!BE7-1,\"\")","v":4.115481495834139E-2},{"$f":"IFERROR('Weekly Metrics'!DF7/'Weekly Metrics'!BF7-1,\"\")","v":4.1638800849059354E-2},{"$f":"IFERROR('Weekly Metrics'!DG7/'Weekly Metrics'!BG7-1,\"\")","v":4.1742990337181096E-2},{"$f":"IFERROR('Weekly Metrics'!DH7/'Weekly Metrics'!BH7-1,\"\")","v":4.1175159204799971E-2},{"$f":"IFERROR('Weekly Metrics'!DI7/'Weekly Metrics'!BI7-1,\"\")","v":4.0547876155948792E-2},{"$f":"IFERROR('Weekly Metrics'!DJ7/'Weekly Metrics'!BJ7-1,\"\")","v":3.9509378390947036E-2},{"$f":"IFERROR('Weekly Metrics'!DK7/'Weekly Metrics'!BK7-1,\"\")","v":3.807782003270721E-2},{"$f":"IFERROR('Weekly Metrics'!DL7/'Weekly Metrics'!BL7-1,\"\")","v":3.8225989028531693E-2},{"$f":"IFERROR('Weekly Metrics'!DM7/'Weekly Metrics'!BM7-1,\"\")","v":3.773384250978884E-2},{"$f":"IFERROR('Weekly Metrics'!DN7/'Weekly Metrics'!BN7-1,\"\")","v":3.5898029903763451E-2},{"$f":"IFERROR('Weekly Metrics'!DO7/'Weekly Metrics'!BO7-1,\"\")","v":3.5229541880902548E-2},{"$f":"IFERROR('Weekly Metrics'!DP7/'Weekly Metrics'!BP7-1,\"\")","v":3.4364459863158947E-2},{"$f":"IFERROR('Weekly Metrics'!DQ7/'Weekly Metrics'!BQ7-1,\"\")","v":3.3133805527754356E-2},{"$f":"IFERROR('Weekly Metrics'!DR7/'Weekly Metrics'!BR7-1,\"\")","v":3.1625565599992411E-2},{"$f":"IFERROR('Weekly Metrics'!DS7/'Weekly Metrics'!BS7-1,\"\")","v":3.1005594633757738E-2},{"$f":"IFERROR('Weekly Metrics'!DT7/'Weekly Metrics'!BT7-1,\"\")","v":3.0286179953022296E-2},{"$f":"IFERROR('Weekly Metrics'!DU7/'Weekly Metrics'!BU7-1,\"\")","v":2.928890336673895E-2},{"$f":"IFERROR('Weekly Metrics'!DV7/'Weekly Metrics'!BV7-1,\"\")","v":2.8400554997368488E-2},{"$f":"IFERROR('Weekly Metrics'!DW7/'Weekly Metrics'!BW7-1,\"\")","v":2.6024965643609788E-2},{"$f":"IFERROR('Weekly Metrics'!DX7/'Weekly Metrics'!BX7-1,\"\")","v":2.4897135019811056E-2},{"$f":"IFERROR('Weekly Metrics'!DY7/'Weekly Metrics'!BY7-1,\"\")","v":2.339603979228877E-2},{"$f":"IFERROR('Weekly Metrics'!DZ7/'Weekly Metrics'!BZ7-1,\"\")","v":2.1295382044660416E-2},{"$f":"IFERROR('Weekly Metrics'!EA7/'Weekly Metrics'!CA7-1,\"\")","v":2.0900900900900909E-2},{"$f":"IFERROR('Weekly Metrics'!EB7/'Weekly Metrics'!CB7-1,\"\")","v":1.9934089660789134E-2},{"$f":"IFERROR('Weekly Metrics'!EC7/'Weekly Metrics'!CC7-1,\"\")","v":2.0149345548499342E-2},{"$f":"IFERROR('Weekly Metrics'!ED7/'Weekly Metrics'!CD7-1,\"\")","v":1.8950492429254728E-2},{"$f":"IFERROR('Weekly Metrics'!EE7/'Weekly Metrics'!CE7-1,\"\")","v":1.8700146316137145E-2},{"$f":"IFERROR('Weekly Metrics'!EF7/'Weekly Metrics'!CF7-1,\"\")","v":1.8006127739806699E-2},{"$f":"IFERROR('Weekly Metrics'!EG7/'Weekly Metrics'!CG7-1,\"\")","v":1.8084545249039241E-2},{"$f":"IFERROR('Weekly Metrics'!EH7/'Weekly Metrics'!CH7-1,\"\")","v":1.7737837583513771E-2},{"$f":"IFERROR('Weekly Metrics'!EI7/'Weekly Metrics'!CI7-1,\"\")","v":1.6669172367135277E-2},{"$f":"IFERROR('Weekly Metrics'!EJ7/'Weekly Metrics'!CJ7-1,\"\")","v":1.5093383863493459E-2},{"$f":"IFERROR('Weekly Metrics'!EK7/'Weekly Metrics'!CK7-1,\"\")","v":1.4177020670527174E-2},{"$f":"IFERROR('Weekly Metrics'!EL7/'Weekly Metrics'!CL7-1,\"\")","v":1.4135664937934056E-2},{"$f":"IFERROR('Weekly Metrics'!EM7/'Weekly Metrics'!CM7-1,\"\")","v":1.322949195011125E-2},{"$f":"IFERROR('Weekly Metrics'!EN7/'Weekly Metrics'!CN7-1,\"\")","v":1.3149532710280409E-2},{"$f":"IFERROR('Weekly Metrics'!EO7/'Weekly Metrics'!CO7-1,\"\")","v":1.2090938798375417E-2},{"$f":"IFERROR('Weekly Metrics'!EP7/'Weekly Metrics'!CP7-1,\"\")","v":1.1057921110831259E-2},{"$f":"IFERROR('Weekly Metrics'!EQ7/'Weekly Metrics'!CQ7-1,\"\")","v":9.9620714398873655E-3},{"$f":"IFERROR('Weekly Metrics'!ER7/'Weekly Metrics'!CR7-1,\"\")","v":9.3348239239798847E-3},{"$f":"IFERROR('Weekly Metrics'!ES7/'Weekly Metrics'!CS7-1,\"\")","v":8.1505810545512425E-3},{"$f":"IFERROR('Weekly Metrics'!ET7/'Weekly Metrics'!CT7-1,\"\")","v":8.0874560767472126E-3},{"$f":"IFERROR('Weekly Metrics'!EU7/'Weekly Metrics'!CU7-1,\"\")","v":6.9606430927930951E-3},{"$f":"IFERROR('Weekly Metrics'!EV7/'Weekly Metrics'!CV7-1,\"\")","v":6.3258803749082215E-3},{"$f":"IFERROR('Weekly Metrics'!EW7/'Weekly Metrics'!CW7-1,\"\")","v":6.7927333550155122E-3},{"$f":"IFERROR('Weekly Metrics'!EX7/'Weekly Metrics'!CX7-1,\"\")","v":6.1234540369266011E-3},{"$f":"IFERROR('Weekly Metrics'!EY7/'Weekly Metrics'!CY7-1,\"\")","v":6.4613897101206685E-3},{"$f":"IFERROR('Weekly Metrics'!EZ7/'Weekly Metrics'!CZ7-1,\"\")","v":4.8508502927238073E-3},{"$f":"IFERROR('Weekly Metrics'!FA7/'Weekly Metrics'!DA7-1,\"\")","v":4.0326702037707385E-3},{"$f":"IFERROR('Weekly Metrics'!FB7/'Weekly Metrics'!DB7-1,\"\")","v":3.8496945351076395E-3},{"$f":"IFERROR('Weekly Metrics'!FC7/'Weekly Metrics'!DC7-1,\"\")","v":3.2278469237780882E-3},{"$f":"IFERROR('Weekly Metrics'!FD7/'Weekly Metrics'!DD7-1,\"\")","v":3.1448003796090696E-3},{"$f":"IFERROR('Weekly Metrics'!FE7/'Weekly Metrics'!DE7-1,\"\")","v":2.5589012543267842E-3},{"$f":"IFERROR('Weekly Metrics'!FF7/'Weekly Metrics'!DF7-1,\"\")","v":1.8982218128018591E-3},{"$f":"IFERROR('Weekly Metrics'!FG7/'Weekly Metrics'!DG7-1,\"\")","v":1.4420482667509837E-3},{"$f":"IFERROR('Weekly Metrics'!FH7/'Weekly Metrics'!DH7-1,\"\")","v":1.6850219239039621E-3},{"$f":"IFERROR('Weekly Metrics'!FI7/'Weekly Metrics'!DI7-1,\"\")","v":1.5091527318458198E-3},{"$f":"IFERROR('Weekly Metrics'!FJ7/'Weekly Metrics'!DJ7-1,\"\")","v":1.0625011650231553E-3},{"$f":"IFERROR('Weekly Metrics'!FK7/'Weekly Metrics'!DK7-1,\"\")","v":6.3387896640443309E-4},{"$f":"IFERROR('Weekly Metrics'!FL7/'Weekly Metrics'!DL7-1,\"\")","v":2.7956388034766633E-5},{"$f":"IFERROR('Weekly Metrics'!FM7/'Weekly Metrics'!DM7-1,\"\")","v":-5.4966554249191724E-4},{"$f":"IFERROR('Weekly Metrics'!FN7/'Weekly Metrics'!DN7-1,\"\")","v":-1.285897985426443E-3},{"$f":"IFERROR('Weekly Metrics'!FO7/'Weekly Metrics'!DO7-1,\"\")","v":-2.1898150305176278E-3},{"$f":"IFERROR('Weekly Metrics'!FP7/'Weekly Metrics'!DP7-1,\"\")","v":-2.9440262353730429E-3},{"$f":"IFERROR('Weekly Metrics'!FQ7/'Weekly Metrics'!DQ7-1,\"\")","v":-3.595547482651007E-3},{"$f":"IFERROR('Weekly Metrics'!FR7/'Weekly Metrics'!DR7-1,\"\")","v":-4.2650277040554574E-3},{"$f":"IFERROR('Weekly Metrics'!FS7/'Weekly Metrics'!DS7-1,\"\")","v":-5.1657700255031136E-3},{"$f":"IFERROR('Weekly Metrics'!FT7/'Weekly Metrics'!DT7-1,\"\")","v":-5.4715997915580905E-3},{"$f":"IFERROR('Weekly Metrics'!FU7/'Weekly Metrics'!DU7-1,\"\")","v":-5.5384386257225637E-3},{"$f":"IFERROR('Weekly Metrics'!FV7/'Weekly Metrics'!DV7-1,\"\")","v":-6.2806472323281293E-3},{"$f":"IFERROR('Weekly Metrics'!FW7/'Weekly Metrics'!DW7-1,\"\")","v":-6.7434960143613054E-3},{"$f":"IFERROR('Weekly Metrics'!FX7/'Weekly Metrics'!DX7-1,\"\")","v":-7.676151887441196E-3},{"$f":"IFERROR('Weekly Metrics'!FY7/'Weekly Metrics'!DY7-1,\"\")","v":-7.6018065907105248E-3},{"$f":"IFERROR('Weekly Metrics'!FZ7/'Weekly Metrics'!DZ7-1,\"\")","v":-7.1115821178570071E-3},{"$f":"IFERROR('Weekly Metrics'!GA7/'Weekly Metrics'!EA7-1,\"\")","v":-8.5087409664295066E-3},{"$f":"IFERROR('Weekly Metrics'!GB7/'Weekly Metrics'!EB7-1,\"\")","v":-9.1455205518881089E-3},{"$f":"IFERROR('Weekly Metrics'!GC7/'Weekly Metrics'!EC7-1,\"\")","v":-9.4257352259021765E-3},{"$f":"IFERROR('Weekly Metrics'!GD7/'Weekly Metrics'!ED7-1,\"\")","v":-9.4984555733858E-3},{"$f":"IFERROR('Weekly Metrics'!GE7/'Weekly Metrics'!EE7-1,\"\")","v":-1.0267244894176963E-2},{"$f":"IFERROR('Weekly Metrics'!GF7/'Weekly Metrics'!EF7-1,\"\")","v":-1.0519979626800069E-2},{"$f":"IFERROR('Weekly Metrics'!GG7/'Weekly Metrics'!EG7-1,\"\")","v":-1.1453630375249824E-2},{"$f":"IFERROR('Weekly Metrics'!GH7/'Weekly Metrics'!EH7-1,\"\")","v":-1.2250936156442127E-2},{"$f":"IFERROR('Weekly Metrics'!GI7/'Weekly Metrics'!EI7-1,\"\")","v":-1.2985452596166236E-2},{"$f":"IFERROR('Weekly Metrics'!GJ7/'Weekly Metrics'!EJ7-1,\"\")","v":-1.3131630503086522E-2},{"$f":"IFERROR('Weekly Metrics'!GK7/'Weekly Metrics'!EK7-1,\"\")","v":-1.3415253845798447E-2},{"$f":"IFERROR('Weekly Metrics'!GL7/'Weekly Metrics'!EL7-1,\"\")","v":-1.4603256655466579E-2},{"$f":"IFERROR('Weekly Metrics'!GM7/'Weekly Metrics'!EM7-1,\"\")","v":-1.4948372749670091E-2},{"$f":"IFERROR('Weekly Metrics'!GN7/'Weekly Metrics'!EN7-1,\"\")","v":-1.5875358602304268E-2},{"$f":"IFERROR('Weekly Metrics'!GO7/'Weekly Metrics'!EO7-1,\"\")","v":-1.6199261992619896E-2},{"$f":"IFERROR('Weekly Metrics'!GP7/'Weekly Metrics'!EP7-1,\"\")","v":-1.6465463137298353E-2},{"$f":"IFERROR('Weekly Metrics'!GQ7/'Weekly Metrics'!EQ7-1,\"\")","v":-1.6738023178563544E-2},{"$f":"IFERROR('Weekly Metrics'!GR7/'Weekly Metrics'!ER7-1,\"\")","v":-1.7638588912886943E-2},{"$f":"IFERROR('Weekly Metrics'!GS7/'Weekly Metrics'!ES7-1,\"\")","v":-1.8725831310623664E-2},{"$f":"IFERROR('Weekly Metrics'!GT7/'Weekly Metrics'!ET7-1,\"\")","v":-1.9835122275091321E-2},{"$f":"IFERROR('Weekly Metrics'!GU7/'Weekly Metrics'!EU7-1,\"\")","v":-2.0146925817228767E-2},{"$f":"IFERROR('Weekly Metrics'!GV7/'Weekly Metrics'!EV7-1,\"\")","v":-2.1267561430391213E-2},{"$f":"IFERROR('Weekly Metrics'!GW7/'Weekly Metrics'!EW7-1,\"\")","v":-2.2428146862828346E-2},{"$f":"IFERROR('Weekly Metrics'!GX7/'Weekly Metrics'!EX7-1,\"\")","v":-2.3254954838471287E-2},{"$f":"IFERROR('Weekly Metrics'!GY7/'Weekly Metrics'!EY7-1,\"\")","v":-2.4044634527097597E-2},{"$f":"IFERROR('Weekly Metrics'!GZ7/'Weekly Metrics'!EZ7-1,\"\")","v":-2.3942958606148035E-2},{"$f":"IFERROR('Weekly Metrics'!HA7/'Weekly Metrics'!FA7-1,\"\")","v":-2.4561565869233304E-2},{"$f":"IFERROR('Weekly Metrics'!HB7/'Weekly Metrics'!FB7-1,\"\")","v":-2.5269788337733301E-2},{"$f":"IFERROR('Weekly Metrics'!HC7/'Weekly Metrics'!FC7-1,\"\")","v":-2.5711874936253487E-2},{"$f":"IFERROR('Weekly Metrics'!HD7/'Weekly Metrics'!FD7-1,\"\")","v":-2.6609903818507252E-2},{"$f":"IFERROR('Weekly Metrics'!HE7/'Weekly Metrics'!FE7-1,\"\")","v":-2.7082965946743642E-2},{"$f":"IFERROR('Weekly Metrics'!HF7/'Weekly Metrics'!FF7-1,\"\")","v":-2.7342044895191875E-2},{"$f":"IFERROR('Weekly Metrics'!HG7/'Weekly Metrics'!FG7-1,\"\")","v":-2.8269897158146096E-2},{"$f":"IFERROR('Weekly Metrics'!HH7/'Weekly Metrics'!FH7-1,\"\")","v":-2.8634361233480177E-2},{"$f":"IFERROR('Weekly Metrics'!HI7/'Weekly Metrics'!FI7-1,\"\")","v":-2.8370245658422277E-2},{"$f":"IFERROR('Weekly Metrics'!HJ7/'Weekly Metrics'!FJ7-1,\"\")","v":-2.8685014151646038E-2},{"$f":"IFERROR('Weekly Metrics'!HK7/'Weekly Metrics'!FK7-1,\"\")","v":-2.8730064093009378E-2},{"$f":"IFERROR('Weekly Metrics'!HL7/'Weekly Metrics'!FL7-1,\"\")","v":-2.9278838537735385E-2},{"$f":"IFERROR('Weekly Metrics'!HM7/'Weekly Metrics'!FM7-1,\"\")","v":-2.982876425022607E-2},{"$f":"IFERROR('Weekly Metrics'!HN7/'Weekly Metrics'!FN7-1,\"\")","v":-3.0416122410897528E-2},{"$f":"IFERROR('Weekly Metrics'!HO7/'Weekly Metrics'!FO7-1,\"\")","v":-3.0612626073963423E-2},{"$f":"IFERROR('Weekly Metrics'!HP7/'Weekly Metrics'!FP7-1,\"\")","v":-3.1246495982059419E-2},{"$f":"IFERROR('Weekly Metrics'!HQ7/'Weekly Metrics'!FQ7-1,\"\")","v":-3.2289728799932638E-2},{"$f":"IFERROR('Weekly Metrics'!HR7/'Weekly Metrics'!FR7-1,\"\")","v":-3.2891598941333755E-2},{"$f":"IFERROR('Weekly Metrics'!HS7/'Weekly Metrics'!FS7-1,\"\")","v":-3.3223244108043337E-2},{"$f":"IFERROR('Weekly Metrics'!HT7/'Weekly Metrics'!FT7-1,\"\")","v":-3.4179797148096824E-2}]
[{"$f":"IF('Weekly Metrics'!A8=0,\"\",'Weekly Metrics'!A8)","v":"NFLX"},{"$f":"IF('Weekly Metrics'!B8=0,\"\",'Weekly Metrics'!B8)","v":"Gross Adds"},{"$f":"IFERROR('Weekly Metrics'!C8/'Weekly Metrics'!#REF!-1,\"\")","v":""},{"$f":"IFERROR('Weekly Metrics'!D8/'Weekly Metrics'!#REF!-1,\"\")","v":""},{"$f":"IFERROR('Weekly Metrics'!E8/'Weekly Metrics'!#REF!-1,\"\")","v":""},{"$f":"IFERROR('Weekly Metrics'!F8/'Weekly Metrics'!#REF!-1,\"\")","v":""},{"$f":"IFERROR('Weekly Metrics'!G8/'Weekly Metrics'!#REF!-1,\"\")","v":""},{"$f":"IFERROR('Weekly Metrics'!H8/'Weekly Metrics'!#REF!-1,\"\")","v":""},{"$f":"IFERROR('Weekly Metrics'!I8/'Weekly Metrics'!#REF!-1,\"\")","v":""},{"$f":"IFERROR('Weekly Metrics'!J8/'Weekly Metrics'!#REF!-1,\"\")","v":""},{"$f":"IFERROR('Weekly Metrics'!K8/'Weekly Metrics'!#REF!-1,\"\")","v":""},{"$f":"IFERROR('Weekly Metrics'!L8/'Weekly Metrics'!#REF!-1,\"\")","v":""},{"$f":"IFERROR('Weekly Metrics'!M8/'Weekly Metrics'!#REF!-1,\"\")","v":""},{"$f":"IFERROR('Weekly Metrics'!N8/'Weekly Metrics'!#REF!-1,\"\")","v":""},{"$f":"IFERROR('Weekly Metrics'!O8/'Weekly Metrics'!#REF!-1,\"\")","v":""},{"$f":"IFERROR('Weekly Metrics'!P8/'Weekly Metrics'!#REF!-1,\"\")","v":""},{"$f":"IFERROR('Weekly Metrics'!Q8/'Weekly Metrics'!#REF!-1,\"\")","v":""},{"$f":"IFERROR('Weekly Metrics'!R8/'Weekly Metrics'!#REF!-1,\"\")","v":""},{"$f":"IFERROR('Weekly Metrics'!S8/'Weekly Metrics'!#REF!-1,\"\")","v":""},{"$f":"IFERROR('Weekly Metrics'!T8/'Weekly Metrics'!#REF!-1,\"\")","v":""},{"$f":"IFERROR('Weekly Metrics'!U8/'Weekly Metrics'!#REF!-1,\"\")","v":""},{"$f":"IFERROR('Weekly Metrics'!V8/'Weekly Metrics'!#REF!-1,\"\")","v":""},{"$f":"IFERROR('Weekly Metrics'!W8/'Weekly Metrics'!#REF!-1,\"\")","v":""},{"$f":"IFERROR('Weekly Metrics'!X8/'Weekly Metrics'!#REF!-1,\"\")","v":""},{"$f":"IFERROR('Weekly Metrics'!Y8/'Weekly Metrics'!#REF!-1,\"\")","v":""},{"$f":"IFERROR('Weekly Metrics'!Z8/'Weekly Metrics'!#REF!-1,\"\")","v":""},{"$f":"IFERROR('Weekly Metrics'!AA8/'Weekly Metrics'!#REF!-1,\"\")","v":""},{"$f":"IFERROR('Weekly Metrics'!AB8/'Weekly Metrics'!#REF!-1,\"\")","v":""},{"$f":"IFERROR('Weekly Metrics'!AC8/'Weekly Metrics'!#REF!-1,\"\")","v":""},{"$f":"IFERROR('Weekly Metrics'!AD8/'Weekly Metrics'!#REF!-1,\"\")","v":""},{"$f":"IFERROR('Weekly Metrics'!AE8/'Weekly Metrics'!#REF!-1,\"\")","v":""},{"$f":"IFERROR('Weekly Metrics'!AF8/'Weekly Metrics'!#REF!-1,\"\")","v":""},{"$f":"IFERROR('Weekly Metrics'!AG8/'Weekly Metrics'!#REF!-1,\"\")","v":""},{"$f":"IFERROR('Weekly Metrics'!AH8/'Weekly Metrics'!#REF!-1,\"\")","v":""},{"$f":"IFERROR('Weekly Metrics'!AI8/'Weekly Metrics'!#REF!-1,\"\")","v":""},{"$f":"IFERROR('Weekly Metrics'!AJ8/'Weekly Metrics'!#REF!-1,\"\")","v":""},{"$f":"IFERROR('Weekly Metrics'!AK8/'Weekly Metrics'!#REF!-1,\"\")","v":""},{"$f":"IFERROR('Weekly Metrics'!AL8/'Weekly Metrics'!#REF!-1,\"\")","v":""},{"$f":"IFERROR('Weekly Metrics'!AM8/'Weekly Metrics'!#REF!-1,\"\")","v":""},{"$f":"IFERROR('Weekly Metrics'!AN8/'Weekly Metrics'!#REF!-1,\"\")","v":""},{"$f":"IFERROR('Weekly Metrics'!AO8/'Weekly Metrics'!#REF!-1,\"\")","v":""},{"$f":"IFERROR('Weekly Metrics'!AP8/'Weekly Metrics'!#REF!-1,\"\")","v":""},{"$f":"IFERROR('Weekly Metrics'!AQ8/'Weekly Metrics'!#REF!-1,\"\")","v":""},{"$f":"IFERROR('Weekly Metrics'!AR8/'Weekly Metrics'!#REF!-1,\"\")","v":""},{"$f":"IFERROR('Weekly Metrics'!AS8/'Weekly Metrics'!#REF!-1,\"\")","v":""},{"$f":"IFERROR('Weekly Metrics'!AT8/'Weekly Metrics'!#REF!-1,\"\")","v":""},{"$f":"IFERROR('Weekly Metrics'!AU8/'Weekly Metrics'!#REF!-1,\"\")","v":""},{"$f":"IFERROR('Weekly Metrics'!AV8/'Weekly Metrics'!#REF!-1,\"\")","v":""},{"$f":"IFERROR('Weekly Metrics'!AW8/'Weekly Metrics'!#REF!-1,\"\")","v":""},{"$f":"IFERROR('Weekly Metrics'!AX8/'Weekly Metrics'!#REF!-1,\"\")","v":""},{"$f":"IFERROR('Weekly Metrics'!AY8/'Weekly Metrics'!#REF!-1,\"\")","v":""},{"$f":"IFERROR('Weekly Metrics'!AZ8/'Weekly Metrics'!#REF!-1,\"\")","v":""},{"$f":"IFERROR('Weekly Metrics'!BA8/'Weekly Metrics'!A8-1,\"\")","v":""},{"$f":"IFERROR('Weekly Metrics'!BB8/'Weekly Metrics'!B8-1,\"\")","v":""},{"$f":"IFERROR('Weekly Metrics'!BC8/'Weekly Metrics'!C8-1,\"\")","v":-0.37249443207126953},{"$f":"IFERROR('Weekly Metrics'!BD8/'Weekly Metrics'!D8-1,\"\")","v":-0.50133904659882167},{"$f":"IFERROR('Weekly Metrics'!BE8/'Weekly Metrics'!E8-1,\"\")","v":-0.52671755725190839},{"$f":"IFERROR('Weekly Metrics'!BF8/'Weekly Metrics'!F8-1,\"\")","v":-0.54557291666666674},{"$f":"IFERROR('Weekly Metrics'!BG8/'Weekly Metrics'!G8-1,\"\")","v":-0.52054195804195802},{"$f":"IFERROR('Weekly Metrics'!BH8/'Weekly Metrics'!H8-1,\"\")","v":-0.55524734165510869},{"$f":"IFERROR('Weekly Metrics'!BI8/'Weekly Metrics'!I8-1,\"\")","v":-0.52004393190554643},{"$f":"IFERROR('Weekly Metrics'!BJ8/'Weekly Metrics'!J8-1,\"\")","v":-0.52447192168985057},{"$f":"IFERROR('Weekly Metrics'!BK8/'Weekly Metrics'!K8-1,\"\")","v":-0.52857840742550066},{"$f":"IFERROR('Weekly Metrics'!BL8/'Weekly Metrics'!L8-1,\"\")","v":-0.25084175084175087},{"$f":"IFERROR('Weekly Metrics'!BM8/'Weekly Metrics'!M8-1,\"\")","v":-0.19265143992055611},{"$f":"IFERROR('Weekly Metrics'!BN8/'Weekly Metrics'!N8-1,\"\")","v":0.1820128479657388},{"$f":"IFERROR('Weekly Metrics'!BO8/'Weekly Metrics'!O8-1,\"\")","v":0.30344827586206891},{"$f":"IFERROR('Weekly Metrics'!BP8/'Weekly Metrics'!P8-1,\"\")","v":0.41511500547645119},{"$f":"IFERROR('Weekly Metrics'!BQ8/'Weekly Metrics'!Q8-1,\"\")","v":0.17216981132075482},{"$f":"IFERROR('Weekly Metrics'!BR8/'Weekly Metrics'!R8-1,\"\")","v":0.31134259259259256},{"$f":"IFERROR('Weekly Metrics'!BS8/'Weekly Metrics'!S8-1,\"\")","v":0.52449223416965363},{"$f":"IFERROR('Weekly Metrics'!BT8/'Weekly Metrics'!T8-1,\"\")","v":0.70132743362831862},{"$f":"IFERROR('Weekly Metrics'!BU8/'Weekly Metrics'!U8-1,\"\")","v":0.50296559905100824},{"$f":"IFERROR('Weekly Metrics'!BV8/'Weekly Metrics'!V8-1,\"\")","v":0.48143564356435653},{"$f":"IFERROR('Weekly Metrics'!BW8/'Weekly Metrics'!W8-1,\"\")","v":0.78292682926829271},{"$f":"IFERROR('Weekly Metrics'!BX8/'Weekly Metrics'!X8-1,\"\")","v":0.76134889753566792},{"$f":"IFERROR('Weekly Metrics'!BY8/'Weekly Metrics'!Y8-1,\"\")","v":0.50364963503649629},{"$f":"IFERROR('Weekly Metrics'!BZ8/'Weekly Metrics'!Z8-1,\"\")","v":0.44656488549618323},{"$f":"IFERROR('Weekly Metrics'!CA8/'Weekly Metrics'!AA8-1,\"\")","v":3.8600723763570599E-2},{"$f":"IFERROR('Weekly Metrics'!CB8/'Weekly Metrics'!AB8-1,\"\")","v":8.5852478839177682E-2},{"$f":"IFERROR('Weekly Metrics'!CC8/'Weekly Metrics'!AC8-1,\"\")","v":-0.23857868020304573},{"$f":"IFERROR('Weekly Metrics'!CD8/'Weekly Metrics'!AD8-1,\"\")","v":-0.14900662251655628},{"$f":"IFERROR('Weekly Metrics'!CE8/'Weekly Metrics'!AE8-1,\"\")","v":-0.13945172824791419},{"$f":"IFERROR('Weekly Metrics'!CF8/'Weekly Metrics'!AF8-1,\"\")","v":-0.21577726218097448},{"$f":"IFERROR('Weekly Metrics'!CG8/'Weekly Metrics'!AG8-1,\"\")","v":-9.0476190476190488E-2},{"$f":"IFERROR('Weekly Metrics'!CH8/'Weekly Metrics'!AH8-1,\"\")","v":-0.27200791295746785},{"$f":"IFERROR('Weekly Metrics'!CI8/'Weekly Metrics'!AI8-1,\"\")","v":-0.20430107526881724},{"$f":"IFERROR('Weekly Metrics'!CJ8/'Weekly Metrics'!AJ8-1,\"\")","v":-0.23304157549234139},{"$f":"IFERROR('Weekly Metrics'!CK8/'Weekly Metrics'!AK8-1,\"\")","v":-0.29055441478439425},{"$f":"IFERROR('Weekly Metrics'!CL8/'Weekly Metrics'!AL8-1,\"\")","v":-0.10099750623441395},{"$f":"IFERROR('Weekly Metrics'!CM8/'Weekly Metrics'!AM8-1,\"\")","v":-4.6666666666666634E-2},{"$f":"IFERROR('Weekly Metrics'!CN8/'Weekly Metrics'!AN8-1,\"\")","v":-0.11410256410256414},{"$f":"IFERROR('Weekly Metrics'!CO8/'Weekly Metrics'!AO8-1,\"\")","v":-0.20685840707964598},{"$f":"IFERROR('Weekly Metrics'!CP8/'Weekly Metrics'!AP8-1,\"\")","v":-0.22838847385272143},{"$f":"IFERROR('Weekly Metrics'!CQ8/'Weekly Metrics'!AQ8-1,\"\")","v":-5.5023923444976086E-2},{"$f":"IFERROR('Weekly Metrics'!CR8/'Weekly Metrics'!AR8-1,\"\")","v":5.2256532066508266E-2},{"$f":"IFERROR('Weekly Metrics'!CS8/'Weekly Metrics'!AS8-1,\"\")","v":3.0544488711819362E-2},{"$f":"IFERROR('Weekly Metrics'!CT8/'Weekly Metrics'!AT8-1,\"\")","v":1.3404825737265424E-2},{"$f":"IFERROR('Weekly Metrics'!CU8/'Weekly Metrics'!AU8-1,\"\")","v":-3.1367628607277265E-2},{"$f":"IFERROR('Weekly Metrics'!CV8/'Weekly Metrics'!AV8-1,\"\")","v":-0.22194199243379575},{"$f":"IFERROR('Weekly Metrics'!CW8/'Weekly Metrics'!AW8-1,\"\")","v":4.4568245125348183E-2},{"$f":"IFERROR('Weekly Metrics'!CX8/'Weekly Metrics'!AX8-1,\"\")","v":-6.5773447015834319E-2},{"$f":"IFERROR('Weekly Metrics'!CY8/'Weekly Metrics'!AY8-1,\"\")","v":5.0251256281406143E-3},{"$f":"IFERROR('Weekly Metrics'!CZ8/'Weekly Metrics'!AZ8-1,\"\")","v":1.2413793103448256E-2},{"$f":"IFERROR('Weekly Metrics'!DA8/'Weekly Metrics'!BA8-1,\"\")","v":-0.1506024096385542},{"$f":"IFERROR('Weekly Metrics'!DB8/'Weekly Metrics'!BB8-1,\"\")","v":-0.19575699132111857},{"$f":"IFERROR('Weekly Metrics'!DC8/'Weekly Metrics'!BC8-1,\"\")","v":-0.18544809228039039},{"$f":"IFERROR('Weekly Metrics'!DD8/'Weekly Metrics'!BD8-1,\"\")","v":-0.14715359828141783},{"$f":"IFERROR('Weekly Metrics'!DE8/'Weekly Metrics'!BE8-1,\"\")","v":-0.19124423963133641},{"$f":"IFERROR('Weekly Metrics'!DF8/'Weekly Metrics'!BF8-1,\"\")","v":-0.36580706781279848},{"$f":"IFERROR('Weekly Metrics'!DG8/'Weekly Metrics'!BG8-1,\"\")","v":-0.43482224247948953},{"$f":"IFERROR('Weekly Metrics'!DH8/'Weekly Metrics'!BH8-1,\"\")","v":-0.24948024948024949},{"$f":"IFERROR('Weekly Metrics'!DI8/'Weekly Metrics'!BI8-1,\"\")","v":-0.24370709382151035},{"$f":"IFERROR('Weekly Metrics'!DJ8/'Weekly Metrics'!BJ8-1,\"\")","v":-0.22535211267605637},{"$f":"IFERROR('Weekly Metrics'!DK8/'Weekly Metrics'!BK8-1,\"\")","v":-0.38238341968911915},{"$f":"IFERROR('Weekly Metrics'!DL8/'Weekly Metrics'!BL8-1,\"\")","v":-0.20674157303370788},{"$f":"IFERROR('Weekly Metrics'!DM8/'Weekly Metrics'!BM8-1,\"\")","v":-0.24723247232472323},{"$f":"IFERROR('Weekly Metrics'!DN8/'Weekly Metrics'!BN8-1,\"\")","v":-0.46286231884057971},{"$f":"IFERROR('Weekly Metrics'!DO8/'Weekly Metrics'!BO8-1,\"\")","v":-0.48059964726631388},{"$f":"IFERROR('Weekly Metrics'!DP8/'Weekly Metrics'!BP8-1,\"\")","v":-0.54024767801857587},{"$f":"IFERROR('Weekly Metrics'!DQ8/'Weekly Metrics'!BQ8-1,\"\")","v":-0.48993963782696182},{"$f":"IFERROR('Weekly Metrics'!DR8/'Weekly Metrics'!BR8-1,\"\")","v":-0.45984112974404234},{"$f":"IFERROR('Weekly Metrics'!DS8/'Weekly Metrics'!BS8-1,\"\")","v":-0.53996865203761757},{"$f":"IFERROR('Weekly Metrics'!DT8/'Weekly Metrics'!BT8-1,\"\")","v":-0.57997399219765922},{"$f":"IFERROR('Weekly Metrics'!DU8/'Weekly Metrics'!BU8-1,\"\")","v":-0.53275453827940011},{"$f":"IFERROR('Weekly Metrics'!DV8/'Weekly Metrics'!BV8-1,\"\")","v":-0.54803675856307432},{"$f":"IFERROR('Weekly Metrics'!DW8/'Weekly Metrics'!BW8-1,\"\")","v":-0.57455540355677148},{"$f":"IFERROR('Weekly Metrics'!DX8/'Weekly Metrics'!BX8-1,\"\")","v":-0.54712812960235646},{"$f":"IFERROR('Weekly Metrics'!DY8/'Weekly Metrics'!BY8-1,\"\")","v":-0.51294498381877029},{"$f":"IFERROR('Weekly Metrics'!DZ8/'Weekly Metrics'!BZ8-1,\"\")","v":-0.51187335092348285},{"$f":"IFERROR('Weekly Metrics'!EA8/'Weekly Metrics'!CA8-1,\"\")","v":-0.36701509872241578},{"$f":"IFERROR('Weekly Metrics'!EB8/'Weekly Metrics'!CB8-1,\"\")","v":-0.3853006681514477},{"$f":"IFERROR('Weekly Metrics'!EC8/'Weekly Metrics'!CC8-1,\"\")","v":-0.2426666666666667},{"$f":"IFERROR('Weekly Metrics'!ED8/'Weekly Metrics'!CD8-1,\"\")","v":-0.23216601815823601},{"$f":"IFERROR('Weekly Metrics'!EE8/'Weekly Metrics'!CE8-1,\"\")","v":-0.23407202216066481},{"$f":"IFERROR('Weekly Metrics'!EF8/'Weekly Metrics'!CF8-1,\"\")","v":-0.18639053254437865},{"$f":"IFERROR('Weekly Metrics'!EG8/'Weekly Metrics'!CG8-1,\"\")","v":-0.24869109947643975},{"$f":"IFERROR('Weekly Metrics'!EH8/'Weekly Metrics'!CH8-1,\"\")","v":-6.25E-2},{"$f":"IFERROR('Weekly Metrics'!EI8/'Weekly Metrics'!CI8-1,\"\")","v":-0.14564564564564564},{"$f":"IFERROR('Weekly Metrics'!EJ8/'Weekly Metrics'!CJ8-1,\"\")","v":-0.2068473609129815},{"$f":"IFERROR('Weekly Metrics'!EK8/'Weekly Metrics'!CK8-1,\"\")","v":-0.22720694645441386},{"$f":"IFERROR('Weekly Metrics'!EL8/'Weekly Metrics'!CL8-1,\"\")","v":-0.20249653259361999},{"$f":"IFERROR('Weekly Metrics'!EM8/'Weekly Metrics'!CM8-1,\"\")","v":-0.1454545454545455},{"$f":"IFERROR('Weekly Metrics'!EN8/'Weekly Metrics'!CN8-1,\"\")","v":-0.21562952243125899},{"$f":"IFERROR('Weekly Metrics'!EO8/'Weekly Metrics'!CO8-1,\"\")","v":-0.21478382147838215},{"$f":"IFERROR('Weekly Metrics'!EP8/'Weekly Metrics'!CP8-1,\"\")","v":-8.1604426002766295E-2},{"$f":"IFERROR('Weekly Metrics'!EQ8/'Weekly Metrics'!CQ8-1,\"\")","v":-7.0886075949367133E-2},{"$f":"IFERROR('Weekly Metrics'!ER8/'Weekly Metrics'!CR8-1,\"\")","v":-0.19864559819413097},{"$f":"IFERROR('Weekly Metrics'!ES8/'Weekly Metrics'!CS8-1,\"\")","v":-9.2783505154639179E-2},{"$f":"IFERROR('Weekly Metrics'!ET8/'Weekly Metrics'!CT8-1,\"\")","v":-0.16798941798941802},{"$f":"IFERROR('Weekly Metrics'!EU8/'Weekly Metrics'!CU8-1,\"\")","v":-0.25388601036269431},{"$f":"IFERROR('Weekly Metrics'!EV8/'Weekly Metrics'!CV8-1,\"\")","v":3.2414910858995061E-2},{"$f":"IFERROR('Weekly Metrics'!EW8/'Weekly Metrics'!CW8-1,\"\")","v":-0.22666666666666668},{"$f":"IFERROR('Weekly Metrics'!EX8/'Weekly Metrics'!CX8-1,\"\")","v":-0.20469361147327247},{"$f":"IFERROR('Weekly Metrics'!EY8/'Weekly Metrics'!CY8-1,\"\")","v":-0.22375},{"$f":"IFERROR('Weekly Metrics'!EZ8/'Weekly Metrics'!CZ8-1,\"\")","v":-0.29291553133514991},{"$f":"IFERROR('Weekly Metrics'!FA8/'Weekly Metrics'!DA8-1,\"\")","v":-0.2397163120567376},{"$f":"IFERROR('Weekly Metrics'!FB8/'Weekly Metrics'!DB8-1,\"\")","v":-0.20383693045563545},{"$f":"IFERROR('Weekly Metrics'!FC8/'Weekly Metrics'!DC8-1,\"\")","v":-0.17211328976034856},{"$f":"IFERROR('Weekly Metrics'!FD8/'Weekly Metrics'!DD8-1,\"\")","v":-0.21158690176322414},{"$f":"IFERROR('Weekly Metrics'!FE8/'Weekly Metrics'!DE8-1,\"\")","v":-0.32051282051282048},{"$f":"IFERROR('Weekly Metrics'!FF8/'Weekly Metrics'!DF8-1,\"\")","v":-0.1581325301204819},{"$f":"IFERROR('Weekly Metrics'!FG8/'Weekly Metrics'!DG8-1,\"\")","v":-7.7419354838709653E-2},{"$f":"IFERROR('Weekly Metrics'!FH8/'Weekly Metrics'!DH8-1,\"\")","v":-0.23130193905817176},{"$f":"IFERROR('Weekly Metrics'!FI8/'Weekly Metrics'!DI8-1,\"\")","v":-0.24962178517397882},{"$f":"IFERROR('Weekly Metrics'!FJ8/'Weekly Metrics'!DJ8-1,\"\")","v":-0.26293706293706298},{"$f":"IFERROR('Weekly Metrics'!FK8/'Weekly Metrics'!DK8-1,\"\")","v":-7.2147651006711389E-2},{"$f":"IFERROR('Weekly Metrics'!FL8/'Weekly Metrics'!DL8-1,\"\")","v":-0.1898016997167139},{"$f":"IFERROR('Weekly Metrics'!FM8/'Weekly Metrics'!DM8-1,\"\")","v":-0.13725490196078427},{"$f":"IFERROR('Weekly Metrics'!FN8/'Weekly Metrics'!DN8-1,\"\")","v":2.0236087689713411E-2},{"$f":"IFERROR('Weekly Metrics'!FO8/'Weekly Metrics'!DO8-1,\"\")","v":-2.5466893039049254E-2},{"$f":"IFERROR('Weekly Metrics'!FP8/'Weekly Metrics'!DP8-1,\"\")","v":2.8619528619528545E-2},{"$f":"IFERROR('Weekly Metrics'!FQ8/'Weekly Metrics'!DQ8-1,\"\")","v":3.5502958579881616E-2},{"$f":"IFERROR('Weekly Metrics'!FR8/'Weekly Metrics'!DR8-1,\"\")","v":-0.17320261437908502},{"$f":"IFERROR('Weekly Metrics'!FS8/'Weekly Metrics'!DS8-1,\"\")","v":-0.12947189097103917},{"$f":"IFERROR('Weekly Metrics'!FT8/'Weekly Metrics'!DT8-1,\"\")","v":-0.23839009287925694},{"$f":"IFERROR('Weekly Metrics'!FU8/'Weekly Metrics'!DU8-1,\"\")","v":-0.15878378378378377},{"$f":"IFERROR('Weekly Metrics'!FV8/'Weekly Metrics'!DV8-1,\"\")","v":-0.11275415896487984},{"$f":"IFERROR('Weekly Metrics'!FW8/'Weekly Metrics'!DW8-1,\"\")","v":-0.24276527331189712},{"$f":"IFERROR('Weekly Metrics'!FX8/'Weekly Metrics'!DX8-1,\"\")","v":2.7642276422764178E-2},{"$f":"IFERROR('Weekly Metrics'!FY8/'Weekly Metrics'!DY8-1,\"\")","v":0.21926910299003333},{"$f":"IFERROR('Weekly Metrics'!FZ8/'Weekly Metrics'!DZ8-1,\"\")","v":0.14414414414414423},{"$f":"IFERROR('Weekly Metrics'!GA8/'Weekly Metrics'!EA8-1,\"\")","v":6.0550458715596278E-2},{"$f":"IFERROR('Weekly Metrics'!GB8/'Weekly Metrics'!EB8-1,\"\")","v":0.12862318840579712},{"$f":"IFERROR('Weekly Metrics'!GC8/'Weekly Metrics'!EC8-1,\"\")","v":0.11619718309859151},{"$f":"IFERROR('Weekly Metrics'!GD8/'Weekly Metrics'!ED8-1,\"\")","v":0.1807432432432432},{"$f":"IFERROR('Weekly Metrics'!GE8/'Weekly Metrics'!EE8-1,\"\")","v":0.10669077757685352},{"$f":"IFERROR('Weekly Metrics'!GF8/'Weekly Metrics'!EF8-1,\"\")","v":0.14181818181818184},{"$f":"IFERROR('Weekly Metrics'!GG8/'Weekly Metrics'!EG8-1,\"\")","v":7.3170731707317138E-2},{"$f":"IFERROR('Weekly Metrics'!GH8/'Weekly Metrics'!EH8-1,\"\")","v":-0.14347826086956517},{"$f":"IFERROR('Weekly Metrics'!GI8/'Weekly Metrics'!EI8-1,\"\")","v":-2.4604569420035194E-2},{"$f":"IFERROR('Weekly Metrics'!GJ8/'Weekly Metrics'!EJ8-1,\"\")","v":8.8129496402877594E-2},{"$f":"IFERROR('Weekly Metrics'!GK8/'Weekly Metrics'!EK8-1,\"\")","v":4.4943820224719211E-2},{"$f":"IFERROR('Weekly Metrics'!GL8/'Weekly Metrics'!EL8-1,\"\")","v":-4.8695652173913029E-2},{"$f":"IFERROR('Weekly Metrics'!GM8/'Weekly Metrics'!EM8-1,\"\")","v":-4.5826513911620292E-2},{"$f":"IFERROR('Weekly Metrics'!GN8/'Weekly Metrics'!EN8-1,\"\")","v":6.4575645756457467E-2},{"$f":"IFERROR('Weekly Metrics'!GO8/'Weekly Metrics'!EO8-1,\"\")","v":0.10301953818827703},{"$f":"IFERROR('Weekly Metrics'!GP8/'Weekly Metrics'!EP8-1,\"\")","v":0.13704819277108427},{"$f":"IFERROR('Weekly Metrics'!GQ8/'Weekly Metrics'!EQ8-1,\"\")","v":-3.9509536784741117E-2},{"$f":"IFERROR('Weekly Metrics'!GR8/'Weekly Metrics'!ER8-1,\"\")","v":-0.22394366197183102},{"$f":"IFERROR('Weekly Metrics'!GS8/'Weekly Metrics'!ES8-1,\"\")","v":-0.140625},{"$f":"IFERROR('Weekly Metrics'!GT8/'Weekly Metrics'!ET8-1,\"\")","v":-7.9491255961844365E-3},{"$f":"IFERROR('Weekly Metrics'!GU8/'Weekly Metrics'!EU8-1,\"\")","v":0},{"$f":"IFERROR('Weekly Metrics'!GV8/'Weekly Metrics'!EV8-1,\"\")","v":8.9481946624803799E-2},{"$f":"IFERROR('Weekly Metrics'!GW8/'Weekly Metrics'!EW8-1,\"\")","v":0.13620689655172424},{"$f":"IFERROR('Weekly Metrics'!GX8/'Weekly Metrics'!EX8-1,\"\")","v":0.17213114754098369},{"$f":"IFERROR('Weekly Metrics'!GY8/'Weekly Metrics'!EY8-1,\"\")","v":2.7375201288244666E-2},{"$f":"IFERROR('Weekly Metrics'!GZ8/'Weekly Metrics'!EZ8-1,\"\")","v":0.20038535645472066},{"$f":"IFERROR('Weekly Metrics'!HA8/'Weekly Metrics'!FA8-1,\"\")","v":0.20149253731343286},{"$f":"IFERROR('Weekly Metrics'!HB8/'Weekly Metrics'!FB8-1,\"\")","v":-1.6566265060240948E-2},{"$f":"IFERROR('Weekly Metrics'!HC8/'Weekly Metrics'!FC8-1,\"\")","v":-2.5000000000000022E-2},{"$f":"IFERROR('Weekly Metrics'!HD8/'Weekly Metrics'!FD8-1,\"\")","v":6.8690095846645427E-2},{"$f":"IFERROR('Weekly Metrics'!HE8/'Weekly Metrics'!FE8-1,\"\")","v":0.25366876310272546},{"$f":"IFERROR('Weekly Metrics'!HF8/'Weekly Metrics'!FF8-1,\"\")","v":7.6923076923076872E-2},{"$f":"IFERROR('Weekly Metrics'!HG8/'Weekly Metrics'!FG8-1,\"\")","v":0.11363636363636354},{"$f":"IFERROR('Weekly Metrics'!HH8/'Weekly Metrics'!FH8-1,\"\")","v":9.9099099099099197E-2},{"$f":"IFERROR('Weekly Metrics'!HI8/'Weekly Metrics'!FI8-1,\"\")","v":0.1875},{"$f":"IFERROR('Weekly Metrics'!HJ8/'Weekly Metrics'!FJ8-1,\"\")","v":0.12144212523719156},{"$f":"IFERROR('Weekly Metrics'!HK8/'Weekly Metrics'!FK8-1,\"\")","v":0.11392405063291133},{"$f":"IFERROR('Weekly Metrics'!HL8/'Weekly Metrics'!FL8-1,\"\")","v":0.24125874125874125},{"$f":"IFERROR('Weekly Metrics'!HM8/'Weekly Metrics'!FM8-1,\"\")","v":8.7121212121212155E-2},{"$f":"IFERROR('Weekly Metrics'!HN8/'Weekly Metrics'!FN8-1,\"\")","v":-9.0909090909090939E-2},{"$f":"IFERROR('Weekly Metrics'!HO8/'Weekly Metrics'!FO8-1,\"\")","v":-0.13066202090592338},{"$f":"IFERROR('Weekly Metrics'!HP8/'Weekly Metrics'!FP8-1,\"\")","v":-0.18657937806873981},{"$f":"IFERROR('Weekly Metrics'!HQ8/'Weekly Metrics'!FQ8-1,\"\")","v":2.857142857142847E-2},{"$f":"IFERROR('Weekly Metrics'!HR8/'Weekly Metrics'!FR8-1,\"\")","v":0},{"$f":"IFERROR('Weekly Metrics'!HS8/'Weekly Metrics'!FS8-1,\"\")","v":5.4794520547945202E-2},{"$f":"IFERROR('Weekly Metrics'!HT8/'Weekly Metrics'!FT8-1,\"\")","v":-6.0975609756097615E-2}]
[{"$f":"IF('Weekly Metrics'!A9=0,\"\",'Weekly Metrics'!A9)","v":"PYPL"},{"$f":"IF('Weekly Metrics'!B9=0,\"\",'Weekly Metrics'!B9)","v":"Transactions"},{"$f":"IFERROR('Weekly Metrics'!C9/'Weekly Metrics'!#REF!-1,\"\")","v":""},{"$f":"IFERROR('Weekly Metrics'!D9/'Weekly Metrics'!#REF!-1,\"\")","v":""},{"$f":"IFERROR('Weekly Metrics'!E9/'Weekly Metrics'!#REF!-1,\"\")","v":""},{"$f":"IFERROR('Weekly Metrics'!F9/'Weekly Metrics'!#REF!-1,\"\")","v":""},{"$f":"IFERROR('Weekly Metrics'!G9/'Weekly Metrics'!#REF!-1,\"\")","v":""},{"$f":"IFERROR('Weekly Metrics'!H9/'Weekly Metrics'!#REF!-1,\"\")","v":""},{"$f":"IFERROR('Weekly Metrics'!I9/'Weekly Metrics'!#REF!-1,\"\")","v":""},{"$f":"IFERROR('Weekly Metrics'!J9/'Weekly Metrics'!#REF!-1,\"\")","v":""},{"$f":"IFERROR('Weekly Metrics'!K9/'Weekly Metrics'!#REF!-1,\"\")","v":""},{"$f":"IFERROR('Weekly Metrics'!L9/'Weekly Metrics'!#REF!-1,\"\")","v":""},{"$f":"IFERROR('Weekly Metrics'!M9/'Weekly Metrics'!#REF!-1,\"\")","v":""},{"$f":"IFERROR('Weekly Metrics'!N9/'Weekly Metrics'!#REF!-1,\"\")","v":""},{"$f":"IFERROR('Weekly Metrics'!O9/'Weekly Metrics'!#REF!-1,\"\")","v":""},{"$f":"IFERROR('Weekly Metrics'!P9/'Weekly Metrics'!#REF!-1,\"\")","v":""},{"$f":"IFERROR('Weekly Metrics'!Q9/'Weekly Metrics'!#REF!-1,\"\")","v":""},{"$f":"IFERROR('Weekly Metrics'!R9/'Weekly Metrics'!#REF!-1,\"\")","v":""},{"$f":"IFERROR('Weekly Metrics'!S9/'Weekly Metrics'!#REF!-1,\"\")","v":""},{"$f":"IFERROR('Weekly Metrics'!T9/'Weekly Metrics'!#REF!-1,\"\")","v":""},{"$f":"IFERROR('Weekly Metrics'!U9/'Weekly Metrics'!#REF!-1,\"\")","v":""},{"$f":"IFERROR('Weekly Metrics'!V9/'Weekly Metrics'!#REF!-1,\"\")","v":""},{"$f":"IFERROR('Weekly Metrics'!W9/'Weekly Metrics'!#REF!-1,\"\")","v":""},{"$f":"IFERROR('Weekly Metrics'!X9/'Weekly Metrics'!#REF!-1,\"\")","v":""},{"$f":"IFERROR('Weekly Metrics'!Y9/'Weekly Metrics'!#REF!-1,\"\")","v":""},{"$f":"IFERROR('Weekly Metrics'!Z9/'Weekly Metrics'!#REF!-1,\"\")","v":""},{"$f":"IFERROR('Weekly Metrics'!AA9/'Weekly Metrics'!#REF!-1,\"\")","v":""},{"$f":"IFERROR('Weekly Metrics'!AB9/'Weekly Metrics'!#REF!-1,\"\")","v":""},{"$f":"IFERROR('Weekly Metrics'!AC9/'Weekly Metrics'!#REF!-1,\"\")","v":""},{"$f":"IFERROR('Weekly Metrics'!AD9/'Weekly Metrics'!#REF!-1,\"\")","v":""},{"$f":"IFERROR('Weekly Metrics'!AE9/'Weekly Metrics'!#REF!-1,\"\")","v":""},{"$f":"IFERROR('Weekly Metrics'!AF9/'Weekly Metrics'!#REF!-1,\"\")","v":""},{"$f":"IFERROR('Weekly Metrics'!AG9/'Weekly Metrics'!#REF!-1,\"\")","v":""},{"$f":"IFERROR('Weekly Metrics'!AH9/'Weekly Metrics'!#REF!-1,\"\")","v":""},{"$f":"IFERROR('Weekly Metrics'!AI9/'Weekly Metrics'!#REF!-1,\"\")","v":""},{"$f":"IFERROR('Weekly Metrics'!AJ9/'Weekly Metrics'!#REF!-1,\"\")","v":""},{"$f":"IFERROR('Weekly Metrics'!AK9/'Weekly Metrics'!#REF!-1,\"\")","v":""},{"$f":"IFERROR('Weekly Metrics'!AL9/'Weekly Metrics'!#REF!-1,\"\")","v":""},{"$f":"IFERROR('Weekly Metrics'!AM9/'Weekly Metrics'!#REF!-1,\"\")","v":""},{"$f":"IFERROR('Weekly Metrics'!AN9/'Weekly Metrics'!#REF!-1,\"\")","v":""},{"$f":"IFERROR('Weekly Metrics'!AO9/'Weekly Metrics'!#REF!-1,\"\")","v":""},{"$f":"IFERROR('Weekly Metrics'!AP9/'Weekly Metrics'!#REF!-1,\"\")","v":""},{"$f":"IFERROR('Weekly Metrics'!AQ9/'Weekly Metrics'!#REF!-1,\"\")","v":""},{"$f":"IFERROR('Weekly Metrics'!AR9/'Weekly Metrics'!#REF!-1,\"\")","v":""},{"$f":"IFERROR('Weekly Metrics'!AS9/'Weekly Metrics'!#REF!-1,\"\")","v":""},{"$f":"IFERROR('Weekly Metrics'!AT9/'Weekly Metrics'!#REF!-1,\"\")","v":""},{"$f":"IFERROR('Weekly Metrics'!AU9/'Weekly Metrics'!#REF!-1,\"\")","v":""},{"$f":"IFERROR('Weekly Metrics'!AV9/'Weekly Metrics'!#REF!-1,\"\")","v":""},{"$f":"IFERROR('Weekly Metrics'!AW9/'Weekly Metrics'!#REF!-1,\"\")","v":""},{"$f":"IFERROR('Weekly Metrics'!AX9/'Weekly Metrics'!#REF!-1,\"\")","v":""},{"$f":"IFERROR('Weekly Metrics'!AY9/'Weekly Metrics'!#REF!-1,\"\")","v":""},{"$f":"IFERROR('Weekly Metrics'!AZ9/'Weekly Metrics'!#REF!-1,\"\")","v":""},{"$f":"IFERROR('Weekly Metrics'!BA9/'Weekly Metrics'!A9-1,\"\")","v":""},{"$f":"IFERROR('Weekly Metrics'!BB9/'Weekly Metrics'!B9-1,\"\")","v":""},{"$f":"IFERROR('Weekly Metrics'!BC9/'Weekly Metrics'!C9-1,\"\")","v":""},{"$f":"IFERROR('Weekly Metrics'!BD9/'Weekly Metrics'!D9-1,\"\")","v":0.27709777702623595},{"$f":"IFERROR('Weekly Metrics'!BE9/'Weekly Metrics'!E9-1,\"\")","v":0.26840824406882247},{"$f":"IFERROR('Weekly Metrics'!BF9/'Weekly Metrics'!F9-1,\"\")","v":0.26931622672729616},{"$f":"IFERROR('Weekly Metrics'!BG9/'Weekly Metrics'!G9-1,\"\")","v":0.20597436555926496},{"$f":"IFERROR('Weekly Metrics'!BH9/'Weekly Metrics'!H9-1,\"\")","v":0.22235948288362661},{"$f":"IFERROR('Weekly Metrics'!BI9/'Weekly Metrics'!I9-1,\"\")","v":0.21611492999151327},{"$f":"IFERROR('Weekly Metrics'!BJ9/'Weekly Metrics'!J9-1,\"\")","v":0.19338075258760989},{"$f":"IFERROR('Weekly Metrics'!BK9/'Weekly Metrics'!K9-1,\"\")","v":0.15447188550380275},{"$f":"IFERROR('Weekly Metrics'!BL9/'Weekly Metrics'!L9-1,\"\")","v":0.22155223023835302},{"$f":"IFERROR('Weekly Metrics'!BM9/'Weekly Metrics'!M9-1,\"\")","v":0.15437491207696952},{"$f":"IFERROR('Weekly Metrics'!BN9/'Weekly Metrics'!N9-1,\"\")","v":4.897610741650249E-2},{"$f":"IFERROR('Weekly Metrics'!BO9/'Weekly Metrics'!O9-1,\"\")","v":8.6127663257660858E-2},{"$f":"IFERROR('Weekly Metrics'!BP9/'Weekly Metrics'!P9-1,\"\")","v":0.19554959771883818},{"$f":"IFERROR('Weekly Metrics'!BQ9/'Weekly Metrics'!Q9-1,\"\")","v":0.2743314638706007},{"$f":"IFERROR('Weekly Metrics'!BR9/'Weekly Metrics'!R9-1,\"\")","v":0.38313290703977687},{"$f":"IFERROR('Weekly Metrics'!BS9/'Weekly Metrics'!S9-1,\"\")","v":0.49840269778931146},{"$f":"IFERROR('Weekly Metrics'!BT9/'Weekly Metrics'!T9-1,\"\")","v":0.359347385399023},{"$f":"IFERROR('Weekly Metrics'!BU9/'Weekly Metrics'!U9-1,\"\")","v":0.49139263723306703},{"$f":"IFERROR('Weekly Metrics'!BV9/'Weekly Metrics'!V9-1,\"\")","v":0.44517841860770324},{"$f":"IFERROR('Weekly Metrics'!BW9/'Weekly Metrics'!W9-1,\"\")","v":0.50168119201574357},{"$f":"IFERROR('Weekly Metrics'!BX9/'Weekly Metrics'!X9-1,\"\")","v":0.42782722484181224},{"$f":"IFERROR('Weekly Metrics'!BY9/'Weekly Metrics'!Y9-1,\"\")","v":0.43365150377667816},{"$f":"IFERROR('Weekly Metrics'!BZ9/'Weekly Metrics'!Z9-1,\"\")","v":0.40863170264788939},{"$f":"IFERROR('Weekly Metrics'!CA9/'Weekly Metrics'!AA9-1,\"\")","v":0.44594776060093677},{"$f":"IFERROR('Weekly Metrics'!CB9/'Weekly Metrics'!AB9-1,\"\")","v":0.39411814389677047},{"$f":"IFERROR('Weekly Metrics'!CC9/'Weekly Metrics'!AC9-1,\"\")","v":0.36096491557364119},{"$f":"IFERROR('Weekly Metrics'!CD9/'Weekly Metrics'!AD9-1,\"\")","v":0.39177338183267718},{"$f":"IFERROR('Weekly Metrics'!CE9/'Weekly Metrics'!AE9-1,\"\")","v":0.33672460599339882},{"$f":"IFERROR('Weekly Metrics'!CF9/'Weekly Metrics'!AF9-1,\"\")","v":0.35723412751231209},{"$f":"IFERROR('Weekly Metrics'!CG9/'Weekly Metrics'!AG9-1,\"\")","v":0.2953920091636888},{"$f":"IFERROR('Weekly Metrics'!CH9/'Weekly Metrics'!AH9-1,\"\")","v":0.38848560956435629},{"$f":"IFERROR('Weekly Metrics'!CI9/'Weekly Metrics'!AI9-1,\"\")","v":0.32766004855412856},{"$f":"IFERROR('Weekly Metrics'!CJ9/'Weekly Metrics'!AJ9-1,\"\")","v":0.35473171692358729},{"$f":"IFERROR('Weekly Metrics'!CK9/'Weekly Metrics'!AK9-1,\"\")","v":0.28928182875436126},{"$f":"IFERROR('Weekly Metrics'!CL9/'Weekly Metrics'!AL9-1,\"\")","v":0.31341965724054677},{"$f":"IFERROR('Weekly Metrics'!CM9/'Weekly Metrics'!AM9-1,\"\")","v":0.31875837449753019},{"$f":"IFERROR('Weekly Metrics'!CN9/'Weekly Metrics'!AN9-1,\"\")","v":0.29701342521029872},{"$f":"IFERROR('Weekly Metrics'!CO9/'Weekly Metrics'!AO9-1,\"\")","v":0.32733304026638765},{"$f":"IFERROR('Weekly Metrics'!CP9/'Weekly Metrics'!AP9-1,\"\")","v":0.26737840026893056},{"$f":"IFERROR('Weekly Metrics'!CQ9/'Weekly Metrics'!AQ9-1,\"\")","v":0.31262042743015517},{"$f":"IFERROR('Weekly Metrics'!CR9/'Weekly Metrics'!AR9-1,\"\")","v":0.27477240896358546},{"$f":"IFERROR('Weekly Metrics'!CS9/'Weekly Metrics'!AS9-1,\"\")","v":0.30604375503036518},{"$f":"IFERROR('Weekly Metrics'!CT9/'Weekly Metrics'!AT9-1,\"\")","v":0.26917862829482031},{"$f":"IFERROR('Weekly Metrics'!CU9/'Weekly Metrics'!AU9-1,\"\")","v":0.28574536369930947},{"$f":"IFERROR('Weekly Metrics'!CV9/'Weekly Metrics'!AV9-1,\"\")","v":0.37301236694612205},{"$f":"IFERROR('Weekly Metrics'!CW9/'Weekly Metrics'!AW9-1,\"\")","v":0.35073492500621617},{"$f":"IFERROR('Weekly Metrics'!CX9/'Weekly Metrics'!AX9-1,\"\")","v":0.33039779005524861},{"$f":"IFERROR('Weekly Metrics'!CY9/'Weekly Metrics'!AY9-1,\"\")","v":0.31970776893662389},{"$f":"IFERROR('Weekly Metrics'!CZ9/'Weekly Metrics'!AZ9-1,\"\")","v":0.34832981842497812},{"$f":"IFERROR('Weekly Metrics'!DA9/'Weekly Metrics'!BA9-1,\"\")","v":0.32224500709512527},{"$f":"IFERROR('Weekly Metrics'!DB9/'Weekly Metrics'!BB9-1,\"\")","v":0.46685657760312216},{"$f":"IFERROR('Weekly Metrics'!DC9/'Weekly Metrics'!BC9-1,\"\")","v":0.31667976658330366},{"$f":"IFERROR('Weekly Metrics'!DD9/'Weekly Metrics'!BD9-1,\"\")","v":0.45496119451630634},{"$f":"IFERROR('Weekly Metrics'!DE9/'Weekly Metrics'!BE9-1,\"\")","v":0.37544331418829069},{"$f":"IFERROR('Weekly Metrics'!DF9/'Weekly Metrics'!BF9-1,\"\")","v":0.38190773636846198},{"$f":"IFERROR('Weekly Metrics'!DG9/'Weekly Metrics'!BG9-1,\"\")","v":0.36313896874485785},{"$f":"IFERROR('Weekly Metrics'!DH9/'Weekly Metrics'!BH9-1,\"\")","v":0.3683622186278781},{"$f":"IFERROR('Weekly Metrics'!DI9/'Weekly Metrics'!BI9-1,\"\")","v":0.34747595865608294},{"$f":"IFERROR('Weekly Metrics'!DJ9/'Weekly Metrics'!BJ9-1,\"\")","v":0.28103925111800265},{"$f":"IFERROR('Weekly Metrics'!DK9/'Weekly Metrics'!BK9-1,\"\")","v":0.27547371048630498},{"$f":"IFERROR('Weekly Metrics'!DL9/'Weekly Metrics'!BL9-1,\"\")","v":0.34678725067604232},{"$f":"IFERROR('Weekly Metrics'!DM9/'Weekly Metrics'!BM9-1,\"\")","v":0.3628467451535129},{"$f":"IFERROR('Weekly Metrics'!DN9/'Weekly Metrics'!BN9-1,\"\")","v":0.5692253591881844},{"$f":"IFERROR('Weekly Metrics'!DO9/'Weekly Metrics'!BO9-1,\"\")","v":0.51078448707380675},{"$f":"IFERROR('Weekly Metrics'!DP9/'Weekly Metrics'!BP9-1,\"\")","v":0.31985276909001925},{"$f":"IFERROR('Weekly Metrics'!DQ9/'Weekly Metrics'!BQ9-1,\"\")","v":0.23501359646045539},{"$f":"IFERROR('Weekly Metrics'!DR9/'Weekly Metrics'!BR9-1,\"\")","v":0.16842349509413945},{"$f":"IFERROR('Weekly Metrics'!DS9/'Weekly Metrics'!BS9-1,\"\")","v":8.9140473486988503E-2},{"$f":"IFERROR('Weekly Metrics'!DT9/'Weekly Metrics'!BT9-1,\"\")","v":8.098521705574524E-2},{"$f":"IFERROR('Weekly Metrics'!DU9/'Weekly Metrics'!BU9-1,\"\")","v":0.14008503311723675},{"$f":"IFERROR('Weekly Metrics'!DV9/'Weekly Metrics'!BV9-1,\"\")","v":0.10703967943151316},{"$f":"IFERROR('Weekly Metrics'!DW9/'Weekly Metrics'!BW9-1,\"\")","v":0.10979166822678366},{"$f":"IFERROR('Weekly Metrics'!DX9/'Weekly Metrics'!BX9-1,\"\")","v":0.13486104961533174},{"$f":"IFERROR('Weekly Metrics'!DY9/'Weekly Metrics'!BY9-1,\"\")","v":9.9911299199555437E-2},{"$f":"IFERROR('Weekly Metrics'!DZ9/'Weekly Metrics'!BZ9-1,\"\")","v":0.12494185219500764},{"$f":"IFERROR('Weekly Metrics'!EA9/'Weekly Metrics'!CA9-1,\"\")","v":0.11710087903840249},{"$f":"IFERROR('Weekly Metrics'!EB9/'Weekly Metrics'!CB9-1,\"\")","v":0.11392884992348717},{"$f":"IFERROR('Weekly Metrics'!EC9/'Weekly Metrics'!CC9-1,\"\")","v":0.1204715591572838},{"$f":"IFERROR('Weekly Metrics'!ED9/'Weekly Metrics'!CD9-1,\"\")","v":0.12630502797518539},{"$f":"IFERROR('Weekly Metrics'!EE9/'Weekly Metrics'!CE9-1,\"\")","v":0.12141412086041536},{"$f":"IFERROR('Weekly Metrics'!EF9/'Weekly Metrics'!CF9-1,\"\")","v":0.14175288568094224},{"$f":"IFERROR('Weekly Metrics'!EG9/'Weekly Metrics'!CG9-1,\"\")","v":0.12897291478441408},{"$f":"IFERROR('Weekly Metrics'!EH9/'Weekly Metrics'!CH9-1,\"\")","v":0.1283070339269694},{"$f":"IFERROR('Weekly Metrics'!EI9/'Weekly Metrics'!CI9-1,\"\")","v":0.13353954237205445},{"$f":"IFERROR('Weekly Metrics'!EJ9/'Weekly Metrics'!CJ9-1,\"\")","v":0.14629868366187582},{"$f":"IFERROR('Weekly Metrics'!EK9/'Weekly Metrics'!CK9-1,\"\")","v":0.15563142580019407},{"$f":"IFERROR('Weekly Metrics'!EL9/'Weekly Metrics'!CL9-1,\"\")","v":0.14945181868894197},{"$f":"IFERROR('Weekly Metrics'!EM9/'Weekly Metrics'!CM9-1,\"\")","v":0.15612802941984882},{"$f":"IFERROR('Weekly Metrics'!EN9/'Weekly Metrics'!CN9-1,\"\")","v":0.16002061457192562},{"$f":"IFERROR('Weekly Metrics'!EO9/'Weekly Metrics'!CO9-1,\"\")","v":0.15624208901417469},{"$f":"IFERROR('Weekly Metrics'!EP9/'Weekly Metrics'!CP9-1,\"\")","v":0.12492590106969481},{"$f":"IFERROR('Weekly Metrics'!EQ9/'Weekly Metrics'!CQ9-1,\"\")","v":0.18851841351319099},{"$f":"IFERROR('Weekly Metrics'!ER9/'Weekly Metrics'!CR9-1,\"\")","v":0.13214615425698306},{"$f":"IFERROR('Weekly Metrics'!ES9/'Weekly Metrics'!CS9-1,\"\")","v":0.12596290133727739},{"$f":"IFERROR('Weekly Metrics'!ET9/'Weekly Metrics'!CT9-1,\"\")","v":0.14254210590088445},{"$f":"IFERROR('Weekly Metrics'!EU9/'Weekly Metrics'!CU9-1,\"\")","v":0.19557682966100298},{"$f":"IFERROR('Weekly Metrics'!EV9/'Weekly Metrics'!CV9-1,\"\")","v":0.15564003702804974},{"$f":"IFERROR('Weekly Metrics'!EW9/'Weekly Metrics'!CW9-1,\"\")","v":0.12104629737366301},{"$f":"IFERROR('Weekly Metrics'!EX9/'Weekly Metrics'!CX9-1,\"\")","v":9.7813141086868116E-2},{"$f":"IFERROR('Weekly Metrics'!EY9/'Weekly Metrics'!CY9-1,\"\")","v":6.2917157169520621E-2},{"$f":"IFERROR('Weekly Metrics'!EZ9/'Weekly Metrics'!CZ9-1,\"\")","v":8.2969898767323524E-2},{"$f":"IFERROR('Weekly Metrics'!FA9/'Weekly Metrics'!DA9-1,\"\")","v":0.12253515744420662},{"$f":"IFERROR('Weekly Metrics'!FB9/'Weekly Metrics'!DB9-1,\"\")","v":0.14627423378671689},{"$f":"IFERROR('Weekly Metrics'!FC9/'Weekly Metrics'!DC9-1,\"\")","v":3.8543219345595681E-2},{"$f":"IFERROR('Weekly Metrics'!FD9/'Weekly Metrics'!DD9-1,\"\")","v":8.4101616369503862E-2},{"$f":"IFERROR('Weekly Metrics'!FE9/'Weekly Metrics'!DE9-1,\"\")","v":6.0012684462256605E-2},{"$f":"IFERROR('Weekly Metrics'!FF9/'Weekly Metrics'!DF9-1,\"\")","v":6.3126093178565768E-2},{"$f":"IFERROR('Weekly Metrics'!FG9/'Weekly Metrics'!DG9-1,\"\")","v":5.7495974678196227E-2},{"$f":"IFERROR('Weekly Metrics'!FH9/'Weekly Metrics'!DH9-1,\"\")","v":7.1997559235227104E-2},{"$f":"IFERROR('Weekly Metrics'!FI9/'Weekly Metrics'!DI9-1,\"\")","v":9.2618761167785557E-2},{"$f":"IFERROR('Weekly Metrics'!FJ9/'Weekly Metrics'!DJ9-1,\"\")","v":0.12233012614844085},{"$f":"IFERROR('Weekly Metrics'!FK9/'Weekly Metrics'!DK9-1,\"\")","v":6.019609901381151E-2},{"$f":"IFERROR('Weekly Metrics'!FL9/'Weekly Metrics'!DL9-1,\"\")","v":9.8525026961872708E-2},{"$f":"IFERROR('Weekly Metrics'!FM9/'Weekly Metrics'!DM9-1,\"\")","v":8.6467958271236878E-2},{"$f":"IFERROR('Weekly Metrics'!FN9/'Weekly Metrics'!DN9-1,\"\")","v":1.2966994269616228E-2},{"$f":"IFERROR('Weekly Metrics'!FO9/'Weekly Metrics'!DO9-1,\"\")","v":1.7764656624698727E-2},{"$f":"IFERROR('Weekly Metrics'!FP9/'Weekly Metrics'!DP9-1,\"\")","v":2.382226635544149E-2},{"$f":"IFERROR('Weekly Metrics'!FQ9/'Weekly Metrics'!DQ9-1,\"\")","v":0.1349280402148465},{"$f":"IFERROR('Weekly Metrics'!FR9/'Weekly Metrics'!DR9-1,\"\")","v":1.8331767442714364E-2},{"$f":"IFERROR('Weekly Metrics'!FS9/'Weekly Metrics'!DS9-1,\"\")","v":2.4536089838109731E-2},{"$f":"IFERROR('Weekly Metrics'!FT9/'Weekly Metrics'!DT9-1,\"\")","v":7.8677963330881173E-2},{"$f":"IFERROR('Weekly Metrics'!FU9/'Weekly Metrics'!DU9-1,\"\")","v":4.6965365797280167E-2},{"$f":"IFERROR('Weekly Metrics'!FV9/'Weekly Metrics'!DV9-1,\"\")","v":5.3874470637695682E-2},{"$f":"IFERROR('Weekly Metrics'!FW9/'Weekly Metrics'!DW9-1,\"\")","v":3.3989942526311934E-2},{"$f":"IFERROR('Weekly Metrics'!FX9/'Weekly Metrics'!DX9-1,\"\")","v":3.0282017688078477E-2},{"$f":"IFERROR('Weekly Metrics'!FY9/'Weekly Metrics'!DY9-1,\"\")","v":3.0059980697356492E-2},{"$f":"IFERROR('Weekly Metrics'!FZ9/'Weekly Metrics'!DZ9-1,\"\")","v":4.423434445613994E-2},{"$f":"IFERROR('Weekly Metrics'!GA9/'Weekly Metrics'!EA9-1,\"\")","v":3.4665350089157387E-2},{"$f":"IFERROR('Weekly Metrics'!GB9/'Weekly Metrics'!EB9-1,\"\")","v":3.7977170888496614E-2},{"$f":"IFERROR('Weekly Metrics'!GC9/'Weekly Metrics'!EC9-1,\"\")","v":1.1671893745066386E-2},{"$f":"IFERROR('Weekly Metrics'!GD9/'Weekly Metrics'!ED9-1,\"\")","v":7.2506176393198229E-2},{"$f":"IFERROR('Weekly Metrics'!GE9/'Weekly Metrics'!EE9-1,\"\")","v":2.8580301732335167E-2},{"$f":"IFERROR('Weekly Metrics'!GF9/'Weekly Metrics'!EF9-1,\"\")","v":3.1126045107770395E-2},{"$f":"IFERROR('Weekly Metrics'!GG9/'Weekly Metrics'!EG9-1,\"\")","v":3.5092618290728961E-2},{"$f":"IFERROR('Weekly Metrics'!GH9/'Weekly Metrics'!EH9-1,\"\")","v":4.3658254451848455E-2},{"$f":"IFERROR('Weekly Metrics'!GI9/'Weekly Metrics'!EI9-1,\"\")","v":2.4105885472080812E-2},{"$f":"IFERROR('Weekly Metrics'!GJ9/'Weekly Metrics'!EJ9-1,\"\")","v":1.6307331374384448E-2},{"$f":"IFERROR('Weekly Metrics'!GK9/'Weekly Metrics'!EK9-1,\"\")","v":2.1585354389922928E-2},{"$f":"IFERROR('Weekly Metrics'!GL9/'Weekly Metrics'!EL9-1,\"\")","v":7.3978095888429518E-3},{"$f":"IFERROR('Weekly Metrics'!GM9/'Weekly Metrics'!EM9-1,\"\")","v":4.0828138475613951E-2},{"$f":"IFERROR('Weekly Metrics'!GN9/'Weekly Metrics'!EN9-1,\"\")","v":2.4957614522456151E-3},{"$f":"IFERROR('Weekly Metrics'!GO9/'Weekly Metrics'!EO9-1,\"\")","v":9.5791842466126376E-3},{"$f":"IFERROR('Weekly Metrics'!GP9/'Weekly Metrics'!EP9-1,\"\")","v":-1.6514591898418529E-2},{"$f":"IFERROR('Weekly Metrics'!GQ9/'Weekly Metrics'!EQ9-1,\"\")","v":2.6784453184096613E-2},{"$f":"IFERROR('Weekly Metrics'!GR9/'Weekly Metrics'!ER9-1,\"\")","v":2.1627568452762036E-2},{"$f":"IFERROR('Weekly Metrics'!GS9/'Weekly Metrics'!ES9-1,\"\")","v":2.5382167136860367E-2},{"$f":"IFERROR('Weekly Metrics'!GT9/'Weekly Metrics'!ET9-1,\"\")","v":-9.7632445820029501E-3},{"$f":"IFERROR('Weekly Metrics'!GU9/'Weekly Metrics'!EU9-1,\"\")","v":2.0984554515712794E-3},{"$f":"IFERROR('Weekly Metrics'!GV9/'Weekly Metrics'!EV9-1,\"\")","v":-9.7025615820246491E-3},{"$f":"IFERROR('Weekly Metrics'!GW9/'Weekly Metrics'!EW9-1,\"\")","v":-2.1136382648461294E-2},{"$f":"IFERROR('Weekly Metrics'!GX9/'Weekly Metrics'!EX9-1,\"\")","v":-1.5893743124790971E-2},{"$f":"IFERROR('Weekly Metrics'!GY9/'Weekly Metrics'!EY9-1,\"\")","v":-2.4331821618516103E-2},{"$f":"IFERROR('Weekly Metrics'!GZ9/'Weekly Metrics'!EZ9-1,\"\")","v":-6.9818823323855028E-3},{"$f":"IFERROR('Weekly Metrics'!HA9/'Weekly Metrics'!FA9-1,\"\")","v":-1.2611562182618719E-2},{"$f":"IFERROR('Weekly Metrics'!HB9/'Weekly Metrics'!FB9-1,\"\")","v":1.4230327813515631E-2},{"$f":"IFERROR('Weekly Metrics'!HC9/'Weekly Metrics'!FC9-1,\"\")","v":-1.4514513642737037E-2},{"$f":"IFERROR('Weekly Metrics'!HD9/'Weekly Metrics'!FD9-1,\"\")","v":1.8252994543634715E-2},{"$f":"IFERROR('Weekly Metrics'!HE9/'Weekly Metrics'!FE9-1,\"\")","v":2.1297341156336191E-2},{"$f":"IFERROR('Weekly Metrics'!HF9/'Weekly Metrics'!FF9-1,\"\")","v":8.9622118328755995E-3},{"$f":"IFERROR('Weekly Metrics'!HG9/'Weekly Metrics'!FG9-1,\"\")","v":-6.5301655036031914E-4},{"$f":"IFERROR('Weekly Metrics'!HH9/'Weekly Metrics'!FH9-1,\"\")","v":3.4339195983807969E-3},{"$f":"IFERROR('Weekly Metrics'!HI9/'Weekly Metrics'!FI9-1,\"\")","v":7.574215091419978E-3},{"$f":"IFERROR('Weekly Metrics'!HJ9/'Weekly Metrics'!FJ9-1,\"\")","v":1.7097336636006988E-2},{"$f":"IFERROR('Weekly Metrics'!HK9/'Weekly Metrics'!FK9-1,\"\")","v":-1.5153625542668747E-3},{"$f":"IFERROR('Weekly Metrics'!HL9/'Weekly Metrics'!FL9-1,\"\")","v":-7.3299049148044526E-3},{"$f":"IFERROR('Weekly Metrics'!HM9/'Weekly Metrics'!FM9-1,\"\")","v":1.081225884225212E-4},{"$f":"IFERROR('Weekly Metrics'!HN9/'Weekly Metrics'!FN9-1,\"\")","v":-3.2741241480876981E-3},{"$f":"IFERROR('Weekly Metrics'!HO9/'Weekly Metrics'!FO9-1,\"\")","v":-7.0161686083141106E-3},{"$f":"IFERROR('Weekly Metrics'!HP9/'Weekly Metrics'!FP9-1,\"\")","v":-1.9739514612940545E-2},{"$f":"IFERROR('Weekly Metrics'!HQ9/'Weekly Metrics'!FQ9-1,\"\")","v":-2.296221352219241E-2},{"$f":"IFERROR('Weekly Metrics'!HR9/'Weekly Metrics'!FR9-1,\"\")","v":-3.5670858611184908E-2},{"$f":"IFERROR('Weekly Metrics'!HS9/'Weekly Metrics'!FS9-1,\"\")","v":1.5625363119959879E-2},{"$f":"IFERROR('Weekly Metrics'!HT9/'Weekly Metrics'!FT9-1,\"\")","v":-6.9594237234664402E-2}]
[{"$f":"IF('Weekly Metrics'!A10=0,\"\",'Weekly Metrics'!A10)","v":"WW-Subs"},{"$f":"IF('Weekly Metrics'!B10=0,\"\",'Weekly Metrics'!B10)","v":"Avg Ticket"},{"$f":"IFERROR('Weekly Metrics'!C10/'Weekly Metrics'!#REF!-1,\"\")","v":""},{"$f":"IFERROR('Weekly Metrics'!D10/'Weekly Metrics'!#REF!-1,\"\")","v":""},{"$f":"IFERROR('Weekly Metrics'!E10/'Weekly Metrics'!#REF!-1,\"\")","v":""},{"$f":"IFERROR('Weekly Metrics'!F10/'Weekly Metrics'!#REF!-1,\"\")","v":""},{"$f":"IFERROR('Weekly Metrics'!G10/'Weekly Metrics'!#REF!-1,\"\")","v":""},{"$f":"IFERROR('Weekly Metrics'!H10/'Weekly Metrics'!#REF!-1,\"\")","v":""},{"$f":"IFERROR('Weekly Metrics'!I10/'Weekly Metrics'!#REF!-1,\"\")","v":""},{"$f":"IFERROR('Weekly Metrics'!J10/'Weekly Metrics'!#REF!-1,\"\")","v":""},{"$f":"IFERROR('Weekly Metrics'!K10/'Weekly Metrics'!#REF!-1,\"\")","v":""},{"$f":"IFERROR('Weekly Metrics'!L10/'Weekly Metrics'!#REF!-1,\"\")","v":""},{"$f":"IFERROR('Weekly Metrics'!M10/'Weekly Metrics'!#REF!-1,\"\")","v":""},{"$f":"IFERROR('Weekly Metrics'!N10/'Weekly Metrics'!#REF!-1,\"\")","v":""},{"$f":"IFERROR('Weekly Metrics'!O10/'Weekly Metrics'!#REF!-1,\"\")","v":""},{"$f":"IFERROR('Weekly Metrics'!P10/'Weekly Metrics'!#REF!-1,\"\")","v":""},{"$f":"IFERROR('Weekly Metrics'!Q10/'Weekly Metrics'!#REF!-1,\"\")","v":""},{"$f":"IFERROR('Weekly Metrics'!R10/'Weekly Metrics'!#REF!-1,\"\")","v":""},{"$f":"IFERROR('Weekly Metrics'!S10/'Weekly Metrics'!#REF!-1,\"\")","v":""},{"$f":"IFERROR('Weekly Metrics'!T10/'Weekly Metrics'!#REF!-1,\"\")","v":""},{"$f":"IFERROR('Weekly Metrics'!U10/'Weekly Metrics'!#REF!-1,\"\")","v":""},{"$f":"IFERROR('Weekly Metrics'!V10/'Weekly Metrics'!#REF!-1,\"\")","v":""},{"$f":"IFERROR('Weekly Metrics'!W10/'Weekly Metrics'!#REF!-1,\"\")","v":""},{"$f":"IFERROR('Weekly Metrics'!X10/'Weekly Metrics'!#REF!-1,\"\")","v":""},{"$f":"IFERROR('Weekly Metrics'!Y10/'Weekly Metrics'!#REF!-1,\"\")","v":""},{"$f":"IFERROR('Weekly Metrics'!Z10/'Weekly Metrics'!#REF!-1,\"\")","v":""},{"$f":"IFERROR('Weekly Metrics'!AA10/'Weekly Metrics'!#REF!-1,\"\")","v":""},{"$f":"IFERROR('Weekly Metrics'!AB10/'Weekly Metrics'!#REF!-1,\"\")","v":""},{"$f":"IFERROR('Weekly Metrics'!AC10/'Weekly Metrics'!#REF!-1,\"\")","v":""},{"$f":"IFERROR('Weekly Metrics'!AD10/'Weekly Metrics'!#REF!-1,\"\")","v":""},{"$f":"IFERROR('Weekly Metrics'!AE10/'Weekly Metrics'!#REF!-1,\"\")","v":""},{"$f":"IFERROR('Weekly Metrics'!AF10/'Weekly Metrics'!#REF!-1,\"\")","v":""},{"$f":"IFERROR('Weekly Metrics'!AG10/'Weekly Metrics'!#REF!-1,\"\")","v":""},{"$f":"IFERROR('Weekly Metrics'!AH10/'Weekly Metrics'!#REF!-1,\"\")","v":""},{"$f":"IFERROR('Weekly Metrics'!AI10/'Weekly Metrics'!#REF!-1,\"\")","v":""},{"$f":"IFERROR('Weekly Metrics'!AJ10/'Weekly Metrics'!#REF!-1,\"\")","v":""},{"$f":"IFERROR('Weekly Metrics'!AK10/'Weekly Metrics'!#REF!-1,\"\")","v":""},{"$f":"IFERROR('Weekly Metrics'!AL10/'Weekly Metrics'!#REF!-1,\"\")","v":""},{"$f":"IFERROR('Weekly Metrics'!AM10/'Weekly Metrics'!#REF!-1,\"\")","v":""},{"$f":"IFERROR('Weekly Metrics'!AN10/'Weekly Metrics'!#REF!-1,\"\")","v":""},{"$f":"IFERROR('Weekly Metrics'!AO10/'Weekly Metrics'!#REF!-1,\"\")","v":""},{"$f":"IFERROR('Weekly Metrics'!AP10/'Weekly Metrics'!#REF!-1,\"\")","v":""},{"$f":"IFERROR('Weekly Metrics'!AQ10/'Weekly Metrics'!#REF!-1,\"\")","v":""},{"$f":"IFERROR('Weekly Metrics'!AR10/'Weekly Metrics'!#REF!-1,\"\")","v":""},{"$f":"IFERROR('Weekly Metrics'!AS10/'Weekly Metrics'!#REF!-1,\"\")","v":""},{"$f":"IFERROR('Weekly Metrics'!AT10/'Weekly Metrics'!#REF!-1,\"\")","v":""},{"$f":"IFERROR('Weekly Metrics'!AU10/'Weekly Metrics'!#REF!-1,\"\")","v":""},{"$f":"IFERROR('Weekly Metrics'!AV10/'Weekly Metrics'!#REF!-1,\"\")","v":""},{"$f":"IFERROR('Weekly Metrics'!AW10/'Weekly Metrics'!#REF!-1,\"\")","v":""},{"$f":"IFERROR('Weekly Metrics'!AX10/'Weekly Metrics'!#REF!-1,\"\")","v":""},{"$f":"IFERROR('Weekly Metrics'!AY10/'Weekly Metrics'!#REF!-1,\"\")","v":""},{"$f":"IFERROR('Weekly Metrics'!AZ10/'Weekly Metrics'!#REF!-1,\"\")","v":""},{"$f":"IFERROR('Weekly Metrics'!BA10/'Weekly Metrics'!A10-1,\"\")","v":""},{"$f":"IFERROR('Weekly Metrics'!BB10/'Weekly Metrics'!B10-1,\"\")","v":""},{"$f":"IFERROR('Weekly Metrics'!BC10/'Weekly Metrics'!C10-1,\"\")","v":-5.6221577550140234E-2},{"$f":"IFERROR('Weekly Metrics'!BD10/'Weekly Metrics'!D10-1,\"\")","v":-7.3563029781002154E-2},{"$f":"IFERROR('Weekly Metrics'!BE10/'Weekly Metrics'!E10-1,\"\")","v":-5.4841402497282976E-2},{"$f":"IFERROR('Weekly Metrics'!BF10/'Weekly Metrics'!F10-1,\"\")","v":-7.0362811865495867E-2},{"$f":"IFERROR('Weekly Metrics'!BG10/'Weekly Metrics'!G10-1,\"\")","v":-3.1879540322478861E-2},{"$f":"IFERROR('Weekly Metrics'!BH10/'Weekly Metrics'!H10-1,\"\")","v":-3.1824519399841655E-2},{"$f":"IFERROR('Weekly Metrics'!BI10/'Weekly Metrics'!I10-1,\"\")","v":-3.3914996363023753E-2},{"$f":"IFERROR('Weekly Metrics'!BJ10/'Weekly Metrics'!J10-1,\"\")","v":-5.3779281790187095E-2},{"$f":"IFERROR('Weekly Metrics'!BK10/'Weekly Metrics'!K10-1,\"\")","v":-3.0831394213997498E-2},{"$f":"IFERROR('Weekly Metrics'!BL10/'Weekly Metrics'!L10-1,\"\")","v":-3.4613731467125208E-2},{"$f":"IFERROR('Weekly Metrics'!BM10/'Weekly Metrics'!M10-1,\"\")","v":-3.7207362383392395E-2},{"$f":"IFERROR('Weekly Metrics'!BN10/'Weekly Metrics'!N10-1,\"\")","v":-1.6771163464978867E-2},{"$f":"IFERROR('Weekly Metrics'!BO10/'Weekly Metrics'!O10-1,\"\")","v":2.0948456483952604E-2},{"$f":"IFERROR('Weekly Metrics'!BP10/'Weekly Metrics'!P10-1,\"\")","v":-6.8237419435337454E-3},{"$f":"IFERROR('Weekly Metrics'!BQ10/'Weekly Metrics'!Q10-1,\"\")","v":2.7890565228410047E-3},{"$f":"IFERROR('Weekly Metrics'!BR10/'Weekly Metrics'!R10-1,\"\")","v":-1.0911719432652567E-2},{"$f":"IFERROR('Weekly Metrics'!BS10/'Weekly Metrics'!S10-1,\"\")","v":-1.8276483627599482E-4},{"$f":"IFERROR('Weekly Metrics'!BT10/'Weekly Metrics'!T10-1,\"\")","v":1.8390746907650524E-2},{"$f":"IFERROR('Weekly Metrics'!BU10/'Weekly Metrics'!U10-1,\"\")","v":-8.3892246465034903E-3},{"$f":"IFERROR('Weekly Metrics'!BV10/'Weekly Metrics'!V10-1,\"\")","v":-3.7303862655482134E-2},{"$f":"IFERROR('Weekly Metrics'!BW10/'Weekly Metrics'!W10-1,\"\")","v":-1.0990362357094052E-2},{"$f":"IFERROR('Weekly Metrics'!BX10/'Weekly Metrics'!X10-1,\"\")","v":1.4484285219985793E-2},{"$f":"IFERROR('Weekly Metrics'!BY10/'Weekly Metrics'!Y10-1,\"\")","v":-2.8581625719498627E-2},{"$f":"IFERROR('Weekly Metrics'!BZ10/'Weekly Metrics'!Z10-1,\"\")","v":-5.7732084489177882E-2},{"$f":"IFERROR('Weekly Metrics'!CA10/'Weekly Metrics'!AA10-1,\"\")","v":-5.0180907237047601E-2},{"$f":"IFERROR('Weekly Metrics'!CB10/'Weekly Metrics'!AB10-1,\"\")","v":-2.4069138889025732E-2},{"$f":"IFERROR('Weekly Metrics'!CC10/'Weekly Metrics'!AC10-1,\"\")","v":-4.4489603511311815E-3},{"$f":"IFERROR('Weekly Metrics'!CD10/'Weekly Metrics'!AD10-1,\"\")","v":-5.6213214406572676E-2},{"$f":"IFERROR('Weekly Metrics'!CE10/'Weekly Metrics'!AE10-1,\"\")","v":-6.9164784658887535E-2},{"$f":"IFERROR('Weekly Metrics'!CF10/'Weekly Metrics'!AF10-1,\"\")","v":-2.4121510776751287E-2},{"$f":"IFERROR('Weekly Metrics'!CG10/'Weekly Metrics'!AG10-1,\"\")","v":-1.4702291337769791E-2},{"$f":"IFERROR('Weekly Metrics'!CH10/'Weekly Metrics'!AH10-1,\"\")","v":-5.081735309985469E-2},{"$f":"IFERROR('Weekly Metrics'!CI10/'Weekly Metrics'!AI10-1,\"\")","v":-7.1706812421544641E-2},{"$f":"IFERROR('Weekly Metrics'!CJ10/'Weekly Metrics'!AJ10-1,\"\")","v":-4.8536617594549858E-2},{"$f":"IFERROR('Weekly Metrics'!CK10/'Weekly Metrics'!AK10-1,\"\")","v":-2.3017000666772924E-2},{"$f":"IFERROR('Weekly Metrics'!CL10/'Weekly Metrics'!AL10-1,\"\")","v":-6.7229976936425073E-2},{"$f":"IFERROR('Weekly Metrics'!CM10/'Weekly Metrics'!AM10-1,\"\")","v":-6.666227986080242E-2},{"$f":"IFERROR('Weekly Metrics'!CN10/'Weekly Metrics'!AN10-1,\"\")","v":-4.7924590880337514E-2},{"$f":"IFERROR('Weekly Metrics'!CO10/'Weekly Metrics'!AO10-1,\"\")","v":-2.7965561167075381E-2},{"$f":"IFERROR('Weekly Metrics'!CP10/'Weekly Metrics'!AP10-1,\"\")","v":-4.3426398257500942E-2},{"$f":"IFERROR('Weekly Metrics'!CQ10/'Weekly Metrics'!AQ10-1,\"\")","v":-6.0221235571517484E-2},{"$f":"IFERROR('Weekly Metrics'!CR10/'Weekly Metrics'!AR10-1,\"\")","v":-4.8968894568871657E-2},{"$f":"IFERROR('Weekly Metrics'!CS10/'Weekly Metrics'!AS10-1,\"\")","v":-1.3564436731545948E-2},{"$f":"IFERROR('Weekly Metrics'!CT10/'Weekly Metrics'!AT10-1,\"\")","v":-7.1124049547348633E-3},{"$f":"IFERROR('Weekly Metrics'!CU10/'Weekly Metrics'!AU10-1,\"\")","v":-9.8020328264674439E-2},{"$f":"IFERROR('Weekly Metrics'!CV10/'Weekly Metrics'!AV10-1,\"\")","v":-4.9085960253545835E-2},{"$f":"IFERROR('Weekly Metrics'!CW10/'Weekly Metrics'!AW10-1,\"\")","v":-4.6290430820078554E-2},{"$f":"IFERROR('Weekly Metrics'!CX10/'Weekly Metrics'!AX10-1,\"\")","v":-5.3249746206041948E-2},{"$f":"IFERROR('Weekly Metrics'!CY10/'Weekly Metrics'!AY10-1,\"\")","v":-7.2896570301421049E-2},{"$f":"IFERROR('Weekly Metrics'!CZ10/'Weekly Metrics'!AZ10-1,\"\")","v":-3.8700226821168582E-2},{"$f":"IFERROR('Weekly Metrics'!DA10/'Weekly Metrics'!BA10-1,\"\")","v":-4.1338540974947713E-2},{"$f":"IFERROR('Weekly Metrics'!DB10/'Weekly Metrics'!BB10-1,\"\")","v":-6.5121414625894491E-2},{"$f":"IFERROR('Weekly Metrics'!DC10/'Weekly Metrics'!BC10-1,\"\")","v":-0.11084436802670317},{"$f":"IFERROR('Weekly Metrics'!DD10/'Weekly Metrics'!BD10-1,\"\")","v":-8.0081040666963865E-2},{"$f":"IFERROR('Weekly Metrics'!DE10/'Weekly Metrics'!BE10-1,\"\")","v":-3.4276089882199878E-2},{"$f":"IFERROR('Weekly Metrics'!DF10/'Weekly Metrics'!BF10-1,\"\")","v":1.4563817510434784E-2},{"$f":"IFERROR('Weekly Metrics'!DG10/'Weekly Metrics'!BG10-1,\"\")","v":-2.2027601392339613E-2},{"$f":"IFERROR('Weekly Metrics'!DH10/'Weekly Metrics'!BH10-1,\"\")","v":-9.2005548548153127E-2},{"$f":"IFERROR('Weekly Metrics'!DI10/'Weekly Metrics'!BI10-1,\"\")","v":-5.3706313572872588E-2},{"$f":"IFERROR('Weekly Metrics'!DJ10/'Weekly Metrics'!BJ10-1,\"\")","v":-1.4515644692244756E-2},{"$f":"IFERROR('Weekly Metrics'!DK10/'Weekly Metrics'!BK10-1,\"\")","v":-5.0251050441246115E-2},{"$f":"IFERROR('Weekly Metrics'!DL10/'Weekly Metrics'!BL10-1,\"\")","v":-0.11462542619991467},{"$f":"IFERROR('Weekly Metrics'!DM10/'Weekly Metrics'!BM10-1,\"\")","v":-3.3372925314305135E-2},{"$f":"IFERROR('Weekly Metrics'!DN10/'Weekly Metrics'!BN10-1,\"\")","v":-5.6587013122948671E-2},{"$f":"IFERROR('Weekly Metrics'!DO10/'Weekly Metrics'!BO10-1,\"\")","v":-6.9415771553268057E-2},{"$f":"IFERROR('Weekly Metrics'!DP10/'Weekly Metrics'!BP10-1,\"\")","v":-0.11689126438454478},{"$f":"IFERROR('Weekly Metrics'!DQ10/'Weekly Metrics'!BQ10-1,\"\")","v":-7.6576811916628462E-2},{"$f":"IFERROR('Weekly Metrics'!DR10/'Weekly Metrics'!BR10-1,\"\")","v":-6.769107903092797E-2},{"$f":"IFERROR('Weekly Metrics'!DS10/'Weekly Metrics'!BS10-1,\"\")","v":-9.1936967556054627E-2},{"$f":"IFERROR('Weekly Metrics'!DT10/'Weekly Metrics'!BT10-1,\"\")","v":-0.11725643563877397},{"$f":"IFERROR('Weekly Metrics'!DU10/'Weekly Metrics'!BU10-1,\"\")","v":-0.13416723271339026},{"$f":"IFERROR('Weekly Metrics'!DV10/'Weekly Metrics'!BV10-1,\"\")","v":-6.3304075555998263E-2},{"$f":"IFERROR('Weekly Metrics'!DW10/'Weekly Metrics'!BW10-1,\"\")","v":-6.2644753844529499E-2},{"$f":"IFERROR('Weekly Metrics'!DX10/'Weekly Metrics'!BX10-1,\"\")","v":-0.10656334365075881},{"$f":"IFERROR('Weekly Metrics'!DY10/'Weekly Metrics'!BY10-1,\"\")","v":-0.11452489960351386},{"$f":"IFERROR('Weekly Metrics'!DZ10/'Weekly Metrics'!BZ10-1,\"\")","v":-4.6928911579297572E-2},{"$f":"IFERROR('Weekly Metrics'!EA10/'Weekly Metrics'!CA10-1,\"\")","v":-3.0353537883070159E-2},{"$f":"IFERROR('Weekly Metrics'!EB10/'Weekly Metrics'!CB10-1,\"\")","v":-6.9686633255405361E-2},{"$f":"IFERROR('Weekly Metrics'!EC10/'Weekly Metrics'!CC10-1,\"\")","v":-0.12430493435656909},{"$f":"IFERROR('Weekly Metrics'!ED10/'Weekly Metrics'!CD10-1,\"\")","v":-7.2154033348675428E-2},{"$f":"IFERROR('Weekly Metrics'!EE10/'Weekly Metrics'!CE10-1,\"\")","v":-3.3181356123328287E-2},{"$f":"IFERROR('Weekly Metrics'!EF10/'Weekly Metrics'!CF10-1,\"\")","v":-4.6145952667300705E-2},{"$f":"IFERROR('Weekly Metrics'!EG10/'Weekly Metrics'!CG10-1,\"\")","v":-5.7144374844748769E-2},{"$f":"IFERROR('Weekly Metrics'!EH10/'Weekly Metrics'!CH10-1,\"\")","v":-7.1478209273754478E-2},{"$f":"IFERROR('Weekly Metrics'!EI10/'Weekly Metrics'!CI10-1,\"\")","v":-1.5745271052853282E-2},{"$f":"IFERROR('Weekly Metrics'!EJ10/'Weekly Metrics'!CJ10-1,\"\")","v":-1.5257027355238817E-2},{"$f":"IFERROR('Weekly Metrics'!EK10/'Weekly Metrics'!CK10-1,\"\")","v":-2.3258989560462351E-2},{"$f":"IFERROR('Weekly Metrics'!EL10/'Weekly Metrics'!CL10-1,\"\")","v":-4.2205821754062511E-2},{"$f":"IFERROR('Weekly Metrics'!EM10/'Weekly Metrics'!CM10-1,\"\")","v":-2.0542598435352444E-2},{"$f":"IFERROR('Weekly Metrics'!EN10/'Weekly Metrics'!CN10-1,\"\")","v":-6.75713455626481E-3},{"$f":"IFERROR('Weekly Metrics'!EO10/'Weekly Metrics'!CO10-1,\"\")","v":-3.0036400214441095E-2},{"$f":"IFERROR('Weekly Metrics'!EP10/'Weekly Metrics'!CP10-1,\"\")","v":-1.443179533742811E-2},{"$f":"IFERROR('Weekly Metrics'!EQ10/'Weekly Metrics'!CQ10-1,\"\")","v":-4.388813932905733E-2},{"$f":"IFERROR('Weekly Metrics'!ER10/'Weekly Metrics'!CR10-1,\"\")","v":-1.2056810110642191E-2},{"$f":"IFERROR('Weekly Metrics'!ES10/'Weekly Metrics'!CS10-1,\"\")","v":-1.6227707175983763E-2},{"$f":"IFERROR('Weekly Metrics'!ET10/'Weekly Metrics'!CT10-1,\"\")","v":-1.3184677579323179E-3},{"$f":"IFERROR('Weekly Metrics'!EU10/'Weekly Metrics'!CU10-1,\"\")","v":-1.1941606246972047E-2},{"$f":"IFERROR('Weekly Metrics'!EV10/'Weekly Metrics'!CV10-1,\"\")","v":1.5729291351763708E-2},{"$f":"IFERROR('Weekly Metrics'!EW10/'Weekly Metrics'!CW10-1,\"\")","v":-1.4393301593332852E-3},{"$f":"IFERROR('Weekly Metrics'!EX10/'Weekly Metrics'!CX10-1,\"\")","v":-1.3249725415257485E-3},{"$f":"IFERROR('Weekly Metrics'!EY10/'Weekly Metrics'!CY10-1,\"\")","v":1.7626735529791215E-2},{"$f":"IFERROR('Weekly Metrics'!EZ10/'Weekly Metrics'!CZ10-1,\"\")","v":-1.4888634520051403E-2},{"$f":"IFERROR('Weekly Metrics'!FA10/'Weekly Metrics'!DA10-1,\"\")","v":1.6663927152448466E-2},{"$f":"IFERROR('Weekly Metrics'!FB10/'Weekly Metrics'!DB10-1,\"\")","v":5.4220301383942626E-3},{"$f":"IFERROR('Weekly Metrics'!FC10/'Weekly Metrics'!DC10-1,\"\")","v":6.461980281425217E-2},{"$f":"IFERROR('Weekly Metrics'!FD10/'Weekly Metrics'!DD10-1,\"\")","v":8.9115522348415244E-3},{"$f":"IFERROR('Weekly Metrics'!FE10/'Weekly Metrics'!DE10-1,\"\")","v":7.2109046651935849E-4},{"$f":"IFERROR('Weekly Metrics'!FF10/'Weekly Metrics'!DF10-1,\"\")","v":-2.5409624248431406E-3},{"$f":"IFERROR('Weekly Metrics'!FG10/'Weekly Metrics'!DG10-1,\"\")","v":-2.2255893254926162E-2},{"$f":"IFERROR('Weekly Metrics'!FH10/'Weekly Metrics'!DH10-1,\"\")","v":-1.54509498694686E-2},{"$f":"IFERROR('Weekly Metrics'!FI10/'Weekly Metrics'!DI10-1,\"\")","v":-2.1089433994367579E-2},{"$f":"IFERROR('Weekly Metrics'!FJ10/'Weekly Metrics'!DJ10-1,\"\")","v":1.1254452468359544E-2},{"$f":"IFERROR('Weekly Metrics'!FK10/'Weekly Metrics'!DK10-1,\"\")","v":-1.8157993120307414E-2},{"$f":"IFERROR('Weekly Metrics'!FL10/'Weekly Metrics'!DL10-1,\"\")","v":-1.2014218204459137E-2},{"$f":"IFERROR('Weekly Metrics'!FM10/'Weekly Metrics'!DM10-1,\"\")","v":-3.5129047628462695E-2},{"$f":"IFERROR('Weekly Metrics'!FN10/'Weekly Metrics'!DN10-1,\"\")","v":9.5065754427134941E-3},{"$f":"IFERROR('Weekly Metrics'!FO10/'Weekly Metrics'!DO10-1,\"\")","v":-2.6736892459980233E-2},{"$f":"IFERROR('Weekly Metrics'!FP10/'Weekly Metrics'!DP10-1,\"\")","v":4.2492076370808096E-2},{"$f":"IFERROR('Weekly Metrics'!FQ10/'Weekly Metrics'!DQ10-1,\"\")","v":-5.3456344982722892E-2},{"$f":"IFERROR('Weekly Metrics'!FR10/'Weekly Metrics'!DR10-1,\"\")","v":4.562539606911109E-3},{"$f":"IFERROR('Weekly Metrics'!FS10/'Weekly Metrics'!DS10-1,\"\")","v":-2.7436044040965668E-2},{"$f":"IFERROR('Weekly Metrics'!FT10/'Weekly Metrics'!DT10-1,\"\")","v":8.2571024862883036E-3},{"$f":"IFERROR('Weekly Metrics'!FU10/'Weekly Metrics'!DU10-1,\"\")","v":4.1599626174821935E-3},{"$f":"IFERROR('Weekly Metrics'!FV10/'Weekly Metrics'!DV10-1,\"\")","v":1.8320839876100337E-2},{"$f":"IFERROR('Weekly Metrics'!FW10/'Weekly Metrics'!DW10-1,\"\")","v":-1.1185231011834662E-2},{"$f":"IFERROR('Weekly Metrics'!FX10/'Weekly Metrics'!DX10-1,\"\")","v":-1.9851245673225271E-2},{"$f":"IFERROR('Weekly Metrics'!FY10/'Weekly Metrics'!DY10-1,\"\")","v":5.4799310473352403E-3},{"$f":"IFERROR('Weekly Metrics'!FZ10/'Weekly Metrics'!DZ10-1,\"\")","v":1.1457957801292551E-2},{"$f":"IFERROR('Weekly Metrics'!GA10/'Weekly Metrics'!EA10-1,\"\")","v":1.4998580238250403E-2},{"$f":"IFERROR('Weekly Metrics'!GB10/'Weekly Metrics'!EB10-1,\"\")","v":-1.948898271896482E-3},{"$f":"IFERROR('Weekly Metrics'!GC10/'Weekly Metrics'!EC10-1,\"\")","v":2.5270562464413171E-2},{"$f":"IFERROR('Weekly Metrics'!GD10/'Weekly Metrics'!ED10-1,\"\")","v":-2.9364121731524251E-2},{"$f":"IFERROR('Weekly Metrics'!GE10/'Weekly Metrics'!EE10-1,\"\")","v":4.2138899821708709E-2},{"$f":"IFERROR('Weekly Metrics'!GF10/'Weekly Metrics'!EF10-1,\"\")","v":1.3706675385455336E-2},{"$f":"IFERROR('Weekly Metrics'!GG10/'Weekly Metrics'!EG10-1,\"\")","v":5.0028209503811816E-3},{"$f":"IFERROR('Weekly Metrics'!GH10/'Weekly Metrics'!EH10-1,\"\")","v":1.0000775844183796E-2},{"$f":"IFERROR('Weekly Metrics'!GI10/'Weekly Metrics'!EI10-1,\"\")","v":2.3184180227108664E-2},{"$f":"IFERROR('Weekly Metrics'!GJ10/'Weekly Metrics'!EJ10-1,\"\")","v":3.6501705213127345E-2},{"$f":"IFERROR('Weekly Metrics'!GK10/'Weekly Metrics'!EK10-1,\"\")","v":3.6858266583854604E-3},{"$f":"IFERROR('Weekly Metrics'!GL10/'Weekly Metrics'!EL10-1,\"\")","v":2.6615745174897398E-2},{"$f":"IFERROR('Weekly Metrics'!GM10/'Weekly Metrics'!EM10-1,\"\")","v":-5.2555275278542979E-3},{"$f":"IFERROR('Weekly Metrics'!GN10/'Weekly Metrics'!EN10-1,\"\")","v":2.714909958012468E-2},{"$f":"IFERROR('Weekly Metrics'!GO10/'Weekly Metrics'!EO10-1,\"\")","v":3.7815089790342427E-2},{"$f":"IFERROR('Weekly Metrics'!GP10/'Weekly Metrics'!EP10-1,\"\")","v":1.5566327181331552E-2},{"$f":"IFERROR('Weekly Metrics'!GQ10/'Weekly Metrics'!EQ10-1,\"\")","v":-1.1434337223529933E-2},{"$f":"IFERROR('Weekly Metrics'!GR10/'Weekly Metrics'!ER10-1,\"\")","v":1.3240272042837287E-2},{"$f":"IFERROR('Weekly Metrics'!GS10/'Weekly Metrics'!ES10-1,\"\")","v":8.5721408491417961E-2},{"$f":"IFERROR('Weekly Metrics'!GT10/'Weekly Metrics'!ET10-1,\"\")","v":4.5095949245962164E-2},{"$f":"IFERROR('Weekly Metrics'!GU10/'Weekly Metrics'!EU10-1,\"\")","v":1.9703012795603492E-2},{"$f":"IFERROR('Weekly Metrics'!GV10/'Weekly Metrics'!EV10-1,\"\")","v":-5.7618643312801754E-2},{"$f":"IFERROR('Weekly Metrics'!GW10/'Weekly Metrics'!EW10-1,\"\")","v":3.3703010822332846E-2},{"$f":"IFERROR('Weekly Metrics'!GX10/'Weekly Metrics'!EX10-1,\"\")","v":4.9372656445215268E-2},{"$f":"IFERROR('Weekly Metrics'!GY10/'Weekly Metrics'!EY10-1,\"\")","v":-1.1132131376602183E-2},{"$f":"IFERROR('Weekly Metrics'!GZ10/'Weekly Metrics'!EZ10-1,\"\")","v":-6.912152297690255E-2},{"$f":"IFERROR('Weekly Metrics'!HA10/'Weekly Metrics'!FA10-1,\"\")","v":-4.6652197168082554E-2},{"$f":"IFERROR('Weekly Metrics'!HB10/'Weekly Metrics'!FB10-1,\"\")","v":4.8075317132058704E-2},{"$f":"IFERROR('Weekly Metrics'!HC10/'Weekly Metrics'!FC10-1,\"\")","v":-7.1435352495746507E-2},{"$f":"IFERROR('Weekly Metrics'!HD10/'Weekly Metrics'!FD10-1,\"\")","v":-0.11190369737976658},{"$f":"IFERROR('Weekly Metrics'!HE10/'Weekly Metrics'!FE10-1,\"\")","v":-5.1688889942915428E-2},{"$f":"IFERROR('Weekly Metrics'!HF10/'Weekly Metrics'!FF10-1,\"\")","v":-2.1591577382041982E-2},{"$f":"IFERROR('Weekly Metrics'!HG10/'Weekly Metrics'!FG10-1,\"\")","v":-2.522275973101884E-2},{"$f":"IFERROR('Weekly Metrics'!HH10/'Weekly Metrics'!FH10-1,\"\")","v":-0.10627350966385207},{"$f":"IFERROR('Weekly Metrics'!HI10/'Weekly Metrics'!FI10-1,\"\")","v":-8.5610297167534544E-2},{"$f":"IFERROR('Weekly Metrics'!HJ10/'Weekly Metrics'!FJ10-1,\"\")","v":-5.089051437215486E-2},{"$f":"IFERROR('Weekly Metrics'!HK10/'Weekly Metrics'!FK10-1,\"\")","v":3.642903560139521E-3},{"$f":"IFERROR('Weekly Metrics'!HL10/'Weekly Metrics'!FL10-1,\"\")","v":-6.8763688812596202E-2},{"$f":"IFERROR('Weekly Metrics'!HM10/'Weekly Metrics'!FM10-1,\"\")","v":-9.7993129166011883E-2},{"$f":"IFERROR('Weekly Metrics'!HN10/'Weekly Metrics'!FN10-1,\"\")","v":-4.8552588715448319E-2},{"$f":"IFERROR('Weekly Metrics'!HO10/'Weekly Metrics'!FO10-1,\"\")","v":-1.8893854308595248E-2},{"$f":"IFERROR('Weekly Metrics'!HP10/'Weekly Metrics'!FP10-1,\"\")","v":-0.15504426677551009},{"$f":"IFERROR('Weekly Metrics'!HQ10/'Weekly Metrics'!FQ10-1,\"\")","v":-9.1037142535264182E-2},{"$f":"IFERROR('Weekly Metrics'!HR10/'Weekly Metrics'!FR10-1,\"\")","v":-0.10852064010425877},{"$f":"IFERROR('Weekly Metrics'!HS10/'Weekly Metrics'!FS10-1,\"\")","v":-1.2427463834413732E-2},{"$f":"IFERROR('Weekly Metrics'!HT10/'Weekly Metrics'!FT10-1,\"\")","v":-8.7745374799916398E-2}]
[{"$f":"IF('Weekly Metrics'!A11=0,\"\",'Weekly Metrics'!A11)","v":"ADT"},{"$f":"IF('Weekly Metrics'!B11=0,\"\",'Weekly Metrics'!B11)","v":"Panel Sales"},{"$f":"IFERROR('Weekly Metrics'!C11/'Weekly Metrics'!#REF!-1,\"\")","v":""},{"$f":"IFERROR('Weekly Metrics'!D11/'Weekly Metrics'!#REF!-1,\"\")","v":""},{"$f":"IFERROR('Weekly Metrics'!E11/'Weekly Metrics'!#REF!-1,\"\")","v":""},{"$f":"IFERROR('Weekly Metrics'!F11/'Weekly Metrics'!#REF!-1,\"\")","v":""},{"$f":"IFERROR('Weekly Metrics'!G11/'Weekly Metrics'!#REF!-1,\"\")","v":""},{"$f":"IFERROR('Weekly Metrics'!H11/'Weekly Metrics'!#REF!-1,\"\")","v":""},{"$f":"IFERROR('Weekly Metrics'!I11/'Weekly Metrics'!#REF!-1,\"\")","v":""},{"$f":"IFERROR('Weekly Metrics'!J11/'Weekly Metrics'!#REF!-1,\"\")","v":""},{"$f":"IFERROR('Weekly Metrics'!K11/'Weekly Metrics'!#REF!-1,\"\")","v":""},{"$f":"IFERROR('Weekly Metrics'!L11/'Weekly Metrics'!#REF!-1,\"\")","v":""},{"$f":"IFERROR('Weekly Metrics'!M11/'Weekly Metrics'!#REF!-1,\"\")","v":""},{"$f":"IFERROR('Weekly Metrics'!N11/'Weekly Metrics'!#REF!-1,\"\")","v":""},{"$f":"IFERROR('Weekly Metrics'!O11/'Weekly Metrics'!#REF!-1,\"\")","v":""},{"$f":"IFERROR('Weekly Metrics'!P11/'Weekly Metrics'!#REF!-1,\"\")","v":""},{"$f":"IFERROR('Weekly Metrics'!Q11/'Weekly Metrics'!#REF!-1,\"\")","v":""},{"$f":"IFERROR('Weekly Metrics'!R11/'Weekly Metrics'!#REF!-1,\"\")","v":""},{"$f":"IFERROR('Weekly Metrics'!S11/'Weekly Metrics'!#REF!-1,\"\")","v":""},{"$f":"IFERROR('Weekly Metrics'!T11/'Weekly Metrics'!#REF!-1,\"\")","v":""},{"$f":"IFERROR('Weekly Metrics'!U11/'Weekly Metrics'!#REF!-1,\"\")","v":""},{"$f":"IFERROR('Weekly Metrics'!V11/'Weekly Metrics'!#REF!-1,\"\")","v":""},{"$f":"IFERROR('Weekly Metrics'!W11/'Weekly Metrics'!#REF!-1,\"\")","v":""},{"$f":"IFERROR('Weekly Metrics'!X11/'Weekly Metrics'!#REF!-1,\"\")","v":""},{"$f":"IFERROR('Weekly Metrics'!Y11/'Weekly Metrics'!#REF!-1,\"\")","v":""},{"$f":"IFERROR('Weekly Metrics'!Z11/'Weekly Metrics'!#REF!-1,\"\")","v":""},{"$f":"IFERROR('Weekly Metrics'!AA11/'Weekly Metrics'!#REF!-1,\"\")","v":""},{"$f":"IFERROR('Weekly Metrics'!AB11/'Weekly Metrics'!#REF!-1,\"\")","v":""},{"$f":"IFERROR('Weekly Metrics'!AC11/'Weekly Metrics'!#REF!-1,\"\")","v":""},{"$f":"IFERROR('Weekly Metrics'!AD11/'Weekly Metrics'!#REF!-1,\"\")","v":""},{"$f":"IFERROR('Weekly Metrics'!AE11/'Weekly Metrics'!#REF!-1,\"\")","v":""},{"$f":"IFERROR('Weekly Metrics'!AF11/'Weekly Metrics'!#REF!-1,\"\")","v":""},{"$f":"IFERROR('Weekly Metrics'!AG11/'Weekly Metrics'!#REF!-1,\"\")","v":""},{"$f":"IFERROR('Weekly Metrics'!AH11/'Weekly Metrics'!#REF!-1,\"\")","v":""},{"$f":"IFERROR('Weekly Metrics'!AI11/'Weekly Metrics'!#REF!-1,\"\")","v":""},{"$f":"IFERROR('Weekly Metrics'!AJ11/'Weekly Metrics'!#REF!-1,\"\")","v":""},{"$f":"IFERROR('Weekly Metrics'!AK11/'Weekly Metrics'!#REF!-1,\"\")","v":""},{"$f":"IFERROR('Weekly Metrics'!AL11/'Weekly Metrics'!#REF!-1,\"\")","v":""},{"$f":"IFERROR('Weekly Metrics'!AM11/'Weekly Metrics'!#REF!-1,\"\")","v":""},{"$f":"IFERROR('Weekly Metrics'!AN11/'Weekly Metrics'!#REF!-1,\"\")","v":""},{"$f":"IFERROR('Weekly Metrics'!AO11/'Weekly Metrics'!#REF!-1,\"\")","v":""},{"$f":"IFERROR('Weekly Metrics'!AP11/'Weekly Metrics'!#REF!-1,\"\")","v":""},{"$f":"IFERROR('Weekly Metrics'!AQ11/'Weekly Metrics'!#REF!-1,\"\")","v":""},{"$f":"IFERROR('Weekly Metrics'!AR11/'Weekly Metrics'!#REF!-1,\"\")","v":""},{"$f":"IFERROR('Weekly Metrics'!AS11/'Weekly Metrics'!#REF!-1,\"\")","v":""},{"$f":"IFERROR('Weekly Metrics'!AT11/'Weekly Metrics'!#REF!-1,\"\")","v":""},{"$f":"IFERROR('Weekly Metrics'!AU11/'Weekly Metrics'!#REF!-1,\"\")","v":""},{"$f":"IFERROR('Weekly Metrics'!AV11/'Weekly Metrics'!#REF!-1,\"\")","v":""},{"$f":"IFERROR('Weekly Metrics'!AW11/'Weekly Metrics'!#REF!-1,\"\")","v":""},{"$f":"IFERROR('Weekly Metrics'!AX11/'Weekly Metrics'!#REF!-1,\"\")","v":""},{"$f":"IFERROR('Weekly Metrics'!AY11/'Weekly Metrics'!#REF!-1,\"\")","v":""},{"$f":"IFERROR('Weekly Metrics'!AZ11/'Weekly Metrics'!#REF!-1,\"\")","v":""},{"$f":"IFERROR('Weekly Metrics'!BA11/'Weekly Metrics'!A11-1,\"\")","v":""},{"$f":"IFERROR('Weekly Metrics'!BB11/'Weekly Metrics'!B11-1,\"\")","v":""},{"$f":"IFERROR('Weekly Metrics'!BC11/'Weekly Metrics'!C11-1,\"\")","v":9.3363613979751348E-2},{"$f":"IFERROR('Weekly Metrics'!BD11/'Weekly Metrics'!D11-1,\"\")","v":0.1022599763765597},{"$f":"IFERROR('Weekly Metrics'!BE11/'Weekly Metrics'!E11-1,\"\")","v":2.7172871140359822E-2},{"$f":"IFERROR('Weekly Metrics'!BF11/'Weekly Metrics'!F11-1,\"\")","v":9.3073151303078694E-2},{"$f":"IFERROR('Weekly Metrics'!BG11/'Weekly Metrics'!G11-1,\"\")","v":4.6593928980078747E-2},{"$f":"IFERROR('Weekly Metrics'!BH11/'Weekly Metrics'!H11-1,\"\")","v":0.13632290770446187},{"$f":"IFERROR('Weekly Metrics'!BI11/'Weekly Metrics'!I11-1,\"\")","v":-4.0158233174658498E-2},{"$f":"IFERROR('Weekly Metrics'!BJ11/'Weekly Metrics'!J11-1,\"\")","v":6.103560442578293E-2},{"$f":"IFERROR('Weekly Metrics'!BK11/'Weekly Metrics'!K11-1,\"\")","v":-0.13503073666140719},{"$f":"IFERROR('Weekly Metrics'!BL11/'Weekly Metrics'!L11-1,\"\")","v":0.15453802719645693},{"$f":"IFERROR('Weekly Metrics'!BM11/'Weekly Metrics'!M11-1,\"\")","v":-3.0424999751316406E-2},{"$f":"IFERROR('Weekly Metrics'!BN11/'Weekly Metrics'!N11-1,\"\")","v":-1.7816115243256325E-2},{"$f":"IFERROR('Weekly Metrics'!BO11/'Weekly Metrics'!O11-1,\"\")","v":-3.7575774005087492E-3},{"$f":"IFERROR('Weekly Metrics'!BP11/'Weekly Metrics'!P11-1,\"\")","v":2.5789678902391033E-2},{"$f":"IFERROR('Weekly Metrics'!BQ11/'Weekly Metrics'!Q11-1,\"\")","v":3.4441870842450317E-2},{"$f":"IFERROR('Weekly Metrics'!BR11/'Weekly Metrics'!R11-1,\"\")","v":-1.1974882629650296E-2},{"$f":"IFERROR('Weekly Metrics'!BS11/'Weekly Metrics'!S11-1,\"\")","v":4.936680374708069E-2},{"$f":"IFERROR('Weekly Metrics'!BT11/'Weekly Metrics'!T11-1,\"\")","v":-7.0012941090240699E-2},{"$f":"IFERROR('Weekly Metrics'!BU11/'Weekly Metrics'!U11-1,\"\")","v":0.12960150529968462},{"$f":"IFERROR('Weekly Metrics'!BV11/'Weekly Metrics'!V11-1,\"\")","v":6.7811775068351565E-3},{"$f":"IFERROR('Weekly Metrics'!BW11/'Weekly Metrics'!W11-1,\"\")","v":3.2920587009076741E-2},{"$f":"IFERROR('Weekly Metrics'!BX11/'Weekly Metrics'!X11-1,\"\")","v":5.5833682969512077E-2},{"$f":"IFERROR('Weekly Metrics'!BY11/'Weekly Metrics'!Y11-1,\"\")","v":6.1723766921256473E-2},{"$f":"IFERROR('Weekly Metrics'!BZ11/'Weekly Metrics'!Z11-1,\"\")","v":3.5535300900785716E-2},{"$f":"IFERROR('Weekly Metrics'!CA11/'Weekly Metrics'!AA11-1,\"\")","v":-2.7806267643871507E-2},{"$f":"IFERROR('Weekly Metrics'!CB11/'Weekly Metrics'!AB11-1,\"\")","v":-3.7057912121199466E-2},{"$f":"IFERROR('Weekly Metrics'!CC11/'Weekly Metrics'!AC11-1,\"\")","v":9.8668412380761739E-2},{"$f":"IFERROR('Weekly Metrics'!CD11/'Weekly Metrics'!AD11-1,\"\")","v":2.1523398464255994E-3},{"$f":"IFERROR('Weekly Metrics'!CE11/'Weekly Metrics'!AE11-1,\"\")","v":-6.3557264202079855E-3},{"$f":"IFERROR('Weekly Metrics'!CF11/'Weekly Metrics'!AF11-1,\"\")","v":0.12772961742304267},{"$f":"IFERROR('Weekly Metrics'!CG11/'Weekly Metrics'!AG11-1,\"\")","v":-7.7131420594690137E-2},{"$f":"IFERROR('Weekly Metrics'!CH11/'Weekly Metrics'!AH11-1,\"\")","v":0.16342845969973618},{"$f":"IFERROR('Weekly Metrics'!CI11/'Weekly Metrics'!AI11-1,\"\")","v":-5.1526403408080457E-2},{"$f":"IFERROR('Weekly Metrics'!CJ11/'Weekly Metrics'!AJ11-1,\"\")","v":0.11811306165325131},{"$f":"IFERROR('Weekly Metrics'!CK11/'Weekly Metrics'!AK11-1,\"\")","v":2.6960612072371992E-2},{"$f":"IFERROR('Weekly Metrics'!CL11/'Weekly Metrics'!AL11-1,\"\")","v":0.14012752364936532},{"$f":"IFERROR('Weekly Metrics'!CM11/'Weekly Metrics'!AM11-1,\"\")","v":-5.9012264459896713E-3},{"$f":"IFERROR('Weekly Metrics'!CN11/'Weekly Metrics'!AN11-1,\"\")","v":7.9035858640470913E-2},{"$f":"IFERROR('Weekly Metrics'!CO11/'Weekly Metrics'!AO11-1,\"\")","v":2.5055040897453695E-2},{"$f":"IFERROR('Weekly Metrics'!CP11/'Weekly Metrics'!AP11-1,\"\")","v":6.8265707099262274E-2},{"$f":"IFERROR('Weekly Metrics'!CQ11/'Weekly Metrics'!AQ11-1,\"\")","v":5.8362667855368366E-2},{"$f":"IFERROR('Weekly Metrics'!CR11/'Weekly Metrics'!AR11-1,\"\")","v":3.682220849441542E-2},{"$f":"IFERROR('Weekly Metrics'!CS11/'Weekly Metrics'!AS11-1,\"\")","v":0.10022803970770022},{"$f":"IFERROR('Weekly Metrics'!CT11/'Weekly Metrics'!AT11-1,\"\")","v":3.8276558850679265E-2},{"$f":"IFERROR('Weekly Metrics'!CU11/'Weekly Metrics'!AU11-1,\"\")","v":0.13244310285569139},{"$f":"IFERROR('Weekly Metrics'!CV11/'Weekly Metrics'!AV11-1,\"\")","v":1.5712094295592838E-2},{"$f":"IFERROR('Weekly Metrics'!CW11/'Weekly Metrics'!AW11-1,\"\")","v":5.6745437757633965E-2},{"$f":"IFERROR('Weekly Metrics'!CX11/'Weekly Metrics'!AX11-1,\"\")","v":-6.3779767634029483E-2},{"$f":"IFERROR('Weekly Metrics'!CY11/'Weekly Metrics'!AY11-1,\"\")","v":0.14187560992650039},{"$f":"IFERROR('Weekly Metrics'!CZ11/'Weekly Metrics'!AZ11-1,\"\")","v":7.1033336516403534E-2},{"$f":"IFERROR('Weekly Metrics'!DA11/'Weekly Metrics'!BA11-1,\"\")","v":5.1931753403712921E-2},{"$f":"IFERROR('Weekly Metrics'!DB11/'Weekly Metrics'!BB11-1,\"\")","v":0.10571280027983088},{"$f":"IFERROR('Weekly Metrics'!DC11/'Weekly Metrics'!BC11-1,\"\")","v":2.9982155179796743E-2},{"$f":"IFERROR('Weekly Metrics'!DD11/'Weekly Metrics'!BD11-1,\"\")","v":0.12959206527206457},{"$f":"IFERROR('Weekly Metrics'!DE11/'Weekly Metrics'!BE11-1,\"\")","v":3.518421744339828E-2},{"$f":"IFERROR('Weekly Metrics'!DF11/'Weekly Metrics'!BF11-1,\"\")","v":0.15053963362685074},{"$f":"IFERROR('Weekly Metrics'!DG11/'Weekly Metrics'!BG11-1,\"\")","v":-7.7580870742424146E-3},{"$f":"IFERROR('Weekly Metrics'!DH11/'Weekly Metrics'!BH11-1,\"\")","v":0.13577555680171716},{"$f":"IFERROR('Weekly Metrics'!DI11/'Weekly Metrics'!BI11-1,\"\")","v":0.12247534124259141},{"$f":"IFERROR('Weekly Metrics'!DJ11/'Weekly Metrics'!BJ11-1,\"\")","v":1.4089278553654161E-2},{"$f":"IFERROR('Weekly Metrics'!DK11/'Weekly Metrics'!BK11-1,\"\")","v":-5.4266557183692443E-2},{"$f":"IFERROR('Weekly Metrics'!DL11/'Weekly Metrics'!BL11-1,\"\")","v":0.21106823143330544},{"$f":"IFERROR('Weekly Metrics'!DM11/'Weekly Metrics'!BM11-1,\"\")","v":6.7873163350079091E-2},{"$f":"IFERROR('Weekly Metrics'!DN11/'Weekly Metrics'!BN11-1,\"\")","v":0.18522205836970018},{"$f":"IFERROR('Weekly Metrics'!DO11/'Weekly Metrics'!BO11-1,\"\")","v":2.0525965211889652E-2},{"$f":"IFERROR('Weekly Metrics'!DP11/'Weekly Metrics'!BP11-1,\"\")","v":0.14030615879056629},{"$f":"IFERROR('Weekly Metrics'!DQ11/'Weekly Metrics'!BQ11-1,\"\")","v":3.6214523273111698E-2},{"$f":"IFERROR('Weekly Metrics'!DR11/'Weekly Metrics'!BR11-1,\"\")","v":6.7325007802089498E-2},{"$f":"IFERROR('Weekly Metrics'!DS11/'Weekly Metrics'!BS11-1,\"\")","v":2.9485259013004361E-2},{"$f":"IFERROR('Weekly Metrics'!DT11/'Weekly Metrics'!BT11-1,\"\")","v":-6.0496914733100926E-2},{"$f":"IFERROR('Weekly Metrics'!DU11/'Weekly Metrics'!BU11-1,\"\")","v":0.24099493683057815},{"$f":"IFERROR('Weekly Metrics'!DV11/'Weekly Metrics'!BV11-1,\"\")","v":-9.6020486376044767E-2},{"$f":"IFERROR('Weekly Metrics'!DW11/'Weekly Metrics'!BW11-1,\"\")","v":9.7818939032790597E-2},{"$f":"IFERROR('Weekly Metrics'!DX11/'Weekly Metrics'!BX11-1,\"\")","v":9.0502375859134343E-2},{"$f":"IFERROR('Weekly Metrics'!DY11/'Weekly Metrics'!BY11-1,\"\")","v":0.18909348615545096},{"$f":"IFERROR('Weekly Metrics'!DZ11/'Weekly Metrics'!BZ11-1,\"\")","v":-4.5644562258527199E-2},{"$f":"IFERROR('Weekly Metrics'!EA11/'Weekly Metrics'!CA11-1,\"\")","v":5.3637437765983398E-2},{"$f":"IFERROR('Weekly Metrics'!EB11/'Weekly Metrics'!CB11-1,\"\")","v":-1.3296451909651119E-2},{"$f":"IFERROR('Weekly Metrics'!EC11/'Weekly Metrics'!CC11-1,\"\")","v":0.11319658450443959},{"$f":"IFERROR('Weekly Metrics'!ED11/'Weekly Metrics'!CD11-1,\"\")","v":2.9146355793652878E-2},{"$f":"IFERROR('Weekly Metrics'!EE11/'Weekly Metrics'!CE11-1,\"\")","v":2.9017090648230548E-2},{"$f":"IFERROR('Weekly Metrics'!EF11/'Weekly Metrics'!CF11-1,\"\")","v":6.8824304786543333E-3},{"$f":"IFERROR('Weekly Metrics'!EG11/'Weekly Metrics'!CG11-1,\"\")","v":8.1203935754591727E-2},{"$f":"IFERROR('Weekly Metrics'!EH11/'Weekly Metrics'!CH11-1,\"\")","v":0.11203919411441365},{"$f":"IFERROR('Weekly Metrics'!EI11/'Weekly Metrics'!CI11-1,\"\")","v":1.497132177386673E-2},{"$f":"IFERROR('Weekly Metrics'!EJ11/'Weekly Metrics'!CJ11-1,\"\")","v":-9.7125545418919046E-4},{"$f":"IFERROR('Weekly Metrics'!EK11/'Weekly Metrics'!CK11-1,\"\")","v":1.3621789564461695E-2},{"$f":"IFERROR('Weekly Metrics'!EL11/'Weekly Metrics'!CL11-1,\"\")","v":0.16143225463910604},{"$f":"IFERROR('Weekly Metrics'!EM11/'Weekly Metrics'!CM11-1,\"\")","v":-2.3412443018765106E-2},{"$f":"IFERROR('Weekly Metrics'!EN11/'Weekly Metrics'!CN11-1,\"\")","v":-9.0392339488983842E-3},{"$f":"IFERROR('Weekly Metrics'!EO11/'Weekly Metrics'!CO11-1,\"\")","v":2.5226675368859919E-2},{"$f":"IFERROR('Weekly Metrics'!EP11/'Weekly Metrics'!CP11-1,\"\")","v":-1.7838722786243433E-2},{"$f":"IFERROR('Weekly Metrics'!EQ11/'Weekly Metrics'!CQ11-1,\"\")","v":0.18820088877793206},{"$f":"IFERROR('Weekly Metrics'!ER11/'Weekly Metrics'!CR11-1,\"\")","v":-7.1693664852337746E-2},{"$f":"IFERROR('Weekly Metrics'!ES11/'Weekly Metrics'!CS11-1,\"\")","v":-6.4091634488711025E-3},{"$f":"IFERROR('Weekly Metrics'!ET11/'Weekly Metrics'!CT11-1,\"\")","v":-4.2747650556914318E-2},{"$f":"IFERROR('Weekly Metrics'!EU11/'Weekly Metrics'!CU11-1,\"\")","v":0.13197857379249611},{"$f":"IFERROR('Weekly Metrics'!EV11/'Weekly Metrics'!CV11-1,\"\")","v":-4.8951649204185932E-2},{"$f":"IFERROR('Weekly Metrics'!EW11/'Weekly Metrics'!CW11-1,\"\")","v":3.6929626463252152E-2},{"$f":"IFERROR('Weekly Metrics'!EX11/'Weekly Metrics'!CX11-1,\"\")","v":-4.7241890194056224E-2},{"$f":"IFERROR('Weekly Metrics'!EY11/'Weekly Metrics'!CY11-1,\"\")","v":0.11352331599469112},{"$f":"IFERROR('Weekly Metrics'!EZ11/'Weekly Metrics'!CZ11-1,\"\")","v":-3.322602460533397E-3},{"$f":"IFERROR('Weekly Metrics'!FA11/'Weekly Metrics'!DA11-1,\"\")","v":-9.8473070372921967E-3},{"$f":"IFERROR('Weekly Metrics'!FB11/'Weekly Metrics'!DB11-1,\"\")","v":3.8303121855570499E-2},{"$f":"IFERROR('Weekly Metrics'!FC11/'Weekly Metrics'!DC11-1,\"\")","v":-2.2141286560027895E-2},{"$f":"IFERROR('Weekly Metrics'!FD11/'Weekly Metrics'!DD11-1,\"\")","v":0.1115353059172417},{"$f":"IFERROR('Weekly Metrics'!FE11/'Weekly Metrics'!DE11-1,\"\")","v":-7.8325124123468814E-2},{"$f":"IFERROR('Weekly Metrics'!FF11/'Weekly Metrics'!DF11-1,\"\")","v":-2.4746690439919061E-2},{"$f":"IFERROR('Weekly Metrics'!FG11/'Weekly Metrics'!DG11-1,\"\")","v":-5.9188136386282397E-2},{"$f":"IFERROR('Weekly Metrics'!FH11/'Weekly Metrics'!DH11-1,\"\")","v":0.13234637332458288},{"$f":"IFERROR('Weekly Metrics'!FI11/'Weekly Metrics'!DI11-1,\"\")","v":-4.9866982216100642E-2},{"$f":"IFERROR('Weekly Metrics'!FJ11/'Weekly Metrics'!DJ11-1,\"\")","v":1.0124690509299539E-2},{"$f":"IFERROR('Weekly Metrics'!FK11/'Weekly Metrics'!DK11-1,\"\")","v":-7.3664171948208179E-2},{"$f":"IFERROR('Weekly Metrics'!FL11/'Weekly Metrics'!DL11-1,\"\")","v":0.22136272209069618},{"$f":"IFERROR('Weekly Metrics'!FM11/'Weekly Metrics'!DM11-1,\"\")","v":-2.6684745727836523E-2},{"$f":"IFERROR('Weekly Metrics'!FN11/'Weekly Metrics'!DN11-1,\"\")","v":-4.8354780960778498E-2},{"$f":"IFERROR('Weekly Metrics'!FO11/'Weekly Metrics'!DO11-1,\"\")","v":6.7510878688978426E-2},{"$f":"IFERROR('Weekly Metrics'!FP11/'Weekly Metrics'!DP11-1,\"\")","v":-6.4560144723108337E-2},{"$f":"IFERROR('Weekly Metrics'!FQ11/'Weekly Metrics'!DQ11-1,\"\")","v":0.23992666563658416},{"$f":"IFERROR('Weekly Metrics'!FR11/'Weekly Metrics'!DR11-1,\"\")","v":-9.464691311928608E-2},{"$f":"IFERROR('Weekly Metrics'!FS11/'Weekly Metrics'!DS11-1,\"\")","v":5.801690361548606E-2},{"$f":"IFERROR('Weekly Metrics'!FT11/'Weekly Metrics'!DT11-1,\"\")","v":5.7353409814543399E-2},{"$f":"IFERROR('Weekly Metrics'!FU11/'Weekly Metrics'!DU11-1,\"\")","v":0.1036928481095809},{"$f":"IFERROR('Weekly Metrics'!FV11/'Weekly Metrics'!DV11-1,\"\")","v":9.1900044850840246E-2},{"$f":"IFERROR('Weekly Metrics'!FW11/'Weekly Metrics'!DW11-1,\"\")","v":1.5335999535366129E-2},{"$f":"IFERROR('Weekly Metrics'!FX11/'Weekly Metrics'!DX11-1,\"\")","v":-7.3373389595313032E-2},{"$f":"IFERROR('Weekly Metrics'!FY11/'Weekly Metrics'!DY11-1,\"\")","v":6.5508049661308743E-2},{"$f":"IFERROR('Weekly Metrics'!FZ11/'Weekly Metrics'!DZ11-1,\"\")","v":7.4907388586203272E-2},{"$f":"IFERROR('Weekly Metrics'!GA11/'Weekly Metrics'!EA11-1,\"\")","v":2.2506835896816124E-3},{"$f":"IFERROR('Weekly Metrics'!GB11/'Weekly Metrics'!EB11-1,\"\")","v":0.13067866129281369},{"$f":"IFERROR('Weekly Metrics'!GC11/'Weekly Metrics'!EC11-1,\"\")","v":-8.044644115013555E-2},{"$f":"IFERROR('Weekly Metrics'!GD11/'Weekly Metrics'!ED11-1,\"\")","v":0.23038167817825594},{"$f":"IFERROR('Weekly Metrics'!GE11/'Weekly Metrics'!EE11-1,\"\")","v":-2.0306486655708333E-2},{"$f":"IFERROR('Weekly Metrics'!GF11/'Weekly Metrics'!EF11-1,\"\")","v":0.15310617892507983},{"$f":"IFERROR('Weekly Metrics'!GG11/'Weekly Metrics'!EG11-1,\"\")","v":-9.5431641735530315E-2},{"$f":"IFERROR('Weekly Metrics'!GH11/'Weekly Metrics'!EH11-1,\"\")","v":0.15305197746826127},{"$f":"IFERROR('Weekly Metrics'!GI11/'Weekly Metrics'!EI11-1,\"\")","v":-2.479245228860838E-2},{"$f":"IFERROR('Weekly Metrics'!GJ11/'Weekly Metrics'!EJ11-1,\"\")","v":0.12661309827845235},{"$f":"IFERROR('Weekly Metrics'!GK11/'Weekly Metrics'!EK11-1,\"\")","v":0.10211798723926924},{"$f":"IFERROR('Weekly Metrics'!GL11/'Weekly Metrics'!EL11-1,\"\")","v":4.6662040501168622E-2},{"$f":"IFERROR('Weekly Metrics'!GM11/'Weekly Metrics'!EM11-1,\"\")","v":4.7622080581873005E-2},{"$f":"IFERROR('Weekly Metrics'!GN11/'Weekly Metrics'!EN11-1,\"\")","v":2.6403809332278039E-2},{"$f":"IFERROR('Weekly Metrics'!GO11/'Weekly Metrics'!EO11-1,\"\")","v":0.11193043934678015},{"$f":"IFERROR('Weekly Metrics'!GP11/'Weekly Metrics'!EP11-1,\"\")","v":-2.8319514026178827E-2},{"$f":"IFERROR('Weekly Metrics'!GQ11/'Weekly Metrics'!EQ11-1,\"\")","v":0.13942806927957552},{"$f":"IFERROR('Weekly Metrics'!GR11/'Weekly Metrics'!ER11-1,\"\")","v":2.953554022259941E-2},{"$f":"IFERROR('Weekly Metrics'!GS11/'Weekly Metrics'!ES11-1,\"\")","v":4.4565867991059438E-2},{"$f":"IFERROR('Weekly Metrics'!GT11/'Weekly Metrics'!ET11-1,\"\")","v":7.9429954102216538E-2},{"$f":"IFERROR('Weekly Metrics'!GU11/'Weekly Metrics'!EU11-1,\"\")","v":0.1043721316982027},{"$f":"IFERROR('Weekly Metrics'!GV11/'Weekly Metrics'!EV11-1,\"\")","v":2.0160532635147499E-2},{"$f":"IFERROR('Weekly Metrics'!GW11/'Weekly Metrics'!EW11-1,\"\")","v":2.0240408820352052E-2},{"$f":"IFERROR('Weekly Metrics'!GX11/'Weekly Metrics'!EX11-1,\"\")","v":7.0379886892297794E-2},{"$f":"IFERROR('Weekly Metrics'!GY11/'Weekly Metrics'!EY11-1,\"\")","v":8.8088168987961124E-2},{"$f":"IFERROR('Weekly Metrics'!GZ11/'Weekly Metrics'!EZ11-1,\"\")","v":-1.0223284657782994E-2},{"$f":"IFERROR('Weekly Metrics'!HA11/'Weekly Metrics'!FA11-1,\"\")","v":2.7268577858863496E-2},{"$f":"IFERROR('Weekly Metrics'!HB11/'Weekly Metrics'!FB11-1,\"\")","v":5.0320210897736528E-2},{"$f":"IFERROR('Weekly Metrics'!HC11/'Weekly Metrics'!FC11-1,\"\")","v":-6.6236909855377779E-2},{"$f":"IFERROR('Weekly Metrics'!HD11/'Weekly Metrics'!FD11-1,\"\")","v":0.15210077169587222},{"$f":"IFERROR('Weekly Metrics'!HE11/'Weekly Metrics'!FE11-1,\"\")","v":-3.3716370918404071E-3},{"$f":"IFERROR('Weekly Metrics'!HF11/'Weekly Metrics'!FF11-1,\"\")","v":5.0766591868033117E-2},{"$f":"IFERROR('Weekly Metrics'!HG11/'Weekly Metrics'!FG11-1,\"\")","v":4.5034543078939393E-2},{"$f":"IFERROR('Weekly Metrics'!HH11/'Weekly Metrics'!FH11-1,\"\")","v":7.7259467057315234E-2},{"$f":"IFERROR('Weekly Metrics'!HI11/'Weekly Metrics'!FI11-1,\"\")","v":1.0676374340020001E-2},{"$f":"IFERROR('Weekly Metrics'!HJ11/'Weekly Metrics'!FJ11-1,\"\")","v":3.6201346097918252E-2},{"$f":"IFERROR('Weekly Metrics'!HK11/'Weekly Metrics'!FK11-1,\"\")","v":8.1208426405866785E-2},{"$f":"IFERROR('Weekly Metrics'!HL11/'Weekly Metrics'!FL11-1,\"\")","v":3.6440096692665458E-2},{"$f":"IFERROR('Weekly Metrics'!HM11/'Weekly Metrics'!FM11-1,\"\")","v":-6.7747115209848552E-4},{"$f":"IFERROR('Weekly Metrics'!HN11/'Weekly Metrics'!FN11-1,\"\")","v":2.9176375147024425E-2},{"$f":"IFERROR('Weekly Metrics'!HO11/'Weekly Metrics'!FO11-1,\"\")","v":4.0747151623737654E-2},{"$f":"IFERROR('Weekly Metrics'!HP11/'Weekly Metrics'!FP11-1,\"\")","v":-8.9548281002710395E-3},{"$f":"IFERROR('Weekly Metrics'!HQ11/'Weekly Metrics'!FQ11-1,\"\")","v":8.4944529071804054E-2},{"$f":"IFERROR('Weekly Metrics'!HR11/'Weekly Metrics'!FR11-1,\"\")","v":2.5072546272560947E-2},{"$f":"IFERROR('Weekly Metrics'!HS11/'Weekly Metrics'!FS11-1,\"\")","v":4.2838146179454251E-2},{"$f":"IFERROR('Weekly Metrics'!HT11/'Weekly Metrics'!FT11-1,\"\")","v":-0.10925940205656082}]
[{"$f":"IF('Weekly Metrics'!A12=0,\"\",'Weekly Metrics'!A12)","v":""},{"$f":"IF('Weekly Metrics'!B12=0,\"\",'Weekly Metrics'!B12)","v":""},{"$f":"IFERROR('Weekly Metrics'!C12/'Weekly Metrics'!#REF!-1,\"\")","v":""},{"$f":"IFERROR('Weekly Metrics'!D12/'Weekly Metrics'!#REF!-1,\"\")","v":""},{"$f":"IFERROR('Weekly Metrics'!E12/'Weekly Metrics'!#REF!-1,\"\")","v":""},{"$f":"IFERROR('Weekly Metrics'!F12/'Weekly Metrics'!#REF!-1,\"\")","v":""},{"$f":"IFERROR('Weekly Metrics'!G12/'Weekly Metrics'!#REF!-1,\"\")","v":""},{"$f":"IFERROR('Weekly Metrics'!H12/'Weekly Metrics'!#REF!-1,\"\")","v":""},{"$f":"IFERROR('Weekly Metrics'!I12/'Weekly Metrics'!#REF!-1,\"\")","v":""},{"$f":"IFERROR('Weekly Metrics'!J12/'Weekly Metrics'!#REF!-1,\"\")","v":""},{"$f":"IFERROR('Weekly Metrics'!K12/'Weekly Metrics'!#REF!-1,\"\")","v":""},{"$f":"IFERROR('Weekly Metrics'!L12/'Weekly Metrics'!#REF!-1,\"\")","v":""},{"$f":"IFERROR('Weekly Metrics'!M12/'Weekly Metrics'!#REF!-1,\"\")","v":""},{"$f":"IFERROR('Weekly Metrics'!N12/'Weekly Metrics'!#REF!-1,\"\")","v":""},{"$f":"IFERROR('Weekly Metrics'!O12/'Weekly Metrics'!#REF!-1,\"\")","v":""},{"$f":"IFERROR('Weekly Metrics'!P12/'Weekly Metrics'!#REF!-1,\"\")","v":""},{"$f":"IFERROR('Weekly Metrics'!Q12/'Weekly Metrics'!#REF!-1,\"\")","v":""},{"$f":"IFERROR('Weekly Metrics'!R12/'Weekly Metrics'!#REF!-1,\"\")","v":""},{"$f":"IFERROR('Weekly Metrics'!S12/'Weekly Metrics'!#REF!-1,\"\")","v":""},{"$f":"IFERROR('Weekly Metrics'!T12/'Weekly Metrics'!#REF!-1,\"\")","v":""},{"$f":"IFERROR('Weekly Metrics'!U12/'Weekly Metrics'!#REF!-1,\"\")","v":""},{"$f":"IFERROR('Weekly Metrics'!V12/'Weekly Metrics'!#REF!-1,\"\")","v":""},{"$f":"IFERROR('Weekly Metrics'!W12/'Weekly Metrics'!#REF!-1,\"\")","v":""},{"$f":"IFERROR('Weekly Metrics'!X12/'Weekly Metrics'!#REF!-1,\"\")","v":""},{"$f":"IFERROR('Weekly Metrics'!Y12/'Weekly Metrics'!#REF!-1,\"\")","v":""},{"$f":"IFERROR('Weekly Metrics'!Z12/'Weekly Metrics'!#REF!-1,\"\")","v":""},{"$f":"IFERROR('Weekly Metrics'!AA12/'Weekly Metrics'!#REF!-1,\"\")","v":""},{"$f":"IFERROR('Weekly Metrics'!AB12/'Weekly Metrics'!#REF!-1,\"\")","v":""},{"$f":"IFERROR('Weekly Metrics'!AC12/'Weekly Metrics'!#REF!-1,\"\")","v":""},{"$f":"IFERROR('Weekly Metrics'!AD12/'Weekly Metrics'!#REF!-1,\"\")","v":""},{"$f":"IFERROR('Weekly Metrics'!AE12/'Weekly Metrics'!#REF!-1,\"\")","v":""},{"$f":"IFERROR('Weekly Metrics'!AF12/'Weekly Metrics'!#REF!-1,\"\")","v":""},{"$f":"IFERROR('Weekly Metrics'!AG12/'Weekly Metrics'!#REF!-1,\"\")","v":""},{"$f":"IFERROR('Weekly Metrics'!AH12/'Weekly Metrics'!#REF!-1,\"\")","v":""},{"$f":"IFERROR('Weekly Metrics'!AI12/'Weekly Metrics'!#REF!-1,\"\")","v":""},{"$f":"IFERROR('Weekly Metrics'!AJ12/'Weekly Metrics'!#REF!-1,\"\")","v":""},{"$f":"IFERROR('Weekly Metrics'!AK12/'Weekly Metrics'!#REF!-1,\"\")","v":""},{"$f":"IFERROR('Weekly Metrics'!AL12/'Weekly Metrics'!#REF!-1,\"\")","v":""},{"$f":"IFERROR('Weekly Metrics'!AM12/'Weekly Metrics'!#REF!-1,\"\")","v":""},{"$f":"IFERROR('Weekly Metrics'!AN12/'Weekly Metrics'!#REF!-1,\"\")","v":""},{"$f":"IFERROR('Weekly Metrics'!AO12/'Weekly Metrics'!#REF!-1,\"\")","v":""},{"$f":"IFERROR('Weekly Metrics'!AP12/'Weekly Metrics'!#REF!-1,\"\")","v":""},{"$f":"IFERROR('Weekly Metrics'!AQ12/'Weekly Metrics'!#REF!-1,\"\")","v":""},{"$f":"IFERROR('Weekly Metrics'!AR12/'Weekly Metrics'!#REF!-1,\"\")","v":""},{"$f":"IFERROR('Weekly Metrics'!AS12/'Weekly Metrics'!#REF!-1,\"\")","v":""},{"$f":"IFERROR('Weekly Metrics'!AT12/'Weekly Metrics'!#REF!-1,\"\")","v":""},{"$f":"IFERROR('Weekly Metrics'!AU12/'Weekly Metrics'!#REF!-1,\"\")","v":""},{"$f":"IFERROR('Weekly Metrics'!AV12/'Weekly Metrics'!#REF!-1,\"\")","v":""},{"$f":"IFERROR('Weekly Metrics'!AW12/'Weekly Metrics'!#REF!-1,\"\")","v":""},{"$f":"IFERROR('Weekly Metrics'!AX12/'Weekly Metrics'!#REF!-1,\"\")","v":""},{"$f":"IFERROR('Weekly Metrics'!AY12/'Weekly Metrics'!#REF!-1,\"\")","v":""},{"$f":"IFERROR('Weekly Metrics'!AZ12/'Weekly Metrics'!#REF!-1,\"\")","v":""},{"$f":"IFERROR('Weekly Metrics'!BA12/'Weekly Metrics'!A12-1,\"\")","v":""},{"$f":"IFERROR('Weekly Metrics'!BB12/'Weekly Metrics'!B12-1,\"\")","v":""},{"$f":"IFERROR('Weekly Metrics'!BC12/'Weekly Metrics'!C12-1,\"\")","v":""},{"$f":"IFERROR('Weekly Metrics'!BD12/'Weekly Metrics'!D12-1,\"\")","v":""},{"$f":"IFERROR('Weekly Metrics'!BE12/'Weekly Metrics'!E12-1,\"\")","v":""},{"$f":"IFERROR('Weekly Metrics'!BF12/'Weekly Metrics'!F12-1,\"\")","v":""},{"$f":"IFERROR('Weekly Metrics'!BG12/'Weekly Metrics'!G12-1,\"\")","v":""},{"$f":"IFERROR('Weekly Metrics'!BH12/'Weekly Metrics'!H12-1,\"\")","v":""},{"$f":"IFERROR('Weekly Metrics'!BI12/'Weekly Metrics'!I12-1,\"\")","v":""},{"$f":"IFERROR('Weekly Metrics'!BJ12/'Weekly Metrics'!J12-1,\"\")","v":""},{"$f":"IFERROR('Weekly Metrics'!BK12/'Weekly Metrics'!K12-1,\"\")","v":""},{"$f":"IFERROR('Weekly Metrics'!BL12/'Weekly Metrics'!L12-1,\"\")","v":""},{"$f":"IFERROR('Weekly Metrics'!BM12/'Weekly Metrics'!M12-1,\"\")","v":""},{"$f":"IFERROR('Weekly Metrics'!BN12/'Weekly Metrics'!N12-1,\"\")","v":""},{"$f":"IFERROR('Weekly Metrics'!BO12/'Weekly Metrics'!O12-1,\"\")","v":""},{"$f":"IFERROR('Weekly Metrics'!BP12/'Weekly Metrics'!P12-1,\"\")","v":""},{"$f":"IFERROR('Weekly Metrics'!BQ12/'Weekly Metrics'!Q12-1,\"\")","v":""},{"$f":"IFERROR('Weekly Metrics'!BR12/'Weekly Metrics'!R12-1,\"\")","v":""},{"$f":"IFERROR('Weekly Metrics'!BS12/'Weekly Metrics'!S12-1,\"\")","v":""},{"$f":"IFERROR('Weekly Metrics'!BT12/'Weekly Metrics'!T12-1,\"\")","v":""},{"$f":"IFERROR('Weekly Metrics'!BU12/'Weekly Metrics'!U12-1,\"\")","v":""},{"$f":"IFERROR('Weekly Metrics'!BV12/'Weekly Metrics'!V12-1,\"\")","v":""},{"$f":"IFERROR('Weekly Metrics'!BW12/'Weekly Metrics'!W12-1,\"\")","v":""},{"$f":"IFERROR('Weekly Metrics'!BX12/'Weekly Metrics'!X12-1,\"\")","v":""},{"$f":"IFERROR('Weekly Metrics'!BY12/'Weekly Metrics'!Y12-1,\"\")","v":""},{"$f":"IFERROR('Weekly Metrics'!BZ12/'Weekly Metrics'!Z12-1,\"\")","v":""},{"$f":"IFERROR('Weekly Metrics'!CA12/'Weekly Metrics'!AA12-1,\"\")","v":""},{"$f":"IFERROR('Weekly Metrics'!CB12/'Weekly Metrics'!AB12-1,\"\")","v":""},{"$f":"IFERROR('Weekly Metrics'!CC12/'Weekly Metrics'!AC12-1,\"\")","v":""},{"$f":"IFERROR('Weekly Metrics'!CD12/'Weekly Metrics'!AD12-1,\"\")","v":""},{"$f":"IFERROR('Weekly Metrics'!CE12/'Weekly Metrics'!AE12-1,\"\")","v":""},{"$f":"IFERROR('Weekly Metrics'!CF12/'Weekly Metrics'!AF12-1,\"\")","v":""},{"$f":"IFERROR('Weekly Metrics'!CG12/'Weekly Metrics'!AG12-1,\"\")","v":""},{"$f":"IFERROR('Weekly Metrics'!CH12/'Weekly Metrics'!AH12-1,\"\")","v":""},{"$f":"IFERROR('Weekly Metrics'!CI12/'Weekly Metrics'!AI12-1,\"\")","v":""},{"$f":"IFERROR('Weekly Metrics'!CJ12/'Weekly Metrics'!AJ12-1,\"\")","v":""},{"$f":"IFERROR('Weekly Metrics'!CK12/'Weekly Metrics'!AK12-1,\"\")","v":""},{"$f":"IFERROR('Weekly Metrics'!CL12/'Weekly Metrics'!AL12-1,\"\")","v":""},{"$f":"IFERROR('Weekly Metrics'!CM12/'Weekly Metrics'!AM12-1,\"\")","v":""},{"$f":"IFERROR('Weekly Metrics'!CN12/'Weekly Metrics'!AN12-1,\"\")","v":""},{"$f":"IFERROR('Weekly Metrics'!CO12/'Weekly Metrics'!AO12-1,\"\")","v":""},{"$f":"IFERROR('Weekly Metrics'!CP12/'Weekly Metrics'!AP12-1,\"\")","v":""},{"$f":"IFERROR('Weekly Metrics'!CQ12/'Weekly Metrics'!AQ12-1,\"\")","v":""},{"$f":"IFERROR('Weekly Metrics'!CR12/'Weekly Metrics'!AR12-1,\"\")","v":""},{"$f":"IFERROR('Weekly Metrics'!CS12/'Weekly Metrics'!AS12-1,\"\")","v":""},{"$f":"IFERROR('Weekly Metrics'!CT12/'Weekly Metrics'!AT12-1,\"\")","v":""},{"$f":"IFERROR('Weekly Metrics'!CU12/'Weekly Metrics'!AU12-1,\"\")","v":""},{"$f":"IFERROR('Weekly Metrics'!CV12/'Weekly Metrics'!AV12-1,\"\")","v":""},{"$f":"IFERROR('Weekly Metrics'!CW12/'Weekly Metrics'!AW12-1,\"\")","v":""},{"$f":"IFERROR('Weekly Metrics'!CX12/'Weekly Metrics'!AX12-1,\"\")","v":""},{"$f":"IFERROR('Weekly Metrics'!CY12/'Weekly Metrics'!AY12-1,\"\")","v":""},{"$f":"IFERROR('Weekly Metrics'!CZ12/'Weekly Metrics'!AZ12-1,\"\")","v":""},{"$f":"IFERROR('Weekly Metrics'!DA12/'Weekly Metrics'!BA12-1,\"\")","v":""},{"$f":"IFERROR('Weekly Metrics'!DB12/'Weekly Metrics'!BB12-1,\"\")","v":""},{"$f":"IFERROR('Weekly Metrics'!DC12/'Weekly Metrics'!BC12-1,\"\")","v":""},{"$f":"IFERROR('Weekly Metrics'!DD12/'Weekly Metrics'!BD12-1,\"\")","v":""},{"$f":"IFERROR('Weekly Metrics'!DE12/'Weekly Metrics'!BE12-1,\"\")","v":""},{"$f":"IFERROR('Weekly Metrics'!DF12/'Weekly Metrics'!BF12-1,\"\")","v":""},{"$f":"IFERROR('Weekly Metrics'!DG12/'Weekly Metrics'!BG12-1,\"\")","v":""},{"$f":"IFERROR('Weekly Metrics'!DH12/'Weekly Metrics'!BH12-1,\"\")","v":""},{"$f":"IFERROR('Weekly Metrics'!DI12/'Weekly Metrics'!BI12-1,\"\")","v":""},{"$f":"IFERROR('Weekly Metrics'!DJ12/'Weekly Metrics'!BJ12-1,\"\")","v":""},{"$f":"IFERROR('Weekly Metrics'!DK12/'Weekly Metrics'!BK12-1,\"\")","v":""},{"$f":"IFERROR('Weekly Metrics'!DL12/'Weekly Metrics'!BL12-1,\"\")","v":""},{"$f":"IFERROR('Weekly Metrics'!DM12/'Weekly Metrics'!BM12-1,\"\")","v":""},{"$f":"IFERROR('Weekly Metrics'!DN12/'Weekly Metrics'!BN12-1,\"\")","v":""},{"$f":"IFERROR('Weekly Metrics'!DO12/'Weekly Metrics'!BO12-1,\"\")","v":""},{"$f":"IFERROR('Weekly Metrics'!DP12/'Weekly Metrics'!BP12-1,\"\")","v":""},{"$f":"IFERROR('Weekly Metrics'!DQ12/'Weekly Metrics'!BQ12-1,\"\")","v":""},{"$f":"IFERROR('Weekly Metrics'!DR12/'Weekly Metrics'!BR12-1,\"\")","v":""},{"$f":"IFERROR('Weekly Metrics'!DS12/'Weekly Metrics'!BS12-1,\"\")","v":""},{"$f":"IFERROR('Weekly Metrics'!DT12/'Weekly Metrics'!BT12-1,\"\")","v":""},{"$f":"IFERROR('Weekly Metrics'!DU12/'Weekly Metrics'!BU12-1,\"\")","v":""},{"$f":"IFERROR('Weekly Metrics'!DV12/'Weekly Metrics'!BV12-1,\"\")","v":""},{"$f":"IFERROR('Weekly Metrics'!DW12/'Weekly Metrics'!BW12-1,\"\")","v":""},{"$f":"IFERROR('Weekly Metrics'!DX12/'Weekly Metrics'!BX12-1,\"\")","v":""},{"$f":"IFERROR('Weekly Metrics'!DY12/'Weekly Metrics'!BY12-1,\"\")","v":""},{"$f":"IFERROR('Weekly Metrics'!DZ12/'Weekly Metrics'!BZ12-1,\"\")","v":""},{"$f":"IFERROR('Weekly Metrics'!EA12/'Weekly Metrics'!CA12-1,\"\")","v":""},{"$f":"IFERROR('Weekly Metrics'!EB12/'Weekly Metrics'!CB12-1,\"\")","v":""},{"$f":"IFERROR('Weekly Metrics'!EC12/'Weekly Metrics'!CC12-1,\"\")","v":""},{"$f":"IFERROR('Weekly Metrics'!ED12/'Weekly Metrics'!CD12-1,\"\")","v":""},{"$f":"IFERROR('Weekly Metrics'!EE12/'Weekly Metrics'!CE12-1,\"\")","v":""},{"$f":"IFERROR('Weekly Metrics'!EF12/'Weekly Metrics'!CF12-1,\"\")","v":""},{"$f":"IFERROR('Weekly Metrics'!EG12/'Weekly Metrics'!CG12-1,\"\")","v":""},{"$f":"IFERROR('Weekly Metrics'!EH12/'Weekly Metrics'!CH12-1,\"\")","v":""},{"$f":"IFERROR('Weekly Metrics'!EI12/'Weekly Metrics'!CI12-1,\"\")","v":""},{"$f":"IFERROR('Weekly Metrics'!EJ12/'Weekly Metrics'!CJ12-1,\"\")","v":""},{"$f":"IFERROR('Weekly Metrics'!EK12/'Weekly Metrics'!CK12-1,\"\")","v":""},{"$f":"IFERROR('Weekly Metrics'!EL12/'Weekly Metrics'!CL12-1,\"\")","v":""},{"$f":"IFERROR('Weekly Metrics'!EM12/'Weekly Metrics'!CM12-1,\"\")","v":""},{"$f":"IFERROR('Weekly Metrics'!EN12/'Weekly Metrics'!CN12-1,\"\")","v":""},{"$f":"IFERROR('Weekly Metrics'!EO12/'Weekly Metrics'!CO12-1,\"\")","v":""},{"$f":"IFERROR('Weekly Metrics'!EP12/'Weekly Metrics'!CP12-1,\"\")","v":""},{"$f":"IFERROR('Weekly Metrics'!EQ12/'Weekly Metrics'!CQ12-1,\"\")","v":""},{"$f":"IFERROR('Weekly Metrics'!ER12/'Weekly Metrics'!CR12-1,\"\")","v":""},{"$f":"IFERROR('Weekly Metrics'!ES12/'Weekly Metrics'!CS12-1,\"\")","v":""},{"$f":"IFERROR('Weekly Metrics'!ET12/'Weekly Metrics'!CT12-1,\"\")","v":""},{"$f":"IFERROR('Weekly Metrics'!EU12/'Weekly Metrics'!CU12-1,\"\")","v":""},{"$f":"IFERROR('Weekly Metrics'!EV12/'Weekly Metrics'!CV12-1,\"\")","v":""},{"$f":"IFERROR('Weekly Metrics'!EW12/'Weekly Metrics'!CW12-1,\"\")","v":""},{"$f":"IFERROR('Weekly Metrics'!EX12/'Weekly Metrics'!CX12-1,\"\")","v":""},{"$f":"IFERROR('Weekly Metrics'!EY12/'Weekly Metrics'!CY12-1,\"\")","v":""},{"$f":"IFERROR('Weekly Metrics'!EZ12/'Weekly Metrics'!CZ12-1,\"\")","v":""},{"$f":"IFERROR('Weekly Metrics'!FA12/'Weekly Metrics'!DA12-1,\"\")","v":""},{"$f":"IFERROR('Weekly Metrics'!FB12/'Weekly Metrics'!DB12-1,\"\")","v":""},{"$f":"IFERROR('Weekly Metrics'!FC12/'Weekly Metrics'!DC12-1,\"\")","v":""},{"$f":"IFERROR('Weekly Metrics'!FD12/'Weekly Metrics'!DD12-1,\"\")","v":""},{"$f":"IFERROR('Weekly Metrics'!FE12/'Weekly Metrics'!DE12-1,\"\")","v":""},{"$f":"IFERROR('Weekly Metrics'!FF12/'Weekly Metrics'!DF12-1,\"\")","v":""},{"$f":"IFERROR('Weekly Metrics'!FG12/'Weekly Metrics'!DG12-1,\"\")","v":""},{"$f":"IFERROR('Weekly Metrics'!FH12/'Weekly Metrics'!DH12-1,\"\")","v":""},{"$f":"IFERROR('Weekly Metrics'!FI12/'Weekly Metrics'!DI12-1,\"\")","v":""},{"$f":"IFERROR('Weekly Metrics'!FJ12/'Weekly Metrics'!DJ12-1,\"\")","v":""},{"$f":"IFERROR('Weekly Metrics'!FK12/'Weekly Metrics'!DK12-1,\"\")","v":""},{"$f":"IFERROR('Weekly Metrics'!FL12/'Weekly Metrics'!DL12-1,\"\")","v":""},{"$f":"IFERROR('Weekly Metrics'!FM12/'Weekly Metrics'!DM12-1,\"\")","v":""},{"$f":"IFERROR('Weekly Metrics'!FN12/'Weekly Metrics'!DN12-1,\"\")","v":""},{"$f":"IFERROR('Weekly Metrics'!FO12/'Weekly Metrics'!DO12-1,\"\")","v":""},{"$f":"IFERROR('Weekly Metrics'!FP12/'Weekly Metrics'!DP12-1,\"\")","v":""},{"$f":"IFERROR('Weekly Metrics'!FQ12/'Weekly Metrics'!DQ12-1,\"\")","v":""},{"$f":"IFERROR('Weekly Metrics'!FR12/'Weekly Metrics'!DR12-1,\"\")","v":""},{"$f":"IFERROR('Weekly Metrics'!FS12/'Weekly Metrics'!DS12-1,\"\")","v":""},{"$f":"IFERROR('Weekly Metrics'!FT12/'Weekly Metrics'!DT12-1,\"\")","v":""},{"$f":"IFERROR('Weekly Metrics'!FU12/'Weekly Metrics'!DU12-1,\"\")","v":""},{"$f":"IFERROR('Weekly Metrics'!FV12/'Weekly Metrics'!DV12-1,\"\")","v":""},{"$f":"IFERROR('Weekly Metrics'!FW12/'Weekly Metrics'!DW12-1,\"\")","v":""},{"$f":"IFERROR('Weekly Metrics'!FX12/'Weekly Metrics'!DX12-1,\"\")","v":""},{"$f":"IFERROR('Weekly Metrics'!FY12/'Weekly Metrics'!DY12-1,\"\")","v":""},{"$f":"IFERROR('Weekly Metrics'!FZ12/'Weekly Metrics'!DZ12-1,\"\")","v":""},{"$f":"IFERROR('Weekly Metrics'!GA12/'Weekly Metrics'!EA12-1,\"\")","v":""},{"$f":"IFERROR('Weekly Metrics'!GB12/'Weekly Metrics'!EB12-1,\"\")","v":""},{"$f":"IFERROR('Weekly Metrics'!GC12/'Weekly Metrics'!EC12-1,\"\")","v":""},{"$f":"IFERROR('Weekly Metrics'!GD12/'Weekly Metrics'!ED12-1,\"\")","v":""},{"$f":"IFERROR('Weekly Metrics'!GE12/'Weekly Metrics'!EE12-1,\"\")","v":""},{"$f":"IFERROR('Weekly Metrics'!GF12/'Weekly Metrics'!EF12-1,\"\")","v":""},{"$f":"IFERROR('Weekly Metrics'!GG12/'Weekly Metrics'!EG12-1,\"\")","v":""},{"$f":"IFERROR('Weekly Metrics'!GH12/'Weekly Metrics'!EH12-1,\"\")","v":""},{"$f":"IFERROR('Weekly Metrics'!GI12/'Weekly Metrics'!EI12-1,\"\")","v":""},{"$f":"IFERROR('Weekly Metrics'!GJ12/'Weekly Metrics'!EJ12-1,\"\")","v":""},{"$f":"IFERROR('Weekly Metrics'!GK12/'Weekly Metrics'!EK12-1,\"\")","v":""},{"$f":"IFERROR('Weekly Metrics'!GL12/'Weekly Metrics'!EL12-1,\"\")","v":""},{"$f":"IFERROR('Weekly Metrics'!GM12/'Weekly Metrics'!EM12-1,\"\")","v":""},{"$f":"IFERROR('Weekly Metrics'!GN12/'Weekly Metrics'!EN12-1,\"\")","v":""},{"$f":"IFERROR('Weekly Metrics'!GO12/'Weekly Metrics'!EO12-1,\"\")","v":""},{"$f":"IFERROR('Weekly Metrics'!GP12/'Weekly Metrics'!EP12-1,\"\")","v":""}]
[{"$f":"IF('Weekly Metrics'!A13=0,\"\",'Weekly Metrics'!A13)","v":""},{"$f":"IF('Weekly Metrics'!B13=0,\"\",'Weekly Metrics'!B13)","v":""},{"$f":"IFERROR('Weekly Metrics'!C13/'Weekly Metrics'!#REF!-1,\"\")","v":""},{"$f":"IFERROR('Weekly Metrics'!D13/'Weekly Metrics'!#REF!-1,\"\")","v":""},{"$f":"IFERROR('Weekly Metrics'!E13/'Weekly Metrics'!#REF!-1,\"\")","v":""},{"$f":"IFERROR('Weekly Metrics'!F13/'Weekly Metrics'!#REF!-1,\"\")","v":""},{"$f":"IFERROR('Weekly Metrics'!G13/'Weekly Metrics'!#REF!-1,\"\")","v":""},{"$f":"IFERROR('Weekly Metrics'!H13/'Weekly Metrics'!#REF!-1,\"\")","v":""},{"$f":"IFERROR('Weekly Metrics'!I13/'Weekly Metrics'!#REF!-1,\"\")","v":""},{"$f":"IFERROR('Weekly Metrics'!J13/'Weekly Metrics'!#REF!-1,\"\")","v":""},{"$f":"IFERROR('Weekly Metrics'!K13/'Weekly Metrics'!#REF!-1,\"\")","v":""},{"$f":"IFERROR('Weekly Metrics'!L13/'Weekly Metrics'!#REF!-1,\"\")","v":""},{"$f":"IFERROR('Weekly Metrics'!M13/'Weekly Metrics'!#REF!-1,\"\")","v":""},{"$f":"IFERROR('Weekly Metrics'!N13/'Weekly Metrics'!#REF!-1,\"\")","v":""},{"$f":"IFERROR('Weekly Metrics'!O13/'Weekly Metrics'!#REF!-1,\"\")","v":""},{"$f":"IFERROR('Weekly Metrics'!P13/'Weekly Metrics'!#REF!-1,\"\")","v":""},{"$f":"IFERROR('Weekly Metrics'!Q13/'Weekly Metrics'!#REF!-1,\"\")","v":""},{"$f":"IFERROR('Weekly Metrics'!R13/'Weekly Metrics'!#REF!-1,\"\")","v":""},{"$f":"IFERROR('Weekly Metrics'!S13/'Weekly Metrics'!#REF!-1,\"\")","v":""},{"$f":"IFERROR('Weekly Metrics'!T13/'Weekly Metrics'!#REF!-1,\"\")","v":""},{"$f":"IFERROR('Weekly Metrics'!U13/'Weekly Metrics'!#REF!-1,\"\")","v":""},{"$f":"IFERROR('Weekly Metrics'!V13/'Weekly Metrics'!#REF!-1,\"\")","v":""},{"$f":"IFERROR('Weekly Metrics'!W13/'Weekly Metrics'!#REF!-1,\"\")","v":""},{"$f":"IFERROR('Weekly Metrics'!X13/'Weekly Metrics'!#REF!-1,\"\")","v":""},{"$f":"IFERROR('Weekly Metrics'!Y13/'Weekly Metrics'!#REF!-1,\"\")","v":""},{"$f":"IFERROR('Weekly Metrics'!Z13/'Weekly Metrics'!#REF!-1,\"\")","v":""},{"$f":"IFERROR('Weekly Metrics'!AA13/'Weekly Metrics'!#REF!-1,\"\")","v":""},{"$f":"IFERROR('Weekly Metrics'!AB13/'Weekly Metrics'!#REF!-1,\"\")","v":""},{"$f":"IFERROR('Weekly Metrics'!AC13/'Weekly Metrics'!#REF!-1,\"\")","v":""},{"$f":"IFERROR('Weekly Metrics'!AD13/'Weekly Metrics'!#REF!-1,\"\")","v":""},{"$f":"IFERROR('Weekly Metrics'!AE13/'Weekly Metrics'!#REF!-1,\"\")","v":""},{"$f":"IFERROR('Weekly Metrics'!AF13/'Weekly Metrics'!#REF!-1,\"\")","v":""},{"$f":"IFERROR('Weekly Metrics'!AG13/'Weekly Metrics'!#REF!-1,\"\")","v":""},{"$f":"IFERROR('Weekly Metrics'!AH13/'Weekly Metrics'!#REF!-1,\"\")","v":""},{"$f":"IFERROR('Weekly Metrics'!AI13/'Weekly Metrics'!#REF!-1,\"\")","v":""},{"$f":"IFERROR('Weekly Metrics'!AJ13/'Weekly Metrics'!#REF!-1,\"\")","v":""},{"$f":"IFERROR('Weekly Metrics'!AK13/'Weekly Metrics'!#REF!-1,\"\")","v":""},{"$f":"IFERROR('Weekly Metrics'!AL13/'Weekly Metrics'!#REF!-1,\"\")","v":""},{"$f":"IFERROR('Weekly Metrics'!AM13/'Weekly Metrics'!#REF!-1,\"\")","v":""},{"$f":"IFERROR('Weekly Metrics'!AN13/'Weekly Metrics'!#REF!-1,\"\")","v":""},{"$f":"IFERROR('Weekly Metrics'!AO13/'Weekly Metrics'!#REF!-1,\"\")","v":""},{"$f":"IFERROR('Weekly Metrics'!AP13/'Weekly Metrics'!#REF!-1,\"\")","v":""},{"$f":"IFERROR('Weekly Metrics'!AQ13/'Weekly Metrics'!#REF!-1,\"\")","v":""},{"$f":"IFERROR('Weekly Metrics'!AR13/'Weekly Metrics'!#REF!-1,\"\")","v":""},{"$f":"IFERROR('Weekly Metrics'!AS13/'Weekly Metrics'!#REF!-1,\"\")","v":""},{"$f":"IFERROR('Weekly Metrics'!AT13/'Weekly Metrics'!#REF!-1,\"\")","v":""},{"$f":"IFERROR('Weekly Metrics'!AU13/'Weekly Metrics'!#REF!-1,\"\")","v":""},{"$f":"IFERROR('Weekly Metrics'!AV13/'Weekly Metrics'!#REF!-1,\"\")","v":""},{"$f":"IFERROR('Weekly Metrics'!AW13/'Weekly Metrics'!#REF!-1,\"\")","v":""},{"$f":"IFERROR('Weekly Metrics'!AX13/'Weekly Metrics'!#REF!-1,\"\")","v":""},{"$f":"IFERROR('Weekly Metrics'!AY13/'Weekly Metrics'!#REF!-1,\"\")","v":""},{"$f":"IFERROR('Weekly Metrics'!AZ13/'Weekly Metrics'!#REF!-1,\"\")","v":""},{"$f":"IFERROR('Weekly Metrics'!BA13/'Weekly Metrics'!A13-1,\"\")","v":""},{"$f":"IFERROR('Weekly Metrics'!BB13/'Weekly Metrics'!B13-1,\"\")","v":""},{"$f":"IFERROR('Weekly Metrics'!BC13/'Weekly Metrics'!C13-1,\"\")","v":""},{"$f":"IFERROR('Weekly Metrics'!BD13/'Weekly Metrics'!D13-1,\"\")","v":""},{"$f":"IFERROR('Weekly Metrics'!BE13/'Weekly Metrics'!E13-1,\"\")","v":""},{"$f":"IFERROR('Weekly Metrics'!BF13/'Weekly Metrics'!F13-1,\"\")","v":""},{"$f":"IFERROR('Weekly Metrics'!BG13/'Weekly Metrics'!G13-1,\"\")","v":""},{"$f":"IFERROR('Weekly Metrics'!BH13/'Weekly Metrics'!H13-1,\"\")","v":""},{"$f":"IFERROR('Weekly Metrics'!BI13/'Weekly Metrics'!I13-1,\"\")","v":""},{"$f":"IFERROR('Weekly Metrics'!BJ13/'Weekly Metrics'!J13-1,\"\")","v":""},{"$f":"IFERROR('Weekly Metrics'!BK13/'Weekly Metrics'!K13-1,\"\")","v":""},{"$f":"IFERROR('Weekly Metrics'!BL13/'Weekly Metrics'!L13-1,\"\")","v":""},{"$f":"IFERROR('Weekly Metrics'!BM13/'Weekly Metrics'!M13-1,\"\")","v":""},{"$f":"IFERROR('Weekly Metrics'!BN13/'Weekly Metrics'!N13-1,\"\")","v":""},{"$f":"IFERROR('Weekly Metrics'!BO13/'Weekly Metrics'!O13-1,\"\")","v":""},{"$f":"IFERROR('Weekly Metrics'!BP13/'Weekly Metrics'!P13-1,\"\")","v":""},{"$f":"IFERROR('Weekly Metrics'!BQ13/'Weekly Metrics'!Q13-1,\"\")","v":""},{"$f":"IFERROR('Weekly Metrics'!BR13/'Weekly Metrics'!R13-1,\"\")","v":""},{"$f":"IFERROR('Weekly Metrics'!BS13/'Weekly Metrics'!S13-1,\"\")","v":""},{"$f":"IFERROR('Weekly Metrics'!BT13/'Weekly Metrics'!T13-1,\"\")","v":""},{"$f":"IFERROR('Weekly Metrics'!BU13/'Weekly Metrics'!U13-1,\"\")","v":""},{"$f":"IFERROR('Weekly Metrics'!BV13/'Weekly Metrics'!V13-1,\"\")","v":""},{"$f":"IFERROR('Weekly Metrics'!BW13/'Weekly Metrics'!W13-1,\"\")","v":""},{"$f":"IFERROR('Weekly Metrics'!BX13/'Weekly Metrics'!X13-1,\"\")","v":""},{"$f":"IFERROR('Weekly Metrics'!BY13/'Weekly Metrics'!Y13-1,\"\")","v":""},{"$f":"IFERROR('Weekly Metrics'!BZ13/'Weekly Metrics'!Z13-1,\"\")","v":""},{"$f":"IFERROR('Weekly Metrics'!CA13/'Weekly Metrics'!AA13-1,\"\")","v":""},{"$f":"IFERROR('Weekly Metrics'!CB13/'Weekly Metrics'!AB13-1,\"\")","v":""},{"$f":"IFERROR('Weekly Metrics'!CC13/'Weekly Metrics'!AC13-1,\"\")","v":""},{"$f":"IFERROR('Weekly Metrics'!CD13/'Weekly Metrics'!AD13-1,\"\")","v":""},{"$f":"IFERROR('Weekly Metrics'!CE13/'Weekly Metrics'!AE13-1,\"\")","v":""},{"$f":"IFERROR('Weekly Metrics'!CF13/'Weekly Metrics'!AF13-1,\"\")","v":""},{"$f":"IFERROR('Weekly Metrics'!CG13/'Weekly Metrics'!AG13-1,\"\")","v":""},{"$f":"IFERROR('Weekly Metrics'!CH13/'Weekly Metrics'!AH13-1,\"\")","v":""},{"$f":"IFERROR('Weekly Metrics'!CI13/'Weekly Metrics'!AI13-1,\"\")","v":""},{"$f":"IFERROR('Weekly Metrics'!CJ13/'Weekly Metrics'!AJ13-1,\"\")","v":""},{"$f":"IFERROR('Weekly Metrics'!CK13/'Weekly Metrics'!AK13-1,\"\")","v":""},{"$f":"IFERROR('Weekly Metrics'!CL13/'Weekly Metrics'!AL13-1,\"\")","v":""},{"$f":"IFERROR('Weekly Metrics'!CM13/'Weekly Metrics'!AM13-1,\"\")","v":""},{"$f":"IFERROR('Weekly Metrics'!CN13/'Weekly Metrics'!AN13-1,\"\")","v":""},{"$f":"IFERROR('Weekly Metrics'!CO13/'Weekly Metrics'!AO13-1,\"\")","v":""},{"$f":"IFERROR('Weekly Metrics'!CP13/'Weekly Metrics'!AP13-1,\"\")","v":""},{"$f":"IFERROR('Weekly Metrics'!CQ13/'Weekly Metrics'!AQ13-1,\"\")","v":""},{"$f":"IFERROR('Weekly Metrics'!CR13/'Weekly Metrics'!AR13-1,\"\")","v":""},{"$f":"IFERROR('Weekly Metrics'!CS13/'Weekly Metrics'!AS13-1,\"\")","v":""},{"$f":"IFERROR('Weekly Metrics'!CT13/'Weekly Metrics'!AT13-1,\"\")","v":""},{"$f":"IFERROR('Weekly Metrics'!CU13/'Weekly Metrics'!AU13-1,\"\")","v":""},{"$f":"IFERROR('Weekly Metrics'!CV13/'Weekly Metrics'!AV13-1,\"\")","v":""},{"$f":"IFERROR('Weekly Metrics'!CW13/'Weekly Metrics'!AW13-1,\"\")","v":""},{"$f":"IFERROR('Weekly Metrics'!CX13/'Weekly Metrics'!AX13-1,\"\")","v":""},{"$f":"IFERROR('Weekly Metrics'!CY13/'Weekly Metrics'!AY13-1,\"\")","v":""},{"$f":"IFERROR('Weekly Metrics'!CZ13/'Weekly Metrics'!AZ13-1,\"\")","v":""},{"$f":"IFERROR('Weekly Metrics'!DA13/'Weekly Metrics'!BA13-1,\"\")","v":""},{"$f":"IFERROR('Weekly Metrics'!DB13/'Weekly Metrics'!BB13-1,\"\")","v":""},{"$f":"IFERROR('Weekly Metrics'!DC13/'Weekly Metrics'!BC13-1,\"\")","v":""},{"$f":"IFERROR('Weekly Metrics'!DD13/'Weekly Metrics'!BD13-1,\"\")","v":""},{"$f":"IFERROR('Weekly Metrics'!DE13/'Weekly Metrics'!BE13-1,\"\")","v":""},{"$f":"IFERROR('Weekly Metrics'!DF13/'Weekly Metrics'!BF13-1,\"\")","v":""},{"$f":"IFERROR('Weekly Metrics'!DG13/'Weekly Metrics'!BG13-1,\"\")","v":""},{"$f":"IFERROR('Weekly Metrics'!DH13/'Weekly Metrics'!BH13-1,\"\")","v":""},{"$f":"IFERROR('Weekly Metrics'!DI13/'Weekly Metrics'!BI13-1,\"\")","v":""},{"$f":"IFERROR('Weekly Metrics'!DJ13/'Weekly Metrics'!BJ13-1,\"\")","v":""},{"$f":"IFERROR('Weekly Metrics'!DK13/'Weekly Metrics'!BK13-1,\"\")","v":""},{"$f":"IFERROR('Weekly Metrics'!DL13/'Weekly Metrics'!BL13-1,\"\")","v":""},{"$f":"IFERROR('Weekly Metrics'!DM13/'Weekly Metrics'!BM13-1,\"\")","v":""},{"$f":"IFERROR('Weekly Metrics'!DN13/'Weekly Metrics'!BN13-1,\"\")","v":""},{"$f":"IFERROR('Weekly Metrics'!DO13/'Weekly Metrics'!BO13-1,\"\")","v":""},{"$f":"IFERROR('Weekly Metrics'!DP13/'Weekly Metrics'!BP13-1,\"\")","v":""},{"$f":"IFERROR('Weekly Metrics'!DQ13/'Weekly Metrics'!BQ13-1,\"\")","v":""},{"$f":"IFERROR('Weekly Metrics'!DR13/'Weekly Metrics'!BR13-1,\"\")","v":""},{"$f":"IFERROR('Weekly Metrics'!DS13/'Weekly Metrics'!BS13-1,\"\")","v":""},{"$f":"IFERROR('Weekly Metrics'!DT13/'Weekly Metrics'!BT13-1,\"\")","v":""},{"$f":"IFERROR('Weekly Metrics'!DU13/'Weekly Metrics'!BU13-1,\"\")","v":""},{"$f":"IFERROR('Weekly Metrics'!DV13/'Weekly Metrics'!BV13-1,\"\")","v":""},{"$f":"IFERROR('Weekly Metrics'!DW13/'Weekly Metrics'!BW13-1,\"\")","v":""},{"$f":"IFERROR('Weekly Metrics'!DX13/'Weekly Metrics'!BX13-1,\"\")","v":""},{"$f":"IFERROR('Weekly Metrics'!DY13/'Weekly Metrics'!BY13-1,\"\")","v":""},{"$f":"IFERROR('Weekly Metrics'!DZ13/'Weekly Metrics'!BZ13-1,\"\")","v":""},{"$f":"IFERROR('Weekly Metrics'!EA13/'Weekly Metrics'!CA13-1,\"\")","v":""},{"$f":"IFERROR('Weekly Metrics'!EB13/'Weekly Metrics'!CB13-1,\"\")","v":""},{"$f":"IFERROR('Weekly Metrics'!EC13/'Weekly Metrics'!CC13-1,\"\")","v":""},{"$f":"IFERROR('Weekly Metrics'!ED13/'Weekly Metrics'!CD13-1,\"\")","v":""},{"$f":"IFERROR('Weekly Metrics'!EE13/'Weekly Metrics'!CE13-1,\"\")","v":""},{"$f":"IFERROR('Weekly Metrics'!EF13/'Weekly Metrics'!CF13-1,\"\")","v":""},{"$f":"IFERROR('Weekly Metrics'!EG13/'Weekly Metrics'!CG13-1,\"\")","v":""},{"$f":"IFERROR('Weekly Metrics'!EH13/'Weekly Metrics'!CH13-1,\"\")","v":""},{"$f":"IFERROR('Weekly Metrics'!EI13/'Weekly Metrics'!CI13-1,\"\")","v":""},{"$f":"IFERROR('Weekly Metrics'!EJ13/'Weekly Metrics'!CJ13-1,\"\")","v":""},{"$f":"IFERROR('Weekly Metrics'!EK13/'Weekly Metrics'!CK13-1,\"\")","v":""},{"$f":"IFERROR('Weekly Metrics'!EL13/'Weekly Metrics'!CL13-1,\"\")","v":""},{"$f":"IFERROR('Weekly Metrics'!EM13/'Weekly Metrics'!CM13-1,\"\")","v":""},{"$f":"IFERROR('Weekly Metrics'!EN13/'Weekly Metrics'!CN13-1,\"\")","v":""},{"$f":"IFERROR('Weekly Metrics'!EO13/'Weekly Metrics'!CO13-1,\"\")","v":""},{"$f":"IFERROR('Weekly Metrics'!EP13/'Weekly Metrics'!CP13-1,\"\")","v":""},{"$f":"IFERROR('Weekly Metrics'!EQ13/'Weekly Metrics'!CQ13-1,\"\")","v":""},{"$f":"IFERROR('Weekly Metrics'!ER13/'Weekly Metrics'!CR13-1,\"\")","v":""},{"$f":"IFERROR('Weekly Metrics'!ES13/'Weekly Metrics'!CS13-1,\"\")","v":""},{"$f":"IFERROR('Weekly Metrics'!ET13/'Weekly Metrics'!CT13-1,\"\")","v":""},{"$f":"IFERROR('Weekly Metrics'!EU13/'Weekly Metrics'!CU13-1,\"\")","v":""},{"$f":"IFERROR('Weekly Metrics'!EV13/'Weekly Metrics'!CV13-1,\"\")","v":""},{"$f":"IFERROR('Weekly Metrics'!EW13/'Weekly Metrics'!CW13-1,\"\")","v":""},{"$f":"IFERROR('Weekly Metrics'!EX13/'Weekly Metrics'!CX13-1,\"\")","v":""},{"$f":"IFERROR('Weekly Metrics'!EY13/'Weekly Metrics'!CY13-1,\"\")","v":""},{"$f":"IFERROR('Weekly Metrics'!EZ13/'Weekly Metrics'!CZ13-1,\"\")","v":""},{"$f":"IFERROR('Weekly Metrics'!FA13/'Weekly Metrics'!DA13-1,\"\")","v":""},{"$f":"IFERROR('Weekly Metrics'!FB13/'Weekly Metrics'!DB13-1,\"\")","v":""},{"$f":"IFERROR('Weekly Metrics'!FC13/'Weekly Metrics'!DC13-1,\"\")","v":""},{"$f":"IFERROR('Weekly Metrics'!FD13/'Weekly Metrics'!DD13-1,\"\")","v":""},{"$f":"IFERROR('Weekly Metrics'!FE13/'Weekly Metrics'!DE13-1,\"\")","v":""},{"$f":"IFERROR('Weekly Metrics'!FF13/'Weekly Metrics'!DF13-1,\"\")","v":""},{"$f":"IFERROR('Weekly Metrics'!FG13/'Weekly Metrics'!DG13-1,\"\")","v":""},{"$f":"IFERROR('Weekly Metrics'!FH13/'Weekly Metrics'!DH13-1,\"\")","v":""},{"$f":"IFERROR('Weekly Metrics'!FI13/'Weekly Metrics'!DI13-1,\"\")","v":""},{"$f":"IFERROR('Weekly Metrics'!FJ13/'Weekly Metrics'!DJ13-1,\"\")","v":""},{"$f":"IFERROR('Weekly Metrics'!FK13/'Weekly Metrics'!DK13-1,\"\")","v":""},{"$f":"IFERROR('Weekly Metrics'!FL13/'Weekly Metrics'!DL13-1,\"\")","v":""},{"$f":"IFERROR('Weekly Metrics'!FM13/'Weekly Metrics'!DM13-1,\"\")","v":""},{"$f":"IFERROR('Weekly Metrics'!FN13/'Weekly Metrics'!DN13-1,\"\")","v":""},{"$f":"IFERROR('Weekly Metrics'!FO13/'Weekly Metrics'!DO13-1,\"\")","v":""},{"$f":"IFERROR('Weekly Metrics'!FP13/'Weekly Metrics'!DP13-1,\"\")","v":""},{"$f":"IFERROR('Weekly Metrics'!FQ13/'Weekly Metrics'!DQ13-1,\"\")","v":""},{"$f":"IFERROR('Weekly Metrics'!FR13/'Weekly Metrics'!DR13-1,\"\")","v":""},{"$f":"IFERROR('Weekly Metrics'!FS13/'Weekly Metrics'!DS13-1,\"\")","v":""},{"$f":"IFERROR('Weekly Metrics'!FT13/'Weekly Metrics'!DT13-1,\"\")","v":""},{"$f":"IFERROR('Weekly Metrics'!FU13/'Weekly Metrics'!DU13-1,\"\")","v":""},{"$f":"IFERROR('Weekly Metrics'!FV13/'Weekly Metrics'!DV13-1,\"\")","v":""},{"$f":"IFERROR('Weekly Metrics'!FW13/'Weekly Metrics'!DW13-1,\"\")","v":""},{"$f":"IFERROR('Weekly Metrics'!FX13/'Weekly Metrics'!DX13-1,\"\")","v":""},{"$f":"IFERROR('Weekly Metrics'!FY13/'Weekly Metrics'!DY13-1,\"\")","v":""},{"$f":"IFERROR('Weekly Metrics'!FZ13/'Weekly Metrics'!DZ13-1,\"\")","v":""},{"$f":"IFERROR('Weekly Metrics'!GA13/'Weekly Metrics'!EA13-1,\"\")","v":""},{"$f":"IFERROR('Weekly Metrics'!GB13/'Weekly Metrics'!EB13-1,\"\")","v":""},{"$f":"IFERROR('Weekly Metrics'!GC13/'Weekly Metrics'!EC13-1,\"\")","v":""},{"$f":"IFERROR('Weekly Metrics'!GD13/'Weekly Metrics'!ED13-1,\"\")","v":""},{"$f":"IFERROR('Weekly Metrics'!GE13/'Weekly Metrics'!EE13-1,\"\")","v":""},{"$f":"IFERROR('Weekly Metrics'!GF13/'Weekly Metrics'!EF13-1,\"\")","v":""},{"$f":"IFERROR('Weekly Metrics'!GG13/'Weekly Metrics'!EG13-1,\"\")","v":""},{"$f":"IFERROR('Weekly Metrics'!GH13/'Weekly Metrics'!EH13-1,\"\")","v":""},{"$f":"IFERROR('Weekly Metrics'!GI13/'Weekly Metrics'!EI13-1,\"\")","v":""},{"$f":"IFERROR('Weekly Metrics'!GJ13/'Weekly Metrics'!EJ13-1,\"\")","v":""},{"$f":"IFERROR('Weekly Metrics'!GK13/'Weekly Metrics'!EK13-1,\"\")","v":""},{"$f":"IFERROR('Weekly Metrics'!GL13/'Weekly Metrics'!EL13-1,\"\")","v":""},{"$f":"IFERROR('Weekly Metrics'!GM13/'Weekly Metrics'!EM13-1,\"\")","v":""},{"$f":"IFERROR('Weekly Metrics'!GN13/'Weekly Metrics'!EN13-1,\"\")","v":""},{"$f":"IFERROR('Weekly Metrics'!GO13/'Weekly Metrics'!EO13-1,\"\")","v":""},{"$f":"IFERROR('Weekly Metrics'!GP13/'Weekly Metrics'!EP13-1,\"\")","v":""}]
[{"$f":"IF('Weekly Metrics'!A14=0,\"\",'Weekly Metrics'!A14)","v":""},{"$f":"IF('Weekly Metrics'!B14=0,\"\",'Weekly Metrics'!B14)","v":""},{"$f":"IFERROR('Weekly Metrics'!C14/'Weekly Metrics'!#REF!-1,\"\")","v":""},{"$f":"IFERROR('Weekly Metrics'!D14/'Weekly Metrics'!#REF!-1,\"\")","v":""},{"$f":"IFERROR('Weekly Metrics'!E14/'Weekly Metrics'!#REF!-1,\"\")","v":""},{"$f":"IFERROR('Weekly Metrics'!F14/'Weekly Metrics'!#REF!-1,\"\")","v":""},{"$f":"IFERROR('Weekly Metrics'!G14/'Weekly Metrics'!#REF!-1,\"\")","v":""},{"$f":"IFERROR('Weekly Metrics'!H14/'Weekly Metrics'!#REF!-1,\"\")","v":""},{"$f":"IFERROR('Weekly Metrics'!I14/'Weekly Metrics'!#REF!-1,\"\")","v":""},{"$f":"IFERROR('Weekly Metrics'!J14/'Weekly Metrics'!#REF!-1,\"\")","v":""},{"$f":"IFERROR('Weekly Metrics'!K14/'Weekly Metrics'!#REF!-1,\"\")","v":""},{"$f":"IFERROR('Weekly Metrics'!L14/'Weekly Metrics'!#REF!-1,\"\")","v":""},{"$f":"IFERROR('Weekly Metrics'!M14/'Weekly Metrics'!#REF!-1,\"\")","v":""},{"$f":"IFERROR('Weekly Metrics'!N14/'Weekly Metrics'!#REF!-1,\"\")","v":""},{"$f":"IFERROR('Weekly Metrics'!O14/'Weekly Metrics'!#REF!-1,\"\")","v":""},{"$f":"IFERROR('Weekly Metrics'!P14/'Weekly Metrics'!#REF!-1,\"\")","v":""},{"$f":"IFERROR('Weekly Metrics'!Q14/'Weekly Metrics'!#REF!-1,\"\")","v":""},{"$f":"IFERROR('Weekly Metrics'!R14/'Weekly Metrics'!#REF!-1,\"\")","v":""},{"$f":"IFERROR('Weekly Metrics'!S14/'Weekly Metrics'!#REF!-1,\"\")","v":""},{"$f":"IFERROR('Weekly Metrics'!T14/'Weekly Metrics'!#REF!-1,\"\")","v":""},{"$f":"IFERROR('Weekly Metrics'!U14/'Weekly Metrics'!#REF!-1,\"\")","v":""},{"$f":"IFERROR('Weekly Metrics'!V14/'Weekly Metrics'!#REF!-1,\"\")","v":""},{"$f":"IFERROR('Weekly Metrics'!W14/'Weekly Metrics'!#REF!-1,\"\")","v":""},{"$f":"IFERROR('Weekly Metrics'!X14/'Weekly Metrics'!#REF!-1,\"\")","v":""},{"$f":"IFERROR('Weekly Metrics'!Y14/'Weekly Metrics'!#REF!-1,\"\")","v":""},{"$f":"IFERROR('Weekly Metrics'!Z14/'Weekly Metrics'!#REF!-1,\"\")","v":""},{"$f":"IFERROR('Weekly Metrics'!AA14/'Weekly Metrics'!#REF!-1,\"\")","v":""},{"$f":"IFERROR('Weekly Metrics'!AB14/'Weekly Metrics'!#REF!-1,\"\")","v":""},{"$f":"IFERROR('Weekly Metrics'!AC14/'Weekly Metrics'!#REF!-1,\"\")","v":""},{"$f":"IFERROR('Weekly Metrics'!AD14/'Weekly Metrics'!#REF!-1,\"\")","v":""},{"$f":"IFERROR('Weekly Metrics'!AE14/'Weekly Metrics'!#REF!-1,\"\")","v":""},{"$f":"IFERROR('Weekly Metrics'!AF14/'Weekly Metrics'!#REF!-1,\"\")","v":""},{"$f":"IFERROR('Weekly Metrics'!AG14/'Weekly Metrics'!#REF!-1,\"\")","v":""},{"$f":"IFERROR('Weekly Metrics'!AH14/'Weekly Metrics'!#REF!-1,\"\")","v":""},{"$f":"IFERROR('Weekly Metrics'!AI14/'Weekly Metrics'!#REF!-1,\"\")","v":""},{"$f":"IFERROR('Weekly Metrics'!AJ14/'Weekly Metrics'!#REF!-1,\"\")","v":""},{"$f":"IFERROR('Weekly Metrics'!AK14/'Weekly Metrics'!#REF!-1,\"\")","v":""},{"$f":"IFERROR('Weekly Metrics'!AL14/'Weekly Metrics'!#REF!-1,\"\")","v":""},{"$f":"IFERROR('Weekly Metrics'!AM14/'Weekly Metrics'!#REF!-1,\"\")","v":""},{"$f":"IFERROR('Weekly Metrics'!AN14/'Weekly Metrics'!#REF!-1,\"\")","v":""},{"$f":"IFERROR('Weekly Metrics'!AO14/'Weekly Metrics'!#REF!-1,\"\")","v":""},{"$f":"IFERROR('Weekly Metrics'!AP14/'Weekly Metrics'!#REF!-1,\"\")","v":""},{"$f":"IFERROR('Weekly Metrics'!AQ14/'Weekly Metrics'!#REF!-1,\"\")","v":""},{"$f":"IFERROR('Weekly Metrics'!AR14/'Weekly Metrics'!#REF!-1,\"\")","v":""},{"$f":"IFERROR('Weekly Metrics'!AS14/'Weekly Metrics'!#REF!-1,\"\")","v":""},{"$f":"IFERROR('Weekly Metrics'!AT14/'Weekly Metrics'!#REF!-1,\"\")","v":""},{"$f":"IFERROR('Weekly Metrics'!AU14/'Weekly Metrics'!#REF!-1,\"\")","v":""},{"$f":"IFERROR('Weekly Metrics'!AV14/'Weekly Metrics'!#REF!-1,\"\")","v":""},{"$f":"IFERROR('Weekly Metrics'!AW14/'Weekly Metrics'!#REF!-1,\"\")","v":""},{"$f":"IFERROR('Weekly Metrics'!AX14/'Weekly Metrics'!#REF!-1,\"\")","v":""},{"$f":"IFERROR('Weekly Metrics'!AY14/'Weekly Metrics'!#REF!-1,\"\")","v":""},{"$f":"IFERROR('Weekly Metrics'!AZ14/'Weekly Metrics'!#REF!-1,\"\")","v":""},{"$f":"IFERROR('Weekly Metrics'!BA14/'Weekly Metrics'!A14-1,\"\")","v":""},{"$f":"IFERROR('Weekly Metrics'!BB14/'Weekly Metrics'!B14-1,\"\")","v":""},{"$f":"IFERROR('Weekly Metrics'!BC14/'Weekly Metrics'!C14-1,\"\")","v":""},{"$f":"IFERROR('Weekly Metrics'!BD14/'Weekly Metrics'!D14-1,\"\")","v":""},{"$f":"IFERROR('Weekly Metrics'!BE14/'Weekly Metrics'!E14-1,\"\")","v":""},{"$f":"IFERROR('Weekly Metrics'!BF14/'Weekly Metrics'!F14-1,\"\")","v":""},{"$f":"IFERROR('Weekly Metrics'!BG14/'Weekly Metrics'!G14-1,\"\")","v":""},{"$f":"IFERROR('Weekly Metrics'!BH14/'Weekly Metrics'!H14-1,\"\")","v":""},{"$f":"IFERROR('Weekly Metrics'!BI14/'Weekly Metrics'!I14-1,\"\")","v":""},{"$f":"IFERROR('Weekly Metrics'!BJ14/'Weekly Metrics'!J14-1,\"\")","v":""},{"$f":"IFERROR('Weekly Metrics'!BK14/'Weekly Metrics'!K14-1,\"\")","v":""},{"$f":"IFERROR('Weekly Metrics'!BL14/'Weekly Metrics'!L14-1,\"\")","v":""},{"$f":"IFERROR('Weekly Metrics'!BM14/'Weekly Metrics'!M14-1,\"\")","v":""},{"$f":"IFERROR('Weekly Metrics'!BN14/'Weekly Metrics'!N14-1,\"\")","v":""},{"$f":"IFERROR('Weekly Metrics'!BO14/'Weekly Metrics'!O14-1,\"\")","v":""},{"$f":"IFERROR('Weekly Metrics'!BP14/'Weekly Metrics'!P14-1,\"\")","v":""},{"$f":"IFERROR('Weekly Metrics'!BQ14/'Weekly Metrics'!Q14-1,\"\")","v":""},{"$f":"IFERROR('Weekly Metrics'!BR14/'Weekly Metrics'!R14-1,\"\")","v":""},{"$f":"IFERROR('Weekly Metrics'!BS14/'Weekly Metrics'!S14-1,\"\")","v":""},{"$f":"IFERROR('Weekly Metrics'!BT14/'Weekly Metrics'!T14-1,\"\")","v":""},{"$f":"IFERROR('Weekly Metrics'!BU14/'Weekly Metrics'!U14-1,\"\")","v":""},{"$f":"IFERROR('Weekly Metrics'!BV14/'Weekly Metrics'!V14-1,\"\")","v":""},{"$f":"IFERROR('Weekly Metrics'!BW14/'Weekly Metrics'!W14-1,\"\")","v":""},{"$f":"IFERROR('Weekly Metrics'!BX14/'Weekly Metrics'!X14-1,\"\")","v":""},{"$f":"IFERROR('Weekly Metrics'!BY14/'Weekly Metrics'!Y14-1,\"\")","v":""},{"$f":"IFERROR('Weekly Metrics'!BZ14/'Weekly Metrics'!Z14-1,\"\")","v":""},{"$f":"IFERROR('Weekly Metrics'!CA14/'Weekly Metrics'!AA14-1,\"\")","v":""},{"$f":"IFERROR('Weekly Metrics'!CB14/'Weekly Metrics'!AB14-1,\"\")","v":""},{"$f":"IFERROR('Weekly Metrics'!CC14/'Weekly Metrics'!AC14-1,\"\")","v":""},{"$f":"IFERROR('Weekly Metrics'!CD14/'Weekly Metrics'!AD14-1,\"\")","v":""},{"$f":"IFERROR('Weekly Metrics'!CE14/'Weekly Metrics'!AE14-1,\"\")","v":""},{"$f":"IFERROR('Weekly Metrics'!CF14/'Weekly Metrics'!AF14-1,\"\")","v":""},{"$f":"IFERROR('Weekly Metrics'!CG14/'Weekly Metrics'!AG14-1,\"\")","v":""},{"$f":"IFERROR('Weekly Metrics'!CH14/'Weekly Metrics'!AH14-1,\"\")","v":""},{"$f":"IFERROR('Weekly Metrics'!CI14/'Weekly Metrics'!AI14-1,\"\")","v":""},{"$f":"IFERROR('Weekly Metrics'!CJ14/'Weekly Metrics'!AJ14-1,\"\")","v":""},{"$f":"IFERROR('Weekly Metrics'!CK14/'Weekly Metrics'!AK14-1,\"\")","v":""},{"$f":"IFERROR('Weekly Metrics'!CL14/'Weekly Metrics'!AL14-1,\"\")","v":""},{"$f":"IFERROR('Weekly Metrics'!CM14/'Weekly Metrics'!AM14-1,\"\")","v":""},{"$f":"IFERROR('Weekly Metrics'!CN14/'Weekly Metrics'!AN14-1,\"\")","v":""},{"$f":"IFERROR('Weekly Metrics'!CO14/'Weekly Metrics'!AO14-1,\"\")","v":""},{"$f":"IFERROR('Weekly Metrics'!CP14/'Weekly Metrics'!AP14-1,\"\")","v":""},{"$f":"IFERROR('Weekly Metrics'!CQ14/'Weekly Metrics'!AQ14-1,\"\")","v":""},{"$f":"IFERROR('Weekly Metrics'!CR14/'Weekly Metrics'!AR14-1,\"\")","v":""},{"$f":"IFERROR('Weekly Metrics'!CS14/'Weekly Metrics'!AS14-1,\"\")","v":""},{"$f":"IFERROR('Weekly Metrics'!CT14/'Weekly Metrics'!AT14-1,\"\")","v":""},{"$f":"IFERROR('Weekly Metrics'!CU14/'Weekly Metrics'!AU14-1,\"\")","v":""},{"$f":"IFERROR('Weekly Metrics'!CV14/'Weekly Metrics'!AV14-1,\"\")","v":""},{"$f":"IFERROR('Weekly Metrics'!CW14/'Weekly Metrics'!AW14-1,\"\")","v":""},{"$f":"IFERROR('Weekly Metrics'!CX14/'Weekly Metrics'!AX14-1,\"\")","v":""},{"$f":"IFERROR('Weekly Metrics'!CY14/'Weekly Metrics'!AY14-1,\"\")","v":""},{"$f":"IFERROR('Weekly Metrics'!CZ14/'Weekly Metrics'!AZ14-1,\"\")","v":""},{"$f":"IFERROR('Weekly Metrics'!DA14/'Weekly Metrics'!BA14-1,\"\")","v":""},{"$f":"IFERROR('Weekly Metrics'!DB14/'Weekly Metrics'!BB14-1,\"\")","v":""},{"$f":"IFERROR('Weekly Metrics'!DC14/'Weekly Metrics'!BC14-1,\"\")","v":""},{"$f":"IFERROR('Weekly Metrics'!DD14/'Weekly Metrics'!BD14-1,\"\")","v":""},{"$f":"IFERROR('Weekly Metrics'!DE14/'Weekly Metrics'!BE14-1,\"\")","v":""},{"$f":"IFERROR('Weekly Metrics'!DF14/'Weekly Metrics'!BF14-1,\"\")","v":""},{"$f":"IFERROR('Weekly Metrics'!DG14/'Weekly Metrics'!BG14-1,\"\")","v":""},{"$f":"IFERROR('Weekly Metrics'!DH14/'Weekly Metrics'!BH14-1,\"\")","v":""},{"$f":"IFERROR('Weekly Metrics'!DI14/'Weekly Metrics'!BI14-1,\"\")","v":""},{"$f":"IFERROR('Weekly Metrics'!DJ14/'Weekly Metrics'!BJ14-1,\"\")","v":""},{"$f":"IFERROR('Weekly Metrics'!DK14/'Weekly Metrics'!BK14-1,\"\")","v":""},{"$f":"IFERROR('Weekly Metrics'!DL14/'Weekly Metrics'!BL14-1,\"\")","v":""},{"$f":"IFERROR('Weekly Metrics'!DM14/'Weekly Metrics'!BM14-1,\"\")","v":""},{"$f":"IFERROR('Weekly Metrics'!DN14/'Weekly Metrics'!BN14-1,\"\")","v":""},{"$f":"IFERROR('Weekly Metrics'!DO14/'Weekly Metrics'!BO14-1,\"\")","v":""},{"$f":"IFERROR('Weekly Metrics'!DP14/'Weekly Metrics'!BP14-1,\"\")","v":""},{"$f":"IFERROR('Weekly Metrics'!DQ14/'Weekly Metrics'!BQ14-1,\"\")","v":""},{"$f":"IFERROR('Weekly Metrics'!DR14/'Weekly Metrics'!BR14-1,\"\")","v":""},{"$f":"IFERROR('Weekly Metrics'!DS14/'Weekly Metrics'!BS14-1,\"\")","v":""},{"$f":"IFERROR('Weekly Metrics'!DT14/'Weekly Metrics'!BT14-1,\"\")","v":""},{"$f":"IFERROR('Weekly Metrics'!DU14/'Weekly Metrics'!BU14-1,\"\")","v":""},{"$f":"IFERROR('Weekly Metrics'!DV14/'Weekly Metrics'!BV14-1,\"\")","v":""},{"$f":"IFERROR('Weekly Metrics'!DW14/'Weekly Metrics'!BW14-1,\"\")","v":""},{"$f":"IFERROR('Weekly Metrics'!DX14/'Weekly Metrics'!BX14-1,\"\")","v":""},{"$f":"IFERROR('Weekly Metrics'!DY14/'Weekly Metrics'!BY14-1,\"\")","v":""},{"$f":"IFERROR('Weekly Metrics'!DZ14/'Weekly Metrics'!BZ14-1,\"\")","v":""},{"$f":"IFERROR('Weekly Metrics'!EA14/'Weekly Metrics'!CA14-1,\"\")","v":""},{"$f":"IFERROR('Weekly Metrics'!EB14/'Weekly Metrics'!CB14-1,\"\")","v":""},{"$f":"IFERROR('Weekly Metrics'!EC14/'Weekly Metrics'!CC14-1,\"\")","v":""},{"$f":"IFERROR('Weekly Metrics'!ED14/'Weekly Metrics'!CD14-1,\"\")","v":""},{"$f":"IFERROR('Weekly Metrics'!EE14/'Weekly Metrics'!CE14-1,\"\")","v":""},{"$f":"IFERROR('Weekly Metrics'!EF14/'Weekly Metrics'!CF14-1,\"\")","v":""},{"$f":"IFERROR('Weekly Metrics'!EG14/'Weekly Metrics'!CG14-1,\"\")","v":""},{"$f":"IFERROR('Weekly Metrics'!EH14/'Weekly Metrics'!CH14-1,\"\")","v":""},{"$f":"IFERROR('Weekly Metrics'!EI14/'Weekly Metrics'!CI14-1,\"\")","v":""},{"$f":"IFERROR('Weekly Metrics'!EJ14/'Weekly Metrics'!CJ14-1,\"\")","v":""},{"$f":"IFERROR('Weekly Metrics'!EK14/'Weekly Metrics'!CK14-1,\"\")","v":""},{"$f":"IFERROR('Weekly Metrics'!EL14/'Weekly Metrics'!CL14-1,\"\")","v":""},{"$f":"IFERROR('Weekly Metrics'!EM14/'Weekly Metrics'!CM14-1,\"\")","v":""},{"$f":"IFERROR('Weekly Metrics'!EN14/'Weekly Metrics'!CN14-1,\"\")","v":""},{"$f":"IFERROR('Weekly Metrics'!EO14/'Weekly Metrics'!CO14-1,\"\")","v":""},{"$f":"IFERROR('Weekly Metrics'!EP14/'Weekly Metrics'!CP14-1,\"\")","v":""},{"$f":"IFERROR('Weekly Metrics'!EQ14/'Weekly Metrics'!CQ14-1,\"\")","v":""},{"$f":"IFERROR('Weekly Metrics'!ER14/'Weekly Metrics'!CR14-1,\"\")","v":""},{"$f":"IFERROR('Weekly Metrics'!ES14/'Weekly Metrics'!CS14-1,\"\")","v":""},{"$f":"IFERROR('Weekly Metrics'!ET14/'Weekly Metrics'!CT14-1,\"\")","v":""},{"$f":"IFERROR('Weekly Metrics'!EU14/'Weekly Metrics'!CU14-1,\"\")","v":""},{"$f":"IFERROR('Weekly Metrics'!EV14/'Weekly Metrics'!CV14-1,\"\")","v":""},{"$f":"IFERROR('Weekly Metrics'!EW14/'Weekly Metrics'!CW14-1,\"\")","v":""},{"$f":"IFERROR('Weekly Metrics'!EX14/'Weekly Metrics'!CX14-1,\"\")","v":""},{"$f":"IFERROR('Weekly Metrics'!EY14/'Weekly Metrics'!CY14-1,\"\")","v":""},{"$f":"IFERROR('Weekly Metrics'!EZ14/'Weekly Metrics'!CZ14-1,\"\")","v":""},{"$f":"IFERROR('Weekly Metrics'!FA14/'Weekly Metrics'!DA14-1,\"\")","v":""},{"$f":"IFERROR('Weekly Metrics'!FB14/'Weekly Metrics'!DB14-1,\"\")","v":""},{"$f":"IFERROR('Weekly Metrics'!FC14/'Weekly Metrics'!DC14-1,\"\")","v":""},{"$f":"IFERROR('Weekly Metrics'!FD14/'Weekly Metrics'!DD14-1,\"\")","v":""},{"$f":"IFERROR('Weekly Metrics'!FE14/'Weekly Metrics'!DE14-1,\"\")","v":""},{"$f":"IFERROR('Weekly Metrics'!FF14/'Weekly Metrics'!DF14-1,\"\")","v":""},{"$f":"IFERROR('Weekly Metrics'!FG14/'Weekly Metrics'!DG14-1,\"\")","v":""},{"$f":"IFERROR('Weekly Metrics'!FH14/'Weekly Metrics'!DH14-1,\"\")","v":""},{"$f":"IFERROR('Weekly Metrics'!FI14/'Weekly Metrics'!DI14-1,\"\")","v":""},{"$f":"IFERROR('Weekly Metrics'!FJ14/'Weekly Metrics'!DJ14-1,\"\")","v":""},{"$f":"IFERROR('Weekly Metrics'!FK14/'Weekly Metrics'!DK14-1,\"\")","v":""},{"$f":"IFERROR('Weekly Metrics'!FL14/'Weekly Metrics'!DL14-1,\"\")","v":""},{"$f":"IFERROR('Weekly Metrics'!FM14/'Weekly Metrics'!DM14-1,\"\")","v":""},{"$f":"IFERROR('Weekly Metrics'!FN14/'Weekly Metrics'!DN14-1,\"\")","v":""},{"$f":"IFERROR('Weekly Metrics'!FO14/'Weekly Metrics'!DO14-1,\"\")","v":""},{"$f":"IFERROR('Weekly Metrics'!FP14/'Weekly Metrics'!DP14-1,\"\")","v":""},{"$f":"IFERROR('Weekly Metrics'!FQ14/'Weekly Metrics'!DQ14-1,\"\")","v":""},{"$f":"IFERROR('Weekly Metrics'!FR14/'Weekly Metrics'!DR14-1,\"\")","v":""},{"$f":"IFERROR('Weekly Metrics'!FS14/'Weekly Metrics'!DS14-1,\"\")","v":""},{"$f":"IFERROR('Weekly Metrics'!FT14/'Weekly Metrics'!DT14-1,\"\")","v":""},{"$f":"IFERROR('Weekly Metrics'!FU14/'Weekly Metrics'!DU14-1,\"\")","v":""},{"$f":"IFERROR('Weekly Metrics'!FV14/'Weekly Metrics'!DV14-1,\"\")","v":""},{"$f":"IFERROR('Weekly Metrics'!FW14/'Weekly Metrics'!DW14-1,\"\")","v":""},{"$f":"IFERROR('Weekly Metrics'!FX14/'Weekly Metrics'!DX14-1,\"\")","v":""},{"$f":"IFERROR('Weekly Metrics'!FY14/'Weekly Metrics'!DY14-1,\"\")","v":""},{"$f":"IFERROR('Weekly Metrics'!FZ14/'Weekly Metrics'!DZ14-1,\"\")","v":""},{"$f":"IFERROR('Weekly Metrics'!GA14/'Weekly Metrics'!EA14-1,\"\")","v":""},{"$f":"IFERROR('Weekly Metrics'!GB14/'Weekly Metrics'!EB14-1,\"\")","v":""},{"$f":"IFERROR('Weekly Metrics'!GC14/'Weekly Metrics'!EC14-1,\"\")","v":""},{"$f":"IFERROR('Weekly Metrics'!GD14/'Weekly Metrics'!ED14-1,\"\")","v":""},{"$f":"IFERROR('Weekly Metrics'!GE14/'Weekly Metrics'!EE14-1,\"\")","v":""},{"$f":"IFERROR('Weekly Metrics'!GF14/'Weekly Metrics'!EF14-1,\"\")","v":""},{"$f":"IFERROR('Weekly Metrics'!GG14/'Weekly Metrics'!EG14-1,\"\")","v":""},{"$f":"IFERROR('Weekly Metrics'!GH14/'Weekly Metrics'!EH14-1,\"\")","v":""},{"$f":"IFERROR('Weekly Metrics'!GI14/'Weekly Metrics'!EI14-1,\"\")","v":""},{"$f":"IFERROR('Weekly Metrics'!GJ14/'Weekly Metrics'!EJ14-1,\"\")","v":""},{"$f":"IFERROR('Weekly Metrics'!GK14/'Weekly Metrics'!EK14-1,\"\")","v":""},{"$f":"IFERROR('Weekly Metrics'!GL14/'Weekly Metrics'!EL14-1,\"\")","v":""},{"$f":"IFERROR('Weekly Metrics'!GM14/'Weekly Metrics'!EM14-1,\"\")","v":""},{"$f":"IFERROR('Weekly Metrics'!GN14/'Weekly Metrics'!EN14-1,\"\")","v":""},{"$f":"IFERROR('Weekly Metrics'!GO14/'Weekly Metrics'!EO14-1,\"\")","v":""},{"$f":"IFERROR('Weekly Metrics'!GP14/'Weekly Metrics'!EP14-1,\"\")","v":""}]
[{"$f":"IF('Weekly Metrics'!A15=0,\"\",'Weekly Metrics'!A15)","v":""},{"$f":"IF('Weekly Metrics'!B15=0,\"\",'Weekly Metrics'!B15)","v":""},{"$f":"IFERROR('Weekly Metrics'!C15/'Weekly Metrics'!#REF!-1,\"\")","v":""},{"$f":"IFERROR('Weekly Metrics'!D15/'Weekly Metrics'!#REF!-1,\"\")","v":""},{"$f":"IFERROR('Weekly Metrics'!E15/'Weekly Metrics'!#REF!-1,\"\")","v":""},{"$f":"IFERROR('Weekly Metrics'!F15/'Weekly Metrics'!#REF!-1,\"\")","v":""},{"$f":"IFERROR('Weekly Metrics'!G15/'Weekly Metrics'!#REF!-1,\"\")","v":""},{"$f":"IFERROR('Weekly Metrics'!H15/'Weekly Metrics'!#REF!-1,\"\")","v":""},{"$f":"IFERROR('Weekly Metrics'!I15/'Weekly Metrics'!#REF!-1,\"\")","v":""},{"$f":"IFERROR('Weekly Metrics'!J15/'Weekly Metrics'!#REF!-1,\"\")","v":""},{"$f":"IFERROR('Weekly Metrics'!K15/'Weekly Metrics'!#REF!-1,\"\")","v":""},{"$f":"IFERROR('Weekly Metrics'!L15/'Weekly Metrics'!#REF!-1,\"\")","v":""},{"$f":"IFERROR('Weekly Metrics'!M15/'Weekly Metrics'!#REF!-1,\"\")","v":""},{"$f":"IFERROR('Weekly Metrics'!N15/'Weekly Metrics'!#REF!-1,\"\")","v":""},{"$f":"IFERROR('Weekly Metrics'!O15/'Weekly Metrics'!#REF!-1,\"\")","v":""},{"$f":"IFERROR('Weekly Metrics'!P15/'Weekly Metrics'!#REF!-1,\"\")","v":""},{"$f":"IFERROR('Weekly Metrics'!Q15/'Weekly Metrics'!#REF!-1,\"\")","v":""},{"$f":"IFERROR('Weekly Metrics'!R15/'Weekly Metrics'!#REF!-1,\"\")","v":""},{"$f":"IFERROR('Weekly Metrics'!S15/'Weekly Metrics'!#REF!-1,\"\")","v":""},{"$f":"IFERROR('Weekly Metrics'!T15/'Weekly Metrics'!#REF!-1,\"\")","v":""},{"$f":"IFERROR('Weekly Metrics'!U15/'Weekly Metrics'!#REF!-1,\"\")","v":""},{"$f":"IFERROR('Weekly Metrics'!V15/'Weekly Metrics'!#REF!-1,\"\")","v":""},{"$f":"IFERROR('Weekly Metrics'!W15/'Weekly Metrics'!#REF!-1,\"\")","v":""},{"$f":"IFERROR('Weekly Metrics'!X15/'Weekly Metrics'!#REF!-1,\"\")","v":""},{"$f":"IFERROR('Weekly Metrics'!Y15/'Weekly Metrics'!#REF!-1,\"\")","v":""},{"$f":"IFERROR('Weekly Metrics'!Z15/'Weekly Metrics'!#REF!-1,\"\")","v":""},{"$f":"IFERROR('Weekly Metrics'!AA15/'Weekly Metrics'!#REF!-1,\"\")","v":""},{"$f":"IFERROR('Weekly Metrics'!AB15/'Weekly Metrics'!#REF!-1,\"\")","v":""},{"$f":"IFERROR('Weekly Metrics'!AC15/'Weekly Metrics'!#REF!-1,\"\")","v":""},{"$f":"IFERROR('Weekly Metrics'!AD15/'Weekly Metrics'!#REF!-1,\"\")","v":""},{"$f":"IFERROR('Weekly Metrics'!AE15/'Weekly Metrics'!#REF!-1,\"\")","v":""},{"$f":"IFERROR('Weekly Metrics'!AF15/'Weekly Metrics'!#REF!-1,\"\")","v":""},{"$f":"IFERROR('Weekly Metrics'!AG15/'Weekly Metrics'!#REF!-1,\"\")","v":""},{"$f":"IFERROR('Weekly Metrics'!AH15/'Weekly Metrics'!#REF!-1,\"\")","v":""},{"$f":"IFERROR('Weekly Metrics'!AI15/'Weekly Metrics'!#REF!-1,\"\")","v":""},{"$f":"IFERROR('Weekly Metrics'!AJ15/'Weekly Metrics'!#REF!-1,\"\")","v":""},{"$f":"IFERROR('Weekly Metrics'!AK15/'Weekly Metrics'!#REF!-1,\"\")","v":""},{"$f":"IFERROR('Weekly Metrics'!AL15/'Weekly Metrics'!#REF!-1,\"\")","v":""},{"$f":"IFERROR('Weekly Metrics'!AM15/'Weekly Metrics'!#REF!-1,\"\")","v":""},{"$f":"IFERROR('Weekly Metrics'!AN15/'Weekly Metrics'!#REF!-1,\"\")","v":""},{"$f":"IFERROR('Weekly Metrics'!AO15/'Weekly Metrics'!#REF!-1,\"\")","v":""},{"$f":"IFERROR('Weekly Metrics'!AP15/'Weekly Metrics'!#REF!-1,\"\")","v":""},{"$f":"IFERROR('Weekly Metrics'!AQ15/'Weekly Metrics'!#REF!-1,\"\")","v":""},{"$f":"IFERROR('Weekly Metrics'!AR15/'Weekly Metrics'!#REF!-1,\"\")","v":""},{"$f":"IFERROR('Weekly Metrics'!AS15/'Weekly Metrics'!#REF!-1,\"\")","v":""},{"$f":"IFERROR('Weekly Metrics'!AT15/'Weekly Metrics'!#REF!-1,\"\")","v":""},{"$f":"IFERROR('Weekly Metrics'!AU15/'Weekly Metrics'!#REF!-1,\"\")","v":""},{"$f":"IFERROR('Weekly Metrics'!AV15/'Weekly Metrics'!#REF!-1,\"\")","v":""},{"$f":"IFERROR('Weekly Metrics'!AW15/'Weekly Metrics'!#REF!-1,\"\")","v":""},{"$f":"IFERROR('Weekly Metrics'!AX15/'Weekly Metrics'!#REF!-1,\"\")","v":""},{"$f":"IFERROR('Weekly Metrics'!AY15/'Weekly Metrics'!#REF!-1,\"\")","v":""},{"$f":"IFERROR('Weekly Metrics'!AZ15/'Weekly Metrics'!#REF!-1,\"\")","v":""},{"$f":"IFERROR('Weekly Metrics'!BA15/'Weekly Metrics'!A15-1,\"\")","v":""},{"$f":"IFERROR('Weekly Metrics'!BB15/'Weekly Metrics'!B15-1,\"\")","v":""},{"$f":"IFERROR('Weekly Metrics'!BC15/'Weekly Metrics'!C15-1,\"\")","v":""},{"$f":"IFERROR('Weekly Metrics'!BD15/'Weekly Metrics'!D15-1,\"\")","v":""},{"$f":"IFERROR('Weekly Metrics'!BE15/'Weekly Metrics'!E15-1,\"\")","v":""},{"$f":"IFERROR('Weekly Metrics'!BF15/'Weekly Metrics'!F15-1,\"\")","v":""},{"$f":"IFERROR('Weekly Metrics'!BG15/'Weekly Metrics'!G15-1,\"\")","v":""},{"$f":"IFERROR('Weekly Metrics'!BH15/'Weekly Metrics'!H15-1,\"\")","v":""},{"$f":"IFERROR('Weekly Metrics'!BI15/'Weekly Metrics'!I15-1,\"\")","v":""},{"$f":"IFERROR('Weekly Metrics'!BJ15/'Weekly Metrics'!J15-1,\"\")","v":""},{"$f":"IFERROR('Weekly Metrics'!BK15/'Weekly Metrics'!K15-1,\"\")","v":""},{"$f":"IFERROR('Weekly Metrics'!BL15/'Weekly Metrics'!L15-1,\"\")","v":""},{"$f":"IFERROR('Weekly Metrics'!BM15/'Weekly Metrics'!M15-1,\"\")","v":""},{"$f":"IFERROR('Weekly Metrics'!BN15/'Weekly Metrics'!N15-1,\"\")","v":""},{"$f":"IFERROR('Weekly Metrics'!BO15/'Weekly Metrics'!O15-1,\"\")","v":""},{"$f":"IFERROR('Weekly Metrics'!BP15/'Weekly Metrics'!P15-1,\"\")","v":""},{"$f":"IFERROR('Weekly Metrics'!BQ15/'Weekly Metrics'!Q15-1,\"\")","v":""},{"$f":"IFERROR('Weekly Metrics'!BR15/'Weekly Metrics'!R15-1,\"\")","v":""},{"$f":"IFERROR('Weekly Metrics'!BS15/'Weekly Metrics'!S15-1,\"\")","v":""},{"$f":"IFERROR('Weekly Metrics'!BT15/'Weekly Metrics'!T15-1,\"\")","v":""},{"$f":"IFERROR('Weekly Metrics'!BU15/'Weekly Metrics'!U15-1,\"\")","v":""},{"$f":"IFERROR('Weekly Metrics'!BV15/'Weekly Metrics'!V15-1,\"\")","v":""},{"$f":"IFERROR('Weekly Metrics'!BW15/'Weekly Metrics'!W15-1,\"\")","v":""},{"$f":"IFERROR('Weekly Metrics'!BX15/'Weekly Metrics'!X15-1,\"\")","v":""},{"$f":"IFERROR('Weekly Metrics'!BY15/'Weekly Metrics'!Y15-1,\"\")","v":""},{"$f":"IFERROR('Weekly Metrics'!BZ15/'Weekly Metrics'!Z15-1,\"\")","v":""},{"$f":"IFERROR('Weekly Metrics'!CA15/'Weekly Metrics'!AA15-1,\"\")","v":""},{"$f":"IFERROR('Weekly Metrics'!CB15/'Weekly Metrics'!AB15-1,\"\")","v":""},{"$f":"IFERROR('Weekly Metrics'!CC15/'Weekly Metrics'!AC15-1,\"\")","v":""},{"$f":"IFERROR('Weekly Metrics'!CD15/'Weekly Metrics'!AD15-1,\"\")","v":""},{"$f":"IFERROR('Weekly Metrics'!CE15/'Weekly Metrics'!AE15-1,\"\")","v":""},{"$f":"IFERROR('Weekly Metrics'!CF15/'Weekly Metrics'!AF15-1,\"\")","v":""},{"$f":"IFERROR('Weekly Metrics'!CG15/'Weekly Metrics'!AG15-1,\"\")","v":""},{"$f":"IFERROR('Weekly Metrics'!CH15/'Weekly Metrics'!AH15-1,\"\")","v":""},{"$f":"IFERROR('Weekly Metrics'!CI15/'Weekly Metrics'!AI15-1,\"\")","v":""},{"$f":"IFERROR('Weekly Metrics'!CJ15/'Weekly Metrics'!AJ15-1,\"\")","v":""},{"$f":"IFERROR('Weekly Metrics'!CK15/'Weekly Metrics'!AK15-1,\"\")","v":""},{"$f":"IFERROR('Weekly Metrics'!CL15/'Weekly Metrics'!AL15-1,\"\")","v":""},{"$f":"IFERROR('Weekly Metrics'!CM15/'Weekly Metrics'!AM15-1,\"\")","v":""},{"$f":"IFERROR('Weekly Metrics'!CN15/'Weekly Metrics'!AN15-1,\"\")","v":""},{"$f":"IFERROR('Weekly Metrics'!CO15/'Weekly Metrics'!AO15-1,\"\")","v":""},{"$f":"IFERROR('Weekly Metrics'!CP15/'Weekly Metrics'!AP15-1,\"\")","v":""},{"$f":"IFERROR('Weekly Metrics'!CQ15/'Weekly Metrics'!AQ15-1,\"\")","v":""},{"$f":"IFERROR('Weekly Metrics'!CR15/'Weekly Metrics'!AR15-1,\"\")","v":""},{"$f":"IFERROR('Weekly Metrics'!CS15/'Weekly Metrics'!AS15-1,\"\")","v":""},{"$f":"IFERROR('Weekly Metrics'!CT15/'Weekly Metrics'!AT15-1,\"\")","v":""},{"$f":"IFERROR('Weekly Metrics'!CU15/'Weekly Metrics'!AU15-1,\"\")","v":""},{"$f":"IFERROR('Weekly Metrics'!CV15/'Weekly Metrics'!AV15-1,\"\")","v":""},{"$f":"IFERROR('Weekly Metrics'!CW15/'Weekly Metrics'!AW15-1,\"\")","v":""},{"$f":"IFERROR('Weekly Metrics'!CX15/'Weekly Metrics'!AX15-1,\"\")","v":""},{"$f":"IFERROR('Weekly Metrics'!CY15/'Weekly Metrics'!AY15-1,\"\")","v":""},{"$f":"IFERROR('Weekly Metrics'!CZ15/'Weekly Metrics'!AZ15-1,\"\")","v":""},{"$f":"IFERROR('Weekly Metrics'!DA15/'Weekly Metrics'!BA15-1,\"\")","v":""},{"$f":"IFERROR('Weekly Metrics'!DB15/'Weekly Metrics'!BB15-1,\"\")","v":""},{"$f":"IFERROR('Weekly Metrics'!DC15/'Weekly Metrics'!BC15-1,\"\")","v":""},{"$f":"IFERROR('Weekly Metrics'!DD15/'Weekly Metrics'!BD15-1,\"\")","v":""},{"$f":"IFERROR('Weekly Metrics'!DE15/'Weekly Metrics'!BE15-1,\"\")","v":""},{"$f":"IFERROR('Weekly Metrics'!DF15/'Weekly Metrics'!BF15-1,\"\")","v":""},{"$f":"IFERROR('Weekly Metrics'!DG15/'Weekly Metrics'!BG15-1,\"\")","v":""},{"$f":"IFERROR('Weekly Metrics'!DH15/'Weekly Metrics'!BH15-1,\"\")","v":""},{"$f":"IFERROR('Weekly Metrics'!DI15/'Weekly Metrics'!BI15-1,\"\")","v":""},{"$f":"IFERROR('Weekly Metrics'!DJ15/'Weekly Metrics'!BJ15-1,\"\")","v":""},{"$f":"IFERROR('Weekly Metrics'!DK15/'Weekly Metrics'!BK15-1,\"\")","v":""},{"$f":"IFERROR('Weekly Metrics'!DL15/'Weekly Metrics'!BL15-1,\"\")","v":""},{"$f":"IFERROR('Weekly Metrics'!DM15/'Weekly Metrics'!BM15-1,\"\")","v":""},{"$f":"IFERROR('Weekly Metrics'!DN15/'Weekly Metrics'!BN15-1,\"\")","v":""},{"$f":"IFERROR('Weekly Metrics'!DO15/'Weekly Metrics'!BO15-1,\"\")","v":""},{"$f":"IFERROR('Weekly Metrics'!DP15/'Weekly Metrics'!BP15-1,\"\")","v":""},{"$f":"IFERROR('Weekly Metrics'!DQ15/'Weekly Metrics'!BQ15-1,\"\")","v":""},{"$f":"IFERROR('Weekly Metrics'!DR15/'Weekly Metrics'!BR15-1,\"\")","v":""},{"$f":"IFERROR('Weekly Metrics'!DS15/'Weekly Metrics'!BS15-1,\"\")","v":""},{"$f":"IFERROR('Weekly Metrics'!DT15/'Weekly Metrics'!BT15-1,\"\")","v":""},{"$f":"IFERROR('Weekly Metrics'!DU15/'Weekly Metrics'!BU15-1,\"\")","v":""},{"$f":"IFERROR('Weekly Metrics'!DV15/'Weekly Metrics'!BV15-1,\"\")","v":""},{"$f":"IFERROR('Weekly Metrics'!DW15/'Weekly Metrics'!BW15-1,\"\")","v":""},{"$f":"IFERROR('Weekly Metrics'!DX15/'Weekly Metrics'!BX15-1,\"\")","v":""},{"$f":"IFERROR('Weekly Metrics'!DY15/'Weekly Metrics'!BY15-1,\"\")","v":""},{"$f":"IFERROR('Weekly Metrics'!DZ15/'Weekly Metrics'!BZ15-1,\"\")","v":""},{"$f":"IFERROR('Weekly Metrics'!EA15/'Weekly Metrics'!CA15-1,\"\")","v":""},{"$f":"IFERROR('Weekly Metrics'!EB15/'Weekly Metrics'!CB15-1,\"\")","v":""},{"$f":"IFERROR('Weekly Metrics'!EC15/'Weekly Metrics'!CC15-1,\"\")","v":""},{"$f":"IFERROR('Weekly Metrics'!ED15/'Weekly Metrics'!CD15-1,\"\")","v":""},{"$f":"IFERROR('Weekly Metrics'!EE15/'Weekly Metrics'!CE15-1,\"\")","v":""},{"$f":"IFERROR('Weekly Metrics'!EF15/'Weekly Metrics'!CF15-1,\"\")","v":""},{"$f":"IFERROR('Weekly Metrics'!EG15/'Weekly Metrics'!CG15-1,\"\")","v":""},{"$f":"IFERROR('Weekly Metrics'!EH15/'Weekly Metrics'!CH15-1,\"\")","v":""},{"$f":"IFERROR('Weekly Metrics'!EI15/'Weekly Metrics'!CI15-1,\"\")","v":""},{"$f":"IFERROR('Weekly Metrics'!EJ15/'Weekly Metrics'!CJ15-1,\"\")","v":""},{"$f":"IFERROR('Weekly Metrics'!EK15/'Weekly Metrics'!CK15-1,\"\")","v":""},{"$f":"IFERROR('Weekly Metrics'!EL15/'Weekly Metrics'!CL15-1,\"\")","v":""},{"$f":"IFERROR('Weekly Metrics'!EM15/'Weekly Metrics'!CM15-1,\"\")","v":""},{"$f":"IFERROR('Weekly Metrics'!EN15/'Weekly Metrics'!CN15-1,\"\")","v":""},{"$f":"IFERROR('Weekly Metrics'!EO15/'Weekly Metrics'!CO15-1,\"\")","v":""},{"$f":"IFERROR('Weekly Metrics'!EP15/'Weekly Metrics'!CP15-1,\"\")","v":""},{"$f":"IFERROR('Weekly Metrics'!EQ15/'Weekly Metrics'!CQ15-1,\"\")","v":""},{"$f":"IFERROR('Weekly Metrics'!ER15/'Weekly Metrics'!CR15-1,\"\")","v":""},{"$f":"IFERROR('Weekly Metrics'!ES15/'Weekly Metrics'!CS15-1,\"\")","v":""},{"$f":"IFERROR('Weekly Metrics'!ET15/'Weekly Metrics'!CT15-1,\"\")","v":""},{"$f":"IFERROR('Weekly Metrics'!EU15/'Weekly Metrics'!CU15-1,\"\")","v":""},{"$f":"IFERROR('Weekly Metrics'!EV15/'Weekly Metrics'!CV15-1,\"\")","v":""},{"$f":"IFERROR('Weekly Metrics'!EW15/'Weekly Metrics'!CW15-1,\"\")","v":""},{"$f":"IFERROR('Weekly Metrics'!EX15/'Weekly Metrics'!CX15-1,\"\")","v":""},{"$f":"IFERROR('Weekly Metrics'!EY15/'Weekly Metrics'!CY15-1,\"\")","v":""},{"$f":"IFERROR('Weekly Metrics'!EZ15/'Weekly Metrics'!CZ15-1,\"\")","v":""},{"$f":"IFERROR('Weekly Metrics'!FA15/'Weekly Metrics'!DA15-1,\"\")","v":""},{"$f":"IFERROR('Weekly Metrics'!FB15/'Weekly Metrics'!DB15-1,\"\")","v":""},{"$f":"IFERROR('Weekly Metrics'!FC15/'Weekly Metrics'!DC15-1,\"\")","v":""},{"$f":"IFERROR('Weekly Metrics'!FD15/'Weekly Metrics'!DD15-1,\"\")","v":""},{"$f":"IFERROR('Weekly Metrics'!FE15/'Weekly Metrics'!DE15-1,\"\")","v":""},{"$f":"IFERROR('Weekly Metrics'!FF15/'Weekly Metrics'!DF15-1,\"\")","v":""},{"$f":"IFERROR('Weekly Metrics'!FG15/'Weekly Metrics'!DG15-1,\"\")","v":""},{"$f":"IFERROR('Weekly Metrics'!FH15/'Weekly Metrics'!DH15-1,\"\")","v":""},{"$f":"IFERROR('Weekly Metrics'!FI15/'Weekly Metrics'!DI15-1,\"\")","v":""},{"$f":"IFERROR('Weekly Metrics'!FJ15/'Weekly Metrics'!DJ15-1,\"\")","v":""},{"$f":"IFERROR('Weekly Metrics'!FK15/'Weekly Metrics'!DK15-1,\"\")","v":""},{"$f":"IFERROR('Weekly Metrics'!FL15/'Weekly Metrics'!DL15-1,\"\")","v":""},{"$f":"IFERROR('Weekly Metrics'!FM15/'Weekly Metrics'!DM15-1,\"\")","v":""},{"$f":"IFERROR('Weekly Metrics'!FN15/'Weekly Metrics'!DN15-1,\"\")","v":""},{"$f":"IFERROR('Weekly Metrics'!FO15/'Weekly Metrics'!DO15-1,\"\")","v":""},{"$f":"IFERROR('Weekly Metrics'!FP15/'Weekly Metrics'!DP15-1,\"\")","v":""},{"$f":"IFERROR('Weekly Metrics'!FQ15/'Weekly Metrics'!DQ15-1,\"\")","v":""},{"$f":"IFERROR('Weekly Metrics'!FR15/'Weekly Metrics'!DR15-1,\"\")","v":""},{"$f":"IFERROR('Weekly Metrics'!FS15/'Weekly Metrics'!DS15-1,\"\")","v":""},{"$f":"IFERROR('Weekly Metrics'!FT15/'Weekly Metrics'!DT15-1,\"\")","v":""},{"$f":"IFERROR('Weekly Metrics'!FU15/'Weekly Metrics'!DU15-1,\"\")","v":""},{"$f":"IFERROR('Weekly Metrics'!FV15/'Weekly Metrics'!DV15-1,\"\")","v":""},{"$f":"IFERROR('Weekly Metrics'!FW15/'Weekly Metrics'!DW15-1,\"\")","v":""},{"$f":"IFERROR('Weekly Metrics'!FX15/'Weekly Metrics'!DX15-1,\"\")","v":""},{"$f":"IFERROR('Weekly Metrics'!FY15/'Weekly Metrics'!DY15-1,\"\")","v":""},{"$f":"IFERROR('Weekly Metrics'!FZ15/'Weekly Metrics'!DZ15-1,\"\")","v":""},{"$f":"IFERROR('Weekly Metrics'!GA15/'Weekly Metrics'!EA15-1,\"\")","v":""},{"$f":"IFERROR('Weekly Metrics'!GB15/'Weekly Metrics'!EB15-1,\"\")","v":""},{"$f":"IFERROR('Weekly Metrics'!GC15/'Weekly Metrics'!EC15-1,\"\")","v":""},{"$f":"IFERROR('Weekly Metrics'!GD15/'Weekly Metrics'!ED15-1,\"\")","v":""},{"$f":"IFERROR('Weekly Metrics'!GE15/'Weekly Metrics'!EE15-1,\"\")","v":""},{"$f":"IFERROR('Weekly Metrics'!GF15/'Weekly Metrics'!EF15-1,\"\")","v":""},{"$f":"IFERROR('Weekly Metrics'!GG15/'Weekly Metrics'!EG15-1,\"\")","v":""},{"$f":"IFERROR('Weekly Metrics'!GH15/'Weekly Metrics'!EH15-1,\"\")","v":""},{"$f":"IFERROR('Weekly Metrics'!GI15/'Weekly Metrics'!EI15-1,\"\")","v":""},{"$f":"IFERROR('Weekly Metrics'!GJ15/'Weekly Metrics'!EJ15-1,\"\")","v":""},{"$f":"IFERROR('Weekly Metrics'!GK15/'Weekly Metrics'!EK15-1,\"\")","v":""},{"$f":"IFERROR('Weekly Metrics'!GL15/'Weekly Metrics'!EL15-1,\"\")","v":""},{"$f":"IFERROR('Weekly Metrics'!GM15/'Weekly Metrics'!EM15-1,\"\")","v":""},{"$f":"IFERROR('Weekly Metrics'!GN15/'Weekly Metrics'!EN15-1,\"\")","v":""},{"$f":"IFERROR('Weekly Metrics'!GO15/'Weekly Metrics'!EO15-1,\"\")","v":""},{"$f":"IFERROR('Weekly Metrics'!GP15/'Weekly Metrics'!EP15-1,\"\")","v":""}]
[{"$f":"IF('Weekly Metrics'!A16=0,\"\",'Weekly Metrics'!A16)","v":""},{"$f":"IF('Weekly Metrics'!B16=0,\"\",'Weekly Metrics'!B16)","v":""},{"$f":"IFERROR('Weekly Metrics'!C16/'Weekly Metrics'!#REF!-1,\"\")","v":""},{"$f":"IFERROR('Weekly Metrics'!D16/'Weekly Metrics'!#REF!-1,\"\")","v":""},{"$f":"IFERROR('Weekly Metrics'!E16/'Weekly Metrics'!#REF!-1,\"\")","v":""},{"$f":"IFERROR('Weekly Metrics'!F16/'Weekly Metrics'!#REF!-1,\"\")","v":""},{"$f":"IFERROR('Weekly Metrics'!G16/'Weekly Metrics'!#REF!-1,\"\")","v":""},{"$f":"IFERROR('Weekly Metrics'!H16/'Weekly Metrics'!#REF!-1,\"\")","v":""},{"$f":"IFERROR('Weekly Metrics'!I16/'Weekly Metrics'!#REF!-1,\"\")","v":""},{"$f":"IFERROR('Weekly Metrics'!J16/'Weekly Metrics'!#REF!-1,\"\")","v":""},{"$f":"IFERROR('Weekly Metrics'!K16/'Weekly Metrics'!#REF!-1,\"\")","v":""},{"$f":"IFERROR('Weekly Metrics'!L16/'Weekly Metrics'!#REF!-1,\"\")","v":""},{"$f":"IFERROR('Weekly Metrics'!M16/'Weekly Metrics'!#REF!-1,\"\")","v":""},{"$f":"IFERROR('Weekly Metrics'!N16/'Weekly Metrics'!#REF!-1,\"\")","v":""},{"$f":"IFERROR('Weekly Metrics'!O16/'Weekly Metrics'!#REF!-1,\"\")","v":""},{"$f":"IFERROR('Weekly Metrics'!P16/'Weekly Metrics'!#REF!-1,\"\")","v":""},{"$f":"IFERROR('Weekly Metrics'!Q16/'Weekly Metrics'!#REF!-1,\"\")","v":""},{"$f":"IFERROR('Weekly Metrics'!R16/'Weekly Metrics'!#REF!-1,\"\")","v":""},{"$f":"IFERROR('Weekly Metrics'!S16/'Weekly Metrics'!#REF!-1,\"\")","v":""},{"$f":"IFERROR('Weekly Metrics'!T16/'Weekly Metrics'!#REF!-1,\"\")","v":""},{"$f":"IFERROR('Weekly Metrics'!U16/'Weekly Metrics'!#REF!-1,\"\")","v":""},{"$f":"IFERROR('Weekly Metrics'!V16/'Weekly Metrics'!#REF!-1,\"\")","v":""},{"$f":"IFERROR('Weekly Metrics'!W16/'Weekly Metrics'!#REF!-1,\"\")","v":""},{"$f":"IFERROR('Weekly Metrics'!X16/'Weekly Metrics'!#REF!-1,\"\")","v":""},{"$f":"IFERROR('Weekly Metrics'!Y16/'Weekly Metrics'!#REF!-1,\"\")","v":""},{"$f":"IFERROR('Weekly Metrics'!Z16/'Weekly Metrics'!#REF!-1,\"\")","v":""},{"$f":"IFERROR('Weekly Metrics'!AA16/'Weekly Metrics'!#REF!-1,\"\")","v":""},{"$f":"IFERROR('Weekly Metrics'!AB16/'Weekly Metrics'!#REF!-1,\"\")","v":""},{"$f":"IFERROR('Weekly Metrics'!AC16/'Weekly Metrics'!#REF!-1,\"\")","v":""},{"$f":"IFERROR('Weekly Metrics'!AD16/'Weekly Metrics'!#REF!-1,\"\")","v":""},{"$f":"IFERROR('Weekly Metrics'!AE16/'Weekly Metrics'!#REF!-1,\"\")","v":""},{"$f":"IFERROR('Weekly Metrics'!AF16/'Weekly Metrics'!#REF!-1,\"\")","v":""},{"$f":"IFERROR('Weekly Metrics'!AG16/'Weekly Metrics'!#REF!-1,\"\")","v":""},{"$f":"IFERROR('Weekly Metrics'!AH16/'Weekly Metrics'!#REF!-1,\"\")","v":""},{"$f":"IFERROR('Weekly Metrics'!AI16/'Weekly Metrics'!#REF!-1,\"\")","v":""},{"$f":"IFERROR('Weekly Metrics'!AJ16/'Weekly Metrics'!#REF!-1,\"\")","v":""},{"$f":"IFERROR('Weekly Metrics'!AK16/'Weekly Metrics'!#REF!-1,\"\")","v":""},{"$f":"IFERROR('Weekly Metrics'!AL16/'Weekly Metrics'!#REF!-1,\"\")","v":""},{"$f":"IFERROR('Weekly Metrics'!AM16/'Weekly Metrics'!#REF!-1,\"\")","v":""},{"$f":"IFERROR('Weekly Metrics'!AN16/'Weekly Metrics'!#REF!-1,\"\")","v":""},{"$f":"IFERROR('Weekly Metrics'!AO16/'Weekly Metrics'!#REF!-1,\"\")","v":""},{"$f":"IFERROR('Weekly Metrics'!AP16/'Weekly Metrics'!#REF!-1,\"\")","v":""},{"$f":"IFERROR('Weekly Metrics'!AQ16/'Weekly Metrics'!#REF!-1,\"\")","v":""},{"$f":"IFERROR('Weekly Metrics'!AR16/'Weekly Metrics'!#REF!-1,\"\")","v":""},{"$f":"IFERROR('Weekly Metrics'!AS16/'Weekly Metrics'!#REF!-1,\"\")","v":""},{"$f":"IFERROR('Weekly Metrics'!AT16/'Weekly Metrics'!#REF!-1,\"\")","v":""},{"$f":"IFERROR('Weekly Metrics'!AU16/'Weekly Metrics'!#REF!-1,\"\")","v":""},{"$f":"IFERROR('Weekly Metrics'!AV16/'Weekly Metrics'!#REF!-1,\"\")","v":""},{"$f":"IFERROR('Weekly Metrics'!AW16/'Weekly Metrics'!#REF!-1,\"\")","v":""},{"$f":"IFERROR('Weekly Metrics'!AX16/'Weekly Metrics'!#REF!-1,\"\")","v":""},{"$f":"IFERROR('Weekly Metrics'!AY16/'Weekly Metrics'!#REF!-1,\"\")","v":""},{"$f":"IFERROR('Weekly Metrics'!AZ16/'Weekly Metrics'!#REF!-1,\"\")","v":""},{"$f":"IFERROR('Weekly Metrics'!BA16/'Weekly Metrics'!A16-1,\"\")","v":""},{"$f":"IFERROR('Weekly Metrics'!BB16/'Weekly Metrics'!B16-1,\"\")","v":""},{"$f":"IFERROR('Weekly Metrics'!BC16/'Weekly Metrics'!C16-1,\"\")","v":""},{"$f":"IFERROR('Weekly Metrics'!BD16/'Weekly Metrics'!D16-1,\"\")","v":""},{"$f":"IFERROR('Weekly Metrics'!BE16/'Weekly Metrics'!E16-1,\"\")","v":""},{"$f":"IFERROR('Weekly Metrics'!BF16/'Weekly Metrics'!F16-1,\"\")","v":""},{"$f":"IFERROR('Weekly Metrics'!BG16/'Weekly Metrics'!G16-1,\"\")","v":""},{"$f":"IFERROR('Weekly Metrics'!BH16/'Weekly Metrics'!H16-1,\"\")","v":""},{"$f":"IFERROR('Weekly Metrics'!BI16/'Weekly Metrics'!I16-1,\"\")","v":""},{"$f":"IFERROR('Weekly Metrics'!BJ16/'Weekly Metrics'!J16-1,\"\")","v":""},{"$f":"IFERROR('Weekly Metrics'!BK16/'Weekly Metrics'!K16-1,\"\")","v":""},{"$f":"IFERROR('Weekly Metrics'!BL16/'Weekly Metrics'!L16-1,\"\")","v":""},{"$f":"IFERROR('Weekly Metrics'!BM16/'Weekly Metrics'!M16-1,\"\")","v":""},{"$f":"IFERROR('Weekly Metrics'!BN16/'Weekly Metrics'!N16-1,\"\")","v":""},{"$f":"IFERROR('Weekly Metrics'!BO16/'Weekly Metrics'!O16-1,\"\")","v":""},{"$f":"IFERROR('Weekly Metrics'!BP16/'Weekly Metrics'!P16-1,\"\")","v":""},{"$f":"IFERROR('Weekly Metrics'!BQ16/'Weekly Metrics'!Q16-1,\"\")","v":""},{"$f":"IFERROR('Weekly Metrics'!BR16/'Weekly Metrics'!R16-1,\"\")","v":""},{"$f":"IFERROR('Weekly Metrics'!BS16/'Weekly Metrics'!S16-1,\"\")","v":""},{"$f":"IFERROR('Weekly Metrics'!BT16/'Weekly Metrics'!T16-1,\"\")","v":""},{"$f":"IFERROR('Weekly Metrics'!BU16/'Weekly Metrics'!U16-1,\"\")","v":""},{"$f":"IFERROR('Weekly Metrics'!BV16/'Weekly Metrics'!V16-1,\"\")","v":""},{"$f":"IFERROR('Weekly Metrics'!BW16/'Weekly Metrics'!W16-1,\"\")","v":""},{"$f":"IFERROR('Weekly Metrics'!BX16/'Weekly Metrics'!X16-1,\"\")","v":""},{"$f":"IFERROR('Weekly Metrics'!BY16/'Weekly Metrics'!Y16-1,\"\")","v":""},{"$f":"IFERROR('Weekly Metrics'!BZ16/'Weekly Metrics'!Z16-1,\"\")","v":""},{"$f":"IFERROR('Weekly Metrics'!CA16/'Weekly Metrics'!AA16-1,\"\")","v":""},{"$f":"IFERROR('Weekly Metrics'!CB16/'Weekly Metrics'!AB16-1,\"\")","v":""},{"$f":"IFERROR('Weekly Metrics'!CC16/'Weekly Metrics'!AC16-1,\"\")","v":""},{"$f":"IFERROR('Weekly Metrics'!CD16/'Weekly Metrics'!AD16-1,\"\")","v":""},{"$f":"IFERROR('Weekly Metrics'!CE16/'Weekly Metrics'!AE16-1,\"\")","v":""},{"$f":"IFERROR('Weekly Metrics'!CF16/'Weekly Metrics'!AF16-1,\"\")","v":""},{"$f":"IFERROR('Weekly Metrics'!CG16/'Weekly Metrics'!AG16-1,\"\")","v":""},{"$f":"IFERROR('Weekly Metrics'!CH16/'Weekly Metrics'!AH16-1,\"\")","v":""},{"$f":"IFERROR('Weekly Metrics'!CI16/'Weekly Metrics'!AI16-1,\"\")","v":""},{"$f":"IFERROR('Weekly Metrics'!CJ16/'Weekly Metrics'!AJ16-1,\"\")","v":""},{"$f":"IFERROR('Weekly Metrics'!CK16/'Weekly Metrics'!AK16-1,\"\")","v":""},{"$f":"IFERROR('Weekly Metrics'!CL16/'Weekly Metrics'!AL16-1,\"\")","v":""},{"$f":"IFERROR('Weekly Metrics'!CM16/'Weekly Metrics'!AM16-1,\"\")","v":""},{"$f":"IFERROR('Weekly Metrics'!CN16/'Weekly Metrics'!AN16-1,\"\")","v":""},{"$f":"IFERROR('Weekly Metrics'!CO16/'Weekly Metrics'!AO16-1,\"\")","v":""},{"$f":"IFERROR('Weekly Metrics'!CP16/'Weekly Metrics'!AP16-1,\"\")","v":""},{"$f":"IFERROR('Weekly Metrics'!CQ16/'Weekly Metrics'!AQ16-1,\"\")","v":""},{"$f":"IFERROR('Weekly Metrics'!CR16/'Weekly Metrics'!AR16-1,\"\")","v":""},{"$f":"IFERROR('Weekly Metrics'!CS16/'Weekly Metrics'!AS16-1,\"\")","v":""},{"$f":"IFERROR('Weekly Metrics'!CT16/'Weekly Metrics'!AT16-1,\"\")","v":""},{"$f":"IFERROR('Weekly Metrics'!CU16/'Weekly Metrics'!AU16-1,\"\")","v":""},{"$f":"IFERROR('Weekly Metrics'!CV16/'Weekly Metrics'!AV16-1,\"\")","v":""},{"$f":"IFERROR('Weekly Metrics'!CW16/'Weekly Metrics'!AW16-1,\"\")","v":""},{"$f":"IFERROR('Weekly Metrics'!CX16/'Weekly Metrics'!AX16-1,\"\")","v":""},{"$f":"IFERROR('Weekly Metrics'!CY16/'Weekly Metrics'!AY16-1,\"\")","v":""},{"$f":"IFERROR('Weekly Metrics'!CZ16/'Weekly Metrics'!AZ16-1,\"\")","v":""},{"$f":"IFERROR('Weekly Metrics'!DA16/'Weekly Metrics'!BA16-1,\"\")","v":""},{"$f":"IFERROR('Weekly Metrics'!DB16/'Weekly Metrics'!BB16-1,\"\")","v":""},{"$f":"IFERROR('Weekly Metrics'!DC16/'Weekly Metrics'!BC16-1,\"\")","v":""},{"$f":"IFERROR('Weekly Metrics'!DD16/'Weekly Metrics'!BD16-1,\"\")","v":""},{"$f":"IFERROR('Weekly Metrics'!DE16/'Weekly Metrics'!BE16-1,\"\")","v":""},{"$f":"IFERROR('Weekly Metrics'!DF16/'Weekly Metrics'!BF16-1,\"\")","v":""},{"$f":"IFERROR('Weekly Metrics'!DG16/'Weekly Metrics'!BG16-1,\"\")","v":""},{"$f":"IFERROR('Weekly Metrics'!DH16/'Weekly Metrics'!BH16-1,\"\")","v":""},{"$f":"IFERROR('Weekly Metrics'!DI16/'Weekly Metrics'!BI16-1,\"\")","v":""},{"$f":"IFERROR('Weekly Metrics'!DJ16/'Weekly Metrics'!BJ16-1,\"\")","v":""},{"$f":"IFERROR('Weekly Metrics'!DK16/'Weekly Metrics'!BK16-1,\"\")","v":""},{"$f":"IFERROR('Weekly Metrics'!DL16/'Weekly Metrics'!BL16-1,\"\")","v":""},{"$f":"IFERROR('Weekly Metrics'!DM16/'Weekly Metrics'!BM16-1,\"\")","v":""},{"$f":"IFERROR('Weekly Metrics'!DN16/'Weekly Metrics'!BN16-1,\"\")","v":""},{"$f":"IFERROR('Weekly Metrics'!DO16/'Weekly Metrics'!BO16-1,\"\")","v":""},{"$f":"IFERROR('Weekly Metrics'!DP16/'Weekly Metrics'!BP16-1,\"\")","v":""},{"$f":"IFERROR('Weekly Metrics'!DQ16/'Weekly Metrics'!BQ16-1,\"\")","v":""},{"$f":"IFERROR('Weekly Metrics'!DR16/'Weekly Metrics'!BR16-1,\"\")","v":""},{"$f":"IFERROR('Weekly Metrics'!DS16/'Weekly Metrics'!BS16-1,\"\")","v":""},{"$f":"IFERROR('Weekly Metrics'!DT16/'Weekly Metrics'!BT16-1,\"\")","v":""},{"$f":"IFERROR('Weekly Metrics'!DU16/'Weekly Metrics'!BU16-1,\"\")","v":""},{"$f":"IFERROR('Weekly Metrics'!DV16/'Weekly Metrics'!BV16-1,\"\")","v":""},{"$f":"IFERROR('Weekly Metrics'!DW16/'Weekly Metrics'!BW16-1,\"\")","v":""},{"$f":"IFERROR('Weekly Metrics'!DX16/'Weekly Metrics'!BX16-1,\"\")","v":""},{"$f":"IFERROR('Weekly Metrics'!DY16/'Weekly Metrics'!BY16-1,\"\")","v":""},{"$f":"IFERROR('Weekly Metrics'!DZ16/'Weekly Metrics'!BZ16-1,\"\")","v":""},{"$f":"IFERROR('Weekly Metrics'!EA16/'Weekly Metrics'!CA16-1,\"\")","v":""},{"$f":"IFERROR('Weekly Metrics'!EB16/'Weekly Metrics'!CB16-1,\"\")","v":""},{"$f":"IFERROR('Weekly Metrics'!EC16/'Weekly Metrics'!CC16-1,\"\")","v":""},{"$f":"IFERROR('Weekly Metrics'!ED16/'Weekly Metrics'!CD16-1,\"\")","v":""},{"$f":"IFERROR('Weekly Metrics'!EE16/'Weekly Metrics'!CE16-1,\"\")","v":""},{"$f":"IFERROR('Weekly Metrics'!EF16/'Weekly Metrics'!CF16-1,\"\")","v":""},{"$f":"IFERROR('Weekly Metrics'!EG16/'Weekly Metrics'!CG16-1,\"\")","v":""},{"$f":"IFERROR('Weekly Metrics'!EH16/'Weekly Metrics'!CH16-1,\"\")","v":""},{"$f":"IFERROR('Weekly Metrics'!EI16/'Weekly Metrics'!CI16-1,\"\")","v":""},{"$f":"IFERROR('Weekly Metrics'!EJ16/'Weekly Metrics'!CJ16-1,\"\")","v":""},{"$f":"IFERROR('Weekly Metrics'!EK16/'Weekly Metrics'!CK16-1,\"\")","v":""},{"$f":"IFERROR('Weekly Metrics'!EL16/'Weekly Metrics'!CL16-1,\"\")","v":""},{"$f":"IFERROR('Weekly Metrics'!EM16/'Weekly Metrics'!CM16-1,\"\")","v":""},{"$f":"IFERROR('Weekly Metrics'!EN16/'Weekly Metrics'!CN16-1,\"\")","v":""},{"$f":"IFERROR('Weekly Metrics'!EO16/'Weekly Metrics'!CO16-1,\"\")","v":""},{"$f":"IFERROR('Weekly Metrics'!EP16/'Weekly Metrics'!CP16-1,\"\")","v":""},{"$f":"IFERROR('Weekly Metrics'!EQ16/'Weekly Metrics'!CQ16-1,\"\")","v":""},{"$f":"IFERROR('Weekly Metrics'!ER16/'Weekly Metrics'!CR16-1,\"\")","v":""},{"$f":"IFERROR('Weekly Metrics'!ES16/'Weekly Metrics'!CS16-1,\"\")","v":""},{"$f":"IFERROR('Weekly Metrics'!ET16/'Weekly Metrics'!CT16-1,\"\")","v":""},{"$f":"IFERROR('Weekly Metrics'!EU16/'Weekly Metrics'!CU16-1,\"\")","v":""},{"$f":"IFERROR('Weekly Metrics'!EV16/'Weekly Metrics'!CV16-1,\"\")","v":""},{"$f":"IFERROR('Weekly Metrics'!EW16/'Weekly Metrics'!CW16-1,\"\")","v":""},{"$f":"IFERROR('Weekly Metrics'!EX16/'Weekly Metrics'!CX16-1,\"\")","v":""},{"$f":"IFERROR('Weekly Metrics'!EY16/'Weekly Metrics'!CY16-1,\"\")","v":""},{"$f":"IFERROR('Weekly Metrics'!EZ16/'Weekly Metrics'!CZ16-1,\"\")","v":""},{"$f":"IFERROR('Weekly Metrics'!FA16/'Weekly Metrics'!DA16-1,\"\")","v":""},{"$f":"IFERROR('Weekly Metrics'!FB16/'Weekly Metrics'!DB16-1,\"\")","v":""},{"$f":"IFERROR('Weekly Metrics'!FC16/'Weekly Metrics'!DC16-1,\"\")","v":""},{"$f":"IFERROR('Weekly Metrics'!FD16/'Weekly Metrics'!DD16-1,\"\")","v":""},{"$f":"IFERROR('Weekly Metrics'!FE16/'Weekly Metrics'!DE16-1,\"\")","v":""},{"$f":"IFERROR('Weekly Metrics'!FF16/'Weekly Metrics'!DF16-1,\"\")","v":""},{"$f":"IFERROR('Weekly Metrics'!FG16/'Weekly Metrics'!DG16-1,\"\")","v":""},{"$f":"IFERROR('Weekly Metrics'!FH16/'Weekly Metrics'!DH16-1,\"\")","v":""},{"$f":"IFERROR('Weekly Metrics'!FI16/'Weekly Metrics'!DI16-1,\"\")","v":""},{"$f":"IFERROR('Weekly Metrics'!FJ16/'Weekly Metrics'!DJ16-1,\"\")","v":""},{"$f":"IFERROR('Weekly Metrics'!FK16/'Weekly Metrics'!DK16-1,\"\")","v":""},{"$f":"IFERROR('Weekly Metrics'!FL16/'Weekly Metrics'!DL16-1,\"\")","v":""},{"$f":"IFERROR('Weekly Metrics'!FM16/'Weekly Metrics'!DM16-1,\"\")","v":""},{"$f":"IFERROR('Weekly Metrics'!FN16/'Weekly Metrics'!DN16-1,\"\")","v":""},{"$f":"IFERROR('Weekly Metrics'!FO16/'Weekly Metrics'!DO16-1,\"\")","v":""},{"$f":"IFERROR('Weekly Metrics'!FP16/'Weekly Metrics'!DP16-1,\"\")","v":""},{"$f":"IFERROR('Weekly Metrics'!FQ16/'Weekly Metrics'!DQ16-1,\"\")","v":""},{"$f":"IFERROR('Weekly Metrics'!FR16/'Weekly Metrics'!DR16-1,\"\")","v":""},{"$f":"IFERROR('Weekly Metrics'!FS16/'Weekly Metrics'!DS16-1,\"\")","v":""},{"$f":"IFERROR('Weekly Metrics'!FT16/'Weekly Metrics'!DT16-1,\"\")","v":""},{"$f":"IFERROR('Weekly Metrics'!FU16/'Weekly Metrics'!DU16-1,\"\")","v":""},{"$f":"IFERROR('Weekly Metrics'!FV16/'Weekly Metrics'!DV16-1,\"\")","v":""},{"$f":"IFERROR('Weekly Metrics'!FW16/'Weekly Metrics'!DW16-1,\"\")","v":""},{"$f":"IFERROR('Weekly Metrics'!FX16/'Weekly Metrics'!DX16-1,\"\")","v":""},{"$f":"IFERROR('Weekly Metrics'!FY16/'Weekly Metrics'!DY16-1,\"\")","v":""},{"$f":"IFERROR('Weekly Metrics'!FZ16/'Weekly Metrics'!DZ16-1,\"\")","v":""},{"$f":"IFERROR('Weekly Metrics'!GA16/'Weekly Metrics'!EA16-1,\"\")","v":""},{"$f":"IFERROR('Weekly Metrics'!GB16/'Weekly Metrics'!EB16-1,\"\")","v":""},{"$f":"IFERROR('Weekly Metrics'!GC16/'Weekly Metrics'!EC16-1,\"\")","v":""},{"$f":"IFERROR('Weekly Metrics'!GD16/'Weekly Metrics'!ED16-1,\"\")","v":""},{"$f":"IFERROR('Weekly Metrics'!GE16/'Weekly Metrics'!EE16-1,\"\")","v":""},{"$f":"IFERROR('Weekly Metrics'!GF16/'Weekly Metrics'!EF16-1,\"\")","v":""},{"$f":"IFERROR('Weekly Metrics'!GG16/'Weekly Metrics'!EG16-1,\"\")","v":""},{"$f":"IFERROR('Weekly Metrics'!GH16/'Weekly Metrics'!EH16-1,\"\")","v":""},{"$f":"IFERROR('Weekly Metrics'!GI16/'Weekly Metrics'!EI16-1,\"\")","v":""},{"$f":"IFERROR('Weekly Metrics'!GJ16/'Weekly Metrics'!EJ16-1,\"\")","v":""},{"$f":"IFERROR('Weekly Metrics'!GK16/'Weekly Metrics'!EK16-1,\"\")","v":""},{"$f":"IFERROR('Weekly Metrics'!GL16/'Weekly Metrics'!EL16-1,\"\")","v":""},{"$f":"IFERROR('Weekly Metrics'!GM16/'Weekly Metrics'!EM16-1,\"\")","v":""},{"$f":"IFERROR('Weekly Metrics'!GN16/'Weekly Metrics'!EN16-1,\"\")","v":""},{"$f":"IFERROR('Weekly Metrics'!GO16/'Weekly Metrics'!EO16-1,\"\")","v":""},{"$f":"IFERROR('Weekly Metrics'!GP16/'Weekly Metrics'!EP16-1,\"\")","v":""}]
[{"$f":"IF('Weekly Metrics'!A17=0,\"\",'Weekly Metrics'!A17)","v":""},{"$f":"IF('Weekly Metrics'!B17=0,\"\",'Weekly Metrics'!B17)","v":""},{"$f":"IFERROR('Weekly Metrics'!C17/'Weekly Metrics'!#REF!-1,\"\")","v":""},{"$f":"IFERROR('Weekly Metrics'!D17/'Weekly Metrics'!#REF!-1,\"\")","v":""},{"$f":"IFERROR('Weekly Metrics'!E17/'Weekly Metrics'!#REF!-1,\"\")","v":""},{"$f":"IFERROR('Weekly Metrics'!F17/'Weekly Metrics'!#REF!-1,\"\")","v":""},{"$f":"IFERROR('Weekly Metrics'!G17/'Weekly Metrics'!#REF!-1,\"\")","v":""},{"$f":"IFERROR('Weekly Metrics'!H17/'Weekly Metrics'!#REF!-1,\"\")","v":""},{"$f":"IFERROR('Weekly Metrics'!I17/'Weekly Metrics'!#REF!-1,\"\")","v":""},{"$f":"IFERROR('Weekly Metrics'!J17/'Weekly Metrics'!#REF!-1,\"\")","v":""},{"$f":"IFERROR('Weekly Metrics'!K17/'Weekly Metrics'!#REF!-1,\"\")","v":""},{"$f":"IFERROR('Weekly Metrics'!L17/'Weekly Metrics'!#REF!-1,\"\")","v":""},{"$f":"IFERROR('Weekly Metrics'!M17/'Weekly Metrics'!#REF!-1,\"\")","v":""},{"$f":"IFERROR('Weekly Metrics'!N17/'Weekly Metrics'!#REF!-1,\"\")","v":""},{"$f":"IFERROR('Weekly Metrics'!O17/'Weekly Metrics'!#REF!-1,\"\")","v":""},{"$f":"IFERROR('Weekly Metrics'!P17/'Weekly Metrics'!#REF!-1,\"\")","v":""},{"$f":"IFERROR('Weekly Metrics'!Q17/'Weekly Metrics'!#REF!-1,\"\")","v":""},{"$f":"IFERROR('Weekly Metrics'!R17/'Weekly Metrics'!#REF!-1,\"\")","v":""},{"$f":"IFERROR('Weekly Metrics'!S17/'Weekly Metrics'!#REF!-1,\"\")","v":""},{"$f":"IFERROR('Weekly Metrics'!T17/'Weekly Metrics'!#REF!-1,\"\")","v":""},{"$f":"IFERROR('Weekly Metrics'!U17/'Weekly Metrics'!#REF!-1,\"\")","v":""},{"$f":"IFERROR('Weekly Metrics'!V17/'Weekly Metrics'!#REF!-1,\"\")","v":""},{"$f":"IFERROR('Weekly Metrics'!W17/'Weekly Metrics'!#REF!-1,\"\")","v":""},{"$f":"IFERROR('Weekly Metrics'!X17/'Weekly Metrics'!#REF!-1,\"\")","v":""},{"$f":"IFERROR('Weekly Metrics'!Y17/'Weekly Metrics'!#REF!-1,\"\")","v":""},{"$f":"IFERROR('Weekly Metrics'!Z17/'Weekly Metrics'!#REF!-1,\"\")","v":""},{"$f":"IFERROR('Weekly Metrics'!AA17/'Weekly Metrics'!#REF!-1,\"\")","v":""},{"$f":"IFERROR('Weekly Metrics'!AB17/'Weekly Metrics'!#REF!-1,\"\")","v":""},{"$f":"IFERROR('Weekly Metrics'!AC17/'Weekly Metrics'!#REF!-1,\"\")","v":""},{"$f":"IFERROR('Weekly Metrics'!AD17/'Weekly Metrics'!#REF!-1,\"\")","v":""},{"$f":"IFERROR('Weekly Metrics'!AE17/'Weekly Metrics'!#REF!-1,\"\")","v":""},{"$f":"IFERROR('Weekly Metrics'!AF17/'Weekly Metrics'!#REF!-1,\"\")","v":""},{"$f":"IFERROR('Weekly Metrics'!AG17/'Weekly Metrics'!#REF!-1,\"\")","v":""},{"$f":"IFERROR('Weekly Metrics'!AH17/'Weekly Metrics'!#REF!-1,\"\")","v":""},{"$f":"IFERROR('Weekly Metrics'!AI17/'Weekly Metrics'!#REF!-1,\"\")","v":""},{"$f":"IFERROR('Weekly Metrics'!AJ17/'Weekly Metrics'!#REF!-1,\"\")","v":""},{"$f":"IFERROR('Weekly Metrics'!AK17/'Weekly Metrics'!#REF!-1,\"\")","v":""},{"$f":"IFERROR('Weekly Metrics'!AL17/'Weekly Metrics'!#REF!-1,\"\")","v":""},{"$f":"IFERROR('Weekly Metrics'!AM17/'Weekly Metrics'!#REF!-1,\"\")","v":""},{"$f":"IFERROR('Weekly Metrics'!AN17/'Weekly Metrics'!#REF!-1,\"\")","v":""},{"$f":"IFERROR('Weekly Metrics'!AO17/'Weekly Metrics'!#REF!-1,\"\")","v":""},{"$f":"IFERROR('Weekly Metrics'!AP17/'Weekly Metrics'!#REF!-1,\"\")","v":""},{"$f":"IFERROR('Weekly Metrics'!AQ17/'Weekly Metrics'!#REF!-1,\"\")","v":""},{"$f":"IFERROR('Weekly Metrics'!AR17/'Weekly Metrics'!#REF!-1,\"\")","v":""},{"$f":"IFERROR('Weekly Metrics'!AS17/'Weekly Metrics'!#REF!-1,\"\")","v":""},{"$f":"IFERROR('Weekly Metrics'!AT17/'Weekly Metrics'!#REF!-1,\"\")","v":""},{"$f":"IFERROR('Weekly Metrics'!AU17/'Weekly Metrics'!#REF!-1,\"\")","v":""},{"$f":"IFERROR('Weekly Metrics'!AV17/'Weekly Metrics'!#REF!-1,\"\")","v":""},{"$f":"IFERROR('Weekly Metrics'!AW17/'Weekly Metrics'!#REF!-1,\"\")","v":""},{"$f":"IFERROR('Weekly Metrics'!AX17/'Weekly Metrics'!#REF!-1,\"\")","v":""},{"$f":"IFERROR('Weekly Metrics'!AY17/'Weekly Metrics'!#REF!-1,\"\")","v":""},{"$f":"IFERROR('Weekly Metrics'!AZ17/'Weekly Metrics'!#REF!-1,\"\")","v":""},{"$f":"IFERROR('Weekly Metrics'!BA17/'Weekly Metrics'!A17-1,\"\")","v":""},{"$f":"IFERROR('Weekly Metrics'!BB17/'Weekly Metrics'!B17-1,\"\")","v":""},{"$f":"IFERROR('Weekly Metrics'!BC17/'Weekly Metrics'!C17-1,\"\")","v":""},{"$f":"IFERROR('Weekly Metrics'!BD17/'Weekly Metrics'!D17-1,\"\")","v":""},{"$f":"IFERROR('Weekly Metrics'!BE17/'Weekly Metrics'!E17-1,\"\")","v":""},{"$f":"IFERROR('Weekly Metrics'!BF17/'Weekly Metrics'!F17-1,\"\")","v":""},{"$f":"IFERROR('Weekly Metrics'!BG17/'Weekly Metrics'!G17-1,\"\")","v":""},{"$f":"IFERROR('Weekly Metrics'!BH17/'Weekly Metrics'!H17-1,\"\")","v":""},{"$f":"IFERROR('Weekly Metrics'!BI17/'Weekly Metrics'!I17-1,\"\")","v":""},{"$f":"IFERROR('Weekly Metrics'!BJ17/'Weekly Metrics'!J17-1,\"\")","v":""},{"$f":"IFERROR('Weekly Metrics'!BK17/'Weekly Metrics'!K17-1,\"\")","v":""},{"$f":"IFERROR('Weekly Metrics'!BL17/'Weekly Metrics'!L17-1,\"\")","v":""},{"$f":"IFERROR('Weekly Metrics'!BM17/'Weekly Metrics'!M17-1,\"\")","v":""},{"$f":"IFERROR('Weekly Metrics'!BN17/'Weekly Metrics'!N17-1,\"\")","v":""},{"$f":"IFERROR('Weekly Metrics'!BO17/'Weekly Metrics'!O17-1,\"\")","v":""},{"$f":"IFERROR('Weekly Metrics'!BP17/'Weekly Metrics'!P17-1,\"\")","v":""},{"$f":"IFERROR('Weekly Metrics'!BQ17/'Weekly Metrics'!Q17-1,\"\")","v":""},{"$f":"IFERROR('Weekly Metrics'!BR17/'Weekly Metrics'!R17-1,\"\")","v":""},{"$f":"IFERROR('Weekly Metrics'!BS17/'Weekly Metrics'!S17-1,\"\")","v":""},{"$f":"IFERROR('Weekly Metrics'!BT17/'Weekly Metrics'!T17-1,\"\")","v":""},{"$f":"IFERROR('Weekly Metrics'!BU17/'Weekly Metrics'!U17-1,\"\")","v":""},{"$f":"IFERROR('Weekly Metrics'!BV17/'Weekly Metrics'!V17-1,\"\")","v":""},{"$f":"IFERROR('Weekly Metrics'!BW17/'Weekly Metrics'!W17-1,\"\")","v":""},{"$f":"IFERROR('Weekly Metrics'!BX17/'Weekly Metrics'!X17-1,\"\")","v":""},{"$f":"IFERROR('Weekly Metrics'!BY17/'Weekly Metrics'!Y17-1,\"\")","v":""},{"$f":"IFERROR('Weekly Metrics'!BZ17/'Weekly Metrics'!Z17-1,\"\")","v":""},{"$f":"IFERROR('Weekly Metrics'!CA17/'Weekly Metrics'!AA17-1,\"\")","v":""},{"$f":"IFERROR('Weekly Metrics'!CB17/'Weekly Metrics'!AB17-1,\"\")","v":""},{"$f":"IFERROR('Weekly Metrics'!CC17/'Weekly Metrics'!AC17-1,\"\")","v":""},{"$f":"IFERROR('Weekly Metrics'!CD17/'Weekly Metrics'!AD17-1,\"\")","v":""},{"$f":"IFERROR('Weekly Metrics'!CE17/'Weekly Metrics'!AE17-1,\"\")","v":""},{"$f":"IFERROR('Weekly Metrics'!CF17/'Weekly Metrics'!AF17-1,\"\")","v":""},{"$f":"IFERROR('Weekly Metrics'!CG17/'Weekly Metrics'!AG17-1,\"\")","v":""},{"$f":"IFERROR('Weekly Metrics'!CH17/'Weekly Metrics'!AH17-1,\"\")","v":""},{"$f":"IFERROR('Weekly Metrics'!CI17/'Weekly Metrics'!AI17-1,\"\")","v":""},{"$f":"IFERROR('Weekly Metrics'!CJ17/'Weekly Metrics'!AJ17-1,\"\")","v":""},{"$f":"IFERROR('Weekly Metrics'!CK17/'Weekly Metrics'!AK17-1,\"\")","v":""},{"$f":"IFERROR('Weekly Metrics'!CL17/'Weekly Metrics'!AL17-1,\"\")","v":""},{"$f":"IFERROR('Weekly Metrics'!CM17/'Weekly Metrics'!AM17-1,\"\")","v":""},{"$f":"IFERROR('Weekly Metrics'!CN17/'Weekly Metrics'!AN17-1,\"\")","v":""},{"$f":"IFERROR('Weekly Metrics'!CO17/'Weekly Metrics'!AO17-1,\"\")","v":""},{"$f":"IFERROR('Weekly Metrics'!CP17/'Weekly Metrics'!AP17-1,\"\")","v":""},{"$f":"IFERROR('Weekly Metrics'!CQ17/'Weekly Metrics'!AQ17-1,\"\")","v":""},{"$f":"IFERROR('Weekly Metrics'!CR17/'Weekly Metrics'!AR17-1,\"\")","v":""},{"$f":"IFERROR('Weekly Metrics'!CS17/'Weekly Metrics'!AS17-1,\"\")","v":""},{"$f":"IFERROR('Weekly Metrics'!CT17/'Weekly Metrics'!AT17-1,\"\")","v":""},{"$f":"IFERROR('Weekly Metrics'!CU17/'Weekly Metrics'!AU17-1,\"\")","v":""},{"$f":"IFERROR('Weekly Metrics'!CV17/'Weekly Metrics'!AV17-1,\"\")","v":""},{"$f":"IFERROR('Weekly Metrics'!CW17/'Weekly Metrics'!AW17-1,\"\")","v":""},{"$f":"IFERROR('Weekly Metrics'!CX17/'Weekly Metrics'!AX17-1,\"\")","v":""},{"$f":"IFERROR('Weekly Metrics'!CY17/'Weekly Metrics'!AY17-1,\"\")","v":""},{"$f":"IFERROR('Weekly Metrics'!CZ17/'Weekly Metrics'!AZ17-1,\"\")","v":""},{"$f":"IFERROR('Weekly Metrics'!DA17/'Weekly Metrics'!BA17-1,\"\")","v":""},{"$f":"IFERROR('Weekly Metrics'!DB17/'Weekly Metrics'!BB17-1,\"\")","v":""},{"$f":"IFERROR('Weekly Metrics'!DC17/'Weekly Metrics'!BC17-1,\"\")","v":""},{"$f":"IFERROR('Weekly Metrics'!DD17/'Weekly Metrics'!BD17-1,\"\")","v":""},{"$f":"IFERROR('Weekly Metrics'!DE17/'Weekly Metrics'!BE17-1,\"\")","v":""},{"$f":"IFERROR('Weekly Metrics'!DF17/'Weekly Metrics'!BF17-1,\"\")","v":""},{"$f":"IFERROR('Weekly Metrics'!DG17/'Weekly Metrics'!BG17-1,\"\")","v":""},{"$f":"IFERROR('Weekly Metrics'!DH17/'Weekly Metrics'!BH17-1,\"\")","v":""},{"$f":"IFERROR('Weekly Metrics'!DI17/'Weekly Metrics'!BI17-1,\"\")","v":""},{"$f":"IFERROR('Weekly Metrics'!DJ17/'Weekly Metrics'!BJ17-1,\"\")","v":""},{"$f":"IFERROR('Weekly Metrics'!DK17/'Weekly Metrics'!BK17-1,\"\")","v":""},{"$f":"IFERROR('Weekly Metrics'!DL17/'Weekly Metrics'!BL17-1,\"\")","v":""},{"$f":"IFERROR('Weekly Metrics'!DM17/'Weekly Metrics'!BM17-1,\"\")","v":""},{"$f":"IFERROR('Weekly Metrics'!DN17/'Weekly Metrics'!BN17-1,\"\")","v":""},{"$f":"IFERROR('Weekly Metrics'!DO17/'Weekly Metrics'!BO17-1,\"\")","v":""},{"$f":"IFERROR('Weekly Metrics'!DP17/'Weekly Metrics'!BP17-1,\"\")","v":""},{"$f":"IFERROR('Weekly Metrics'!DQ17/'Weekly Metrics'!BQ17-1,\"\")","v":""},{"$f":"IFERROR('Weekly Metrics'!DR17/'Weekly Metrics'!BR17-1,\"\")","v":""},{"$f":"IFERROR('Weekly Metrics'!DS17/'Weekly Metrics'!BS17-1,\"\")","v":""},{"$f":"IFERROR('Weekly Metrics'!DT17/'Weekly Metrics'!BT17-1,\"\")","v":""},{"$f":"IFERROR('Weekly Metrics'!DU17/'Weekly Metrics'!BU17-1,\"\")","v":""},{"$f":"IFERROR('Weekly Metrics'!DV17/'Weekly Metrics'!BV17-1,\"\")","v":""},{"$f":"IFERROR('Weekly Metrics'!DW17/'Weekly Metrics'!BW17-1,\"\")","v":""},{"$f":"IFERROR('Weekly Metrics'!DX17/'Weekly Metrics'!BX17-1,\"\")","v":""},{"$f":"IFERROR('Weekly Metrics'!DY17/'Weekly Metrics'!BY17-1,\"\")","v":""},{"$f":"IFERROR('Weekly Metrics'!DZ17/'Weekly Metrics'!BZ17-1,\"\")","v":""},{"$f":"IFERROR('Weekly Metrics'!EA17/'Weekly Metrics'!CA17-1,\"\")","v":""},{"$f":"IFERROR('Weekly Metrics'!EB17/'Weekly Metrics'!CB17-1,\"\")","v":""},{"$f":"IFERROR('Weekly Metrics'!EC17/'Weekly Metrics'!CC17-1,\"\")","v":""},{"$f":"IFERROR('Weekly Metrics'!ED17/'Weekly Metrics'!CD17-1,\"\")","v":""},{"$f":"IFERROR('Weekly Metrics'!EE17/'Weekly Metrics'!CE17-1,\"\")","v":""},{"$f":"IFERROR('Weekly Metrics'!EF17/'Weekly Metrics'!CF17-1,\"\")","v":""},{"$f":"IFERROR('Weekly Metrics'!EG17/'Weekly Metrics'!CG17-1,\"\")","v":""},{"$f":"IFERROR('Weekly Metrics'!EH17/'Weekly Metrics'!CH17-1,\"\")","v":""},{"$f":"IFERROR('Weekly Metrics'!EI17/'Weekly Metrics'!CI17-1,\"\")","v":""},{"$f":"IFERROR('Weekly Metrics'!EJ17/'Weekly Metrics'!CJ17-1,\"\")","v":""},{"$f":"IFERROR('Weekly Metrics'!EK17/'Weekly Metrics'!CK17-1,\"\")","v":""},{"$f":"IFERROR('Weekly Metrics'!EL17/'Weekly Metrics'!CL17-1,\"\")","v":""},{"$f":"IFERROR('Weekly Metrics'!EM17/'Weekly Metrics'!CM17-1,\"\")","v":""},{"$f":"IFERROR('Weekly Metrics'!EN17/'Weekly Metrics'!CN17-1,\"\")","v":""},{"$f":"IFERROR('Weekly Metrics'!EO17/'Weekly Metrics'!CO17-1,\"\")","v":""},{"$f":"IFERROR('Weekly Metrics'!EP17/'Weekly Metrics'!CP17-1,\"\")","v":""},{"$f":"IFERROR('Weekly Metrics'!EQ17/'Weekly Metrics'!CQ17-1,\"\")","v":""},{"$f":"IFERROR('Weekly Metrics'!ER17/'Weekly Metrics'!CR17-1,\"\")","v":""},{"$f":"IFERROR('Weekly Metrics'!ES17/'Weekly Metrics'!CS17-1,\"\")","v":""},{"$f":"IFERROR('Weekly Metrics'!ET17/'Weekly Metrics'!CT17-1,\"\")","v":""},{"$f":"IFERROR('Weekly Metrics'!EU17/'Weekly Metrics'!CU17-1,\"\")","v":""},{"$f":"IFERROR('Weekly Metrics'!EV17/'Weekly Metrics'!CV17-1,\"\")","v":""},{"$f":"IFERROR('Weekly Metrics'!EW17/'Weekly Metrics'!CW17-1,\"\")","v":""},{"$f":"IFERROR('Weekly Metrics'!EX17/'Weekly Metrics'!CX17-1,\"\")","v":""},{"$f":"IFERROR('Weekly Metrics'!EY17/'Weekly Metrics'!CY17-1,\"\")","v":""},{"$f":"IFERROR('Weekly Metrics'!EZ17/'Weekly Metrics'!CZ17-1,\"\")","v":""},{"$f":"IFERROR('Weekly Metrics'!FA17/'Weekly Metrics'!DA17-1,\"\")","v":""},{"$f":"IFERROR('Weekly Metrics'!FB17/'Weekly Metrics'!DB17-1,\"\")","v":""},{"$f":"IFERROR('Weekly Metrics'!FC17/'Weekly Metrics'!DC17-1,\"\")","v":""},{"$f":"IFERROR('Weekly Metrics'!FD17/'Weekly Metrics'!DD17-1,\"\")","v":""},{"$f":"IFERROR('Weekly Metrics'!FE17/'Weekly Metrics'!DE17-1,\"\")","v":""},{"$f":"IFERROR('Weekly Metrics'!FF17/'Weekly Metrics'!DF17-1,\"\")","v":""},{"$f":"IFERROR('Weekly Metrics'!FG17/'Weekly Metrics'!DG17-1,\"\")","v":""},{"$f":"IFERROR('Weekly Metrics'!FH17/'Weekly Metrics'!DH17-1,\"\")","v":""},{"$f":"IFERROR('Weekly Metrics'!FI17/'Weekly Metrics'!DI17-1,\"\")","v":""},{"$f":"IFERROR('Weekly Metrics'!FJ17/'Weekly Metrics'!DJ17-1,\"\")","v":""},{"$f":"IFERROR('Weekly Metrics'!FK17/'Weekly Metrics'!DK17-1,\"\")","v":""},{"$f":"IFERROR('Weekly Metrics'!FL17/'Weekly Metrics'!DL17-1,\"\")","v":""},{"$f":"IFERROR('Weekly Metrics'!FM17/'Weekly Metrics'!DM17-1,\"\")","v":""},{"$f":"IFERROR('Weekly Metrics'!FN17/'Weekly Metrics'!DN17-1,\"\")","v":""},{"$f":"IFERROR('Weekly Metrics'!FO17/'Weekly Metrics'!DO17-1,\"\")","v":""},{"$f":"IFERROR('Weekly Metrics'!FP17/'Weekly Metrics'!DP17-1,\"\")","v":""},{"$f":"IFERROR('Weekly Metrics'!FQ17/'Weekly Metrics'!DQ17-1,\"\")","v":""},{"$f":"IFERROR('Weekly Metrics'!FR17/'Weekly Metrics'!DR17-1,\"\")","v":""},{"$f":"IFERROR('Weekly Metrics'!FS17/'Weekly Metrics'!DS17-1,\"\")","v":""},{"$f":"IFERROR('Weekly Metrics'!FT17/'Weekly Metrics'!DT17-1,\"\")","v":""},{"$f":"IFERROR('Weekly Metrics'!FU17/'Weekly Metrics'!DU17-1,\"\")","v":""},{"$f":"IFERROR('Weekly Metrics'!FV17/'Weekly Metrics'!DV17-1,\"\")","v":""},{"$f":"IFERROR('Weekly Metrics'!FW17/'Weekly Metrics'!DW17-1,\"\")","v":""},{"$f":"IFERROR('Weekly Metrics'!FX17/'Weekly Metrics'!DX17-1,\"\")","v":""},{"$f":"IFERROR('Weekly Metrics'!FY17/'Weekly Metrics'!DY17-1,\"\")","v":""},{"$f":"IFERROR('Weekly Metrics'!FZ17/'Weekly Metrics'!DZ17-1,\"\")","v":""},{"$f":"IFERROR('Weekly Metrics'!GA17/'Weekly Metrics'!EA17-1,\"\")","v":""},{"$f":"IFERROR('Weekly Metrics'!GB17/'Weekly Metrics'!EB17-1,\"\")","v":""},{"$f":"IFERROR('Weekly Metrics'!GC17/'Weekly Metrics'!EC17-1,\"\")","v":""},{"$f":"IFERROR('Weekly Metrics'!GD17/'Weekly Metrics'!ED17-1,\"\")","v":""},{"$f":"IFERROR('Weekly Metrics'!GE17/'Weekly Metrics'!EE17-1,\"\")","v":""},{"$f":"IFERROR('Weekly Metrics'!GF17/'Weekly Metrics'!EF17-1,\"\")","v":""},{"$f":"IFERROR('Weekly Metrics'!GG17/'Weekly Metrics'!EG17-1,\"\")","v":""},{"$f":"IFERROR('Weekly Metrics'!GH17/'Weekly Metrics'!EH17-1,\"\")","v":""},{"$f":"IFERROR('Weekly Metrics'!GI17/'Weekly Metrics'!EI17-1,\"\")","v":""},{"$f":"IFERROR('Weekly Metrics'!GJ17/'Weekly Metrics'!EJ17-1,\"\")","v":""},{"$f":"IFERROR('Weekly Metrics'!GK17/'Weekly Metrics'!EK17-1,\"\")","v":""},{"$f":"IFERROR('Weekly Metrics'!GL17/'Weekly Metrics'!EL17-1,\"\")","v":""},{"$f":"IFERROR('Weekly Metrics'!GM17/'Weekly Metrics'!EM17-1,\"\")","v":""},{"$f":"IFERROR('Weekly Metrics'!GN17/'Weekly Metrics'!EN17-1,\"\")","v":""},{"$f":"IFERROR('Weekly Metrics'!GO17/'Weekly Metrics'!EO17-1,\"\")","v":""},{"$f":"IFERROR('Weekly Metrics'!GP17/'Weekly Metrics'!EP17-1,\"\")","v":""}]
[{"$f":"IF('Weekly Metrics'!A18=0,\"\",'Weekly Metrics'!A18)","v":""},{"$f":"IF('Weekly Metrics'!B18=0,\"\",'Weekly Metrics'!B18)","v":""},{"$f":"IFERROR('Weekly Metrics'!C18/'Weekly Metrics'!#REF!-1,\"\")","v":""},{"$f":"IFERROR('Weekly Metrics'!D18/'Weekly Metrics'!#REF!-1,\"\")","v":""},{"$f":"IFERROR('Weekly Metrics'!E18/'Weekly Metrics'!#REF!-1,\"\")","v":""},{"$f":"IFERROR('Weekly Metrics'!F18/'Weekly Metrics'!#REF!-1,\"\")","v":""},{"$f":"IFERROR('Weekly Metrics'!G18/'Weekly Metrics'!#REF!-1,\"\")","v":""},{"$f":"IFERROR('Weekly Metrics'!H18/'Weekly Metrics'!#REF!-1,\"\")","v":""},{"$f":"IFERROR('Weekly Metrics'!I18/'Weekly Metrics'!#REF!-1,\"\")","v":""},{"$f":"IFERROR('Weekly Metrics'!J18/'Weekly Metrics'!#REF!-1,\"\")","v":""},{"$f":"IFERROR('Weekly Metrics'!K18/'Weekly Metrics'!#REF!-1,\"\")","v":""},{"$f":"IFERROR('Weekly Metrics'!L18/'Weekly Metrics'!#REF!-1,\"\")","v":""},{"$f":"IFERROR('Weekly Metrics'!M18/'Weekly Metrics'!#REF!-1,\"\")","v":""},{"$f":"IFERROR('Weekly Metrics'!N18/'Weekly Metrics'!#REF!-1,\"\")","v":""},{"$f":"IFERROR('Weekly Metrics'!O18/'Weekly Metrics'!#REF!-1,\"\")","v":""},{"$f":"IFERROR('Weekly Metrics'!P18/'Weekly Metrics'!#REF!-1,\"\")","v":""},{"$f":"IFERROR('Weekly Metrics'!Q18/'Weekly Metrics'!#REF!-1,\"\")","v":""},{"$f":"IFERROR('Weekly Metrics'!R18/'Weekly Metrics'!#REF!-1,\"\")","v":""},{"$f":"IFERROR('Weekly Metrics'!S18/'Weekly Metrics'!#REF!-1,\"\")","v":""},{"$f":"IFERROR('Weekly Metrics'!T18/'Weekly Metrics'!#REF!-1,\"\")","v":""},{"$f":"IFERROR('Weekly Metrics'!U18/'Weekly Metrics'!#REF!-1,\"\")","v":""},{"$f":"IFERROR('Weekly Metrics'!V18/'Weekly Metrics'!#REF!-1,\"\")","v":""},{"$f":"IFERROR('Weekly Metrics'!W18/'Weekly Metrics'!#REF!-1,\"\")","v":""},{"$f":"IFERROR('Weekly Metrics'!X18/'Weekly Metrics'!#REF!-1,\"\")","v":""},{"$f":"IFERROR('Weekly Metrics'!Y18/'Weekly Metrics'!#REF!-1,\"\")","v":""},{"$f":"IFERROR('Weekly Metrics'!Z18/'Weekly Metrics'!#REF!-1,\"\")","v":""},{"$f":"IFERROR('Weekly Metrics'!AA18/'Weekly Metrics'!#REF!-1,\"\")","v":""},{"$f":"IFERROR('Weekly Metrics'!AB18/'Weekly Metrics'!#REF!-1,\"\")","v":""},{"$f":"IFERROR('Weekly Metrics'!AC18/'Weekly Metrics'!#REF!-1,\"\")","v":""},{"$f":"IFERROR('Weekly Metrics'!AD18/'Weekly Metrics'!#REF!-1,\"\")","v":""},{"$f":"IFERROR('Weekly Metrics'!AE18/'Weekly Metrics'!#REF!-1,\"\")","v":""},{"$f":"IFERROR('Weekly Metrics'!AF18/'Weekly Metrics'!#REF!-1,\"\")","v":""},{"$f":"IFERROR('Weekly Metrics'!AG18/'Weekly Metrics'!#REF!-1,\"\")","v":""},{"$f":"IFERROR('Weekly Metrics'!AH18/'Weekly Metrics'!#REF!-1,\"\")","v":""},{"$f":"IFERROR('Weekly Metrics'!AI18/'Weekly Metrics'!#REF!-1,\"\")","v":""},{"$f":"IFERROR('Weekly Metrics'!AJ18/'Weekly Metrics'!#REF!-1,\"\")","v":""},{"$f":"IFERROR('Weekly Metrics'!AK18/'Weekly Metrics'!#REF!-1,\"\")","v":""},{"$f":"IFERROR('Weekly Metrics'!AL18/'Weekly Metrics'!#REF!-1,\"\")","v":""},{"$f":"IFERROR('Weekly Metrics'!AM18/'Weekly Metrics'!#REF!-1,\"\")","v":""},{"$f":"IFERROR('Weekly Metrics'!AN18/'Weekly Metrics'!#REF!-1,\"\")","v":""},{"$f":"IFERROR('Weekly Metrics'!AO18/'Weekly Metrics'!#REF!-1,\"\")","v":""},{"$f":"IFERROR('Weekly Metrics'!AP18/'Weekly Metrics'!#REF!-1,\"\")","v":""},{"$f":"IFERROR('Weekly Metrics'!AQ18/'Weekly Metrics'!#REF!-1,\"\")","v":""},{"$f":"IFERROR('Weekly Metrics'!AR18/'Weekly Metrics'!#REF!-1,\"\")","v":""},{"$f":"IFERROR('Weekly Metrics'!AS18/'Weekly Metrics'!#REF!-1,\"\")","v":""},{"$f":"IFERROR('Weekly Metrics'!AT18/'Weekly Metrics'!#REF!-1,\"\")","v":""},{"$f":"IFERROR('Weekly Metrics'!AU18/'Weekly Metrics'!#REF!-1,\"\")","v":""},{"$f":"IFERROR('Weekly Metrics'!AV18/'Weekly Metrics'!#REF!-1,\"\")","v":""},{"$f":"IFERROR('Weekly Metrics'!AW18/'Weekly Metrics'!#REF!-1,\"\")","v":""},{"$f":"IFERROR('Weekly Metrics'!AX18/'Weekly Metrics'!#REF!-1,\"\")","v":""},{"$f":"IFERROR('Weekly Metrics'!AY18/'Weekly Metrics'!#REF!-1,\"\")","v":""},{"$f":"IFERROR('Weekly Metrics'!AZ18/'Weekly Metrics'!#REF!-1,\"\")","v":""},{"$f":"IFERROR('Weekly Metrics'!BA18/'Weekly Metrics'!A18-1,\"\")","v":""},{"$f":"IFERROR('Weekly Metrics'!BB18/'Weekly Metrics'!B18-1,\"\")","v":""},{"$f":"IFERROR('Weekly Metrics'!BC18/'Weekly Metrics'!C18-1,\"\")","v":""},{"$f":"IFERROR('Weekly Metrics'!BD18/'Weekly Metrics'!D18-1,\"\")","v":""},{"$f":"IFERROR('Weekly Metrics'!BE18/'Weekly Metrics'!E18-1,\"\")","v":""},{"$f":"IFERROR('Weekly Metrics'!BF18/'Weekly Metrics'!F18-1,\"\")","v":""},{"$f":"IFERROR('Weekly Metrics'!BG18/'Weekly Metrics'!G18-1,\"\")","v":""},{"$f":"IFERROR('Weekly Metrics'!BH18/'Weekly Metrics'!H18-1,\"\")","v":""},{"$f":"IFERROR('Weekly Metrics'!BI18/'Weekly Metrics'!I18-1,\"\")","v":""},{"$f":"IFERROR('Weekly Metrics'!BJ18/'Weekly Metrics'!J18-1,\"\")","v":""},{"$f":"IFERROR('Weekly Metrics'!BK18/'Weekly Metrics'!K18-1,\"\")","v":""},{"$f":"IFERROR('Weekly Metrics'!BL18/'Weekly Metrics'!L18-1,\"\")","v":""},{"$f":"IFERROR('Weekly Metrics'!BM18/'Weekly Metrics'!M18-1,\"\")","v":""},{"$f":"IFERROR('Weekly Metrics'!BN18/'Weekly Metrics'!N18-1,\"\")","v":""},{"$f":"IFERROR('Weekly Metrics'!BO18/'Weekly Metrics'!O18-1,\"\")","v":""},{"$f":"IFERROR('Weekly Metrics'!BP18/'Weekly Metrics'!P18-1,\"\")","v":""},{"$f":"IFERROR('Weekly Metrics'!BQ18/'Weekly Metrics'!Q18-1,\"\")","v":""},{"$f":"IFERROR('Weekly Metrics'!BR18/'Weekly Metrics'!R18-1,\"\")","v":""},{"$f":"IFERROR('Weekly Metrics'!BS18/'Weekly Metrics'!S18-1,\"\")","v":""},{"$f":"IFERROR('Weekly Metrics'!BT18/'Weekly Metrics'!T18-1,\"\")","v":""},{"$f":"IFERROR('Weekly Metrics'!BU18/'Weekly Metrics'!U18-1,\"\")","v":""},{"$f":"IFERROR('Weekly Metrics'!BV18/'Weekly Metrics'!V18-1,\"\")","v":""},{"$f":"IFERROR('Weekly Metrics'!BW18/'Weekly Metrics'!W18-1,\"\")","v":""},{"$f":"IFERROR('Weekly Metrics'!BX18/'Weekly Metrics'!X18-1,\"\")","v":""},{"$f":"IFERROR('Weekly Metrics'!BY18/'Weekly Metrics'!Y18-1,\"\")","v":""},{"$f":"IFERROR('Weekly Metrics'!BZ18/'Weekly Metrics'!Z18-1,\"\")","v":""},{"$f":"IFERROR('Weekly Metrics'!CA18/'Weekly Metrics'!AA18-1,\"\")","v":""},{"$f":"IFERROR('Weekly Metrics'!CB18/'Weekly Metrics'!AB18-1,\"\")","v":""},{"$f":"IFERROR('Weekly Metrics'!CC18/'Weekly Metrics'!AC18-1,\"\")","v":""},{"$f":"IFERROR('Weekly Metrics'!CD18/'Weekly Metrics'!AD18-1,\"\")","v":""},{"$f":"IFERROR('Weekly Metrics'!CE18/'Weekly Metrics'!AE18-1,\"\")","v":""},{"$f":"IFERROR('Weekly Metrics'!CF18/'Weekly Metrics'!AF18-1,\"\")","v":""},{"$f":"IFERROR('Weekly Metrics'!CG18/'Weekly Metrics'!AG18-1,\"\")","v":""},{"$f":"IFERROR('Weekly Metrics'!CH18/'Weekly Metrics'!AH18-1,\"\")","v":""},{"$f":"IFERROR('Weekly Metrics'!CI18/'Weekly Metrics'!AI18-1,\"\")","v":""},{"$f":"IFERROR('Weekly Metrics'!CJ18/'Weekly Metrics'!AJ18-1,\"\")","v":""},{"$f":"IFERROR('Weekly Metrics'!CK18/'Weekly Metrics'!AK18-1,\"\")","v":""},{"$f":"IFERROR('Weekly Metrics'!CL18/'Weekly Metrics'!AL18-1,\"\")","v":""},{"$f":"IFERROR('Weekly Metrics'!CM18/'Weekly Metrics'!AM18-1,\"\")","v":""},{"$f":"IFERROR('Weekly Metrics'!CN18/'Weekly Metrics'!AN18-1,\"\")","v":""},{"$f":"IFERROR('Weekly Metrics'!CO18/'Weekly Metrics'!AO18-1,\"\")","v":""},{"$f":"IFERROR('Weekly Metrics'!CP18/'Weekly Metrics'!AP18-1,\"\")","v":""},{"$f":"IFERROR('Weekly Metrics'!CQ18/'Weekly Metrics'!AQ18-1,\"\")","v":""},{"$f":"IFERROR('Weekly Metrics'!CR18/'Weekly Metrics'!AR18-1,\"\")","v":""},{"$f":"IFERROR('Weekly Metrics'!CS18/'Weekly Metrics'!AS18-1,\"\")","v":""},{"$f":"IFERROR('Weekly Metrics'!CT18/'Weekly Metrics'!AT18-1,\"\")","v":""},{"$f":"IFERROR('Weekly Metrics'!CU18/'Weekly Metrics'!AU18-1,\"\")","v":""},{"$f":"IFERROR('Weekly Metrics'!CV18/'Weekly Metrics'!AV18-1,\"\")","v":""},{"$f":"IFERROR('Weekly Metrics'!CW18/'Weekly Metrics'!AW18-1,\"\")","v":""},{"$f":"IFERROR('Weekly Metrics'!CX18/'Weekly Metrics'!AX18-1,\"\")","v":""},{"$f":"IFERROR('Weekly Metrics'!CY18/'Weekly Metrics'!AY18-1,\"\")","v":""},{"$f":"IFERROR('Weekly Metrics'!CZ18/'Weekly Metrics'!AZ18-1,\"\")","v":""},{"$f":"IFERROR('Weekly Metrics'!DA18/'Weekly Metrics'!BA18-1,\"\")","v":""},{"$f":"IFERROR('Weekly Metrics'!DB18/'Weekly Metrics'!BB18-1,\"\")","v":""},{"$f":"IFERROR('Weekly Metrics'!DC18/'Weekly Metrics'!BC18-1,\"\")","v":""},{"$f":"IFERROR('Weekly Metrics'!DD18/'Weekly Metrics'!BD18-1,\"\")","v":""},{"$f":"IFERROR('Weekly Metrics'!DE18/'Weekly Metrics'!BE18-1,\"\")","v":""},{"$f":"IFERROR('Weekly Metrics'!DF18/'Weekly Metrics'!BF18-1,\"\")","v":""},{"$f":"IFERROR('Weekly Metrics'!DG18/'Weekly Metrics'!BG18-1,\"\")","v":""},{"$f":"IFERROR('Weekly Metrics'!DH18/'Weekly Metrics'!BH18-1,\"\")","v":""},{"$f":"IFERROR('Weekly Metrics'!DI18/'Weekly Metrics'!BI18-1,\"\")","v":""},{"$f":"IFERROR('Weekly Metrics'!DJ18/'Weekly Metrics'!BJ18-1,\"\")","v":""},{"$f":"IFERROR('Weekly Metrics'!DK18/'Weekly Metrics'!BK18-1,\"\")","v":""},{"$f":"IFERROR('Weekly Metrics'!DL18/'Weekly Metrics'!BL18-1,\"\")","v":""},{"$f":"IFERROR('Weekly Metrics'!DM18/'Weekly Metrics'!BM18-1,\"\")","v":""},{"$f":"IFERROR('Weekly Metrics'!DN18/'Weekly Metrics'!BN18-1,\"\")","v":""},{"$f":"IFERROR('Weekly Metrics'!DO18/'Weekly Metrics'!BO18-1,\"\")","v":""},{"$f":"IFERROR('Weekly Metrics'!DP18/'Weekly Metrics'!BP18-1,\"\")","v":""},{"$f":"IFERROR('Weekly Metrics'!DQ18/'Weekly Metrics'!BQ18-1,\"\")","v":""},{"$f":"IFERROR('Weekly Metrics'!DR18/'Weekly Metrics'!BR18-1,\"\")","v":""},{"$f":"IFERROR('Weekly Metrics'!DS18/'Weekly Metrics'!BS18-1,\"\")","v":""},{"$f":"IFERROR('Weekly Metrics'!DT18/'Weekly Metrics'!BT18-1,\"\")","v":""},{"$f":"IFERROR('Weekly Metrics'!DU18/'Weekly Metrics'!BU18-1,\"\")","v":""},{"$f":"IFERROR('Weekly Metrics'!DV18/'Weekly Metrics'!BV18-1,\"\")","v":""},{"$f":"IFERROR('Weekly Metrics'!DW18/'Weekly Metrics'!BW18-1,\"\")","v":""},{"$f":"IFERROR('Weekly Metrics'!DX18/'Weekly Metrics'!BX18-1,\"\")","v":""},{"$f":"IFERROR('Weekly Metrics'!DY18/'Weekly Metrics'!BY18-1,\"\")","v":""},{"$f":"IFERROR('Weekly Metrics'!DZ18/'Weekly Metrics'!BZ18-1,\"\")","v":""},{"$f":"IFERROR('Weekly Metrics'!EA18/'Weekly Metrics'!CA18-1,\"\")","v":""},{"$f":"IFERROR('Weekly Metrics'!EB18/'Weekly Metrics'!CB18-1,\"\")","v":""},{"$f":"IFERROR('Weekly Metrics'!EC18/'Weekly Metrics'!CC18-1,\"\")","v":""},{"$f":"IFERROR('Weekly Metrics'!ED18/'Weekly Metrics'!CD18-1,\"\")","v":""},{"$f":"IFERROR('Weekly Metrics'!EE18/'Weekly Metrics'!CE18-1,\"\")","v":""},{"$f":"IFERROR('Weekly Metrics'!EF18/'Weekly Metrics'!CF18-1,\"\")","v":""},{"$f":"IFERROR('Weekly Metrics'!EG18/'Weekly Metrics'!CG18-1,\"\")","v":""},{"$f":"IFERROR('Weekly Metrics'!EH18/'Weekly Metrics'!CH18-1,\"\")","v":""},{"$f":"IFERROR('Weekly Metrics'!EI18/'Weekly Metrics'!CI18-1,\"\")","v":""},{"$f":"IFERROR('Weekly Metrics'!EJ18/'Weekly Metrics'!CJ18-1,\"\")","v":""},{"$f":"IFERROR('Weekly Metrics'!EK18/'Weekly Metrics'!CK18-1,\"\")","v":""},{"$f":"IFERROR('Weekly Metrics'!EL18/'Weekly Metrics'!CL18-1,\"\")","v":""},{"$f":"IFERROR('Weekly Metrics'!EM18/'Weekly Metrics'!CM18-1,\"\")","v":""},{"$f":"IFERROR('Weekly Metrics'!EN18/'Weekly Metrics'!CN18-1,\"\")","v":""},{"$f":"IFERROR('Weekly Metrics'!EO18/'Weekly Metrics'!CO18-1,\"\")","v":""},{"$f":"IFERROR('Weekly Metrics'!EP18/'Weekly Metrics'!CP18-1,\"\")","v":""},{"$f":"IFERROR('Weekly Metrics'!EQ18/'Weekly Metrics'!CQ18-1,\"\")","v":""},{"$f":"IFERROR('Weekly Metrics'!ER18/'Weekly Metrics'!CR18-1,\"\")","v":""},{"$f":"IFERROR('Weekly Metrics'!ES18/'Weekly Metrics'!CS18-1,\"\")","v":""},{"$f":"IFERROR('Weekly Metrics'!ET18/'Weekly Metrics'!CT18-1,\"\")","v":""},{"$f":"IFERROR('Weekly Metrics'!EU18/'Weekly Metrics'!CU18-1,\"\")","v":""},{"$f":"IFERROR('Weekly Metrics'!EV18/'Weekly Metrics'!CV18-1,\"\")","v":""},{"$f":"IFERROR('Weekly Metrics'!EW18/'Weekly Metrics'!CW18-1,\"\")","v":""},{"$f":"IFERROR('Weekly Metrics'!EX18/'Weekly Metrics'!CX18-1,\"\")","v":""},{"$f":"IFERROR('Weekly Metrics'!EY18/'Weekly Metrics'!CY18-1,\"\")","v":""},{"$f":"IFERROR('Weekly Metrics'!EZ18/'Weekly Metrics'!CZ18-1,\"\")","v":""},{"$f":"IFERROR('Weekly Metrics'!FA18/'Weekly Metrics'!DA18-1,\"\")","v":""},{"$f":"IFERROR('Weekly Metrics'!FB18/'Weekly Metrics'!DB18-1,\"\")","v":""},{"$f":"IFERROR('Weekly Metrics'!FC18/'Weekly Metrics'!DC18-1,\"\")","v":""},{"$f":"IFERROR('Weekly Metrics'!FD18/'Weekly Metrics'!DD18-1,\"\")","v":""},{"$f":"IFERROR('Weekly Metrics'!FE18/'Weekly Metrics'!DE18-1,\"\")","v":""},{"$f":"IFERROR('Weekly Metrics'!FF18/'Weekly Metrics'!DF18-1,\"\")","v":""},{"$f":"IFERROR('Weekly Metrics'!FG18/'Weekly Metrics'!DG18-1,\"\")","v":""},{"$f":"IFERROR('Weekly Metrics'!FH18/'Weekly Metrics'!DH18-1,\"\")","v":""},{"$f":"IFERROR('Weekly Metrics'!FI18/'Weekly Metrics'!DI18-1,\"\")","v":""},{"$f":"IFERROR('Weekly Metrics'!FJ18/'Weekly Metrics'!DJ18-1,\"\")","v":""},{"$f":"IFERROR('Weekly Metrics'!FK18/'Weekly Metrics'!DK18-1,\"\")","v":""},{"$f":"IFERROR('Weekly Metrics'!FL18/'Weekly Metrics'!DL18-1,\"\")","v":""},{"$f":"IFERROR('Weekly Metrics'!FM18/'Weekly Metrics'!DM18-1,\"\")","v":""},{"$f":"IFERROR('Weekly Metrics'!FN18/'Weekly Metrics'!DN18-1,\"\")","v":""},{"$f":"IFERROR('Weekly Metrics'!FO18/'Weekly Metrics'!DO18-1,\"\")","v":""},{"$f":"IFERROR('Weekly Metrics'!FP18/'Weekly Metrics'!DP18-1,\"\")","v":""},{"$f":"IFERROR('Weekly Metrics'!FQ18/'Weekly Metrics'!DQ18-1,\"\")","v":""},{"$f":"IFERROR('Weekly Metrics'!FR18/'Weekly Metrics'!DR18-1,\"\")","v":""},{"$f":"IFERROR('Weekly Metrics'!FS18/'Weekly Metrics'!DS18-1,\"\")","v":""},{"$f":"IFERROR('Weekly Metrics'!FT18/'Weekly Metrics'!DT18-1,\"\")","v":""},{"$f":"IFERROR('Weekly Metrics'!FU18/'Weekly Metrics'!DU18-1,\"\")","v":""},{"$f":"IFERROR('Weekly Metrics'!FV18/'Weekly Metrics'!DV18-1,\"\")","v":""},{"$f":"IFERROR('Weekly Metrics'!FW18/'Weekly Metrics'!DW18-1,\"\")","v":""},{"$f":"IFERROR('Weekly Metrics'!FX18/'Weekly Metrics'!DX18-1,\"\")","v":""},{"$f":"IFERROR('Weekly Metrics'!FY18/'Weekly Metrics'!DY18-1,\"\")","v":""},{"$f":"IFERROR('Weekly Metrics'!FZ18/'Weekly Metrics'!DZ18-1,\"\")","v":""},{"$f":"IFERROR('Weekly Metrics'!GA18/'Weekly Metrics'!EA18-1,\"\")","v":""},{"$f":"IFERROR('Weekly Metrics'!GB18/'Weekly Metrics'!EB18-1,\"\")","v":""},{"$f":"IFERROR('Weekly Metrics'!GC18/'Weekly Metrics'!EC18-1,\"\")","v":""},{"$f":"IFERROR('Weekly Metrics'!GD18/'Weekly Metrics'!ED18-1,\"\")","v":""},{"$f":"IFERROR('Weekly Metrics'!GE18/'Weekly Metrics'!EE18-1,\"\")","v":""},{"$f":"IFERROR('Weekly Metrics'!GF18/'Weekly Metrics'!EF18-1,\"\")","v":""},{"$f":"IFERROR('Weekly Metrics'!GG18/'Weekly Metrics'!EG18-1,\"\")","v":""},{"$f":"IFERROR('Weekly Metrics'!GH18/'Weekly Metrics'!EH18-1,\"\")","v":""},{"$f":"IFERROR('Weekly Metrics'!GI18/'Weekly Metrics'!EI18-1,\"\")","v":""},{"$f":"IFERROR('Weekly Metrics'!GJ18/'Weekly Metrics'!EJ18-1,\"\")","v":""},{"$f":"IFERROR('Weekly Metrics'!GK18/'Weekly Metrics'!EK18-1,\"\")","v":""},{"$f":"IFERROR('Weekly Metrics'!GL18/'Weekly Metrics'!EL18-1,\"\")","v":""},{"$f":"IFERROR('Weekly Metrics'!GM18/'Weekly Metrics'!EM18-1,\"\")","v":""},{"$f":"IFERROR('Weekly Metrics'!GN18/'Weekly Metrics'!EN18-1,\"\")","v":""},{"$f":"IFERROR('Weekly Metrics'!GO18/'Weekly Metrics'!EO18-1,\"\")","v":""},{"$f":"IFERROR('Weekly Metrics'!GP18/'Weekly Metrics'!EP18-1,\"\")","v":""}]
[{"$f":"IF('Weekly Metrics'!A19=0,\"\",'Weekly Metrics'!A19)","v":""},{"$f":"IF('Weekly Metrics'!B19=0,\"\",'Weekly Metrics'!B19)","v":""}]
[{"$f":"IF('Weekly Metrics'!A20=0,\"\",'Weekly Metrics'!A20)","v":""},{"$f":"IF('Weekly Metrics'!B20=0,\"\",'Weekly Metrics'!B20)","v":""}]
[{"$f":"IF('Weekly Metrics'!A21=0,\"\",'Weekly Metrics'!A21)","v":""},{"$f":"IF('Weekly Metrics'!B21=0,\"\",'Weekly Metrics'!B21)","v":""}]
[{"$f":"IF('Weekly Metrics'!A22=0,\"\",'Weekly Metrics'!A22)","v":""},{"$f":"IF('Weekly Metrics'!B22=0,\"\",'Weekly Metrics'!B22)","v":""}]
[{"$f":"IF('Weekly Metrics'!A23=0,\"\",'Weekly Metrics'!A23)","v":""},{"$f":"IF('Weekly Metrics'!B23=0,\"\",'Weekly Metrics'!B23)","v":""}]
[{"$f":"IF('Weekly Metrics'!A24=0,\"\",'Weekly Metrics'!A24)","v":""},{"$f":"IF('Weekly Metrics'!B24=0,\"\",'Weekly Metrics'!B24)","v":""}]
[{"$f":"IF('Weekly Metrics'!A25=0,\"\",'Weekly Metrics'!A25)","v":""},{"$f":"IF('Weekly Metrics'!B25=0,\"\",'Weekly Metrics'!B25)","v":""}]
[{"$f":"IF('Weekly Metrics'!A26=0,\"\",'Weekly Metrics'!A26)","v":""},{"$f":"IF('Weekly Metrics'!B26=0,\"\",'Weekly Metrics'!B26)","v":""}]
[{"$f":"IF('Weekly Metrics'!A27=0,\"\",'Weekly Metrics'!A27)","v":""},{"$f":"IF('Weekly Metrics'!B27=0,\"\",'Weekly Metrics'!B27)","v":""}]
[{"$f":"IF('Weekly Metrics'!A28=0,\"\",'Weekly Metrics'!A28)","v":""},{"$f":"IF('Weekly Metrics'!B28=0,\"\",'Weekly Metrics'!B28)","v":""}]
[{"$f":"IF('Weekly Metrics'!A29=0,\"\",'Weekly Metrics'!A29)","v":""},{"$f":"IF('Weekly Metrics'!B29=0,\"\",'Weekly Metrics'!B29)","v":""}]
[{"$f":"IF('Weekly Metrics'!A30=0,\"\",'Weekly Metrics'!A30)","v":""},{"$f":"IF('Weekly Metrics'!B30=0,\"\",'Weekly Metrics'!B30)","v":""}]
[{"$f":"IF('Weekly Metrics'!A31=0,\"\",'Weekly Metrics'!A31)","v":""},{"$f":"IF('Weekly Metrics'!B31=0,\"\",'Weekly Metrics'!B31)","v":""}]
[{"$f":"IF('Weekly Metrics'!A32=0,\"\",'Weekly Metrics'!A32)","v":""},{"$f":"IF('Weekly Metrics'!B32=0,\"\",'Weekly Metrics'!B32)","v":""}]
[{"$f":"IF('Weekly Metrics'!A33=0,\"\",'Weekly Metrics'!A33)","v":""},{"$f":"IF('Weekly Metrics'!B33=0,\"\",'Weekly Metrics'!B33)","v":""}]
[{"$f":"IF('Weekly Metrics'!A34=0,\"\",'Weekly Metrics'!A34)","v":""},{"$f":"IF('Weekly Metrics'!B34=0,\"\",'Weekly Metrics'!B34)","v":""}]
[{"$f":"IF('Weekly Metrics'!A35=0,\"\",'Weekly Metrics'!A35)","v":""},{"$f":"IF('Weekly Metrics'!B35=0,\"\",'Weekly Metrics'!B35)","v":""}]
[{"$f":"IF('Weekly Metrics'!A36=0,\"\",'Weekly Metrics'!A36)","v":""},{"$f":"IF('Weekly Metrics'!B36=0,\"\",'Weekly Metrics'!B36)","v":""}]
[{"$f":"IF('Weekly Metrics'!A37=0,\"\",'Weekly Metrics'!A37)","v":""},{"$f":"IF('Weekly Metrics'!B37=0,\"\",'Weekly Metrics'!B37)","v":""}]
[{"$f":"IF('Weekly Metrics'!A38=0,\"\",'Weekly Metrics'!A38)","v":""},{"$f":"IF('Weekly Metrics'!B38=0,\"\",'Weekly Metrics'!B38)","v":""}]
[{"$f":"IF('Weekly Metrics'!A39=0,\"\",'Weekly Metrics'!A39)","v":""},{"$f":"IF('Weekly Metrics'!B39=0,\"\",'Weekly Metrics'!B39)","v":""}]
[{"$f":"IF('Weekly Metrics'!A40=0,\"\",'Weekly Metrics'!A40)","v":""},{"$f":"IF('Weekly Metrics'!B40=0,\"\",'Weekly Metrics'!B40)","v":""}]
[{"$f":"IF('Weekly Metrics'!A41=0,\"\",'Weekly Metrics'!A41)","v":""},{"$f":"IF('Weekly Metrics'!B41=0,\"\",'Weekly Metrics'!B41)","v":""}]
[{"$f":"IF('Weekly Metrics'!A42=0,\"\",'Weekly Metrics'!A42)","v":""},{"$f":"IF('Weekly Metrics'!B42=0,\"\",'Weekly Metrics'!B42)","v":""}]
[{"$f":"IF('Weekly Metrics'!A43=0,\"\",'Weekly Metrics'!A43)","v":""},{"$f":"IF('Weekly Metrics'!B43=0,\"\",'Weekly Metrics'!B43)","v":""}]
[{"$f":"IF('Weekly Metrics'!A44=0,\"\",'Weekly Metrics'!A44)","v":""},{"$f":"IF('Weekly Metrics'!B44=0,\"\",'Weekly Metrics'!B44)","v":""}]
[{"$f":"IF('Weekly Metrics'!A45=0,\"\",'Weekly Metrics'!A45)","v":""},{"$f":"IF('Weekly Metrics'!B45=0,\"\",'Weekly Metrics'!B45)","v":""}]
[{"$f":"IF('Weekly Metrics'!A46=0,\"\",'Weekly Metrics'!A46)","v":""},{"$f":"IF('Weekly Metrics'!B46=0,\"\",'Weekly Metrics'!B46)","v":""}]
[{"$f":"IF('Weekly Metrics'!A47=0,\"\",'Weekly Metrics'!A47)","v":""},{"$f":"IF('Weekly Metrics'!B47=0,\"\",'Weekly Metrics'!B47)","v":""}]
[{"$f":"IF('Weekly Metrics'!A48=0,\"\",'Weekly Metrics'!A48)","v":""},{"$f":"IF('Weekly Metrics'!B48=0,\"\",'Weekly Metrics'!B48)","v":""}]
[{"$f":"IF('Weekly Metrics'!A49=0,\"\",'Weekly Metrics'!A49)","v":""},{"$f":"IF('Weekly Metrics'!B49=0,\"\",'Weekly Metrics'!B49)","v":""}]
[{"$f":"IF('Weekly Metrics'!A50=0,\"\",'Weekly Metrics'!A50)","v":""},{"$f":"IF('Weekly Metrics'!B50=0,\"\",'Weekly Metrics'!B50)","v":""}]
[{"$f":"IF('Weekly Metrics'!A51=0,\"\",'Weekly Metrics'!A51)","v":""},{"$f":"IF('Weekly Metrics'!B51=0,\"\",'Weekly Metrics'!B51)","v":""}]
[{"$f":"IF('Weekly Metrics'!A52=0,\"\",'Weekly Metrics'!A52)","v":""},{"$f":"IF('Weekly Metrics'!B52=0,\"\",'Weekly Metrics'!B52)","v":""}]
[{"$f":"IF('Weekly Metrics'!A53=0,\"\",'Weekly Metrics'!A53)","v":""},{"$f":"IF('Weekly Metrics'!B53=0,\"\",'Weekly Metrics'!B53)","v":""}]
[{"$f":"IF('Weekly Metrics'!A54=0,\"\",'Weekly Metrics'!A54)","v":""},{"$f":"IF('Weekly Metrics'!B54=0,\"\",'Weekly Metrics'!B54)","v":""}]
[{"$f":"IF('Weekly Metrics'!A55=0,\"\",'Weekly Metrics'!A55)","v":""},{"$f":"IF('Weekly Metrics'!B55=0,\"\",'Weekly Metrics'!B55)","v":""}]
[{"$f":"IF('Weekly Metrics'!A56=0,\"\",'Weekly Metrics'!A56)","v":""},{"$f":"IF('Weekly Metrics'!B56=0,\"\",'Weekly Metrics'!B56)","v":""}]
[{"$f":"IF('Weekly Metrics'!A57=0,\"\",'Weekly Metrics'!A57)","v":""},{"$f":"IF('Weekly Metrics'!B57=0,\"\",'Weekly Metrics'!B57)","v":""}]
[{"$f":"IF('Weekly Metrics'!A58=0,\"\",'Weekly Metrics'!A58)","v":""},{"$f":"IF('Weekly Metrics'!B58=0,\"\",'Weekly Metrics'!B58)","v":""}]
[{"$f":"IF('Weekly Metrics'!A59=0,\"\",'Weekly Metrics'!A59)","v":""},{"$f":"IF('Weekly Metrics'!B59=0,\"\",'Weekly Metrics'!B59)","v":""}]
[{"$f":"IF('Weekly Metrics'!A60=0,\"\",'Weekly Metrics'!A60)","v":""},{"$f":"IF('Weekly Metrics'!B60=0,\"\",'Weekly Metrics'!B60)","v":""}]
[{"$f":"IF('Weekly Metrics'!A61=0,\"\",'Weekly Metrics'!A61)","v":""},{"$f":"IF('Weekly Metrics'!B61=0,\"\",'Weekly Metrics'!B61)","v":""}]
[{"$f":"IF('Weekly Metrics'!A62=0,\"\",'Weekly Metrics'!A62)","v":""},{"$f":"IF('Weekly Metrics'!B62=0,\"\",'Weekly Metrics'!B62)","v":""}]
[{"$f":"IF('Weekly Metrics'!A63=0,\"\",'Weekly Metrics'!A63)","v":""},{"$f":"IF('Weekly Metrics'!B63=0,\"\",'Weekly Metrics'!B63)","v":""}]
[{"$f":"IF('Weekly Metrics'!A64=0,\"\",'Weekly Metrics'!A64)","v":""},{"$f":"IF('Weekly Metrics'!B64=0,\"\",'Weekly Metrics'!B64)","v":""}]
[{"$f":"IF('Weekly Metrics'!A65=0,\"\",'Weekly Metrics'!A65)","v":""},{"$f":"IF('Weekly Metrics'!B65=0,\"\",'Weekly Metrics'!B65)","v":""}]
[{"$f":"IF('Weekly Metrics'!A66=0,\"\",'Weekly Metrics'!A66)","v":""},{"$f":"IF('Weekly Metrics'!B66=0,\"\",'Weekly Metrics'!B66)","v":""}]
[{"$f":"IF('Weekly Metrics'!A67=0,\"\",'Weekly Metrics'!A67)","v":""},{"$f":"IF('Weekly Metrics'!B67=0,\"\",'Weekly Metrics'!B67)","v":""}]
[{"$f":"IF('Weekly Metrics'!A68=0,\"\",'Weekly Metrics'!A68)","v":""},{"$f":"IF('Weekly Metrics'!B68=0,\"\",'Weekly Metrics'!B68)","v":""}]
[{"$f":"IF('Weekly Metrics'!A69=0,\"\",'Weekly Metrics'!A69)","v":""},{"$f":"IF('Weekly Metrics'!B69=0,\"\",'Weekly Metrics'!B69)","v":""}]
[{"$f":"IF('Weekly Metrics'!A70=0,\"\",'Weekly Metrics'!A70)","v":""},{"$f":"IF('Weekly Metrics'!B70=0,\"\",'Weekly Metrics'!B70)","v":""}]
[{"$f":"IF('Weekly Metrics'!A71=0,\"\",'Weekly Metrics'!A71)","v":""},{"$f":"IF('Weekly Metrics'!B71=0,\"\",'Weekly Metrics'!B71)","v":""}]
[{"$f":"IF('Weekly Metrics'!A72=0,\"\",'Weekly Metrics'!A72)","v":""},{"$f":"IF('Weekly Metrics'!B72=0,\"\",'Weekly Metrics'!B72)","v":""}]
[{"$f":"IF('Weekly Metrics'!A73=0,\"\",'Weekly Metrics'!A73)","v":""},{"$f":"IF('Weekly Metrics'!B73=0,\"\",'Weekly Metrics'!B73)","v":""}]
[{"$f":"IF('Weekly Metrics'!A74=0,\"\",'Weekly Metrics'!A74)","v":""},{"$f":"IF('Weekly Metrics'!B74=0,\"\",'Weekly Metrics'!B74)","v":""}]
[{"$f":"IF('Weekly Metrics'!A75=0,\"\",'Weekly Metrics'!A75)","v":""},{"$f":"IF('Weekly Metrics'!B75=0,\"\",'Weekly Metrics'!B75)","v":""}]
[{"$f":"IF('Weekly Metrics'!A76=0,\"\",'Weekly Metrics'!A76)","v":""},{"$f":"IF('Weekly Metrics'!B76=0,\"\",'Weekly Metrics'!B76)","v":""}]
[{"$f":"IF('Weekly Metrics'!A77=0,\"\",'Weekly Metrics'!A77)","v":""},{"$f":"IF('Weekly Metrics'!B77=0,\"\",'Weekly Metrics'!B77)","v":""}]
[{"$f":"IF('Weekly Metrics'!A78=0,\"\",'Weekly Metrics'!A78)","v":""},{"$f":"IF('Weekly Metrics'!B78=0,\"\",'Weekly Metrics'!B78)","v":""}]
[{"$f":"IF('Weekly Metrics'!A79=0,\"\",'Weekly Metrics'!A79)","v":""},{"$f":"IF('Weekly Metrics'!B79=0,\"\",'Weekly Metrics'!B79)","v":""}]
[{"$f":"IF('Weekly Metrics'!A80=0,\"\",'Weekly Metrics'!A80)","v":""},{"$f":"IF('Weekly Metrics'!B80=0,\"\",'Weekly Metrics'!B80)","v":""}]
[{"$f":"IF('Weekly Metrics'!A81=0,\"\",'Weekly Metrics'!A81)","v":""},{"$f":"IF('Weekly Metrics'!B81=0,\"\",'Weekly Metrics'!B81)","v":""}]
[{"$f":"IF('Weekly Metrics'!A82=0,\"\",'Weekly Metrics'!A82)","v":""},{"$f":"IF('Weekly Metrics'!B82=0,\"\",'Weekly Metrics'!B82)","v":""}]
[{"$f":"IF('Weekly Metrics'!A83=0,\"\",'Weekly Metrics'!A83)","v":""},{"$f":"IF('Weekly Metrics'!B83=0,\"\",'Weekly Metrics'!B83)","v":""}]
[{"$f":"IF('Weekly Metrics'!A84=0,\"\",'Weekly Metrics'!A84)","v":""},{"$f":"IF('Weekly Metrics'!B84=0,\"\",'Weekly Metrics'!B84)","v":""}]
[{"$f":"IF('Weekly Metrics'!A85=0,\"\",'Weekly Metrics'!A85)","v":""},{"$f":"IF('Weekly Metrics'!B85=0,\"\",'Weekly Metrics'!B85)","v":""}]
[{"$f":"IF('Weekly Metrics'!A86=0,\"\",'Weekly Metrics'!A86)","v":""},{"$f":"IF('Weekly Metrics'!B86=0,\"\",'Weekly Metrics'!B86)","v":""}]
[{"$f":"IF('Weekly Metrics'!A87=0,\"\",'Weekly Metrics'!A87)","v":""},{"$f":"IF('Weekly Metrics'!B87=0,\"\",'Weekly Metrics'!B87)","v":""}]
[{"$f":"IF('Weekly Metrics'!A88=0,\"\",'Weekly Metrics'!A88)","v":""},{"$f":"IF('Weekly Metrics'!B88=0,\"\",'Weekly Metrics'!B88)","v":""}]
[{"$f":"IF('Weekly Metrics'!A89=0,\"\",'Weekly Metrics'!A89)","v":""},{"$f":"IF('Weekly Metrics'!B89=0,\"\",'Weekly Metrics'!B89)","v":""}]
[{"$f":"IF('Weekly Metrics'!A90=0,\"\",'Weekly Metrics'!A90)","v":""},{"$f":"IF('Weekly Metrics'!B90=0,\"\",'Weekly Metrics'!B90)","v":""}]
[{"$f":"IF('Weekly Metrics'!A91=0,\"\",'Weekly Metrics'!A91)","v":""},{"$f":"IF('Weekly Metrics'!B91=0,\"\",'Weekly Metrics'!B91)","v":""}]
[{"$f":"IF('Weekly Metrics'!A92=0,\"\",'Weekly Metrics'!A92)","v":""},{"$f":"IF('Weekly Metrics'!B92=0,\"\",'Weekly Metrics'!B92)","v":""}]
[{"$f":"IF('Weekly Metrics'!A93=0,\"\",'Weekly Metrics'!A93)","v":""},{"$f":"IF('Weekly Metrics'!B93=0,\"\",'Weekly Metrics'!B93)","v":""}]
[{"$f":"IF('Weekly Metrics'!A94=0,\"\",'Weekly Metrics'!A94)","v":""},{"$f":"IF('Weekly Metrics'!B94=0,\"\",'Weekly Metrics'!B94)","v":""}]
[{"$f":"IF('Weekly Metrics'!A95=0,\"\",'Weekly Metrics'!A95)","v":""},{"$f":"IF('Weekly Metrics'!B95=0,\"\",'Weekly Metrics'!B95)","v":""}]
[{"$f":"IF('Weekly Metrics'!A96=0,\"\",'Weekly Metrics'!A96)","v":""},{"$f":"IF('Weekly Metrics'!B96=0,\"\",'Weekly Metrics'!B96)","v":""}]
[{"$f":"IF('Weekly Metrics'!A97=0,\"\",'Weekly Metrics'!A97)","v":""},{"$f":"IF('Weekly Metrics'!B97=0,\"\",'Weekly Metrics'!B97)","v":""}]
[{"$f":"IF('Weekly Metrics'!A98=0,\"\",'Weekly Metrics'!A98)","v":""},{"$f":"IF('Weekly Metrics'!B98=0,\"\",'Weekly Metrics'!B98)","v":""}]
[{"$f":"IF('Weekly Metrics'!A99=0,\"\",'Weekly Metrics'!A99)","v":""},{"$f":"IF('Weekly Metrics'!B99=0,\"\",'Weekly Metrics'!B99)","v":""}]
[{"$f":"IF('Weekly Metrics'!A100=0,\"\",'Weekly Metrics'!A100)","v":""},{"$f":"IF('Weekly Metrics'!B100=0,\"\",'Weekly Metrics'!B100)","v":""}]
[{"$f":"IF('Weekly Metrics'!A101=0,\"\",'Weekly Metrics'!A101)","v":""},{"$f":"IF('Weekly Metrics'!B101=0,\"\",'Weekly Metrics'!B101)","v":""}]
[{"$f":"IF('Weekly Metrics'!A102=0,\"\",'Weekly Metrics'!A102)","v":""},{"$f":"IF('Weekly Metrics'!B102=0,\"\",'Weekly Metrics'!B102)","v":""}]
[{"$f":"IF('Weekly Metrics'!A103=0,\"\",'Weekly Metrics'!A103)","v":""},{"$f":"IF('Weekly Metrics'!B103=0,\"\",'Weekly Metrics'!B103)","v":""}]
[{"$f":"IF('Weekly Metrics'!A104=0,\"\",'Weekly Metrics'!A104)","v":""},{"$f":"IF('Weekly Metrics'!B104=0,\"\",'Weekly Metrics'!B104)","v":""}]
[{"$f":"IF('Weekly Metrics'!A105=0,\"\",'Weekly Metrics'!A105)","v":""},{"$f":"IF('Weekly Metrics'!B105=0,\"\",'Weekly Metrics'!B105)","v":""}]
[{"$f":"IF('Weekly Metrics'!A106=0,\"\",'Weekly Metrics'!A106)","v":""},{"$f":"IF('Weekly Metrics'!B106=0,\"\",'Weekly Metrics'!B106)","v":""}]
[{"$f":"IF('Weekly Metrics'!A107=0,\"\",'Weekly Metrics'!A107)","v":""},{"$f":"IF('Weekly Metrics'!B107=0,\"\",'Weekly Metrics'!B107)","v":""}]
[{"$f":"IF('Weekly Metrics'!A108=0,\"\",'Weekly Metrics'!A108)","v":""},{"$f":"IF('Weekly Metrics'!B108=0,\"\",'Weekly Metrics'!B108)","v":""}]
[{"$f":"IF('Weekly Metrics'!A109=0,\"\",'Weekly Metrics'!A109)","v":""},{"$f":"IF('Weekly Metrics'!B109=0,\"\",'Weekly Metrics'!B109)","v":""}]
[{"$f":"IF('Weekly Metrics'!A110=0,\"\",'Weekly Metrics'!A110)","v":""},{"$f":"IF('Weekly Metrics'!B110=0,\"\",'Weekly Metrics'!B110)","v":""}]
[{"$f":"IF('Weekly Metrics'!A111=0,\"\",'Weekly Metrics'!A111)","v":""},{"$f":"IF('Weekly Metrics'!B111=0,\"\",'Weekly Metrics'!B111)","v":""}]
[{"$f":"IF('Weekly Metrics'!A112=0,\"\",'Weekly Metrics'!A112)","v":""},{"$f":"IF('Weekly Metrics'!B112=0,\"\",'Weekly Metrics'!B112)","v":""}]
[{"$f":"IF('Weekly Metrics'!A113=0,\"\",'Weekly Metrics'!A113)","v":""},{"$f":"IF('Weekly Metrics'!B113=0,\"\",'Weekly Metrics'!B113)","v":""}]
[{"$f":"IF('Weekly Metrics'!A114=0,\"\",'Weekly Metrics'!A114)","v":""},{"$f":"IF('Weekly Metrics'!B114=0,\"\",'Weekly Metrics'!B114)","v":""}]
[{"$f":"IF('Weekly Metrics'!A115=0,\"\",'Weekly Metrics'!A115)","v":""},{"$f":"IF('Weekly Metrics'!B115=0,\"\",'Weekly Metrics'!B115)","v":""}]
[{"$f":"IF('Weekly Metrics'!A116=0,\"\",'Weekly Metrics'!A116)","v":""},{"$f":"IF('Weekly Metrics'!B116=0,\"\",'Weekly Metrics'!B116)","v":""}]
[{"$f":"IF('Weekly Metrics'!A117=0,\"\",'Weekly Metrics'!A117)","v":""},{"$f":"IF('Weekly Metrics'!B117=0,\"\",'Weekly Metrics'!B117)","v":""}]
[{"$f":"IF('Weekly Metrics'!A118=0,\"\",'Weekly Metrics'!A118)","v":""},{"$f":"IF('Weekly Metrics'!B118=0,\"\",'Weekly Metrics'!B118)","v":""}]
[{"$f":"IF('Weekly Metrics'!A119=0,\"\",'Weekly Metrics'!A119)","v":""},{"$f":"IF('Weekly Metrics'!B119=0,\"\",'Weekly Metrics'!B119)","v":""}]
[{"$f":"IF('Weekly Metrics'!A120=0,\"\",'Weekly Metrics'!A120)","v":""},{"$f":"IF('Weekly Metrics'!B120=0,\"\",'Weekly Metrics'!B120)","v":""}]
[{"$f":"IF('Weekly Metrics'!A121=0,\"\",'Weekly Metrics'!A121)","v":""},{"$f":"IF('Weekly Metrics'!B121=0,\"\",'Weekly Metrics'!B121)","v":""}]
[{"$f":"IF('Weekly Metrics'!A122=0,\"\",'Weekly Metrics'!A122)","v":""},{"$f":"IF('Weekly Metrics'!B122=0,\"\",'Weekly Metrics'!B122)","v":""}]
[{"$f":"IF('Weekly Metrics'!A123=0,\"\",'Weekly Metrics'!A123)","v":""},{"$f":"IF('Weekly Metrics'!B123=0,\"\",'Weekly Metrics'!B123)","v":""}]
[{"$f":"IF('Weekly Metrics'!A124=0,\"\",'Weekly Metrics'!A124)","v":""},{"$f":"IF('Weekly Metrics'!B124=0,\"\",'Weekly Metrics'!B124)","v":""}]
[{"$f":"IF('Weekly Metrics'!A125=0,\"\",'Weekly Metrics'!A125)","v":""},{"$f":"IF('Weekly Metrics'!B125=0,\"\",'Weekly Metrics'!B125)","v":""}]
[{"$f":"IF('Weekly Metrics'!A126=0,\"\",'Weekly Metrics'!A126)","v":""},{"$f":"IF('Weekly Metrics'!B126=0,\"\",'Weekly Metrics'!B126)","v":""}]
[{"$f":"IF('Weekly Metrics'!A127=0,\"\",'Weekly Metrics'!A127)","v":""},{"$f":"IF('Weekly Metrics'!B127=0,\"\",'Weekly Metrics'!B127)","v":""}]
[{"$f":"IF('Weekly Metrics'!A128=0,\"\",'Weekly Metrics'!A128)","v":""},{"$f":"IF('Weekly Metrics'!B128=0,\"\",'Weekly Metrics'!B128)","v":""}]
[{"$f":"IF('Weekly Metrics'!A129=0,\"\",'Weekly Metrics'!A129)","v":""},{"$f":"IF('Weekly Metrics'!B129=0,\"\",'Weekly Metrics'!B129)","v":""}]
[{"$f":"IF('Weekly Metrics'!A130=0,\"\",'Weekly Metrics'!A130)","v":""},{"$f":"IF('Weekly Metrics'!B130=0,\"\",'Weekly Metrics'!B130)","v":""}]
[{"$f":"IF('Weekly Metrics'!A131=0,\"\",'Weekly Metrics'!A131)","v":""},{"$f":"IF('Weekly Metrics'!B131=0,\"\",'Weekly Metrics'!B131)","v":""}]
[{"$f":"IF('Weekly Metrics'!A132=0,\"\",'Weekly Metrics'!A132)","v":""},{"$f":"IF('Weekly Metrics'!B132=0,\"\",'Weekly Metrics'!B132)","v":""}]
[{"$f":"IF('Weekly Metrics'!A133=0,\"\",'Weekly Metrics'!A133)","v":""},{"$f":"IF('Weekly Metrics'!B133=0,\"\",'Weekly Metrics'!B133)","v":""}]
[{"$f":"IF('Weekly Metrics'!A134=0,\"\",'Weekly Metrics'!A134)","v":""},{"$f":"IF('Weekly Metrics'!B134=0,\"\",'Weekly Metrics'!B134)","v":""}]
[{"$f":"IF('Weekly Metrics'!A135=0,\"\",'Weekly Metrics'!A135)","v":""},{"$f":"IF('Weekly Metrics'!B135=0,\"\",'Weekly Metrics'!B135)","v":""}]
[{"$f":"IF('Weekly Metrics'!A136=0,\"\",'Weekly Metrics'!A136)","v":""},{"$f":"IF('Weekly Metrics'!B136=0,\"\",'Weekly Metrics'!B136)","v":""}]
[{"$f":"IF('Weekly Metrics'!A137=0,\"\",'Weekly Metrics'!A137)","v":""},{"$f":"IF('Weekly Metrics'!B137=0,\"\",'Weekly Metrics'!B137)","v":""}]
[{"$f":"IF('Weekly Metrics'!A138=0,\"\",'Weekly Metrics'!A138)","v":""},{"$f":"IF('Weekly Metrics'!B138=0,\"\",'Weekly Metrics'!B138)","v":""}]
[{"$f":"IF('Weekly Metrics'!A139=0,\"\",'Weekly Metrics'!A139)","v":""},{"$f":"IF('Weekly Metrics'!B139=0,\"\",'Weekly Metrics'!B139)","v":""}]
[{"$f":"IF('Weekly Metrics'!A140=0,\"\",'Weekly Metrics'!A140)","v":""},{"$f":"IF('Weekly Metrics'!B140=0,\"\",'Weekly Metrics'!B140)","v":""}]
[{"$f":"IF('Weekly Metrics'!A141=0,\"\",'Weekly Metrics'!A141)","v":""},{"$f":"IF('Weekly Metrics'!B141=0,\"\",'Weekly Metrics'!B141)","v":""}]
[{"$f":"IF('Weekly Metrics'!A142=0,\"\",'Weekly Metrics'!A142)","v":""},{"$f":"IF('Weekly Metrics'!B142=0,\"\",'Weekly Metrics'!B142)","v":""}]
[{"$f":"IF('Weekly Metrics'!A143=0,\"\",'Weekly Metrics'!A143)","v":""},{"$f":"IF('Weekly Metrics'!B143=0,\"\",'Weekly Metrics'!B143)","v":""}]
[{"$f":"IF('Weekly Metrics'!A144=0,\"\",'Weekly Metrics'!A144)","v":""},{"$f":"IF('Weekly Metrics'!B144=0,\"\",'Weekly Metrics'!B144)","v":""}]
[{"$f":"IF('Weekly Metrics'!A145=0,\"\",'Weekly Metrics'!A145)","v":""},{"$f":"IF('Weekly Metrics'!B145=0,\"\",'Weekly Metrics'!B145)","v":""}]
[{"$f":"IF('Weekly Metrics'!A146=0,\"\",'Weekly Metrics'!A146)","v":""},{"$f":"IF('Weekly Metrics'!B146=0,\"\",'Weekly Metrics'!B146)","v":""}]
[{"$f":"IF('Weekly Metrics'!A147=0,\"\",'Weekly Metrics'!A147)","v":""},{"$f":"IF('Weekly Metrics'!B147=0,\"\",'Weekly Metrics'!B147)","v":""}]
[{"$f":"IF('Weekly Metrics'!A148=0,\"\",'Weekly Metrics'!A148)","v":""},{"$f":"IF('Weekly Metrics'!B148=0,\"\",'Weekly Metrics'!B148)","v":""}]
[{"$f":"IF('Weekly Metrics'!A149=0,\"\",'Weekly Metrics'!A149)","v":""},{"$f":"IF('Weekly Metrics'!B149=0,\"\",'Weekly Metrics'!B149)","v":""}]
[{"$f":"IF('Weekly Metrics'!A150=0,\"\",'Weekly Metrics'!A150)","v":""},{"$f":"IF('Weekly Metrics'!B150=0,\"\",'Weekly Metrics'!B150)","v":""}]
[{"$f":"IF('Weekly Metrics'!A151=0,\"\",'Weekly Metrics'!A151)","v":""},{"$f":"IF('Weekly Metrics'!B151=0,\"\",'Weekly Metrics'!B151)","v":""}]
[{"$f":"IF('Weekly Metrics'!A152=0,\"\",'Weekly Metrics'!A152)","v":""},{"$f":"IF('Weekly Metrics'!B152=0,\"\",'Weekly Metrics'!B152)","v":""}]
[{"$f":"IF('Weekly Metrics'!A153=0,\"\",'Weekly Metrics'!A153)","v":""},{"$f":"IF('Weekly Metrics'!B153=0,\"\",'Weekly Metrics'!B153)","v":""}]
[{"$f":"IF('Weekly Metrics'!A154=0,\"\",'Weekly Metrics'!A154)","v":""},{"$f":"IF('Weekly Metrics'!B154=0,\"\",'Weekly Metrics'!B154)","v":""}]
[{"$f":"IF('Weekly Metrics'!A155=0,\"\",'Weekly Metrics'!A155)","v":""},{"$f":"IF('Weekly Metrics'!B155=0,\"\",'Weekly Metrics'!B155)","v":""}]
[{"$f":"IF('Weekly Metrics'!A156=0,\"\",'Weekly Metrics'!A156)","v":""},{"$f":"IF('Weekly Metrics'!B156=0,\"\",'Weekly Metrics'!B156)","v":""}]
[{"$f":"IF('Weekly Metrics'!A157=0,\"\",'Weekly Metrics'!A157)","v":""},{"$f":"IF('Weekly Metrics'!B157=0,\"\",'Weekly Metrics'!B157)","v":""}]
[{"$f":"IF('Weekly Metrics'!A158=0,\"\",'Weekly Metrics'!A158)","v":""},{"$f":"IF('Weekly Metrics'!B158=0,\"\",'Weekly Metrics'!B158)","v":""}]
[{"$f":"IF('Weekly Metrics'!A159=0,\"\",'Weekly Metrics'!A159)","v":""},{"$f":"IF('Weekly Metrics'!B159=0,\"\",'Weekly Metrics'!B159)","v":""}]
[{"$f":"IF('Weekly Metrics'!A160=0,\"\",'Weekly Metrics'!A160)","v":""},{"$f":"IF('Weekly Metrics'!B160=0,\"\",'Weekly Metrics'!B160)","v":""}]
[{"$f":"IF('Weekly Metrics'!A161=0,\"\",'Weekly Metrics'!A161)","v":""},{"$f":"IF('Weekly Metrics'!B161=0,\"\",'Weekly Metrics'!B161)","v":""}]
[{"$f":"IF('Weekly Metrics'!A162=0,\"\",'Weekly Metrics'!A162)","v":""},{"$f":"IF('Weekly Metrics'!B162=0,\"\",'Weekly Metrics'!B162)","v":""}]
[{"$f":"IF('Weekly Metrics'!A163=0,\"\",'Weekly Metrics'!A163)","v":""},{"$f":"IF('Weekly Metrics'!B163=0,\"\",'Weekly Metrics'!B163)","v":""}]
[{"$f":"IF('Weekly Metrics'!A164=0,\"\",'Weekly Metrics'!A164)","v":""},{"$f":"IF('Weekly Metrics'!B164=0,\"\",'Weekly Metrics'!B164)","v":""}]
[{"$f":"IF('Weekly Metrics'!A165=0,\"\",'Weekly Metrics'!A165)","v":""},{"$f":"IF('Weekly Metrics'!B165=0,\"\",'Weekly Metrics'!B165)","v":""}]
[{"$f":"IF('Weekly Metrics'!A166=0,\"\",'Weekly Metrics'!A166)","v":""},{"$f":"IF('Weekly Metrics'!B166=0,\"\",'Weekly Metrics'!B166)","v":""}]
[{"$f":"IF('Weekly Metrics'!A167=0,\"\",'Weekly Metrics'!A167)","v":""},{"$f":"IF('Weekly Metrics'!B167=0,\"\",'Weekly Metrics'!B167)","v":""}]
[{"$f":"IF('Weekly Metrics'!A168=0,\"\",'Weekly Metrics'!A168)","v":""},{"$f":"IF('Weekly Metrics'!B168=0,\"\",'Weekly Metrics'!B168)","v":""}]
[{"$f":"IF('Weekly Metrics'!A169=0,\"\",'Weekly Metrics'!A169)","v":""},{"$f":"IF('Weekly Metrics'!B169=0,\"\",'Weekly Metrics'!B169)","v":""}]
[{"$f":"IF('Weekly Metrics'!A170=0,\"\",'Weekly Metrics'!A170)","v":""},{"$f":"IF('Weekly Metrics'!B170=0,\"\",'Weekly Metrics'!B170)","v":""}]
[{"$f":"IF('Weekly Metrics'!A171=0,\"\",'Weekly Metrics'!A171)","v":""},{"$f":"IF('Weekly Metrics'!B171=0,\"\",'Weekly Metrics'!B171)","v":""}]
[{"$f":"IF('Weekly Metrics'!A172=0,\"\",'Weekly Metrics'!A172)","v":""},{"$f":"IF('Weekly Metrics'!B172=0,\"\",'Weekly Metrics'!B172)","v":""}]
[{"$f":"IF('Weekly Metrics'!A173=0,\"\",'Weekly Metrics'!A173)","v":""},{"$f":"IF('Weekly Metrics'!B173=0,\"\",'Weekly Metrics'!B173)","v":""}]
[{"$f":"IF('Weekly Metrics'!A174=0,\"\",'Weekly Metrics'!A174)","v":""},{"$f":"IF('Weekly Metrics'!B174=0,\"\",'Weekly Metrics'!B174)","v":""}]
[{"$f":"IF('Weekly Metrics'!A175=0,\"\",'Weekly Metrics'!A175)","v":""},{"$f":"IF('Weekly Metrics'!B175=0,\"\",'Weekly Metrics'!B175)","v":""}]
[{"$f":"IF('Weekly Metrics'!A176=0,\"\",'Weekly Metrics'!A176)","v":""},{"$f":"IF('Weekly Metrics'!B176=0,\"\",'Weekly Metrics'!B176)","v":""}]
[{"$f":"IF('Weekly Metrics'!A177=0,\"\",'Weekly Metrics'!A177)","v":""},{"$f":"IF('Weekly Metrics'!B177=0,\"\",'Weekly Metrics'!B177)","v":""}]
[{"$f":"IF('Weekly Metrics'!A178=0,\"\",'Weekly Metrics'!A178)","v":""},{"$f":"IF('Weekly Metrics'!B178=0,\"\",'Weekly Metrics'!B178)","v":""}]
[{"$f":"IF('Weekly Metrics'!A179=0,\"\",'Weekly Metrics'!A179)","v":""},{"$f":"IF('Weekly Metrics'!B179=0,\"\",'Weekly Metrics'!B179)","v":""}]
[{"$f":"IF('Weekly Metrics'!A180=0,\"\",'Weekly Metrics'!A180)","v":""},{"$f":"IF('Weekly Metrics'!B180=0,\"\",'Weekly Metrics'!B180)","v":""}]
[{"$f":"IF('Weekly Metrics'!A181=0,\"\",'Weekly Metrics'!A181)","v":""},{"$f":"IF('Weekly Metrics'!B181=0,\"\",'Weekly Metrics'!B181)","v":""}]
[{"$f":"IF('Weekly Metrics'!A182=0,\"\",'Weekly Metrics'!A182)","v":""},{"$f":"IF('Weekly Metrics'!B182=0,\"\",'Weekly Metrics'!B182)","v":""}]
[{"$f":"IF('Weekly Metrics'!A183=0,\"\",'Weekly Metrics'!A183)","v":""},{"$f":"IF('Weekly Metrics'!B183=0,\"\",'Weekly Metrics'!B183)","v":""}]
[{"$f":"IF('Weekly Metrics'!A184=0,\"\",'Weekly Metrics'!A184)","v":""},{"$f":"IF('Weekly Metrics'!B184=0,\"\",'Weekly Metrics'!B184)","v":""}]
[{"$f":"IF('Weekly Metrics'!A185=0,\"\",'Weekly Metrics'!A185)","v":""},{"$f":"IF('Weekly Metrics'!B185=0,\"\",'Weekly Metrics'!B185)","v":""}]
[{"$f":"IF('Weekly Metrics'!A186=0,\"\",'Weekly Metrics'!A186)","v":""},{"$f":"IF('Weekly Metrics'!B186=0,\"\",'Weekly Metrics'!B186)","v":""}]
[{"$f":"IF('Weekly Metrics'!A187=0,\"\",'Weekly Metrics'!A187)","v":""},{"$f":"IF('Weekly Metrics'!B187=0,\"\",'Weekly Metrics'!B187)","v":""}]
[{"$f":"IF('Weekly Metrics'!A188=0,\"\",'Weekly Metrics'!A188)","v":""},{"$f":"IF('Weekly Metrics'!B188=0,\"\",'Weekly Metrics'!B188)","v":""}]
[{"$f":"IF('Weekly Metrics'!A189=0,\"\",'Weekly Metrics'!A189)","v":""},{"$f":"IF('Weekly Metrics'!B189=0,\"\",'Weekly Metrics'!B189)","v":""}]
[{"$f":"IF('Weekly Metrics'!A190=0,\"\",'Weekly Metrics'!A190)","v":""},{"$f":"IF('Weekly Metrics'!B190=0,\"\",'Weekly Metrics'!B190)","v":""}]
[{"$f":"IF('Weekly Metrics'!A191=0,\"\",'Weekly Metrics'!A191)","v":""},{"$f":"IF('Weekly Metrics'!B191=0,\"\",'Weekly Metrics'!B191)","v":""}]
[{"$f":"IF('Weekly Metrics'!A192=0,\"\",'Weekly Metrics'!A192)","v":""},{"$f":"IF('Weekly Metrics'!B192=0,\"\",'Weekly Metrics'!B192)","v":""}]
[{"$f":"IF('Weekly Metrics'!A193=0,\"\",'Weekly Metrics'!A193)","v":""},{"$f":"IF('Weekly Metrics'!B193=0,\"\",'Weekly Metrics'!B193)","v":""}]
[{"$f":"IF('Weekly Metrics'!A194=0,\"\",'Weekly Metrics'!A194)","v":""},{"$f":"IF('Weekly Metrics'!B194=0,\"\",'Weekly Metrics'!B194)","v":""}]
[{"$f":"IF('Weekly Metrics'!A195=0,\"\",'Weekly Metrics'!A195)","v":""},{"$f":"IF('Weekly Metrics'!B195=0,\"\",'Weekly Metrics'!B195)","v":""}]
[{"$f":"IF('Weekly Metrics'!A196=0,\"\",'Weekly Metrics'!A196)","v":""},{"$f":"IF('Weekly Metrics'!B196=0,\"\",'Weekly Metrics'!B196)","v":""}]
[{"$f":"IF('Weekly Metrics'!A197=0,\"\",'Weekly Metrics'!A197)","v":""},{"$f":"IF('Weekly Metrics'!B197=0,\"\",'Weekly Metrics'!B197)","v":""}]
[{"$f":"IF('Weekly Metrics'!A198=0,\"\",'Weekly Metrics'!A198)","v":""},{"$f":"IF('Weekly Metrics'!B198=0,\"\",'Weekly Metrics'!B198)","v":""}]
[{"$f":"IF('Weekly Metrics'!A199=0,\"\",'Weekly Metrics'!A199)","v":""},{"$f":"IF('Weekly Metrics'!B199=0,\"\",'Weekly Metrics'!B199)","v":""}]
[{"$f":"IF('Weekly Metrics'!A200=0,\"\",'Weekly Metrics'!A200)","v":""},{"$f":"IF('Weekly Metrics'!B200=0,\"\",'Weekly Metrics'!B200)","v":""}]
[{"$f":"IF('Weekly Metrics'!A201=0,\"\",'Weekly Metrics'!A201)","v":""},{"$f":"IF('Weekly Metrics'!B201=0,\"\",'Weekly Metrics'!B201)","v":""}]
[{"$f":"IF('Weekly Metrics'!A202=0,\"\",'Weekly Metrics'!A202)","v":""},{"$f":"IF('Weekly Metrics'!B202=0,\"\",'Weekly Metrics'!B202)","v":""}]
[{"$f":"IF('Weekly Metrics'!A203=0,\"\",'Weekly Metrics'!A203)","v":""},{"$f":"IF('Weekly Metrics'!B203=0,\"\",'Weekly Metrics'!B203)","v":""}]
[{"$f":"IF('Weekly Metrics'!A204=0,\"\",'Weekly Metrics'!A204)","v":""},{"$f":"IF('Weekly Metrics'!B204=0,\"\",'Weekly Metrics'!B204)","v":""}]
[{"$f":"IF('Weekly Metrics'!A205=0,\"\",'Weekly Metrics'!A205)","v":""},{"$f":"IF('Weekly Metrics'!B205=0,\"\",'Weekly Metrics'!B205)","v":""}]
[{"$f":"IF('Weekly Metrics'!A206=0,\"\",'Weekly Metrics'!A206)","v":""},{"$f":"IF('Weekly Metrics'!B206=0,\"\",'Weekly Metrics'!B206)","v":""}]
[{"$f":"IF('Weekly Metrics'!A207=0,\"\",'Weekly Metrics'!A207)","v":""},{"$f":"IF('Weekly Metrics'!B207=0,\"\",'Weekly Metrics'!B207)","v":""}]
[{"$f":"IF('Weekly Metrics'!A208=0,\"\",'Weekly Metrics'!A208)","v":""},{"$f":"IF('Weekly Metrics'!B208=0,\"\",'Weekly Metrics'!B208)","v":""}]
[{"$f":"IF('Weekly Metrics'!A209=0,\"\",'Weekly Metrics'!A209)","v":""},{"$f":"IF('Weekly Metrics'!B209=0,\"\",'Weekly Metrics'!B209)","v":""}]
[{"$f":"IF('Weekly Metrics'!A210=0,\"\",'Weekly Metrics'!A210)","v":""},{"$f":"IF('Weekly Metrics'!B210=0,\"\",'Weekly Metrics'!B210)","v":""}]
[{"$f":"IF('Weekly Metrics'!A211=0,\"\",'Weekly Metrics'!A211)","v":""},{"$f":"IF('Weekly Metrics'!B211=0,\"\",'Weekly Metrics'!B211)","v":""}]
[{"$f":"IF('Weekly Metrics'!A212=0,\"\",'Weekly Metrics'!A212)","v":""},{"$f":"IF('Weekly Metrics'!B212=0,\"\",'Weekly Metrics'!B212)","v":""}]
[{"$f":"IF('Weekly Metrics'!A213=0,\"\",'Weekly Metrics'!A213)","v":""},{"$f":"IF('Weekly Metrics'!B213=0,\"\",'Weekly Metrics'!B213)","v":""}]
[{"$f":"IF('Weekly Metrics'!A214=0,\"\",'Weekly Metrics'!A214)","v":""},{"$f":"IF('Weekly Metrics'!B214=0,\"\",'Weekly Metrics'!B214)","v":""}]
[{"$f":"IF('Weekly Metrics'!A215=0,\"\",'Weekly Metrics'!A215)","v":""},{"$f":"IF('Weekly Metrics'!B215=0,\"\",'Weekly Metrics'!B215)","v":""}]
[{"$f":"IF('Weekly Metrics'!A216=0,\"\",'Weekly Metrics'!A216)","v":""},{"$f":"IF('Weekly Metrics'!B216=0,\"\",'Weekly Metrics'!B216)","v":""}]
[{"$f":"IF('Weekly Metrics'!A217=0,\"\",'Weekly Metrics'!A217)","v":""},{"$f":"IF('Weekly Metrics'!B217=0,\"\",'Weekly Metrics'!B217)","v":""}]
[{"$f":"IF('Weekly Metrics'!A218=0,\"\",'Weekly Metrics'!A218)","v":""},{"$f":"IF('Weekly Metrics'!B218=0,\"\",'Weekly Metrics'!B218)","v":""}]
[{"$f":"IF('Weekly Metrics'!A219=0,\"\",'Weekly Metrics'!A219)","v":""},{"$f":"IF('Weekly Metrics'!B219=0,\"\",'Weekly Metrics'!B219)","v":""}]
[{"$f":"IF('Weekly Metrics'!A220=0,\"\",'Weekly Metrics'!A220)","v":""},{"$f":"IF('Weekly Metrics'!B220=0,\"\",'Weekly Metrics'!B220)","v":""}]
[{"$f":"IF('Weekly Metrics'!A221=0,\"\",'Weekly Metrics'!A221)","v":""},{"$f":"IF('Weekly Metrics'!B221=0,\"\",'Weekly Metrics'!B221)","v":""}]
[{"$f":"IF('Weekly Metrics'!A222=0,\"\",'Weekly Metrics'!A222)","v":""},{"$f":"IF('Weekly Metrics'!B222=0,\"\",'Weekly Metrics'!B222)","v":""}]
[{"$f":"IF('Weekly Metrics'!A223=0,\"\",'Weekly Metrics'!A223)","v":""},{"$f":"IF('Weekly Metrics'!B223=0,\"\",'Weekly Metrics'!B223)","v":""}]
[{"$f":"IF('Weekly Metrics'!A224=0,\"\",'Weekly Metrics'!A224)","v":""},{"$f":"IF('Weekly Metrics'!B224=0,\"\",'Weekly Metrics'!B224)","v":""}]
[{"$f":"IF('Weekly Metrics'!A225=0,\"\",'Weekly Metrics'!A225)","v":""},{"$f":"IF('Weekly Metrics'!B225=0,\"\",'Weekly Metrics'!B225)","v":""}]
[{"$f":"IF('Weekly Metrics'!A226=0,\"\",'Weekly Metrics'!A226)","v":""},{"$f":"IF('Weekly Metrics'!B226=0,\"\",'Weekly Metrics'!B226)","v":""}]
[{"$f":"IF('Weekly Metrics'!A227=0,\"\",'Weekly Metrics'!A227)","v":""},{"$f":"IF('Weekly Metrics'!B227=0,\"\",'Weekly Metrics'!B227)","v":""}]
[{"$f":"IF('Weekly Metrics'!A228=0,\"\",'Weekly Metrics'!A228)","v":""},{"$f":"IF('Weekly Metrics'!B228=0,\"\",'Weekly Metrics'!B228)","v":""}]
[{"$f":"IF('Weekly Metrics'!A229=0,\"\",'Weekly Metrics'!A229)","v":""},{"$f":"IF('Weekly Metrics'!B229=0,\"\",'Weekly Metrics'!B229)","v":""}]
[{"$f":"IF('Weekly Metrics'!A230=0,\"\",'Weekly Metrics'!A230)","v":""},{"$f":"IF('Weekly Metrics'!B230=0,\"\",'Weekly Metrics'!B230)","v":""}]
[{"$f":"IF('Weekly Metrics'!A231=0,\"\",'Weekly Metrics'!A231)","v":""},{"$f":"IF('Weekly Metrics'!B231=0,\"\",'Weekly Metrics'!B231)","v":""}]
[{"$f":"IF('Weekly Metrics'!A232=0,\"\",'Weekly Metrics'!A232)","v":""},{"$f":"IF('Weekly Metrics'!B232=0,\"\",'Weekly Metrics'!B232)","v":""}]
[{"$f":"IF('Weekly Metrics'!A233=0,\"\",'Weekly Metrics'!A233)","v":""},{"$f":"IF('Weekly Metrics'!B233=0,\"\",'Weekly Metrics'!B233)","v":""}]
[{"$f":"IF('Weekly Metrics'!A234=0,\"\",'Weekly Metrics'!A234)","v":""},{"$f":"IF('Weekly Metrics'!B234=0,\"\",'Weekly Metrics'!B234)","v":""}]
[{"$f":"IF('Weekly Metrics'!A235=0,\"\",'Weekly Metrics'!A235)","v":""},{"$f":"IF('Weekly Metrics'!B235=0,\"\",'Weekly Metrics'!B235)","v":""}]
[{"$f":"IF('Weekly Metrics'!A236=0,\"\",'Weekly Metrics'!A236)","v":""},{"$f":"IF('Weekly Metrics'!B236=0,\"\",'Weekly Metrics'!B236)","v":""}]
[{"$f":"IF('Weekly Metrics'!A237=0,\"\",'Weekly Metrics'!A237)","v":""},{"$f":"IF('Weekly Metrics'!B237=0,\"\",'Weekly Metrics'!B237)","v":""}]
[{"$f":"IF('Weekly Metrics'!A238=0,\"\",'Weekly Metrics'!A238)","v":""},{"$f":"IF('Weekly Metrics'!B238=0,\"\",'Weekly Metrics'!B238)","v":""}]
[{"$f":"IF('Weekly Metrics'!A239=0,\"\",'Weekly Metrics'!A239)","v":""},{"$f":"IF('Weekly Metrics'!B239=0,\"\",'Weekly Metrics'!B239)","v":""}]
[{"$f":"IF('Weekly Metrics'!A240=0,\"\",'Weekly Metrics'!A240)","v":""},{"$f":"IF('Weekly Metrics'!B240=0,\"\",'Weekly Metrics'!B240)","v":""}]
[{"$f":"IF('Weekly Metrics'!A241=0,\"\",'Weekly Metrics'!A241)","v":""},{"$f":"IF('Weekly Metrics'!B241=0,\"\",'Weekly Metrics'!B241)","v":""}]
[{"$f":"IF('Weekly Metrics'!A242=0,\"\",'Weekly Metrics'!A242)","v":""},{"$f":"IF('Weekly Metrics'!B242=0,\"\",'Weekly Metrics'!B242)","v":""}]
[{"$f":"IF('Weekly Metrics'!A243=0,\"\",'Weekly Metrics'!A243)","v":""},{"$f":"IF('Weekly Metrics'!B243=0,\"\",'Weekly Metrics'!B243)","v":""}]
[{"$f":"IF('Weekly Metrics'!A244=0,\"\",'Weekly Metrics'!A244)","v":""},{"$f":"IF('Weekly Metrics'!B244=0,\"\",'Weekly Metrics'!B244)","v":""}]
[{"$f":"IF('Weekly Metrics'!A245=0,\"\",'Weekly Metrics'!A245)","v":""},{"$f":"IF('Weekly Metrics'!B245=0,\"\",'Weekly Metrics'!B245)","v":""}]
[{"$f":"IF('Weekly Metrics'!A246=0,\"\",'Weekly Metrics'!A246)","v":""},{"$f":"IF('Weekly Metrics'!B246=0,\"\",'Weekly Metrics'!B246)","v":""}]
[{"$f":"IF('Weekly Metrics'!A247=0,\"\",'Weekly Metrics'!A247)","v":""},{"$f":"IF('Weekly Metrics'!B247=0,\"\",'Weekly Metrics'!B247)","v":""}]
[{"$f":"IF('Weekly Metrics'!A248=0,\"\",'Weekly Metrics'!A248)","v":""},{"$f":"IF('Weekly Metrics'!B248=0,\"\",'Weekly Metrics'!B248)","v":""}]
[{"$f":"IF('Weekly Metrics'!A249=0,\"\",'Weekly Metrics'!A249)","v":""},{"$f":"IF('Weekly Metrics'!B249=0,\"\",'Weekly Metrics'!B249)","v":""}]
[{"$f":"IF('Weekly Metrics'!A250=0,\"\",'Weekly Metrics'!A250)","v":""},{"$f":"IF('Weekly Metrics'!B250=0,\"\",'Weekly Metrics'!B250)","v":""}]
[{"$f":"IF('Weekly Metrics'!A251=0,\"\",'Weekly Metrics'!A251)","v":""},{"$f":"IF('Weekly Metrics'!B251=0,\"\",'Weekly Metrics'!B251)","v":""}]
[{"$f":"IF('Weekly Metrics'!A252=0,\"\",'Weekly Metrics'!A252)","v":""},{"$f":"IF('Weekly Metrics'!B252=0,\"\",'Weekly Metrics'!B252)","v":""}]
[{"$f":"IF('Weekly Metrics'!A253=0,\"\",'Weekly Metrics'!A253)","v":""},{"$f":"IF('Weekly Metrics'!B253=0,\"\",'Weekly Metrics'!B253)","v":""}]
[{"$f":"IF('Weekly Metrics'!A254=0,\"\",'Weekly Metrics'!A254)","v":""},{"$f":"IF('Weekly Metrics'!B254=0,\"\",'Weekly Metrics'!B254)","v":""}]
[{"$f":"IF('Weekly Metrics'!A255=0,\"\",'Weekly Metrics'!A255)","v":""},{"$f":"IF('Weekly Metrics'!B255=0,\"\",'Weekly Metrics'!B255)","v":""}]
[{"$f":"IF('Weekly Metrics'!A256=0,\"\",'Weekly Metrics'!A256)","v":""},{"$f":"IF('Weekly Metrics'!B256=0,\"\",'Weekly Metrics'!B256)","v":""}]
[{"$f":"IF('Weekly Metrics'!A257=0,\"\",'Weekly Metrics'!A257)","v":""},{"$f":"IF('Weekly Metrics'!B257=0,\"\",'Weekly Metrics'!B257)","v":""}]
[{"$f":"IF('Weekly Metrics'!A258=0,\"\",'Weekly Metrics'!A258)","v":""},{"$f":"IF('Weekly Metrics'!B258=0,\"\",'Weekly Metrics'!B258)","v":""}]
[{"$f":"IF('Weekly Metrics'!A259=0,\"\",'Weekly Metrics'!A259)","v":""},{"$f":"IF('Weekly Metrics'!B259=0,\"\",'Weekly Metrics'!B259)","v":""}]
[{"$f":"IF('Weekly Metrics'!A260=0,\"\",'Weekly Metrics'!A260)","v":""},{"$f":"IF('Weekly Metrics'!B260=0,\"\",'Weekly Metrics'!B260)","v":""}]
[{"$f":"IF('Weekly Metrics'!A261=0,\"\",'Weekly Metrics'!A261)","v":""},{"$f":"IF('Weekly Metrics'!B261=0,\"\",'Weekly Metrics'!B261)","v":""}]
[{"$f":"IF('Weekly Metrics'!A262=0,\"\",'Weekly Metrics'!A262)","v":""},{"$f":"IF('Weekly Metrics'!B262=0,\"\",'Weekly Metrics'!B262)","v":""}]
[{"$f":"IF('Weekly Metrics'!A263=0,\"\",'Weekly Metrics'!A263)","v":""},{"$f":"IF('Weekly Metrics'!B263=0,\"\",'Weekly Metrics'!B263)","v":""}]
[{"$f":"IF('Weekly Metrics'!A264=0,\"\",'Weekly Metrics'!A264)","v":""},{"$f":"IF('Weekly Metrics'!B264=0,\"\",'Weekly Metrics'!B264)","v":""}]
[{"$f":"IF('Weekly Metrics'!A265=0,\"\",'Weekly Metrics'!A265)","v":""},{"$f":"IF('Weekly Metrics'!B265=0,\"\",'Weekly Metrics'!B265)","v":""}]
[{"$f":"IF('Weekly Metrics'!A266=0,\"\",'Weekly Metrics'!A266)","v":""},{"$f":"IF('Weekly Metrics'!B266=0,\"\",'Weekly Metrics'!B266)","v":""}]
[{"$f":"IF('Weekly Metrics'!A267=0,\"\",'Weekly Metrics'!A267)","v":""},{"$f":"IF('Weekly Metrics'!B267=0,\"\",'Weekly Metrics'!B267)","v":""}]
[{"$f":"IF('Weekly Metrics'!A268=0,\"\",'Weekly Metrics'!A268)","v":""},{"$f":"IF('Weekly Metrics'!B268=0,\"\",'Weekly Metrics'!B268)","v":""}]
[{"$f":"IF('Weekly Metrics'!A269=0,\"\",'Weekly Metrics'!A269)","v":""},{"$f":"IF('Weekly Metrics'!B269=0,\"\",'Weekly Metrics'!B269)","v":""}]
[{"$f":"IF('Weekly Metrics'!A270=0,\"\",'Weekly Metrics'!A270)","v":""},{"$f":"IF('Weekly Metrics'!B270=0,\"\",'Weekly Metrics'!B270)","v":""}]
[{"$f":"IF('Weekly Metrics'!A271=0,\"\",'Weekly Metrics'!A271)","v":""},{"$f":"IF('Weekly Metrics'!B271=0,\"\",'Weekly Metrics'!B271)","v":""}]
[{"$f":"IF('Weekly Metrics'!A272=0,\"\",'Weekly Metrics'!A272)","v":""},{"$f":"IF('Weekly Metrics'!B272=0,\"\",'Weekly Metrics'!B272)","v":""}]
[{"$f":"IF('Weekly Metrics'!A273=0,\"\",'Weekly Metrics'!A273)","v":""},{"$f":"IF('Weekly Metrics'!B273=0,\"\",'Weekly Metrics'!B273)","v":""}]
[{"$f":"IF('Weekly Metrics'!A274=0,\"\",'Weekly Metrics'!A274)","v":""},{"$f":"IF('Weekly Metrics'!B274=0,\"\",'Weekly Metrics'!B274)","v":""}]
[{"$f":"IF('Weekly Metrics'!A275=0,\"\",'Weekly Metrics'!A275)","v":""},{"$f":"IF('Weekly Metrics'!B275=0,\"\",'Weekly Metrics'!B275)","v":""}]
[{"$f":"IF('Weekly Metrics'!A276=0,\"\",'Weekly Metrics'!A276)","v":""},{"$f":"IF('Weekly Metrics'!B276=0,\"\",'Weekly Metrics'!B276)","v":""}]
[{"$f":"IF('Weekly Metrics'!A277=0,\"\",'Weekly Metrics'!A277)","v":""},{"$f":"IF('Weekly Metrics'!B277=0,\"\",'Weekly Metrics'!B277)","v":""}]
[{"$f":"IF('Weekly Metrics'!A278=0,\"\",'Weekly Metrics'!A278)","v":""},{"$f":"IF('Weekly Metrics'!B278=0,\"\",'Weekly Metrics'!B278)","v":""}]
[{"$f":"IF('Weekly Metrics'!A279=0,\"\",'Weekly Metrics'!A279)","v":""},{"$f":"IF('Weekly Metrics'!B279=0,\"\",'Weekly Metrics'!B279)","v":""}]
[{"$f":"IF('Weekly Metrics'!A280=0,\"\",'Weekly Metrics'!A280)","v":""},{"$f":"IF('Weekly Metrics'!B280=0,\"\",'Weekly Metrics'!B280)","v":""}]
[{"$f":"IF('Weekly Metrics'!A281=0,\"\",'Weekly Metrics'!A281)","v":""},{"$f":"IF('Weekly Metrics'!B281=0,\"\",'Weekly Metrics'!B281)","v":""}]
[{"$f":"IF('Weekly Metrics'!A282=0,\"\",'Weekly Metrics'!A282)","v":""},{"$f":"IF('Weekly Metrics'!B282=0,\"\",'Weekly Metrics'!B282)","v":""}]
[{"$f":"IF('Weekly Metrics'!A283=0,\"\",'Weekly Metrics'!A283)","v":""},{"$f":"IF('Weekly Metrics'!B283=0,\"\",'Weekly Metrics'!B283)","v":""}]
[{"$f":"IF('Weekly Metrics'!A284=0,\"\",'Weekly Metrics'!A284)","v":""},{"$f":"IF('Weekly Metrics'!B284=0,\"\",'Weekly Metrics'!B284)","v":""}]
[{"$f":"IF('Weekly Metrics'!A285=0,\"\",'Weekly Metrics'!A285)","v":""},{"$f":"IF('Weekly Metrics'!B285=0,\"\",'Weekly Metrics'!B285)","v":""}]
[{"$f":"IF('Weekly Metrics'!A286=0,\"\",'Weekly Metrics'!A286)","v":""},{"$f":"IF('Weekly Metrics'!B286=0,\"\",'Weekly Metrics'!B286)","v":""}]
[{"$f":"IF('Weekly Metrics'!A287=0,\"\",'Weekly Metrics'!A287)","v":""},{"$f":"IF('Weekly Metrics'!B287=0,\"\",'Weekly Metrics'!B287)","v":""}]
[{"$f":"IF('Weekly Metrics'!A288=0,\"\",'Weekly Metrics'!A288)","v":""},{"$f":"IF('Weekly Metrics'!B288=0,\"\",'Weekly Metrics'!B288)","v":""}]
[{"$f":"IF('Weekly Metrics'!A289=0,\"\",'Weekly Metrics'!A289)","v":""},{"$f":"IF('Weekly Metrics'!B289=0,\"\",'Weekly Metrics'!B289)","v":""}]
[{"$f":"IF('Weekly Metrics'!A290=0,\"\",'Weekly Metrics'!A290)","v":""},{"$f":"IF('Weekly Metrics'!B290=0,\"\",'Weekly Metrics'!B290)","v":""}]
[{"$f":"IF('Weekly Metrics'!A291=0,\"\",'Weekly Metrics'!A291)","v":""},{"$f":"IF('Weekly Metrics'!B291=0,\"\",'Weekly Metrics'!B291)","v":""}]
[{"$f":"IF('Weekly Metrics'!A292=0,\"\",'Weekly Metrics'!A292)","v":""},{"$f":"IF('Weekly Metrics'!B292=0,\"\",'Weekly Metrics'!B292)","v":""}]
[{"$f":"IF('Weekly Metrics'!A293=0,\"\",'Weekly Metrics'!A293)","v":""},{"$f":"IF('Weekly Metrics'!B293=0,\"\",'Weekly Metrics'!B293)","v":""}]
[{"$f":"IF('Weekly Metrics'!A294=0,\"\",'Weekly Metrics'!A294)","v":""},{"$f":"IF('Weekly Metrics'!B294=0,\"\",'Weekly Metrics'!B294)","v":""}]
[{"$f":"IF('Weekly Metrics'!A295=0,\"\",'Weekly Metrics'!A295)","v":""},{"$f":"IF('Weekly Metrics'!B295=0,\"\",'Weekly Metrics'!B295)","v":""}]
[{"$f":"IF('Weekly Metrics'!A296=0,\"\",'Weekly Metrics'!A296)","v":""},{"$f":"IF('Weekly Metrics'!B296=0,\"\",'Weekly Metrics'!B296)","v":""}]
[{"$f":"IF('Weekly Metrics'!A297=0,\"\",'Weekly Metrics'!A297)","v":""},{"$f":"IF('Weekly Metrics'!B297=0,\"\",'Weekly Metrics'!B297)","v":""}]
[{"$f":"IF('Weekly Metrics'!A298=0,\"\",'Weekly Metrics'!A298)","v":""},{"$f":"IF('Weekly Metrics'!B298=0,\"\",'Weekly Metrics'!B298)","v":""}]
[{"$f":"IF('Weekly Metrics'!A299=0,\"\",'Weekly Metrics'!A299)","v":""},{"$f":"IF('Weekly Metrics'!B299=0,\"\",'Weekly Metrics'!B299)","v":""}]
[{"$f":"IF('Weekly Metrics'!A300=0,\"\",'Weekly Metrics'!A300)","v":""},{"$f":"IF('Weekly Metrics'!B300=0,\"\",'Weekly Metrics'!B300)","v":""}]
[{"$f":"IF('Weekly Metrics'!A301=0,\"\",'Weekly Metrics'!A301)","v":""},{"$f":"IF('Weekly Metrics'!B301=0,\"\",'Weekly Metrics'!B301)","v":""}]
[{"$f":"IF('Weekly Metrics'!A302=0,\"\",'Weekly Metrics'!A302)","v":""},{"$f":"IF('Weekly Metrics'!B302=0,\"\",'Weekly Metrics'!B302)","v":""}]
[{"$f":"IF('Weekly Metrics'!A303=0,\"\",'Weekly Metrics'!A303)","v":""},{"$f":"IF('Weekly Metrics'!B303=0,\"\",'Weekly Metrics'!B303)","v":""}]
[{"$f":"IF('Weekly Metrics'!A304=0,\"\",'Weekly Metrics'!A304)","v":""},{"$f":"IF('Weekly Metrics'!B304=0,\"\",'Weekly Metrics'!B304)","v":""}]
[{"$f":"IF('Weekly Metrics'!A305=0,\"\",'Weekly Metrics'!A305)","v":""},{"$f":"IF('Weekly Metrics'!B305=0,\"\",'Weekly Metrics'!B305)","v":""}]
[{"$f":"IF('Weekly Metrics'!A306=0,\"\",'Weekly Metrics'!A306)","v":""},{"$f":"IF('Weekly Metrics'!B306=0,\"\",'Weekly Metrics'!B306)","v":""}]
[{"$f":"IF('Weekly Metrics'!A307=0,\"\",'Weekly Metrics'!A307)","v":""},{"$f":"IF('Weekly Metrics'!B307=0,\"\",'Weekly Metrics'!B307)","v":""}]
[{"$f":"IF('Weekly Metrics'!A308=0,\"\",'Weekly Metrics'!A308)","v":""},{"$f":"IF('Weekly Metrics'!B308=0,\"\",'Weekly Metrics'!B308)","v":""}]
[{"$f":"IF('Weekly Metrics'!A309=0,\"\",'Weekly Metrics'!A309)","v":""},{"$f":"IF('Weekly Metrics'!B309=0,\"\",'Weekly Metrics'!B309)","v":""}]
[{"$f":"IF('Weekly Metrics'!A310=0,\"\",'Weekly Metrics'!A310)","v":""},{"$f":"IF('Weekly Metrics'!B310=0,\"\",'Weekly Metrics'!B310)","v":""}]
[{"$f":"IF('Weekly Metrics'!A311=0,\"\",'Weekly Metrics'!A311)","v":""},{"$f":"IF('Weekly Metrics'!B311=0,\"\",'Weekly Metrics'!B311)","v":""}]
[{"$f":"IF('Weekly Metrics'!A312=0,\"\",'Weekly Metrics'!A312)","v":""},{"$f":"IF('Weekly Metrics'!B312=0,\"\",'Weekly Metrics'!B312)","v":""}]
[{"$f":"IF('Weekly Metrics'!A313=0,\"\",'Weekly Metrics'!A313)","v":""},{"$f":"IF('Weekly Metrics'!B313=0,\"\",'Weekly Metrics'!B313)","v":""}]
[{"$f":"IF('Weekly Metrics'!A314=0,\"\",'Weekly Metrics'!A314)","v":""},{"$f":"IF('Weekly Metrics'!B314=0,\"\",'Weekly Metrics'!B314)","v":""}]
[{"$f":"IF('Weekly Metrics'!A315=0,\"\",'Weekly Metrics'!A315)","v":""},{"$f":"IF('Weekly Metrics'!B315=0,\"\",'Weekly Metrics'!B315)","v":""}]
[{"$f":"IF('Weekly Metrics'!A316=0,\"\",'Weekly Metrics'!A316)","v":""},{"$f":"IF('Weekly Metrics'!B316=0,\"\",'Weekly Metrics'!B316)","v":""}]
[{"$f":"IF('Weekly Metrics'!A317=0,\"\",'Weekly Metrics'!A317)","v":""},{"$f":"IF('Weekly Metrics'!B317=0,\"\",'Weekly Metrics'!B317)","v":""}]
[{"$f":"IF('Weekly Metrics'!A318=0,\"\",'Weekly Metrics'!A318)","v":""},{"$f":"IF('Weekly Metrics'!B318=0,\"\",'Weekly Metrics'!B318)","v":""}]
[{"$f":"IF('Weekly Metrics'!A319=0,\"\",'Weekly Metrics'!A319)","v":""},{"$f":"IF('Weekly Metrics'!B319=0,\"\",'Weekly Metrics'!B319)","v":""}]
[{"$f":"IF('Weekly Metrics'!A320=0,\"\",'Weekly Metrics'!A320)","v":""},{"$f":"IF('Weekly Metrics'!B320=0,\"\",'Weekly Metrics'!B320)","v":""}]
[{"$f":"IF('Weekly Metrics'!A321=0,\"\",'Weekly Metrics'!A321)","v":""},{"$f":"IF('Weekly Metrics'!B321=0,\"\",'Weekly Metrics'!B321)","v":""}]
[{"$f":"IF('Weekly Metrics'!A322=0,\"\",'Weekly Metrics'!A322)","v":""},{"$f":"IF('Weekly Metrics'!B322=0,\"\",'Weekly Metrics'!B322)","v":""}]
[{"$f":"IF('Weekly Metrics'!A323=0,\"\",'Weekly Metrics'!A323)","v":""},{"$f":"IF('Weekly Metrics'!B323=0,\"\",'Weekly Metrics'!B323)","v":""}]
[{"$f":"IF('Weekly Metrics'!A324=0,\"\",'Weekly Metrics'!A324)","v":""},{"$f":"IF('Weekly Metrics'!B324=0,\"\",'Weekly Metrics'!B324)","v":""}]
[{"$f":"IF('Weekly Metrics'!A325=0,\"\",'Weekly Metrics'!A325)","v":""},{"$f":"IF('Weekly Metrics'!B325=0,\"\",'Weekly Metrics'!B325)","v":""}]

{"sheet":"Glossary","index":7,"n_rows":43,"n_cols":5,"rows_kept":43,"cut":false,"hidden":false,"merged":[]}
[]
[]
[]
[]
[]
[]
[]
[null,"Glossary"]
[null,"Performance estimates:"]
[null,null,"Adjusted Consensus: Consensus estimates adjusted by Earnest analysts to represent our backtest metric and account for calendar dynamics."]
[null,null,"Metric Low: Adjusted lower bound for YoY metric calculated using Earnest analyst inputs."]
[null,null,"Metric Point: Adjusted point estimate for YoY metric calculated using Earnest analyst inputs."]
[null,null,"Metric High: Adjusted upper bound for YoY metric calculated using Earnest analyst inputs."]
[null,null,"Two Year Metrics: The two year metrics are calculated by adjusting panel sales data to account for historical differentials and current quarter analyst differential expectations using a Yo2Y comparison. "]
[null,null,null,null,"This reflects the compounded effect of applying adjustments over multiple years."]
[null,null,"Three Year Metrics: The three year metrics are calculated by adjusting panel sales data to account for historical differentials and current quarter analyst differential expectations using a Yo3Y comparison. "]
[null,null,null,null,"This reflects the compounded effect of applying adjustments over multiple years."]
[null,null,"Probability to Beat: Earnest analyst prediction of the probability the company beats consensus estimates."]
[null,"Methods:"]
[null,null,"Aggregate (agg_yoy): Combines analyst interpretation from each of the downstream methodologies (Consistent Shopper and Blended Index)."]
[null,null,"Blended Index (index_yoy): The Blended Index Method measures the penetration of spend at a specific merchant relative to total retail activity"]
[null,null,null,null,"observed in the panel (the Blended Index Normalizer). The Blended Index Method combines all three sources of transaction data: credit,"]
[null,null,null,null,"debit, and bill payment."]
[null,null,"Consistent Shopper (cs_yoy): The Consistent Shopper Method utilizes a subset of unique panelists who exhibit consistent credit and debit"]
[null,null,null,null,"spending behavior in the panel since 2019. This method incorporates all three sources of transaction data: credit, debit and bill payment."]
[null,null,null,null,"If an individual’s spending becomes inconsistent mid-time series, that individual (and all of his/her historical transactions) is removed"]
[null,null,null,null,"from the Consistent Shopper Method."]
[null,null,"Consistent Subscriber (subs_yoy): Similar to the Consistent Shopper Method, the Consistent Subscriber Method utilizes a subset of unique panelists"]
[null,null,null,null,"where consistent bill payments are observed since 2019. This method incorporates all three sources of transaction data: credit, debit and"]
[null,null,null,null,"bill payment. If an individual’s bill payments become inconsistent mid-time series, that individual (and all of his/her historical transactions)"]
[null,null,null,null,"is removed from the Consistent Subscriber Method."]
[null,"KPIs:"]
[null,null,"Unique Shoppers: The number of distinct panelists who have transacted during the ‘Period’ (Consistent Shopper method only)."]
[null,null,"Avg. Transaction per Shopper: The average number of transactions for each unique shopper for the ‘Period’ (Consistent Shopper Method only)."]
[null,null,"Transactions:"]
[null,null,null,null,"Blended Index Method: An indexed value for the total number of transactions during the ‘Period.’"]
[null,null,null,null,"Consistent Shopper Method: The total number of transactions during the ‘Period.’"]
[null,null,"Avg. Ticket: The average transaction amount in the ‘Period’."]
[null,null,"Panel Sales: The total sales volume observed during the ‘Period.’"]
[null,null,"Panel Sales Difference:  The delta between Earnest’s ‘Panel Sales’ growth and a merchant’s reported metric growth."]
[null,null,"Churn:  The number of subscribers that have unsubscribed during the ‘Period’."]
[null,null,"EOP (End of Period) Subscribers: The number of panelists who are subscribed to the service at the end of a given ‘Period’."]
[null,null,"Gross Adds: The total number of new subscribers (either first time or previously churned) during the ‘Period.’"]

{"sheet":"Weekly Sales Data","index":8,"n_rows":1355,"n_cols":11,"rows_kept":1355,"cut":false,"hidden":true,"merged":[]}
["TICKER","EARNEST_WEEK","END_DATE","EARNEST_YEAR","CONCAT('WEEK ',A.EARNEST_WEEK)","PANEL_AMOUNT","PANEL_TRANSACTIONS","AVG_TICKET","EOP_SUBSCRIBERS","GROSS_ADDS","CHURNED_MEMBERS"]
["ADT",1,"2019-01-05",2019,"Week 1",240717.01,3937,61.142242824,18420,199,86]
["ADT",2,"2019-01-12",2019,"Week 2",231498.88,3696,62.634978355000001,18509,186,97]
["ADT",3,"2019-01-19",2019,"Week 3",252933.89,4098,61.721300634000002,18596,200,113]
["ADT",4,"2019-01-26",2019,"Week 4",207890.35,3392,61.288428656000001,18666,185,115]
["ADT",5,"2019-02-02",2019,"Week 5",230043.06,3792,60.665363923999998,18770,204,100]
["ADT",6,"2019-02-09",2019,"Week 6",245661.28,3998,61.446043021999998,18929,255,96]
["ADT",7,"2019-02-16",2019,"Week 7",243941.26,3963,61.554695936999998,19042,225,112]
["ADT",8,"2019-02-23",2019,"Week 8",242367.06,3979,60.911550640999998,19166,234,110]
["ADT",9,"2019-03-02",2019,"Week 9",309583.07,5034,61.498424712000002,19355,281,92]
["ADT",10,"2019-03-09",2019,"Week 10",258907.99,4155,62.312392297999999,19455,184,84]
["ADT",11,"2019-03-16",2019,"Week 11",255344.62,4090,62.431447433000002,19429,164,190]
["ADT",12,"2019-03-23",2019,"Week 12",244304.1,3863,63.242065752000002,19346,159,242]
["ADT",13,"2019-03-30",2019,"Week 13",231662.56,3727,62.157917896000001,19364,114,96]
["ADT",14,"2019-04-06",2019,"Week 14",264827.26,4290,61.731296037,19397,134,101]
["ADT",15,"2019-04-13",2019,"Week 15",238735.87,3832,62.300592379999998,19430,112,79]
["ADT",16,"2019-04-20",2019,"Week 16",255394.57,4100,62.291358537000001,19480,142,92]
["ADT",17,"2019-04-27",2019,"Week 17",226271.08,3635,62.247889958999998,19479,105,106]
["ADT",18,"2019-05-04",2019,"Week 18",291559.67,4671,62.419111538999999,19491,148,136]
["ADT",19,"2019-05-11",2019,"Week 19",235870.64,3827,61.633300235,19510,115,96]
["ADT",20,"2019-05-18",2019,"Week 20",251450.43,4084,61.569644955999998,19530,130,110]
["ADT",21,"2019-05-25",2019,"Week 21",237626.99,3756,63.265971778000001,19518,118,130]
["ADT",22,"2019-06-01",2019,"Week 22",225520.14,3608,62.50558204,19546,126,98]
["ADT",23,"2019-06-08",2019,"Week 23",268939.84000000003,4386,61.317792978,19574,141,113]
["ADT",24,"2019-06-15",2019,"Week 24",238246.47,3772,63.161842524000001,19534,130,170]
["ADT",25,"2019-06-22",2019,"Week 25",259643.98,4262,60.920689817000003,19532,130,132]
["ADT",26,"2019-06-29",2019,"Week 26",245250.73,3873,63.323193906999997,19555,144,121]
["ADT",27,"2019-07-06",2019,"Week 27",277418.46999999997,4485,61.854731327000003,19537,121,139]
["ADT",28,"2019-07-13",2019,"Week 28",248129.96,3929,63.153463985999998,19561,130,106]
["ADT",29,"2019-07-20",2019,"Week 29",255328.8,4150,61.525012048000001,19557,113,117]
["ADT",30,"2019-07-27",2019,"Week 30",218109.32,3534,61.717408036000002,19551,119,125]
["ADT",31,"2019-08-03",2019,"Week 31",262978.95,4207,62.509852627000001,19573,147,125]
["ADT",32,"2019-08-10",2019,"Week 32",249788.44,3945,63.317728770999999,19595,132,110]
["ADT",33,"2019-08-17",2019,"Week 33",262735.59000000003,4209,62.422330719999998,19576,120,139]
["ADT",34,"2019-08-24",2019,"Week 34",226709.05,3633,62.402711257999997,19576,109,109]
["ADT",35,"2019-08-31",2019,"Week 35",235220.55,3780,62.227658730000002,19567,117,126]
["ADT",36,"2019-09-07",2019,"Week 36",260218.4,4249,61.242268768999999,19565,111,113]
["ADT",37,"2019-09-14",2019,"Week 37",248892.33,3971,62.677494334000002,19590,134,109]
["ADT",38,"2019-09-21",2019,"Week 38",245162.39,4024,60.925047216999999,19585,118,123]
["ADT",39,"2019-09-28",2019,"Week 39",232340.87,3696,62.862789501999998,19574,122,133]
["ADT",40,"2019-10-05",2019,"Week 40",290614.28999999998,4900,59.309038776000001,19776,321,119]
["ADT",41,"2019-10-12",2019,"Week 41",242370.86,3839,63.133852566000002,19766,104,114]
["ADT",42,"2019-10-19",2019,"Week 42",247704.86,4105,60.342231425000001,19794,168,140]
["ADT",43,"2019-10-26",2019,"Week 43",233753.15,3680,63.519877717,19810,146,130]
["ADT",44,"2019-11-02",2019,"Week 44",240712.6,4029,59.744998758999998,19832,146,124]
["ADT",45,"2019-11-09",2019,"Week 45",267676,4380,61.113242008999997,19852,134,114]
["ADT",46,"2019-11-16",2019,"Week 46",251878.58,4009,62.828281367000002,19841,142,153]
["ADT",47,"2019-11-23",2019,"Week 47",246791.47,3887,63.491502443999998,19843,137,135]
["ADT",48,"2019-11-30",2019,"Week 48",254644.86,4167,61.109877609999998,19810,125,158]
["ADT",49,"2019-12-07",2019,"Week 49",282400.83,4778,59.104401422999999,19818,138,130]
["ADT",50,"2019-12-14",2019,"Week 50",245570.05,3893,63.079899820000001,19834,129,113]
["ADT",51,"2019-12-21",2019,"Week 51",255715.61,4108,62.248201070999997,19846,103,91]
["ADT",52,"2019-12-28",2019,"Week 52",210212.67,3399,61.845445718999997,19782,86,150]
["ADT",1,"2020-01-04",2020,"Week 1",263191.21999999997,4355,60.434264063999997,19778,124,128]
["ADT",2,"2020-01-11",2020,"Week 2",255171.95,4023,63.428274919000003,19803,161,136]
["ADT",3,"2020-01-18",2020,"Week 3",259806.83,4180,62.154744018999999,19829,155,129]
["ADT",4,"2020-01-25",2020,"Week 4",227239.36,3584,63.403839286,19867,142,104]
["ADT",5,"2020-02-01",2020,"Week 5",240761.67,3855,62.454389104999997,19854,161,174]
["ADT",6,"2020-02-08",2020,"Week 6",279150.53999999998,4517,61.799986717000003,19857,116,113]
["ADT",7,"2020-02-15",2020,"Week 7",234145.01,3687,63.505562787999999,19870,123,110]
["ADT",8,"2020-02-22",2020,"Week 8",257160.08,4240,60.650962264,19866,111,115]
["ADT",9,"2020-02-29",2020,"Week 9",267779.84000000003,4264,62.800150094000003,19838,94,122]
["ADT",10,"2020-03-07",2020,"Week 10",298919.12,4893,61.091175147999998,19831,128,135]
["ADT",11,"2020-03-14",2020,"Week 11",247575.76,3955,62.598169405999997,19801,130,160]
["ADT",12,"2020-03-21",2020,"Week 12",239951.55,3921,61.196518744999999,19679,127,249]
["ADT",13,"2020-03-28",2020,"Week 13",230792.07,3674,62.817656505000002,19640,110,149]
["ADT",14,"2020-04-04",2020,"Week 14",271657.07,4525,60.034711602000002,19631,135,144]
["ADT",15,"2020-04-11",2020,"Week 15",246958.38,3969,62.221814059000003,19626,117,122]
["ADT",16,"2020-04-18",2020,"Week 16",252336.25,4100,61.545426829,19609,109,126]
["ADT",17,"2020-04-25",2020,"Week 17",237441.36,3788,62.682513200000002,19580,89,118]
["ADT",18,"2020-05-02",2020,"Week 18",271146.71999999997,4457,60.836149876999997,19592,104,92]
["ADT",19,"2020-05-09",2020,"Week 19",266439.83,4259,62.559246301999998,19604,118,106]
["ADT",20,"2020-05-16",2020,"Week 20",253155.56,4038,62.693303616000001,19637,128,95]
["ADT",21,"2020-05-23",2020,"Week 21",245449.81,3904,62.871365265999998,19654,133,116]
["ADT",22,"2020-05-30",2020,"Week 22",238111.76,3766,63.226702070999998,19669,110,95]
["ADT",23,"2020-06-06",2020,"Week 23",285539.82,4683,60.973696347999997,19717,136,88]
["ADT",24,"2020-06-13",2020,"Week 24",246712.63,3937,62.665133349999998,19758,151,110]
["ADT",25,"2020-06-20",2020,"Week 25",252424.25,4177,60.431948767000002,19752,125,131]
["ADT",26,"2020-06-27",2020,"Week 26",236162.25,3754,62.909496537000003,19808,151,95]
["ADT",27,"2020-07-04",2020,"Week 27",304790.90999999997,4974,61.276821472000002,19850,159,117]
["ADT",28,"2020-07-11",2020,"Week 28",248664.02,4033,61.657332011000001,19906,149,93]
["ADT",29,"2020-07-18",2020,"Week 29",253706,4155,61.060409145999998,19888,102,120]
["ADT",30,"2020-07-25",2020,"Week 30",245968.34,3893,63.182209092999997,19901,120,107]
["ADT",31,"2020-08-01",2020,"Week 31",242695.01,3934,61.691664971999998,19938,129,92]
["ADT",32,"2020-08-08",2020,"Week 32",290610.98,4702,61.805823054000001,19967,140,111]
["ADT",33,"2020-08-15",2020,"Week 33",249197.77,3948,63.120002532999997,19994,136,109]
["ADT",34,"2020-08-22",2020,"Week 34",253486.35,4197,60.397033595000003,19998,120,116]
["ADT",35,"2020-08-29",2020,"Week 35",241562.23999999999,3743,64.537066523999997,20019,125,104]
["ADT",36,"2020-09-05",2020,"Week 36",296682.15999999997,4845,61.234707946,20066,143,96]
["ADT",37,"2020-09-12",2020,"Week 37",247423.56,3984,62.104307229,20076,113,103]
["ADT",38,"2020-09-19",2020,"Week 38",264539.01,4318,61.264245021000001,20081,119,114]
["ADT",39,"2020-09-26",2020,"Week 39",238162.18,3797,62.723776665999999,20086,114,109]
["ADT",40,"2020-10-03",2020,"Week 40",310453.28000000003,5249,59.145223852000001,20252,269,103]
["ADT",41,"2020-10-10",2020,"Week 41",256516.27,4184,61.308859943000002,20265,125,112]
["ADT",42,"2020-10-17",2020,"Week 42",256825.9,4186,61.353535594999997,20279,141,127]
["ADT",43,"2020-10-24",2020,"Week 43",257181.77,4098,62.757874573000002,20288,122,113]
["ADT",44,"2020-10-31",2020,"Week 44",249926.25,4108,60.838911879000001,20319,144,113]
["ADT",45,"2020-11-07",2020,"Week 45",303127.84000000003,5003,60.589214470999998,20303,127,143]
["ADT",46,"2020-11-14",2020,"Week 46",255836.12,4081,62.689566282999998,20340,132,95]
["ADT",47,"2020-11-21",2020,"Week 47",260795.76,4197,62.138613294999999,20364,133,109]
["ADT",48,"2020-11-28",2020,"Week 48",238403.67,3829,62.262645599000003,20357,108,115]
["ADT",49,"2020-12-05",2020,"Week 49",322466.62,5435,59.331484820999997,20380,136,113]
["ADT",50,"2020-12-12",2020,"Week 50",263013.71000000002,4192,62.741820134000001,20425,145,100]
["ADT",51,"2020-12-19",2020,"Week 51",268995.37,4265,63.070426728999998,20435,131,121]
["ADT",52,"2020-12-26",2020,"Week 52",232434.84,3785,61.409468955999998,20434,85,86]
["ADT",53,"2021-01-02",2020,"Week 53",271082.26,4408,61.497790381000002,20427,86,93]
["ADT",1,"2021-01-09",2021,"Week 1",288240.21000000002,4637,62.160925167000002,20452,126,101]
["ADT",2,"2021-01-16",2021,"Week 2",268947.93,4291,62.677215101000002,20415,109,146]
["ADT",3,"2021-01-23",2021,"Week 3",261447.89,4117,63.504466845000003,20432,132,115]
["ADT",4,"2021-01-30",2021,"Week 4",238893.82,3832,62.341811065000002,20404,108,136]
["ADT",5,"2021-02-06",2021,"Week 5",317052.36,5275,60.104712796000001,20424,139,119]
["ADT",6,"2021-02-13",2021,"Week 6",262822,4119,63.807234766000001,20417,114,121]
["ADT",7,"2021-02-20",2021,"Week 7",260783.28,4219,61.811633088000001,20400,103,120]
["ADT",8,"2021-02-27",2021,"Week 8",253248.35,4128,61.348921996000001,20358,95,137]
["ADT",9,"2021-03-06",2021,"Week 9",362011.45,6045,59.886095947000001,20354,119,123]
["ADT",10,"2021-03-13",2021,"Week 10",264379.51,4206,62.857705658999997,20366,120,108]
["ADT",11,"2021-03-20",2021,"Week 11",284395.87,4461,63.751596055,20223,112,255]
["ADT",12,"2021-03-27",2021,"Week 12",235529.3,3731,63.127660145,20221,119,121]
["ADT",13,"2021-04-03",2021,"Week 13",309772.23,5024,61.658485271000004,20230,113,104]
["ADT",14,"2021-04-10",2021,"Week 14",255901.86,4263,60.028585503000002,20237,94,87]
["ADT",15,"2021-04-17",2021,"Week 15",269324.78999999998,4364,61.715121447999998,20232,98,103]
["ADT",16,"2021-04-24",2021,"Week 16",244442.38,3930,62.199078880000002,20227,103,108]
["ADT",17,"2021-05-01",2021,"Week 17",254743.18,4232,60.194513233000002,20260,130,97]
["ADT",18,"2021-05-08",2021,"Week 18",330650.48,5393,61.311047653999999,20277,123,106]
["ADT",19,"2021-05-15",2021,"Week 19",228847.44,3677,62.237541473999997,20294,101,84]
["ADT",20,"2021-05-22",2021,"Week 20",269459.45,4470,60.281756152,20298,110,106]
["ADT",21,"2021-05-29",2021,"Week 21",259661.44,4044,64.209060335999993,20369,170,99]
["ADT",22,"2021-06-05",2021,"Week 22",339533.54,5640,60.200982269999997,20408,160,121]
["ADT",23,"2021-06-12",2021,"Week 23",235451.54,3747,62.837347211000001,20448,146,106]
["ADT",24,"2021-06-19",2021,"Week 24",265963.64,4357,61.042836813999998,20468,137,117]
["ADT",25,"2021-06-26",2021,"Week 25",233022.13,3889,59.918264335000003,20442,87,113]
["ADT",26,"2021-07-03",2021,"Week 26",339292.2,5624,60.329338548999999,20444,133,131]
["ADT",27,"2021-07-10",2021,"Week 27",255911.67,4280,59.792446261999999,20420,99,123]
["ADT",28,"2021-07-17",2021,"Week 28",261067.81,4316,60.488371176999998,20402,103,121]
["ADT",29,"2021-07-24",2021,"Week 29",247661.2,3975,62.304704403000002,20390,104,116]
["ADT",30,"2021-07-31",2021,"Week 30",262402.8,4415,59.434382786,20374,92,108]
["ADT",31,"2021-08-07",2021,"Week 31",323170.8,5362,60.270570683000003,20376,135,133]
["ADT",32,"2021-08-14",2021,"Week 32",252928.59,4044,62.544161721000002,20392,153,137]
["ADT",33,"2021-08-21",2021,"Week 33",253240.15,4170,60.729052758000002,20382,180,190]
["ADT",34,"2021-08-28",2021,"Week 34",244852.75,3896,62.847215091999999,20410,170,142]
["ADT",35,"2021-09-04",2021,"Week 35",344576.23,5696,60.494422401999998,20479,182,113]
["ADT",36,"2021-09-11",2021,"Week 36",241630.77,3979,60.726506659999998,20507,140,112]
["ADT",37,"2021-09-18",2021,"Week 37",262147.78000000003,4289,61.120955934000001,20480,110,137]
["ADT",38,"2021-09-25",2021,"Week 38",244170.22,3971,61.488345504999998,20490,114,104]
["ADT",39,"2021-10-02",2021,"Week 39",304915.19,5118,59.577020320000003,20541,150,99]
["ADT",40,"2021-10-09",2021,"Week 40",304792.86,5179,58.851681792000001,20616,177,102]
["ADT",41,"2021-10-16",2021,"Week 41",238413.11,3935,60.587829733,20572,98,142]
["ADT",42,"2021-10-23",2021,"Week 42",255533.45,4156,61.485430702999999,20553,111,130]
["ADT",43,"2021-10-30",2021,"Week 43",239242.49,3829,62.481715852999997,20479,120,194]
["ADT",44,"2021-11-06",2021,"Week 44",343134.22,5914,58.020666216000002,20404,114,189]
["ADT",45,"2021-11-13",2021,"Week 45",243312.52,3975,61.210696855000002,20343,114,175]
["ADT",46,"2021-11-20",2021,"Week 46",270426.84999999998,4425,61.113412429,20238,113,218]
["ADT",47,"2021-11-27",2021,"Week 47",227141.03,3758,60.441998402999999,20208,86,116]
["ADT",48,"2021-12-04",2021,"Week 48",359074.1,6021,59.636953994000002,20236,134,106]
["ADT",49,"2021-12-11",2021,"Week 49",262139.82,4306,60.877803065000002,20205,108,139]
["ADT",50,"2021-12-18",2021,"Week 50",266346.49,4331,61.497688754999999,20186,128,147]
["ADT",51,"2021-12-25",2021,"Week 51",241337.82,3908,61.754815763000003,20197,102,91]
["ADT",52,"2022-01-01",2021,"Week 52",265080.15000000002,4440,59.702736485999999,20153,82,126]
["ADT",1,"2022-01-08",2022,"Week 1",320389.17,5381,59.540823267,20159,94,88]
["ADT",2,"2022-01-15",2022,"Week 2",247882.55,4084,60.696021057999999,20153,99,105]
["ADT",3,"2022-01-22",2022,"Week 3",254977.92000000001,4228,60.306982025000003,20179,123,97]
["ADT",4,"2022-01-29",2022,"Week 4",224754.14,3726,60.320488459000003,20199,100,80]
["ADT",5,"2022-02-05",2022,"Week 5",359013.09,6048,59.360629959999997,20195,97,101]
["ADT",6,"2022-02-12",2022,"Week 6",249715.86,4023,62.072050707999999,20209,97,83]
["ADT",7,"2022-02-19",2022,"Week 7",263423.63,4347,60.598948700000001,20139,89,159]
["ADT",8,"2022-02-26",2022,"Week 8",234593.02,3852,60.901614746,20160,106,85]
["ADT",9,"2022-03-05",2022,"Week 9",442147.29,7419,59.596615446999998,20167,122,115]
["ADT",10,"2022-03-12",2022,"Week 10",257324.61,4101,62.746795902999999,20177,109,99]
["ADT",11,"2022-03-19",2022,"Week 11",270643.96999999997,4390,61.650107061999996,20104,100,173]
["ADT",12,"2022-03-26",2022,"Week 12",251430.09,3997,62.904701025999998,20097,101,108]
["ADT",13,"2022-04-02",2022,"Week 13",289773.28999999998,4844,59.821075557,20099,109,107]
["ADT",14,"2022-04-09",2022,"Week 14",317299.53999999998,5239,60.564905516000003,20106,99,92]
["ADT",15,"2022-04-16",2022,"Week 15",243834.03,4039,60.369900966000003,20085,78,99]
["ADT",16,"2022-04-23",2022,"Week 16",258624.17,4232,61.111571361000003,20070,93,108]
["ADT",17,"2022-04-30",2022,"Week 17",269353.57,4491,59.976301491999997,20073,102,99]
["ADT",18,"2022-05-07",2022,"Week 18",364936.57,6078,60.042212898999999,20089,109,93]
["ADT",19,"2022-05-14",2022,"Week 19",249878.53,4022,62.127928891000003,20103,97,83]
["ADT",20,"2022-05-21",2022,"Week 20",273591.88,4409,62.053046041999998,20102,102,103]
["ADT",21,"2022-05-28",2022,"Week 21",240609.2,3901,61.678851577000003,20104,104,102]
["ADT",22,"2022-06-04",2022,"Week 22",361775.72,6079,59.512373746000002,20124,98,78]
["ADT",23,"2022-06-11",2022,"Week 23",253088.6,4082,62.001126898999999,20156,115,83]
["ADT",24,"2022-06-18",2022,"Week 24",266562.24,4401,60.568561690999999,20144,104,116]
["ADT",25,"2022-06-25",2022,"Week 25",263473.15000000002,4074,64.671858125,20121,87,110]
["ADT",26,"2022-07-02",2022,"Week 26",311997.34999999998,5214,59.838387034999997,20211,177,87]
["ADT",27,"2022-07-09",2022,"Week 27",314869.03000000003,5351,58.843025603000001,20216,104,99]
["ADT",28,"2022-07-16",2022,"Week 28",255766.44,4197,60.940300213999997,20260,161,117]
["ADT",29,"2022-07-23",2022,"Week 29",285579.65999999997,4432,64.435843863000002,20319,186,127]
["ADT",30,"2022-07-30",2022,"Week 30",237361.27,3912,60.675171268,20366,131,84]
["ADT",31,"2022-08-06",2022,"Week 31",372632.73,6290,59.242087439999999,20384,126,108]
["ADT",32,"2022-08-13",2022,"Week 32",246657.87,4025,61.281458385000001,20399,98,83]
["ADT",33,"2022-08-20",2022,"Week 33",285303.67,4603,61.982113839,20396,127,130]
["ADT",34,"2022-08-27",2022,"Week 34",269856.62,4066,66.369065421000002,20391,104,109]
["ADT",35,"2022-09-03",2022,"Week 35",360654.86,6048,59.632086639999997,20428,139,102]
["ADT",36,"2022-09-10",2022,"Week 36",253137.73,4244,59.646024976,20413,94,109]
["ADT",37,"2022-09-17",2022,"Week 37",269069.48,4407,61.055021557000003,20348,86,151]
["ADT",38,"2022-09-24",2022,"Week 38",271500.3,4165,65.186146459,20341,97,104]
["ADT",39,"2022-10-01",2022,"Week 39",296280.14,4992,59.350989583,20381,157,117]
["ADT",40,"2022-10-08",2022,"Week 40",347289.54,5891,58.952561535000001,20472,177,86]
["ADT",41,"2022-10-15",2022,"Week 41",245454.77,4066,60.367626659999999,20435,102,139]
["ADT",42,"2022-10-22",2022,"Week 42",266921.52,4407,60.567624234,20431,120,124]
["ADT",43,"2022-10-29",2022,"Week 43",258245.51,3970,65.049246851000007,20411,98,118]
["ADT",44,"2022-11-05",2022,"Week 44",378947.87,6438,58.861116805999998,20425,129,115]
["ADT",45,"2022-11-12",2022,"Week 45",248217.83,4082,60.807895639000002,20404,71,92]
["ADT",46,"2022-11-19",2022,"Week 46",275900.40000000002,4500,61.311199999999999,20413,133,124]
["ADT",47,"2022-11-26",2022,"Week 47",243127.19,4024,60.419281808999997,20410,101,104]
["ADT",48,"2022-12-03",2022,"Week 48",390704.28,6609,59.117004084999998,20427,139,122]
["ADT",49,"2022-12-10",2022,"Week 49",259459.89,4346,59.700849056999999,20446,125,106]
["ADT",50,"2022-12-17",2022,"Week 50",273609.38,4526,60.452801590999997,20428,120,138]
["ADT",51,"2022-12-24",2022,"Week 51",253481.99,4202,60.324128985999998,20433,107,102]
["ADT",52,"2022-12-31",2022,"Week 52",247522.06,4245,58.309083628000003,20410,92,115]
["ADT",1,"2023-01-07",2023,"Week 1",369120.61,6193,59.602875828000002,20399,99,110]
["ADT",2,"2023-01-14",2023,"Week 2",247046.78,4139,59.687552549000003,20365,95,129]
["ADT",3,"2023-01-21",2023,"Week 3",267922.28000000003,4469,59.951282165999999,20322,87,130]
["ADT",4,"2023-01-28",2023,"Week 4",234875.84,3923,59.871486107999999,20312,93,103]
["ADT",5,"2023-02-04",2023,"Week 5",386750.25,6508,59.426897664000002,20337,119,94]
["ADT",6,"2023-02-11",2023,"Week 6",252381.92,4123,61.213174873,20336,93,94]
["ADT",7,"2023-02-18",2023,"Week 7",272959.92,4504,60.603889875999997,20286,80,130]
["ADT",8,"2023-02-25",2023,"Week 8",253643.95,4084,62.106745836999998,20269,101,118]
["ADT",9,"2023-03-04",2023,"Week 9",458259.18,7813,58.653421221000002,20270,102,101]
["ADT",10,"2023-03-11",2023,"Week 10",257150.28,4202,61.197115658999998,20275,100,95]
["ADT",11,"2023-03-18",2023,"Week 11",278540.38,4449,62.607412902,20174,102,203]
["ADT",12,"2023-03-25",2023,"Week 12",261675.15,4189,62.467211745,20169,101,106]
["ADT",13,"2023-04-01",2023,"Week 13",287178.42,4741,60.573385362000003,20162,108,115]
["ADT",14,"2023-04-08",2023,"Week 14",344252.4,5724,60.141928720999999,20158,84,88]
["ADT",15,"2023-04-15",2023,"Week 15",249947.57,4094,61.052166585000002,20129,83,112]
["ADT",16,"2023-04-22",2023,"Week 16",269703.15000000002,4339,62.157905047,20110,110,129]
["ADT",17,"2023-04-29",2023,"Week 17",239924.16,3841,62.463983337999998,20109,88,89]
["CMCSA",1,"2019-01-05",2019,"Week 1",3106130.7,20877,148.782425636,95581,978,362]
["CMCSA",2,"2019-01-12",2019,"Week 2",3197387.33,21945,145.70003782200001,96226,959,314]
["CMCSA",3,"2019-01-19",2019,"Week 3",3355333.94,22721,147.67545178500001,96670,777,333]
["CMCSA",4,"2019-01-26",2019,"Week 4",2988475.53,20685,144.47549093500001,97095,700,275]
["CMCSA",5,"2019-02-02",2019,"Week 5",2985034.49,19923,149.828564473,97519,704,280]
["CMCSA",6,"2019-02-09",2019,"Week 6",3560263.06,24013,148.26398450799999,97968,800,351]
["CMCSA",7,"2019-02-16",2019,"Week 7",3274296.31,22322,146.684719559,98295,682,355]
["CMCSA",8,"2019-02-23",2019,"Week 8",3287511.22,22429,146.574132596,98679,651,267]
["CMCSA",9,"2019-03-02",2019,"Week 9",3433897,23299,147.38387913599999,98971,633,341]
["CMCSA",10,"2019-03-09",2019,"Week 10",3991058.14,26800,148.920079851,99245,615,341]
["CMCSA",11,"2019-03-16",2019,"Week 11",3360821.82,22709,147.99514817900001,99409,488,324]
["CMCSA",12,"2019-03-23",2019,"Week 12",3542645.54,24050,147.303348857,99550,474,333]
["CMCSA",13,"2019-03-30",2019,"Week 13",3165411.99,21405,147.881896286,99670,402,282]
["CMCSA",14,"2019-04-06",2019,"Week 14",3485931.59,23198,150.26862617500001,99777,434,327]
["CMCSA",15,"2019-04-13",2019,"Week 15",3274833.65,22394,146.237101456,99893,419,303]
["CMCSA",16,"2019-04-20",2019,"Week 16",3376475.96,22851,147.760533893,99990,393,296]
["CMCSA",17,"2019-04-27",2019,"Week 17",3026867.39,20891,144.888583122,100094,398,294]
["CMCSA",18,"2019-05-04",2019,"Week 18",3454016.32,23214,148.79022658700001,100153,400,341]
["CMCSA",19,"2019-05-11",2019,"Week 19",3496761.4,23711,147.474227152,100224,373,302]
["CMCSA",20,"2019-05-18",2019,"Week 20",3460095.26,23501,147.23183098600001,100392,466,298]
["CMCSA",21,"2019-05-25",2019,"Week 21",3251332.51,22343,145.51906682200001,100594,454,252]
["CMCSA",22,"2019-06-01",2019,"Week 22",2908305.9,19870,146.36667840999999,100702,403,295]
["CMCSA",23,"2019-06-08",2019,"Week 23",3658623.79,24508,149.282837849,100822,487,367]
["CMCSA",24,"2019-06-15",2019,"Week 24",3301864.48,22662,145.70048892400001,100944,470,348]
["CMCSA",25,"2019-06-22",2019,"Week 25",3347719.11,23029,145.36971253600001,101124,474,294]
["CMCSA",26,"2019-06-29",2019,"Week 26",3131154.36,21671,144.48591943100001,101260,435,299]
["CMCSA",27,"2019-07-06",2019,"Week 27",3608940.69,24234,148.92055335500001,101459,485,286]
["CMCSA",28,"2019-07-13",2019,"Week 28",3315458.31,22714,145.96540943900001,101629,504,334]
["CMCSA",29,"2019-07-20",2019,"Week 29",3516321.52,24038,146.28178384200001,101786,499,342]
["CMCSA",30,"2019-07-27",2019,"Week 30",3073408.77,21512,142.869503998,101958,487,315]
["CMCSA",31,"2019-08-03",2019,"Week 31",3147758.79,21156,148.78799347699999,102029,473,402]
["CMCSA",32,"2019-08-10",2019,"Week 32",3562445.35,24455,145.673496218,102230,540,339]
["CMCSA",33,"2019-08-17",2019,"Week 33",3296818.21,22745,144.94694262499999,102384,506,352]
["CMCSA",34,"2019-08-24",2019,"Week 34",3248502.15,22591,143.79629719799999,102520,471,335]
["CMCSA",35,"2019-08-31",2019,"Week 35",3057493.49,21175,144.39166422700001,102708,498,310]
["CMCSA",36,"2019-09-07",2019,"Week 36",3514496.39,23580,149.04564843099999,102832,474,350]
["CMCSA",37,"2019-09-14",2019,"Week 37",3337767.86,22908,145.70315435699999,102885,430,377]
["CMCSA",38,"2019-09-21",2019,"Week 38",3449758.86,23757,145.21020583399999,103017,463,331]
["CMCSA",39,"2019-09-28",2019,"Week 39",3089216.23,21562,143.271321306,103128,452,341]
["CMCSA",40,"2019-10-05",2019,"Week 40",3724877.05,25115,148.31284292300001,103244,508,392]
["CMCSA",41,"2019-10-12",2019,"Week 41",3378976.31,23214,145.557694064,103270,396,370]
["CMCSA",42,"2019-10-19",2019,"Week 42",3453439.63,23744,145.444728352,103269,434,435]
["CMCSA",43,"2019-10-26",2019,"Week 43",3230265.43,22594,142.97005532399999,103307,425,387]
["CMCSA",44,"2019-11-02",2019,"Week 44",3028435.54,20432,148.220220243,103347,427,387]
["CMCSA",45,"2019-11-09",2019,"Week 45",3745610.45,25511,146.82334875199999,103405,456,398]
["CMCSA",46,"2019-11-16",2019,"Week 46",3301222.95,22810,144.72700350700001,103401,408,412]
["CMCSA",47,"2019-11-23",2019,"Week 47",3404073.63,23812,142.95622501299999,103477,444,368]
["CMCSA",48,"2019-11-30",2019,"Week 48",3124996.95,21819,143.22365598799999,103493,402,386]
["CMCSA",49,"2019-12-07",2019,"Week 49",3720018.8,25382,146.561295406,103552,492,433]
["CMCSA",50,"2019-12-14",2019,"Week 50",3407730.68,23623,144.25478051100001,103492,381,441]
["CMCSA",51,"2019-12-21",2019,"Week 51",3427978.14,23862,143.658458637,103393,392,491]
["CMCSA",52,"2019-12-28",2019,"Week 52",3085725.21,21861,141.152061205,103290,324,427]
["CMCSA",1,"2020-01-04",2020,"Week 1",3253597.29,21756,149.54942498599999,103219,375,446]
["CMCSA",2,"2020-01-11",2020,"Week 2",3701258.1,25581,144.68777999299999,103279,472,412]
["CMCSA",3,"2020-01-18",2020,"Week 3",3506138.22,24139,145.24786528000001,103220,351,410]
["CMCSA",4,"2020-01-25",2020,"Week 4",3319864.05,23039,144.09757585,103173,340,387]
["CMCSA",5,"2020-02-01",2020,"Week 5",3150194.83,21201,148.58708693,103179,353,347]
["CMCSA",6,"2020-02-08",2020,"Week 6",3753337.17,25193,148.98333545,103169,383,393]
["CMCSA",7,"2020-02-15",2020,"Week 7",3498174.13,23815,146.88952886800001,103162,342,349]
["CMCSA",8,"2020-02-22",2020,"Week 8",3507900.69,24066,145.76168411899999,103216,398,344]
["CMCSA",9,"2020-02-29",2020,"Week 9",3402122.1,23153,146.940875912,103341,405,280]
["CMCSA",10,"2020-03-07",2020,"Week 10",4143759.35,28011,147.93328870799999,103359,413,395]
["CMCSA",11,"2020-03-14",2020,"Week 11",3521922.16,23944,147.089966589,103435,396,320]
["CMCSA",12,"2020-03-21",2020,"Week 12",3653096.31,24886,146.79322952699999,103599,479,315]
["CMCSA",13,"2020-03-28",2020,"Week 13",3340584.35,22945,145.59095009800001,103663,397,333]
["CMCSA",14,"2020-04-04",2020,"Week 14",3449294.04,22952,150.28294004899999,103770,444,337]
["CMCSA",15,"2020-04-11",2020,"Week 15",3719941.49,25241,147.376945842,103912,431,289]
["CMCSA",16,"2020-04-18",2020,"Week 16",3862326.9,25983,148.648227687,104093,481,300]
["CMCSA",17,"2020-04-25",2020,"Week 17",3453849.48,23730,145.54780783800001,104207,414,300]
["CMCSA",18,"2020-05-02",2020,"Week 18",3404407.53,23017,147.90839509899999,104305,399,301]
["CMCSA",19,"2020-05-09",2020,"Week 19",3911035.89,26196,149.298972744,104374,401,332]
["CMCSA",20,"2020-05-16",2020,"Week 20",3465765.57,23711,146.16699295699999,104505,428,297]
["CMCSA",21,"2020-05-23",2020,"Week 21",3582476.68,24689,145.10416298800001,104784,560,281]
["CMCSA",22,"2020-05-30",2020,"Week 22",3257245.93,22397,145.43224226500001,104992,519,311]
["CMCSA",23,"2020-06-06",2020,"Week 23",3614927.94,24329,148.58514283400001,105146,508,354]
["CMCSA",24,"2020-06-13",2020,"Week 24",3368388.11,23260,144.814622098,105328,476,294]
["CMCSA",25,"2020-06-20",2020,"Week 25",3586604.52,24516,146.29648066600001,105450,414,292]
["CMCSA",26,"2020-06-27",2020,"Week 26",3339543.86,23354,142.99665410599999,105598,462,314]
["CMCSA",27,"2020-07-04",2020,"Week 27",3454411.48,23282,148.37262606300001,105661,391,328]
["CMCSA",28,"2020-07-11",2020,"Week 28",3793088.29,26310,144.16907221599999,105802,462,321]
["CMCSA",29,"2020-07-18",2020,"Week 29",3492591.04,24153,144.60278391899999,105935,439,306]
["CMCSA",30,"2020-07-25",2020,"Week 30",3597790.72,25191,142.82048033000001,106075,482,342]
["CMCSA",31,"2020-08-01",2020,"Week 31",3149258.86,21590,145.86655210699999,106168,473,380]
["CMCSA",32,"2020-08-08",2020,"Week 32",3751187.08,25840,145.169778638,106270,460,358]
["CMCSA",33,"2020-08-15",2020,"Week 33",3500349.23,24546,142.60365151100001,106424,484,330]
["CMCSA",34,"2020-08-22",2020,"Week 34",3666685.36,25507,143.752121378,106603,486,307]
["CMCSA",35,"2020-08-29",2020,"Week 35",3175605.6,22339,142.15522628599999,106722,447,328]
["CMCSA",36,"2020-09-05",2020,"Week 36",3592770.68,24620,145.92894719700001,106822,489,389]
["CMCSA",37,"2020-09-12",2020,"Week 37",3515860.83,24586,143.002555519,106958,457,321]
["CMCSA",38,"2020-09-19",2020,"Week 38",3683130.32,25559,144.10306819499999,107000,436,394]
["CMCSA",39,"2020-09-26",2020,"Week 39",3343028.63,23603,141.63575096400001,107105,412,307]
["CMCSA",40,"2020-10-03",2020,"Week 40",3387850.74,23478,144.298949655,107163,364,306]
["CMCSA",41,"2020-10-10",2020,"Week 41",3817302.74,26653,143.222254155,107307,447,303]
["CMCSA",42,"2020-10-17",2020,"Week 42",3353678.26,23696,141.52929861600001,107340,349,316]
["CMCSA",43,"2020-10-24",2020,"Week 43",3690290.4,26230,140.68968356799999,107477,426,289]
["CMCSA",44,"2020-10-31",2020,"Week 44",3261935.45,22959,142.076547323,107574,375,278]
["CMCSA",45,"2020-11-07",2020,"Week 45",3755918.46,25850,145.29665222400001,107605,403,372]
["CMCSA",46,"2020-11-14",2020,"Week 46",3498823.52,24473,142.96667837999999,107653,349,301]
["CMCSA",47,"2020-11-21",2020,"Week 47",3603182.17,24867,144.89814493099999,107615,352,390]
["CMCSA",48,"2020-11-28",2020,"Week 48",3392784.27,24016,141.27183002999999,107619,318,314]
["CMCSA",49,"2020-12-05",2020,"Week 49",3805218.92,25906,146.885621864,107562,383,440]
["CMCSA",50,"2020-12-12",2020,"Week 50",3573344.1,24776,144.22602922199999,107610,406,358]
["CMCSA",51,"2020-12-19",2020,"Week 51",3757773.14,26001,144.52417753200001,107621,373,362]
["CMCSA",52,"2020-12-26",2020,"Week 52",3500207.11,24793,141.17723187999999,107541,290,370]
["CMCSA",53,"2021-01-02",2020,"Week 53",3351397.8,22927,146.176900598,107502,359,398]
["CMCSA",1,"2021-01-09",2021,"Week 1",3904831.62,26499,147.357697272,107479,392,415]
["CMCSA",2,"2021-01-16",2021,"Week 2",3783490.82,26165,144.601216128,107468,386,397]
["CMCSA",3,"2021-01-23",2021,"Week 3",3659410.07,25510,143.45002234399999,107469,357,356]
["CMCSA",4,"2021-01-30",2021,"Week 4",3378824.83,23723,142.428227037,107486,353,336]
["CMCSA",5,"2021-02-06",2021,"Week 5",3673334.05,25049,146.645935966,107417,336,405]
["CMCSA",6,"2021-02-13",2021,"Week 6",3554342.3,24623,144.350497502,107345,312,384]
["CMCSA",7,"2021-02-20",2021,"Week 7",3769847.78,25583,147.357533518,107294,296,347]
["CMCSA",8,"2021-02-27",2021,"Week 8",3490680.25,23878,146.18813342799999,107276,345,363]
["CMCSA",9,"2021-03-06",2021,"Week 9",4522979.41,30338,149.08627496899999,107310,374,340]
["CMCSA",10,"2021-03-13",2021,"Week 10",3774142.63,25511,147.94177531299999,107338,374,346]
["CMCSA",11,"2021-03-20",2021,"Week 11",4148769.33,27429,151.25485179899999,107318,367,387]
["CMCSA",12,"2021-03-27",2021,"Week 12",3664234.57,24947,146.88077003199999,107315,332,335]
["CMCSA",13,"2021-04-03",2021,"Week 13",3445134.85,22678,151.91528573900001,107336,338,317]
["CMCSA",14,"2021-04-10",2021,"Week 14",3868796.19,26115,148.14459850700001,107355,350,331]
["CMCSA",15,"2021-04-17",2021,"Week 15",3776656.67,25549,147.82013660000001,107385,354,324]
["CMCSA",16,"2021-04-24",2021,"Week 16",3637662.37,24749,146.98219604799999,107438,344,291]
["CMCSA",17,"2021-05-01",2021,"Week 17",3420939.46,23241,147.19415946000001,107464,307,281]
["CMCSA",18,"2021-05-08",2021,"Week 18",4095472.5,27379,149.58444428199999,107431,343,376]
["CMCSA",19,"2021-05-15",2021,"Week 19",3666504.77,24961,146.88933816799999,107473,324,282]
["CMCSA",20,"2021-05-22",2021,"Week 20",3887742.78,26141,148.72203741199999,107511,358,320]
["CMCSA",21,"2021-05-29",2021,"Week 21",3544608.18,24299,145.87465245499999,107606,376,281]
["CMCSA",22,"2021-06-05",2021,"Week 22",3681417.56,24476,150.40928092799999,107606,345,345]
["CMCSA",23,"2021-06-12",2021,"Week 23",3619489.84,24754,146.21838248399999,107571,337,372]
["CMCSA",24,"2021-06-19",2021,"Week 24",3819144.57,26262,145.424741832,107654,356,273]
["CMCSA",25,"2021-06-26",2021,"Week 25",3507348.06,24840,141.197586957,107703,360,311]
["CMCSA",26,"2021-07-03",2021,"Week 26",3503719.36,24273,144.34636674500001,107790,367,280]
["CMCSA",27,"2021-07-10",2021,"Week 27",3850676.43,26713,144.14990566399999,107807,350,333]
["CMCSA",28,"2021-07-17",2021,"Week 28",3677659.36,25261,145.58645184299999,107916,392,283]
["CMCSA",29,"2021-07-24",2021,"Week 29",3803007.04,26114,145.63096576500001,107985,372,303]
["CMCSA",30,"2021-07-31",2021,"Week 30",3462069.18,23837,145.23929940799999,108088,431,328]
["CMCSA",31,"2021-08-07",2021,"Week 31",3978687.36,26753,148.719297275,108155,416,349]
["CMCSA",32,"2021-08-14",2021,"Week 32",3704261.62,25324,146.27474411599999,108198,380,337]
["CMCSA",33,"2021-08-21",2021,"Week 33",3886373.35,26295,147.79894846900001,108212,426,412]
["CMCSA",34,"2021-08-28",2021,"Week 34",3539172,24625,143.72272081200001,108235,377,354]
["CMCSA",35,"2021-09-04",2021,"Week 35",3444200.54,23100,149.099590476,108332,384,287]
["CMCSA",36,"2021-09-11",2021,"Week 36",3829286.3,26250,145.87757333299999,108373,352,311]
["CMCSA",37,"2021-09-18",2021,"Week 37",3847836.59,26228,146.70720565799999,108407,343,309]
["CMCSA",38,"2021-09-25",2021,"Week 38",3677270.26,25330,145.174506909,108400,323,330]
["CMCSA",39,"2021-10-02",2021,"Week 39",3562238.86,24245,146.92674200900001,108348,338,390]
["CMCSA",40,"2021-10-09",2021,"Week 40",4040669.64,27290,148.064112862,108376,341,313]
["CMCSA",41,"2021-10-16",2021,"Week 41",3558989.42,24305,146.43034025899999,108342,321,355]
["CMCSA",42,"2021-10-23",2021,"Week 42",3986967.48,27451,145.23942588599999,108353,382,371]
["CMCSA",43,"2021-10-30",2021,"Week 43",3524630.29,24260,145.285667354,108444,348,257]
["CMCSA",44,"2021-11-06",2021,"Week 44",3717372.69,24866,149.496207271,108354,294,384]
["CMCSA",45,"2021-11-13",2021,"Week 45",3709300.79,25401,146.02971497199999,108334,339,359]
["CMCSA",46,"2021-11-20",2021,"Week 46",3883299.79,26353,147.357029181,108346,354,342]
["CMCSA",47,"2021-11-27",2021,"Week 47",3480343.89,24204,143.79209593499999,108278,334,402]
["CMCSA",48,"2021-12-04",2021,"Week 48",3789774.4,25645,147.77829596399999,108257,357,378]
["CMCSA",49,"2021-12-11",2021,"Week 49",3896899.57,26444,147.36422515500001,108132,298,423]
["CMCSA",50,"2021-12-18",2021,"Week 50",3881785.55,26352,147.30515900099999,108055,307,384]
["CMCSA",51,"2021-12-25",2021,"Week 51",3678137.59,25327,145.225948198,107955,276,376]
["CMCSA",52,"2022-01-01",2021,"Week 52",3335139.37,22700,146.922439207,107849,275,381]
["CMCSA",1,"2022-01-08",2022,"Week 1",3989786.95,26714,149.35191098300001,107817,332,364]
["CMCSA",2,"2022-01-15",2022,"Week 2",3789962.93,25717,147.37189135599999,107743,325,399]
["CMCSA",3,"2022-01-22",2022,"Week 3",3885218.34,26231,148.115525142,107673,316,386]
["CMCSA",4,"2022-01-29",2022,"Week 4",3579489.41,24437,146.478266972,107641,331,363]
["CMCSA",5,"2022-02-05",2022,"Week 5",3755811.36,24767,151.645793193,107598,319,362]
["CMCSA",6,"2022-02-12",2022,"Week 6",3740971.45,25215,148.362936744,107507,268,359]
["CMCSA",7,"2022-02-19",2022,"Week 7",3968714.15,26497,149.77975431199999,107408,275,374]
["CMCSA",8,"2022-02-26",2022,"Week 8",3681609.81,24937,147.63643621899999,107344,284,348]
["CMCSA",9,"2022-03-05",2022,"Week 9",4811476.96,31872,150.96250502000001,107313,329,360]
["CMCSA",10,"2022-03-12",2022,"Week 10",3852775.83,25683,150.012686602,107279,292,326]
["CMCSA",11,"2022-03-19",2022,"Week 11",4068230.19,26951,150.949136952,107180,287,386]
["CMCSA",12,"2022-03-26",2022,"Week 12",3858769.42,26186,147.360017567,107080,249,349]
["CMCSA",13,"2022-04-02",2022,"Week 13",3358569.16,22290,150.67605024700001,107020,251,311]
["CMCSA",14,"2022-04-09",2022,"Week 14",4115454.58,27373,150.34722463700001,106969,276,327]
["CMCSA",15,"2022-04-16",2022,"Week 15",3754196.52,25238,148.75174419499999,106927,254,296]
["CMCSA",16,"2022-04-23",2022,"Week 16",3819602.51,25536,149.57716596200001,106883,269,313]
["CMCSA",17,"2022-04-30",2022,"Week 17",3704246.91,25113,147.50316210700001,106876,304,311]
["CMCSA",18,"2022-05-07",2022,"Week 18",4128369.4,27126,152.19233945299999,106836,271,311]
["CMCSA",19,"2022-05-14",2022,"Week 19",3748339.93,25126,149.18172132500001,106798,273,311]
["CMCSA",20,"2022-05-21",2022,"Week 20",4016416.78,26810,149.810398359,106786,326,338]
["CMCSA",21,"2022-05-28",2022,"Week 21",3633557.98,24554,147.982323858,106780,279,285]
["CMCSA",22,"2022-06-04",2022,"Week 22",3513669.98,23214,151.35995433799999,106788,313,305]
["CMCSA",23,"2022-06-11",2022,"Week 23",3914217.7,26373,148.41761270999999,106806,355,337]
["CMCSA",24,"2022-06-18",2022,"Week 24",3890679.98,26151,148.77748384399999,106738,339,407]
["CMCSA",25,"2022-06-25",2022,"Week 25",3698370.42,25023,147.79884186500001,106718,308,328]
["CMCSA",26,"2022-07-02",2022,"Week 26",3597568.39,24187,148.73975234599999,106774,340,284]
["CMCSA",27,"2022-07-09",2022,"Week 27",4044578.02,27198,148.708655784,106783,326,317]
["CMCSA",28,"2022-07-16",2022,"Week 28",3771957.35,25312,149.018542588,106808,314,289]
["CMCSA",29,"2022-07-23",2022,"Week 29",3921585.8,26451,148.25850818500001,106849,349,308]
["CMCSA",30,"2022-07-30",2022,"Week 30",3591542,24510,146.53374133,106850,347,346]
["CMCSA",31,"2022-08-06",2022,"Week 31",3740046.3,24885,150.29320072300001,106830,356,376]
["CMCSA",32,"2022-08-13",2022,"Week 32",3698156.25,25033,147.73124475700001,106793,297,334]
["CMCSA",33,"2022-08-20",2022,"Week 33",3860071.72,25874,149.18728144100001,106791,320,322]
["CMCSA",34,"2022-08-27",2022,"Week 34",3537509.52,24402,144.96801573600001,106783,319,327]
["CMCSA",35,"2022-09-03",2022,"Week 35",3351504.04,22265,150.52791556299999,106750,315,348]
["CMCSA",36,"2022-09-10",2022,"Week 36",3971173.44,26910,147.57240579699999,106753,336,333]
["CMCSA",37,"2022-09-17",2022,"Week 37",3686474.71,24932,147.86117078500001,106686,279,346]
["CMCSA",38,"2022-09-24",2022,"Week 38",3747116.99,25408,147.47784123100001,106644,286,328]
["CMCSA",39,"2022-10-01",2022,"Week 39",3613028.48,24567,147.06836325200001,106564,283,363]
["CMCSA",40,"2022-10-08",2022,"Week 40",4081080.85,27281,149.59425424299999,106562,324,326]
["CMCSA",41,"2022-10-15",2022,"Week 41",3585407.37,24271,147.72392443699999,106431,252,383]
["CMCSA",42,"2022-10-22",2022,"Week 42",3929821.55,26376,148.992324462,106324,293,400]
["CMCSA",43,"2022-10-29",2022,"Week 43",3560527.67,24381,146.036982486,106293,296,327]
["CMCSA",44,"2022-11-05",2022,"Week 44",3693584.62,24454,151.04214525200001,106171,269,391]
["CMCSA",45,"2022-11-12",2022,"Week 45",3667629.94,24829,147.71557211300001,106030,272,413]
["CMCSA",46,"2022-11-19",2022,"Week 46",3813379.35,25688,148.44983455299999,105916,286,400]
["CMCSA",47,"2022-11-26",2022,"Week 47",3524605.07,24237,145.422497421,105760,258,414]
["CMCSA",48,"2022-12-03",2022,"Week 48",3621657.63,24155,149.934077003,105654,284,390]
["CMCSA",49,"2022-12-10",2022,"Week 49",3939384.19,26775,147.12919477099999,105543,300,411]
["CMCSA",50,"2022-12-17",2022,"Week 50",3709625.08,25038,148.15980030399999,105401,265,407]
["CMCSA",51,"2022-12-24",2022,"Week 51",3722285.91,25270,147.30059002799999,105227,273,447]
["CMCSA",52,"2022-12-31",2022,"Week 52",3455369.24,23596,146.43877097800001,105076,252,403]
["CMCSA",1,"2023-01-07",2023,"Week 1",3788873.03,24984,151.651978466,104948,291,419]
["CMCSA",2,"2023-01-14",2023,"Week 2",3677726.41,24878,147.83046908899999,104825,274,397]
["CMCSA",3,"2023-01-21",2023,"Week 3",3848708.97,25393,151.565745284,104729,320,416]
["CMCSA",4,"2023-01-28",2023,"Week 4",3627841.46,24392,148.730791243,104598,258,389]
["CMCSA",5,"2023-02-04",2023,"Week 5",3484036.15,22500,154.84605111100001,104517,254,335]
["CMCSA",6,"2023-02-11",2023,"Week 6",3979457.09,26208,151.841311432,104457,282,342]
["CMCSA",7,"2023-02-18",2023,"Week 7",3857879.64,25210,153.029735819,104327,256,386]
["CMCSA",8,"2023-02-25",2023,"Week 8",3759651.39,24830,151.41568223900001,104260,273,340]
["CMCSA",9,"2023-03-04",2023,"Week 9",4588733.74,30118,152.35851450999999,104171,303,392]
["CMCSA",10,"2023-03-11",2023,"Week 10",3993958.76,26364,151.49289789100001,104079,285,377]
["CMCSA",11,"2023-03-18",2023,"Week 11",3856614.54,25329,152.260829089,103920,235,394]
["CMCSA",12,"2023-03-25",2023,"Week 12",3865563.96,25832,149.642457417,103802,231,349]
["CMCSA",13,"2023-04-01",2023,"Week 13",3371352.22,22431,150.29879274199999,103676,185,311]
["CMCSA",14,"2023-04-08",2023,"Week 14",3885169.24,25278,153.697651713,103515,217,378]
["CMCSA",15,"2023-04-15",2023,"Week 15",3509034.13,23342,150.33133964500001,103410,241,346]
["CMCSA",16,"2023-04-22",2023,"Week 16",3892411.05,25745,151.190951641,103332,241,319]
["CMCSA",17,"2023-04-29",2023,"Week 17",3458593.28,23190,149.14158171599999,103223,247,356]
["CMG",2,"2019-01-12",2019,"Week 2",528221.68999999994,36037,14.657759802425]
["CMG",3,"2019-01-19",2019,"Week 3",517510.05,35243,14.6840521522]
["CMG",4,"2019-01-26",2019,"Week 4",519762.64,35126,14.79709161305]
["CMG",5,"2019-02-02",2019,"Week 5",523410.51,35406,14.783102016607]
["CMG",6,"2019-02-09",2019,"Week 6",539067.9,36906,14.6065111364]
["CMG",7,"2019-02-16",2019,"Week 7",550070.63,37122,14.817914713645999]
["CMG",8,"2019-02-23",2019,"Week 8",566226.29,37902,14.939219302411001]
["CMG",9,"2019-03-02",2019,"Week 9",595191.04000000004,40244,14.789559685915]
["CMG",10,"2019-03-09",2019,"Week 10",577350.43999999994,38890,14.845730007714]
["CMG",11,"2019-03-16",2019,"Week 11",588817.66,39359,14.960178358188999]
["CMG",12,"2019-03-23",2019,"Week 12",594895.15,40300,14.761666253101]
["CMG",13,"2019-03-30",2019,"Week 13",611997.18000000005,41239,14.84025267344]
["CMG",14,"2019-04-06",2019,"Week 14",628392.6,42384,14.826174971686999]
["CMG",15,"2019-04-13",2019,"Week 15",630695.34,42737,14.757595058146]
["CMG",16,"2019-04-20",2019,"Week 16",608620.64,41202,14.77162856172]
["CMG",17,"2019-04-27",2019,"Week 17",586465.30000000005,39885,14.703906230412001]
["CMG",18,"2019-05-04",2019,"Week 18",642121.18000000005,43370,14.805653216509]
["CMG",19,"2019-05-11",2019,"Week 19",632188.62,42836,14.758348585302]
["CMG",20,"2019-05-18",2019,"Week 20",605569.37,40328,15.016102211862]
["CMG",21,"2019-05-25",2019,"Week 21",603679.59,39984,15.098028961583999]
["CMG",22,"2019-06-01",2019,"Week 22",566701.72,37531,15.099563560789001]
["CMG",23,"2019-06-08",2019,"Week 23",646375.43000000005,44043,14.67600821924]
["CMG",24,"2019-06-15",2019,"Week 24",604044.59,40438,14.937548592907]
["CMG",25,"2019-06-22",2019,"Week 25",585638.9,38849,15.074748384771]
["CMG",26,"2019-06-29",2019,"Week 26",596586.67000000004,40153,14.857835529100999]
["CMG",27,"2019-07-06",2019,"Week 27",536005.46,35185,15.233919567997001]
["CMG",28,"2019-07-13",2019,"Week 28",592555.84,39947,14.833550454352]
["CMG",29,"2019-07-20",2019,"Week 29",597350.67000000004,40114,14.891326469560999]
["CMG",30,"2019-07-27",2019,"Week 30",591618.05000000005,39653,14.919881219579]
["CMG",31,"2019-08-03",2019,"Week 31",602431.38,40591,14.841501318025999]
["CMG",32,"2019-08-10",2019,"Week 32",586168.5,39312,14.910676129425999]
["CMG",33,"2019-08-17",2019,"Week 33",574298.81000000006,38624,14.868962562137]
["CMG",34,"2019-08-24",2019,"Week 34",576741.01,38626,14.931419510174001]
["CMG",35,"2019-08-31",2019,"Week 35",568926.28,38268,14.866893488031]
["CMG",36,"2019-09-07",2019,"Week 36",545644.04,36589,14.912789089617]
["CMG",37,"2019-09-14",2019,"Week 37",575632.51,39117,14.71566096582]
["CMG",38,"2019-09-21",2019,"Week 38",598980.76,40321,14.855305175962]
["CMG",39,"2019-09-28",2019,"Week 39",624658.01,41416,15.082528732856]
["CMG",40,"2019-10-05",2019,"Week 40",641430.11,42242,15.184652952038]
["CMG",41,"2019-10-12",2019,"Week 41",620991.17000000004,41647,14.910825989867]
["CMG",42,"2019-10-19",2019,"Week 42",623855.75,41054,15.195979685292]
["CMG",43,"2019-10-26",2019,"Week 43",626770.46,41677,15.038761427166]
["CMG",44,"2019-11-02",2019,"Week 44",626974.52,42545,14.736738042073]
["CMG",45,"2019-11-09",2019,"Week 45",624067.97,41401,15.07374145552]
["CMG",46,"2019-11-16",2019,"Week 46",612843.38,40173,15.255106165832]
["CMG",47,"2019-11-23",2019,"Week 47",624502.67000000004,40471,15.430868276049001]
["CMG",48,"2019-11-30",2019,"Week 48",518592.89,32183,16.113876580803002]
["CMG",49,"2019-12-07",2019,"Week 49",609867.72,39069,15.610016125315999]
["CMG",50,"2019-12-14",2019,"Week 50",636383.67000000004,41010,15.51776810534]
["CMG",51,"2019-12-21",2019,"Week 51",645241.21,40048,16.111696214542]
["CMG",52,"2019-12-28",2019,"Week 52",466900.88,27242,17.139008883340999]
["CMG",1,"2020-01-04",2020,"Week 1",562923.49,34182,16.468418758409999]
["CMG",2,"2020-01-11",2020,"Week 2",626351.82999999996,40097,15.620915031049]
["CMG",3,"2020-01-18",2020,"Week 3",611647.35,39951,15.309938424569999]
["CMG",4,"2020-01-25",2020,"Week 4",609930.02,38990,15.643242369837999]
["CMG",5,"2020-02-01",2020,"Week 5",617052.31999999995,40075,15.397437804117001]
["CMG",6,"2020-02-08",2020,"Week 6",606208.41,39644,15.291302845323001]
["CMG",7,"2020-02-15",2020,"Week 7",647151.68000000005,41831,15.470624178241]
["CMG",8,"2020-02-22",2020,"Week 8",660043.86,42160,15.655689278937]
["CMG",9,"2020-02-29",2020,"Week 9",688967.5,44281,15.558986924414]
["CMG",10,"2020-03-07",2020,"Week 10",685775.95,43932,15.6099415005]
["CMG",11,"2020-03-14",2020,"Week 11",627755.74,40145,15.637208618757001]
["CMG",12,"2020-03-21",2020,"Week 12",459681.6,26663,17.240430559200998]
["CMG",13,"2020-03-28",2020,"Week 13",456125.04,23624,19.307697257026]
["CMG",14,"2020-04-04",2020,"Week 14",515630.17,25745,20.028361623616]
["CMG",15,"2020-04-11",2020,"Week 15",533716.88,26405,20.212720318121001]
["CMG",16,"2020-04-18",2020,"Week 16",521578.68,26048,20.023751535626001]
["CMG",17,"2020-04-25",2020,"Week 17",623113.28,30958,20.127698171715998]
["CMG",18,"2020-05-02",2020,"Week 18",639136.73,32144,19.883546851666999]
["CMG",19,"2020-05-09",2020,"Week 19",705965.25,35558,19.853907700095]
["CMG",20,"2020-05-16",2020,"Week 20",681696.59,34494,19.762758450745]
["CMG",21,"2020-05-23",2020,"Week 21",703603.51,36106,19.487163075388999]
["CMG",22,"2020-05-30",2020,"Week 22",680689.36,35004,19.446045023425]
["CMG",23,"2020-06-06",2020,"Week 23",709343.74,37384,18.974527605392002]
["CMG",24,"2020-06-13",2020,"Week 24",730234.57,39089,18.681331576658]
["CMG",25,"2020-06-20",2020,"Week 25",710105.45,38492,18.448130780421]
["CMG",26,"2020-06-27",2020,"Week 26",702191.09,38310,18.329185330200001]
["CMG",27,"2020-07-04",2020,"Week 27",695440.96,37820,18.388179799048]
["CMG",28,"2020-07-11",2020,"Week 28",672988.05,36989,18.194275325096001]
["CMG",29,"2020-07-18",2020,"Week 29",716701.52,39425,18.178859099556]
["CMG",30,"2020-07-25",2020,"Week 30",718014.21,39021,18.400712693165001]
["CMG",31,"2020-08-01",2020,"Week 31",724922.57,39872,18.181244231539999]
["CMG",32,"2020-08-08",2020,"Week 32",727240.21,40137,18.118947853601]
["CMG",33,"2020-08-15",2020,"Week 33",734829.68,40147,18.303476723041999]
["CMG",34,"2020-08-22",2020,"Week 34",729427.84,39841,18.308472176902999]
["CMG",35,"2020-08-29",2020,"Week 35",733604.16,40789,17.985343107209999]
["CMG",36,"2020-09-05",2020,"Week 36",718823.83,40400,17.792669059405]
["CMG",37,"2020-09-12",2020,"Week 37",692696.76,37936,18.259615141289999]
["CMG",38,"2020-09-19",2020,"Week 38",726703.2,40548,17.922047943178001]
["CMG",39,"2020-09-26",2020,"Week 39",739960.2,41461,17.847138274523001]
["CMG",40,"2020-10-03",2020,"Week 40",767341.93,42176,18.193805244688001]
["CMG",41,"2020-10-10",2020,"Week 41",764540.46,41675,18.345301979603999]
["CMG",42,"2020-10-17",2020,"Week 42",749836.26,41007,18.285567342160999]
["CMG",43,"2020-10-24",2020,"Week 43",752038.43,41573,18.089587713179]
["CMG",44,"2020-10-31",2020,"Week 44",751907.64,41223,18.240002910996001]
["CMG",45,"2020-11-07",2020,"Week 45",759250.56,41613,18.245513661596]
["CMG",46,"2020-11-14",2020,"Week 46",736196.43,40364,18.238936428500001]
["CMG",47,"2020-11-21",2020,"Week 47",750295.88,41091,18.259372612006999]
["CMG",48,"2020-11-28",2020,"Week 48",637415.80000000005,33386,19.092308153118001]
["CMG",49,"2020-12-05",2020,"Week 49",720923.18,38229,18.85801825839]
["CMG",50,"2020-12-12",2020,"Week 50",756528.47,39966,18.929301656406999]
["CMG",51,"2020-12-19",2020,"Week 51",778196.67,40405,19.259910159633002]
["CMG",52,"2020-12-26",2020,"Week 52",667217.74,33492,19.921704884747999]
["CMG",53,"2021-01-02",2020,"Week 53",652099.23,32765,19.902311307797]
["CMG",1,"2021-01-09",2021,"Week 1",754013.01,38387,19.642405241357]
["CMG",2,"2021-01-16",2021,"Week 2",853511.41,44190,19.314582711020002]
["CMG",3,"2021-01-23",2021,"Week 3",800209.26,41484,19.289587792883999]
["CMG",4,"2021-01-30",2021,"Week 4",765795.42,40241,19.030228374046001]
["CMG",5,"2021-02-06",2021,"Week 5",737810.57,38798,19.016716583329]
["CMG",6,"2021-02-13",2021,"Week 6",724959.85,38388,18.885064343023]
["CMG",7,"2021-02-20",2021,"Week 7",690207.69,36360,18.982609735973]
["CMG",8,"2021-02-27",2021,"Week 8",769611.53,41212,18.674452343976998]
["CMG",9,"2021-03-06",2021,"Week 9",792664.07,42323,18.728919736312999]
["CMG",10,"2021-03-13",2021,"Week 10",805061.89,43146,18.659015667732]
["CMG",11,"2021-03-20",2021,"Week 11",867467.98,45510,19.061041089869999]
["CMG",12,"2021-03-27",2021,"Week 12",897106.79,47089,19.051302639682]
["CMG",13,"2021-04-03",2021,"Week 13",867468.63,45441,19.089998679606001]
["CMG",14,"2021-04-10",2021,"Week 14",809223.1,42144,19.201383352314998]
["CMG",15,"2021-04-17",2021,"Week 15",892043.58,46436,19.210172710826999]
["CMG",16,"2021-04-24",2021,"Week 16",857955.35,44706,19.191056010377999]
["CMG",17,"2021-05-01",2021,"Week 17",835592.97,43749,19.099704450387001]
["CMG",18,"2021-05-08",2021,"Week 18",837323.14,43301,19.337270270893999]
["CMG",19,"2021-05-15",2021,"Week 19",813124.95,42252,19.244649957398]
["CMG",20,"2021-05-22",2021,"Week 20",837179.74,43417,19.282302784622999]
["CMG",21,"2021-05-29",2021,"Week 21",827734.89,43299,19.116720709485001]
["CMG",22,"2021-06-05",2021,"Week 22",796926.86,41478,19.213242200684]
["CMG",23,"2021-06-12",2021,"Week 23",845840.97,43633,19.385349849884001]
["CMG",24,"2021-06-19",2021,"Week 24",826481.94,42656,19.375514347336001]
["CMG",25,"2021-06-26",2021,"Week 25",819708.28,42284,19.385779018068]
["CMG",26,"2021-07-03",2021,"Week 26",826051.41,42494,19.439248129147]
["CMG",27,"2021-07-10",2021,"Week 27",774470.94,40544,19.101986483819999]
["CMG",28,"2021-07-17",2021,"Week 28",831684.79,43376,19.173847058281002]
["CMG",29,"2021-07-24",2021,"Week 29",854993.34,44077,19.397720806769001]
["CMG",30,"2021-07-31",2021,"Week 30",865132.7,44698,19.355065103584]
["CMG",31,"2021-08-07",2021,"Week 31",861081.38,44642,19.288593252990001]
["CMG",32,"2021-08-14",2021,"Week 32",830409.32,43000,19.311844651162001]
["CMG",33,"2021-08-21",2021,"Week 33",853381.13,44295,19.265856868720999]
["CMG",34,"2021-08-28",2021,"Week 34",829337.83,43401,19.108726296629001]
["CMG",35,"2021-09-04",2021,"Week 35",822719.33,43566,18.884435798557998]
["CMG",36,"2021-09-11",2021,"Week 36",777479.26,40917,19.001374978615001]
["CMG",37,"2021-09-18",2021,"Week 37",839539.77,44708,18.778289567862]
["CMG",38,"2021-09-25",2021,"Week 38",841477.56,44218,19.030203989324999]
["CMG",39,"2021-10-02",2021,"Week 39",874569.23,45564,19.194303177946999]
["CMG",40,"2021-10-09",2021,"Week 40",873319.31,45664,19.124897293271999]
["CMG",41,"2021-10-16",2021,"Week 41",850540.29,44273,19.211263975786]
["CMG",42,"2021-10-23",2021,"Week 42",857218.97,44798,19.135206259208001]
["CMG",43,"2021-10-30",2021,"Week 43",834233.8,43811,19.041651639998999]
["CMG",44,"2021-11-06",2021,"Week 44",855935.01,46357,18.463986237244999]
["CMG",45,"2021-11-13",2021,"Week 45",817870.51,43443,18.826289851068999]
["CMG",46,"2021-11-20",2021,"Week 46",816432.8,43510,18.764256492760001]
["CMG",47,"2021-11-27",2021,"Week 47",670733.18999999994,34484,19.450562289756999]
["CMG",48,"2021-12-04",2021,"Week 48",783864.81,41975,18.674563668849999]
["CMG",49,"2021-12-11",2021,"Week 49",842562.85,44516,18.927191346931]
["CMG",50,"2021-12-18",2021,"Week 50",872278.49,44426,19.634414306937]
["CMG",51,"2021-12-25",2021,"Week 51",784825.86,37493,20.932597018109998]
["CMG",52,"2022-01-01",2021,"Week 52",647316.28,30764,21.041356130541999]
["CMG",1,"2022-01-08",2022,"Week 1",784090.97,38772,20.223124161765998]
["CMG",2,"2022-01-15",2022,"Week 2",806859.67,40906,19.724726690461001]
["CMG",3,"2022-01-22",2022,"Week 3",794603.15,40066,19.832355363649]
["CMG",4,"2022-01-29",2022,"Week 4",806192.76,41306,19.517570328765]
["CMG",5,"2022-02-05",2022,"Week 5",771727.9,39256,19.658852149988999]
["CMG",6,"2022-02-12",2022,"Week 6",823696.52,42811,19.240300857255999]
["CMG",7,"2022-02-19",2022,"Week 7",809546.19,41625,19.448557117117002]
["CMG",8,"2022-02-26",2022,"Week 8",830997.83,42307,19.642088306899002]
["CMG",9,"2022-03-05",2022,"Week 9",843813.07,43519,19.389532617935998]
["CMG",10,"2022-03-12",2022,"Week 10",846109.7,43403,19.494267677349001]
["CMG",11,"2022-03-19",2022,"Week 11",850523.17,43721,19.453424441343]
["CMG",12,"2022-03-26",2022,"Week 12",870084.4,44910,19.373956802493002]
["CMG",13,"2022-04-02",2022,"Week 13",877197.34,44778,19.589917816785]
["CMG",14,"2022-04-09",2022,"Week 14",889831.82,44383,20.048933600702]
["CMG",15,"2022-04-16",2022,"Week 15",891873.42,44409,20.0831682767]
["CMG",16,"2022-04-23",2022,"Week 16",831738.39,41790,19.902809045226]
["CMG",17,"2022-04-30",2022,"Week 17",923580.33,46438,19.888460528014999]
["CMG",18,"2022-05-07",2022,"Week 18",925230.73,45305,20.422265312878999]
["CMG",19,"2022-05-14",2022,"Week 19",863999.16,42982,20.101418268111999]
["CMG",20,"2022-05-21",2022,"Week 20",893685.55,44352,20.149836534992001]
["CMG",21,"2022-05-28",2022,"Week 21",881985.01,43233,20.400735780538]
["CMG",22,"2022-06-04",2022,"Week 22",827585.95,40306,20.532574554656001]
["CMG",23,"2022-06-11",2022,"Week 23",868125,42913,20.229883718220002]
["CMG",24,"2022-06-18",2022,"Week 24",859212.57,42475,20.228665567981]
["CMG",25,"2022-06-25",2022,"Week 25",832944.38,40888,20.371365192721001]
["CMG",26,"2022-07-02",2022,"Week 26",812181.75,40375,20.115956656346]
["CMG",27,"2022-07-09",2022,"Week 27",748212.7,36715,20.378937763856001]
["CMG",28,"2022-07-16",2022,"Week 28",847868.47,42130,20.125052694042001]
["CMG",29,"2022-07-23",2022,"Week 29",837389.07,41542,20.157649366905002]
["CMG",30,"2022-07-30",2022,"Week 30",835987.04,41335,20.22467739204]
["CMG",31,"2022-08-06",2022,"Week 31",848449.03,41723,20.335283416820001]
["CMG",32,"2022-08-13",2022,"Week 32",856035.99,41205,20.775051328722]
["CMG",33,"2022-08-20",2022,"Week 33",863519.46,41839,20.639103707067001]
["CMG",34,"2022-08-27",2022,"Week 34",849886.99,41573,20.443244172899998]
["CMG",35,"2022-09-03",2022,"Week 35",840317.83,41436,20.279897432184001]
["CMG",36,"2022-09-10",2022,"Week 36",808705.33,39475,20.486518809372999]
["CMG",37,"2022-09-17",2022,"Week 37",832445.5,40935,20.335788445095002]
["CMG",38,"2022-09-24",2022,"Week 38",867990.94,41699,20.815629631406001]
["CMG",39,"2022-10-01",2022,"Week 39",826980.25,40329,20.505845669368998]
["CMG",40,"2022-10-08",2022,"Week 40",836363.65,40838,20.480034526666]
["CMG",41,"2022-10-15",2022,"Week 41",840159.24,40768,20.608301609104998]
["CMG",42,"2022-10-22",2022,"Week 42",817957,39812,20.545488797347002]
["CMG",43,"2022-10-29",2022,"Week 43",835893.22,40669,20.553572008162998]
["CMG",44,"2022-11-05",2022,"Week 44",843711.37,41181,20.487879604671999]
["CMG",45,"2022-11-12",2022,"Week 45",842917.12,40632,20.745154557983]
["CMG",46,"2022-11-19",2022,"Week 46",801563.73,38930,20.589872334959999]
["CMG",47,"2022-11-26",2022,"Week 47",698245.48,31980,21.833817385865999]
["CMG",48,"2022-12-03",2022,"Week 48",817018.22,39290,20.794558920844]
["CMG",49,"2022-12-10",2022,"Week 49",851225.85,40826,20.850091853230001]
["CMG",50,"2022-12-17",2022,"Week 50",851099.66,40552,20.987859045175998]
["CMG",51,"2022-12-24",2022,"Week 51",795755.58,36118,22.032105321446]
["CMG",52,"2022-12-31",2022,"Week 52",639738.99,28282,22.620005303726]
["CMG",1,"2023-01-07",2023,"Week 1",813167.81,37813,21.504980033321001]
["CMG",2,"2023-01-14",2023,"Week 2",846209.84,40824,20.728244170096001]
["CMG",3,"2023-01-21",2023,"Week 3",829462.74,39718,20.883799284957998]
["CMG",4,"2023-01-28",2023,"Week 4",820323.5,39696,20.665142583634999]
["CMG",5,"2023-02-04",2023,"Week 5",832387.28,40009,20.805000874803]
["CMG",6,"2023-02-11",2023,"Week 6",847728.36,40878,20.738009687361998]
["CMG",7,"2023-02-18",2023,"Week 7",807444.61,39581,20.399803188398]
["CMG",8,"2023-02-25",2023,"Week 8",841909.66,40931,20.568998069921999]
["CMG",9,"2023-03-04",2023,"Week 9",844343.76,41169,20.509212271369002]
["CMG",10,"2023-03-11",2023,"Week 10",921054.26,44171,20.852012859115]
["CMG",11,"2023-03-18",2023,"Week 11",877386.31,41955,20.912556548683]
["CMG",12,"2023-03-25",2023,"Week 12",908863.04,43807,20.746981989179002]
["CMG",13,"2023-04-01",2023,"Week 13",912063.17,44187,20.640984226129]
["CMG",14,"2023-04-08",2023,"Week 14",895667.81,42761,20.945904211780999]
["CMG",15,"2023-04-15",2023,"Week 15",821487.49,40396,20.335862214079999]
["CMG",16,"2023-04-22",2023,"Week 16",905706.62,43962,20.602034029388999]
["CMG",17,"2023-04-29",2023,"Week 17",871467.7,42057,20.721109446703]
["NFLX",1,"2019-01-05",2019,"Week 1",539844.5,43304,12.466388786,193410,1796,517]
["NFLX",2,"2019-01-12",2019,"Week 2",554493.39,44372,12.496470521999999,194738,1867,539]
["NFLX",3,"2019-01-19",2019,"Week 3",552786.57999999996,44208,12.504220503000001,196060,1834,512]
["NFLX",4,"2019-01-26",2019,"Week 4",571006.77,45764,12.477204134000001,197846,2304,518]
["NFLX",5,"2019-02-02",2019,"Week 5",532868.11,42781,12.455718894,199501,2288,633]
["NFLX",6,"2019-02-09",2019,"Week 6",629693.81999999995,50321,12.513539477,201027,2163,637]
["NFLX",7,"2019-02-16",2019,"Week 7",563134.18999999994,44924,12.535263778999999,202262,1821,586]
["NFLX",8,"2019-02-23",2019,"Week 8",580779.71,46326,12.536798126000001,203551,1941,652]
["NFLX",9,"2019-03-02",2019,"Week 9",821300.9,65271,12.582937292,204919,2047,679]
["NFLX",10,"2019-03-09",2019,"Week 10",636399.79,49307,12.906885229,205408,1188,699]
["NFLX",11,"2019-03-16",2019,"Week 11",585478.76,45404,12.894871817,205696,1007,719]
["NFLX",12,"2019-03-23",2019,"Week 12",601847.99,46464,12.952995653,205985,934,645]
["NFLX",13,"2019-03-30",2019,"Week 13",616159.61,47630,12.936376443,206271,870,584]
["NFLX",14,"2019-04-06",2019,"Week 14",640766.41,47741,13.421721581,206574,913,610]
["NFLX",15,"2019-04-13",2019,"Week 15",612440.35,45296,13.520848419,206765,848,657]
["NFLX",16,"2019-04-20",2019,"Week 16",627180.35,46350,13.531399136999999,207022,864,607]
["NFLX",17,"2019-04-27",2019,"Week 17",647047.07999999996,47935,13.498426619,207228,837,631]
["NFLX",18,"2019-05-04",2019,"Week 18",733658.92,53198,13.791099665000001,207371,904,761]
["NFLX",19,"2019-05-11",2019,"Week 19",646468.49,45829,14.106100722000001,207323,843,891]
["NFLX",20,"2019-05-18",2019,"Week 20",635519.18000000005,44992,14.125159584,207426,808,705]
["NFLX",21,"2019-05-25",2019,"Week 21",653445.47,46397,14.083787098,207531,820,715]
["NFLX",22,"2019-06-01",2019,"Week 22",644612.02,45690,14.108383015999999,207525,771,777]
["NFLX",23,"2019-06-08",2019,"Week 23",693994.56,48370,14.347623734000001,207654,822,693]
["NFLX",24,"2019-06-15",2019,"Week 24",660580.39,46000,14.360443261,207691,786,749]
["NFLX",25,"2019-06-22",2019,"Week 25",667699.35,46516,14.354186731,207777,829,743]
["NFLX",26,"2019-06-29",2019,"Week 26",710177.71,49614,14.314058733,207850,827,754]
["NFLX",27,"2019-07-06",2019,"Week 27",757503.61,52763,14.356719861,207977,985,858]
["NFLX",28,"2019-07-13",2019,"Week 28",662850.93999999994,46109,14.375738793,208145,906,738]
["NFLX",29,"2019-07-20",2019,"Week 29",669087.11,46453,14.403528512999999,208247,839,737]
["NFLX",30,"2019-07-27",2019,"Week 30",696357.83,48440,14.375677745999999,208277,862,832]
["NFLX",31,"2019-08-03",2019,"Week 31",673719.88,46851,14.380053361,208389,840,728]
["NFLX",32,"2019-08-10",2019,"Week 32",694277.5,48214,14.399914962,208703,1011,697]
["NFLX",33,"2019-08-17",2019,"Week 33",662471.1,45923,14.425693008,208885,837,655]
["NFLX",34,"2019-08-24",2019,"Week 34",678524.01,47087,14.410007221000001,209153,914,646]
["NFLX",35,"2019-08-31",2019,"Week 35",689849.79,47969,14.381158457,209355,974,772]
["NFLX",36,"2019-09-07",2019,"Week 36",700726.93,48581,14.423888557,209349,802,808]
["NFLX",37,"2019-09-14",2019,"Week 37",659030.32999999996,45708,14.418270980999999,209289,750,810]
["NFLX",38,"2019-09-21",2019,"Week 38",676282.57,46863,14.431055843999999,209246,780,823]
["NFLX",39,"2019-09-28",2019,"Week 39",708763.61,49245,14.392600466999999,209292,904,858]
["NFLX",40,"2019-10-05",2019,"Week 40",776105.09,53835,14.41636649,209482,937,747]
["NFLX",41,"2019-10-12",2019,"Week 41",675995.43,46887,14.417544948,209377,836,941]
["NFLX",42,"2019-10-19",2019,"Week 42",664681.39,46030,14.440177927000001,209443,842,776]
["NFLX",43,"2019-10-26",2019,"Week 43",693586.21,48101,14.419371947,209467,753,729]
["NFLX",44,"2019-11-02",2019,"Week 44",671849.76,46673,14.394826988,209383,746,830]
["NFLX",45,"2019-11-09",2019,"Week 45",709617.96,49192,14.425474874000001,209479,797,701]
["NFLX",46,"2019-11-16",2019,"Week 46",660762.42000000004,45744,14.444788825,209531,793,741]
["NFLX",47,"2019-11-23",2019,"Week 47",680594.74,47159,14.431916283,209536,718,713]
["NFLX",48,"2019-11-30",2019,"Week 48",739961.8,51394,14.397824649,209648,821,709]
["NFLX",49,"2019-12-07",2019,"Week 49",743273.96,51499,14.432784326,209610,796,834]
["NFLX",50,"2019-12-14",2019,"Week 50",663722.11,46013,14.424664986,209538,725,797]
["NFLX",51,"2019-12-21",2019,"Week 51",669988.42000000004,46372,14.448124299,209540,830,828]
["NFLX",52,"2019-12-28",2019,"Week 52",707352.94,49100,14.406373522999999,209726,1037,851]
["NFLX",1,"2020-01-04",2020,"Week 1",683591.13,47403,14.420841085999999,209946,1127,907]
["NFLX",2,"2020-01-11",2020,"Week 2",682628.97,47294,14.433733031999999,209959,931,918]
["NFLX",3,"2020-01-18",2020,"Week 3",668737.94999999995,46190,14.477981164999999,209913,868,914]
["NFLX",4,"2020-01-25",2020,"Week 4",670915.56000000006,46485,14.432947402,210099,1047,861]
["NFLX",5,"2020-02-01",2020,"Week 5",702698.25,48782,14.404867574000001,210394,1097,802]
["NFLX",6,"2020-02-08",2020,"Week 6",704816.55,48752,14.457182269,210388,962,968]
["NFLX",7,"2020-02-15",2020,"Week 7",671440.74,46449,14.45544016,210373,874,889]
["NFLX",8,"2020-02-22",2020,"Week 8",680018.2,47017,14.463240955,210525,923,771]
["NFLX",9,"2020-02-29",2020,"Week 9",797055.18,55245,14.427643768999999,210599,965,891]
["NFLX",10,"2020-03-07",2020,"Week 10",812875.44,56283,14.442645914,210663,890,826]
["NFLX",11,"2020-03-14",2020,"Week 11",669899.93999999994,46365,14.448397282,210751,813,725]
["NFLX",12,"2020-03-21",2020,"Week 12",689363.08,47689,14.455389713000001,211175,1104,680]
["NFLX",13,"2020-03-28",2020,"Week 13",722733.5,50085,14.430138764000001,211565,1134,744]
["NFLX",14,"2020-04-04",2020,"Week 14",705305.26,48838,14.441731029,212093,1292,764]
["NFLX",15,"2020-04-11",2020,"Week 15",697370.91,48148,14.483901927,212460,994,627]
["NFLX",16,"2020-04-18",2020,"Week 16",688869.9,47503,14.501608319000001,212971,1133,622]
["NFLX",17,"2020-04-25",2020,"Week 17",718810.02,49686,14.467053496,213663,1276,584]
["NFLX",18,"2020-05-02",2020,"Week 18",815475.01,56410,14.456213614999999,214592,1538,609]
["NFLX",19,"2020-05-09",2020,"Week 19",728303.52,50284,14.483802402,215165,1267,694]
["NFLX",20,"2020-05-16",2020,"Week 20",691609.37,47681,14.504925861,215814,1197,548]
["NFLX",21,"2020-05-23",2020,"Week 21",722186.7,49834,14.491846932,216717,1462,559]
["NFLX",22,"2020-05-30",2020,"Week 22",741445.71,51306,14.451442521000001,217488,1358,587]
["NFLX",23,"2020-06-06",2020,"Week 23",731651.39,50546,14.474961222999999,218100,1236,624]
["NFLX",24,"2020-06-13",2020,"Week 24",702748.03,48444,14.506399761000001,218616,1137,621]
["NFLX",25,"2020-06-20",2020,"Week 25",713865.79,49140,14.527183354,218941,861,536]
["NFLX",26,"2020-06-27",2020,"Week 26",741026.33,51155,14.485902257999999,219337,898,502]
["NFLX",27,"2020-07-04",2020,"Week 27",833642.01,57490,14.500643763999999,219497,750,590]
["NFLX",28,"2020-07-11",2020,"Week 28",721951,49765,14.507203858,219586,771,682]
["NFLX",29,"2020-07-18",2020,"Week 29",708069.51,48662,14.550768772,219749,722,559]
["NFLX",30,"2020-07-25",2020,"Week 30",740578.53,51026,14.513748481,219784,676,641]
["NFLX",31,"2020-08-01",2020,"Week 31",728993.12,50336,14.482539732999999,219966,764,582]
["NFLX",32,"2020-08-08",2020,"Week 32",748002.45,51479,14.530244371,220155,736,547]
["NFLX",33,"2020-08-15",2020,"Week 33",707261.62,48638,14.54133846,220261,666,560]
["NFLX",34,"2020-08-22",2020,"Week 34",726837.67,49974,14.544316445,220432,701,530]
["NFLX",35,"2020-08-29",2020,"Week 35",753955.01,51956,14.511413696,220542,691,581]
["NFLX",36,"2020-09-05",2020,"Week 36",739285.06,50879,14.530259243,220620,721,643]
["NFLX",37,"2020-09-12",2020,"Week 37",716334.67,49292,14.532473221,220777,715,558]
["NFLX",38,"2020-09-19",2020,"Week 38",708541.76,48668,14.558678391999999,220904,691,564]
["NFLX",39,"2020-09-26",2020,"Week 39",734600.27,50527,14.538766797999999,221036,717,585]
["NFLX",40,"2020-10-03",2020,"Week 40",831806.93,57282,14.521262002,221106,723,653]
["NFLX",41,"2020-10-10",2020,"Week 41",727394.71,50016,14.543240363000001,221273,790,623]
["NFLX",42,"2020-10-17",2020,"Week 42",704249.32,48341,14.568364742,221499,886,660]
["NFLX",43,"2020-10-24",2020,"Week 43",733068.27,50418,14.539812567,221292,776,983]
["NFLX",44,"2020-10-31",2020,"Week 44",736506.63,50711,14.52360691,220988,756,1060]
["NFLX",45,"2020-11-07",2020,"Week 45",746700.43,51311,14.552443531,220723,772,1037]
["NFLX",46,"2020-11-14",2020,"Week 46",708465.66,48621,14.571186524,220316,617,1024]
["NFLX",47,"2020-11-21",2020,"Week 47",722951.38,49582,14.580924125999999,220265,750,801]
["NFLX",48,"2020-11-28",2020,"Week 48",766949.61,52746,14.540431692,220391,767,641]
["NFLX",49,"2020-12-05",2020,"Week 49",821971.1,56361,14.584040383,220469,800,722]
["NFLX",50,"2020-12-12",2020,"Week 50",730796.47,48615,15.032324796999999,220550,734,653]
["NFLX",51,"2020-12-19",2020,"Week 51",736061.93,48821,15.076748326000001,220612,705,643]
["NFLX",52,"2020-12-26",2020,"Week 52",783988.24,52061,15.059031521,220719,834,727]
["NFLX",53,"2021-01-02",2020,"Week 53",757144.16,50308,15.050174127,220991,918,646]
["NFLX",1,"2021-01-09",2021,"Week 1",766583.59,49770,15.402523408,221170,794,615]
["NFLX",2,"2021-01-16",2021,"Week 2",759070.16,48461,15.663526547,221198,702,674]
["NFLX",3,"2021-01-23",2021,"Week 3",759706.56,49614,15.312342484,221221,664,641]
["NFLX",4,"2021-01-30",2021,"Week 4",780772.78,51461,15.172126076,221235,620,606]
["NFLX",5,"2021-02-06",2021,"Week 5",788798.42,50969,15.476042693,221181,722,776]
["NFLX",6,"2021-02-13",2021,"Week 6",773237.36,48885,15.817476936,221097,661,745]
["NFLX",7,"2021-02-20",2021,"Week 7",780810.4,49353,15.820930844999999,221082,715,730]
["NFLX",8,"2021-02-27",2021,"Week 8",861335.92,54714,15.742514164999999,221009,596,669]
["NFLX",9,"2021-03-06",2021,"Week 9",1046337.41,66337,15.773058925999999,220985,706,730]
["NFLX",10,"2021-03-13",2021,"Week 10",779562.47,49247,15.829643836000001,220832,612,765]
["NFLX",11,"2021-03-20",2021,"Week 11",774566.49,48889,15.843369470000001,220767,593,658]
["NFLX",12,"2021-03-27",2021,"Week 12",798354.29,50554,15.792109229999999,220718,589,638]
["NFLX",13,"2021-04-03",2021,"Week 13",783255.61,49567,15.801957149,220568,594,744]
["NFLX",14,"2021-04-10",2021,"Week 14",767146.18,48437,15.838020109,220397,507,678]
["NFLX",15,"2021-04-17",2021,"Week 15",772209.9,48656,15.870805245,220462,612,547]
["NFLX",16,"2021-04-24",2021,"Week 16",792665.63,49991,15.85616671,220557,587,492]
["NFLX",17,"2021-05-01",2021,"Week 17",860423.4,54375,15.823878621,220579,646,624]
["NFLX",18,"2021-05-08",2021,"Week 18",859079.38,54082,15.884756111,220282,592,889]
["NFLX",19,"2021-05-15",2021,"Week 19",771829.59,48571,15.890749418,220226,541,597]
["NFLX",20,"2021-05-22",2021,"Week 20",795892.93,50113,15.881965358,220268,622,580]
["NFLX",21,"2021-05-29",2021,"Week 21",817704.81,51616,15.842080169000001,220335,615,548]
["NFLX",22,"2021-06-05",2021,"Week 22",801937.67,50556,15.862363912999999,220383,602,554]
["NFLX",23,"2021-06-12",2021,"Week 23",784485.1,49353,15.895388325000001,220375,555,563]
["NFLX",24,"2021-06-19",2021,"Week 24",790464.27,49693,15.906954098,220400,545,520]
["NFLX",25,"2021-06-26",2021,"Week 25",805619.88,50770,15.868029938999999,220384,552,568]
["NFLX",26,"2021-07-03",2021,"Week 26",913083.24,57529,15.871703663,220359,568,593]
["NFLX",27,"2021-07-10",2021,"Week 27",805581.67,50732,15.879162462,220297,592,654]
["NFLX",28,"2021-07-17",2021,"Week 28",773586.66,48612,15.913491730000001,220306,553,544]
["NFLX",29,"2021-07-24",2021,"Week 29",802976.16,50575,15.876938407999999,220283,550,573]
["NFLX",30,"2021-07-31",2021,"Week 30",808038.26,50940,15.862549273999999,220227,574,630]
["NFLX",31,"2021-08-07",2021,"Week 31",815574.24,51397,15.868129268000001,220324,690,593]
["NFLX",32,"2021-08-14",2021,"Week 32",773880.39,48608,15.9208441,220274,569,619]
["NFLX",33,"2021-08-21",2021,"Week 33",796889.64,50101,15.90566336,220248,556,582]
["NFLX",34,"2021-08-28",2021,"Week 34",815119.68,51302,15.888653074,220164,534,618]
["NFLX",35,"2021-09-04",2021,"Week 35",802138,50497,15.884864447,220129,575,610]
["NFLX",36,"2021-09-11",2021,"Week 36",786701.28,49455,15.907416439,220132,611,608]
["NFLX",37,"2021-09-18",2021,"Week 37",789288.31,49469,15.955210535999999,220064,542,610]
["NFLX",38,"2021-09-25",2021,"Week 38",798374.53,50170,15.913385091,220023,563,604]
["NFLX",39,"2021-10-02",2021,"Week 39",909328.27,57242,15.885683065,220069,664,618]
["NFLX",40,"2021-10-09",2021,"Week 40",833023.94,52380,15.903473462999999,220203,734,600]
["NFLX",41,"2021-10-16",2021,"Week 41",769099.14,48254,15.938557218,220343,710,570]
["NFLX",42,"2021-10-23",2021,"Week 42",790729.83,49611,15.938598899,220465,704,582]
["NFLX",43,"2021-10-30",2021,"Week 43",817969.62,51446,15.899576643,220517,629,577]
["NFLX",44,"2021-11-06",2021,"Week 44",801426.71,50383,15.906688963000001,220507,576,586]
["NFLX",45,"2021-11-13",2021,"Week 45",792788.36,49752,15.934803827,220562,637,582]
["NFLX",46,"2021-11-20",2021,"Week 46",783347.57,49071,15.963554238,220542,580,600]
["NFLX",47,"2021-11-27",2021,"Week 47",823858.28,51750,15.919966763,220528,610,624]
["NFLX",48,"2021-12-04",2021,"Week 48",905016.35,56858,15.917133033000001,220480,621,669]
["NFLX",49,"2021-12-11",2021,"Week 49",799571.02,50133,15.94899607,220286,519,713]
["NFLX",50,"2021-12-18",2021,"Week 50",797248.95,49651,16.057057260000001,220207,536,615]
["NFLX",51,"2021-12-25",2021,"Week 51",800314.21,49869,16.048330827000001,220253,664,618]
["NFLX",52,"2022-01-01",2021,"Week 52",815571.94,50846,16.040041300999999,220400,760,613]
["NFLX",1,"2022-01-08",2022,"Week 1",832091.9,51738,16.082799875999999,220391,626,635]
["NFLX",2,"2022-01-15",2022,"Week 2",773204.54,48052,16.090996004000001,220259,477,609]
["NFLX",3,"2022-01-22",2022,"Week 3",799120.6,49614,16.106756158,220245,559,573]
["NFLX",4,"2022-01-29",2022,"Week 4",832607.25,51761,16.085609821999999,220262,572,555]
["NFLX",5,"2022-02-05",2022,"Week 5",803777.07,49921,16.10098095,220175,555,642]
["NFLX",6,"2022-02-12",2022,"Week 6",793419.54,49241,16.112985926,220021,496,650]
["NFLX",7,"2022-02-19",2022,"Week 7",800102.53,49470,16.173489589999999,219881,527,667]
["NFLX",8,"2022-02-26",2022,"Week 8",839362.04,50617,16.582611375999999,219631,553,803]
["NFLX",9,"2022-03-05",2022,"Week 9",1182892.56,70265,16.834733651000001,219412,572,791]
["NFLX",10,"2022-03-12",2022,"Week 10",820394.49,48749,16.828950131999999,219140,528,800]
["NFLX",11,"2022-03-19",2022,"Week 11",825919.21,48845,16.908981677,219042,605,703]
["NFLX",12,"2022-03-26",2022,"Week 12",859537.41,49358,17.414348434000001,218922,574,694]
["NFLX",13,"2022-04-02",2022,"Week 13",871027.3,49515,17.59118045,218765,611,768]
["NFLX",14,"2022-04-09",2022,"Week 14",884915.81,50172,17.637642709000001,218566,525,724]
["NFLX",15,"2022-04-16",2022,"Week 15",842149.99,47684,17.661060104000001,218383,506,689]
["NFLX",16,"2022-04-23",2022,"Week 16",870929.79,49228,17.691756520999999,218192,511,702]
["NFLX",17,"2022-04-30",2022,"Week 17",944392.23,53418,17.679288442000001,217989,492,695]
["NFLX",18,"2022-05-07",2022,"Week 18",947227.34,53486,17.70981827,217413,498,1074]
["NFLX",19,"2022-05-14",2022,"Week 19",843047.77,47559,17.726356105000001,217072,480,821]
["NFLX",20,"2022-05-21",2022,"Week 20",866435.1,48881,17.725396370999999,216760,471,783]
["NFLX",21,"2022-05-28",2022,"Week 21",885348.77,50008,17.704142737000002,216564,632,828]
["NFLX",22,"2022-06-04",2022,"Week 22",864026.57,48732,17.730168471999999,216449,734,849]
["NFLX",23,"2022-06-11",2022,"Week 23",870871.28,49090,17.740299043,216140,635,944]
["NFLX",24,"2022-06-18",2022,"Week 24",861902.72,48441,17.792834995,215900,578,818]
["NFLX",25,"2022-06-25",2022,"Week 25",866248.31,48760,17.765551887000001,215615,623,908]
["NFLX",26,"2022-07-02",2022,"Week 26",990329.22,55867,17.726550916000001,215507,634,742]
["NFLX",27,"2022-07-09",2022,"Week 27",890032.13,50125,17.756251970000001,215409,699,797]
["NFLX",28,"2022-07-16",2022,"Week 28",839883.61,47162,17.808481617000002,215335,612,686]
["NFLX",29,"2022-07-23",2022,"Week 29",877804.59,49317,17.799229272000002,215270,628,693]
["NFLX",30,"2022-07-30",2022,"Week 30",874295.47,49266,17.746426948,215208,616,678]
["NFLX",31,"2022-08-06",2022,"Week 31",890927.99,50109,17.779799835999999,215038,591,761]
["NFLX",32,"2022-08-13",2022,"Week 32",841852.51,47359,17.775977321999999,214863,555,730]
["NFLX",33,"2022-08-20",2022,"Week 33",870065.45,48781,17.836154444999998,214791,605,677]
["NFLX",34,"2022-08-27",2022,"Week 34",876512.49,49322,17.771227647,214662,558,687]
["NFLX",35,"2022-09-03",2022,"Week 35",853213.3,48073,17.748284900000002,214349,547,860]
["NFLX",36,"2022-09-10",2022,"Week 36",866900.32,48785,17.769812852000001,214071,583,861]
["NFLX",37,"2022-09-17",2022,"Week 37",846546.83,47480,17.829545703000001,213879,577,769]
["NFLX",38,"2022-09-24",2022,"Week 38",869438.65,48876,17.788662124999998,213776,621,724]
["NFLX",39,"2022-10-01",2022,"Week 39",940216.85,53002,17.739271160000001,213759,755,772]
["NFLX",40,"2022-10-08",2022,"Week 40",930423.73,52375,17.764653555999999,213681,705,783]
["NFLX",41,"2022-10-15",2022,"Week 41",823137.29,46246,17.799102409,213491,551,741]
["NFLX",42,"2022-10-22",2022,"Week 42",871061.13,48906,17.810925653000002,213395,605,701]
["NFLX",43,"2022-10-29",2022,"Week 43",879275.6,49487,17.767809728,213324,624,695]
["NFLX",44,"2022-11-05",2022,"Week 44",864709.14,48673,17.765684055000001,213191,576,709]
["NFLX",45,"2022-11-12",2022,"Week 45",850173.19,47850,17.767464786000001,213190,694,695]
["NFLX",46,"2022-11-19",2022,"Week 46",839915.65,47213,17.789923326,213189,659,660]
["NFLX",47,"2022-11-26",2022,"Week 47",868593.44,48921,17.755022179000001,213181,715,723]
["NFLX",48,"2022-12-03",2022,"Week 48",964714.85,54358,17.747430920999999,213089,638,730]
["NFLX",49,"2022-12-10",2022,"Week 49",857310.21,48358,17.728405021,212881,623,831]
["NFLX",50,"2022-12-17",2022,"Week 50",846858.85,47554,17.808362073000001,212847,644,678]
["NFLX",51,"2022-12-24",2022,"Week 51",861894.19,48467,17.783114078000001,212767,653,733]
["NFLX",52,"2022-12-31",2022,"Week 52",862407.74,48654,17.725320426,212798,741,710]
["NFLX",1,"2023-01-07",2023,"Week 1",876530.95,49358,17.758639937000002,212739,669,728]
["NFLX",2,"2023-01-14",2023,"Week 2",836334.46,47008,17.791321903,212611,598,726]
["NFLX",3,"2023-01-21",2023,"Week 3",841232.52,47276,17.794071410000001,212531,602,682]
["NFLX",4,"2023-01-28",2023,"Week 4",874899.16,49259,17.761204246999998,212465,637,703]
["NFLX",5,"2023-02-04",2023,"Week 5",851720.29,47930,17.770087418999999,212262,610,813]
["NFLX",6,"2023-02-11",2023,"Week 6",840751.45,47381,17.744485131000001,212111,589,740]
["NFLX",7,"2023-02-18",2023,"Week 7",849912.14,47661,17.832444555999999,211989,591,713]
["NFLX",8,"2023-02-25",2023,"Week 8",853850.27,48092,17.754517798999998,211774,616,831]
["NFLX",9,"2023-03-04",2023,"Week 9",1216995.26,68553,17.752618558000002,211649,710,835]
["NFLX",10,"2023-03-11",2023,"Week 10",811202.14,45728,17.739724894999998,211344,574,879]
["NFLX",11,"2023-03-18",2023,"Week 11",867948.32,48680,17.829669679999999,211039,550,855]
["NFLX",12,"2023-03-25",2023,"Week 12",847714.07,47685,17.777373807,210747,499,791]
["NFLX",13,"2023-04-01",2023,"Week 13",842369.57,47461,17.748668802000001,210358,497,886]
["NFLX",14,"2023-04-08",2023,"Week 14",849123.76,47853,17.744420621,210068,540,830]
["NFLX",15,"2023-04-15",2023,"Week 15",803158.65,45158,17.785523051999999,209741,506,833]
["NFLX",16,"2023-04-22",2023,"Week 16",829184.79,46502,17.831164036000001,209558,539,722]
["NFLX",17,"2023-04-29",2023,"Week 17",846868.42,47635,17.778281096000001,209251,462,769]
["PYPL",2,"2019-01-12",2019,"Week 2",21322232.050000001,307516,69.336984254477002]
["PYPL",3,"2019-01-19",2019,"Week 3",21158753.329999998,317222,66.700144788192006]
["PYPL",4,"2019-01-26",2019,"Week 4",20276418.899999999,319097,63.543119803696001]
["PYPL",5,"2019-02-02",2019,"Week 5",27097544.010000002,342664,79.079051228024994]
["PYPL",6,"2019-02-09",2019,"Week 6",27268660.120000001,358604,76.041148788078004]
["PYPL",7,"2019-02-16",2019,"Week 7",22519703.68,342887,65.676749716377998]
["PYPL",8,"2019-02-23",2019,"Week 8",23307034.219999999,349647,66.658756460085996]
["PYPL",9,"2019-03-02",2019,"Week 9",30802666.710000001,381707,80.69714914843]
["PYPL",10,"2019-03-09",2019,"Week 10",30534150.920000002,383255,79.670587259135004]
["PYPL",11,"2019-03-16",2019,"Week 11",24275293.27,362533,66.960230572113005]
["PYPL",12,"2019-03-23",2019,"Week 12",24376741.68,379532,64.228422583601997]
["PYPL",13,"2019-03-30",2019,"Week 13",26513988.16,369707,71.716218951764006]
["PYPL",14,"2019-04-06",2019,"Week 14",33466020.449999999,393133,85.126459620535002]
["PYPL",15,"2019-04-13",2019,"Week 15",24656978.739999998,369090,66.804786745780007]
["PYPL",16,"2019-04-20",2019,"Week 16",24456766.469999999,370793,65.958004789734005]
["PYPL",17,"2019-04-27",2019,"Week 17",24114479.969999999,360295,66.929821313090002]
["PYPL",18,"2019-05-04",2019,"Week 18",34668047.68,407959,84.979244678998995]
["PYPL",19,"2019-05-11",2019,"Week 19",26687524.23,381650,69.926697838332998]
["PYPL",20,"2019-05-18",2019,"Week 20",24762456.52,365741,67.704896415768999]
["PYPL",21,"2019-05-25",2019,"Week 21",23466891.41,355700,65.973830222097007]
["PYPL",22,"2019-06-01",2019,"Week 22",28131806.719999999,362228,77.663258279315002]
["PYPL",23,"2019-06-08",2019,"Week 23",32438180.219999999,391614,82.832023931728003]
["PYPL",24,"2019-06-15",2019,"Week 24",25006246.27,369313,67.710170695317998]
["PYPL",25,"2019-06-22",2019,"Week 25",24676266.050000001,364897,67.625291657644993]
["PYPL",26,"2019-06-29",2019,"Week 26",26627859.91,367027,72.55013911783]
["PYPL",27,"2019-07-06",2019,"Week 27",33641308.439999998,399579,84.191883056917007]
["PYPL",28,"2019-07-13",2019,"Week 28",24759992.100000001,361242,68.541288388392999]
["PYPL",29,"2019-07-20",2019,"Week 29",25711419.48,382354,67.245064730588993]
["PYPL",30,"2019-07-27",2019,"Week 30",24460427.280000001,375650,65.114940183681]
["PYPL",31,"2019-08-03",2019,"Week 31",34851489.009999998,401585,86.784837605985999]
["PYPL",32,"2019-08-10",2019,"Week 32",28488734.469999999,391788,72.714668315517002]
["PYPL",33,"2019-08-17",2019,"Week 33",25904944.57,385961,67.118036718734999]
["PYPL",34,"2019-08-24",2019,"Week 34",25480824.149999999,385917,66.026695247941007]
["PYPL",35,"2019-08-31",2019,"Week 35",29477609.16,399835,73.724434229118998]
["PYPL",36,"2019-09-07",2019,"Week 36",35669864.689999998,425838,83.763930626199993]
["PYPL",37,"2019-09-14",2019,"Week 37",26635715.02,400024,66.585292432453997]
["PYPL",38,"2019-09-21",2019,"Week 38",26445067.989999998,406921,64.988211446446996]
["PYPL",39,"2019-09-28",2019,"Week 39",26722160.670000002,395814,67.511913853476003]
["PYPL",40,"2019-10-05",2019,"Week 40",38048772.259999998,443237,85.842951423279004]
["PYPL",41,"2019-10-12",2019,"Week 41",26942470.390000001,408441,65.964167137969994]
["PYPL",42,"2019-10-19",2019,"Week 42",26048747.219999999,411264,63.338262575862998]
["PYPL",43,"2019-10-26",2019,"Week 43",25615279.809999999,410010,62.474768444672002]
["PYPL",44,"2019-11-02",2019,"Week 44",32725277.370000001,422671,77.424941313692997]
["PYPL",45,"2019-11-09",2019,"Week 45",33472657.920000002,427496,78.299347643017995]
["PYPL",46,"2019-11-16",2019,"Week 46",26700243.809999999,405193,65.895126051041998]
["PYPL",47,"2019-11-23",2019,"Week 47",28312506.170000002,426302,66.414199722261998]
["PYPL",48,"2019-11-30",2019,"Week 48",33569979.310000002,452500,74.187799580109996]
["PYPL",49,"2019-12-07",2019,"Week 49",45614012.869999997,549702,82.979528671897995]
["PYPL",50,"2019-12-14",2019,"Week 50",32087114.41,486025,66.019473092946996]
["PYPL",51,"2019-12-21",2019,"Week 51",32306311.190000001,474974,68.017009752112003]
["PYPL",52,"2019-12-28",2019,"Week 52",26356849.149999999,369998,71.235112487094]
["PYPL",1,"2020-01-04",2020,"Week 1",37575146.770000003,419850,89.496598237464994]
["PYPL",2,"2020-01-11",2020,"Week 2",29700363.52,392728,75.625785581878006]
["PYPL",3,"2020-01-18",2020,"Week 3",27698851.649999999,402367,68.839769787283004]
["PYPL",4,"2020-01-25",2020,"Week 4",26451328.02,405035,65.306277284678998]
["PYPL",5,"2020-02-01",2020,"Week 5",32197607.149999999,413244,77.914276190337006]
["PYPL",6,"2020-02-08",2020,"Week 6",37193809.539999999,438343,84.850926192502001]
["PYPL",7,"2020-02-15",2020,"Week 7",28547160.449999999,416990,68.460060073383005]
["PYPL",8,"2020-02-22",2020,"Week 8",28654043.48,417262,68.671586389365999]
["PYPL",9,"2020-02-29",2020,"Week 9",34465600.329999998,440670,78.211814577800993]
["PYPL",10,"2020-03-07",2020,"Week 10",41272086.850000001,468166,88.156950419295001]
["PYPL",11,"2020-03-14",2020,"Week 11",29225093.780000001,418499,69.833126913087]
["PYPL",12,"2020-03-21",2020,"Week 12",27785686.010000002,398120,69.792238546166004]
["PYPL",13,"2020-03-28",2020,"Week 13",27865096.359999999,401549,69.394012586258995]
["PYPL",14,"2020-04-04",2020,"Week 14",41534661.090000004,470010,88.369739133208995]
["PYPL",15,"2020-04-11",2020,"Week 15",31817852.550000001,470343,67.648189831676007]
["PYPL",16,"2020-04-18",2020,"Week 16",37350963.439999998,512856,72.829338917746]
["PYPL",17,"2020-04-25",2020,"Week 17",36351447.399999999,539867,67.334079319536002]
["PYPL",18,"2020-05-02",2020,"Week 18",44189542.130000003,554558,79.684256885663004]
["PYPL",19,"2020-05-09",2020,"Week 19",44566377.57,569190,78.297892742317998]
["PYPL",20,"2020-05-16",2020,"Week 20",36229147.359999999,528561,68.542982475059006]
["PYPL",21,"2020-05-23",2020,"Week 21",37007581.420000002,534148,69.283384792229]
["PYPL",22,"2020-05-30",2020,"Week 22",38796094.57,517199,75.011928812700006]
["PYPL",23,"2020-06-06",2020,"Week 23",49009061.700000003,561438,87.292028149144997]
["PYPL",24,"2020-06-13",2020,"Week 24",37392636.049999997,520226,71.877676336822006]
["PYPL",25,"2020-06-20",2020,"Week 25",37830776.590000004,527622,71.700529147761003]
["PYPL",26,"2020-06-27",2020,"Week 26",36924753.700000003,511679,72.163902954782003]
["PYPL",27,"2020-07-04",2020,"Week 27",49668463.990000002,543813,91.333719477098995]
["PYPL",28,"2020-07-11",2020,"Week 28",37549210.509999998,502767,74.685113601330002]
["PYPL",29,"2020-07-18",2020,"Week 29",37188869.43,511102,72.762128557509001]
["PYPL",30,"2020-07-25",2020,"Week 30",36043003.979999997,509845,70.694042267748003]
["PYPL",31,"2020-08-01",2020,"Week 31",42631396.469999999,520210,81.950359412544003]
["PYPL",32,"2020-08-08",2020,"Week 32",47513222.259999998,543992,87.341766533330997]
["PYPL",33,"2020-08-15",2020,"Week 33",37052812.340000004,512425,72.308752188124998]
["PYPL",34,"2020-08-22",2020,"Week 34",37372509.920000002,522814,71.483376344167993]
["PYPL",35,"2020-08-29",2020,"Week 35",37927987.609999999,515500,73.575145703199993]
["PYPL",36,"2020-09-05",2020,"Week 36",51718500.969999999,559304,92.469392262526]
["PYPL",37,"2020-09-12",2020,"Week 37",38620574.490000002,527535,73.209501720264996]
["PYPL",38,"2020-09-19",2020,"Week 38",37588600.549999997,527782,71.219936545769997]
["PYPL",39,"2020-09-26",2020,"Week 39",36691447.780000001,525377,69.838321395872995]
["PYPL",40,"2020-10-03",2020,"Week 40",49567647.700000003,561749,88.238070205732001]
["PYPL",41,"2020-10-10",2020,"Week 41",41931665.380000003,536128,78.212041490090996]
["PYPL",42,"2020-10-17",2020,"Week 42",37217983.289999999,524268,70.990377612212995]
["PYPL",43,"2020-10-24",2020,"Week 43",37126197.159999996,535491,69.331131914447994]
["PYPL",44,"2020-10-31",2020,"Week 44",41090922.920000002,536445,76.598575660131999]
["PYPL",45,"2020-11-07",2020,"Week 45",49312310.869999997,549651,89.715675710587007]
["PYPL",46,"2020-11-14",2020,"Week 46",40096518.380000003,556335,72.072615204867006]
["PYPL",47,"2020-11-21",2020,"Week 47",41075333.359999999,575821,71.333510518024994]
["PYPL",48,"2020-11-28",2020,"Week 48",44515031.420000002,602005,73.944620758962998]
["PYPL",49,"2020-12-05",2020,"Week 49",63793114.18,725446,87.936406265938004]
["PYPL",50,"2020-12-12",2020,"Week 50",47268325.469999999,655322,72.129923106503]
["PYPL",51,"2020-12-19",2020,"Week 51",45597457.090000004,628032,72.603716195990003]
["PYPL",52,"2020-12-26",2020,"Week 52",39533090.280000001,542734,72.840636997128996]
["PYPL",53,"2021-01-02",2020,"Week 53",49214185.68,552808,89.025820320978994]
["PYPL",1,"2021-01-09",2021,"Week 1",52005935.799999997,571404,91.014301264954]
["PYPL",2,"2021-01-16",2021,"Week 2",40578526.840000004,553433,73.321480359861994]
["PYPL",3,"2021-01-23",2021,"Week 3",40516123.75,559721,72.386284863350994]
["PYPL",4,"2021-01-30",2021,"Week 4",43892272.030000001,563309,77.918641509365997]
["PYPL",5,"2021-02-06",2021,"Week 5",55262181.520000003,599812,92.132504051268995]
["PYPL",6,"2021-02-13",2021,"Week 6",41943292.579999998,561884,74.647600892710003]
["PYPL",7,"2021-02-20",2021,"Week 7",39264809.909999996,534529,73.456837533604002]
["PYPL",8,"2021-02-27",2021,"Week 8",44906835.18,562063,79.896444313180993]
["PYPL",9,"2021-03-06",2021,"Week 9",60105591.109999999,630520,95.327017556936994]
["PYPL",10,"2021-03-13",2021,"Week 10",44138811.060000002,570350,77.388991075654999]
["PYPL",11,"2021-03-20",2021,"Week 11",54264763.280000001,624740,86.859754906039996]
["PYPL",12,"2021-03-27",2021,"Week 12",49026817.549999997,606654,80.815122870696996]
["PYPL",13,"2021-04-03",2021,"Week 13",60491776.009999998,620344,97.513276520768997]
["PYPL",14,"2021-04-10",2021,"Week 14",50002870.299999997,580880,86.081239326539006]
["PYPL",15,"2021-04-17",2021,"Week 15",47030826.109999999,599233,78.485040226422001]
["PYPL",16,"2021-04-24",2021,"Week 16",45336447.880000003,587991,77.103982680006993]
["PYPL",17,"2021-05-01",2021,"Week 17",52083749.579999998,599469,86.883140879677995]
["PYPL",18,"2021-05-08",2021,"Week 18",61998289.25,648925,95.539991909695999]
["PYPL",19,"2021-05-15",2021,"Week 19",47253845.68,585138,80.756754269932003]
["PYPL",20,"2021-05-22",2021,"Week 20",48128659.130000003,592793,81.189654955438996]
["PYPL",21,"2021-05-29",2021,"Week 21",49380278.960000001,586949,84.130442270111999]
["PYPL",22,"2021-06-05",2021,"Week 22",62143828.049999997,617532,100.632563251782]
["PYPL",23,"2021-06-12",2021,"Week 23",48193356.579999998,585224,82.350273707160994]
["PYPL",24,"2021-06-19",2021,"Week 24",47795297.68,589407,81.090481925052998]
["PYPL",25,"2021-06-26",2021,"Week 25",45668297.43,569974,80.123474807622003]
["PYPL",26,"2021-07-03",2021,"Week 26",59975577.68,609327,98.429214001676996]
["PYPL",27,"2021-07-10",2021,"Week 27",49067323.270000003,566269,86.650202059444993]
["PYPL",28,"2021-07-17",2021,"Week 28",46194396.509999998,573157,80.596409901648997]
["PYPL",29,"2021-07-24",2021,"Week 29",45232804.490000002,582117,77.703974441564]
["PYPL",30,"2021-07-31",2021,"Week 30",51339338.350000001,587303,87.415419893988997]
["PYPL",31,"2021-08-07",2021,"Week 31",60425879.939999998,613790,98.447156095733007]
["PYPL",32,"2021-08-14",2021,"Week 32",46186729.039999999,580854,79.515212153139998]
["PYPL",33,"2021-08-21",2021,"Week 33",47474920.07,599301,79.217154768637997]
["PYPL",34,"2021-08-28",2021,"Week 34",46925605.869999997,595728,78.770186847017001]
["PYPL",35,"2021-09-04",2021,"Week 35",63979966.390000001,642893,99.518841222410998]
["PYPL",36,"2021-09-11",2021,"Week 36",49613744.850000001,609898,81.347610338121996]
["PYPL",37,"2021-09-18",2021,"Week 37",48063357.130000003,612238,78.504367794876998]
["PYPL",38,"2021-09-25",2021,"Week 38",46456111.259999998,607463,76.475622811595002]
["PYPL",39,"2021-10-02",2021,"Week 39",57009036.18,631926,90.214734288507998]
["PYPL",40,"2021-10-09",2021,"Week 40",58096817.460000001,637198,91.175454819381002]
["PYPL",41,"2021-10-16",2021,"Week 41",45167134.149999999,593548,76.096851728925003]
["PYPL",42,"2021-10-23",2021,"Week 42",46063619.299999997,602943,76.397966806149]
["PYPL",43,"2021-10-30",2021,"Week 43",50126852.619999997,612911,81.784880055995004]
["PYPL",44,"2021-11-06",2021,"Week 44",64780592.25,657150,98.578090618580006]
["PYPL",45,"2021-11-13",2021,"Week 45",50241349.210000001,642923,78.145204340177003]
["PYPL",46,"2021-11-20",2021,"Week 46",50220229.57,645522,77.797859050504002]
["PYPL",47,"2021-11-27",2021,"Week 47",51668833.880000003,660889,78.180804764491]
["PYPL",48,"2021-12-04",2021,"Week 48",74530521.379999995,771089,96.656185446815996]
["PYPL",49,"2021-12-11",2021,"Week 49",56402081.490000002,709694,79.473803484317997]
["PYPL",50,"2021-12-18",2021,"Week 50",54836737.170000002,704988,77.783929896678998]
["PYPL",51,"2021-12-25",2021,"Week 51",49095532.640000001,622122,78.916245752440005]
["PYPL",52,"2022-01-01",2021,"Week 52",51497940.039999999,574115,89.699694381786998]
["PYPL",1,"2022-01-08",2022,"Week 1",59908998.609999999,619460,96.711649840183]
["PYPL",2,"2022-01-15",2022,"Week 2",45757356.920000002,586646,77.998242415356998]
["PYPL",3,"2022-01-22",2022,"Week 3",45129067.420000002,595054,75.840289150228003]
["PYPL",4,"2022-01-29",2022,"Week 4",46876341.030000001,595697,78.691584866130995]
["PYPL",5,"2022-02-05",2022,"Week 5",63266004.170000002,642997,98.392378455886998]
["PYPL",6,"2022-02-12",2022,"Week 6",47869171.890000001,613925,77.972344976992005]
["PYPL",7,"2022-02-19",2022,"Week 7",46836844.130000003,599918,78.072076733819998]
["PYPL",8,"2022-02-26",2022,"Week 8",47350081.229999997,595897,79.460177228614995]
["PYPL",9,"2022-03-05",2022,"Week 9",68759464.900000006,692642,99.271290074814004]
["PYPL",10,"2022-03-12",2022,"Week 10",50901307.310000002,619667,82.143001499191996]
["PYPL",11,"2022-03-19",2022,"Week 11",50060552.439999998,632841,79.104470854447996]
["PYPL",12,"2022-03-26",2022,"Week 12",48253227.780000001,617431,78.151611726653996]
["PYPL",13,"2022-04-02",2022,"Week 13",59329571.020000003,635122,93.414447964328005]
["PYPL",14,"2022-04-09",2022,"Week 14",60465125.990000002,659257,91.717078453471004]
["PYPL",15,"2022-04-16",2022,"Week 15",48175315.299999997,610218,78.947712620735004]
["PYPL",16,"2022-04-23",2022,"Week 16",47970833.5,602418,79.630478338960003]
["PYPL",17,"2022-04-30",2022,"Week 17",54886073.420000002,646634,84.879659003392007]
["PYPL",18,"2022-05-07",2022,"Week 18",66176769.450000003,679402,97.404437210959003]
["PYPL",19,"2022-05-14",2022,"Week 19",49197667.549999997,616662,79.780605177552005]
["PYPL",20,"2022-05-21",2022,"Week 20",48693309.729999997,612942,79.441953284323006]
["PYPL",21,"2022-05-28",2022,"Week 21",48483608.409999996,604723,80.174903898148003]
["PYPL",22,"2022-06-04",2022,"Week 22",64158607.149999999,636095,100.863247077873]
["PYPL",23,"2022-06-11",2022,"Week 23",51367454.619999997,611111,84.055850115609005]
["PYPL",24,"2022-06-18",2022,"Week 24",49068790.700000003,609839,80.461877151181994]
["PYPL",25,"2022-06-25",2022,"Week 25",46643840.219999999,591620,78.840877962204999]
["PYPL",26,"2022-07-02",2022,"Week 26",56996653.859999999,616439,92.461141913473995]
["PYPL",27,"2022-07-09",2022,"Week 27",57324831,607327,94.388741155917003]
["PYPL",28,"2022-07-16",2022,"Week 28",47360586.920000002,589538,80.335087678826]
["PYPL",29,"2022-07-23",2022,"Week 29",47490158.670000002,600236,79.119144253260004]
["PYPL",30,"2022-07-30",2022,"Week 30",50618158.409999996,607913,83.265464647079]
["PYPL",31,"2022-08-06",2022,"Week 31",64696679.829999998,640587,100.99593002979999]
["PYPL",32,"2022-08-13",2022,"Week 32",47906591.619999997,594856,80.534770801673005]
["PYPL",33,"2022-08-20",2022,"Week 33",48265510.079999998,609074,79.244082131235004]
["PYPL",34,"2022-08-27",2022,"Week 34",47615745.229999997,608587,78.239832973757004]
["PYPL",35,"2022-09-03",2022,"Week 35",63357678.200000003,647649,97.827184478012001]
["PYPL",36,"2022-09-10",2022,"Week 36",53213875.539999999,634799,83.827913307990997]
["PYPL",37,"2022-09-17",2022,"Week 37",47920939.450000003,613766,78.076888341810999]
["PYPL",38,"2022-09-24",2022,"Week 38",46531162.359999999,613282,75.872375774928003]
["PYPL",39,"2022-10-01",2022,"Week 39",53033076.939999998,621490,85.332148449692994]
["PYPL",40,"2022-10-08",2022,"Week 40",61403061.710000001,654265,93.850445476985001]
["PYPL",41,"2022-10-15",2022,"Week 41",45978585.039999999,606385,75.824080476923996]
["PYPL",42,"2022-10-22",2022,"Week 42",46366962.899999999,618247,74.997473339942999]
["PYPL",43,"2022-10-29",2022,"Week 43",46862788.200000003,606927,77.213220370817993]
["PYPL",44,"2022-11-05",2022,"Week 44",64025407.899999999,658529,97.224887438517996]
["PYPL",45,"2022-11-12",2022,"Week 45",48798965.719999999,636685,76.645383070120999]
["PYPL",46,"2022-11-19",2022,"Week 46",49395787.799999997,631878,78.172982442812994]
["PYPL",47,"2022-11-26",2022,"Week 47",49364779.350000001,650385,75.900857722732994]
["PYPL",48,"2022-12-03",2022,"Week 48",70072527.870000005,752327,93.141051524136998]
["PYPL",49,"2022-12-10",2022,"Week 49",56660134.170000002,704739,80.398749281647994]
["PYPL",50,"2022-12-17",2022,"Week 50",52338399.630000003,696097,75.188371204012995]
["PYPL",51,"2022-12-24",2022,"Week 51",48056723.969999999,630975,76.162643480328001]
["PYPL",52,"2022-12-31",2022,"Week 52",47163645.990000002,565782,83.36010334369]
["PYPL",1,"2023-01-07",2023,"Week 1",61566071.270000003,630767,97.605092324105996]
["PYPL",2,"2023-01-14",2023,"Week 2",46817815.939999998,599140,78.141696331407999]
["PYPL",3,"2023-01-21",2023,"Week 3",45223775.5,600387,75.324374944826999]
["PYPL",4,"2023-01-28",2023,"Week 4",44857234.460000001,595308,75.351304635583006]
["PYPL",5,"2023-02-04",2023,"Week 5",62946992.719999999,645205,97.561228942739007]
["PYPL",6,"2023-02-11",2023,"Week 6",49037666.68,618575,79.275215907529002]
["PYPL",7,"2023-02-18",2023,"Week 7",46999929.100000001,610175,77.026966198221004]
["PYPL",8,"2023-02-25",2023,"Week 8",46014990.399999999,594994,77.336898187208007]
["PYPL",9,"2023-03-04",2023,"Week 9",67144138.260000005,687565,97.654968272090002]
["PYPL",10,"2023-03-11",2023,"Week 10",50417046.859999999,619734,81.352720457486001]
["PYPL",11,"2023-03-18",2023,"Week 11",48904581.899999999,630769,77.531682596956998]
["PYPL",12,"2023-03-25",2023,"Week 12",46260100.310000002,613099,75.452904522759994]
["PYPL",13,"2023-04-01",2023,"Week 13",53936542.219999999,622585,86.633218307540005]
["PYPL",14,"2023-04-08",2023,"Week 14",60463131.850000001,644119,93.869505246700996]
["PYPL",15,"2023-04-15",2023,"Week 15",45743174.039999999,588451,77.734890483659001]
["PYPL",16,"2023-04-22",2023,"Week 16",47294312.020000003,611831,77.299633428185004]
["PYPL",17,"2023-04-29",2023,"Week 17",48071510.060000002,601632,79.901850400244001]
["WW-Subs",1,"2019-01-05",2019,"Week 1",66354.009999999995,2543,26.092807706999999,11343,485,311]
["WW-Subs",2,"2019-01-12",2019,"Week 2",78515.02,2942,26.687634262,11515,513,341]
["WW-Subs",3,"2019-01-19",2019,"Week 3",69560.399999999994,2688,25.878125000000001,11634,389,270]
["WW-Subs",4,"2019-01-26",2019,"Week 4",63932.6,2527,25.299802137,11768,382,248]
["WW-Subs",5,"2019-02-02",2019,"Week 5",72947.520000000004,2922,24.964928131000001,11979,512,301]
["WW-Subs",6,"2019-02-09",2019,"Week 6",79309.41,3140,25.257773884999999,12140,473,312]
["WW-Subs",7,"2019-02-16",2019,"Week 7",71973.33,2833,25.405340628000001,12311,428,257]
["WW-Subs",8,"2019-02-23",2019,"Week 8",68801.759999999995,2797,24.598412584999998,12507,449,253]
["WW-Subs",9,"2019-03-02",2019,"Week 9",93145.86,3746,24.865419114000002,12882,583,208]
["WW-Subs",10,"2019-03-09",2019,"Week 10",93754.81,3710,25.270838274999999,13085,469,266]
["WW-Subs",11,"2019-03-16",2019,"Week 11",75226.929999999993,2989,25.167925728,13159,449,375]
["WW-Subs",12,"2019-03-23",2019,"Week 12",71264.98,2921,24.397459774000001,13255,438,342]
["WW-Subs",13,"2019-03-30",2019,"Week 13",79463.850000000006,3277,24.248962465999998,13328,355,282]
["WW-Subs",14,"2019-04-06",2019,"Week 14",75407.240000000005,3013,25.027295055,13471,422,279]
["WW-Subs",15,"2019-04-13",2019,"Week 15",77117.78,3071,25.111618365000002,13557,360,274]
["WW-Subs",16,"2019-04-20",2019,"Week 16",73853.06,2974,24.832905178000001,13578,308,287]
["WW-Subs",17,"2019-04-27",2019,"Week 17",73652.240000000005,2985,24.674117252999999,13586,317,309]
["WW-Subs",18,"2019-05-04",2019,"Week 18",83810.02,3409,24.584928131000002,13650,349,285]
["WW-Subs",19,"2019-05-11",2019,"Week 19",84440.11,3308,25.526030834,13557,327,420]
["WW-Subs",20,"2019-05-18",2019,"Week 20",77443.490000000005,3062,25.291799477000001,13537,321,341]
["WW-Subs",21,"2019-05-25",2019,"Week 21",71696.759999999995,2923,24.528484433999999,13538,323,322]
["WW-Subs",22,"2019-06-01",2019,"Week 22",76153.94,3114,24.45534361,13565,353,326]
["WW-Subs",23,"2019-06-08",2019,"Week 23",80210.34,3195,25.104957746,13474,326,417]
["WW-Subs",24,"2019-06-15",2019,"Week 24",76895.929999999993,3031,25.369821841,13403,281,352]
["WW-Subs",25,"2019-06-22",2019,"Week 25",72285.05,2929,24.679088426,13438,316,281]
["WW-Subs",26,"2019-06-29",2019,"Week 26",76029.119999999995,3113,24.423103116,13427,312,323]
["WW-Subs",27,"2019-07-06",2019,"Week 27",86350.85,3501,24.664624393,13582,459,304]
["WW-Subs",28,"2019-07-13",2019,"Week 28",84323.35,3274,25.755452045999998,13669,392,305]
["WW-Subs",29,"2019-07-20",2019,"Week 29",72690.759999999995,2912,24.962486263999999,13676,312,305]
["WW-Subs",30,"2019-07-27",2019,"Week 30",69457.460000000006,2839,24.465466714000002,13594,221,303]
["WW-Subs",31,"2019-08-03",2019,"Week 31",70861.490000000005,2875,24.647474783,13480,240,354]
["WW-Subs",32,"2019-08-10",2019,"Week 32",81979.67,3313,24.744844552,13417,223,286]
["WW-Subs",33,"2019-08-17",2019,"Week 33",71634.850000000006,2867,24.985995813999999,13397,305,325]
["WW-Subs",34,"2019-08-24",2019,"Week 34",71218.64,2897,24.583583016999999,13376,312,333]
["WW-Subs",35,"2019-08-31",2019,"Week 35",82231.05,3353,24.524619743999999,13430,375,321]
["WW-Subs",36,"2019-09-07",2019,"Week 36",71804.41,2907,24.700519436,13404,321,347]
["WW-Subs",37,"2019-09-14",2019,"Week 37",76394.97,3064,24.933084204,13326,293,371]
["WW-Subs",38,"2019-09-21",2019,"Week 38",68775.320000000007,2802,24.545082084000001,13254,253,325]
["WW-Subs",39,"2019-09-28",2019,"Week 39",70378.45,2871,24.513566700999998,13158,242,338]
["WW-Subs",40,"2019-10-05",2019,"Week 40",83420.78,3420,24.392040936000001,13140,335,353]
["WW-Subs",41,"2019-10-12",2019,"Week 41",71877.960000000006,2911,24.691844726999999,13124,336,352]
["WW-Subs",42,"2019-10-19",2019,"Week 42",74237.289999999994,3009,24.671748089000001,13199,377,302]
["WW-Subs",43,"2019-10-26",2019,"Week 43",67750.17,2859,23.697156348,13235,329,293]
["WW-Subs",44,"2019-11-02",2019,"Week 44",69619.850000000006,2954,23.567992552,13183,291,343]
["WW-Subs",45,"2019-11-09",2019,"Week 45",78117.600000000006,3169,24.650552224999998,13156,298,325]
["WW-Subs",46,"2019-11-16",2019,"Week 46",71839.44,2953,24.327612597000002,13056,250,350]
["WW-Subs",47,"2019-11-23",2019,"Week 47",66234.33,2763,23.971889251,12978,210,288]
["WW-Subs",48,"2019-11-30",2019,"Week 48",72281.990000000005,2941,24.577351240999999,12894,197,281]
["WW-Subs",49,"2019-12-07",2019,"Week 49",69738.2,2922,23.86659822,12835,305,364]
["WW-Subs",50,"2019-12-14",2019,"Week 50",71584.5,2904,24.650309917000001,12781,250,304]
["WW-Subs",51,"2019-12-21",2019,"Week 51",67428.98,2791,24.159433894999999,12735,239,285]
["WW-Subs",52,"2019-12-28",2019,"Week 52",61432.52,2486,24.711391794000001,12610,178,303]
["WW-Subs",1,"2020-01-04",2020,"Week 1",73975.990000000005,3004,24.625828895000001,12744,446,312]
["WW-Subs",2,"2020-01-11",2020,"Week 2",88785.36,3591,24.724411027999999,13078,631,297]
["WW-Subs",3,"2020-01-18",2020,"Week 3",81325.95,3325,24.458932331,13234,455,299]
["WW-Subs",4,"2020-01-25",2020,"Week 4",69312.37,2947,23.519636919,13445,474,263]
["WW-Subs",5,"2020-02-01",2020,"Week 5",83359.08,3449,24.169057698,13801,651,295]
["WW-Subs",6,"2020-02-08",2020,"Week 6",95223.71,3894,24.453957370000001,14359,814,256]
["WW-Subs",7,"2020-02-15",2020,"Week 7",92799.8,3781,24.543718593000001,14712,579,226]
["WW-Subs",8,"2020-02-22",2020,"Week 8",74993.75,3222,23.275527622999999,14906,433,239]
["WW-Subs",9,"2020-02-29",2020,"Week 9",78055.960000000006,3239,24.098783574999999,15009,336,233]
["WW-Subs",10,"2020-03-07",2020,"Week 10",114003.07,4673,24.396120265,15182,496,323]
["WW-Subs",11,"2020-03-14",2020,"Week 11",88905.35,3669,24.231493595,15215,373,340]
["WW-Subs",12,"2020-03-21",2020,"Week 12",75155.3,3133,23.988285988000001,15161,291,345]
["WW-Subs",13,"2020-03-28",2020,"Week 13",69839.33,2821,24.756940800999999,15115,220,266]
["WW-Subs",14,"2020-04-04",2020,"Week 14",74967.25,3016,24.856515252000001,15060,252,307]
["WW-Subs",15,"2020-04-11",2020,"Week 15",87279.62,3466,25.181656088,14947,277,390]
["WW-Subs",16,"2020-04-18",2020,"Week 16",75380.58,3069,24.561935483999999,14859,249,337]
["WW-Subs",17,"2020-04-25",2020,"Week 17",64140.98,2600,24.669607692,14718,171,312]
["WW-Subs",18,"2020-05-02",2020,"Week 18",81846.16,3269,25.037063322000002,14555,195,358]
["WW-Subs",19,"2020-05-09",2020,"Week 19",87984.12,3476,25.311887227,14187,203,571]
["WW-Subs",20,"2020-05-16",2020,"Week 20",72509.289999999994,2978,24.348317663,13889,222,520]
["WW-Subs",21,"2020-05-23",2020,"Week 21",66614.960000000006,2746,24.258907502,13789,351,451]
["WW-Subs",22,"2020-05-30",2020,"Week 22",69069.820000000007,2784,24.809561781999999,13715,246,320]
["WW-Subs",23,"2020-06-06",2020,"Week 23",74406.009999999995,3051,24.387417240000001,13697,281,299]
["WW-Subs",24,"2020-06-13",2020,"Week 24",75612.05,3163,23.905169142999998,13649,334,382]
["WW-Subs",25,"2020-06-20",2020,"Week 25",63383.57,2704,23.440669378999999,13524,220,345]
["WW-Subs",26,"2020-06-27",2020,"Week 26",68740.89,2884,23.835260054999999,13615,417,326]
["WW-Subs",27,"2020-07-04",2020,"Week 27",81055.7,3301,24.554892457000001,13641,333,307]
["WW-Subs",28,"2020-07-11",2020,"Week 28",79826.34,3284,24.307655298,13642,323,322]
["WW-Subs",29,"2020-07-18",2020,"Week 29",68406.67,2944,23.235961277000001,13633,281,290]
["WW-Subs",30,"2020-07-25",2020,"Week 30",67328.41,2820,23.875322695000001,13690,308,251]
["WW-Subs",31,"2020-08-01",2020,"Week 31",73753.850000000006,3037,24.285100428,13884,441,247]
["WW-Subs",32,"2020-08-08",2020,"Week 32",75934.69,3233,23.487377048999999,13915,417,386]
["WW-Subs",33,"2020-08-15",2020,"Week 33",72319.92,3118,23.194329699000001,13856,302,361]
["WW-Subs",34,"2020-08-22",2020,"Week 34",67878.880000000005,2902,23.390379049,13875,289,270]
["WW-Subs",35,"2020-08-29",2020,"Week 35",68430.149999999994,2856,23.960136554999998,13872,229,232]
["WW-Subs",36,"2020-09-05",2020,"Week 36",74464.97,3232,23.039904084,13953,427,346]
["WW-Subs",37,"2020-09-12",2020,"Week 37",73489.78,3158,23.270987967,13818,251,386]
["WW-Subs",38,"2020-09-19",2020,"Week 38",65876.56,2819,23.368769066999999,13762,269,325]
["WW-Subs",39,"2020-09-26",2020,"Week 39",67528.639999999999,2834,23.828031052,13797,326,291]
["WW-Subs",40,"2020-10-03",2020,"Week 40",77651.5,3328,23.332782452,13773,322,346]
["WW-Subs",41,"2020-10-10",2020,"Week 41",76645.69,3303,23.204871328999999,13788,308,293]
["WW-Subs",42,"2020-10-17",2020,"Week 42",66026.570000000007,2814,23.463599857999998,13653,202,337]
["WW-Subs",43,"2020-10-24",2020,"Week 43",67088.31,2870,23.375717770000001,13639,277,291]
["WW-Subs",44,"2020-10-31",2020,"Week 44",68141.87,2912,23.400367445000001,13532,195,302]
["WW-Subs",45,"2020-11-07",2020,"Week 45",67525.56,3037,22.234297003999998,13341,212,403]
["WW-Subs",46,"2020-11-14",2020,"Week 46",65097.58,2814,23.133468371999999,13198,179,322]
["WW-Subs",47,"2020-11-21",2020,"Week 47",61888.03,2707,22.862220170000001,13125,194,267]
["WW-Subs",48,"2020-11-28",2020,"Week 48",61592.02,2647,23.268613524999999,12953,165,337]
["WW-Subs",49,"2020-12-05",2020,"Week 49",75142.63,3396,22.126805064999999,13029,357,281]
["WW-Subs",50,"2020-12-12",2020,"Week 50",67155.42,2834,23.696337331999999,12930,231,330]
["WW-Subs",51,"2020-12-19",2020,"Week 51",59986.26,2590,23.160718147000001,12837,204,297]
["WW-Subs",52,"2020-12-26",2020,"Week 52",58748.77,2543,23.102151002999999,12651,138,324]
["WW-Subs",53,"2021-01-02",2020,"Week 53",65535.31,2993,21.896194454,12813,437,275]
["WW-Subs",1,"2021-01-09",2021,"Week 1",75670.8,3327,22.744454463,13010,523,326]
["WW-Subs",2,"2021-01-16",2021,"Week 2",66869.850000000006,2831,23.620575767999998,13035,313,288]
["WW-Subs",3,"2021-01-23",2021,"Week 3",64141.52,2688,23.862172618999999,13044,279,270]
["WW-Subs",4,"2021-01-30",2021,"Week 4",67600.88,2860,23.636671328999999,13099,280,225]
["WW-Subs",5,"2021-02-06",2021,"Week 5",70919.759999999995,3194,22.204057607999999,13075,266,290]
["WW-Subs",6,"2021-02-13",2021,"Week 6",72022.48,3101,23.225565946,13119,364,320]
["WW-Subs",7,"2021-02-20",2021,"Week 7",59615,2599,22.937668334000001,13101,232,250]
["WW-Subs",8,"2021-02-27",2021,"Week 8",62781.22,2743,22.887794385999999,13267,376,210]
["WW-Subs",9,"2021-03-06",2021,"Week 9",92857.13,4299,21.599704582000001,13386,394,275]
["WW-Subs",10,"2021-03-13",2021,"Week 10",72235.97,3084,23.422817769000002,13262,215,339]
["WW-Subs",11,"2021-03-20",2021,"Week 11",61012.800000000003,2696,22.630860534,13171,226,317]
["WW-Subs",12,"2021-03-27",2021,"Week 12",65705.570000000007,2852,23.038418654000001,13181,281,271]
["WW-Subs",13,"2021-04-03",2021,"Week 13",72460.27,3301,21.951005756000001,13408,520,293]
["WW-Subs",14,"2021-04-10",2021,"Week 14",75736.08,3257,23.253325146000002,13514,417,311]
["WW-Subs",15,"2021-04-17",2021,"Week 15",64530.26,2818,22.899311568000002,13601,355,268]
["WW-Subs",16,"2021-04-24",2021,"Week 16",61940.31,2765,22.401558770000001,13703,320,218]
["WW-Subs",17,"2021-05-01",2021,"Week 17",75277.05,3406,22.101306518000001,13738,271,236]
["WW-Subs",18,"2021-05-08",2021,"Week 18",74930.33,3419,21.915861363000001,13651,306,393]
["WW-Subs",19,"2021-05-15",2021,"Week 19",61419.17,2693,22.806969922,13645,303,309]
["WW-Subs",20,"2021-05-22",2021,"Week 20",66557.679999999993,2927,22.739214213,13567,166,244]
["WW-Subs",21,"2021-05-29",2021,"Week 21",66475.149999999994,2999,22.165771924000001,13585,289,271]
["WW-Subs",22,"2021-06-05",2021,"Week 22",72535.759999999995,3359,21.594450728999998,13603,330,312]
["WW-Subs",23,"2021-06-12",2021,"Week 23",68509.460000000006,3007,22.783325573999999,13515,247,335]
["WW-Subs",24,"2021-06-19",2021,"Week 24",62664.3,2757,22.729162132999999,13484,206,237]
["WW-Subs",25,"2021-06-26",2021,"Week 25",60313.99,2720,22.174261029,13542,292,234]
["WW-Subs",26,"2021-07-03",2021,"Week 26",77215.83,3591,21.502598162000002,13573,305,274]
["WW-Subs",27,"2021-07-10",2021,"Week 27",73841.009999999995,3274,22.553759927000002,13536,228,265]
["WW-Subs",28,"2021-07-17",2021,"Week 28",59824.19,2663,22.464960570999999,13540,279,275]
["WW-Subs",29,"2021-07-24",2021,"Week 29",64881.91,2849,22.773573184,13561,253,232]
["WW-Subs",30,"2021-07-31",2021,"Week 30",70249.05,3068,22.897343545999998,13512,180,229]
["WW-Subs",31,"2021-08-07",2021,"Week 31",67432.009999999995,3092,21.808541396999999,13366,162,308]
["WW-Subs",32,"2021-08-14",2021,"Week 32",62620.3,2743,22.829128691000001,13255,184,295]
["WW-Subs",33,"2021-08-21",2021,"Week 33",64678.1,2808,23.033511396000002,13170,213,298]
["WW-Subs",34,"2021-08-28",2021,"Week 34",65738.600000000006,2809,23.402847989000001,13155,241,256]
["WW-Subs",35,"2021-09-04",2021,"Week 35",70924.899999999994,3214,22.067485998999999,13041,226,340]
["WW-Subs",36,"2021-09-11",2021,"Week 36",58349.93,2560,22.792941406000001,12853,133,321]
["WW-Subs",37,"2021-09-18",2021,"Week 37",62924.65,2711,23.210863150000002,12779,201,275]
["WW-Subs",38,"2021-09-25",2021,"Week 38",61293.88,2652,23.112322774999999,12795,277,261]
["WW-Subs",39,"2021-10-02",2021,"Week 39",74898.13,3257,22.996048511000001,12779,260,276]
["WW-Subs",40,"2021-10-09",2021,"Week 40",72239.09,3256,22.186452703,12904,432,307]
["WW-Subs",41,"2021-10-16",2021,"Week 41",60942.07,2629,23.180703690000001,12919,291,276]
["WW-Subs",42,"2021-10-23",2021,"Week 42",60089.55,2613,22.996383467000001,12840,154,233]
["WW-Subs",43,"2021-10-30",2021,"Week 43",63097.69,2700,23.369514814999999,12737,154,257]
["WW-Subs",44,"2021-11-06",2021,"Week 44",63401.91,2886,21.968783783999999,12584,168,321]
["WW-Subs",45,"2021-11-13",2021,"Week 45",61868.5,2633,23.497341435999999,12424,165,325]
["WW-Subs",46,"2021-11-20",2021,"Week 46",55566.55,2434,22.829313887000001,12306,129,247]
["WW-Subs",47,"2021-11-27",2021,"Week 47",56607.24,2436,23.237783251,12161,169,314]
["WW-Subs",48,"2021-12-04",2021,"Week 48",70072.37,3112,22.516828405999998,12064,191,288]
["WW-Subs",49,"2021-12-11",2021,"Week 49",60553.120000000003,2594,23.343531226,11790,134,408]
["WW-Subs",50,"2021-12-18",2021,"Week 50",50719.519999999997,2154,23.546666667,11588,93,295]
["WW-Subs",51,"2021-12-25",2021,"Week 51",53841.14,2318,23.227411562,11392,101,297]
["WW-Subs",52,"2022-01-01",2021,"Week 52",62940.03,2700,23.311122222000002,11445,299,246]
["WW-Subs",1,"2022-01-08",2022,"Week 1",67946.490000000005,2961,22.947142856999999,11516,372,301]
["WW-Subs",2,"2022-01-15",2022,"Week 2",57817.59,2446,23.63760834,11567,289,238]
["WW-Subs",3,"2022-01-22",2022,"Week 3",57504.52,2416,23.801539734999999,11609,272,230]
["WW-Subs",4,"2022-01-29",2022,"Week 4",60018.27,2597,23.110616095000001,11699,311,221]
["WW-Subs",5,"2022-02-05",2022,"Week 5",64883.4,2968,21.860983826999998,11736,271,234]
["WW-Subs",6,"2022-02-12",2022,"Week 6",65615.38,2886,22.735751906000001,11893,434,277]
["WW-Subs",7,"2022-02-19",2022,"Week 7",56203.47,2423,23.195819232000002,11986,309,216]
["WW-Subs",8,"2022-02-26",2022,"Week 8",57663.66,2566,22.472197973,12120,362,228]
["WW-Subs",9,"2022-03-05",2022,"Week 9",83866.990000000005,3930,21.340201017999998,12141,292,271]
["WW-Subs",10,"2022-03-12",2022,"Week 10",64342.19,2847,22.599996487999999,12108,226,259]
["WW-Subs",11,"2022-03-19",2022,"Week 11",54464.87,2384,22.846002516999999,12095,258,271]
["WW-Subs",12,"2022-03-26",2022,"Week 12",55988.84,2497,22.422442931999999,12061,205,239]
["WW-Subs",13,"2022-04-02",2022,"Week 13",66339.990000000005,2899,22.883749568999999,12163,349,247]
["WW-Subs",14,"2022-04-09",2022,"Week 14",68165.86,3097,22.010287375000001,12294,388,257]
["WW-Subs",15,"2022-04-16",2022,"Week 15",56681.34,2464,23.003790584000001,12262,235,267]
["WW-Subs",16,"2022-04-23",2022,"Week 16",55120.98,2530,21.786948617,12311,274,225]
["WW-Subs",17,"2022-04-30",2022,"Week 17",67274.789999999994,3019,22.283799270999999,12381,306,236]
["WW-Subs",18,"2022-05-07",2022,"Week 18",71368.800000000003,3243,22.007030527000001,12312,253,322]
["WW-Subs",19,"2022-05-14",2022,"Week 19",54578.31,2350,23.224812765999999,12232,186,266]
["WW-Subs",20,"2022-05-21",2022,"Week 20",54840.6,2439,22.484870849,12159,175,248]
["WW-Subs",21,"2022-05-28",2022,"Week 21",56639.040000000001,2607,21.725753739999998,12187,237,209]
["WW-Subs",22,"2022-06-04",2022,"Week 22",63965.87,2946,21.712786829999999,12099,209,297]
["WW-Subs",23,"2022-06-11",2022,"Week 23",60191.91,2612,23.044375957,11976,172,295]
["WW-Subs",24,"2022-06-18",2022,"Week 24",51423.18,2229,23.070067295000001,11882,176,270]
["WW-Subs",25,"2022-06-25",2022,"Week 25",56721.87,2563,22.131045650000001,11818,192,256]
["WW-Subs",26,"2022-07-02",2022,"Week 26",62368.08,2829,22.045980912000001,11754,208,272]
["WW-Subs",27,"2022-07-09",2022,"Week 27",65149.07,2976,21.891488575,11771,310,293]
["WW-Subs",28,"2022-07-16",2022,"Week 28",54408.58,2324,23.411609294000002,11694,169,246]
["WW-Subs",29,"2022-07-23",2022,"Week 29",52035.22,2254,23.085723159,11610,127,211]
["WW-Subs",30,"2022-07-30",2022,"Week 30",60843.45,2644,23.011894856000001,11610,203,203]
["WW-Subs",31,"2022-08-06",2022,"Week 31",57621.7,2616,22.026643731,11513,186,283]
["WW-Subs",32,"2022-08-13",2022,"Week 32",53397.31,2286,23.358403325000001,11351,157,319]
["WW-Subs",33,"2022-08-20",2022,"Week 33",48822.89,2045,23.874273839000001,11265,174,260]
["WW-Subs",34,"2022-08-27",2022,"Week 34",53649.120000000003,2284,23.489106830000001,11092,89,262]
["WW-Subs",35,"2022-09-03",2022,"Week 35",54847.34,2421,22.654828583,10903,139,328]
["WW-Subs",36,"2022-09-10",2022,"Week 36",57249.71,2525,22.673152474999998,10749,259,413]
["WW-Subs",37,"2022-09-17",2022,"Week 37",51329.71,2153,23.841017184999998,10655,184,278]
["WW-Subs",38,"2022-09-24",2022,"Week 38",48980.06,2042,23.986317335999999,10531,161,285]
["WW-Subs",39,"2022-10-01",2022,"Week 39",55932.86,2395,23.354012526000002,10361,117,287]
["WW-Subs",40,"2022-10-08",2022,"Week 40",58692.08,2676,21.932765321000002,10262,209,308]
["WW-Subs",41,"2022-10-15",2022,"Week 41",48407.99,2061,23.487622513000002,10197,153,218]
["WW-Subs",42,"2022-10-22",2022,"Week 42",50809.2,2035,24.967665847999999,10163,170,204]
["WW-Subs",43,"2022-10-29",2022,"Week 43",51728.73,2118,24.423385269000001,10056,114,221]
["WW-Subs",44,"2022-11-05",2022,"Week 44",54256.76,2422,22.401635012,10009,180,227]
["WW-Subs",45,"2022-11-12",2022,"Week 45",47342.71,2138,22.143456500999999,9841,103,271]
["WW-Subs",46,"2022-11-19",2022,"Week 46",43870.04,1859,23.598730499999999,9711,112,242]
["WW-Subs",47,"2022-11-26",2022,"Week 47",43941.94,1802,24.385094339999998,9635,95,171]
["WW-Subs",48,"2022-12-03",2022,"Week 48",56422.47,2534,22.266168113999999,9614,226,247]
["WW-Subs",49,"2022-12-10",2022,"Week 49",47219.27,2173,21.729990795999999,9452,91,253]
["WW-Subs",50,"2022-12-17",2022,"Week 50",41057.69,1829,22.448162930999999,9336,80,196]
["WW-Subs",51,"2022-12-24",2022,"Week 51",40605.919999999998,1668,24.344076738999998,9228,113,221]
["WW-Subs",52,"2022-12-31",2022,"Week 52",54482.69,2517,21.645883989000001,9470,447,205]
["WW-Subs",1,"2023-01-07",2023,"Week 1",53801.279999999999,2640,20.379272727,9830,602,242]
["WW-Subs",2,"2023-01-14",2023,"Week 2",47521.51,2120,22.415806604,9893,299,236]
["WW-Subs",3,"2023-01-21",2023,"Week 3",46319.09,1989,23.287626948,10074,368,187]
["WW-Subs",4,"2023-01-28",2023,"Week 4",48930.17,2172,22.527702578,10154,238,158]
["WW-Subs",5,"2023-02-04",2023,"Week 5",55682.559999999998,2850,19.537740351,10205,249,198]
["WW-Subs",6,"2023-02-11",2023,"Week 6",47378.9,2279,20.789337429,10214,214,205]
["WW-Subs",7,"2023-02-18",2023,"Week 7",45858.02,2083,22.015372060000001,10298,246,162]
["WW-Subs",8,"2023-02-25",2023,"Week 8",44363.839999999997,1967,22.554062023,10391,256,163]
["WW-Subs",9,"2023-03-04",2023,"Week 9",75973.600000000006,3823,19.872770075999998,10394,226,223]
["WW-Subs",10,"2023-03-11",2023,"Week 10",44868.160000000003,2201,20.385352113,10346,165,213]
["WW-Subs",11,"2023-03-18",2023,"Week 11",46299.32,2130,21.736769953,10317,170,199]
["WW-Subs",12,"2023-03-25",2023,"Week 12",46065.48,2094,21.998796561999999,10321,202,198]
["WW-Subs",13,"2023-04-01",2023,"Week 13",51065.73,2641,19.335755396,10320,195,196]
["WW-Subs",14,"2023-04-08",2023,"Week 14",50156.38,2507,20.006533705999999,10407,272,185]
["WW-Subs",15,"2023-04-15",2023,"Week 15",41876.120000000003,2042,20.507404505,10492,270,185]
["WW-Subs",16,"2023-04-22",2023,"Week 16",44129.71,2051,21.516192101000001,10568,226,150]
["WW-Subs",17,"2023-04-29",2023,"Week 17",48483.47,2385,20.328498952,10647,225,146]

{"sheet":"Performance Validation","index":9,"n_rows":195,"n_cols":2,"rows_kept":195,"cut":false,"hidden":true,"merged":[]}
["TICKER","TICKER"]
["AAP","ADT"]
["ACI","ATUS-All"]
["ADRNY","CHTR-All"]
["AEO","CLUB"]
["ALL-AS","CMCSA"]
["AMC","DISH-ALL"]
["AMZN","DISH-DISH"]
["AMZN-Ex WFM","DISH-SLINGTV"]
["AMZN-Ex WFM-FP","FYBR"]
["AMZN-FP","GDDY"]
["AMZN-TP","NFLX"]
["ANF","NYT-DIGITAL"]
["APRN","PLNT"]
["ASO","PTON"]
["AZO","SPOT"]
["BBBY","TRUP"]
["BBW","VZ"]
["BBWI","WIX"]
["BBY","WW-Subs"]
["BGFV"]
["BIG"]
["BJ"]
["BJRI"]
["BKE"]
["BLMN-O"]
["BOJA"]
["BOOT"]
["BRK-GEICO"]
["BURL"]
["CAKE"]
["CAL-FF"]
["CASY"]
["CATO"]
["CBRL"]
["CHS"]
["CHUY"]
["CHWY"]
["CMG"]
["CNK"]
["COST"]
["CRI"]
["CROX"]
["CTRN"]
["CVS"]
["DASH"]
["DBI-DSW"]
["DDS"]
["DENN"]
["DG"]
["DIN-AB"]
["DIN-IHOP"]
["DKS"]
["DLTR-All"]
["DLTR-DLTR"]
["DLTR-FDO"]
["DPZ"]
["DRI-All"]
["DRI-LH"]
["DRI-OG"]
["DXLG"]
["EAT-C"]
["ETSY"]
["EXPR"]
["FIVE"]
["FL"]
["FLWS"]
["FND"]
["FOSL"]
["FRG-VSI"]
["FRGI"]
["FUN"]
["GCO-J"]
["GME"]
["GO"]
["GPS-All"]
["GPS-BR"]
["GPS-Gap"]
["GPS-ON"]
["GRPN"]
["HD"]
["HIBB"]
["HLF"]
["HLFFF"]
["HNNMY"]
["IMKTA"]
["INTU-T"]
["JACK-JACK"]
["JILL"]
["JOAN"]
["JWN-All"]
["JWN-Full"]
["JWN-Off"]
["KIRK"]
["KR"]
["KRUS"]
["KSS"]
["LE"]
["LESL"]
["LOCO"]
["LOW"]
["LULU"]
["LUV"]
["LYFT"]
["M"]
["MCD"]
["MTCH"]
["MUSA"]
["NDLS"]
["NGVC"]
["NYT"]
["ODP"]
["OLLI"]
["ORLY"]
["OSTK"]
["OXM-All"]
["OXM-LP"]
["OXM-TB"]
["PBPB"]
["PETS"]
["PGR"]
["PLAY"]
["PLCE"]
["PRTY"]
["PUBLIX"]
["PYPL"]
["PYPL-PYPL"]
["PYPL-Venmo"]
["PZZA"]
["QDOBA"]
["QRTEA-All"]
["QRTEA-CS"]
["QRTEA-QXH"]
["QRTEA-ZU"]
["QSR-BK"]
["QSR-PLK"]
["QSR-TH"]
["RAD"]
["RDI"]
["RH"]
["ROST"]
["RRGB"]
["RT"]
["RUTH"]
["RVLV"]
["SBH"]
["SBUX"]
["SCVL"]
["SEAS"]
["SFIX"]
["SFM"]
["SG"]
["SHAK"]
["SHOO"]
["SHW"]
["SIG"]
["SIX"]
["SPWH"]
["SQ"]
["TCS"]
["TGT"]
["TJX-All"]
["TJX-HG"]
["TJX-TJX"]
["TLYS"]
["TPR-COH"]
["TSCO"]
["TXRH"]
["UAA"]
["UBER"]
["ULTA"]
["URBN-All"]
["URBN-Anthro"]
["URBN-FP"]
["URBN-UO"]
["VFC"]
["VRA"]
["VSCO"]
["VVV"]
["W"]
["WBA"]
["WEN"]
["WING"]
["WMK"]
["WMT-All"]
["WMT-SC"]
["WMT-WMT"]
["WOOF"]
["WRBY"]
["WSM"]
["WW"]
["YUM-HABT"]
["YUM-KFC"]
["YUM-PH"]
["YUM-TB"]

{"sheet":"Validation","index":10,"n_rows":7,"n_cols":5,"rows_kept":7,"cut":false,"hidden":true,"merged":[]}
["Method","Metric","PerformanceMethods","Agg Methods","Sub Methods"]
["Consistent Shopper","Panel Sales","Aggregate","agg_yoy","subs_yoy"]
["Blended Index","Transactions","Consistent Shopper","cs_yoy"]
["Consistent Subscriber","Avg Ticket","Blended Index","index_yoy"]
[null,"EOP Subscribers","Consistent Subscriber"]
[null,"Gross Adds"]
[null,"Churn"]